Workbook
Name Année: '[1]2 Enfants'!$B$10
Name ENTREPRISE: EMPLOI!$A$5:$A3
Name Férié: Année!$AL$3:$AL$15
Name Fêtes: Année!$AL$17:$AL$21
Name JourCalculé: " =Feuil1!$B$10-JOURSEM(Feuil1!$B$10;3)+((LIGNE()-LIGNE(Feuil1!$AF$7))*7)+COLONNE()-COLONNE(Feuil1!$AF$7)"

Sheet Année
AG1: =TODAY() -> 43273 | AK1: =A5 -> 2017
AK2: Jours Fériés et Fêtes
A3: Année | B3: TOTAL HEURES | H3: =SUM(AG8:AG42) -> 19.878472 | L3: TOTAL JOURS | R3: =SUM(AH8:AH42) -> 65 | U3: TOTAL TRAJET | AA3: =SUM(AI8:AI42) -> 5137.5 | AE3: Km | AG3: =NOW() -> 43273.796 | AK3: JOUR DE L'AN | AL3: =DATE(AK1,1,1) -> 42736
AK4: PÂQUES | AL4: =FLOOR(DATE(AK1,5,DAY(MINUTE(AK1/38)/2+56)),7)-34+7*(AK1=2079) -> 42841
A5: 2017 | B5: Semaine Num | F5: =WEEKNUM(AG1) -> 25 | K5: =TODAY()-DATE(YEAR(TODAY()),1,0) -> 173 | N5: ième jour | S5: Jour Restant | V5: =DATEDIF(AG1,AF40,"d") -> #NUM! | Z5: Fin mois dans | AD5: =DATE(YEAR($AG$1),MONTH($AG$1)+1,0)-$AG$1 -> 8 | AE5: Jours | AG5: Heures Travaillées | AH5: Jours Travaillées | AI5: Km | AK5: *Lundi de Pâques | AL5: =AL4+1 -> 42842
B6: 1 | C6: 2 | D6: 3 | E6: 4 | F6: 5 | G6: 6 | H6: 7 | I6: 8 | J6: 9 | K6: 10 | L6: 11 | M6: 12 | N6: 13 | O6: 14 | P6: 15 | Q6: 16 | R6: 17 | S6: 18 | T6: 19 | U6: 20 | V6: 21 | W6: 22 | X6: 23 | Y6: 24 | Z6: 25 | AA6: 26 | AB6: 27 | AC6: 28 | AD6: 29 | AE6: 30 | AF6: 31 | AK6: FÊTE DU TRAVAIL | AL6: =DATE(Année!U4,5,1) -> 122
A7: Janvier | B7: =DATE($A$5,1,1) -> 42736 | C7: =B7+1 -> 42737 | D7: =C7+1 -> 42738 | E7: =D7+1 -> 42739 | F7: =E7+1 -> 42740 | G7: =F7+1 -> 42741 | H7: =G7+1 -> 42742 | I7: =H7+1 -> 42743 | J7: =I7+1 -> 42744 | ... AF7: =AE7+1 -> 42766 | AK7: ASCENSION | AL7: =AL4+39 -> 42880
B8: =IFERROR(VLOOKUP(B$7,INDIRECT("'"&$A$5&"'!$A:$L"),10,FALSE),"") -> 0 | C8: =IFERROR(VLOOKUP(C$7,INDIRECT("'"&$A$5&"'!$A:$L"),10,FALSE),"") -> 0 | D8: =IFERROR(VLOOKUP(D$7,INDIRECT("'"&$A$5&"'!$A:$L"),10,FALSE),"") -> 0 | E8: =IFERROR(VLOOKUP(E$7,INDIRECT("'"&$A$5&"'!$A:$L"),10,FALSE),"") -> 0 | F8: =IFERROR(VLOOKUP(F$7,INDIRECT("'"&$A$5&"'!$A:$L"),10,FALSE),"") -> 0 | G8: =IFERROR(VLOOKUP(G$7,INDIRECT("'"&$A$5&"'!$A:$L"),10,FALSE),"") -> 0 | H8: =IFERROR(VLOOKUP(H$7,INDIRECT("'"&$A$5&"'!$A:$L"),10,FALSE),"") -> 0 | I8: =IFERROR(VLOOKUP(I$7,INDIRECT("'"&$A$5&"'!$A:$L"),10,FALSE),"") -> 0 | ... AF8: =IFERROR(VLOOKUP(AF$7,INDIRECT("'"&$A$5&"'!$A:$L"),10,FALSE),"") -> 0 | AG8: =SUM(B8:AF8) -> 0 | AH8: =COUNTIF(B8:AF8,">"&0) -> 0 | AI8: =SUM(B9:AF9) -> 0 | AK8: VICTOIRE 1945 | AL8: =DATE(AK1,5,8) -> 42863
B9: =IFERROR(VLOOKUP(B$7,INDIRECT("'"&$A$5&"'!$A:$L"),11,FALSE),"") | C9: =IFERROR(VLOOKUP(C$7,INDIRECT("'"&$A$5&"'!$A:$L"),11,FALSE),"") | D9: =IFERROR(VLOOKUP(D$7,INDIRECT("'"&$A$5&"'!$A:$L"),11,FALSE),"") | E9: =IFERROR(VLOOKUP(E$7,INDIRECT("'"&$A$5&"'!$A:$L"),11,FALSE),"") | F9: =IFERROR(VLOOKUP(F$7,INDIRECT("'"&$A$5&"'!$A:$L"),11,FALSE),"") | G9: =IFERROR(VLOOKUP(G$7,INDIRECT("'"&$A$5&"'!$A:$L"),11,FALSE),"") | H9: =IFERROR(VLOOKUP(H$7,INDIRECT("'"&$A$5&"'!$A:$L"),11,FALSE),"") | I9: =IFERROR(VLOOKUP(I$7,INDIRECT("'"&$A$5&"'!$A:$L"),11,FALSE),"") | ... AF9: =IFERROR(VLOOKUP(AF$7,INDIRECT("'"&$A$5&"'!$A:$L"),11,FALSE),"") | AK9: PENTECÔTE | AL9: =AL4+49 -> 42890
A10: Février | B10: =DATE($A$5,2,1) -> 42767 | C10: =B10+1 -> 42768 | D10: =C10+1 -> 42769 | E10: =D10+1 -> 42770 | F10: =E10+1 -> 42771 | G10: =F10+1 -> 42772 | H10: =G10+1 -> 42773 | I10: =H10+1 -> 42774 | J10: =I10+1 -> 42775 | ... AC10: =AB10+1 -> 42794 | AD10: =IF(OR(MONTH(AC10+1)<>MONTH(AC10),AC10+1>=B13),0,AC10+1) -> 0 | AK10: *Lundi de Pentecôte | AL10: =AL4+50 -> 42891
B11: =IFERROR(VLOOKUP(B$10,INDIRECT("'"&$A$5&"'!$A:$L"),10,FALSE),"") -> 0 | C11: =IFERROR(VLOOKUP(C$10,INDIRECT("'"&$A$5&"'!$A:$L"),10,FALSE),"") -> 0 | D11: =IFERROR(VLOOKUP(D$10,INDIRECT("'"&$A$5&"'!$A:$L"),10,FALSE),"") -> 0 | E11: =IFERROR(VLOOKUP(E$10,INDIRECT("'"&$A$5&"'!$A:$L"),10,FALSE),"") -> 0 | F11: =IFERROR(VLOOKUP(F$10,INDIRECT("'"&$A$5&"'!$A:$L"),10,FALSE),"") -> 0 | G11: =IFERROR(VLOOKUP(G$10,INDIRECT("'"&$A$5&"'!$A:$L"),10,FALSE),"") -> 0 | H11: =IFERROR(VLOOKUP(H$10,INDIRECT("'"&$A$5&"'!$A:$L"),10,FALSE),"") -> 0 | I11: =IFERROR(VLOOKUP(I$10,INDIRECT("'"&$A$5&"'!$A:$L"),10,FALSE),"") -> 0 | ... AD11: =IFERROR(VLOOKUP(AD$10,INDIRECT("'"&$A$5&"'!$A:$L"),10,FALSE),"") | AG11: =SUM(B11:AF11) -> 0 | AH11: =COUNTIF(B11:AF11,">"&0) -> 0 | AI11: =SUM(B12:AF12) -> 0 | AK11: FÊTE NAT | AL11: =DATE(AK1,7,14) -> 42930
B12: =IFERROR(VLOOKUP(B$10,INDIRECT("'"&$A$5&"'!$A:$L"),11,FALSE),"") | C12: =IFERROR(VLOOKUP(C$10,INDIRECT("'"&$A$5&"'!$A:$L"),11,FALSE),"") | D12: =IFERROR(VLOOKUP(D$10,INDIRECT("'"&$A$5&"'!$A:$L"),11,FALSE),"") | E12: =IFERROR(VLOOKUP(E$10,INDIRECT("'"&$A$5&"'!$A:$L"),11,FALSE),"") | F12: =IFERROR(VLOOKUP(F$10,INDIRECT("'"&$A$5&"'!$A:$L"),11,FALSE),"") | G12: =IFERROR(VLOOKUP(G$10,INDIRECT("'"&$A$5&"'!$A:$L"),11,FALSE),"") | H12: =IFERROR(VLOOKUP(H$10,INDIRECT("'"&$A$5&"'!$A:$L"),11,FALSE),"") | I12: =IFERROR(VLOOKUP(I$10,INDIRECT("'"&$A$5&"'!$A:$L"),11,FALSE),"") | ... AD12: =IFERROR(VLOOKUP(AD$10,INDIRECT("'"&$A$5&"'!$A:$L"),11,FALSE),"") | AK12: ASSOMPTION | AL12: =DATE(AK1,8,15) -> 42962
A13: Mars | B13: =DATE($A$5,3,1) -> 42795 | C13: =B13+1 -> 42796 | D13: =C13+1 -> 42797 | E13: =D13+1 -> 42798 | F13: =E13+1 -> 42799 | G13: =F13+1 -> 42800 | H13: =G13+1 -> 42801 | I13: =H13+1 -> 42802 | J13: =I13+1 -> 42803 | ... AE13: =AD13+1 -> 42824 | AF13: =IF(OR(MONTH(AE13+1)<>MONTH(AE13),AE13+1>=B16),0,AE13+1) -> 42825 | AK13: TOUSSAINT | AL13: =DATE(AK1,11,1) -> 43040
B14: =IFERROR(VLOOKUP(B$13,INDIRECT("'"&$A$5&"'!$A:$L"),10,FALSE),"") -> 0 | C14: =IFERROR(VLOOKUP(C$13,INDIRECT("'"&$A$5&"'!$A:$L"),10,FALSE),"") -> 0 | D14: =IFERROR(VLOOKUP(D$13,INDIRECT("'"&$A$5&"'!$A:$L"),10,FALSE),"") -> 0 | E14: =IFERROR(VLOOKUP(E$13,INDIRECT("'"&$A$5&"'!$A:$L"),10,FALSE),"") -> 0 | F14: =IFERROR(VLOOKUP(F$13,INDIRECT("'"&$A$5&"'!$A:$L"),10,FALSE),"") -> 0 | G14: =IFERROR(VLOOKUP(G$13,INDIRECT("'"&$A$5&"'!$A:$L"),10,FALSE),"") -> 0 | H14: =IFERROR(VLOOKUP(H$13,INDIRECT("'"&$A$5&"'!$A:$L"),10,FALSE),"") -> 0 | I14: =IFERROR(VLOOKUP(I$13,INDIRECT("'"&$A$5&"'!$A:$L"),10,FALSE),"") -> 0 | ... AF14: =IFERROR(VLOOKUP(AF$13,INDIRECT("'"&$A$5&"'!$A:$L"),10,FALSE),"") -> 0 | AG14: =SUM(B14:AF14) -> 0 | AH14: =COUNTIF(B14:AF14,">"&0) -> 0 | AI14: =SUM(B15:AF15) -> 0 | AK14: ARMISTICE 1918 | AL14: =DATE(AK1,11,11) -> 43050
B15: =IFERROR(VLOOKUP(B$13,INDIRECT("'"&$A$5&"'!$A:$L"),11,FALSE),"") | C15: =IFERROR(VLOOKUP(C$13,INDIRECT("'"&$A$5&"'!$A:$L"),11,FALSE),"") | D15: =IFERROR(VLOOKUP(D$13,INDIRECT("'"&$A$5&"'!$A:$L"),11,FALSE),"") | E15: =IFERROR(VLOOKUP(E$13,INDIRECT("'"&$A$5&"'!$A:$L"),11,FALSE),"") | F15: =IFERROR(VLOOKUP(F$13,INDIRECT("'"&$A$5&"'!$A:$L"),11,FALSE),"") | G15: =IFERROR(VLOOKUP(G$13,INDIRECT("'"&$A$5&"'!$A:$L"),11,FALSE),"") | H15: =IFERROR(VLOOKUP(H$13,INDIRECT("'"&$A$5&"'!$A:$L"),11,FALSE),"") | I15: =IFERROR(VLOOKUP(I$13,INDIRECT("'"&$A$5&"'!$A:$L"),11,FALSE),"") | ... AF15: =IFERROR(VLOOKUP(AF$13,INDIRECT("'"&$A$5&"'!$A:$L"),11,FALSE),"") | AK15: NOËL | AL15: =DATE(AK1,12,25) -> 43094
A16: Avril | B16: =DATE($A$5,4,1) -> 42826 | C16: =B16+1 -> 42827 | D16: =C16+1 -> 42828 | E16: =D16+1 -> 42829 | F16: =E16+1 -> 42830 | G16: =F16+1 -> 42831 | H16: =G16+1 -> 42832 | I16: =H16+1 -> 42833 | J16: =I16+1 -> 42834 | ... AE16: =AD16+1 -> 42855 | AF16: =IF(OR(MONTH(AE16+1)<>MONTH(AE16),AE16+1>=B19),0,AE16+1) -> 0
B17: =IFERROR(VLOOKUP(B$16,INDIRECT("'"&$A$5&"'!$A:$L"),10,FALSE),"") -> 0 | C17: =IFERROR(VLOOKUP(C$16,INDIRECT("'"&$A$5&"'!$A:$L"),10,FALSE),"") -> 0 | D17: =IFERROR(VLOOKUP(D$16,INDIRECT("'"&$A$5&"'!$A:$L"),10,FALSE),"") -> 0 | E17: =IFERROR(VLOOKUP(E$16,INDIRECT("'"&$A$5&"'!$A:$L"),10,FALSE),"") -> 0.29166667 | F17: =IFERROR(VLOOKUP(F$16,INDIRECT("'"&$A$5&"'!$A:$L"),10,FALSE),"") -> 0.29166667 | G17: =IFERROR(VLOOKUP(G$16,INDIRECT("'"&$A$5&"'!$A:$L"),10,FALSE),"") -> 0.29166667 | H17: =IFERROR(VLOOKUP(H$16,INDIRECT("'"&$A$5&"'!$A:$L"),10,FALSE),"") -> 0.29166667 | I17: =IFERROR(VLOOKUP(I$16,INDIRECT("'"&$A$5&"'!$A:$L"),10,FALSE),"") -> 0 | ... AF17: =IFERROR(VLOOKUP(AF$16,INDIRECT("'"&$A$5&"'!$A:$L"),10,FALSE),"") | AG17: =SUM(B17:AF17) -> 1.1666667 | AH17: =COUNTIF(B17:AF17,">"&0) -> 4 | AI17: =SUM(B18:AF18) -> 282.4 | AK17: Mardi-Gras | AL17: =AL4-47 -> 42794
B18: =IFERROR(VLOOKUP(B$16,INDIRECT("'"&$A$5&"'!$A:$L"),11,FALSE),"") | C18: =IFERROR(VLOOKUP(C$16,INDIRECT("'"&$A$5&"'!$A:$L"),11,FALSE),"") | D18: =IFERROR(VLOOKUP(D$16,INDIRECT("'"&$A$5&"'!$A:$L"),11,FALSE),"") | E18: =IFERROR(VLOOKUP(E$16,INDIRECT("'"&$A$5&"'!$A:$L"),11,FALSE),"") -> 70.6 | F18: =IFERROR(VLOOKUP(F$16,INDIRECT("'"&$A$5&"'!$A:$L"),11,FALSE),"") -> 70.6 | G18: =IFERROR(VLOOKUP(G$16,INDIRECT("'"&$A$5&"'!$A:$L"),11,FALSE),"") -> 70.6 | H18: =IFERROR(VLOOKUP(H$16,INDIRECT("'"&$A$5&"'!$A:$L"),11,FALSE),"") -> 70.6 | I18: =IFERROR(VLOOKUP(I$16,INDIRECT("'"&$A$5&"'!$A:$L"),11,FALSE),"") | ... AF18: =IFERROR(VLOOKUP(AF$16,INDIRECT("'"&$A$5&"'!$A:$L"),11,FALSE),"") | AK18: Cendres | AL18: =AL4-46 -> 42795
A19: Mai | B19: =DATE($A$5,5,1) -> 42856 | C19: =B19+1 -> 42857 | D19: =C19+1 -> 42858 | E19: =D19+1 -> 42859 | F19: =E19+1 -> 42860 | G19: =F19+1 -> 42861 | H19: =G19+1 -> 42862 | I19: =H19+1 -> 42863 | J19: =I19+1 -> 42864 | ... AE19: =AD19+1 -> 42885 | AF19: =IF(OR(MONTH(AE19+1)<>MONTH(AE19),AE19+1>=B22),0,AE19+1) -> 42886 | AK19: Rameaux | AL19: =AL4-7 -> 42834
B20: =IFERROR(VLOOKUP(B$19,INDIRECT("'"&$A$5&"'!$A:$L"),10,FALSE),"") -> 0 | C20: =IFERROR(VLOOKUP(C$19,INDIRECT("'"&$A$5&"'!$A:$L"),10,FALSE),"") -> 0 | D20: =IFERROR(VLOOKUP(D$19,INDIRECT("'"&$A$5&"'!$A:$L"),10,FALSE),"") -> 0.3125 | E20: =IFERROR(VLOOKUP(E$19,INDIRECT("'"&$A$5&"'!$A:$L"),10,FALSE),"") -> 0.3125 | F20: =IFERROR(VLOOKUP(F$19,INDIRECT("'"&$A$5&"'!$A:$L"),10,FALSE),"") -> 0.3125 | G20: =IFERROR(VLOOKUP(G$19,INDIRECT("'"&$A$5&"'!$A:$L"),10,FALSE),"") -> 0 | H20: =IFERROR(VLOOKUP(H$19,INDIRECT("'"&$A$5&"'!$A:$L"),10,FALSE),"") -> 0 | I20: =IFERROR(VLOOKUP(I$19,INDIRECT("'"&$A$5&"'!$A:$L"),10,FALSE),"") -> 0 | ... AF20: =IFERROR(VLOOKUP(AF$19,INDIRECT("'"&$A$5&"'!$A:$L"),10,FALSE),"") -> 0.3125 | AG20: =SUM(B20:AF20) -> 5.6284722 | AH20: =COUNTIF(B20:AF20,">"&0) -> 18 | AI20: =SUM(B21:AF21) -> 1434.6
B21: =IFERROR(VLOOKUP(B$19,INDIRECT("'"&$A$5&"'!$A:$L"),11,FALSE),"") | C21: =IFERROR(VLOOKUP(C$19,INDIRECT("'"&$A$5&"'!$A:$L"),11,FALSE),"") | D21: =IFERROR(VLOOKUP(D$19,INDIRECT("'"&$A$5&"'!$A:$L"),11,FALSE),"") -> 79.7 | E21: =IFERROR(VLOOKUP(E$19,INDIRECT("'"&$A$5&"'!$A:$L"),11,FALSE),"") -> 79.7 | F21: =IFERROR(VLOOKUP(F$19,INDIRECT("'"&$A$5&"'!$A:$L"),11,FALSE),"") -> 79.7 | G21: =IFERROR(VLOOKUP(G$19,INDIRECT("'"&$A$5&"'!$A:$L"),11,FALSE),"") | H21: =IFERROR(VLOOKUP(H$19,INDIRECT("'"&$A$5&"'!$A:$L"),11,FALSE),"") | I21: =IFERROR(VLOOKUP(I$19,INDIRECT("'"&$A$5&"'!$A:$L"),11,FALSE),"") | ... AF21: =IFERROR(VLOOKUP(AF$19,INDIRECT("'"&$A$5&"'!$A:$L"),11,FALSE),"") -> 79.7 | AK21: Epiphanie | AL21: =DATE(AK1,1,1)+7-WEEKDAY(DATE(AK1,1,1),2) -> 42736
A22: Juin | B22: =DATE($A$5,6,1) -> 42887 | C22: =B22+1 -> 42888 | D22: =C22+1 -> 42889 | E22: =D22+1 -> 42890 | F22: =E22+1 -> 42891 | G22: =F22+1 -> 42892 | H22: =G22+1 -> 42893 | I22: =H22+1 -> 42894 | J22: =I22+1 -> 42895 | ... AE22: =AD22+1 -> 42916 | AF22: =IF(OR(MONTH(AE22+1)<>MONTH(AE22),AE22+1>=B25),0,AE22+1) -> 0
B23: =IFERROR(VLOOKUP(B$22,INDIRECT("'"&$A$5&"'!$A:$L"),10,FALSE),"") -> 0.3125 | C23: =IFERROR(VLOOKUP(C$22,INDIRECT("'"&$A$5&"'!$A:$L"),10,FALSE),"") -> 0.3125 | D23: =IFERROR(VLOOKUP(D$22,INDIRECT("'"&$A$5&"'!$A:$L"),10,FALSE),"") -> 0 | E23: =IFERROR(VLOOKUP(E$22,INDIRECT("'"&$A$5&"'!$A:$L"),10,FALSE),"") -> 0 | F23: =IFERROR(VLOOKUP(F$22,INDIRECT("'"&$A$5&"'!$A:$L"),10,FALSE),"") -> 0 | G23: =IFERROR(VLOOKUP(G$22,INDIRECT("'"&$A$5&"'!$A:$L"),10,FALSE),"") -> 0.3125 | H23: =IFERROR(VLOOKUP(H$22,INDIRECT("'"&$A$5&"'!$A:$L"),10,FALSE),"") -> 0.32291667 | I23: =IFERROR(VLOOKUP(I$22,INDIRECT("'"&$A$5&"'!$A:$L"),10,FALSE),"") -> 0.3125 | ... AF23: =IFERROR(VLOOKUP(AF$22,INDIRECT("'"&$A$5&"'!$A:$L"),10,FALSE),"") | AG23: =SUM(B23:AF23) -> 6.5416667 | AH23: =COUNTIF(B23:AF23,">"&0) -> 21 | AI23: =SUM(B24:AF24) -> 1673.7 | AK23: Fête Dieu | AL23: =AL4+63 -> 42904
B24: =IFERROR(VLOOKUP(B$22,INDIRECT("'"&$A$5&"'!$A:$L"),11,FALSE),"") -> 79.7 | C24: =IFERROR(VLOOKUP(C$22,INDIRECT("'"&$A$5&"'!$A:$L"),11,FALSE),"") -> 79.7 | D24: =IFERROR(VLOOKUP(D$22,INDIRECT("'"&$A$5&"'!$A:$L"),11,FALSE),"") | E24: =IFERROR(VLOOKUP(E$22,INDIRECT("'"&$A$5&"'!$A:$L"),11,FALSE),"") | F24: =IFERROR(VLOOKUP(F$22,INDIRECT("'"&$A$5&"'!$A:$L"),11,FALSE),"") | G24: =IFERROR(VLOOKUP(G$22,INDIRECT("'"&$A$5&"'!$A:$L"),11,FALSE),"") -> 79.7 | H24: =IFERROR(VLOOKUP(H$22,INDIRECT("'"&$A$5&"'!$A:$L"),11,FALSE),"") -> 79.7 | I24: =IFERROR(VLOOKUP(I$22,INDIRECT("'"&$A$5&"'!$A:$L"),11,FALSE),"") -> 79.7 | ... AF24: =IFERROR(VLOOKUP(AF$22,INDIRECT("'"&$A$5&"'!$A:$L"),11,FALSE),"")
A25: Juillet | B25: =DATE($A$5,7,1) -> 42917 | C25: =B25+1 -> 42918 | D25: =C25+1 -> 42919 | E25: =D25+1 -> 42920 | F25: =E25+1 -> 42921 | G25: =F25+1 -> 42922 | H25: =G25+1 -> 42923 | I25: =H25+1 -> 42924 | J25: =I25+1 -> 42925 | ... AE25: =AD25+1 -> 42946 | AF25: =IF(OR(MONTH(AE25+1)<>MONTH(AE25),AE25+1>=B28),0,AE25+1) -> 42947
B26: =IFERROR(VLOOKUP(B$25,INDIRECT("'"&$A$5&"'!$A:$L"),10,FALSE),"") -> 0 | C26: =IFERROR(VLOOKUP(C$25,INDIRECT("'"&$A$5&"'!$A:$L"),10,FALSE),"") -> 0 | D26: =IFERROR(VLOOKUP(D$25,INDIRECT("'"&$A$5&"'!$A:$L"),10,FALSE),"") -> 0 | E26: =IFERROR(VLOOKUP(E$25,INDIRECT("'"&$A$5&"'!$A:$L"),10,FALSE),"") -> 0 | F26: =IFERROR(VLOOKUP(F$25,INDIRECT("'"&$A$5&"'!$A:$L"),10,FALSE),"") -> 0 | G26: =IFERROR(VLOOKUP(G$25,INDIRECT("'"&$A$5&"'!$A:$L"),10,FALSE),"") -> 0 | H26: =IFERROR(VLOOKUP(H$25,INDIRECT("'"&$A$5&"'!$A:$L"),10,FALSE),"") -> 0 | I26: =IFERROR(VLOOKUP(I$25,INDIRECT("'"&$A$5&"'!$A:$L"),10,FALSE),"") -> 0 | ... AF26: =IFERROR(VLOOKUP(AF$25,INDIRECT("'"&$A$5&"'!$A:$L"),10,FALSE),"") -> 0.29166667 | AG26: =SUM(B26:AF26) -> 4.4166667 | AH26: =COUNTIF(B26:AF26,">"&0) -> 15 | AI26: =SUM(B27:AF27) -> 1191
B27: =IFERROR(VLOOKUP(B$25,INDIRECT("'"&$A$5&"'!$A:$L"),11,FALSE),"") | C27: =IFERROR(VLOOKUP(C$25,INDIRECT("'"&$A$5&"'!$A:$L"),11,FALSE),"") | D27: =IFERROR(VLOOKUP(D$25,INDIRECT("'"&$A$5&"'!$A:$L"),11,FALSE),"") | E27: =IFERROR(VLOOKUP(E$25,INDIRECT("'"&$A$5&"'!$A:$L"),11,FALSE),"") | F27: =IFERROR(VLOOKUP(F$25,INDIRECT("'"&$A$5&"'!$A:$L"),11,FALSE),"") | G27: =IFERROR(VLOOKUP(G$25,INDIRECT("'"&$A$5&"'!$A:$L"),11,FALSE),"") | H27: =IFERROR(VLOOKUP(H$25,INDIRECT("'"&$A$5&"'!$A:$L"),11,FALSE),"") | I27: =IFERROR(VLOOKUP(I$25,INDIRECT("'"&$A$5&"'!$A:$L"),11,FALSE),"") | ... AF27: =IFERROR(VLOOKUP(AF$25,INDIRECT("'"&$A$5&"'!$A:$L"),11,FALSE),"") -> 79.4
A28: Août | B28: =DATE($A$5,8,1) -> 42948 | C28: =B28+1 -> 42949 | D28: =C28+1 -> 42950 | E28: =D28+1 -> 42951 | F28: =E28+1 -> 42952 | G28: =F28+1 -> 42953 | H28: =G28+1 -> 42954 | I28: =H28+1 -> 42955 | J28: =I28+1 -> 42956 | ... AE28: =AD28+1 -> 42977 | AF28: =IF(OR(MONTH(AE28+1)<>MONTH(AE28),AE28+1>=B31),0,AE28+1) -> 42978
B29: =IFERROR(VLOOKUP(B$28,INDIRECT("'"&$A$5&"'!$A:$L"),10,FALSE),"") -> 0.29166667 | C29: =IFERROR(VLOOKUP(C$28,INDIRECT("'"&$A$5&"'!$A:$L"),10,FALSE),"") -> 0.29166667 | D29: =IFERROR(VLOOKUP(D$28,INDIRECT("'"&$A$5&"'!$A:$L"),10,FALSE),"") -> 0.29166667 | E29: =IFERROR(VLOOKUP(E$28,INDIRECT("'"&$A$5&"'!$A:$L"),10,FALSE),"") -> 0.29166667 | F29: =IFERROR(VLOOKUP(F$28,INDIRECT("'"&$A$5&"'!$A:$L"),10,FALSE),"") -> 0 | G29: =IFERROR(VLOOKUP(G$28,INDIRECT("'"&$A$5&"'!$A:$L"),10,FALSE),"") -> 0 | H29: =IFERROR(VLOOKUP(H$28,INDIRECT("'"&$A$5&"'!$A:$L"),10,FALSE),"") -> 0 | I29: =IFERROR(VLOOKUP(I$28,INDIRECT("'"&$A$5&"'!$A:$L"),10,FALSE),"") -> 0 | ... AF29: =IFERROR(VLOOKUP(AF$28,INDIRECT("'"&$A$5&"'!$A:$L"),10,FALSE),"") -> 0.33333333 | AG29: =SUM(B29:AF29) -> 2.125 | AH29: =COUNTIF(B29:AF29,">"&0) -> 7 | AI29: =SUM(B30:AF30) -> 555.8
B30: =IFERROR(VLOOKUP(B$28,INDIRECT("'"&$A$5&"'!$A:$L"),11,FALSE),"") -> 79.4 | C30: =IFERROR(VLOOKUP(C$28,INDIRECT("'"&$A$5&"'!$A:$L"),11,FALSE),"") -> 79.4 | D30: =IFERROR(VLOOKUP(D$28,INDIRECT("'"&$A$5&"'!$A:$L"),11,FALSE),"") -> 79.4 | E30: =IFERROR(VLOOKUP(E$28,INDIRECT("'"&$A$5&"'!$A:$L"),11,FALSE),"") -> 79.4 | F30: =IFERROR(VLOOKUP(F$28,INDIRECT("'"&$A$5&"'!$A:$L"),11,FALSE),"") | G30: =IFERROR(VLOOKUP(G$28,INDIRECT("'"&$A$5&"'!$A:$L"),11,FALSE),"") | H30: =IFERROR(VLOOKUP(H$28,INDIRECT("'"&$A$5&"'!$A:$L"),11,FALSE),"") | I30: =IFERROR(VLOOKUP(I$28,INDIRECT("'"&$A$5&"'!$A:$L"),11,FALSE),"") | ... AF30: =IFERROR(VLOOKUP(AF$28,INDIRECT("'"&$A$5&"'!$A:$L"),11,FALSE),"") -> 79.4
A31: Septembre | B31: =DATE($A$5,9,1) -> 42979 | C31: =B31+1 -> 42980 | D31: =C31+1 -> 42981 | E31: =D31+1 -> 42982 | F31: =E31+1 -> 42983 | G31: =F31+1 -> 42984 | H31: =G31+1 -> 42985 | I31: =H31+1 -> 42986 | J31: =I31+1 -> 42987 | ... AE31: =AD31+1 -> 43008 | AF31: =IF(OR(MONTH(AE31+1)<>MONTH(AE31),AE31+1>=B34),0,AE31+1) -> 0
B32: =IFERROR(VLOOKUP(B$31,INDIRECT("'"&$A$5&"'!$A:$L"),10,FALSE),"") -> 0 | C32: =IFERROR(VLOOKUP(C$31,INDIRECT("'"&$A$5&"'!$A:$L"),10,FALSE),"") -> 0 | D32: =IFERROR(VLOOKUP(D$31,INDIRECT("'"&$A$5&"'!$A:$L"),10,FALSE),"") -> 0 | E32: =IFERROR(VLOOKUP(E$31,INDIRECT("'"&$A$5&"'!$A:$L"),10,FALSE),"") -> 0 | F32: =IFERROR(VLOOKUP(F$31,INDIRECT("'"&$A$5&"'!$A:$L"),10,FALSE),"") -> 0 | G32: =IFERROR(VLOOKUP(G$31,INDIRECT("'"&$A$5&"'!$A:$L"),10,FALSE),"") -> 0 | H32: =IFERROR(VLOOKUP(H$31,INDIRECT("'"&$A$5&"'!$A:$L"),10,FALSE),"") -> 0 | I32: =IFERROR(VLOOKUP(I$31,INDIRECT("'"&$A$5&"'!$A:$L"),10,FALSE),"") -> 0 | ... AF32: =IFERROR(VLOOKUP(AF$31,INDIRECT("'"&$A$5&"'!$A:$L"),10,FALSE),"") | AG32: =SUM(B32:AF32) -> 0 | AH32: =COUNTIF(B32:AF32,">"&0) -> 0 | AI32: =SUM(B33:AF33) -> 0
B33: =IFERROR(VLOOKUP(B$31,INDIRECT("'"&$A$5&"'!$A:$L"),11,FALSE),"") | C33: =IFERROR(VLOOKUP(C$31,INDIRECT("'"&$A$5&"'!$A:$L"),11,FALSE),"") | D33: =IFERROR(VLOOKUP(D$31,INDIRECT("'"&$A$5&"'!$A:$L"),11,FALSE),"") | E33: =IFERROR(VLOOKUP(E$31,INDIRECT("'"&$A$5&"'!$A:$L"),11,FALSE),"") | F33: =IFERROR(VLOOKUP(F$31,INDIRECT("'"&$A$5&"'!$A:$L"),11,FALSE),"") | G33: =IFERROR(VLOOKUP(G$31,INDIRECT("'"&$A$5&"'!$A:$L"),11,FALSE),"") | H33: =IFERROR(VLOOKUP(H$31,INDIRECT("'"&$A$5&"'!$A:$L"),11,FALSE),"") | I33: =IFERROR(VLOOKUP(I$31,INDIRECT("'"&$A$5&"'!$A:$L"),11,FALSE),"") | ... AF33: =IFERROR(VLOOKUP(AF$31,INDIRECT("'"&$A$5&"'!$A:$L"),11,FALSE),"")
A34: Octobre | B34: =DATE($A$5,10,1) -> 43009 | C34: =B34+1 -> 43010 | D34: =C34+1 -> 43011 | E34: =D34+1 -> 43012 | F34: =E34+1 -> 43013 | G34: =F34+1 -> 43014 | H34: =G34+1 -> 43015 | I34: =H34+1 -> 43016 | J34: =I34+1 -> 43017 | ... AE34: =AD34+1 -> 43038 | AF34: =IF(OR(MONTH(AE34+1)<>MONTH(AE34),AE34+1>=B37),0,AE34+1) -> 43039
B35: =IFERROR(VLOOKUP(B$34,INDIRECT("'"&$A$5&"'!$A:$L"),10,FALSE),"") -> 0 | C35: =IFERROR(VLOOKUP(C$34,INDIRECT("'"&$A$5&"'!$A:$L"),10,FALSE),"") -> 0 | D35: =IFERROR(VLOOKUP(D$34,INDIRECT("'"&$A$5&"'!$A:$L"),10,FALSE),"") -> 0 | E35: =IFERROR(VLOOKUP(E$34,INDIRECT("'"&$A$5&"'!$A:$L"),10,FALSE),"") -> 0 | F35: =IFERROR(VLOOKUP(F$34,INDIRECT("'"&$A$5&"'!$A:$L"),10,FALSE),"") -> 0 | G35: =IFERROR(VLOOKUP(G$34,INDIRECT("'"&$A$5&"'!$A:$L"),10,FALSE),"") -> 0 | H35: =IFERROR(VLOOKUP(H$34,INDIRECT("'"&$A$5&"'!$A:$L"),10,FALSE),"") -> 0 | I35: =IFERROR(VLOOKUP(I$34,INDIRECT("'"&$A$5&"'!$A:$L"),10,FALSE),"") -> 0 | ... AF35: =IFERROR(VLOOKUP(AF$34,INDIRECT("'"&$A$5&"'!$A:$L"),10,FALSE),"") -> 0 | AG35: =SUM(B35:AF35) -> 0 | AH35: =COUNTIF(B35:AF35,">"&0) -> 0 | AI35: =SUM(B36:AF36) -> 0
B36: =IFERROR(VLOOKUP(B$34,INDIRECT("'"&$A$5&"'!$A:$L"),11,FALSE),"") | C36: =IFERROR(VLOOKUP(C$34,INDIRECT("'"&$A$5&"'!$A:$L"),11,FALSE),"") | D36: =IFERROR(VLOOKUP(D$34,INDIRECT("'"&$A$5&"'!$A:$L"),11,FALSE),"") | E36: =IFERROR(VLOOKUP(E$34,INDIRECT("'"&$A$5&"'!$A:$L"),11,FALSE),"") | F36: =IFERROR(VLOOKUP(F$34,INDIRECT("'"&$A$5&"'!$A:$L"),11,FALSE),"") | G36: =IFERROR(VLOOKUP(G$34,INDIRECT("'"&$A$5&"'!$A:$L"),11,FALSE),"") | H36: =IFERROR(VLOOKUP(H$34,INDIRECT("'"&$A$5&"'!$A:$L"),11,FALSE),"") | I36: =IFERROR(VLOOKUP(I$34,INDIRECT("'"&$A$5&"'!$A:$L"),11,FALSE),"") | ... AF36: =IFERROR(VLOOKUP(AF$34,INDIRECT("'"&$A$5&"'!$A:$L"),11,FALSE),"")
A37: Novembre | B37: =DATE($A$5,11,1) -> 43040 | C37: =B37+1 -> 43041 | D37: =C37+1 -> 43042 | E37: =D37+1 -> 43043 | F37: =E37+1 -> 43044 | G37: =F37+1 -> 43045 | H37: =G37+1 -> 43046 | I37: =H37+1 -> 43047 | J37: =I37+1 -> 43048 | ... AE37: =AD37+1 -> 43069 | AF37: =IF(OR(MONTH(AE37+1)<>MONTH(AE37),AE37+1>=B40),0,AE37+1) -> 0
B38: =IFERROR(VLOOKUP(B$37,INDIRECT("'"&$A$5&"'!$A:$L"),10,FALSE),"") -> 0 | C38: =IFERROR(VLOOKUP(C$37,INDIRECT("'"&$A$5&"'!$A:$L"),10,FALSE),"") -> 0 | D38: =IFERROR(VLOOKUP(D$37,INDIRECT("'"&$A$5&"'!$A:$L"),10,FALSE),"") -> 0 | E38: =IFERROR(VLOOKUP(E$37,INDIRECT("'"&$A$5&"'!$A:$L"),10,FALSE),"") -> 0 | F38: =IFERROR(VLOOKUP(F$37,INDIRECT("'"&$A$5&"'!$A:$L"),10,FALSE),"") -> 0 | G38: =IFERROR(VLOOKUP(G$37,INDIRECT("'"&$A$5&"'!$A:$L"),10,FALSE),"") -> 0 | H38: =IFERROR(VLOOKUP(H$37,INDIRECT("'"&$A$5&"'!$A:$L"),10,FALSE),"") -> 0 | I38: =IFERROR(VLOOKUP(I$37,INDIRECT("'"&$A$5&"'!$A:$L"),10,FALSE),"") -> 0 | ... AF38: =IFERROR(VLOOKUP(AF$37,INDIRECT("'"&$A$5&"'!$A:$L"),10,FALSE),"") | AG38: =SUM(B38:AF38) -> 0 | AH38: =COUNTIF(B38:AF38,">"&0) -> 0 | AI38: =SUM(B39:AF39) -> 0
B39: =IFERROR(VLOOKUP(B$37,INDIRECT("'"&$A$5&"'!$A:$L"),11,FALSE),"") | C39: =IFERROR(VLOOKUP(C$37,INDIRECT("'"&$A$5&"'!$A:$L"),11,FALSE),"") | D39: =IFERROR(VLOOKUP(D$37,INDIRECT("'"&$A$5&"'!$A:$L"),11,FALSE),"") | E39: =IFERROR(VLOOKUP(E$37,INDIRECT("'"&$A$5&"'!$A:$L"),11,FALSE),"") | F39: =IFERROR(VLOOKUP(F$37,INDIRECT("'"&$A$5&"'!$A:$L"),11,FALSE),"") | G39: =IFERROR(VLOOKUP(G$37,INDIRECT("'"&$A$5&"'!$A:$L"),11,FALSE),"") | H39: =IFERROR(VLOOKUP(H$37,INDIRECT("'"&$A$5&"'!$A:$L"),11,FALSE),"") | I39: =IFERROR(VLOOKUP(I$37,INDIRECT("'"&$A$5&"'!$A:$L"),11,FALSE),"") | ... AF39: =IFERROR(VLOOKUP(AF$37,INDIRECT("'"&$A$5&"'!$A:$L"),11,FALSE),"")
A40: Décembre | B40: =DATE($A$5,12,1) -> 43070 | C40: =B40+1 -> 43071 | D40: =C40+1 -> 43072 | E40: =D40+1 -> 43073 | F40: =E40+1 -> 43074 | G40: =F40+1 -> 43075 | H40: =G40+1 -> 43076 | I40: =H40+1 -> 43077 | J40: =I40+1 -> 43078 | ... AF40: =AE40+1 -> 43100
...

Sheet 2017
C1: =COUNTIF(L:M,B1) -> 37
C2: Arrivée | D2: Départ | E2: Total 1 | F2: Arrivée | G2: Départ | H2: Total 2 | I2: Code | J2: Total | K2: 1.1574074e-05 | M2: Lieux | O2: Cumul | P2: Remarques | Q2: =YEAR(B3) -> 2017
A3: =DATE(2017,1,1) -> 42736 | B3: =DATE(2017,1,1) -> 42736 | H3: =MOD(G3-F3,1) -> 0 | J3: =SUM(E3+H3) -> 0 | K3: =IFERROR(VLOOKUP(M3,EMPLOI!A:R,2,0),"") | L3: =IF(WEEKDAY(B3)=7,SUM(OFFSET(B3,0,8,-7,1)),"") | M3: {=IF(OR($K$2>J3),"",IFERROR(INDEX(Tableau1[],MATCH(1,('2017'!B3>=Tableau1[[DATE DEBUT ]])*(Tableau1[DATE FIN]>='2017'!B3),0),1),""))} | Q3: Jours Fériés et Fêtes
A4: =A3+1 -> 42737 | B4: =B3+1 -> 42737 | H4: =MOD(G4-F4,1) -> 0 | J4: =SUM(E4+H4) -> 0 | K4: =IFERROR(VLOOKUP(M4,EMPLOI!A:R,2,0),"") | L4: =IF(WEEKDAY(B4)=7,SUM(OFFSET(B4,0,8,-7,1)),"") | M4: {=IF(OR($K$2>J4),"",IFERROR(INDEX(Tableau1[],MATCH(1,('2017'!B4>=Tableau1[[DATE DEBUT ]])*(Tableau1[DATE FIN]>='2017'!B4),0),1),""))} | Q4: JOUR DE L'AN | R4: =DATE(Q2,1,1) -> 42736
A5: =A4+1 -> 42738 | B5: =B4+1 -> 42738 | H5: =MOD(G5-F5,1) -> 0 | J5: =IFERROR(SUM(E5,H5),"") -> 0 | K5: =IFERROR(VLOOKUP(M5,EMPLOI!A:R,2,0),"") | L5: =IF(WEEKDAY(B5)=7,SUM(OFFSET(B5,0,8,-7,1)),"") | M5: {=IF(OR($K$2>J5),"",IFERROR(INDEX(Tableau1[],MATCH(1,('2017'!B5>=Tableau1[[DATE DEBUT ]])*(Tableau1[DATE FIN]>='2017'!B5),0),1),""))} | Q5: PÂQUES | R5: =FLOOR(DATE(Q2,5,DAY(MINUTE(Q2/38)/2+56)),7)-34+7*(Q2=2079) -> 42841
A6: =A5+1 -> 42739 | B6: =B5+1 -> 42739 | H6: =MOD(G6-F6,1) -> 0 | J6: =SUM(E6+H6) -> 0 | K6: =IFERROR(VLOOKUP(M6,EMPLOI!A:R,2,0),"") | L6: =IF(WEEKDAY(B6)=7,SUM(OFFSET(B6,0,8,-7,1)),"") | M6: {=IF(OR($K$2>J6),"",IFERROR(INDEX(Tableau1[],MATCH(1,('2017'!B6>=Tableau1[[DATE DEBUT ]])*(Tableau1[DATE FIN]>='2017'!B6),0),1),""))} | Q6: *Lundi de Pâques | R6: =R5+1 -> 42842
A7: =A6+1 -> 42740 | B7: =B6+1 -> 42740 | H7: =MOD(G7-F7,1) -> 0 | J7: =SUM(E7+H7) -> 0 | K7: =IFERROR(VLOOKUP(M7,EMPLOI!A:R,2,0),"") | L7: =IF(WEEKDAY(B7)=7,SUM(OFFSET(B7,0,8,-7,1)),"") | M7: {=IF(OR($K$2>J7),"",IFERROR(INDEX(Tableau1[],MATCH(1,('2017'!B7>=Tableau1[[DATE DEBUT ]])*(Tableau1[DATE FIN]>='2017'!B7),0),1),""))} | Q7: FÊTE DU TRAVAIL | R7: =DATE(Année!A5,5,1) -> 42856
A8: =A7+1 -> 42741 | B8: =B7+1 -> 42741 | H8: =MOD(G8-F8,1) -> 0 | J8: =SUM(E8+H8) -> 0 | K8: =IFERROR(VLOOKUP(M8,EMPLOI!A:R,2,0),"") | L8: =IF(WEEKDAY(B8)=7,SUM(OFFSET(B8,0,8,-7,1)),"") | M8: {=IF(OR($K$2>J8),"",IFERROR(INDEX(Tableau1[],MATCH(1,('2017'!B8>=Tableau1[[DATE DEBUT ]])*(Tableau1[DATE FIN]>='2017'!B8),0),1),""))} | Q8: ASCENSION | R8: =R5+39 -> 42880
A9: =A8+1 -> 42742 | B9: =B8+1 -> 42742 | E9: =MOD(D9-C9,1) -> 0 | H9: =MOD(G9-F9,1) -> 0 | J9: =SUM(E9+H9) -> 0 | K9: =IFERROR(VLOOKUP(M9,EMPLOI!A:R,2,0),"") | L9: =IF(WEEKDAY(B9)=7,SUM(OFFSET(B9,0,8,-7,1)),"") -> 0 | M9: {=IF(OR($K$2>J9),"",IFERROR(INDEX(Tableau1[],MATCH(1,('2017'!B9>=Tableau1[[DATE DEBUT ]])*(Tableau1[DATE FIN]>='2017'!B9),0),1),""))} | Q9: VICTOIRE 1945 | R9: =DATE(Q2,5,8) -> 42863
A10: =A9+1 -> 42743 | B10: =B9+1 -> 42743 | E10: =MOD(D10-C10,1) -> 0 | H10: =MOD(G10-F10,1) -> 0 | J10: =SUM(E10+H10) -> 0 | K10: =IFERROR(VLOOKUP(M10,EMPLOI!A:R,2,0),"") | L10: =IF(WEEKDAY(B10)=7,SUM(OFFSET(B10,0,8,-7,1)),"") | M10: {=IF(OR($K$2>J10),"",IFERROR(INDEX(Tableau1[],MATCH(1,('2017'!B10>=Tableau1[[DATE DEBUT ]])*(Tableau1[DATE FIN]>='2017'!B10),0),1),""))} | Q10: PENTECÔTE | R10: =R5+49 -> 42890
A11: =A10+1 -> 42744 | B11: =B10+1 -> 42744 | E11: =MOD(D11-C11,1) -> 0 | H11: =MOD(G11-F11,1) -> 0 | J11: =SUM(E11+H11) -> 0 | K11: =IFERROR(VLOOKUP(M11,EMPLOI!A:R,2,0),"") | L11: =IF(WEEKDAY(B11)=7,SUM(OFFSET(B11,0,8,-7,1)),"") | M11: {=IF(OR($K$2>J11),"",IFERROR(INDEX(Tableau1[],MATCH(1,('2017'!B11>=Tableau1[[DATE DEBUT ]])*(Tableau1[DATE FIN]>='2017'!B11),0),1),""))} | Q11: *Lundi de Pentecôte | R11: =R5+50 -> 42891
A12: =A11+1 -> 42745 | B12: =B11+1 -> 42745 | E12: =MOD(D12-C12,1) -> 0 | H12: =MOD(G12-F12,1) -> 0 | J12: =SUM(E12+H12) -> 0 | K12: =IFERROR(VLOOKUP(M12,EMPLOI!A:R,2,0),"") | L12: =IF(WEEKDAY(B12)=7,SUM(OFFSET(B12,0,8,-7,1)),"") | M12: {=IF(OR($K$2>J12),"",IFERROR(INDEX(Tableau1[],MATCH(1,('2017'!B12>=Tableau1[[DATE DEBUT ]])*(Tableau1[DATE FIN]>='2017'!B12),0),1),""))} | Q12: FÊTE NAT | R12: =DATE(Q2,7,14) -> 42930
A13: =A12+1 -> 42746 | B13: =B12+1 -> 42746 | E13: =MOD(D13-C13,1) -> 0 | H13: =MOD(G13-F13,1) -> 0 | J13: =SUM(E13+H13) -> 0 | K13: =IFERROR(VLOOKUP(M13,EMPLOI!A:R,2,0),"") | L13: =IF(WEEKDAY(B13)=7,SUM(OFFSET(B13,0,8,-7,1)),"") | M13: {=IF(OR($K$2>J13),"",IFERROR(INDEX(Tableau1[],MATCH(1,('2017'!B13>=Tableau1[[DATE DEBUT ]])*(Tableau1[DATE FIN]>='2017'!B13),0),1),""))} | Q13: ASSOMPTION | R13: =DATE(Q2,8,15) -> 42962
A14: =A13+1 -> 42747 | B14: =B13+1 -> 42747 | E14: =MOD(D14-C14,1) -> 0 | H14: =MOD(G14-F14,1) -> 0 | J14: =SUM(E14+H14) -> 0 | K14: =IFERROR(VLOOKUP(M14,EMPLOI!A:R,2,0),"") | L14: =IF(WEEKDAY(B14)=7,SUM(OFFSET(B14,0,8,-7,1)),"") | M14: {=IF(OR($K$2>J14),"",IFERROR(INDEX(Tableau1[],MATCH(1,('2017'!B14>=Tableau1[[DATE DEBUT ]])*(Tableau1[DATE FIN]>='2017'!B14),0),1),""))} | Q14: TOUSSAINT | R14: =DATE(Q2,11,1) -> 43040
A15: =A14+1 -> 42748 | B15: =B14+1 -> 42748 | E15: =MOD(D15-C15,1) -> 0 | H15: =MOD(G15-F15,1) -> 0 | J15: =SUM(E15+H15) -> 0 | K15: =IFERROR(VLOOKUP(M15,EMPLOI!A:R,2,0),"") | L15: =IF(WEEKDAY(B15)=7,SUM(OFFSET(B15,0,8,-7,1)),"") | M15: {=IF(OR($K$2>J15),"",IFERROR(INDEX(Tableau1[],MATCH(1,('2017'!B15>=Tableau1[[DATE DEBUT ]])*(Tableau1[DATE FIN]>='2017'!B15),0),1),""))} | Q15: ARMISTICE 1918 | R15: =DATE(Q2,11,11) -> 43050
A16: =A15+1 -> 42749 | B16: =B15+1 -> 42749 | E16: =MOD(D16-C16,1) -> 0 | H16: =MOD(G16-F16,1) -> 0 | J16: =SUM(E16+H16) -> 0 | K16: =IFERROR(VLOOKUP(M16,EMPLOI!A:R,2,0),"") | L16: =IF(WEEKDAY(B16)=7,SUM(OFFSET(B16,0,8,-7,1)),"") -> 0 | M16: {=IF(OR($K$2>J16),"",IFERROR(INDEX(Tableau1[],MATCH(1,('2017'!B16>=Tableau1[[DATE DEBUT ]])*(Tableau1[DATE FIN]>='2017'!B16),0),1),""))} | Q16: NOËL | R16: =DATE(Q2,12,25) -> 43094
A17: =A16+1 -> 42750 | B17: =B16+1 -> 42750 | E17: =MOD(D17-C17,1) -> 0 | H17: =MOD(G17-F17,1) -> 0 | J17: =SUM(E17+H17) -> 0 | K17: =IFERROR(VLOOKUP(M17,EMPLOI!A:R,2,0),"") | L17: =IF(WEEKDAY(B17)=7,SUM(OFFSET(B17,0,8,-7,1)),"") | M17: {=IF(OR($K$2>J17),"",IFERROR(INDEX(Tableau1[],MATCH(1,('2017'!B17>=Tableau1[[DATE DEBUT ]])*(Tableau1[DATE FIN]>='2017'!B17),0),1),""))}
A18: =A17+1 -> 42751 | B18: =B17+1 -> 42751 | E18: =MOD(D18-C18,1) -> 0 | H18: =MOD(G18-F18,1) -> 0 | J18: =SUM(E18+H18) -> 0 | K18: =IFERROR(VLOOKUP(M18,EMPLOI!A:R,2,0),"") | L18: =IF(WEEKDAY(B18)=7,SUM(OFFSET(B18,0,8,-7,1)),"") | M18: {=IF(OR($K$2>J18),"",IFERROR(INDEX(Tableau1[],MATCH(1,('2017'!B18>=Tableau1[[DATE DEBUT ]])*(Tableau1[DATE FIN]>='2017'!B18),0),1),""))} | Q18: Mardi-Gras | R18: =R5-47 -> 42794
A19: =A18+1 -> 42752 | B19: =B18+1 -> 42752 | E19: =MOD(D19-C19,1) -> 0 | H19: =MOD(G19-F19,1) -> 0 | J19: =SUM(E19+H19) -> 0 | K19: =IFERROR(VLOOKUP(M19,EMPLOI!A:R,2,0),"") | L19: =IF(WEEKDAY(B19)=7,SUM(OFFSET(B19,0,8,-7,1)),"") | M19: {=IF(OR($K$2>J19),"",IFERROR(INDEX(Tableau1[],MATCH(1,('2017'!B19>=Tableau1[[DATE DEBUT ]])*(Tableau1[DATE FIN]>='2017'!B19),0),1),""))} | Q19: Cendres | R19: =R5-46 -> 42795
A20: =A19+1 -> 42753 | B20: =B19+1 -> 42753 | E20: =MOD(D20-C20,1) -> 0 | H20: =MOD(G20-F20,1) -> 0 | J20: =SUM(E20+H20) -> 0 | K20: =IFERROR(VLOOKUP(M20,EMPLOI!A:R,2,0),"") | L20: =IF(WEEKDAY(B20)=7,SUM(OFFSET(B20,0,8,-7,1)),"") | M20: {=IF(OR($K$2>J20),"",IFERROR(INDEX(Tableau1[],MATCH(1,('2017'!B20>=Tableau1[[DATE DEBUT ]])*(Tableau1[DATE FIN]>='2017'!B20),0),1),""))} | Q20: Rameaux | R20: =R5-7 -> 42834
A21: =A20+1 -> 42754 | B21: =B20+1 -> 42754 | E21: =MOD(D21-C21,1) -> 0 | H21: =MOD(G21-F21,1) -> 0 | J21: =SUM(E21+H21) -> 0 | K21: =IFERROR(VLOOKUP(M21,EMPLOI!A:R,2,0),"") | L21: =IF(WEEKDAY(B21)=7,SUM(OFFSET(B21,0,8,-7,1)),"") | M21: {=IF(OR($K$2>J21),"",IFERROR(INDEX(Tableau1[],MATCH(1,('2017'!B21>=Tableau1[[DATE DEBUT ]])*(Tableau1[DATE FIN]>='2017'!B21),0),1),""))}
A22: =A21+1 -> 42755 | B22: =B21+1 -> 42755 | E22: =MOD(D22-C22,1) -> 0 | H22: =MOD(G22-F22,1) -> 0 | J22: =SUM(E22+H22) -> 0 | K22: =IFERROR(VLOOKUP(M22,EMPLOI!A:R,2,0),"") | L22: =IF(WEEKDAY(B22)=7,SUM(OFFSET(B22,0,8,-7,1)),"") | M22: {=IF(OR($K$2>J22),"",IFERROR(INDEX(Tableau1[],MATCH(1,('2017'!B22>=Tableau1[[DATE DEBUT ]])*(Tableau1[DATE FIN]>='2017'!B22),0),1),""))} | Q22: Epiphanie | R22: =DATE(Q2,1,1)+7-WEEKDAY(DATE(Q2,1,1),2) -> 42736
A23: =A22+1 -> 42756 | B23: =B22+1 -> 42756 | E23: =MOD(D23-C23,1) -> 0 | H23: =MOD(G23-F23,1) -> 0 | J23: =SUM(E23+H23) -> 0 | K23: =IFERROR(VLOOKUP(M23,EMPLOI!A:R,2,0),"") | L23: =IF(WEEKDAY(B23)=7,SUM(OFFSET(B23,0,8,-7,1)),"") -> 0 | M23: {=IF(OR($K$2>J23),"",IFERROR(INDEX(Tableau1[],MATCH(1,('2017'!B23>=Tableau1[[DATE DEBUT ]])*(Tableau1[DATE FIN]>='2017'!B23),0),1),""))}
A24: =A23+1 -> 42757 | B24: =B23+1 -> 42757 | E24: =MOD(D24-C24,1) -> 0 | H24: =MOD(G24-F24,1) -> 0 | J24: =SUM(E24+H24) -> 0 | K24: =IFERROR(VLOOKUP(M24,EMPLOI!A:R,2,0),"") | L24: =IF(WEEKDAY(B24)=7,SUM(OFFSET(B24,0,8,-7,1)),"") | M24: {=IF(OR($K$2>J24),"",IFERROR(INDEX(Tableau1[],MATCH(1,('2017'!B24>=Tableau1[[DATE DEBUT ]])*(Tableau1[DATE FIN]>='2017'!B24),0),1),""))} | Q24: Fête Dieu | R24: =R5+63 -> 42904
A25: =A24+1 -> 42758 | B25: =B24+1 -> 42758 | E25: =MOD(D25-C25,1) -> 0 | H25: =MOD(G25-F25,1) -> 0 | J25: =SUM(E25+H25) -> 0 | K25: =IFERROR(VLOOKUP(M25,EMPLOI!A:R,2,0),"") | L25: =IF(WEEKDAY(B25)=7,SUM(OFFSET(B25,0,8,-7,1)),"") | M25: {=IF(OR($K$2>J25),"",IFERROR(INDEX(Tableau1[],MATCH(1,('2017'!B25>=Tableau1[[DATE DEBUT ]])*(Tableau1[DATE FIN]>='2017'!B25),0),1),""))}
A26: =A25+1 -> 42759 | B26: =B25+1 -> 42759 | E26: =MOD(D26-C26,1) -> 0 | H26: =MOD(G26-F26,1) -> 0 | J26: =SUM(E26+H26) -> 0 | K26: =IFERROR(VLOOKUP(M26,EMPLOI!A:R,2,0),"") | L26: =IF(WEEKDAY(B26)=7,SUM(OFFSET(B26,0,8,-7,1)),"") | M26: {=IF(OR($K$2>J26),"",IFERROR(INDEX(Tableau1[],MATCH(1,('2017'!B26>=Tableau1[[DATE DEBUT ]])*(Tableau1[DATE FIN]>='2017'!B26),0),1),""))}
A27: =A26+1 -> 42760 | B27: =B26+1 -> 42760 | E27: =MOD(D27-C27,1) -> 0 | H27: =MOD(G27-F27,1) -> 0 | J27: =SUM(E27+H27) -> 0 | K27: =IFERROR(VLOOKUP(M27,EMPLOI!A:R,2,0),"") | L27: =IF(WEEKDAY(B27)=7,SUM(OFFSET(B27,0,8,-7,1)),"") | M27: {=IF(OR($K$2>J27),"",IFERROR(INDEX(Tableau1[],MATCH(1,('2017'!B27>=Tableau1[[DATE DEBUT ]])*(Tableau1[DATE FIN]>='2017'!B27),0),1),""))}
A28: =A27+1 -> 42761 | B28: =B27+1 -> 42761 | E28: =MOD(D28-C28,1) -> 0 | H28: =MOD(G28-F28,1) -> 0 | J28: =SUM(E28+H28) -> 0 | K28: =IFERROR(VLOOKUP(M28,EMPLOI!A:R,2,0),"") | L28: =IF(WEEKDAY(B28)=7,SUM(OFFSET(B28,0,8,-7,1)),"") | M28: {=IF(OR($K$2>J28),"",IFERROR(INDEX(Tableau1[],MATCH(1,('2017'!B28>=Tableau1[[DATE DEBUT ]])*(Tableau1[DATE FIN]>='2017'!B28),0),1),""))}
A29: =A28+1 -> 42762 | B29: =B28+1 -> 42762 | E29: =MOD(D29-C29,1) -> 0 | H29: =MOD(G29-F29,1) -> 0 | J29: =SUM(E29+H29) -> 0 | K29: =IFERROR(VLOOKUP(M29,EMPLOI!A:R,2,0),"") | L29: =IF(WEEKDAY(B29)=7,SUM(OFFSET(B29,0,8,-7,1)),"") | M29: {=IF(OR($K$2>J29),"",IFERROR(INDEX(Tableau1[],MATCH(1,('2017'!B29>=Tableau1[[DATE DEBUT ]])*(Tableau1[DATE FIN]>='2017'!B29),0),1),""))}
A30: =A29+1 -> 42763 | B30: =B29+1 -> 42763 | E30: =MOD(D30-C30,1) -> 0 | H30: =MOD(G30-F30,1) -> 0 | J30: =SUM(E30+H30) -> 0 | K30: =IFERROR(VLOOKUP(M30,EMPLOI!A:R,2,0),"") | L30: =IF(WEEKDAY(B30)=7,SUM(OFFSET(B30,0,8,-7,1)),"") -> 0 | M30: {=IF(OR($K$2>J30),"",IFERROR(INDEX(Tableau1[],MATCH(1,('2017'!B30>=Tableau1[[DATE DEBUT ]])*(Tableau1[DATE FIN]>='2017'!B30),0),1),""))}
A31: =A30+1 -> 42764 | B31: =B30+1 -> 42764 | E31: =MOD(D31-C31,1) -> 0 | H31: =MOD(G31-F31,1) -> 0 | J31: =SUM(E31+H31) -> 0 | K31: =IFERROR(VLOOKUP(M31,EMPLOI!A:R,2,0),"") | L31: =IF(WEEKDAY(B31)=7,SUM(OFFSET(B31,0,8,-7,1)),"") | M31: {=IF(OR($K$2>J31),"",IFERROR(INDEX(Tableau1[],MATCH(1,('2017'!B31>=Tableau1[[DATE DEBUT ]])*(Tableau1[DATE FIN]>='2017'!B31),0),1),""))}
A32: =A31+1 -> 42765 | B32: =B31+1 -> 42765 | E32: =MOD(D32-C32,1) -> 0 | H32: =MOD(G32-F32,1) -> 0 | J32: =SUM(E32+H32) -> 0 | K32: =IFERROR(VLOOKUP(M32,EMPLOI!A:R,2,0),"") | L32: =IF(WEEKDAY(B32)=7,SUM(OFFSET(B32,0,8,-7,1)),"") | M32: {=IF(OR($K$2>J32),"",IFERROR(INDEX(Tableau1[],MATCH(1,('2017'!B32>=Tableau1[[DATE DEBUT ]])*(Tableau1[DATE FIN]>='2017'!B32),0),1),""))}
A33: =A32+1 -> 42766 | B33: =B32+1 -> 42766 | E33: =MOD(D33-C33,1) -> 0 | H33: =MOD(G33-F33,1) -> 0 | J33: =SUM(E33+H33) -> 0 | K33: =IFERROR(VLOOKUP(M33,EMPLOI!A:R,2,0),"") | L33: =IF(WEEKDAY(B33)=7,SUM(OFFSET(B33,0,8,-7,1)),"") | M33: {=IF(OR($K$2>J33),"",IFERROR(INDEX(Tableau1[],MATCH(1,('2017'!B33>=Tableau1[[DATE DEBUT ]])*(Tableau1[DATE FIN]>='2017'!B33),0),1),""))}
A34: =A33+1 -> 42767 | B34: =B33+1 -> 42767 | E34: =MOD(D34-C34,1) -> 0 | H34: =MOD(G34-F34,1) -> 0 | J34: =SUM(E34+H34) -> 0 | K34: =IFERROR(VLOOKUP(M34,EMPLOI!A:R,2,0),"") | L34: =IF(WEEKDAY(B34)=7,SUM(OFFSET(B34,0,8,-7,1)),"") | M34: {=IF(OR($K$2>J34),"",IFERROR(INDEX(Tableau1[],MATCH(1,('2017'!B34>=Tableau1[[DATE DEBUT ]])*(Tableau1[DATE FIN]>='2017'!B34),0),1),""))}
A35: =A34+1 -> 42768 | B35: =B34+1 -> 42768 | E35: =MOD(D35-C35,1) -> 0 | H35: =MOD(G35-F35,1) -> 0 | J35: =SUM(E35+H35) -> 0 | K35: =IFERROR(VLOOKUP(M35,EMPLOI!A:R,2,0),"") | L35: =IF(WEEKDAY(B35)=7,SUM(OFFSET(B35,0,8,-7,1)),"") | M35: {=IF(OR($K$2>J35),"",IFERROR(INDEX(Tableau1[],MATCH(1,('2017'!B35>=Tableau1[[DATE DEBUT ]])*(Tableau1[DATE FIN]>='2017'!B35),0),1),""))}
A36: =A35+1 -> 42769 | B36: =B35+1 -> 42769 | E36: =MOD(D36-C36,1) -> 0 | H36: =MOD(G36-F36,1) -> 0 | J36: =SUM(E36+H36) -> 0 | K36: =IFERROR(VLOOKUP(M36,EMPLOI!A:R,2,0),"") | L36: =IF(WEEKDAY(B36)=7,SUM(OFFSET(B36,0,8,-7,1)),"") | M36: {=IF(OR($K$2>J36),"",IFERROR(INDEX(Tableau1[],MATCH(1,('2017'!B36>=Tableau1[[DATE DEBUT ]])*(Tableau1[DATE FIN]>='2017'!B36),0),1),""))}
... A95: =A94+1 -> 42828 | B95: =B94+1 -> 42828 | E95: =MOD(D95-C95,1) -> 0 | H95: =MOD(G95-F95,1) -> 0 | J95: =SUM(E95+H95) -> 0 | K95: =IFERROR(VLOOKUP(M95,EMPLOI!A:R,2,0),"") | L95: =IF(WEEKDAY(B95)=7,SUM(OFFSET(B95,0,8,-7,1)),"") | M95: {=IF(OR($K$2>J95),"",IFERROR(INDEX(Tableau1[],MATCH(1,('2017'!B95>=Tableau1[[DATE DEBUT ]])*(Tableau1[DATE FIN]>='2017'!B95),0),1),""))}
A96: =A95+1 -> 42829 | B96: =B95+1 -> 42829 | C96: 0.33333333 | D96: 0.48958333 | E96: =MOD(D96-C96,1) -> 0.15625 | F96: 0.53125 | G96: 0.66666667 | H96: =MOD(G96-F96,1) -> 0.13541667 | J96: =SUM(E96+H96) -> 0.29166667 | K96: =IFERROR(VLOOKUP(M96,EMPLOI!A:R,2,0),"") -> 70.6 | L96: =IF(WEEKDAY(B96)=7,SUM(OFFSET(B96,0,8,-7,1)),"") | M96: {=IF(OR($K$2>J96),"",IFERROR(INDEX(Tableau1[],MATCH(1,('2017'!B96>=Tableau1[[DATE DEBUT ]])*(Tableau1[DATE FIN]>='2017'!B96),0),1),""))} -> A
A97: =A96+1 -> 42830 | B97: =B96+1 -> 42830 | C97: 0.33333333 | D97: 0.48958333 | E97: =MOD(D97-C97,1) -> 0.15625 | F97: 0.53125 | G97: 0.66666667 | H97: =MOD(G97-F97,1) -> 0.13541667 | J97: =SUM(E97+H97) -> 0.29166667 | K97: =IFERROR(VLOOKUP(M97,EMPLOI!A:R,2,0),"") -> 70.6 | L97: =IF(WEEKDAY(B97)=7,SUM(OFFSET(B97,0,8,-7,1)),"") | M97: {=IF(OR($K$2>J97),"",IFERROR(INDEX(Tableau1[],MATCH(1,('2017'!B97>=Tableau1[[DATE DEBUT ]])*(Tableau1[DATE FIN]>='2017'!B97),0),1),""))} -> A
A98: =A97+1 -> 42831 | B98: =B97+1 -> 42831 | C98: 0.33333333 | D98: 0.48958333 | E98: =MOD(D98-C98,1) -> 0.15625 | F98: 0.53125 | G98: 0.66666667 | H98: =MOD(G98-F98,1) -> 0.13541667 | J98: =SUM(E98+H98) -> 0.29166667 | K98: =IFERROR(VLOOKUP(M98,EMPLOI!A:R,2,0),"") -> 70.6 | L98: =IF(WEEKDAY(B98)=7,SUM(OFFSET(B98,0,8,-7,1)),"") | M98: {=IF(OR($K$2>J98),"",IFERROR(INDEX(Tableau1[],MATCH(1,('2017'!B98>=Tableau1[[DATE DEBUT ]])*(Tableau1[DATE FIN]>='2017'!B98),0),1),""))} -> A
...

Sheet 2018
C1: =COUNTIF(L:M,B1) -> 51
C2: Arrivée | D2: Départ | E2: Total 1 | F2: Arrivée | G2: Départ | H2: Total 2 | I2: Code | J2: Total | K2: 1.1574074e-05 | M2: Lieux | O2: Cumul | P2: Remarques | Q2: =YEAR(B3) -> 2018
A3: =DATE(2017,1,1) -> 42736 | B3: =DATE(2018,1,1) -> 43101 | E3: =MOD(D3-C3,1) -> 0 | H3: =MOD(G3-F3,1) -> 0 | J3: =SUM(E3+H3) -> 0 | K3: =IFERROR(VLOOKUP(M3,EMPLOI!A:R,2,0),"") | L3: =IF(WEEKDAY(B3)=7,SUM(OFFSET(B3,0,8,-7,1)),"") | M3: {=IF(OR($K$2>J3),"",IFERROR(INDEX(Tableau1[],MATCH(1,('2018'!B3>=Tableau1[[DATE DEBUT ]])*(Tableau1[DATE FIN]>='2018'!B3),0),1),""))} | Q3: Jours Fériés et Fêtes
A4: =A3+1 -> 42737 | B4: =B3+1 -> 43102 | E4: =MOD(D4-C4,1) -> 0 | H4: =MOD(G4-F4,1) -> 0 | I4: RTT | J4: =SUM(E4+H4) -> 0 | K4: =IFERROR(VLOOKUP(M4,EMPLOI!A:R,2,0),"") | L4: =IF(WEEKDAY(B4)=7,SUM(OFFSET(B4,0,8,-7,1)),"") | M4: {=IF(OR($K$2>J4),"",IFERROR(INDEX(Tableau1[],MATCH(1,('2018'!B4>=Tableau1[[DATE DEBUT ]])*(Tableau1[DATE FIN]>='2018'!B4),0),1),""))} | Q4: JOUR DE L'AN | R4: =DATE(Q2,1,1) -> 43101
A5: =A4+1 -> 42738 | B5: =B4+1 -> 43103 | E5: =MOD(D5-C5,1) -> 0 | H5: =MOD(G5-F5,1) -> 0 | I5: RTT | J5: =IFERROR(SUM(E5,H5),"") -> 0 | K5: =IFERROR(VLOOKUP(M5,EMPLOI!A:R,2,0),"") | L5: =IF(WEEKDAY(B5)=7,SUM(OFFSET(B5,0,8,-7,1)),"") | M5: {=IF(OR($K$2>J5),"",IFERROR(INDEX(Tableau1[],MATCH(1,('2018'!B5>=Tableau1[[DATE DEBUT ]])*(Tableau1[DATE FIN]>='2018'!B5),0),1),""))} | Q5: PÂQUES | R5: =FLOOR(DATE(Q2,5,DAY(MINUTE(Q2/38)/2+56)),7)-34+7*(Q2=2079) -> 43191
A6: =A5+1 -> 42739 | B6: =B5+1 -> 43104 | E6: =MOD(D6-C6,1) -> 0 | H6: =MOD(G6-F6,1) -> 0 | I6: RTT | J6: =SUM(E6+H6) -> 0 | K6: =IFERROR(VLOOKUP(M6,EMPLOI!A:R,2,0),"") | L6: =IF(WEEKDAY(B6)=7,SUM(OFFSET(B6,0,8,-7,1)),"") | M6: {=IF(OR($K$2>J6),"",IFERROR(INDEX(Tableau1[],MATCH(1,('2018'!B6>=Tableau1[[DATE DEBUT ]])*(Tableau1[DATE FIN]>='2018'!B6),0),1),""))} | Q6: *Lundi de Pâques | R6: =R5+1 -> 43192
A7: =A6+1 -> 42740 | B7: =B6+1 -> 43105 | E7: =MOD(D7-C7,1) -> 0 | H7: =MOD(G7-F7,1) -> 0 | I7: RTT | J7: =SUM(E7+H7) -> 0 | K7: =IFERROR(VLOOKUP(M7,EMPLOI!A:R,2,0),"") | L7: =IF(WEEKDAY(B7)=7,SUM(OFFSET(B7,0,8,-7,1)),"") | M7: {=IF(OR($K$2>J7),"",IFERROR(INDEX(Tableau1[],MATCH(1,('2018'!B7>=Tableau1[[DATE DEBUT ]])*(Tableau1[DATE FIN]>='2018'!B7),0),1),""))} | Q7: FÊTE DU TRAVAIL | R7: =DATE(Année!A5,5,1) -> 42856
A8: =A7+1 -> 42741 | B8: =B7+1 -> 43106 | E8: =MOD(D8-C8,1) -> 0 | H8: =MOD(G8-F8,1) -> 0 | J8: =SUM(E8+H8) -> 0 | K8: =IFERROR(VLOOKUP(M8,EMPLOI!A:R,2,0),"") | L8: =IF(WEEKDAY(B8)=7,SUM(OFFSET(B8,0,8,-7,1)),"") -> 0 | M8: {=IF(OR($K$2>J8),"",IFERROR(INDEX(Tableau1[],MATCH(1,('2018'!B8>=Tableau1[[DATE DEBUT ]])*(Tableau1[DATE FIN]>='2018'!B8),0),1),""))} | Q8: ASCENSION | R8: =R5+39 -> 43230
A9: =A8+1 -> 42742 | B9: =B8+1 -> 43107 | E9: =MOD(D9-C9,1) -> 0 | H9: =MOD(G9-F9,1) -> 0 | J9: =SUM(E9+H9) -> 0 | K9: =IFERROR(VLOOKUP(M9,EMPLOI!A:R,2,0),"") | L9: =IF(WEEKDAY(B9)=7,SUM(OFFSET(B9,0,8,-7,1)),"") | M9: {=IF(OR($K$2>J9),"",IFERROR(INDEX(Tableau1[],MATCH(1,('2018'!B9>=Tableau1[[DATE DEBUT ]])*(Tableau1[DATE FIN]>='2018'!B9),0),1),""))} | Q9: VICTOIRE 1945 | R9: =DATE(Q2,5,8) -> 43228
A10: =A9+1 -> 42743 | B10: =B9+1 -> 43108 | E10: =MOD(D10-C10,1) -> 0 | H10: =MOD(G10-F10,1) -> 0 | I10: VACANCE | J10: =SUM(E10+H10) -> 0 | K10: =IFERROR(VLOOKUP(M10,EMPLOI!A:R,2,0),"") | L10: =IF(WEEKDAY(B10)=7,SUM(OFFSET(B10,0,8,-7,1)),"") | M10: {=IF(OR($K$2>J10),"",IFERROR(INDEX(Tableau1[],MATCH(1,('2018'!B10>=Tableau1[[DATE DEBUT ]])*(Tableau1[DATE FIN]>='2018'!B10),0),1),""))} | Q10: PENTECÔTE | R10: =R5+49 -> 43240
A11: =A10+1 -> 42744 | B11: =B10+1 -> 43109 | E11: =MOD(D11-C11,1) -> 0 | H11: =MOD(G11-F11,1) -> 0 | I11: VACANCE | J11: =SUM(E11+H11) -> 0 | K11: =IFERROR(VLOOKUP(M11,EMPLOI!A:R,2,0),"") | L11: =IF(WEEKDAY(B11)=7,SUM(OFFSET(B11,0,8,-7,1)),"") | M11: {=IF(OR($K$2>J11),"",IFERROR(INDEX(Tableau1[],MATCH(1,('2018'!B11>=Tableau1[[DATE DEBUT ]])*(Tableau1[DATE FIN]>='2018'!B11),0),1),""))} | Q11: *Lundi de Pentecôte | R11: =R5+50 -> 43241
A12: =A11+1 -> 42745 | B12: =B11+1 -> 43110 | E12: =MOD(D12-C12,1) -> 0 | H12: =MOD(G12-F12,1) -> 0 | I12: VACANCE | J12: =SUM(E12+H12) -> 0 | K12: =IFERROR(VLOOKUP(M12,EMPLOI!A:R,2,0),"") | L12: =IF(WEEKDAY(B12)=7,SUM(OFFSET(B12,0,8,-7,1)),"") | M12: {=IF(OR($K$2>J12),"",IFERROR(INDEX(Tableau1[],MATCH(1,('2018'!B12>=Tableau1[[DATE DEBUT ]])*(Tableau1[DATE FIN]>='2018'!B12),0),1),""))} | Q12: FÊTE NAT | R12: =DATE(Q2,7,14) -> 43295
A13: =A12+1 -> 42746 | B13: =B12+1 -> 43111 | E13: =MOD(D13-C13,1) -> 0 | H13: =MOD(G13-F13,1) -> 0 | I13: VACANCE | J13: =SUM(E13+H13) -> 0 | K13: =IFERROR(VLOOKUP(M13,EMPLOI!A:R,2,0),"") | L13: =IF(WEEKDAY(B13)=7,SUM(OFFSET(B13,0,8,-7,1)),"") | M13: {=IF(OR($K$2>J13),"",IFERROR(INDEX(Tableau1[],MATCH(1,('2018'!B13>=Tableau1[[DATE DEBUT ]])*(Tableau1[DATE FIN]>='2018'!B13),0),1),""))} | Q13: ASSOMPTION | R13: =DATE(Q2,8,15) -> 43327
A14: =A13+1 -> 42747 | B14: =B13+1 -> 43112 | E14: =MOD(D14-C14,1) -> 0 | H14: =MOD(G14-F14,1) -> 0 | I14: VACANCE | J14: =SUM(E14+H14) -> 0 | K14: =IFERROR(VLOOKUP(M14,EMPLOI!A:R,2,0),"") | L14: =IF(WEEKDAY(B14)=7,SUM(OFFSET(B14,0,8,-7,1)),"") | M14: {=IF(OR($K$2>J14),"",IFERROR(INDEX(Tableau1[],MATCH(1,('2018'!B14>=Tableau1[[DATE DEBUT ]])*(Tableau1[DATE FIN]>='2018'!B14),0),1),""))} | Q14: TOUSSAINT | R14: =DATE(Q2,11,1) -> 43405
A15: =A14+1 -> 42748 | B15: =B14+1 -> 43113 | E15: =MOD(D15-C15,1) -> 0 | H15: =MOD(G15-F15,1) -> 0 | J15: =SUM(E15+H15) -> 0 | K15: =IFERROR(VLOOKUP(M15,EMPLOI!A:R,2,0),"") | L15: =IF(WEEKDAY(B15)=7,SUM(OFFSET(B15,0,8,-7,1)),"") -> 0 | M15: {=IF(OR($K$2>J15),"",IFERROR(INDEX(Tableau1[],MATCH(1,('2018'!B15>=Tableau1[[DATE DEBUT ]])*(Tableau1[DATE FIN]>='2018'!B15),0),1),""))} | Q15: ARMISTICE 1918 | R15: =DATE(Q2,11,11) -> 43415
A16: =A15+1 -> 42749 | B16: =B15+1 -> 43114 | E16: =MOD(D16-C16,1) -> 0 | H16: =MOD(G16-F16,1) -> 0 | J16: =SUM(E16+H16) -> 0 | K16: =IFERROR(VLOOKUP(M16,EMPLOI!A:R,2,0),"") | L16: =IF(WEEKDAY(B16)=7,SUM(OFFSET(B16,0,8,-7,1)),"") | M16: {=IF(OR($K$2>J16),"",IFERROR(INDEX(Tableau1[],MATCH(1,('2018'!B16>=Tableau1[[DATE DEBUT ]])*(Tableau1[DATE FIN]>='2018'!B16),0),1),""))} | Q16: NOËL | R16: =DATE(Q2,12,25) -> 43459
A17: =A16+1 -> 42750 | B17: =B16+1 -> 43115 | E17: =MOD(D17-C17,1) -> 0 | H17: =MOD(G17-F17,1) -> 0 | J17: =SUM(E17+H17) -> 0 | K17: =IFERROR(VLOOKUP(M17,EMPLOI!A:R,2,0),"") | L17: =IF(WEEKDAY(B17)=7,SUM(OFFSET(B17,0,8,-7,1)),"") | M17: {=IF(OR($K$2>J17),"",IFERROR(INDEX(Tableau1[],MATCH(1,('2018'!B17>=Tableau1[[DATE DEBUT ]])*(Tableau1[DATE FIN]>='2018'!B17),0),1),""))}
A18: =A17+1 -> 42751 | B18: =B17+1 -> 43116 | E18: =MOD(D18-C18,1) -> 0 | H18: =MOD(G18-F18,1) -> 0 | J18: =SUM(E18+H18) -> 0 | K18: =IFERROR(VLOOKUP(M18,EMPLOI!A:R,2,0),"") | L18: =IF(WEEKDAY(B18)=7,SUM(OFFSET(B18,0,8,-7,1)),"") | M18: {=IF(OR($K$2>J18),"",IFERROR(INDEX(Tableau1[],MATCH(1,('2018'!B18>=Tableau1[[DATE DEBUT ]])*(Tableau1[DATE FIN]>='2018'!B18),0),1),""))} | Q18: Mardi-Gras | R18: =R5-47 -> 43144
A19: =A18+1 -> 42752 | B19: =B18+1 -> 43117 | E19: =MOD(D19-C19,1) -> 0 | H19: =MOD(G19-F19,1) -> 0 | J19: =SUM(E19+H19) -> 0 | K19: =IFERROR(VLOOKUP(M19,EMPLOI!A:R,2,0),"") | L19: =IF(WEEKDAY(B19)=7,SUM(OFFSET(B19,0,8,-7,1)),"") | M19: {=IF(OR($K$2>J19),"",IFERROR(INDEX(Tableau1[],MATCH(1,('2018'!B19>=Tableau1[[DATE DEBUT ]])*(Tableau1[DATE FIN]>='2018'!B19),0),1),""))} | Q19: Cendres | R19: =R5-46 -> 43145
A20: =A19+1 -> 42753 | B20: =B19+1 -> 43118 | E20: =MOD(D20-C20,1) -> 0 | H20: =MOD(G20-F20,1) -> 0 | J20: =SUM(E20+H20) -> 0 | K20: =IFERROR(VLOOKUP(M20,EMPLOI!A:R,2,0),"") | L20: =IF(WEEKDAY(B20)=7,SUM(OFFSET(B20,0,8,-7,1)),"") | M20: {=IF(OR($K$2>J20),"",IFERROR(INDEX(Tableau1[],MATCH(1,('2018'!B20>=Tableau1[[DATE DEBUT ]])*(Tableau1[DATE FIN]>='2018'!B20),0),1),""))} | Q20: Rameaux | R20: =R5-7 -> 43184
A21: =A20+1 -> 42754 | B21: =B20+1 -> 43119 | E21: =MOD(D21-C21,1) -> 0 | H21: =MOD(G21-F21,1) -> 0 | J21: =SUM(E21+H21) -> 0 | K21: =IFERROR(VLOOKUP(M21,EMPLOI!A:R,2,0),"") | L21: =IF(WEEKDAY(B21)=7,SUM(OFFSET(B21,0,8,-7,1)),"") | M21: {=IF(OR($K$2>J21),"",IFERROR(INDEX(Tableau1[],MATCH(1,('2018'!B21>=Tableau1[[DATE DEBUT ]])*(Tableau1[DATE FIN]>='2018'!B21),0),1),""))}
A22: =A21+1 -> 42755 | B22: =B21+1 -> 43120 | E22: =MOD(D22-C22,1) -> 0 | H22: =MOD(G22-F22,1) -> 0 | J22: =SUM(E22+H22) -> 0 | K22: =IFERROR(VLOOKUP(M22,EMPLOI!A:R,2,0),"") | L22: =IF(WEEKDAY(B22)=7,SUM(OFFSET(B22,0,8,-7,1)),"") -> 0 | M22: {=IF(OR($K$2>J22),"",IFERROR(INDEX(Tableau1[],MATCH(1,('2018'!B22>=Tableau1[[DATE DEBUT ]])*(Tableau1[DATE FIN]>='2018'!B22),0),1),""))} | Q22: Epiphanie | R22: =DATE(Q2,1,1)+7-WEEKDAY(DATE(Q2,1,1),2) -> 43107
A23: =A22+1 -> 42756 | B23: =B22+1 -> 43121 | E23: =MOD(D23-C23,1) -> 0 | H23: =MOD(G23-F23,1) -> 0 | J23: =SUM(E23+H23) -> 0 | K23: =IFERROR(VLOOKUP(M23,EMPLOI!A:R,2,0),"") | L23: =IF(WEEKDAY(B23)=7,SUM(OFFSET(B23,0,8,-7,1)),"") | M23: {=IF(OR($K$2>J23),"",IFERROR(INDEX(Tableau1[],MATCH(1,('2018'!B23>=Tableau1[[DATE DEBUT ]])*(Tableau1[DATE FIN]>='2018'!B23),0),1),""))}
A24: =A23+1 -> 42757 | B24: =B23+1 -> 43122 | E24: =MOD(D24-C24,1) -> 0 | H24: =MOD(G24-F24,1) -> 0 | J24: =SUM(E24+H24) -> 0 | K24: =IFERROR(VLOOKUP(M24,EMPLOI!A:R,2,0),"") | L24: =IF(WEEKDAY(B24)=7,SUM(OFFSET(B24,0,8,-7,1)),"") | M24: {=IF(OR($K$2>J24),"",IFERROR(INDEX(Tableau1[],MATCH(1,('2018'!B24>=Tableau1[[DATE DEBUT ]])*(Tableau1[DATE FIN]>='2018'!B24),0),1),""))} | Q24: Fête Dieu | R24: =R5+63 -> 43254
A25: =A24+1 -> 42758 | B25: =B24+1 -> 43123 | E25: =MOD(D25-C25,1) -> 0 | H25: =MOD(G25-F25,1) -> 0 | J25: =SUM(E25+H25) -> 0 | K25: =IFERROR(VLOOKUP(M25,EMPLOI!A:R,2,0),"") | L25: =IF(WEEKDAY(B25)=7,SUM(OFFSET(B25,0,8,-7,1)),"") | M25: {=IF(OR($K$2>J25),"",IFERROR(INDEX(Tableau1[],MATCH(1,('2018'!B25>=Tableau1[[DATE DEBUT ]])*(Tableau1[DATE FIN]>='2018'!B25),0),1),""))}
A26: =A25+1 -> 42759 | B26: =B25+1 -> 43124 | E26: =MOD(D26-C26,1) -> 0 | H26: =MOD(G26-F26,1) -> 0 | J26: =SUM(E26+H26) -> 0 | K26: =IFERROR(VLOOKUP(M26,EMPLOI!A:R,2,0),"") | L26: =IF(WEEKDAY(B26)=7,SUM(OFFSET(B26,0,8,-7,1)),"") | M26: {=IF(OR($K$2>J26),"",IFERROR(INDEX(Tableau1[],MATCH(1,('2018'!B26>=Tableau1[[DATE DEBUT ]])*(Tableau1[DATE FIN]>='2018'!B26),0),1),""))}
A27: =A26+1 -> 42760 | B27: =B26+1 -> 43125 | E27: =MOD(D27-C27,1) -> 0 | H27: =MOD(G27-F27,1) -> 0 | J27: =SUM(E27+H27) -> 0 | K27: =IFERROR(VLOOKUP(M27,EMPLOI!A:R,2,0),"") | L27: =IF(WEEKDAY(B27)=7,SUM(OFFSET(B27,0,8,-7,1)),"") | M27: {=IF(OR($K$2>J27),"",IFERROR(INDEX(Tableau1[],MATCH(1,('2018'!B27>=Tableau1[[DATE DEBUT ]])*(Tableau1[DATE FIN]>='2018'!B27),0),1),""))}
A28: =A27+1 -> 42761 | B28: =B27+1 -> 43126 | E28: =MOD(D28-C28,1) -> 0 | H28: =MOD(G28-F28,1) -> 0 | J28: =SUM(E28+H28) -> 0 | K28: =IFERROR(VLOOKUP(M28,EMPLOI!A:R,2,0),"") | L28: =IF(WEEKDAY(B28)=7,SUM(OFFSET(B28,0,8,-7,1)),"") | M28: {=IF(OR($K$2>J28),"",IFERROR(INDEX(Tableau1[],MATCH(1,('2018'!B28>=Tableau1[[DATE DEBUT ]])*(Tableau1[DATE FIN]>='2018'!B28),0),1),""))}
A29: =A28+1 -> 42762 | B29: =B28+1 -> 43127 | E29: =MOD(D29-C29,1) -> 0 | H29: =MOD(G29-F29,1) -> 0 | J29: =SUM(E29+H29) -> 0 | K29: =IFERROR(VLOOKUP(M29,EMPLOI!A:R,2,0),"") | L29: =IF(WEEKDAY(B29)=7,SUM(OFFSET(B29,0,8,-7,1)),"") -> 0 | M29: {=IF(OR($K$2>J29),"",IFERROR(INDEX(Tableau1[],MATCH(1,('2018'!B29>=Tableau1[[DATE DEBUT ]])*(Tableau1[DATE FIN]>='2018'!B29),0),1),""))}
A30: =A29+1 -> 42763 | B30: =B29+1 -> 43128 | E30: =MOD(D30-C30,1) -> 0 | H30: =MOD(G30-F30,1) -> 0 | J30: =SUM(E30+H30) -> 0 | K30: =IFERROR(VLOOKUP(M30,EMPLOI!A:R,2,0),"") | L30: =IF(WEEKDAY(B30)=7,SUM(OFFSET(B30,0,8,-7,1)),"") | M30: {=IF(OR($K$2>J30),"",IFERROR(INDEX(Tableau1[],MATCH(1,('2018'!B30>=Tableau1[[DATE DEBUT ]])*(Tableau1[DATE FIN]>='2018'!B30),0),1),""))}
A31: =A30+1 -> 42764 | B31: =B30+1 -> 43129 | E31: =MOD(D31-C31,1) -> 0 | H31: =MOD(G31-F31,1) -> 0 | J31: =SUM(E31+H31) -> 0 | K31: =IFERROR(VLOOKUP(M31,EMPLOI!A:R,2,0),"") | L31: =IF(WEEKDAY(B31)=7,SUM(OFFSET(B31,0,8,-7,1)),"") | M31: {=IF(OR($K$2>J31),"",IFERROR(INDEX(Tableau1[],MATCH(1,('2018'!B31>=Tableau1[[DATE DEBUT ]])*(Tableau1[DATE FIN]>='2018'!B31),0),1),""))}
A32: =A31+1 -> 42765 | B32: =B31+1 -> 43130 | E32: =MOD(D32-C32,1) -> 0 | H32: =MOD(G32-F32,1) -> 0 | J32: =SUM(E32+H32) -> 0 | K32: =IFERROR(VLOOKUP(M32,EMPLOI!A:R,2,0),"") | L32: =IF(WEEKDAY(B32)=7,SUM(OFFSET(B32,0,8,-7,1)),"") | M32: {=IF(OR($K$2>J32),"",IFERROR(INDEX(Tableau1[],MATCH(1,('2018'!B32>=Tableau1[[DATE DEBUT ]])*(Tableau1[DATE FIN]>='2018'!B32),0),1),""))}
A33: =A32+1 -> 42766 | B33: =B32+1 -> 43131 | E33: =MOD(D33-C33,1) -> 0 | H33: =MOD(G33-F33,1) -> 0 | J33: =SUM(E33+H33) -> 0 | K33: =IFERROR(VLOOKUP(M33,EMPLOI!A:R,2,0),"") | L33: =IF(WEEKDAY(B33)=7,SUM(OFFSET(B33,0,8,-7,1)),"") | M33: {=IF(OR($K$2>J33),"",IFERROR(INDEX(Tableau1[],MATCH(1,('2018'!B33>=Tableau1[[DATE DEBUT ]])*(Tableau1[DATE FIN]>='2018'!B33),0),1),""))}
A34: =A33+1 -> 42767 | B34: =B33+1 -> 43132 | E34: =MOD(D34-C34,1) -> 0 | H34: =MOD(G34-F34,1) -> 0 | J34: =SUM(E34+H34) -> 0 | K34: =IFERROR(VLOOKUP(M34,EMPLOI!A:R,2,0),"") | L34: =IF(WEEKDAY(B34)=7,SUM(OFFSET(B34,0,8,-7,1)),"") | M34: {=IF(OR($K$2>J34),"",IFERROR(INDEX(Tableau1[],MATCH(1,('2018'!B34>=Tableau1[[DATE DEBUT ]])*(Tableau1[DATE FIN]>='2018'!B34),0),1),""))}
A35: =A34+1 -> 42768 | B35: =B34+1 -> 43133 | E35: =MOD(D35-C35,1) -> 0 | H35: =MOD(G35-F35,1) -> 0 | J35: =SUM(E35+H35) -> 0 | K35: =IFERROR(VLOOKUP(M35,EMPLOI!A:R,2,0),"") | L35: =IF(WEEKDAY(B35)=7,SUM(OFFSET(B35,0,8,-7,1)),"") | M35: {=IF(OR($K$2>J35),"",IFERROR(INDEX(Tableau1[],MATCH(1,('2018'!B35>=Tableau1[[DATE DEBUT ]])*(Tableau1[DATE FIN]>='2018'!B35),0),1),""))}
A36: =A35+1 -> 42769 | B36: =B35+1 -> 43134 | E36: =MOD(D36-C36,1) -> 0 | H36: =MOD(G36-F36,1) -> 0 | J36: =SUM(E36+H36) -> 0 | K36: =IFERROR(VLOOKUP(M36,EMPLOI!A:R,2,0),"") | L36: =IF(WEEKDAY(B36)=7,SUM(OFFSET(B36,0,8,-7,1)),"") -> 0 | M36: {=IF(OR($K$2>J36),"",IFERROR(INDEX(Tableau1[],MATCH(1,('2018'!B36>=Tableau1[[DATE DEBUT ]])*(Tableau1[DATE FIN]>='2018'!B36),0),1),""))}
... A174: =A173+1 -> 42907 | B174: =B173+1 -> 43272 | E174: =MOD(D174-C174,1) -> 0 | H174: =MOD(G174-F174,1) -> 0 | J174: =SUM(E174+H174) -> 0 | K174: =IFERROR(VLOOKUP(M174,EMPLOI!A:R,2,0),"") | L174: =IF(WEEKDAY(B174)=7,SUM(OFFSET(B174,0,8,-7,1)),"") | M174: {=IF(OR($K$2>J174),"",IFERROR(INDEX(Tableau1[],MATCH(1,('2018'!B174>=Tableau1[[DATE DEBUT ]])*(Tableau1[DATE FIN]>='2018'!B174),0),1),""))}
A175: =A174+1 -> 42908 | B175: =B174+1 -> 43273 | C175: 0.29166667 | D175: 0.5 | E175: =MOD(D175-C175,1) -> 0.20833333 | F175: 0.54166667 | G175: 0.79166667 | H175: =MOD(G175-F175,1) -> 0.25 | I175: 1 | J175: =SUM(E175+H175) -> 0.45833333 | K175: =IFERROR(VLOOKUP(M175,EMPLOI!A:R,2,0),"") -> ?? | L175: =IF(WEEKDAY(B175)=7,SUM(OFFSET(B175,0,8,-7,1)),"") | M175: {=IF(OR($K$2>J175),"",IFERROR(INDEX(Tableau1[],MATCH(1,('2018'!B175>=Tableau1[[DATE DEBUT ]])*(Tableau1[DATE FIN]>='2018'!B175),0),1),""))} -> D
A176: =A175+1 -> 42909 | B176: =B175+1 -> 43274 | E176: =MOD(D176-C176,1) -> 0 | H176: =MOD(G176-F176,1) -> 0 | J176: =SUM(E176+H176) -> 0 | K176: =IFERROR(VLOOKUP(M176,EMPLOI!A:R,2,0),"") | L176: =IF(WEEKDAY(B176)=7,SUM(OFFSET(B176,0,8,-7,1)),"") -> 0.45833333 | M176: {=IF(OR($K$2>J176),"",IFERROR(INDEX(Tableau1[],MATCH(1,('2018'!B176>=Tableau1[[DATE DEBUT ]])*(Tableau1[DATE FIN]>='2018'!B176),0),1),""))}
A177: =A176+1 -> 42910 | B177: =B176+1 -> 43275 | E177: =MOD(D177-C177,1) -> 0 | H177: =MOD(G177-F177,1) -> 0 | J177: =SUM(E177+H177) -> 0 | K177: =IFERROR(VLOOKUP(M177,EMPLOI!A:R,2,0),"") | L177: =IF(WEEKDAY(B177)=7,SUM(OFFSET(B177,0,8,-7,1)),"") | M177: {=IF(OR($K$2>J177),"",IFERROR(INDEX(Tableau1[],MATCH(1,('2018'!B177>=Tableau1[[DATE DEBUT ]])*(Tableau1[DATE FIN]>='2018'!B177),0),1),""))}
...

Sheet EMPLOI
A1: NOM ENTREPRISE | B1: Km A/R | C1: DATE DEBUT | D1: DATE FIN | E1: NOMBRES JOURS | F1: NOMBRES HEURES | G1: Km Total Période | H1: JOUR NUIT | I1: AGENCE | J1: BASE TAUX HORAIRE | K1: PRIME HORAIRE 1 | L1: PRIME HORAIRE 2 | M1: PRIME HORAIRE 3 | N1: PANIER JOUR 1 | O1: PANIER JOUR 2 | P1: PANIER JOUR 3
E2: =SUMPRODUCT((INDIRECT(YEAR(Tableau1[[#This Row],[DATE DEBUT ]])&"!$M$3:$M$368")=EMPLOI!A2)*(INDIRECT(YEAR(Tableau1[[#This Row],[DATE DEBUT ]])&"!$A$3:$A$368")>=EMPLOI!C2)*(INDIRECT(YEAR(Tableau1[[#This Row],[DATE FIN]])&"!$A$3:$A$368")<=EMPLOI!$D2)) -> #REF! | F2: =SUMPRODUCT((INDIRECT(YEAR(Tableau1[[#This Row],[DATE DEBUT ]])&"!$A$3:$A$368")>=EMPLOI!C2)*(INDIRECT(YEAR(Tableau1[[#This Row],[DATE FIN]])&"!$A$3:$A$368")<=EMPLOI!$D2)*INDIRECT(YEAR(Tableau1[[#This Row],[DATE DEBUT ]])&"!$I$3:$I$368")) -> #REF! | G2: =Tableau1[[#This Row],[Km A/R]]*Tableau1[[#This Row],[NOMBRES JOURS]] -> #REF! | L2: =0.976*2 -> 1.952
A3: D | B3: ?? | C3: 43273 | D3: 43343 | E3: =SUMPRODUCT((INDIRECT(YEAR(Tableau1[[#This Row],[DATE DEBUT ]])&"!$M$3:$M$368")=EMPLOI!A3)*(INDIRECT(YEAR(Tableau1[[#This Row],[DATE DEBUT ]])&"!$A$3:$A$368")>=EMPLOI!C3)*(INDIRECT(YEAR(Tableau1[[#This Row],[DATE FIN]])&"!$A$3:$A$368")<=EMPLOI!$D3)) -> 0 | F3: =SUMPRODUCT((INDIRECT(YEAR(Tableau1[[#This Row],[DATE DEBUT ]])&"!$A$3:$A$368")>=EMPLOI!C3)*(INDIRECT(YEAR(Tableau1[[#This Row],[DATE FIN]])&"!$A$3:$A$368")<=EMPLOI!$D3)*INDIRECT(YEAR(Tableau1[[#This Row],[DATE DEBUT ]])&"!$I$3:$I$368")) -> #VALUE! | G3: =Tableau1[[#This Row],[Km A/R]]*Tableau1[[#This Row],[NOMBRES JOURS]] -> #VALUE! | L3: =0.976*2 -> 1.952
A4: C | B4: 79.4 | C4: 42975 | D4: 42979 | E4: =SUMPRODUCT((INDIRECT(YEAR(Tableau1[[#This Row],[DATE DEBUT ]])&"!$M$3:$M$368")=EMPLOI!A4)*(INDIRECT(YEAR(Tableau1[[#This Row],[DATE DEBUT ]])&"!$A$3:$A$368")>=EMPLOI!C4)*(INDIRECT(YEAR(Tableau1[[#This Row],[DATE FIN]])&"!$A$3:$A$368")<=EMPLOI!$D4)) -> 3 | F4: =SUMPRODUCT((INDIRECT(YEAR(Tableau1[[#This Row],[DATE DEBUT ]])&"!$A$3:$A$368")>=EMPLOI!C4)*(INDIRECT(YEAR(Tableau1[[#This Row],[DATE FIN]])&"!$A$3:$A$368")<=EMPLOI!$D4)*INDIRECT(YEAR(Tableau1[[#This Row],[DATE DEBUT ]])&"!$J$3:$J$368")) -> 0.95833333 | G4: =Tableau1[[#This Row],[Km A/R]]*Tableau1[[#This Row],[NOMBRES JOURS]] -> 238.2 | H4: N | I4: 1 | J4: 9.76 | K4: 2 | L4: =0.976*2 -> 1.952 | N4: 6.4 | O4: 1.58
A5: C | B5: 79.4 | C5: 42926 | D5: 42951 | E5: =SUMPRODUCT((INDIRECT(YEAR(Tableau1[[#This Row],[DATE DEBUT ]])&"!$M$3:$M$368")=EMPLOI!A5)*(INDIRECT(YEAR(Tableau1[[#This Row],[DATE DEBUT ]])&"!$A$3:$A$368")>=EMPLOI!C5)*(INDIRECT(YEAR(Tableau1[[#This Row],[DATE FIN]])&"!$A$3:$A$368")<=EMPLOI!$D5)) -> 19 | F5: =SUMPRODUCT((INDIRECT(YEAR(Tableau1[[#This Row],[DATE DEBUT ]])&"!$A$3:$A$368")>=EMPLOI!C5)*(INDIRECT(YEAR(Tableau1[[#This Row],[DATE FIN]])&"!$A$3:$A$368")<=EMPLOI!$D5)*INDIRECT(YEAR(Tableau1[[#This Row],[DATE DEBUT ]])&"!$J$3:$J$368")) -> 5.5833333 | G5: =Tableau1[[#This Row],[Km A/R]]*Tableau1[[#This Row],[NOMBRES JOURS]] -> 1508.6 | H5: N | I5: 1 | J5: 9.76 | K5: 2 | N5: 6.4 | O5: 1.58
A6: B | B6: 79.7 | C6: 42858 | D6: 42916 | E6: =SUMPRODUCT((INDIRECT(YEAR(Tableau1[[#This Row],[DATE DEBUT ]])&"!$M$3:$M$368")=EMPLOI!A6)*(INDIRECT(YEAR(Tableau1[[#This Row],[DATE DEBUT ]])&"!$A$3:$A$368")>=EMPLOI!C6)*(INDIRECT(YEAR(Tableau1[[#This Row],[DATE FIN]])&"!$A$3:$A$368")<=EMPLOI!$D6)) -> 39 | F6: =SUMPRODUCT((INDIRECT(YEAR(Tableau1[[#This Row],[DATE DEBUT ]])&"!$A$3:$A$368")>=EMPLOI!C6)*(INDIRECT(YEAR(Tableau1[[#This Row],[DATE FIN]])&"!$A$3:$A$368")<=EMPLOI!$D6)*INDIRECT(YEAR(Tableau1[[#This Row],[DATE DEBUT ]])&"!$J$3:$J$368")) -> 12.170139 | G6: =Tableau1[[#This Row],[Km A/R]]*Tableau1[[#This Row],[NOMBRES JOURS]] -> 3108.3 | H6: J | I6: 1 | J6: 9.76 | K6: 0.81 | N6: 6.4
A7: A | B7: 70.6 | C7: 42829 | D7: 42832 | E7: =SUMPRODUCT((INDIRECT(YEAR(Tableau1[[#This Row],[DATE DEBUT ]])&"!$M$3:$M$368")=EMPLOI!A7)*(INDIRECT(YEAR(Tableau1[[#This Row],[DATE DEBUT ]])&"!$A$3:$A$368")>=EMPLOI!C7)*(INDIRECT(YEAR(Tableau1[[#This Row],[DATE FIN]])&"!$A$3:$A$368")<=EMPLOI!$D7)) -> 4 | F7: =SUMPRODUCT((INDIRECT(YEAR(Tableau1[[#This Row],[DATE DEBUT ]])&"!$A$3:$A$368")>=EMPLOI!C7)*(INDIRECT(YEAR(Tableau1[[#This Row],[DATE FIN]])&"!$A$3:$A$368")<=EMPLOI!$D7)*INDIRECT(YEAR(Tableau1[[#This Row],[DATE DEBUT ]])&"!$J$3:$J$368")) -> 1.1666667 | G7: =Tableau1[[#This Row],[Km A/R]]*Tableau1[[#This Row],[NOMBRES JOURS]] -> 282.4 | H7: J | I7: 1 | J7: 9.76

Sheet Calcul Salaire
A1: ANNEE | B1: =IFERROR(YEAR(C2),"") -> 2017 | H1: NOMBRE JOUR TRAVAILLER | I1: {=SUMPRODUCT((INDIRECT(YEAR(C2)&"!$M$2:$M$368")=B3)*(INDIRECT(YEAR(C2)&"!$A$2:$A$368")>=C2)*(INDIRECT(YEAR(F2)&"!$A$2:$A$368")<=$F2))} -> 0
A2: PERIODE | B2: du | C2: 42917 | E2: au | F2: =EOMONTH(C2,0) -> 42947
A3: ENTREPRISE | B3: T.N.T. | H3: NOMBRE HEURES TRAVAILLER | I3: {=SUMPRODUCT((INDIRECT(YEAR(C2)&"!$A$3:$A$368")>=C2)*(INDIRECT(YEAR(F2)&"!$A$3:$A$368")<=F2)*INDIRECT(YEAR(C2)&"!$J$3:$J$368"))} -> 4.4166667 | L3: =IF(OR($B$1>0),"",IFERROR(INDEX(,MATCH(1,(C2)*(F2),0),1),""))
A4: AGENCE | B4: =IFERROR(VLOOKUP(B3,EMPLOI!A5:N7,9),"") -> 1
A6: Taux HORAIRE | C6: =IFERROR(VLOOKUP($B$3,EMPLOI!A:R,10,0),"") | F6: =IF(IFERROR(C6>0,""),$I$3*24,"") -> 106 | H6: =C6*F6 -> #VALUE! | L6: =EOMONTH(C2,0) -> 42947
A8: Prime Horaire 1 | C8: =IFERROR(VLOOKUP($B$3,EMPLOI!A:R,11,0),"") | F8: =IF(IFERROR(C8>0,"0"),$I$3*24,"0") -> 106 | H8: =C8*F8 -> #VALUE!
A9: Prime Horaire 2 | C9: =IFERROR(VLOOKUP($B$3,EMPLOI!A:R,12,0),"") | F9: =IF(IFERROR(C9>0,"0"),$I$3*24,"0") -> 106 | H9: =C9*F9 -> #VALUE!
A10: Prime Horaire 3 | C10: =IFERROR(VLOOKUP($B$3,EMPLOI!A:R,13,0),"") | F10: =IF(IFERROR(C10>0,"0"),$I$3*24,"0") -> 106 | H10: =C10*F10 -> #VALUE!
A12: Prime Jour 1 | C12: =IFERROR(VLOOKUP($B$3,EMPLOI!A:R,14,0),"") | F12: =IF(IFERROR(C12>0,""),$I$1,"0") -> 0 | H12: =C12*F12 -> #VALUE!
A13: Prime Jour 2 | C13: =IFERROR(VLOOKUP($B$3,EMPLOI!A:R,15,0),"") | F13: =IF(IFERROR(C13>0,""),$I$1,"0") -> 0 | H13: =C13*F13 -> #VALUE!
A14: Prime Jour 3 | C14: =IFERROR(VLOOKUP($B$3,EMPLOI!A:R,16,0),"") | F14: =IF(IFERROR(C14>0,""),$I$1,"0") -> 0 | H14: =C14*F14 -> #VALUE!
A16: Prime Exceptionnel | C16: 50 | F16: 1 | H16: =C16*F16 -> 50
A17: MAJ Jour Férié | C17: 9.76 | F17: 8 | H17: =C17*F17 -> 78.08
A19: SOUS TOTAL | H19: =SUM(H6:H16) -> #VALUE!

Sheet Km
B1: 1 | D1: 95 | F1: 99 | H1: 104 | J1: 108 | L1: 111 | N1: 113 | P1: 114/15
B2: A | C2: R | D2: A | E2: R | F2: A | G2: R | H2: A | I2: R | J2: A | K2: R | L2: A | M2: R | N2: A | O2: R | P2: A | Q2: R
A4: D | B4: 13 | C4: 13 | D4: 14.5 | E4: 14.5 | F4: 2.2 | G4: 2.2 | H4: 6.4 | I4: 6.8
A5: =EMPLOI!A4 -> C | B5: 39.7 | C5: 39.7
A6: =EMPLOI!A5 -> C | B6: 39.7 | C6: 39.7
A7: =EMPLOI!A6 -> B | B7: 39.9 | C7: 39.8
A8: =EMPLOI!A7 -> A | B8: 35.3 | C8: 35.3
