Workbook
Name Année: '[1]2 Enfants'!$B$10
Name ENTREPRISE: EMPLOI!$A$5:$A3
Name Férié: Année!$AL$3:$AL$15
Name Fêtes: Année!$AL$17:$AL$21
Name JourCalculé: " =Feuil1!$B$10-JOURSEM(Feuil1!$B$10;3)+((LIGNE()-LIGNE(Feuil1!$AF$7))*7)+COLONNE()-COLONNE(Feuil1!$AF$7)"

Sheet Année
AG1: =TODAY() -> 43273 | AK1: =A5 -> 2017
AK2: Jours Fériés et Fêtes
A3: Année | B3: TOTAL HEURES | H3: =SUM(AG8:AG42) -> 19.878472 | L3: TOTAL JOURS | R3: =SUM(AH8:AH42) -> 65 | U3: TOTAL TRAJET | AA3: =SUM(AI8:AI42) -> 5137.5 | AE3: Km | AG3: =NOW() -> 43273.796 | AK3: JOUR DE L'AN | AL3: =DATE(AK1,1,1) -> 42736
AK4: PÂQUES | AL4: =FLOOR(DATE(AK1,5,DAY(MINUTE(AK1/38)/2+56)),7)-34+7*(AK1=2079) -> 42841
A5: 2017 | B5: Semaine Num | F5: =WEEKNUM(AG1) -> 25 | K5: =TODAY()-DATE(YEAR(TODAY()),1,0) -> 173 | N5: ième jour | S5: Jour Restant | V5: =DATEDIF(AG1,AF40,"d") -> #NUM! | Z5: Fin mois dans | AD5: =DATE(YEAR($AG$1),MONTH($AG$1)+1,0)-$AG$1 -> 8 | AE5: Jours | AG5: Heures Travaillées | AH5: Jours Travaillées | AI5: Km | AK5: *Lundi de Pâques | AL5: =AL4+1 -> 42842
B6: 1 | C6: 2 | D6: 3 | E6: 4 | F6: 5 | G6: 6 | H6: 7 | I6: 8 | J6: 9 | K6: 10 | L6: 11 | M6: 12 | N6: 13 | O6: 14 | P6: 15 | Q6: 16 | R6: 17 | S6: 18 | T6: 19 | U6: 20 | V6: 21 | W6: 22 | X6: 23 | Y6: 24 | Z6: 25 | AA6: 26 | AB6: 27 | AC6: 28 | AD6: 29 | AE6: 30 | AF6: 31 | AK6: FÊTE DU TRAVAIL | AL6: =DATE(Année!U4,5,1) -> 122
A7: Janvier | B7: =DATE($A$5,1,1) -> 42736 | C7: =B7+1 -> 42737 | D7: =C7+1 -> 42738 | E7: =D7+1 -> 42739 | F7: =E7+1 -> 42740 | G7: =F7+1 -> 42741 | H7: =G7+1 -> 42742 | I7: =H7+1 -> 42743 | J7: =I7+1 -> 42744 | ... AF7: =AE7+1 -> 42766 | AK7: ASCENSION | AL7: =AL4+39 -> 42880
B8: =IFERROR(VLOOKUP(B$7,INDIRECT("'"&$A$5&"'!$A:$L"),10,FALSE),"") -> 0 | C8: =IFERROR(VLOOKUP(C$7,INDIRECT("'"&$A$5&"'!$A:$L"),10,FALSE),"") -> 0 | D8: =IFERROR(VLOOKUP(D$7,INDIRECT("'"&$A$5&"'!$A:$L"),10,FALSE),"") -> 0 | E8: =IFERROR(VLOOKUP(E$7,INDIRECT("'"&$A$5&"'!$A:$L"),10,FALSE),"") -> 0 | F8: =IFERROR(VLOOKUP(F$7,INDIRECT("'"&$A$5&"'!$A:$L"),10,FALSE),"") -> 0 | G8: =IFERROR(VLOOKUP(G$7,INDIRECT("'"&$A$5&"'!$A:$L"),10,FALSE),"") -> 0 | H8: =IFERROR(VLOOKUP(H$7,INDIRECT("'"&$A$5&"'!$A:$L"),10,FALSE),"") -> 0 | I8: =IFERROR(VLOOKUP(I$7,INDIRECT("'"&$A$5&"'!$A:$L"),10,FALSE),"") -> 0 | ... AF8: =IFERROR(VLOOKUP(AF$7,INDIRECT("'"&$A$5&"'!$A:$L"),10,FALSE),"") -> 0 | AG8: =SUM(B8:AF8) -> 0 | AH8: =COUNTIF(B8:AF8,">"&0) -> 0 | AI8: =SUM(B9:AF9) -> 0 | AK8: VICTOIRE 1945 | AL8: =DATE(AK1,5,8) -> 42863
B9: =IFERROR(VLOOKUP(B$7,INDIRECT("'"&$A$5&"'!$A:$L"),11,FALSE),"") | C9: =IFERROR(VLOOKUP(C$7,INDIRECT("'"&$A$5&"'!$A:$L"),11,FALSE),"") | D9: =IFERROR(VLOOKUP(D$7,INDIRECT("'"&$A$5&"'!$A:$L"),11,FALSE),"") | E9: =IFERROR(VLOOKUP(E$7,INDIRECT("'"&$A$5&"'!$A:$L"),11,FALSE),"") | F9: =IFERROR(VLOOKUP(F$7,INDIRECT("'"&$A$5&"'!$A:$L"),11,FALSE),"") | G9: =IFERROR(VLOOKUP(G$7,INDIRECT("'"&$A$5&"'!$A:$L"),11,FALSE),"") | H9: =IFERROR(VLOOKUP(H$7,INDIRECT("'"&$A$5&"'!$A:$L"),11,FALSE),"") | I9: =IFERROR(VLOOKUP(I$7,INDIRECT("'"&$A$5&"'!$A:$L"),11,FALSE),"") | ... AF9: =IFERROR(VLOOKUP(AF$7,INDIRECT("'"&$A$5&"'!$A:$L"),11,FALSE),"") | AK9: PENTECÔTE | AL9: =AL4+49 -> 42890
A10: Février | B10: =DATE($A$5,2,1) -> 42767 | C10: =B10+1 -> 42768 | D10: =C10+1 -> 42769 | E10: =D10+1 -> 42770 | F10: =E10+1 -> 42771 | G10: =F10+1 -> 42772 | H10: =G10+1 -> 42773 | I10: =H10+1 -> 42774 | J10: =I10+1 -> 42775 | ... AC10: =AB10+1 -> 42794 | AD10: =IF(OR(MONTH(AC10+1)<>MONTH(AC10),AC10+1>=B13),0,AC10+1) -> 0 | AK10: *Lundi de Pentecôte | AL10: =AL4+50 -> 42891
B11: =IFERROR(VLOOKUP(B$10,INDIRECT("'"&$A$5&"'!$A:$L"),10,FALSE),"") -> 0 | C11: =IFERROR(VLOOKUP(C$10,INDIRECT("'"&$A$5&"'!$A:$L"),10,FALSE),"") -> 0 | D11: =IFERROR(VLOOKUP(D$10,INDIRECT("'"&$A$5&"'!$A:$L"),10,FALSE),"") -> 0 | E11: =IFERROR(VLOOKUP(E$10,INDIRECT("'"&$A$5&"'!$A:$L"),10,FALSE),"") -> 0 | F11: =IFERROR(VLOOKUP(F$10,INDIRECT("'"&$A$5&"'!$A:$L"),10,FALSE),"") -> 0 | G11: =IFERROR(VLOOKUP(G$10,INDIRECT("'"&$A$5&"'!$A:$L"),10,FALSE),"") -> 0 | H11: =IFERROR(VLOOKUP(H$10,INDIRECT("'"&$A$5&"'!$A:$L"),10,FALSE),"") -> 0 | I11: =IFERROR(VLOOKUP(I$10,INDIRECT("'"&$A$5&"'!$A:$L"),10,FALSE),"") -> 0 | ... AD11: =IFERROR(VLOOKUP(AD$10,INDIRECT("'"&$A$5&"'!$A:$L"),10,FALSE),"") | AG11: =SUM(B11:AF11) -> 0 | AH11: =COUNTIF(B11:AF11,">"&0) -> 0 | AI11: =SUM(B12:AF12) -> 0 | AK11: FÊTE NAT | AL11: =DATE(AK1,7,14) -> 42930
B12: =IFERROR(VLOOKUP(B$10,INDIRECT("'"&$A$5&"'!$A:$L"),11,FALSE),"") | C12: =IFERROR(VLOOKUP(C$10,INDIRECT("'"&$A$5&"'!$A:$L"),11,FALSE),"") | D12: =IFERROR(VLOOKUP(D$10,INDIRECT("'"&$A$5&"'!$A:$L"),11,FALSE),"") | E12: =IFERROR(VLOOKUP(E$10,INDIRECT("'"&$A$5&"'!$A:$L"),11,FALSE),"") | F12: =IFERROR(VLOOKUP(F$10,INDIRECT("'"&$A$5&"'!$A:$L"),11,FALSE),"") | G12: =IFERROR(VLOOKUP(G$10,INDIRECT("'"&$A$5&"'!$A:$L"),11,FALSE),"") | H12: =IFERROR(VLOOKUP(H$10,INDIRECT("'"&$A$5&"'!$A:$L"),11,FALSE),"") | I12: =IFERROR(VLOOKUP(I$10,INDIRECT("'"&$A$5&"'!$A:$L"),11,FALSE),"") | ... AD12: =IFERROR(VLOOKUP(AD$10,INDIRECT("'"&$A$5&"'!$A:$L"),11,FALSE),"") | AK12: ASSOMPTION | AL12: =DATE(AK1,8,15) -> 42962
A13: Mars | B13: =DATE($A$5,3,1) -> 42795 | C13: =B13+1 -> 42796 | D13: =C13+1 -> 42797 | E13: =D13+1 -> 42798 | F13: =E13+1 -> 42799 | G13: =F13+1 -> 42800 | H13: =G13+1 -> 42801 | I13: =H13+1 -> 42802 | J13: =I13+1 -> 42803 | ... AE13: =AD13+1 -> 42824 | AF13: =IF(OR(MONTH(AE13+1)<>MONTH(AE13),AE13+1>=B16),0,AE13+1) -> 42825 | AK13: TOUSSAINT | AL13: =DATE(AK1,11,1) -> 43040
B14: =IFERROR(VLOOKUP(B$13,INDIRECT("'"&$A$5&"'!$A:$L"),10,FALSE),"") -> 0 | C14: =IFERROR(VLOOKUP(C$13,INDIRECT("'"&$A$5&"'!$A:$L"),10,FALSE),"") -> 0 | D14: =IFERROR(VLOOKUP(D$13,INDIRECT("'"&$A$5&"'!$A:$L"),10,FALSE),"") -> 0 | E14: =IFERROR(VLOOKUP(E$13,INDIRECT("'"&$A$5&"'!$A:$L"),10,FALSE),"") -> 0 | F14: =IFERROR(VLOOKUP(F$13,INDIRECT("'"&$A$5&"'!$A:$L"),10,FALSE),"") -> 0 | G14: =IFERROR(VLOOKUP(G$13,INDIRECT("'"&$A$5&"'!$A:$L"),10,FALSE),"") -> 0 | H14: =IFERROR(VLOOKUP(H$13,INDIRECT("'"&$A$5&"'!$A:$L"),10,FALSE),"") -> 0 | I14: =IFERROR(VLOOKUP(I$13,INDIRECT("'"&$A$5&"'!$A:$L"),10,FALSE),"") -> 0 | ... AF14: =IFERROR(VLOOKUP(AF$13,INDIRECT("'"&$A$5&"'!$A:$L"),10,FALSE),"") -> 0 | AG14: =SUM(B14:AF14) -> 0 | AH14: =COUNTIF(B14:AF14,">"&0) -> 0 | AI14: =SUM(B15:AF15) -> 0 | AK14: ARMISTICE 1918 | AL14: =DATE(AK1,11,11) -> 43050
B15: =IFERROR(VLOOKUP(B$13,INDIRECT("'"&$A$5&"'!$A:$L"),11,FALSE),"") | C15: =IFERROR(VLOOKUP(C$13,INDIRECT("'"&$A$5&"'!$A:$L"),11,FALSE),"") | D15: =IFERROR(VLOOKUP(D$13,INDIRECT("'"&$A$5&"'!$A:$L"),11,FALSE),"") | E15: =IFERROR(VLOOKUP(E$13,INDIRECT("'"&$A$5&"'!$A:$L"),11,FALSE),"") | F15: =IFERROR(VLOOKUP(F$13,INDIRECT("'"&$A$5&"'!$A:$L"),11,FALSE),"") | G15: =IFERROR(VLOOKUP(G$13,INDIRECT("'"&$A$5&"'!$A:$L"),11,FALSE),"") | H15: =IFERROR(VLOOKUP(H$13,INDIRECT("'"&$A$5&"'!$A:$L"),11,FALSE),"") | I15: =IFERROR(VLOOKUP(I$13,INDIRECT("'"&$A$5&"'!$A:$L"),11,FALSE),"") | ... AF15: =IFERROR(VLOOKUP(AF$13,INDIRECT("'"&$A$5&"'!$A:$L"),11,FALSE),"") | AK15: NOËL | AL15: =DATE(AK1,12,25) -> 43094
A16: Avril | B16: =DATE($A$5,4,1) -> 42826 | C16: =B16+1 -> 42827 | D16: =C16+1 -> 42828 | E16: =D16+1 -> 42829 | F16: =E16+1 -> 42830 | G16: =F16+1 -> 42831 | H16: =G16+1 -> 42832 | I16: =H16+1 -> 42833 | J16: =I16+1 -> 42834 | ... AE16: =AD16+1 -> 42855 | AF16: =IF(OR(MONTH(AE16+1)<>MONTH(AE16),AE16+1>=B19),0,AE16+1) -> 0
B17: =IFERROR(VLOOKUP(B$16,INDIRECT("'"&$A$5&"'!$A:$L"),10,FALSE),"") -> 0 | C17: =IFERROR(VLOOKUP(C$16,INDIRECT("'"&$A$5&"'!$A:$L"),10,FALSE),"") -> 0 | D17: =IFERROR(VLOOKUP(D$16,INDIRECT("'"&$A$5&"'!$A:$L"),10,FALSE),"") -> 0 | E17: =IFERROR(VLOOKUP(E$16,INDIRECT("'"&$A$5&"'!$A:$L"),10,FALSE),"") -> 0.29166667 | F17: =IFERROR(VLOOKUP(F$16,INDIRECT("'"&$A$5&"'!$A:$L"),10,FALSE),"") -> 0.29166667 | G17: =IFERROR(VLOOKUP(G$16,INDIRECT("'"&$A$5&"'!$A:$L"),10,FALSE),"") -> 0.29166667 | H17: =IFERROR(VLOOKUP(H$16,INDIRECT("'"&$A$5&"'!$A:$L"),10,FALSE),"") -> 0.29166667 | I17: =IFERROR(VLOOKUP(I$16,INDIRECT("'"&$A$5&"'!$A:$L"),10,FALSE),"") -> 0 | ... AF17: =IFERROR(VLOOKUP(AF$16,INDIRECT("'"&$A$5&"'!$A:$L"),10,FALSE),"") | AG17: =SUM(B17:AF17) -> 1.1666667 | AH17: =COUNTIF(B17:AF17,">"&0) -> 4 | AI17: =SUM(B18:AF18) -> 282.4 | AK17: Mardi-Gras | AL17: =AL4-47 -> 42794
B18: =IFERROR(VLOOKUP(B$16,INDIRECT("'"&$A$5&"'!$A:$L"),11,FALSE),"") | C18: =IFERROR(VLOOKUP(C$16,INDIRECT("'"&$A$5&"'!$A:$L"),11,FALSE),"") | D18: =IFERROR(VLOOKUP(D$16,INDIRECT("'"&$A$5&"'!$A:$L"),11,FALSE),"") | E18: =IFERROR(VLOOKUP(E$16,INDIRECT("'"&$A$5&"'!$A:$L"),11,FALSE),"") -> 70.6 | F18: =IFERROR(VLOOKUP(F$16,INDIRECT("'"&$A$5&"'!$A:$L"),11,FALSE),"") -> 70.6 | G18: =IFERROR(VLOOKUP(G$16,INDIRECT("'"&$A$5&"'!$A:$L"),11,FALSE),"") -> 70.6 | H18: =IFERROR(VLOOKUP(H$16,INDIRECT("'"&$A$5&"'!$A:$L"),11,FALSE),"") -> 70.6 | I18: =IFERROR(VLOOKUP(I$16,INDIRECT("'"&$A$5&"'!$A:$L"),11,FALSE),"") | ... AF18: =IFERROR(VLOOKUP(AF$16,INDIRECT("'"&$A$5&"'!$A:$L"),11,FALSE),"") | AK18: Cendres | AL18: =AL4-46 -> 42795
A19: Mai | B19: =DATE($A$5,5,1) -> 42856 | C19: =B19+1 -> 42857 | D19: =C19+1 -> 42858 | E19: =D19+1 -> 42859 | F19: =E19+1 -> 42860 | G19: =F19+1 -> 42861 | H19: =G19+1 -> 42862 | I19: =H19+1 -> 42863 | J19: =I19+1 -> 42864 | ... AE19: =AD19+1 -> 42885 | AF19: =IF(OR(MONTH(AE19+1)<>MONTH(AE19),AE19+1>=B22),0,AE19+1) -> 42886 | AK19: Rameaux | AL19: =AL4-7 -> 42834
B20: =IFERROR(VLOOKUP(B$19,INDIRECT("'"&$A$5&"'!$A:$L"),10,FALSE),"") -> 0 | C20: =IFERROR(VLOOKUP(C$19,INDIRECT("'"&$A$5&"'!$A:$L"),10,FALSE),"") -> 0 | D20: =IFERROR(VLOOKUP(D$19,INDIRECT("'"&$A$5&"'!$A:$L"),10,FALSE),"") -> 0.3125 | E20: =IFERROR(VLOOKUP(E$19,INDIRECT("'"&$A$5&"'!$A:$L"),10,FALSE),"") -> 0.3125 | F20: =IFERROR(VLOOKUP(F$19,INDIRECT("'"&$A$5&"'!$A:$L"),10,FALSE),"") -> 0.3125 | G20: =IFERROR(VLOOKUP(G$19,INDIRECT("'"&$A$5&"'!$A:$L"),10,FALSE),"") -> 0 | H20: =IFERROR(VLOOKUP(H$19,INDIRECT("'"&$A$5&"'!$A:$L"),10,FALSE),"") -> 0 | I20: =IFERROR(VLOOKUP(I$19,INDIRECT("'"&$A$5&"'!$A:$L"),10,FALSE),"") -> 0 | ... AF20: =IFERROR(VLOOKUP(AF$19,INDIRECT("'"&$A$5&"'!$A:$L"),10,FALSE),"") -> 0.3125 | AG20: =SUM(B20:AF20) -> 5.6284722 | AH20: =COUNTIF(B20:AF20,">"&0) -> 18 | AI20: =SUM(B21:AF21) -> 1434.6
B21: =IFERROR(VLOOKUP(B$19,INDIRECT("'"&$A$5&"'!$A:$L"),11,FALSE),"") | C21: =IFERROR(VLOOKUP(C$19,INDIRECT("'"&$A$5&"'!$A:$L"),11,FALSE),"") | D21: =IFERROR(VLOOKUP(D$19,INDIRECT("'"&$A$5&"'!$A:$L"),11,FALSE),"") -> 79.7 | E21: =IFERROR(VLOOKUP(E$19,INDIRECT("'"&$A$5&"'!$A:$L"),11,FALSE),"") -> 79.7 | F21: =IFERROR(VLOOKUP(F$19,INDIRECT("'"&$A$5&"'!$A:$L"),11,FALSE),"") -> 79.7 | G21: =IFERROR(VLOOKUP(G$19,INDIRECT("'"&$A$5&"'!$A:$L"),11,FALSE),"") | H21: =IFERROR(VLOOKUP(H$19,INDIRECT("'"&$A$5&"'!$A:$L"),11,FALSE),"") | I21: =IFERROR(VLOOKUP(I$19,INDIRECT("'"&$A$5&"'!$A:$L"),11,FALSE),"") | ... AF21: =IFERROR(VLOOKUP(AF$19,INDIRECT("'"&$A$5&"'!$A:$L"),11,FALSE),"") -> 79.7 | AK21: Epiphanie | AL21: =DATE(AK1,1,1)+7-WEEKDAY(DATE(AK1,1,1),2) -> 42736
A22: Juin | B22: =DATE($A$5,6,1) -> 42887 | C22: =B22+1 -> 42888 | D22: =C22+1 -> 42889 | E22: =D22+1 -> 42890 | F22: =E22+1 -> 42891 | G22: =F22+1 -> 42892 | H22: =G22+1 -> 42893 | I22: =H22+1 -> 42894 | J22: =I22+1 -> 42895 | ... AE22: =AD22+1 -> 42916 | AF22: =IF(OR(MONTH(AE22+1)<>MONTH(AE22),AE22+1>=B25),0,AE22+1) -> 0
B23: =IFERROR(VLOOKUP(B$22,INDIRECT("'"&$A$5&"'!$A:$L"),10,FALSE),"") -> 0.3125 | C23: =IFERROR(VLOOKUP(C$22,INDIRECT("'"&$A$5&"'!$A:$L"),10,FALSE),"") -> 0.3125 | D23: =IFERROR(VLOOKUP(D$22,INDIRECT("'"&$A$5&"'!$A:$L"),10,FALSE),"") -> 0 | E23: =IFERROR(VLOOKUP(E$22,INDIRECT("'"&$A$5&"'!$A:$L"),10,FALSE),"") -> 0 | F23: =IFERROR(VLOOKUP(F$22,INDIRECT("'"&$A$5&"'!$A:$L"),10,FALSE),"") -> 0 | G23: =IFERROR(VLOOKUP(G$22,INDIRECT("'"&$A$5&"'!$A:$L"),10,FALSE),"") -> 0.3125 | H23: =IFERROR(VLOOKUP(H$22,INDIRECT("'"&$A$5&"'!$A:$L"),10,FALSE),"") -> 0.32291667 | I23: =IFERROR(VLOOKUP(I$22,INDIRECT("'"&$A$5&"'!$A:$L"),10,FALSE),"") -> 0.3125 | ... AF23: =IFERROR(VLOOKUP(AF$22,INDIRECT("'"&$A$5&"'!$A:$L"),10,FALSE),"") | AG23: =SUM(B23:AF23) -> 6.5416667 | AH23: =COUNTIF(B23:AF23,">"&0) -> 21 | AI23: =SUM(B24:AF24) -> 1673.7 | AK23: Fête Dieu | AL23: =AL4+63 -> 42904
B24: =IFERROR(VLOOKUP(B$22,INDIRECT("'"&$A$5&"'!$A:$L"),11,FALSE),"") -> 79.7 | C24: =IFERROR(VLOOKUP(C$22,INDIRECT("'"&$A$5&"'!$A:$L"),11,FALSE),"") -> 79.7 | D24: =IFERROR(VLOOKUP(D$22,INDIRECT("'"&$A$5&"'!$A:$L"),11,FALSE),"") | E24: =IFERROR(VLOOKUP(E$22,INDIRECT("'"&$A$5&"'!$A:$L"),11,FALSE),"") | F24: =IFERROR(VLOOKUP(F$22,INDIRECT("'"&$A$5&"'!$A:$L"),11,FALSE),"") | G24: =IFERROR(VLOOKUP(G$22,INDIRECT("'"&$A$5&"'!$A:$L"),11,FALSE),"") -> 79.7 | H24: =IFERROR(VLOOKUP(H$22,INDIRECT("'"&$A$5&"'!$A:$L"),11,FALSE),"") -> 79.7 | I24: =IFERROR(VLOOKUP(I$22,INDIRECT("'"&$A$5&"'!$A:$L"),11,FALSE),"") -> 79.7 | ... AF24: =IFERROR(VLOOKUP(AF$22,INDIRECT("'"&$A$5&"'!$A:$L"),11,FALSE),"")
A25: Juillet | B25: =DATE($A$5,7,1) -> 42917 | C25: =B25+1 -> 42918 | D25: =C25+1 -> 42919 | E25: =D25+1 -> 42920 | F25: =E25+1 -> 42921 | G25: =F25+1 -> 42922 | H25: =G25+1 -> 42923 | I25: =H25+1 -> 42924 | J25: =I25+1 -> 42925 | ... AE25: =AD25+1 -> 42946 | AF25: =IF(OR(MONTH(AE25+1)<>MONTH(AE25),AE25+1>=B28),0,AE25+1) -> 42947
B26: =IFERROR(VLOOKUP(B$25,INDIRECT("'"&$A$5&"'!$A:$L"),10,FALSE),"") -> 0 | C26: =IFERROR(VLOOKUP(C$25,INDIRECT("'"&$A$5&"'!$A:$L"),10,FALSE),"") -> 0 | D26: =IFERROR(VLOOKUP(D$25,INDIRECT("'"&$A$5&"'!$A:$L"),10,FALSE),"") -> 0 | E26: =IFERROR(VLOOKUP(E$25,INDIRECT("'"&$A$5&"'!$A:$L"),10,FALSE),"") -> 0 | F26: =IFERROR(VLOOKUP(F$25,INDIRECT("'"&$A$5&"'!$A:$L"),10,FALSE),"") -> 0 | G26: =IFERROR(VLOOKUP(G$25,INDIRECT("'"&$A$5&"'!$A:$L"),10,FALSE),"") -> 0 | H26: =IFERROR(VLOOKUP(H$25,INDIRECT("'"&$A$5&"'!$A:$L"),10,FALSE),"") -> 0 | I26: =IFERROR(VLOOKUP(I$25,INDIRECT("'"&$A$5&"'!$A:$L"),10,FALSE),"") -> 0 | ... AF26: =IFERROR(VLOOKUP(AF$25,INDIRECT("'"&$A$5&"'!$A:$L"),10,FALSE),"") -> 0.29166667 | AG26: =SUM(B26:AF26) -> 4.4166667 | AH26: =COUNTIF(B26:AF26,">"&0) -> 15 | AI26: =SUM(B27:AF27) -> 1191
B27: =IFERROR(VLOOKUP(B$25,INDIRECT("'"&$A$5&"'!$A:$L"),11,FALSE),"") | C27: =IFERROR(VLOOKUP(C$25,INDIRECT("'"&$A$5&"'!$A:$L"),11,FALSE),"") | D27: =IFERROR(VLOOKUP(D$25,INDIRECT("'"&$A$5&"'!$A:$L"),11,FALSE),"") | E27: =IFERROR(VLOOKUP(E$25,INDIRECT("'"&$A$5&"'!$A:$L"),11,FALSE),"") | F27: =IFERROR(VLOOKUP(F$25,INDIRECT("'"&$A$5&"'!$A:$L"),11,FALSE),"") | G27: =IFERROR(VLOOKUP(G$25,INDIRECT("'"&$A$5&"'!$A:$L"),11,FALSE),"") | H27: =IFERROR(VLOOKUP(H$25,INDIRECT("'"&$A$5&"'!$A:$L"),11,FALSE),"") | I27: =IFERROR(VLOOKUP(I$25,INDIRECT("'"&$A$5&"'!$A:$L"),11,FALSE),"") | ... AF27: =IFERROR(VLOOKUP(AF$25,INDIRECT("'"&$A$5&"'!$A:$L"),11,FALSE),"") -> 79.4
A28: Août | B28: =DATE($A$5,8,1) -> 42948 | C28: =B28+1 -> 42949 | D28: =C28+1 -> 42950 | E28: =D28+1 -> 42951 | F28: =E28+1 -> 42952 | G28: =F28+1 -> 42953 | H28: =G28+1 -> 42954 | I28: =H28+1 -> 42955 | J28: =I28+1 -> 42956 | ... AE28: =AD28+1 -> 42977 | AF28: =IF(OR(MONTH(AE28+1)<>MONTH(AE28),AE28+1>=B31),0,AE28+1) -> 42978
B29: =IFERROR(VLOOKUP(B$28,INDIRECT("'"&$A$5&"'!$A:$L"),10,FALSE),"") -> 0.29166667 | C29: =IFERROR(VLOOKUP(C$28,INDIRECT("'"&$A$5&"'!$A:$L"),10,FALSE),"") -> 0.29166667 | D29: =IFERROR(VLOOKUP(D$28,INDIRECT("'"&$A$5&"'!$A:$L"),10,FALSE),"") -> 0.29166667 | E29: =IFERROR(VLOOKUP(E$28,INDIRECT("'"&$A$5&"'!$A:$L"),10,FALSE),"") -> 0.29166667 | F29: =IFERROR(VLOOKUP(F$28,INDIRECT("'"&$A$5&"'!$A:$L"),10,FALSE),"") -> 0 | G29: =IFERROR(VLOOKUP(G$28,INDIRECT("'"&$A$5&"'!$A:$L"),10,FALSE),"") -> 0 | H29: =IFERROR(VLOOKUP(H$28,INDIRECT("'"&$A$5&"'!$A:$L"),10,FALSE),"") -> 0 | I29: =IFERROR(VLOOKUP(I$28,INDIRECT("'"&$A$5&"'!$A:$L"),10,FALSE),"") -> 0 | ... AF29: =IFERROR(VLOOKUP(AF$28,INDIRECT("'"&$A$5&"'!$A:$L"),10,FALSE),"") -> 0.33333333 | AG29: =SUM(B29:AF29) -> 2.125 | AH29: =COUNTIF(B29:AF29,">"&0) -> 7 | AI29: =SUM(B30:AF30) -> 555.8
B30: =IFERROR(VLOOKUP(B$28,INDIRECT("'"&$A$5&"'!$A:$L"),11,FALSE),"") -> 79.4 | C30: =IFERROR(VLOOKUP(C$28,INDIRECT("'"&$A$5&"'!$A:$L"),11,FALSE),"") -> 79.4 | D30: =IFERROR(VLOOKUP(D$28,INDIRECT("'"&$A$5&"'!$A:$L"),11,FALSE),"") -> 79.4 | E30: =IFERROR(VLOOKUP(E$28,INDIRECT("'"&$A$5&"'!$A:$L"),11,FALSE),"") -> 79.4 | F30: =IFERROR(VLOOKUP(F$28,INDIRECT("'"&$A$5&"'!$A:$L"),11,FALSE),"") | G30: =IFERROR(VLOOKUP(G$28,INDIRECT("'"&$A$5&"'!$A:$L"),11,FALSE),"") | H30: =IFERROR(VLOOKUP(H$28,INDIRECT("'"&$A$5&"'!$A:$L"),11,FALSE),"") | I30: =IFERROR(VLOOKUP(I$28,INDIRECT("'"&$A$5&"'!$A:$L"),11,FALSE),"") | ... AF30: =IFERROR(VLOOKUP(AF$28,INDIRECT("'"&$A$5&"'!$A:$L"),11,FALSE),"") -> 79.4
A31: Septembre | B31: =DATE($A$5,9,1) -> 42979 | C31: =B31+1 -> 42980 | D31: =C31+1 -> 42981 | E31: =D31+1 -> 42982 | F31: =E31+1 -> 42983 | G31: =F31+1 -> 42984 | H31: =G31+1 -> 42985 | I31: =H31+1 -> 42986 | J31: =I31+1 -> 42987 | ... AE31: =AD31+1 -> 43008 | AF31: =IF(OR(MONTH(AE31+1)<>MONTH(AE31),AE31+1>=B34),0,AE31+1) -> 0
B32: =IFERROR(VLOOKUP(B$31,INDIRECT("'"&$A$5&"'!$A:$L"),10,FALSE),"") -> 0 | C32: =IFERROR(VLOOKUP(C$31,INDIRECT("'"&$A$5&"'!$A:$L"),10,FALSE),"") -> 0 | D32: =IFERROR(VLOOKUP(D$31,INDIRECT("'"&$A$5&"'!$A:$L"),10,FALSE),"") -> 0 | E32: =IFERROR(VLOOKUP(E$31,INDIRECT("'"&$A$5&"'!$A:$L"),10,FALSE),"") -> 0 | F32: =IFERROR(VLOOKUP(F$31,INDIRECT("'"&$A$5&"'!$A:$L"),10,FALSE),"") -> 0 | G32: =IFERROR(VLOOKUP(G$31,INDIRECT("'"&$A$5&"'!$A:$L"),10,FALSE),"") -> 0 | H32: =IFERROR(VLOOKUP(H$31,INDIRECT("'"&$A$5&"'!$A:$L"),10,FALSE),"") -> 0 | I32: =IFERROR(VLOOKUP(I$31,INDIRECT("'"&$A$5&"'!$A:$L"),10,FALSE),"") -> 0 | ... AF32: =IFERROR(VLOOKUP(AF$31,INDIRECT("'"&$A$5&"'!$A:$L"),10,FALSE),"") | AG32: =SUM(B32:AF32) -> 0 | AH32: =COUNTIF(B32:AF32,">"&0) -> 0 | AI32: =SUM(B33:AF33) -> 0
B33: =IFERROR(VLOOKUP(B$31,INDIRECT("'"&$A$5&"'!$A:$L"),11,FALSE),"") | C33: =IFERROR(VLOOKUP(C$31,INDIRECT("'"&$A$5&"'!$A:$L"),11,FALSE),"") | D33: =IFERROR(VLOOKUP(D$31,INDIRECT("'"&$A$5&"'!$A:$L"),11,FALSE),"") | E33: =IFERROR(VLOOKUP(E$31,INDIRECT("'"&$A$5&"'!$A:$L"),11,FALSE),"") | F33: =IFERROR(VLOOKUP(F$31,INDIRECT("'"&$A$5&"'!$A:$L"),11,FALSE),"") | G33: =IFERROR(VLOOKUP(G$31,INDIRECT("'"&$A$5&"'!$A:$L"),11,FALSE),"") | H33: =IFERROR(VLOOKUP(H$31,INDIRECT("'"&$A$5&"'!$A:$L"),11,FALSE),"") | I33: =IFERROR(VLOOKUP(I$31,INDIRECT("'"&$A$5&"'!$A:$L"),11,FALSE),"") | ... AF33: =IFERROR(VLOOKUP(AF$31,INDIRECT("'"&$A$5&"'!$A:$L"),11,FALSE),"")
A34: Octobre | B34: =DATE($A$5,10,1) -> 43009 | C34: =B34+1 -> 43010 | D34: =C34+1 -> 43011 | E34: =D34+1 -> 43012 | F34: =E34+1 -> 43013 | G34: =F34+1 -> 43014 | H34: =G34+1 -> 43015 | I34: =H34+1 -> 43016 | J34: =I34+1 -> 43017 | ... AE34: =AD34+1 -> 43038 | AF34: =IF(OR(MONTH(AE34+1)<>MONTH(AE34),AE34+1>=B37),0,AE34+1) -> 43039
B35: =IFERROR(VLOOKUP(B$34,INDIRECT("'"&$A$5&"'!$A:$L"),10,FALSE),"") -> 0 | C35: =IFERROR(VLOOKUP(C$34,INDIRECT("'"&$A$5&"'!$A:$L"),10,FALSE),"") -> 0 | D35: =IFERROR(VLOOKUP(D$34,INDIRECT("'"&$A$5&"'!$A:$L"),10,FALSE),"") -> 0 | E35: =IFERROR(VLOOKUP(E$34,INDIRECT("'"&$A$5&"'!$A:$L"),10,FALSE),"") -> 0 | F35: =IFERROR(VLOOKUP(F$34,INDIRECT("'"&$A$5&"'!$A:$L"),10,FALSE),"") -> 0 | G35: =IFERROR(VLOOKUP(G$34,INDIRECT("'"&$A$5&"'!$A:$L"),10,FALSE),"") -> 0 | H35: =IFERROR(VLOOKUP(H$34,INDIRECT("'"&$A$5&"'!$A:$L"),10,FALSE),"") -> 0 | I35: =IFERROR(VLOOKUP(I$34,INDIRECT("'"&$A$5&"'!$A:$L"),10,FALSE),"") -> 0 | ... AF35: =IFERROR(VLOOKUP(AF$34,INDIRECT("'"&$A$5&"'!$A:$L"),10,FALSE),"") -> 0 | AG35: =SUM(B35:AF35) -> 0 | AH35: =COUNTIF(B35:AF35,">"&0) -> 0 | AI35: =SUM(B36:AF36) -> 0
B36: =IFERROR(VLOOKUP(B$34,INDIRECT("'"&$A$5&"'!$A:$L"),11,FALSE),"") | C36: =IFERROR(VLOOKUP(C$34,INDIRECT("'"&$A$5&"'!$A:$L"),11,FALSE),"") | D36: =IFERROR(VLOOKUP(D$34,INDIRECT("'"&$A$5&"'!$A:$L"),11,FALSE),"") | E36: =IFERROR(VLOOKUP(E$34,INDIRECT("'"&$A$5&"'!$A:$L"),11,FALSE),"") | F36: =IFERROR(VLOOKUP(F$34,INDIRECT("'"&$A$5&"'!$A:$L"),11,FALSE),"") | G36: =IFERROR(VLOOKUP(G$34,INDIRECT("'"&$A$5&"'!$A:$L"),11,FALSE),"") | H36: =IFERROR(VLOOKUP(H$34,INDIRECT("'"&$A$5&"'!$A:$L"),11,FALSE),"") | I36: =IFERROR(VLOOKUP(I$34,INDIRECT("'"&$A$5&"'!$A:$L"),11,FALSE),"") | ... AF36: =IFERROR(VLOOKUP(AF$34,INDIRECT("'"&$A$5&"'!$A:$L"),11,FALSE),"")
A37: Novembre | B37: =DATE($A$5,11,1) -> 43040 | C37: =B37+1 -> 43041 | D37: =C37+1 -> 43042 | E37: =D37+1 -> 43043 | F37: =E37+1 -> 43044 | G37: =F37+1 -> 43045 | H37: =G37+1 -> 43046 | I37: =H37+1 -> 43047 | J37: =I37+1 -> 43048 | ... AE37: =AD37+1 -> 43069 | AF37: =IF(OR(MONTH(AE37+1)<>MONTH(AE37),AE37+1>=B40),0,AE37+1) -> 0
B38: =IFERROR(VLOOKUP(B$37,INDIRECT("'"&$A$5&"'!$A:$L"),10,FALSE),"") -> 0 | C38: =IFERROR(VLOOKUP(C$37,INDIRECT("'"&$A$5&"'!$A:$L"),10,FALSE),"") -> 0 | D38: =IFERROR(VLOOKUP(D$37,INDIRECT("'"&$A$5&"'!$A:$L"),10,FALSE),"") -> 0 | E38: =IFERROR(VLOOKUP(E$37,INDIRECT("'"&$A$5&"'!$A:$L"),10,FALSE),"") -> 0 | F38: =IFERROR(VLOOKUP(F$37,INDIRECT("'"&$A$5&"'!$A:$L"),10,FALSE),"") -> 0 | G38: =IFERROR(VLOOKUP(G$37,INDIRECT("'"&$A$5&"'!$A:$L"),10,FALSE),"") -> 0 | H38: =IFERROR(VLOOKUP(H$37,INDIRECT("'"&$A$5&"'!$A:$L"),10,FALSE),"") -> 0 | I38: =IFERROR(VLOOKUP(I$37,INDIRECT("'"&$A$5&"'!$A:$L"),10,FALSE),"") -> 0 | ... AF38: =IFERROR(VLOOKUP(AF$37,INDIRECT("'"&$A$5&"'!$A:$L"),10,FALSE),"") | AG38: =SUM(B38:AF38) -> 0 | AH38: =COUNTIF(B38:AF38,">"&0) -> 0 | AI38: =SUM(B39:AF39) -> 0
B39: =IFERROR(VLOOKUP(B$37,INDIRECT("'"&$A$5&"'!$A:$L"),11,FALSE),"") | C39: =IFERROR(VLOOKUP(C$37,INDIRECT("'"&$A$5&"'!$A:$L"),11,FALSE),"") | D39: =IFERROR(VLOOKUP(D$37,INDIRECT("'"&$A$5&"'!$A:$L"),11,FALSE),"") | E39: =IFERROR(VLOOKUP(E$37,INDIRECT("'"&$A$5&"'!$A:$L"),11,FALSE),"") | F39: =IFERROR(VLOOKUP(F$37,INDIRECT("'"&$A$5&"'!$A:$L"),11,FALSE),"") | G39: =IFERROR(VLOOKUP(G$37,INDIRECT("'"&$A$5&"'!$A:$L"),11,FALSE),"") | H39: =IFERROR(VLOOKUP(H$37,INDIRECT("'"&$A$5&"'!$A:$L"),11,FALSE),"") | I39: =IFERROR(VLOOKUP(I$37,INDIRECT("'"&$A$5&"'!$A:$L"),11,FALSE),"") | ... AF39: =IFERROR(VLOOKUP(AF$37,INDIRECT("'"&$A$5&"'!$A:$L"),11,FALSE),"")
A40: Décembre | B40: =DATE($A$5,12,1) -> 43070 | C40: =B40+1 -> 43071 | D40: =C40+1 -> 43072 | E40: =D40+1 -> 43073 | F40: =E40+1 -> 43074 | G40: =F40+1 -> 43075 | H40: =G40+1 -> 43076 | I40: =H40+1 -> 43077 | J40: =I40+1 -> 43078 | ... AF40: =AE40+1 -> 43100
B41: =IFERROR(VLOOKUP(B$40,INDIRECT("'"&$A$5&"'!$A:$L"),10,FALSE),"") -> 0 | C41: =IFERROR(VLOOKUP(C$40,INDIRECT("'"&$A$5&"'!$A:$L"),10,FALSE),"") -> 0 | D41: =IFERROR(VLOOKUP(D$40,INDIRECT("'"&$A$5&"'!$A:$L"),10,FALSE),"") -> 0 | E41: =IFERROR(VLOOKUP(E$40,INDIRECT("'"&$A$5&"'!$A:$L"),10,FALSE),"") -> 0 | F41: =IFERROR(VLOOKUP(F$40,INDIRECT("'"&$A$5&"'!$A:$L"),10,FALSE),"") -> 0 | G41: =IFERROR(VLOOKUP(G$40,INDIRECT("'"&$A$5&"'!$A:$L"),10,FALSE),"") -> 0 | H41: =IFERROR(VLOOKUP(H$40,INDIRECT("'"&$A$5&"'!$A:$L"),10,FALSE),"") -> 0 | I41: =IFERROR(VLOOKUP(I$40,INDIRECT("'"&$A$5&"'!$A:$L"),10,FALSE),"") -> 0 | ... AF41: =IFERROR(VLOOKUP(AF$40,INDIRECT("'"&$A$5&"'!$A:$L"),10,FALSE),"") -> 0 | AG41: =SUM(B41:AF41) -> 0 | AH41: =COUNTIF(B41:AF41,">"&0) -> 0 | AI41: =SUM(B42:AF42) -> 0
B42: =IFERROR(VLOOKUP(B$40,INDIRECT("'"&$A$5&"'!$A:$L"),11,FALSE),"") | C42: =IFERROR(VLOOKUP(C$40,INDIRECT("'"&$A$5&"'!$A:$L"),11,FALSE),"") | D42: =IFERROR(VLOOKUP(D$40,INDIRECT("'"&$A$5&"'!$A:$L"),11,FALSE),"") | E42: =IFERROR(VLOOKUP(E$40,INDIRECT("'"&$A$5&"'!$A:$L"),11,FALSE),"") | F42: =IFERROR(VLOOKUP(F$40,INDIRECT("'"&$A$5&"'!$A:$L"),11,FALSE),"") | G42: =IFERROR(VLOOKUP(G$40,INDIRECT("'"&$A$5&"'!$A:$L"),11,FALSE),"") | H42: =IFERROR(VLOOKUP(H$40,INDIRECT("'"&$A$5&"'!$A:$L"),11,FALSE),"") | I42: =IFERROR(VLOOKUP(I$40,INDIRECT("'"&$A$5&"'!$A:$L"),11,FALSE),"") | ... AF42: =IFERROR(VLOOKUP(AF$40,INDIRECT("'"&$A$5&"'!$A:$L"),11,FALSE),"")
B43: 1 | C43: 2 | D43: 3 | E43: 4 | F43: 5 | G43: 6 | H43: 7 | I43: 8 | J43: 9 | K43: 10 | L43: 11 | M43: 12 | N43: 13 | O43: 14 | P43: 15 | Q43: 16 | R43: 17 | S43: 18 | T43: 19 | U43: 20 | V43: 21 | W43: 22 | X43: 23 | Y43: 24 | Z43: 25 | AA43: 26 | AB43: 27 | AC43: 28 | AD43: 29 | AE43: 30 | AF43: 31

Sheet 2017
C1: =COUNTIF(L:M,B1) -> 37
C2: Arrivée | D2: Départ | E2: Total 1 | F2: Arrivée | G2: Départ | H2: Total 2 | I2: Code | J2: Total | K2: 1.1574074e-05 | M2: Lieux | O2: Cumul | P2: Remarques | Q2: =YEAR(B3) -> 2017
A3: =DATE(2017,1,1) -> 42736 | B3: =DATE(2017,1,1) -> 42736 | H3: =MOD(G3-F3,1) -> 0 | J3: =SUM(E3+H3) -> 0 | K3: =IFERROR(VLOOKUP(M3,EMPLOI!A:R,2,0),"") | L3: =IF(WEEKDAY(B3)=7,SUM(OFFSET(B3,0,8,-7,1)),"") | M3: {=IF(OR($K$2>J3),"",IFERROR(INDEX(Tableau1[],MATCH(1,('2017'!B3>=Tableau1[[DATE DEBUT ]])*(Tableau1[DATE FIN]>='2017'!B3),0),1),""))} | Q3: Jours Fériés et Fêtes
A4: =A3+1 -> 42737 | B4: =B3+1 -> 42737 | H4: =MOD(G4-F4,1) -> 0 | J4: =SUM(E4+H4) -> 0 | K4: =IFERROR(VLOOKUP(M4,EMPLOI!A:R,2,0),"") | L4: =IF(WEEKDAY(B4)=7,SUM(OFFSET(B4,0,8,-7,1)),"") | M4: {=IF(OR($K$2>J4),"",IFERROR(INDEX(Tableau1[],MATCH(1,('2017'!B4>=Tableau1[[DATE DEBUT ]])*(Tableau1[DATE FIN]>='2017'!B4),0),1),""))} | Q4: JOUR DE L'AN | R4: =DATE(Q2,1,1) -> 42736
A5: =A4+1 -> 42738 | B5: =B4+1 -> 42738 | H5: =MOD(G5-F5,1) -> 0 | J5: =IFERROR(SUM(E5,H5),"") -> 0 | K5: =IFERROR(VLOOKUP(M5,EMPLOI!A:R,2,0),"") | L5: =IF(WEEKDAY(B5)=7,SUM(OFFSET(B5,0,8,-7,1)),"") | M5: {=IF(OR($K$2>J5),"",IFERROR(INDEX(Tableau1[],MATCH(1,('2017'!B5>=Tableau1[[DATE DEBUT ]])*(Tableau1[DATE FIN]>='2017'!B5),0),1),""))} | Q5: PÂQUES | R5: =FLOOR(DATE(Q2,5,DAY(MINUTE(Q2/38)/2+56)),7)-34+7*(Q2=2079) -> 42841
A6: =A5+1 -> 42739 | B6: =B5+1 -> 42739 | H6: =MOD(G6-F6,1) -> 0 | J6: =SUM(E6+H6) -> 0 | K6: =IFERROR(VLOOKUP(M6,EMPLOI!A:R,2,0),"") | L6: =IF(WEEKDAY(B6)=7,SUM(OFFSET(B6,0,8,-7,1)),"") | M6: {=IF(OR($K$2>J6),"",IFERROR(INDEX(Tableau1[],MATCH(1,('2017'!B6>=Tableau1[[DATE DEBUT ]])*(Tableau1[DATE FIN]>='2017'!B6),0),1),""))} | Q6: *Lundi de Pâques | R6: =R5+1 -> 42842
A7: =A6+1 -> 42740 | B7: =B6+1 -> 42740 | H7: =MOD(G7-F7,1) -> 0 | J7: =SUM(E7+H7) -> 0 | K7: =IFERROR(VLOOKUP(M7,EMPLOI!A:R,2,0),"") | L7: =IF(WEEKDAY(B7)=7,SUM(OFFSET(B7,0,8,-7,1)),"") | M7: {=IF(OR($K$2>J7),"",IFERROR(INDEX(Tableau1[],MATCH(1,('2017'!B7>=Tableau1[[DATE DEBUT ]])*(Tableau1[DATE FIN]>='2017'!B7),0),1),""))} | Q7: FÊTE DU TRAVAIL | R7: =DATE(Année!A5,5,1) -> 42856
A8: =A7+1 -> 42741 | B8: =B7+1 -> 42741 | H8: =MOD(G8-F8,1) -> 0 | J8: =SUM(E8+H8) -> 0 | K8: =IFERROR(VLOOKUP(M8,EMPLOI!A:R,2,0),"") | L8: =IF(WEEKDAY(B8)=7,SUM(OFFSET(B8,0,8,-7,1)),"") | M8: {=IF(OR($K$2>J8),"",IFERROR(INDEX(Tableau1[],MATCH(1,('2017'!B8>=Tableau1[[DATE DEBUT ]])*(Tableau1[DATE FIN]>='2017'!B8),0),1),""))} | Q8: ASCENSION | R8: =R5+39 -> 42880
A9: =A8+1 -> 42742 | B9: =B8+1 -> 42742 | E9: =MOD(D9-C9,1) -> 0 | H9: =MOD(G9-F9,1) -> 0 | J9: =SUM(E9+H9) -> 0 | K9: =IFERROR(VLOOKUP(M9,EMPLOI!A:R,2,0),"") | L9: =IF(WEEKDAY(B9)=7,SUM(OFFSET(B9,0,8,-7,1)),"") -> 0 | M9: {=IF(OR($K$2>J9),"",IFERROR(INDEX(Tableau1[],MATCH(1,('2017'!B9>=Tableau1[[DATE DEBUT ]])*(Tableau1[DATE FIN]>='2017'!B9),0),1),""))} | Q9: VICTOIRE 1945 | R9: =DATE(Q2,5,8) -> 42863
A10: =A9+1 -> 42743 | B10: =B9+1 -> 42743 | E10: =MOD(D10-C10,1) -> 0 | H10: =MOD(G10-F10,1) -> 0 | J10: =SUM(E10+H10) -> 0 | K10: =IFERROR(VLOOKUP(M10,EMPLOI!A:R,2,0),"") | L10: =IF(WEEKDAY(B10)=7,SUM(OFFSET(B10,0,8,-7,1)),"") | M10: {=IF(OR($K$2>J10),"",IFERROR(INDEX(Tableau1[],MATCH(1,('2017'!B10>=Tableau1[[DATE DEBUT ]])*(Tableau1[DATE FIN]>='2017'!B10),0),1),""))} | Q10: PENTECÔTE | R10: =R5+49 -> 42890
A11: =A10+1 -> 42744 | B11: =B10+1 -> 42744 | E11: =MOD(D11-C11,1) -> 0 | H11: =MOD(G11-F11,1) -> 0 | J11: =SUM(E11+H11) -> 0 | K11: =IFERROR(VLOOKUP(M11,EMPLOI!A:R,2,0),"") | L11: =IF(WEEKDAY(B11)=7,SUM(OFFSET(B11,0,8,-7,1)),"") | M11: {=IF(OR($K$2>J11),"",IFERROR(INDEX(Tableau1[],MATCH(1,('2017'!B11>=Tableau1[[DATE DEBUT ]])*(Tableau1[DATE FIN]>='2017'!B11),0),1),""))} | Q11: *Lundi de Pentecôte | R11: =R5+50 -> 42891
A12: =A11+1 -> 42745 | B12: =B11+1 -> 42745 | E12: =MOD(D12-C12,1) -> 0 | H12: =MOD(G12-F12,1) -> 0 | J12: =SUM(E12+H12) -> 0 | K12: =IFERROR(VLOOKUP(M12,EMPLOI!A:R,2,0),"") | L12: =IF(WEEKDAY(B12)=7,SUM(OFFSET(B12,0,8,-7,1)),"") | M12: {=IF(OR($K$2>J12),"",IFERROR(INDEX(Tableau1[],MATCH(1,('2017'!B12>=Tableau1[[DATE DEBUT ]])*(Tableau1[DATE FIN]>='2017'!B12),0),1),""))} | Q12: FÊTE NAT | R12: =DATE(Q2,7,14) -> 42930
A13: =A12+1 -> 42746 | B13: =B12+1 -> 42746 | E13: =MOD(D13-C13,1) -> 0 | H13: =MOD(G13-F13,1) -> 0 | J13: =SUM(E13+H13) -> 0 | K13: =IFERROR(VLOOKUP(M13,EMPLOI!A:R,2,0),"") | L13: =IF(WEEKDAY(B13)=7,SUM(OFFSET(B13,0,8,-7,1)),"") | M13: {=IF(OR($K$2>J13),"",IFERROR(INDEX(Tableau1[],MATCH(1,('2017'!B13>=Tableau1[[DATE DEBUT ]])*(Tableau1[DATE FIN]>='2017'!B13),0),1),""))} | Q13: ASSOMPTION | R13: =DATE(Q2,8,15) -> 42962
A14: =A13+1 -> 42747 | B14: =B13+1 -> 42747 | E14: =MOD(D14-C14,1) -> 0 | H14: =MOD(G14-F14,1) -> 0 | J14: =SUM(E14+H14) -> 0 | K14: =IFERROR(VLOOKUP(M14,EMPLOI!A:R,2,0),"") | L14: =IF(WEEKDAY(B14)=7,SUM(OFFSET(B14,0,8,-7,1)),"") | M14: {=IF(OR($K$2>J14),"",IFERROR(INDEX(Tableau1[],MATCH(1,('2017'!B14>=Tableau1[[DATE DEBUT ]])*(Tableau1[DATE FIN]>='2017'!B14),0),1),""))} | Q14: TOUSSAINT | R14: =DATE(Q2,11,1) -> 43040
A15: =A14+1 -> 42748 | B15: =B14+1 -> 42748 | E15: =MOD(D15-C15,1) -> 0 | H15: =MOD(G15-F15,1) -> 0 | J15: =SUM(E15+H15) -> 0 | K15: =IFERROR(VLOOKUP(M15,EMPLOI!A:R,2,0),"") | L15: =IF(WEEKDAY(B15)=7,SUM(OFFSET(B15,0,8,-7,1)),"") | M15: {=IF(OR($K$2>J15),"",IFERROR(INDEX(Tableau1[],MATCH(1,('2017'!B15>=Tableau1[[DATE DEBUT ]])*(Tableau1[DATE FIN]>='2017'!B15),0),1),""))} | Q15: ARMISTICE 1918 | R15: =DATE(Q2,11,11) -> 43050
A16: =A15+1 -> 42749 | B16: =B15+1 -> 42749 | E16: =MOD(D16-C16,1) -> 0 | H16: =MOD(G16-F16,1) -> 0 | J16: =SUM(E16+H16) -> 0 | K16: =IFERROR(VLOOKUP(M16,EMPLOI!A:R,2,0),"") | L16: =IF(WEEKDAY(B16)=7,SUM(OFFSET(B16,0,8,-7,1)),"") -> 0 | M16: {=IF(OR($K$2>J16),"",IFERROR(INDEX(Tableau1[],MATCH(1,('2017'!B16>=Tableau1[[DATE DEBUT ]])*(Tableau1[DATE FIN]>='2017'!B16),0),1),""))} | Q16: NOËL | R16: =DATE(Q2,12,25) -> 43094
A17: =A16+1 -> 42750 | B17: =B16+1 -> 42750 | E17: =MOD(D17-C17,1) -> 0 | H17: =MOD(G17-F17,1) -> 0 | J17: =SUM(E17+H17) -> 0 | K17: =IFERROR(VLOOKUP(M17,EMPLOI!A:R,2,0),"") | L17: =IF(WEEKDAY(B17)=7,SUM(OFFSET(B17,0,8,-7,1)),"") | M17: {=IF(OR($K$2>J17),"",IFERROR(INDEX(Tableau1[],MATCH(1,('2017'!B17>=Tableau1[[DATE DEBUT ]])*(Tableau1[DATE FIN]>='2017'!B17),0),1),""))}
A18: =A17+1 -> 42751 | B18: =B17+1 -> 42751 | E18: =MOD(D18-C18,1) -> 0 | H18: =MOD(G18-F18,1) -> 0 | J18: =SUM(E18+H18) -> 0 | K18: =IFERROR(VLOOKUP(M18,EMPLOI!A:R,2,0),"") | L18: =IF(WEEKDAY(B18)=7,SUM(OFFSET(B18,0,8,-7,1)),"") | M18: {=IF(OR($K$2>J18),"",IFERROR(INDEX(Tableau1[],MATCH(1,('2017'!B18>=Tableau1[[DATE DEBUT ]])*(Tableau1[DATE FIN]>='2017'!B18),0),1),""))} | Q18: Mardi-Gras | R18: =R5-47 -> 42794
A19: =A18+1 -> 42752 | B19: =B18+1 -> 42752 | E19: =MOD(D19-C19,1) -> 0 | H19: =MOD(G19-F19,1) -> 0 | J19: =SUM(E19+H19) -> 0 | K19: =IFERROR(VLOOKUP(M19,EMPLOI!A:R,2,0),"") | L19: =IF(WEEKDAY(B19)=7,SUM(OFFSET(B19,0,8,-7,1)),"") | M19: {=IF(OR($K$2>J19),"",IFERROR(INDEX(Tableau1[],MATCH(1,('2017'!B19>=Tableau1[[DATE DEBUT ]])*(Tableau1[DATE FIN]>='2017'!B19),0),1),""))} | Q19: Cendres | R19: =R5-46 -> 42795
A20: =A19+1 -> 42753 | B20: =B19+1 -> 42753 | E20: =MOD(D20-C20,1) -> 0 | H20: =MOD(G20-F20,1) -> 0 | J20: =SUM(E20+H20) -> 0 | K20: =IFERROR(VLOOKUP(M20,EMPLOI!A:R,2,0),"") | L20: =IF(WEEKDAY(B20)=7,SUM(OFFSET(B20,0,8,-7,1)),"") | M20: {=IF(OR($K$2>J20),"",IFERROR(INDEX(Tableau1[],MATCH(1,('2017'!B20>=Tableau1[[DATE DEBUT ]])*(Tableau1[DATE FIN]>='2017'!B20),0),1),""))} | Q20: Rameaux | R20: =R5-7 -> 42834
A21: =A20+1 -> 42754 | B21: =B20+1 -> 42754 | E21: =MOD(D21-C21,1) -> 0 | H21: =MOD(G21-F21,1) -> 0 | J21: =SUM(E21+H21) -> 0 | K21: =IFERROR(VLOOKUP(M21,EMPLOI!A:R,2,0),"") | L21: =IF(WEEKDAY(B21)=7,SUM(OFFSET(B21,0,8,-7,1)),"") | M21: {=IF(OR($K$2>J21),"",IFERROR(INDEX(Tableau1[],MATCH(1,('2017'!B21>=Tableau1[[DATE DEBUT ]])*(Tableau1[DATE FIN]>='2017'!B21),0),1),""))}
A22: =A21+1 -> 42755 | B22: =B21+1 -> 42755 | E22: =MOD(D22-C22,1) -> 0 | H22: =MOD(G22-F22,1) -> 0 | J22: =SUM(E22+H22) -> 0 | K22: =IFERROR(VLOOKUP(M22,EMPLOI!A:R,2,0),"") | L22: =IF(WEEKDAY(B22)=7,SUM(OFFSET(B22,0,8,-7,1)),"") | M22: {=IF(OR($K$2>J22),"",IFERROR(INDEX(Tableau1[],MATCH(1,('2017'!B22>=Tableau1[[DATE DEBUT ]])*(Tableau1[DATE FIN]>='2017'!B22),0),1),""))} | Q22: Epiphanie | R22: =DATE(Q2,1,1)+7-WEEKDAY(DATE(Q2,1,1),2) -> 42736
A23: =A22+1 -> 42756 | B23: =B22+1 -> 42756 | E23: =MOD(D23-C23,1) -> 0 | H23: =MOD(G23-F23,1) -> 0 | J23: =SUM(E23+H23) -> 0 | K23: =IFERROR(VLOOKUP(M23,EMPLOI!A:R,2,0),"") | L23: =IF(WEEKDAY(B23)=7,SUM(OFFSET(B23,0,8,-7,1)),"") -> 0 | M23: {=IF(OR($K$2>J23),"",IFERROR(INDEX(Tableau1[],MATCH(1,('2017'!B23>=Tableau1[[DATE DEBUT ]])*(Tableau1[DATE FIN]>='2017'!B23),0),1),""))}
A24: =A23+1 -> 42757 | B24: =B23+1 -> 42757 | E24: =MOD(D24-C24,1) -> 0 | H24: =MOD(G24-F24,1) -> 0 | J24: =SUM(E24+H24) -> 0 | K24: =IFERROR(VLOOKUP(M24,EMPLOI!A:R,2,0),"") | L24: =IF(WEEKDAY(B24)=7,SUM(OFFSET(B24,0,8,-7,1)),"") | M24: {=IF(OR($K$2>J24),"",IFERROR(INDEX(Tableau1[],MATCH(1,('2017'!B24>=Tableau1[[DATE DEBUT ]])*(Tableau1[DATE FIN]>='2017'!B24),0),1),""))} | Q24: Fête Dieu | R24: =R5+63 -> 42904
A25: =A24+1 -> 42758 | B25: =B24+1 -> 42758 | E25: =MOD(D25-C25,1) -> 0 | H25: =MOD(G25-F25,1) -> 0 | J25: =SUM(E25+H25) -> 0 | K25: =IFERROR(VLOOKUP(M25,EMPLOI!A:R,2,0),"") | L25: =IF(WEEKDAY(B25)=7,SUM(OFFSET(B25,0,8,-7,1)),"") | M25: {=IF(OR($K$2>J25),"",IFERROR(INDEX(Tableau1[],MATCH(1,('2017'!B25>=Tableau1[[DATE DEBUT ]])*(Tableau1[DATE FIN]>='2017'!B25),0),1),""))}
A26: =A25+1 -> 42759 | B26: =B25+1 -> 42759 | E26: =MOD(D26-C26,1) -> 0 | H26: =MOD(G26-F26,1) -> 0 | J26: =SUM(E26+H26) -> 0 | K26: =IFERROR(VLOOKUP(M26,EMPLOI!A:R,2,0),"") | L26: =IF(WEEKDAY(B26)=7,SUM(OFFSET(B26,0,8,-7,1)),"") | M26: {=IF(OR($K$2>J26),"",IFERROR(INDEX(Tableau1[],MATCH(1,('2017'!B26>=Tableau1[[DATE DEBUT ]])*(Tableau1[DATE FIN]>='2017'!B26),0),1),""))}
A27: =A26+1 -> 42760 | B27: =B26+1 -> 42760 | E27: =MOD(D27-C27,1) -> 0 | H27: =MOD(G27-F27,1) -> 0 | J27: =SUM(E27+H27) -> 0 | K27: =IFERROR(VLOOKUP(M27,EMPLOI!A:R,2,0),"") | L27: =IF(WEEKDAY(B27)=7,SUM(OFFSET(B27,0,8,-7,1)),"") | M27: {=IF(OR($K$2>J27),"",IFERROR(INDEX(Tableau1[],MATCH(1,('2017'!B27>=Tableau1[[DATE DEBUT ]])*(Tableau1[DATE FIN]>='2017'!B27),0),1),""))}
A28: =A27+1 -> 42761 | B28: =B27+1 -> 42761 | E28: =MOD(D28-C28,1) -> 0 | H28: =MOD(G28-F28,1) -> 0 | J28: =SUM(E28+H28) -> 0 | K28: =IFERROR(VLOOKUP(M28,EMPLOI!A:R,2,0),"") | L28: =IF(WEEKDAY(B28)=7,SUM(OFFSET(B28,0,8,-7,1)),"") | M28: {=IF(OR($K$2>J28),"",IFERROR(INDEX(Tableau1[],MATCH(1,('2017'!B28>=Tableau1[[DATE DEBUT ]])*(Tableau1[DATE FIN]>='2017'!B28),0),1),""))}
A29: =A28+1 -> 42762 | B29: =B28+1 -> 42762 | E29: =MOD(D29-C29,1) -> 0 | H29: =MOD(G29-F29,1) -> 0 | J29: =SUM(E29+H29) -> 0 | K29: =IFERROR(VLOOKUP(M29,EMPLOI!A:R,2,0),"") | L29: =IF(WEEKDAY(B29)=7,SUM(OFFSET(B29,0,8,-7,1)),"") | M29: {=IF(OR($K$2>J29),"",IFERROR(INDEX(Tableau1[],MATCH(1,('2017'!B29>=Tableau1[[DATE DEBUT ]])*(Tableau1[DATE FIN]>='2017'!B29),0),1),""))}
A30: =A29+1 -> 42763 | B30: =B29+1 -> 42763 | E30: =MOD(D30-C30,1) -> 0 | H30: =MOD(G30-F30,1) -> 0 | J30: =SUM(E30+H30) -> 0 | K30: =IFERROR(VLOOKUP(M30,EMPLOI!A:R,2,0),"") | L30: =IF(WEEKDAY(B30)=7,SUM(OFFSET(B30,0,8,-7,1)),"") -> 0 | M30: {=IF(OR($K$2>J30),"",IFERROR(INDEX(Tableau1[],MATCH(1,('2017'!B30>=Tableau1[[DATE DEBUT ]])*(Tableau1[DATE FIN]>='2017'!B30),0),1),""))}
A31: =A30+1 -> 42764 | B31: =B30+1 -> 42764 | E31: =MOD(D31-C31,1) -> 0 | H31: =MOD(G31-F31,1) -> 0 | J31: =SUM(E31+H31) -> 0 | K31: =IFERROR(VLOOKUP(M31,EMPLOI!A:R,2,0),"") | L31: =IF(WEEKDAY(B31)=7,SUM(OFFSET(B31,0,8,-7,1)),"") | M31: {=IF(OR($K$2>J31),"",IFERROR(INDEX(Tableau1[],MATCH(1,('2017'!B31>=Tableau1[[DATE DEBUT ]])*(Tableau1[DATE FIN]>='2017'!B31),0),1),""))}
A32: =A31+1 -> 42765 | B32: =B31+1 -> 42765 | E32: =MOD(D32-C32,1) -> 0 | H32: =MOD(G32-F32,1) -> 0 | J32: =SUM(E32+H32) -> 0 | K32: =IFERROR(VLOOKUP(M32,EMPLOI!A:R,2,0),"") | L32: =IF(WEEKDAY(B32)=7,SUM(OFFSET(B32,0,8,-7,1)),"") | M32: {=IF(OR($K$2>J32),"",IFERROR(INDEX(Tableau1[],MATCH(1,('2017'!B32>=Tableau1[[DATE DEBUT ]])*(Tableau1[DATE FIN]>='2017'!B32),0),1),""))}
A33: =A32+1 -> 42766 | B33: =B32+1 -> 42766 | E33: =MOD(D33-C33,1) -> 0 | H33: =MOD(G33-F33,1) -> 0 | J33: =SUM(E33+H33) -> 0 | K33: =IFERROR(VLOOKUP(M33,EMPLOI!A:R,2,0),"") | L33: =IF(WEEKDAY(B33)=7,SUM(OFFSET(B33,0,8,-7,1)),"") | M33: {=IF(OR($K$2>J33),"",IFERROR(INDEX(Tableau1[],MATCH(1,('2017'!B33>=Tableau1[[DATE DEBUT ]])*(Tableau1[DATE FIN]>='2017'!B33),0),1),""))}
A34: =A33+1 -> 42767 | B34: =B33+1 -> 42767 | E34: =MOD(D34-C34,1) -> 0 | H34: =MOD(G34-F34,1) -> 0 | J34: =SUM(E34+H34) -> 0 | K34: =IFERROR(VLOOKUP(M34,EMPLOI!A:R,2,0),"") | L34: =IF(WEEKDAY(B34)=7,SUM(OFFSET(B34,0,8,-7,1)),"") | M34: {=IF(OR($K$2>J34),"",IFERROR(INDEX(Tableau1[],MATCH(1,('2017'!B34>=Tableau1[[DATE DEBUT ]])*(Tableau1[DATE FIN]>='2017'!B34),0),1),""))}
A35: =A34+1 -> 42768 | B35: =B34+1 -> 42768 | E35: =MOD(D35-C35,1) -> 0 | H35: =MOD(G35-F35,1) -> 0 | J35: =SUM(E35+H35) -> 0 | K35: =IFERROR(VLOOKUP(M35,EMPLOI!A:R,2,0),"") | L35: =IF(WEEKDAY(B35)=7,SUM(OFFSET(B35,0,8,-7,1)),"") | M35: {=IF(OR($K$2>J35),"",IFERROR(INDEX(Tableau1[],MATCH(1,('2017'!B35>=Tableau1[[DATE DEBUT ]])*(Tableau1[DATE FIN]>='2017'!B35),0),1),""))}
A36: =A35+1 -> 42769 | B36: =B35+1 -> 42769 | E36: =MOD(D36-C36,1) -> 0 | H36: =MOD(G36-F36,1) -> 0 | J36: =SUM(E36+H36) -> 0 | K36: =IFERROR(VLOOKUP(M36,EMPLOI!A:R,2,0),"") | L36: =IF(WEEKDAY(B36)=7,SUM(OFFSET(B36,0,8,-7,1)),"") | M36: {=IF(OR($K$2>J36),"",IFERROR(INDEX(Tableau1[],MATCH(1,('2017'!B36>=Tableau1[[DATE DEBUT ]])*(Tableau1[DATE FIN]>='2017'!B36),0),1),""))}
... A95: =A94+1 -> 42828 | B95: =B94+1 -> 42828 | E95: =MOD(D95-C95,1) -> 0 | H95: =MOD(G95-F95,1) -> 0 | J95: =SUM(E95+H95) -> 0 | K95: =IFERROR(VLOOKUP(M95,EMPLOI!A:R,2,0),"") | L95: =IF(WEEKDAY(B95)=7,SUM(OFFSET(B95,0,8,-7,1)),"") | M95: {=IF(OR($K$2>J95),"",IFERROR(INDEX(Tableau1[],MATCH(1,('2017'!B95>=Tableau1[[DATE DEBUT ]])*(Tableau1[DATE FIN]>='2017'!B95),0),1),""))}
A96: =A95+1 -> 42829 | B96: =B95+1 -> 42829 | C96: 0.33333333 | D96: 0.48958333 | E96: =MOD(D96-C96,1) -> 0.15625 | F96: 0.53125 | G96: 0.66666667 | H96: =MOD(G96-F96,1) -> 0.13541667 | J96: =SUM(E96+H96) -> 0.29166667 | K96: =IFERROR(VLOOKUP(M96,EMPLOI!A:R,2,0),"") -> 70.6 | L96: =IF(WEEKDAY(B96)=7,SUM(OFFSET(B96,0,8,-7,1)),"") | M96: {=IF(OR($K$2>J96),"",IFERROR(INDEX(Tableau1[],MATCH(1,('2017'!B96>=Tableau1[[DATE DEBUT ]])*(Tableau1[DATE FIN]>='2017'!B96),0),1),""))} -> A
A97: =A96+1 -> 42830 | B97: =B96+1 -> 42830 | C97: 0.33333333 | D97: 0.48958333 | E97: =MOD(D97-C97,1) -> 0.15625 | F97: 0.53125 | G97: 0.66666667 | H97: =MOD(G97-F97,1) -> 0.13541667 | J97: =SUM(E97+H97) -> 0.29166667 | K97: =IFERROR(VLOOKUP(M97,EMPLOI!A:R,2,0),"") -> 70.6 | L97: =IF(WEEKDAY(B97)=7,SUM(OFFSET(B97,0,8,-7,1)),"") | M97: {=IF(OR($K$2>J97),"",IFERROR(INDEX(Tableau1[],MATCH(1,('2017'!B97>=Tableau1[[DATE DEBUT ]])*(Tableau1[DATE FIN]>='2017'!B97),0),1),""))} -> A
A98: =A97+1 -> 42831 | B98: =B97+1 -> 42831 | C98: 0.33333333 | D98: 0.48958333 | E98: =MOD(D98-C98,1) -> 0.15625 | F98: 0.53125 | G98: 0.66666667 | H98: =MOD(G98-F98,1) -> 0.13541667 | J98: =SUM(E98+H98) -> 0.29166667 | K98: =IFERROR(VLOOKUP(M98,EMPLOI!A:R,2,0),"") -> 70.6 | L98: =IF(WEEKDAY(B98)=7,SUM(OFFSET(B98,0,8,-7,1)),"") | M98: {=IF(OR($K$2>J98),"",IFERROR(INDEX(Tableau1[],MATCH(1,('2017'!B98>=Tableau1[[DATE DEBUT ]])*(Tableau1[DATE FIN]>='2017'!B98),0),1),""))} -> A
A99: =A98+1 -> 42832 | B99: =B98+1 -> 42832 | C99: 0.33333333 | D99: 0.48958333 | E99: =MOD(D99-C99,1) -> 0.15625 | F99: 0.53125 | G99: 0.66666667 | H99: =MOD(G99-F99,1) -> 0.13541667 | J99: =SUM(E99+H99) -> 0.29166667 | K99: =IFERROR(VLOOKUP(M99,EMPLOI!A:R,2,0),"") -> 70.6 | L99: =IF(WEEKDAY(B99)=7,SUM(OFFSET(B99,0,8,-7,1)),"") | M99: {=IF(OR($K$2>J99),"",IFERROR(INDEX(Tableau1[],MATCH(1,('2017'!B99>=Tableau1[[DATE DEBUT ]])*(Tableau1[DATE FIN]>='2017'!B99),0),1),""))} -> A
A100: =A99+1 -> 42833 | B100: =B99+1 -> 42833 | E100: =MOD(D100-C100,1) -> 0 | H100: =MOD(G100-F100,1) -> 0 | J100: =SUM(E100+H100) -> 0 | K100: =IFERROR(VLOOKUP(M100,EMPLOI!A:R,2,0),"") | L100: =IF(WEEKDAY(B100)=7,SUM(OFFSET(B100,0,8,-7,1)),"") -> 1.1666667 | M100: {=IF(OR($K$2>J100),"",IFERROR(INDEX(Tableau1[],MATCH(1,('2017'!B100>=Tableau1[[DATE DEBUT ]])*(Tableau1[DATE FIN]>='2017'!B100),0),1),""))}
A101: =A100+1 -> 42834 | B101: =B100+1 -> 42834 | E101: =MOD(D101-C101,1) -> 0 | H101: =MOD(G101-F101,1) -> 0 | J101: =SUM(E101+H101) -> 0 | K101: =IFERROR(VLOOKUP(M101,EMPLOI!A:R,2,0),"") | L101: =IF(WEEKDAY(B101)=7,SUM(OFFSET(B101,0,8,-7,1)),"") | M101: {=IF(OR($K$2>J101),"",IFERROR(INDEX(Tableau1[],MATCH(1,('2017'!B101>=Tableau1[[DATE DEBUT ]])*(Tableau1[DATE FIN]>='2017'!B101),0),1),""))}
A102: =A101+1 -> 42835 | B102: =B101+1 -> 42835 | E102: =MOD(D102-C102,1) -> 0 | H102: =MOD(G102-F102,1) -> 0 | J102: =SUM(E102+H102) -> 0 | K102: =IFERROR(VLOOKUP(M102,EMPLOI!A:R,2,0),"") | L102: =IF(WEEKDAY(B102)=7,SUM(OFFSET(B102,0,8,-7,1)),"") | M102: {=IF(OR($K$2>J102),"",IFERROR(INDEX(Tableau1[],MATCH(1,('2017'!B102>=Tableau1[[DATE DEBUT ]])*(Tableau1[DATE FIN]>='2017'!B102),0),1),""))}
A103: =A102+1 -> 42836 | B103: =B102+1 -> 42836 | E103: =MOD(D103-C103,1) -> 0 | H103: =MOD(G103-F103,1) -> 0 | J103: =SUM(E103+H103) -> 0 | K103: =IFERROR(VLOOKUP(M103,EMPLOI!A:R,2,0),"") | L103: =IF(WEEKDAY(B103)=7,SUM(OFFSET(B103,0,8,-7,1)),"") | M103: {=IF(OR($K$2>J103),"",IFERROR(INDEX(Tableau1[],MATCH(1,('2017'!B103>=Tableau1[[DATE DEBUT ]])*(Tableau1[DATE FIN]>='2017'!B103),0),1),""))}
A104: =A103+1 -> 42837 | B104: =B103+1 -> 42837 | E104: =MOD(D104-C104,1) -> 0 | H104: =MOD(G104-F104,1) -> 0 | J104: =SUM(E104+H104) -> 0 | K104: =IFERROR(VLOOKUP(M104,EMPLOI!A:R,2,0),"") | L104: =IF(WEEKDAY(B104)=7,SUM(OFFSET(B104,0,8,-7,1)),"") | M104: {=IF(OR($K$2>J104),"",IFERROR(INDEX(Tableau1[],MATCH(1,('2017'!B104>=Tableau1[[DATE DEBUT ]])*(Tableau1[DATE FIN]>='2017'!B104),0),1),""))}
A105: =A104+1 -> 42838 | B105: =B104+1 -> 42838 | E105: =MOD(D105-C105,1) -> 0 | H105: =MOD(G105-F105,1) -> 0 | J105: =SUM(E105+H105) -> 0 | K105: =IFERROR(VLOOKUP(M105,EMPLOI!A:R,2,0),"") | L105: =IF(WEEKDAY(B105)=7,SUM(OFFSET(B105,0,8,-7,1)),"") | M105: {=IF(OR($K$2>J105),"",IFERROR(INDEX(Tableau1[],MATCH(1,('2017'!B105>=Tableau1[[DATE DEBUT ]])*(Tableau1[DATE FIN]>='2017'!B105),0),1),""))}
A106: =A105+1 -> 42839 | B106: =B105+1 -> 42839 | E106: =MOD(D106-C106,1) -> 0 | H106: =MOD(G106-F106,1) -> 0 | J106: =SUM(E106+H106) -> 0 | K106: =IFERROR(VLOOKUP(M106,EMPLOI!A:R,2,0),"") | L106: =IF(WEEKDAY(B106)=7,SUM(OFFSET(B106,0,8,-7,1)),"") | M106: {=IF(OR($K$2>J106),"",IFERROR(INDEX(Tableau1[],MATCH(1,('2017'!B106>=Tableau1[[DATE DEBUT ]])*(Tableau1[DATE FIN]>='2017'!B106),0),1),""))}
A107: =A106+1 -> 42840 | B107: =B106+1 -> 42840 | E107: =MOD(D107-C107,1) -> 0 | H107: =MOD(G107-F107,1) -> 0 | J107: =SUM(E107+H107) -> 0 | K107: =IFERROR(VLOOKUP(M107,EMPLOI!A:R,2,0),"") | L107: =IF(WEEKDAY(B107)=7,SUM(OFFSET(B107,0,8,-7,1)),"") -> 0 | M107: {=IF(OR($K$2>J107),"",IFERROR(INDEX(Tableau1[],MATCH(1,('2017'!B107>=Tableau1[[DATE DEBUT ]])*(Tableau1[DATE FIN]>='2017'!B107),0),1),""))}
A108: =A107+1 -> 42841 | B108: =B107+1 -> 42841 | E108: =MOD(D108-C108,1) -> 0 | H108: =MOD(G108-F108,1) -> 0 | J108: =SUM(E108+H108) -> 0 | K108: =IFERROR(VLOOKUP(M108,EMPLOI!A:R,2,0),"") | L108: =IF(WEEKDAY(B108)=7,SUM(OFFSET(B108,0,8,-7,1)),"") | M108: {=IF(OR($K$2>J108),"",IFERROR(INDEX(Tableau1[],MATCH(1,('2017'!B108>=Tableau1[[DATE DEBUT ]])*(Tableau1[DATE FIN]>='2017'!B108),0),1),""))}
A109: =A108+1 -> 42842 | B109: =B108+1 -> 42842 | E109: =MOD(D109-C109,1) -> 0 | H109: =MOD(G109-F109,1) -> 0 | J109: =SUM(E109+H109) -> 0 | K109: =IFERROR(VLOOKUP(M109,EMPLOI!A:R,2,0),"") | L109: =IF(WEEKDAY(B109)=7,SUM(OFFSET(B109,0,8,-7,1)),"") | M109: {=IF(OR($K$2>J109),"",IFERROR(INDEX(Tableau1[],MATCH(1,('2017'!B109>=Tableau1[[DATE DEBUT ]])*(Tableau1[DATE FIN]>='2017'!B109),0),1),""))}
A110: =A109+1 -> 42843 | B110: =B109+1 -> 42843 | E110: =MOD(D110-C110,1) -> 0 | H110: =MOD(G110-F110,1) -> 0 | J110: =SUM(E110+H110) -> 0 | K110: =IFERROR(VLOOKUP(M110,EMPLOI!A:R,2,0),"") | L110: =IF(WEEKDAY(B110)=7,SUM(OFFSET(B110,0,8,-7,1)),"") | M110: {=IF(OR($K$2>J110),"",IFERROR(INDEX(Tableau1[],MATCH(1,('2017'!B110>=Tableau1[[DATE DEBUT ]])*(Tableau1[DATE FIN]>='2017'!B110),0),1),""))}
A111: =A110+1 -> 42844 | B111: =B110+1 -> 42844 | E111: =MOD(D111-C111,1) -> 0 | H111: =MOD(G111-F111,1) -> 0 | J111: =SUM(E111+H111) -> 0 | K111: =IFERROR(VLOOKUP(M111,EMPLOI!A:R,2,0),"") | L111: =IF(WEEKDAY(B111)=7,SUM(OFFSET(B111,0,8,-7,1)),"") | M111: {=IF(OR($K$2>J111),"",IFERROR(INDEX(Tableau1[],MATCH(1,('2017'!B111>=Tableau1[[DATE DEBUT ]])*(Tableau1[DATE FIN]>='2017'!B111),0),1),""))}
... A124: =A123+1 -> 42857 | B124: =B123+1 -> 42857 | E124: =MOD(D124-C124,1) -> 0 | H124: =MOD(G124-F124,1) -> 0 | J124: =SUM(E124+H124) -> 0 | K124: =IFERROR(VLOOKUP(M124,EMPLOI!A:R,2,0),"") | L124: =IF(WEEKDAY(B124)=7,SUM(OFFSET(B124,0,8,-7,1)),"") | M124: {=IF(OR($K$2>J124),"",IFERROR(INDEX(Tableau1[],MATCH(1,('2017'!B124>=Tableau1[[DATE DEBUT ]])*(Tableau1[DATE FIN]>='2017'!B124),0),1),""))}
A125: =A124+1 -> 42858 | B125: =B124+1 -> 42858 | C125: 0.375 | D125: 0.54166667 | E125: =MOD(D125-C125,1) -> 0.16666667 | F125: 0.5625 | G125: 0.70833333 | H125: =MOD(G125-F125,1) -> 0.14583333 | J125: =SUM(E125+H125) -> 0.3125 | K125: =IFERROR(VLOOKUP(M125,EMPLOI!A:R,2,0),"") -> 79.7 | L125: =IF(WEEKDAY(B125)=7,SUM(OFFSET(B125,0,8,-7,1)),"") | M125: {=IF(OR($K$2>J125),"",IFERROR(INDEX(Tableau1[],MATCH(1,('2017'!B125>=Tableau1[[DATE DEBUT ]])*(Tableau1[DATE FIN]>='2017'!B125),0),1),""))} -> B
A126: =A125+1 -> 42859 | B126: =B125+1 -> 42859 | C126: 0.375 | D126: 0.54166667 | E126: =MOD(D126-C126,1) -> 0.16666667 | F126: 0.5625 | G126: 0.70833333 | H126: =MOD(G126-F126,1) -> 0.14583333 | J126: =SUM(E126+H126) -> 0.3125 | K126: =IFERROR(VLOOKUP(M126,EMPLOI!A:R,2,0),"") -> 79.7 | L126: =IF(WEEKDAY(B126)=7,SUM(OFFSET(B126,0,8,-7,1)),"") | M126: {=IF(OR($K$2>J126),"",IFERROR(INDEX(Tableau1[],MATCH(1,('2017'!B126>=Tableau1[[DATE DEBUT ]])*(Tableau1[DATE FIN]>='2017'!B126),0),1),""))} -> B
A127: =A126+1 -> 42860 | B127: =B126+1 -> 42860 | C127: 0.375 | D127: 0.54166667 | E127: =MOD(D127-C127,1) -> 0.16666667 | F127: 0.5625 | G127: 0.70833333 | H127: =MOD(G127-F127,1) -> 0.14583333 | J127: =SUM(E127+H127) -> 0.3125 | K127: =IFERROR(VLOOKUP(M127,EMPLOI!A:R,2,0),"") -> 79.7 | L127: =IF(WEEKDAY(B127)=7,SUM(OFFSET(B127,0,8,-7,1)),"") | M127: {=IF(OR($K$2>J127),"",IFERROR(INDEX(Tableau1[],MATCH(1,('2017'!B127>=Tableau1[[DATE DEBUT ]])*(Tableau1[DATE FIN]>='2017'!B127),0),1),""))} -> B
A128: =A127+1 -> 42861 | B128: =B127+1 -> 42861 | H128: =MOD(G128-F128,1) -> 0 | J128: =SUM(E128+H128) -> 0 | K128: =IFERROR(VLOOKUP(M128,EMPLOI!A:R,2,0),"") | L128: =IF(WEEKDAY(B128)=7,SUM(OFFSET(B128,0,8,-7,1)),"") -> 0.9375 | M128: {=IF(OR($K$2>J128),"",IFERROR(INDEX(Tableau1[],MATCH(1,('2017'!B128>=Tableau1[[DATE DEBUT ]])*(Tableau1[DATE FIN]>='2017'!B128),0),1),""))}
A129: =A128+1 -> 42862 | B129: =B128+1 -> 42862 | H129: =MOD(G129-F129,1) -> 0 | J129: =SUM(E129+H129) -> 0 | K129: =IFERROR(VLOOKUP(M129,EMPLOI!A:R,2,0),"") | L129: =IF(WEEKDAY(B129)=7,SUM(OFFSET(B129,0,8,-7,1)),"") | M129: {=IF(OR($K$2>J129),"",IFERROR(INDEX(Tableau1[],MATCH(1,('2017'!B129>=Tableau1[[DATE DEBUT ]])*(Tableau1[DATE FIN]>='2017'!B129),0),1),""))}
A130: =A129+1 -> 42863 | B130: =B129+1 -> 42863 | H130: =MOD(G130-F130,1) -> 0 | J130: =SUM(E130+H130) -> 0 | K130: =IFERROR(VLOOKUP(M130,EMPLOI!A:R,2,0),"") | L130: =IF(WEEKDAY(B130)=7,SUM(OFFSET(B130,0,8,-7,1)),"") | M130: {=IF(OR($K$2>J130),"",IFERROR(INDEX(Tableau1[],MATCH(1,('2017'!B130>=Tableau1[[DATE DEBUT ]])*(Tableau1[DATE FIN]>='2017'!B130),0),1),""))}
A131: =A130+1 -> 42864 | B131: =B130+1 -> 42864 | C131: 0.375 | D131: 0.54166667 | E131: =MOD(D131-C131,1) -> 0.16666667 | F131: 0.5625 | G131: 0.70833333 | H131: =MOD(G131-F131,1) -> 0.14583333 | J131: =SUM(E131+H131) -> 0.3125 | K131: =IFERROR(VLOOKUP(M131,EMPLOI!A:R,2,0),"") -> 79.7 | L131: =IF(WEEKDAY(B131)=7,SUM(OFFSET(B131,0,8,-7,1)),"") | M131: {=IF(OR($K$2>J131),"",IFERROR(INDEX(Tableau1[],MATCH(1,('2017'!B131>=Tableau1[[DATE DEBUT ]])*(Tableau1[DATE FIN]>='2017'!B131),0),1),""))} -> B
A132: =A131+1 -> 42865 | B132: =B131+1 -> 42865 | C132: 0.375 | D132: 0.54166667 | E132: =MOD(D132-C132,1) -> 0.16666667 | F132: 0.5625 | G132: 0.70833333 | H132: =MOD(G132-F132,1) -> 0.14583333 | J132: =SUM(E132+H132) -> 0.3125 | K132: =IFERROR(VLOOKUP(M132,EMPLOI!A:R,2,0),"") -> 79.7 | L132: =IF(WEEKDAY(B132)=7,SUM(OFFSET(B132,0,8,-7,1)),"") | M132: {=IF(OR($K$2>J132),"",IFERROR(INDEX(Tableau1[],MATCH(1,('2017'!B132>=Tableau1[[DATE DEBUT ]])*(Tableau1[DATE FIN]>='2017'!B132),0),1),""))} -> B
A133: =A132+1 -> 42866 | B133: =B132+1 -> 42866 | C133: 0.375 | D133: 0.54166667 | E133: =MOD(D133-C133,1) -> 0.16666667 | F133: 0.5625 | G133: 0.70833333 | H133: =MOD(G133-F133,1) -> 0.14583333 | J133: =SUM(E133+H133) -> 0.3125 | K133: =IFERROR(VLOOKUP(M133,EMPLOI!A:R,2,0),"") -> 79.7 | L133: =IF(WEEKDAY(B133)=7,SUM(OFFSET(B133,0,8,-7,1)),"") | M133: {=IF(OR($K$2>J133),"",IFERROR(INDEX(Tableau1[],MATCH(1,('2017'!B133>=Tableau1[[DATE DEBUT ]])*(Tableau1[DATE FIN]>='2017'!B133),0),1),""))} -> B
A134: =A133+1 -> 42867 | B134: =B133+1 -> 42867 | C134: 0.375 | D134: 0.54166667 | E134: =MOD(D134-C134,1) -> 0.16666667 | F134: 0.5625 | G134: 0.70833333 | H134: =MOD(G134-F134,1) -> 0.14583333 | J134: =SUM(E134+H134) -> 0.3125 | K134: =IFERROR(VLOOKUP(M134,EMPLOI!A:R,2,0),"") -> 79.7 | L134: =IF(WEEKDAY(B134)=7,SUM(OFFSET(B134,0,8,-7,1)),"") | M134: {=IF(OR($K$2>J134),"",IFERROR(INDEX(Tableau1[],MATCH(1,('2017'!B134>=Tableau1[[DATE DEBUT ]])*(Tableau1[DATE FIN]>='2017'!B134),0),1),""))} -> B
A135: =A134+1 -> 42868 | B135: =B134+1 -> 42868 | H135: =MOD(G135-F135,1) -> 0 | J135: =SUM(E135+H135) -> 0 | K135: =IFERROR(VLOOKUP(M135,EMPLOI!A:R,2,0),"") | L135: =IF(WEEKDAY(B135)=7,SUM(OFFSET(B135,0,8,-7,1)),"") -> 1.25 | M135: {=IF(OR($K$2>J135),"",IFERROR(INDEX(Tableau1[],MATCH(1,('2017'!B135>=Tableau1[[DATE DEBUT ]])*(Tableau1[DATE FIN]>='2017'!B135),0),1),""))}
A136: =A135+1 -> 42869 | B136: =B135+1 -> 42869 | E136: =MOD(D136-C136,1) -> 0 | H136: =MOD(G136-F136,1) -> 0 | J136: =SUM(E136+H136) -> 0 | K136: =IFERROR(VLOOKUP(M136,EMPLOI!A:R,2,0),"") | L136: =IF(WEEKDAY(B136)=7,SUM(OFFSET(B136,0,8,-7,1)),"") | M136: {=IF(OR($K$2>J136),"",IFERROR(INDEX(Tableau1[],MATCH(1,('2017'!B136>=Tableau1[[DATE DEBUT ]])*(Tableau1[DATE FIN]>='2017'!B136),0),1),""))}
A137: =A136+1 -> 42870 | B137: =B136+1 -> 42870 | C137: 0.29166667 | D137: 0.5 | E137: =MOD(D137-C137,1) -> 0.20833333 | F137: 0.52083333 | G137: 0.66666667 | H137: =MOD(G137-F137,1) -> 0.14583333 | J137: =SUM(E137+H137) -> 0.35416667 | K137: =IFERROR(VLOOKUP(M137,EMPLOI!A:R,2,0),"") -> 79.7 | L137: =IF(WEEKDAY(B137)=7,SUM(OFFSET(B137,0,8,-7,1)),"") | M137: {=IF(OR($K$2>J137),"",IFERROR(INDEX(Tableau1[],MATCH(1,('2017'!B137>=Tableau1[[DATE DEBUT ]])*(Tableau1[DATE FIN]>='2017'!B137),0),1),""))} -> B
A138: =A137+1 -> 42871 | B138: =B137+1 -> 42871 | C138: 0.29166667 | D138: 0.5 | E138: =MOD(D138-C138,1) -> 0.20833333 | F138: 0.52083333 | G138: 0.625 | H138: =MOD(G138-F138,1) -> 0.10416667 | J138: =SUM(E138+H138) -> 0.3125 | K138: =IFERROR(VLOOKUP(M138,EMPLOI!A:R,2,0),"") -> 79.7 | L138: =IF(WEEKDAY(B138)=7,SUM(OFFSET(B138,0,8,-7,1)),"") | M138: {=IF(OR($K$2>J138),"",IFERROR(INDEX(Tableau1[],MATCH(1,('2017'!B138>=Tableau1[[DATE DEBUT ]])*(Tableau1[DATE FIN]>='2017'!B138),0),1),""))} -> B
A139: =A138+1 -> 42872 | B139: =B138+1 -> 42872 | C139: 0.29166667 | D139: 0.5 | E139: =MOD(D139-C139,1) -> 0.20833333 | F139: 0.52083333 | G139: 0.625 | H139: =MOD(G139-F139,1) -> 0.10416667 | J139: =SUM(E139+H139) -> 0.3125 | K139: =IFERROR(VLOOKUP(M139,EMPLOI!A:R,2,0),"") -> 79.7 | L139: =IF(WEEKDAY(B139)=7,SUM(OFFSET(B139,0,8,-7,1)),"") | M139: {=IF(OR($K$2>J139),"",IFERROR(INDEX(Tableau1[],MATCH(1,('2017'!B139>=Tableau1[[DATE DEBUT ]])*(Tableau1[DATE FIN]>='2017'!B139),0),1),""))} -> B
A140: =A139+1 -> 42873 | B140: =B139+1 -> 42873 | C140: 0.29166667 | D140: 0.5 | E140: =MOD(D140-C140,1) -> 0.20833333 | F140: 0.52083333 | G140: 0.625 | H140: =MOD(G140-F140,1) -> 0.10416667 | J140: =SUM(E140+H140) -> 0.3125 | K140: =IFERROR(VLOOKUP(M140,EMPLOI!A:R,2,0),"") -> 79.7 | L140: =IF(WEEKDAY(B140)=7,SUM(OFFSET(B140,0,8,-7,1)),"") | M140: {=IF(OR($K$2>J140),"",IFERROR(INDEX(Tableau1[],MATCH(1,('2017'!B140>=Tableau1[[DATE DEBUT ]])*(Tableau1[DATE FIN]>='2017'!B140),0),1),""))} -> B
A141: =A140+1 -> 42874 | B141: =B140+1 -> 42874 | C141: 0.29166667 | D141: 0.5 | E141: =MOD(D141-C141,1) -> 0.20833333 | F141: 0.52083333 | G141: 0.625 | H141: =MOD(G141-F141,1) -> 0.10416667 | J141: =SUM(E141+H141) -> 0.3125 | K141: =IFERROR(VLOOKUP(M141,EMPLOI!A:R,2,0),"") -> 79.7 | L141: =IF(WEEKDAY(B141)=7,SUM(OFFSET(B141,0,8,-7,1)),"") | M141: {=IF(OR($K$2>J141),"",IFERROR(INDEX(Tableau1[],MATCH(1,('2017'!B141>=Tableau1[[DATE DEBUT ]])*(Tableau1[DATE FIN]>='2017'!B141),0),1),""))} -> B
A142: =A141+1 -> 42875 | B142: =B141+1 -> 42875 | E142: =MOD(D142-C142,1) -> 0 | H142: =MOD(G142-F142,1) -> 0 | J142: =SUM(E142+H142) -> 0 | K142: =IFERROR(VLOOKUP(M142,EMPLOI!A:R,2,0),"") | L142: =IF(WEEKDAY(B142)=7,SUM(OFFSET(B142,0,8,-7,1)),"") -> 1.6041667 | M142: {=IF(OR($K$2>J142),"",IFERROR(INDEX(Tableau1[],MATCH(1,('2017'!B142>=Tableau1[[DATE DEBUT ]])*(Tableau1[DATE FIN]>='2017'!B142),0),1),""))}
A143: =A142+1 -> 42876 | B143: =B142+1 -> 42876 | E143: =MOD(D143-C143,1) -> 0 | H143: =MOD(G143-F143,1) -> 0 | J143: =SUM(E143+H143) -> 0 | K143: =IFERROR(VLOOKUP(M143,EMPLOI!A:R,2,0),"") | L143: =IF(WEEKDAY(B143)=7,SUM(OFFSET(B143,0,8,-7,1)),"") | M143: {=IF(OR($K$2>J143),"",IFERROR(INDEX(Tableau1[],MATCH(1,('2017'!B143>=Tableau1[[DATE DEBUT ]])*(Tableau1[DATE FIN]>='2017'!B143),0),1),""))}
A144: =A143+1 -> 42877 | B144: =B143+1 -> 42877 | C144: 0.45833333 | D144: 0.58333333 | E144: =MOD(D144-C144,1) -> 0.125 | F144: 0.60416667 | G144: 0.79166667 | H144: =MOD(G144-F144,1) -> 0.1875 | J144: =SUM(E144+H144) -> 0.3125 | K144: =IFERROR(VLOOKUP(M144,EMPLOI!A:R,2,0),"") -> 79.7 | L144: =IF(WEEKDAY(B144)=7,SUM(OFFSET(B144,0,8,-7,1)),"") | M144: {=IF(OR($K$2>J144),"",IFERROR(INDEX(Tableau1[],MATCH(1,('2017'!B144>=Tableau1[[DATE DEBUT ]])*(Tableau1[DATE FIN]>='2017'!B144),0),1),""))} -> B
A145: =A144+1 -> 42878 | B145: =B144+1 -> 42878 | C145: 0.45833333 | D145: 0.58333333 | E145: =MOD(D145-C145,1) -> 0.125 | F145: 0.60416667 | G145: 0.79166667 | H145: =MOD(G145-F145,1) -> 0.1875 | J145: =SUM(E145+H145) -> 0.3125 | K145: =IFERROR(VLOOKUP(M145,EMPLOI!A:R,2,0),"") -> 79.7 | L145: =IF(WEEKDAY(B145)=7,SUM(OFFSET(B145,0,8,-7,1)),"") | M145: {=IF(OR($K$2>J145),"",IFERROR(INDEX(Tableau1[],MATCH(1,('2017'!B145>=Tableau1[[DATE DEBUT ]])*(Tableau1[DATE FIN]>='2017'!B145),0),1),""))} -> B
A146: =A145+1 -> 42879 | B146: =B145+1 -> 42879 | C146: 0.45833333 | D146: 0.58333333 | E146: =MOD(D146-C146,1) -> 0.125 | F146: 0.60416667 | G146: 0.73263889 | H146: =MOD(G146-F146,1) -> 0.12847222 | J146: =SUM(E146+H146) -> 0.25347222 | K146: =IFERROR(VLOOKUP(M146,EMPLOI!A:R,2,0),"") -> 79.7 | L146: =IF(WEEKDAY(B146)=7,SUM(OFFSET(B146,0,8,-7,1)),"") | M146: {=IF(OR($K$2>J146),"",IFERROR(INDEX(Tableau1[],MATCH(1,('2017'!B146>=Tableau1[[DATE DEBUT ]])*(Tableau1[DATE FIN]>='2017'!B146),0),1),""))} -> B
A147: =A146+1 -> 42880 | B147: =B146+1 -> 42880 | E147: =MOD(D147-C147,1) -> 0 | H147: =MOD(G147-F147,1) -> 0 | J147: =SUM(E147+H147) -> 0 | K147: =IFERROR(VLOOKUP(M147,EMPLOI!A:R,2,0),"") | L147: =IF(WEEKDAY(B147)=7,SUM(OFFSET(B147,0,8,-7,1)),"") | M147: {=IF(OR($K$2>J147),"",IFERROR(INDEX(Tableau1[],MATCH(1,('2017'!B147>=Tableau1[[DATE DEBUT ]])*(Tableau1[DATE FIN]>='2017'!B147),0),1),""))}
A148: =A147+1 -> 42881 | B148: =B147+1 -> 42881 | E148: =MOD(D148-C148,1) -> 0 | H148: =MOD(G148-F148,1) -> 0 | J148: =SUM(E148+H148) -> 0 | K148: =IFERROR(VLOOKUP(M148,EMPLOI!A:R,2,0),"") | L148: =IF(WEEKDAY(B148)=7,SUM(OFFSET(B148,0,8,-7,1)),"") | M148: {=IF(OR($K$2>J148),"",IFERROR(INDEX(Tableau1[],MATCH(1,('2017'!B148>=Tableau1[[DATE DEBUT ]])*(Tableau1[DATE FIN]>='2017'!B148),0),1),""))}
A149: =A148+1 -> 42882 | B149: =B148+1 -> 42882 | E149: =MOD(D149-C149,1) -> 0 | H149: =MOD(G149-F149,1) -> 0 | J149: =SUM(E149+H149) -> 0 | K149: =IFERROR(VLOOKUP(M149,EMPLOI!A:R,2,0),"") | L149: =IF(WEEKDAY(B149)=7,SUM(OFFSET(B149,0,8,-7,1)),"") -> 0.87847222 | M149: {=IF(OR($K$2>J149),"",IFERROR(INDEX(Tableau1[],MATCH(1,('2017'!B149>=Tableau1[[DATE DEBUT ]])*(Tableau1[DATE FIN]>='2017'!B149),0),1),""))}
A150: =A149+1 -> 42883 | B150: =B149+1 -> 42883 | E150: =MOD(D150-C150,1) -> 0 | H150: =MOD(G150-F150,1) -> 0 | J150: =SUM(E150+H150) -> 0 | K150: =IFERROR(VLOOKUP(M150,EMPLOI!A:R,2,0),"") | L150: =IF(WEEKDAY(B150)=7,SUM(OFFSET(B150,0,8,-7,1)),"") | M150: {=IF(OR($K$2>J150),"",IFERROR(INDEX(Tableau1[],MATCH(1,('2017'!B150>=Tableau1[[DATE DEBUT ]])*(Tableau1[DATE FIN]>='2017'!B150),0),1),""))}
A151: =A150+1 -> 42884 | B151: =B150+1 -> 42884 | C151: 0.29166667 | D151: 0.5 | E151: =MOD(D151-C151,1) -> 0.20833333 | F151: 0.52083333 | G151: 0.64583333 | H151: =MOD(G151-F151,1) -> 0.125 | J151: =SUM(E151+H151) -> 0.33333333 | K151: =IFERROR(VLOOKUP(M151,EMPLOI!A:R,2,0),"") -> 79.7 | L151: =IF(WEEKDAY(B151)=7,SUM(OFFSET(B151,0,8,-7,1)),"") | M151: {=IF(OR($K$2>J151),"",IFERROR(INDEX(Tableau1[],MATCH(1,('2017'!B151>=Tableau1[[DATE DEBUT ]])*(Tableau1[DATE FIN]>='2017'!B151),0),1),""))} -> B
A152: =A151+1 -> 42885 | B152: =B151+1 -> 42885 | C152: 0.29166667 | D152: 0.5 | E152: =MOD(D152-C152,1) -> 0.20833333 | F152: 0.52083333 | G152: 0.625 | H152: =MOD(G152-F152,1) -> 0.10416667 | J152: =SUM(E152+H152) -> 0.3125 | K152: =IFERROR(VLOOKUP(M152,EMPLOI!A:R,2,0),"") -> 79.7 | L152: =IF(WEEKDAY(B152)=7,SUM(OFFSET(B152,0,8,-7,1)),"") | M152: {=IF(OR($K$2>J152),"",IFERROR(INDEX(Tableau1[],MATCH(1,('2017'!B152>=Tableau1[[DATE DEBUT ]])*(Tableau1[DATE FIN]>='2017'!B152),0),1),""))} -> B
A153: =A152+1 -> 42886 | B153: =B152+1 -> 42886 | C153: 0.29166667 | D153: 0.5 | E153: =MOD(D153-C153,1) -> 0.20833333 | F153: 0.52083333 | G153: 0.625 | H153: =MOD(G153-F153,1) -> 0.10416667 | J153: =SUM(E153+H153) -> 0.3125 | K153: =IFERROR(VLOOKUP(M153,EMPLOI!A:R,2,0),"") -> 79.7 | L153: =IF(WEEKDAY(B153)=7,SUM(OFFSET(B153,0,8,-7,1)),"") | M153: {=IF(OR($K$2>J153),"",IFERROR(INDEX(Tableau1[],MATCH(1,('2017'!B153>=Tableau1[[DATE DEBUT ]])*(Tableau1[DATE FIN]>='2017'!B153),0),1),""))} -> B
A154: =A153+1 -> 42887 | B154: =B153+1 -> 42887 | C154: 0.29166667 | D154: 0.5 | E154: =MOD(D154-C154,1) -> 0.20833333 | F154: 0.52083333 | G154: 0.625 | H154: =MOD(G154-F154,1) -> 0.10416667 | J154: =SUM(E154+H154) -> 0.3125 | K154: =IFERROR(VLOOKUP(M154,EMPLOI!A:R,2,0),"") -> 79.7 | L154: =IF(WEEKDAY(B154)=7,SUM(OFFSET(B154,0,8,-7,1)),"") | M154: {=IF(OR($K$2>J154),"",IFERROR(INDEX(Tableau1[],MATCH(1,('2017'!B154>=Tableau1[[DATE DEBUT ]])*(Tableau1[DATE FIN]>='2017'!B154),0),1),""))} -> B
A155: =A154+1 -> 42888 | B155: =B154+1 -> 42888 | C155: 0.29166667 | D155: 0.5 | E155: =MOD(D155-C155,1) -> 0.20833333 | F155: 0.52083333 | G155: 0.625 | H155: =MOD(G155-F155,1) -> 0.10416667 | J155: =SUM(E155+H155) -> 0.3125 | K155: =IFERROR(VLOOKUP(M155,EMPLOI!A:R,2,0),"") -> 79.7 | L155: =IF(WEEKDAY(B155)=7,SUM(OFFSET(B155,0,8,-7,1)),"") | M155: {=IF(OR($K$2>J155),"",IFERROR(INDEX(Tableau1[],MATCH(1,('2017'!B155>=Tableau1[[DATE DEBUT ]])*(Tableau1[DATE FIN]>='2017'!B155),0),1),""))} -> B
A156: =A155+1 -> 42889 | B156: =B155+1 -> 42889 | E156: =MOD(D156-C156,1) -> 0 | H156: =MOD(G156-F156,1) -> 0 | J156: =SUM(E156+H156) -> 0 | K156: =IFERROR(VLOOKUP(M156,EMPLOI!A:R,2,0),"") | L156: =IF(WEEKDAY(B156)=7,SUM(OFFSET(B156,0,8,-7,1)),"") -> 1.5833333 | M156: {=IF(OR($K$2>J156),"",IFERROR(INDEX(Tableau1[],MATCH(1,('2017'!B156>=Tableau1[[DATE DEBUT ]])*(Tableau1[DATE FIN]>='2017'!B156),0),1),""))}
A157: =A156+1 -> 42890 | B157: =B156+1 -> 42890 | E157: =MOD(D157-C157,1) -> 0 | H157: =MOD(G157-F157,1) -> 0 | J157: =SUM(E157+H157) -> 0 | K157: =IFERROR(VLOOKUP(M157,EMPLOI!A:R,2,0),"") | L157: =IF(WEEKDAY(B157)=7,SUM(OFFSET(B157,0,8,-7,1)),"") | M157: {=IF(OR($K$2>J157),"",IFERROR(INDEX(Tableau1[],MATCH(1,('2017'!B157>=Tableau1[[DATE DEBUT ]])*(Tableau1[DATE FIN]>='2017'!B157),0),1),""))}
A158: =A157+1 -> 42891 | B158: =B157+1 -> 42891 | E158: =MOD(D158-C158,1) -> 0 | H158: =MOD(G158-F158,1) -> 0 | J158: =SUM(E158+H158) -> 0 | K158: =IFERROR(VLOOKUP(M158,EMPLOI!A:R,2,0),"") | L158: =IF(WEEKDAY(B158)=7,SUM(OFFSET(B158,0,8,-7,1)),"") | M158: {=IF(OR($K$2>J158),"",IFERROR(INDEX(Tableau1[],MATCH(1,('2017'!B158>=Tableau1[[DATE DEBUT ]])*(Tableau1[DATE FIN]>='2017'!B158),0),1),""))}
A159: =A158+1 -> 42892 | B159: =B158+1 -> 42892 | C159: 0.29166667 | D159: 0.5 | E159: =MOD(D159-C159,1) -> 0.20833333 | F159: 0.52083333 | G159: 0.625 | H159: =MOD(G159-F159,1) -> 0.10416667 | J159: =SUM(E159+H159) -> 0.3125 | K159: =IFERROR(VLOOKUP(M159,EMPLOI!A:R,2,0),"") -> 79.7 | L159: =IF(WEEKDAY(B159)=7,SUM(OFFSET(B159,0,8,-7,1)),"") | M159: {=IF(OR($K$2>J159),"",IFERROR(INDEX(Tableau1[],MATCH(1,('2017'!B159>=Tableau1[[DATE DEBUT ]])*(Tableau1[DATE FIN]>='2017'!B159),0),1),""))} -> B
A160: =A159+1 -> 42893 | B160: =B159+1 -> 42893 | C160: 0.29166667 | D160: 0.5 | E160: =MOD(D160-C160,1) -> 0.20833333 | F160: 0.52083333 | G160: 0.63541667 | H160: =MOD(G160-F160,1) -> 0.11458333 | J160: =SUM(E160+H160) -> 0.32291667 | K160: =IFERROR(VLOOKUP(M160,EMPLOI!A:R,2,0),"") -> 79.7 | L160: =IF(WEEKDAY(B160)=7,SUM(OFFSET(B160,0,8,-7,1)),"") | M160: {=IF(OR($K$2>J160),"",IFERROR(INDEX(Tableau1[],MATCH(1,('2017'!B160>=Tableau1[[DATE DEBUT ]])*(Tableau1[DATE FIN]>='2017'!B160),0),1),""))} -> B
A161: =A160+1 -> 42894 | B161: =B160+1 -> 42894 | C161: 0.29166667 | D161: 0.5 | E161: =MOD(D161-C161,1) -> 0.20833333 | F161: 0.52083333 | G161: 0.625 | H161: =MOD(G161-F161,1) -> 0.10416667 | J161: =SUM(E161+H161) -> 0.3125 | K161: =IFERROR(VLOOKUP(M161,EMPLOI!A:R,2,0),"") -> 79.7 | L161: =IF(WEEKDAY(B161)=7,SUM(OFFSET(B161,0,8,-7,1)),"") | M161: {=IF(OR($K$2>J161),"",IFERROR(INDEX(Tableau1[],MATCH(1,('2017'!B161>=Tableau1[[DATE DEBUT ]])*(Tableau1[DATE FIN]>='2017'!B161),0),1),""))} -> B
A162: =A161+1 -> 42895 | B162: =B161+1 -> 42895 | C162: 0.29166667 | D162: 0.5 | E162: =MOD(D162-C162,1) -> 0.20833333 | F162: 0.52083333 | G162: 0.625 | H162: =MOD(G162-F162,1) -> 0.10416667 | J162: =SUM(E162+H162) -> 0.3125 | K162: =IFERROR(VLOOKUP(M162,EMPLOI!A:R,2,0),"") -> 79.7 | L162: =IF(WEEKDAY(B162)=7,SUM(OFFSET(B162,0,8,-7,1)),"") | M162: {=IF(OR($K$2>J162),"",IFERROR(INDEX(Tableau1[],MATCH(1,('2017'!B162>=Tableau1[[DATE DEBUT ]])*(Tableau1[DATE FIN]>='2017'!B162),0),1),""))} -> B
A163: =A162+1 -> 42896 | B163: =B162+1 -> 42896 | E163: =MOD(D163-C163,1) -> 0 | H163: =MOD(G163-F163,1) -> 0 | J163: =SUM(E163+H163) -> 0 | K163: =IFERROR(VLOOKUP(M163,EMPLOI!A:R,2,0),"") | L163: =IF(WEEKDAY(B163)=7,SUM(OFFSET(B163,0,8,-7,1)),"") -> 1.2604167 | M163: {=IF(OR($K$2>J163),"",IFERROR(INDEX(Tableau1[],MATCH(1,('2017'!B163>=Tableau1[[DATE DEBUT ]])*(Tableau1[DATE FIN]>='2017'!B163),0),1),""))}
A164: =A163+1 -> 42897 | B164: =B163+1 -> 42897 | E164: =MOD(D164-C164,1) -> 0 | H164: =MOD(G164-F164,1) -> 0 | J164: =SUM(E164+H164) -> 0 | K164: =IFERROR(VLOOKUP(M164,EMPLOI!A:R,2,0),"") | L164: =IF(WEEKDAY(B164)=7,SUM(OFFSET(B164,0,8,-7,1)),"") | M164: {=IF(OR($K$2>J164),"",IFERROR(INDEX(Tableau1[],MATCH(1,('2017'!B164>=Tableau1[[DATE DEBUT ]])*(Tableau1[DATE FIN]>='2017'!B164),0),1),""))}
A165: =A164+1 -> 42898 | B165: =B164+1 -> 42898 | C165: 0.45833333 | D165: 0.5 | E165: =MOD(D165-C165,1) -> 0.041666667 | F165: 0.52083333 | G165: 0.79166667 | H165: =MOD(G165-F165,1) -> 0.27083333 | J165: =SUM(E165+H165) -> 0.3125 | K165: =IFERROR(VLOOKUP(M165,EMPLOI!A:R,2,0),"") -> 79.7 | L165: =IF(WEEKDAY(B165)=7,SUM(OFFSET(B165,0,8,-7,1)),"") | M165: {=IF(OR($K$2>J165),"",IFERROR(INDEX(Tableau1[],MATCH(1,('2017'!B165>=Tableau1[[DATE DEBUT ]])*(Tableau1[DATE FIN]>='2017'!B165),0),1),""))} -> B
A166: =A165+1 -> 42899 | B166: =B165+1 -> 42899 | C166: 0.45833333 | D166: 0.5 | E166: =MOD(D166-C166,1) -> 0.041666667 | F166: 0.52083333 | G166: 0.79166667 | H166: =MOD(G166-F166,1) -> 0.27083333 | J166: =SUM(E166+H166) -> 0.3125 | K166: =IFERROR(VLOOKUP(M166,EMPLOI!A:R,2,0),"") -> 79.7 | L166: =IF(WEEKDAY(B166)=7,SUM(OFFSET(B166,0,8,-7,1)),"") | M166: {=IF(OR($K$2>J166),"",IFERROR(INDEX(Tableau1[],MATCH(1,('2017'!B166>=Tableau1[[DATE DEBUT ]])*(Tableau1[DATE FIN]>='2017'!B166),0),1),""))} -> B
A167: =A166+1 -> 42900 | B167: =B166+1 -> 42900 | C167: 0.45833333 | D167: 0.5 | E167: =MOD(D167-C167,1) -> 0.041666667 | F167: 0.52083333 | G167: 0.79166667 | H167: =MOD(G167-F167,1) -> 0.27083333 | J167: =SUM(E167+H167) -> 0.3125 | K167: =IFERROR(VLOOKUP(M167,EMPLOI!A:R,2,0),"") -> 79.7 | L167: =IF(WEEKDAY(B167)=7,SUM(OFFSET(B167,0,8,-7,1)),"") | M167: {=IF(OR($K$2>J167),"",IFERROR(INDEX(Tableau1[],MATCH(1,('2017'!B167>=Tableau1[[DATE DEBUT ]])*(Tableau1[DATE FIN]>='2017'!B167),0),1),""))} -> B
A168: =A167+1 -> 42901 | B168: =B167+1 -> 42901 | C168: 0.45833333 | D168: 0.5 | E168: =MOD(D168-C168,1) -> 0.041666667 | F168: 0.52083333 | G168: 0.79166667 | H168: =MOD(G168-F168,1) -> 0.27083333 | J168: =SUM(E168+H168) -> 0.3125 | K168: =IFERROR(VLOOKUP(M168,EMPLOI!A:R,2,0),"") -> 79.7 | L168: =IF(WEEKDAY(B168)=7,SUM(OFFSET(B168,0,8,-7,1)),"") | M168: {=IF(OR($K$2>J168),"",IFERROR(INDEX(Tableau1[],MATCH(1,('2017'!B168>=Tableau1[[DATE DEBUT ]])*(Tableau1[DATE FIN]>='2017'!B168),0),1),""))} -> B
A169: =A168+1 -> 42902 | B169: =B168+1 -> 42902 | C169: 0.45833333 | D169: 0.5 | E169: =MOD(D169-C169,1) -> 0.041666667 | F169: 0.52083333 | G169: 0.75 | H169: =MOD(G169-F169,1) -> 0.22916667 | J169: =SUM(E169+H169) -> 0.27083333 | K169: =IFERROR(VLOOKUP(M169,EMPLOI!A:R,2,0),"") -> 79.7 | L169: =IF(WEEKDAY(B169)=7,SUM(OFFSET(B169,0,8,-7,1)),"") | M169: {=IF(OR($K$2>J169),"",IFERROR(INDEX(Tableau1[],MATCH(1,('2017'!B169>=Tableau1[[DATE DEBUT ]])*(Tableau1[DATE FIN]>='2017'!B169),0),1),""))} -> B
A170: =A169+1 -> 42903 | B170: =B169+1 -> 42903 | E170: =MOD(D170-C170,1) -> 0 | H170: =MOD(G170-F170,1) -> 0 | J170: =SUM(E170+H170) -> 0 | K170: =IFERROR(VLOOKUP(M170,EMPLOI!A:R,2,0),"") | L170: =IF(WEEKDAY(B170)=7,SUM(OFFSET(B170,0,8,-7,1)),"") -> 1.5208333 | M170: {=IF(OR($K$2>J170),"",IFERROR(INDEX(Tableau1[],MATCH(1,('2017'!B170>=Tableau1[[DATE DEBUT ]])*(Tableau1[DATE FIN]>='2017'!B170),0),1),""))}
...

Sheet 2018
C1: =COUNTIF(L:M,B1) -> 51
C2: Arrivée | D2: Départ | E2: Total 1 | F2: Arrivée | G2: Départ | H2: Total 2 | I2: Code | J2: Total | K2: 1.1574074e-05 | M2: Lieux | O2: Cumul | P2: Remarques | Q2: =YEAR(B3) -> 2018
A3: =DATE(2017,1,1) -> 42736 | B3: =DATE(2018,1,1) -> 43101 | E3: =MOD(D3-C3,1) -> 0 | H3: =MOD(G3-F3,1) -> 0 | J3: =SUM(E3+H3) -> 0 | K3: =IFERROR(VLOOKUP(M3,EMPLOI!A:R,2,0),"") | L3: =IF(WEEKDAY(B3)=7,SUM(OFFSET(B3,0,8,-7,1)),"") | M3: {=IF(OR($K$2>J3),"",IFERROR(INDEX(Tableau1[],MATCH(1,('2018'!B3>=Tableau1[[DATE DEBUT ]])*(Tableau1[DATE FIN]>='2018'!B3),0),1),""))} | Q3: Jours Fériés et Fêtes
A4: =A3+1 -> 42737 | B4: =B3+1 -> 43102 | E4: =MOD(D4-C4,1) -> 0 | H4: =MOD(G4-F4,1) -> 0 | I4: RTT | J4: =SUM(E4+H4) -> 0 | K4: =IFERROR(VLOOKUP(M4,EMPLOI!A:R,2,0),"") | L4: =IF(WEEKDAY(B4)=7,SUM(OFFSET(B4,0,8,-7,1)),"") | M4: {=IF(OR($K$2>J4),"",IFERROR(INDEX(Tableau1[],MATCH(1,('2018'!B4>=Tableau1[[DATE DEBUT ]])*(Tableau1[DATE FIN]>='2018'!B4),0),1),""))} | Q4: JOUR DE L'AN | R4: =DATE(Q2,1,1) -> 43101
A5: =A4+1 -> 42738 | B5: =B4+1 -> 43103 | E5: =MOD(D5-C5,1) -> 0 | H5: =MOD(G5-F5,1) -> 0 | I5: RTT | J5: =IFERROR(SUM(E5,H5),"") -> 0 | K5: =IFERROR(VLOOKUP(M5,EMPLOI!A:R,2,0),"") | L5: =IF(WEEKDAY(B5)=7,SUM(OFFSET(B5,0,8,-7,1)),"") | M5: {=IF(OR($K$2>J5),"",IFERROR(INDEX(Tableau1[],MATCH(1,('2018'!B5>=Tableau1[[DATE DEBUT ]])*(Tableau1[DATE FIN]>='2018'!B5),0),1),""))} | Q5: PÂQUES | R5: =FLOOR(DATE(Q2,5,DAY(MINUTE(Q2/38)/2+56)),7)-34+7*(Q2=2079) -> 43191
A6: =A5+1 -> 42739 | B6: =B5+1 -> 43104 | E6: =MOD(D6-C6,1) -> 0 | H6: =MOD(G6-F6,1) -> 0 | I6: RTT | J6: =SUM(E6+H6) -> 0 | K6: =IFERROR(VLOOKUP(M6,EMPLOI!A:R,2,0),"") | L6: =IF(WEEKDAY(B6)=7,SUM(OFFSET(B6,0,8,-7,1)),"") | M6: {=IF(OR($K$2>J6),"",IFERROR(INDEX(Tableau1[],MATCH(1,('2018'!B6>=Tableau1[[DATE DEBUT ]])*(Tableau1[DATE FIN]>='2018'!B6),0),1),""))} | Q6: *Lundi de Pâques | R6: =R5+1 -> 43192
A7: =A6+1 -> 42740 | B7: =B6+1 -> 43105 | E7: =MOD(D7-C7,1) -> 0 | H7: =MOD(G7-F7,1) -> 0 | I7: RTT | J7: =SUM(E7+H7) -> 0 | K7: =IFERROR(VLOOKUP(M7,EMPLOI!A:R,2,0),"") | L7: =IF(WEEKDAY(B7)=7,SUM(OFFSET(B7,0,8,-7,1)),"") | M7: {=IF(OR($K$2>J7),"",IFERROR(INDEX(Tableau1[],MATCH(1,('2018'!B7>=Tableau1[[DATE DEBUT ]])*(Tableau1[DATE FIN]>='2018'!B7),0),1),""))} | Q7: FÊTE DU TRAVAIL | R7: =DATE(Année!A5,5,1) -> 42856
A8: =A7+1 -> 42741 | B8: =B7+1 -> 43106 | E8: =MOD(D8-C8,1) -> 0 | H8: =MOD(G8-F8,1) -> 0 | J8: =SUM(E8+H8) -> 0 | K8: =IFERROR(VLOOKUP(M8,EMPLOI!A:R,2,0),"") | L8: =IF(WEEKDAY(B8)=7,SUM(OFFSET(B8,0,8,-7,1)),"") -> 0 | M8: {=IF(OR($K$2>J8),"",IFERROR(INDEX(Tableau1[],MATCH(1,('2018'!B8>=Tableau1[[DATE DEBUT ]])*(Tableau1[DATE FIN]>='2018'!B8),0),1),""))} | Q8: ASCENSION | R8: =R5+39 -> 43230
A9: =A8+1 -> 42742 | B9: =B8+1 -> 43107 | E9: =MOD(D9-C9,1) -> 0 | H9: =MOD(G9-F9,1) -> 0 | J9: =SUM(E9+H9) -> 0 | K9: =IFERROR(VLOOKUP(M9,EMPLOI!A:R,2,0),"") | L9: =IF(WEEKDAY(B9)=7,SUM(OFFSET(B9,0,8,-7,1)),"") | M9: {=IF(OR($K$2>J9),"",IFERROR(INDEX(Tableau1[],MATCH(1,('2018'!B9>=Tableau1[[DATE DEBUT ]])*(Tableau1[DATE FIN]>='2018'!B9),0),1),""))} | Q9: VICTOIRE 1945 | R9: =DATE(Q2,5,8) -> 43228
A10: =A9+1 -> 42743 | B10: =B9+1 -> 43108 | E10: =MOD(D10-C10,1) -> 0 | H10: =MOD(G10-F10,1) -> 0 | I10: VACANCE | J10: =SUM(E10+H10) -> 0 | K10: =IFERROR(VLOOKUP(M10,EMPLOI!A:R,2,0),"") | L10: =IF(WEEKDAY(B10)=7,SUM(OFFSET(B10,0,8,-7,1)),"") | M10: {=IF(OR($K$2>J10),"",IFERROR(INDEX(Tableau1[],MATCH(1,('2018'!B10>=Tableau1[[DATE DEBUT ]])*(Tableau1[DATE FIN]>='2018'!B10),0),1),""))} | Q10: PENTECÔTE | R10: =R5+49 -> 43240
A11: =A10+1 -> 42744 | B11: =B10+1 -> 43109 | E11: =MOD(D11-C11,1) -> 0 | H11: =MOD(G11-F11,1) -> 0 | I11: VACANCE | J11: =SUM(E11+H11) -> 0 | K11: =IFERROR(VLOOKUP(M11,EMPLOI!A:R,2,0),"") | L11: =IF(WEEKDAY(B11)=7,SUM(OFFSET(B11,0,8,-7,1)),"") | M11: {=IF(OR($K$2>J11),"",IFERROR(INDEX(Tableau1[],MATCH(1,('2018'!B11>=Tableau1[[DATE DEBUT ]])*(Tableau1[DATE FIN]>='2018'!B11),0),1),""))} | Q11: *Lundi de Pentecôte | R11: =R5+50 -> 43241
A12: =A11+1 -> 42745 | B12: =B11+1 -> 43110 | E12: =MOD(D12-C12,1) -> 0 | H12: =MOD(G12-F12,1) -> 0 | I12: VACANCE | J12: =SUM(E12+H12) -> 0 | K12: =IFERROR(VLOOKUP(M12,EMPLOI!A:R,2,0),"") | L12: =IF(WEEKDAY(B12)=7,SUM(OFFSET(B12,0,8,-7,1)),"") | M12: {=IF(OR($K$2>J12),"",IFERROR(INDEX(Tableau1[],MATCH(1,('2018'!B12>=Tableau1[[DATE DEBUT ]])*(Tableau1[DATE FIN]>='2018'!B12),0),1),""))} | Q12: FÊTE NAT | R12: =DATE(Q2,7,14) -> 43295
A13: =A12+1 -> 42746 | B13: =B12+1 -> 43111 | E13: =MOD(D13-C13,1) -> 0 | H13: =MOD(G13-F13,1) -> 0 | I13: VACANCE | J13: =SUM(E13+H13) -> 0 | K13: =IFERROR(VLOOKUP(M13,EMPLOI!A:R,2,0),"") | L13: =IF(WEEKDAY(B13)=7,SUM(OFFSET(B13,0,8,-7,1)),"") | M13: {=IF(OR($K$2>J13),"",IFERROR(INDEX(Tableau1[],MATCH(1,('2018'!B13>=Tableau1[[DATE DEBUT ]])*(Tableau1[DATE FIN]>='2018'!B13),0),1),""))} | Q13: ASSOMPTION | R13: =DATE(Q2,8,15) -> 43327
A14: =A13+1 -> 42747 | B14: =B13+1 -> 43112 | E14: =MOD(D14-C14,1) -> 0 | H14: =MOD(G14-F14,1) -> 0 | I14: VACANCE | J14: =SUM(E14+H14) -> 0 | K14: =IFERROR(VLOOKUP(M14,EMPLOI!A:R,2,0),"") | L14: =IF(WEEKDAY(B14)=7,SUM(OFFSET(B14,0,8,-7,1)),"") | M14: {=IF(OR($K$2>J14),"",IFERROR(INDEX(Tableau1[],MATCH(1,('2018'!B14>=Tableau1[[DATE DEBUT ]])*(Tableau1[DATE FIN]>='2018'!B14),0),1),""))} | Q14: TOUSSAINT | R14: =DATE(Q2,11,1) -> 43405
A15: =A14+1 -> 42748 | B15: =B14+1 -> 43113 | E15: =MOD(D15-C15,1) -> 0 | H15: =MOD(G15-F15,1) -> 0 | J15: =SUM(E15+H15) -> 0 | K15: =IFERROR(VLOOKUP(M15,EMPLOI!A:R,2,0),"") | L15: =IF(WEEKDAY(B15)=7,SUM(OFFSET(B15,0,8,-7,1)),"") -> 0 | M15: {=IF(OR($K$2>J15),"",IFERROR(INDEX(Tableau1[],MATCH(1,('2018'!B15>=Tableau1[[DATE DEBUT ]])*(Tableau1[DATE FIN]>='2018'!B15),0),1),""))} | Q15: ARMISTICE 1918 | R15: =DATE(Q2,11,11) -> 43415
A16: =A15+1 -> 42749 | B16: =B15+1 -> 43114 | E16: =MOD(D16-C16,1) -> 0 | H16: =MOD(G16-F16,1) -> 0 | J16: =SUM(E16+H16) -> 0 | K16: =IFERROR(VLOOKUP(M16,EMPLOI!A:R,2,0),"") | L16: =IF(WEEKDAY(B16)=7,SUM(OFFSET(B16,0,8,-7,1)),"") | M16: {=IF(OR($K$2>J16),"",IFERROR(INDEX(Tableau1[],MATCH(1,('2018'!B16>=Tableau1[[DATE DEBUT ]])*(Tableau1[DATE FIN]>='2018'!B16),0),1),""))} | Q16: NOËL | R16: =DATE(Q2,12,25) -> 43459
A17: =A16+1 -> 42750 | B17: =B16+1 -> 43115 | E17: =MOD(D17-C17,1) -> 0 | H17: =MOD(G17-F17,1) -> 0 | J17: =SUM(E17+H17) -> 0 | K17: =IFERROR(VLOOKUP(M17,EMPLOI!A:R,2,0),"") | L17: =IF(WEEKDAY(B17)=7,SUM(OFFSET(B17,0,8,-7,1)),"") | M17: {=IF(OR($K$2>J17),"",IFERROR(INDEX(Tableau1[],MATCH(1,('2018'!B17>=Tableau1[[DATE DEBUT ]])*(Tableau1[DATE FIN]>='2018'!B17),0),1),""))}
A18: =A17+1 -> 42751 | B18: =B17+1 -> 43116 | E18: =MOD(D18-C18,1) -> 0 | H18: =MOD(G18-F18,1) -> 0 | J18: =SUM(E18+H18) -> 0 | K18: =IFERROR(VLOOKUP(M18,EMPLOI!A:R,2,0),"") | L18: =IF(WEEKDAY(B18)=7,SUM(OFFSET(B18,0,8,-7,1)),"") | M18: {=IF(OR($K$2>J18),"",IFERROR(INDEX(Tableau1[],MATCH(1,('2018'!B18>=Tableau1[[DATE DEBUT ]])*(Tableau1[DATE FIN]>='2018'!B18),0),1),""))} | Q18: Mardi-Gras | R18: =R5-47 -> 43144
A19: =A18+1 -> 42752 | B19: =B18+1 -> 43117 | E19: =MOD(D19-C19,1) -> 0 | H19: =MOD(G19-F19,1) -> 0 | J19: =SUM(E19+H19) -> 0 | K19: =IFERROR(VLOOKUP(M19,EMPLOI!A:R,2,0),"") | L19: =IF(WEEKDAY(B19)=7,SUM(OFFSET(B19,0,8,-7,1)),"") | M19: {=IF(OR($K$2>J19),"",IFERROR(INDEX(Tableau1[],MATCH(1,('2018'!B19>=Tableau1[[DATE DEBUT ]])*(Tableau1[DATE FIN]>='2018'!B19),0),1),""))} | Q19: Cendres | R19: =R5-46 -> 43145
A20: =A19+1 -> 42753 | B20: =B19+1 -> 43118 | E20: =MOD(D20-C20,1) -> 0 | H20: =MOD(G20-F20,1) -> 0 | J20: =SUM(E20+H20) -> 0 | K20: =IFERROR(VLOOKUP(M20,EMPLOI!A:R,2,0),"") | L20: =IF(WEEKDAY(B20)=7,SUM(OFFSET(B20,0,8,-7,1)),"") | M20: {=IF(OR($K$2>J20),"",IFERROR(INDEX(Tableau1[],MATCH(1,('2018'!B20>=Tableau1[[DATE DEBUT ]])*(Tableau1[DATE FIN]>='2018'!B20),0),1),""))} | Q20: Rameaux | R20: =R5-7 -> 43184
A21: =A20+1 -> 42754 | B21: =B20+1 -> 43119 | E21: =MOD(D21-C21,1) -> 0 | H21: =MOD(G21-F21,1) -> 0 | J21: =SUM(E21+H21) -> 0 | K21: =IFERROR(VLOOKUP(M21,EMPLOI!A:R,2,0),"") | L21: =IF(WEEKDAY(B21)=7,SUM(OFFSET(B21,0,8,-7,1)),"") | M21: {=IF(OR($K$2>J21),"",IFERROR(INDEX(Tableau1[],MATCH(1,('2018'!B21>=Tableau1[[DATE DEBUT ]])*(Tableau1[DATE FIN]>='2018'!B21),0),1),""))}
A22: =A21+1 -> 42755 | B22: =B21+1 -> 43120 | E22: =MOD(D22-C22,1) -> 0 | H22: =MOD(G22-F22,1) -> 0 | J22: =SUM(E22+H22) -> 0 | K22: =IFERROR(VLOOKUP(M22,EMPLOI!A:R,2,0),"") | L22: =IF(WEEKDAY(B22)=7,SUM(OFFSET(B22,0,8,-7,1)),"") -> 0 | M22: {=IF(OR($K$2>J22),"",IFERROR(INDEX(Tableau1[],MATCH(1,('2018'!B22>=Tableau1[[DATE DEBUT ]])*(Tableau1[DATE FIN]>='2018'!B22),0),1),""))} | Q22: Epiphanie | R22: =DATE(Q2,1,1)+7-WEEKDAY(DATE(Q2,1,1),2) -> 43107
A23: =A22+1 -> 42756 | B23: =B22+1 -> 43121 | E23: =MOD(D23-C23,1) -> 0 | H23: =MOD(G23-F23,1) -> 0 | J23: =SUM(E23+H23) -> 0 | K23: =IFERROR(VLOOKUP(M23,EMPLOI!A:R,2,0),"") | L23: =IF(WEEKDAY(B23)=7,SUM(OFFSET(B23,0,8,-7,1)),"") | M23: {=IF(OR($K$2>J23),"",IFERROR(INDEX(Tableau1[],MATCH(1,('2018'!B23>=Tableau1[[DATE DEBUT ]])*(Tableau1[DATE FIN]>='2018'!B23),0),1),""))}
A24: =A23+1 -> 42757 | B24: =B23+1 -> 43122 | E24: =MOD(D24-C24,1) -> 0 | H24: =MOD(G24-F24,1) -> 0 | J24: =SUM(E24+H24) -> 0 | K24: =IFERROR(VLOOKUP(M24,EMPLOI!A:R,2,0),"") | L24: =IF(WEEKDAY(B24)=7,SUM(OFFSET(B24,0,8,-7,1)),"") | M24: {=IF(OR($K$2>J24),"",IFERROR(INDEX(Tableau1[],MATCH(1,('2018'!B24>=Tableau1[[DATE DEBUT ]])*(Tableau1[DATE FIN]>='2018'!B24),0),1),""))} | Q24: Fête Dieu | R24: =R5+63 -> 43254
A25: =A24+1 -> 42758 | B25: =B24+1 -> 43123 | E25: =MOD(D25-C25,1) -> 0 | H25: =MOD(G25-F25,1) -> 0 | J25: =SUM(E25+H25) -> 0 | K25: =IFERROR(VLOOKUP(M25,EMPLOI!A:R,2,0),"") | L25: =IF(WEEKDAY(B25)=7,SUM(OFFSET(B25,0,8,-7,1)),"") | M25: {=IF(OR($K$2>J25),"",IFERROR(INDEX(Tableau1[],MATCH(1,('2018'!B25>=Tableau1[[DATE DEBUT ]])*(Tableau1[DATE FIN]>='2018'!B25),0),1),""))}
A26: =A25+1 -> 42759 | B26: =B25+1 -> 43124 | E26: =MOD(D26-C26,1) -> 0 | H26: =MOD(G26-F26,1) -> 0 | J26: =SUM(E26+H26) -> 0 | K26: =IFERROR(VLOOKUP(M26,EMPLOI!A:R,2,0),"") | L26: =IF(WEEKDAY(B26)=7,SUM(OFFSET(B26,0,8,-7,1)),"") | M26: {=IF(OR($K$2>J26),"",IFERROR(INDEX(Tableau1[],MATCH(1,('2018'!B26>=Tableau1[[DATE DEBUT ]])*(Tableau1[DATE FIN]>='2018'!B26),0),1),""))}
A27: =A26+1 -> 42760 | B27: =B26+1 -> 43125 | E27: =MOD(D27-C27,1) -> 0 | H27: =MOD(G27-F27,1) -> 0 | J27: =SUM(E27+H27) -> 0 | K27: =IFERROR(VLOOKUP(M27,EMPLOI!A:R,2,0),"") | L27: =IF(WEEKDAY(B27)=7,SUM(OFFSET(B27,0,8,-7,1)),"") | M27: {=IF(OR($K$2>J27),"",IFERROR(INDEX(Tableau1[],MATCH(1,('2018'!B27>=Tableau1[[DATE DEBUT ]])*(Tableau1[DATE FIN]>='2018'!B27),0),1),""))}
A28: =A27+1 -> 42761 | B28: =B27+1 -> 43126 | E28: =MOD(D28-C28,1) -> 0 | H28: =MOD(G28-F28,1) -> 0 | J28: =SUM(E28+H28) -> 0 | K28: =IFERROR(VLOOKUP(M28,EMPLOI!A:R,2,0),"") | L28: =IF(WEEKDAY(B28)=7,SUM(OFFSET(B28,0,8,-7,1)),"") | M28: {=IF(OR($K$2>J28),"",IFERROR(INDEX(Tableau1[],MATCH(1,('2018'!B28>=Tableau1[[DATE DEBUT ]])*(Tableau1[DATE FIN]>='2018'!B28),0),1),""))}
A29: =A28+1 -> 42762 | B29: =B28+1 -> 43127 | E29: =MOD(D29-C29,1) -> 0 | H29: =MOD(G29-F29,1) -> 0 | J29: =SUM(E29+H29) -> 0 | K29: =IFERROR(VLOOKUP(M29,EMPLOI!A:R,2,0),"") | L29: =IF(WEEKDAY(B29)=7,SUM(OFFSET(B29,0,8,-7,1)),"") -> 0 | M29: {=IF(OR($K$2>J29),"",IFERROR(INDEX(Tableau1[],MATCH(1,('2018'!B29>=Tableau1[[DATE DEBUT ]])*(Tableau1[DATE FIN]>='2018'!B29),0),1),""))}
A30: =A29+1 -> 42763 | B30: =B29+1 -> 43128 | E30: =MOD(D30-C30,1) -> 0 | H30: =MOD(G30-F30,1) -> 0 | J30: =SUM(E30+H30) -> 0 | K30: =IFERROR(VLOOKUP(M30,EMPLOI!A:R,2,0),"") | L30: =IF(WEEKDAY(B30)=7,SUM(OFFSET(B30,0,8,-7,1)),"") | M30: {=IF(OR($K$2>J30),"",IFERROR(INDEX(Tableau1[],MATCH(1,('2018'!B30>=Tableau1[[DATE DEBUT ]])*(Tableau1[DATE FIN]>='2018'!B30),0),1),""))}
A31: =A30+1 -> 42764 | B31: =B30+1 -> 43129 | E31: =MOD(D31-C31,1) -> 0 | H31: =MOD(G31-F31,1) -> 0 | J31: =SUM(E31+H31) -> 0 | K31: =IFERROR(VLOOKUP(M31,EMPLOI!A:R,2,0),"") | L31: =IF(WEEKDAY(B31)=7,SUM(OFFSET(B31,0,8,-7,1)),"") | M31: {=IF(OR($K$2>J31),"",IFERROR(INDEX(Tableau1[],MATCH(1,('2018'!B31>=Tableau1[[DATE DEBUT ]])*(Tableau1[DATE FIN]>='2018'!B31),0),1),""))}
A32: =A31+1 -> 42765 | B32: =B31+1 -> 43130 | E32: =MOD(D32-C32,1) -> 0 | H32: =MOD(G32-F32,1) -> 0 | J32: =SUM(E32+H32) -> 0 | K32: =IFERROR(VLOOKUP(M32,EMPLOI!A:R,2,0),"") | L32: =IF(WEEKDAY(B32)=7,SUM(OFFSET(B32,0,8,-7,1)),"") | M32: {=IF(OR($K$2>J32),"",IFERROR(INDEX(Tableau1[],MATCH(1,('2018'!B32>=Tableau1[[DATE DEBUT ]])*(Tableau1[DATE FIN]>='2018'!B32),0),1),""))}
A33: =A32+1 -> 42766 | B33: =B32+1 -> 43131 | E33: =MOD(D33-C33,1) -> 0 | H33: =MOD(G33-F33,1) -> 0 | J33: =SUM(E33+H33) -> 0 | K33: =IFERROR(VLOOKUP(M33,EMPLOI!A:R,2,0),"") | L33: =IF(WEEKDAY(B33)=7,SUM(OFFSET(B33,0,8,-7,1)),"") | M33: {=IF(OR($K$2>J33),"",IFERROR(INDEX(Tableau1[],MATCH(1,('2018'!B33>=Tableau1[[DATE DEBUT ]])*(Tableau1[DATE FIN]>='2018'!B33),0),1),""))}
A34: =A33+1 -> 42767 | B34: =B33+1 -> 43132 | E34: =MOD(D34-C34,1) -> 0 | H34: =MOD(G34-F34,1) -> 0 | J34: =SUM(E34+H34) -> 0 | K34: =IFERROR(VLOOKUP(M34,EMPLOI!A:R,2,0),"") | L34: =IF(WEEKDAY(B34)=7,SUM(OFFSET(B34,0,8,-7,1)),"") | M34: {=IF(OR($K$2>J34),"",IFERROR(INDEX(Tableau1[],MATCH(1,('2018'!B34>=Tableau1[[DATE DEBUT ]])*(Tableau1[DATE FIN]>='2018'!B34),0),1),""))}
A35: =A34+1 -> 42768 | B35: =B34+1 -> 43133 | E35: =MOD(D35-C35,1) -> 0 | H35: =MOD(G35-F35,1) -> 0 | J35: =SUM(E35+H35) -> 0 | K35: =IFERROR(VLOOKUP(M35,EMPLOI!A:R,2,0),"") | L35: =IF(WEEKDAY(B35)=7,SUM(OFFSET(B35,0,8,-7,1)),"") | M35: {=IF(OR($K$2>J35),"",IFERROR(INDEX(Tableau1[],MATCH(1,('2018'!B35>=Tableau1[[DATE DEBUT ]])*(Tableau1[DATE FIN]>='2018'!B35),0),1),""))}
A36: =A35+1 -> 42769 | B36: =B35+1 -> 43134 | E36: =MOD(D36-C36,1) -> 0 | H36: =MOD(G36-F36,1) -> 0 | J36: =SUM(E36+H36) -> 0 | K36: =IFERROR(VLOOKUP(M36,EMPLOI!A:R,2,0),"") | L36: =IF(WEEKDAY(B36)=7,SUM(OFFSET(B36,0,8,-7,1)),"") -> 0 | M36: {=IF(OR($K$2>J36),"",IFERROR(INDEX(Tableau1[],MATCH(1,('2018'!B36>=Tableau1[[DATE DEBUT ]])*(Tableau1[DATE FIN]>='2018'!B36),0),1),""))}
... A174: =A173+1 -> 42907 | B174: =B173+1 -> 43272 | E174: =MOD(D174-C174,1) -> 0 | H174: =MOD(G174-F174,1) -> 0 | J174: =SUM(E174+H174) -> 0 | K174: =IFERROR(VLOOKUP(M174,EMPLOI!A:R,2,0),"") | L174: =IF(WEEKDAY(B174)=7,SUM(OFFSET(B174,0,8,-7,1)),"") | M174: {=IF(OR($K$2>J174),"",IFERROR(INDEX(Tableau1[],MATCH(1,('2018'!B174>=Tableau1[[DATE DEBUT ]])*(Tableau1[DATE FIN]>='2018'!B174),0),1),""))}
A175: =A174+1 -> 42908 | B175: =B174+1 -> 43273 | C175: 0.29166667 | D175: 0.5 | E175: =MOD(D175-C175,1) -> 0.20833333 | F175: 0.54166667 | G175: 0.79166667 | H175: =MOD(G175-F175,1) -> 0.25 | I175: 1 | J175: =SUM(E175+H175) -> 0.45833333 | K175: =IFERROR(VLOOKUP(M175,EMPLOI!A:R,2,0),"") -> ?? | L175: =IF(WEEKDAY(B175)=7,SUM(OFFSET(B175,0,8,-7,1)),"") | M175: {=IF(OR($K$2>J175),"",IFERROR(INDEX(Tableau1[],MATCH(1,('2018'!B175>=Tableau1[[DATE DEBUT ]])*(Tableau1[DATE FIN]>='2018'!B175),0),1),""))} -> D
A176: =A175+1 -> 42909 | B176: =B175+1 -> 43274 | E176: =MOD(D176-C176,1) -> 0 | H176: =MOD(G176-F176,1) -> 0 | J176: =SUM(E176+H176) -> 0 | K176: =IFERROR(VLOOKUP(M176,EMPLOI!A:R,2,0),"") | L176: =IF(WEEKDAY(B176)=7,SUM(OFFSET(B176,0,8,-7,1)),"") -> 0.45833333 | M176: {=IF(OR($K$2>J176),"",IFERROR(INDEX(Tableau1[],MATCH(1,('2018'!B176>=Tableau1[[DATE DEBUT ]])*(Tableau1[DATE FIN]>='2018'!B176),0),1),""))}
A177: =A176+1 -> 42910 | B177: =B176+1 -> 43275 | E177: =MOD(D177-C177,1) -> 0 | H177: =MOD(G177-F177,1) -> 0 | J177: =SUM(E177+H177) -> 0 | K177: =IFERROR(VLOOKUP(M177,EMPLOI!A:R,2,0),"") | L177: =IF(WEEKDAY(B177)=7,SUM(OFFSET(B177,0,8,-7,1)),"") | M177: {=IF(OR($K$2>J177),"",IFERROR(INDEX(Tableau1[],MATCH(1,('2018'!B177>=Tableau1[[DATE DEBUT ]])*(Tableau1[DATE FIN]>='2018'!B177),0),1),""))}
A178: =A177+1 -> 42911 | B178: =B177+1 -> 43276 | E178: =MOD(D178-C178,1) -> 0 | H178: =MOD(G178-F178,1) -> 0 | J178: =SUM(E178+H178) -> 0 | K178: =IFERROR(VLOOKUP(M178,EMPLOI!A:R,2,0),"") | L178: =IF(WEEKDAY(B178)=7,SUM(OFFSET(B178,0,8,-7,1)),"") | M178: {=IF(OR($K$2>J178),"",IFERROR(INDEX(Tableau1[],MATCH(1,('2018'!B178>=Tableau1[[DATE DEBUT ]])*(Tableau1[DATE FIN]>='2018'!B178),0),1),""))}
A179: =A178+1 -> 42912 | B179: =B178+1 -> 43277 | E179: =MOD(D179-C179,1) -> 0 | H179: =MOD(G179-F179,1) -> 0 | J179: =SUM(E179+H179) -> 0 | K179: =IFERROR(VLOOKUP(M179,EMPLOI!A:R,2,0),"") | L179: =IF(WEEKDAY(B179)=7,SUM(OFFSET(B179,0,8,-7,1)),"") | M179: {=IF(OR($K$2>J179),"",IFERROR(INDEX(Tableau1[],MATCH(1,('2018'!B179>=Tableau1[[DATE DEBUT ]])*(Tableau1[DATE FIN]>='2018'!B179),0),1),""))}
A180: =A179+1 -> 42913 | B180: =B179+1 -> 43278 | E180: =MOD(D180-C180,1) -> 0 | H180: =MOD(G180-F180,1) -> 0 | J180: =SUM(E180+H180) -> 0 | K180: =IFERROR(VLOOKUP(M180,EMPLOI!A:R,2,0),"") | L180: =IF(WEEKDAY(B180)=7,SUM(OFFSET(B180,0,8,-7,1)),"") | M180: {=IF(OR($K$2>J180),"",IFERROR(INDEX(Tableau1[],MATCH(1,('2018'!B180>=Tableau1[[DATE DEBUT ]])*(Tableau1[DATE FIN]>='2018'!B180),0),1),""))}
A181: =A180+1 -> 42914 | B181: =B180+1 -> 43279 | E181: =MOD(D181-C181,1) -> 0 | H181: =MOD(G181-F181,1) -> 0 | J181: =SUM(E181+H181) -> 0 | K181: =IFERROR(VLOOKUP(M181,EMPLOI!A:R,2,0),"") | L181: =IF(WEEKDAY(B181)=7,SUM(OFFSET(B181,0,8,-7,1)),"") | M181: {=IF(OR($K$2>J181),"",IFERROR(INDEX(Tableau1[],MATCH(1,('2018'!B181>=Tableau1[[DATE DEBUT ]])*(Tableau1[DATE FIN]>='2018'!B181),0),1),""))}
A182: =A181+1 -> 42915 | B182: =B181+1 -> 43280 | E182: =MOD(D182-C182,1) -> 0 | H182: =MOD(G182-F182,1) -> 0 | J182: =SUM(E182+H182) -> 0 | K182: =IFERROR(VLOOKUP(M182,EMPLOI!A:R,2,0),"") | L182: =IF(WEEKDAY(B182)=7,SUM(OFFSET(B182,0,8,-7,1)),"") | M182: {=IF(OR($K$2>J182),"",IFERROR(INDEX(Tableau1[],MATCH(1,('2018'!B182>=Tableau1[[DATE DEBUT ]])*(Tableau1[DATE FIN]>='2018'!B182),0),1),""))}
A183: =A182+1 -> 42916 | B183: =B182+1 -> 43281 | E183: =MOD(D183-C183,1) -> 0 | H183: =MOD(G183-F183,1) -> 0 | J183: =SUM(E183+H183) -> 0 | K183: =IFERROR(VLOOKUP(M183,EMPLOI!A:R,2,0),"") | L183: =IF(WEEKDAY(B183)=7,SUM(OFFSET(B183,0,8,-7,1)),"") -> 0 | M183: {=IF(OR($K$2>J183),"",IFERROR(INDEX(Tableau1[],MATCH(1,('2018'!B183>=Tableau1[[DATE DEBUT ]])*(Tableau1[DATE FIN]>='2018'!B183),0),1),""))}
A184: =A183+1 -> 42917 | B184: =B183+1 -> 43282 | E184: =MOD(D184-C184,1) -> 0 | H184: =MOD(G184-F184,1) -> 0 | J184: =SUM(E184+H184) -> 0 | K184: =IFERROR(VLOOKUP(M184,EMPLOI!A:R,2,0),"") | L184: =IF(WEEKDAY(B184)=7,SUM(OFFSET(B184,0,8,-7,1)),"") | M184: {=IF(OR($K$2>J184),"",IFERROR(INDEX(Tableau1[],MATCH(1,('2018'!B184>=Tableau1[[DATE DEBUT ]])*(Tableau1[DATE FIN]>='2018'!B184),0),1),""))}
A185: =A184+1 -> 42918 | B185: =B184+1 -> 43283 | E185: =MOD(D185-C185,1) -> 0 | H185: =MOD(G185-F185,1) -> 0 | J185: =SUM(E185+H185) -> 0 | K185: =IFERROR(VLOOKUP(M185,EMPLOI!A:R,2,0),"") | L185: =IF(WEEKDAY(B185)=7,SUM(OFFSET(B185,0,8,-7,1)),"") | M185: {=IF(OR($K$2>J185),"",IFERROR(INDEX(Tableau1[],MATCH(1,('2018'!B185>=Tableau1[[DATE DEBUT ]])*(Tableau1[DATE FIN]>='2018'!B185),0),1),""))}
A186: =A185+1 -> 42919 | B186: =B185+1 -> 43284 | E186: =MOD(D186-C186,1) -> 0 | H186: =MOD(G186-F186,1) -> 0 | J186: =SUM(E186+H186) -> 0 | K186: =IFERROR(VLOOKUP(M186,EMPLOI!A:R,2,0),"") | L186: =IF(WEEKDAY(B186)=7,SUM(OFFSET(B186,0,8,-7,1)),"") | M186: {=IF(OR($K$2>J186),"",IFERROR(INDEX(Tableau1[],MATCH(1,('2018'!B186>=Tableau1[[DATE DEBUT ]])*(Tableau1[DATE FIN]>='2018'!B186),0),1),""))}
A187: =A186+1 -> 42920 | B187: =B186+1 -> 43285 | E187: =MOD(D187-C187,1) -> 0 | H187: =MOD(G187-F187,1) -> 0 | J187: =SUM(E187+H187) -> 0 | K187: =IFERROR(VLOOKUP(M187,EMPLOI!A:R,2,0),"") | L187: =IF(WEEKDAY(B187)=7,SUM(OFFSET(B187,0,8,-7,1)),"") | M187: {=IF(OR($K$2>J187),"",IFERROR(INDEX(Tableau1[],MATCH(1,('2018'!B187>=Tableau1[[DATE DEBUT ]])*(Tableau1[DATE FIN]>='2018'!B187),0),1),""))}
... A367: =A366+1 -> 43100 | B367: =B366+1 -> 43465 | E367: =MOD(D367-C367,1) -> 0 | H367: =MOD(G367-F367,1) -> 0 | J367: =SUM(E367+H367) -> 0 | K367: =IFERROR(VLOOKUP(M367,EMPLOI!A:R,2,0),"") | L367: =IF(WEEKDAY(B367)=7,SUM(OFFSET(B367,0,8,-7,1)),"") | M367: {=IF(OR($K$2>J367),"",IFERROR(INDEX(Tableau1[],MATCH(1,('2018'!B367>=Tableau1[[DATE DEBUT ]])*(Tableau1[DATE FIN]>='2018'!B367),0),1),""))}
A368: =A367+1 -> 43101 | B368: =B367+1 -> 43466 | E368: =MOD(D368-C368,1) -> 0 | H368: =MOD(G368-F368,1) -> 0 | J368: =SUM(E368+H368) -> 0 | K368: =IFERROR(VLOOKUP(M368,EMPLOI!A:R,2,0),"") | L368: =IF(WEEKDAY(B368)=7,SUM(OFFSET(B368,0,8,-7,1)),"") | M368: {=IF(OR($K$2>J368),"",IFERROR(INDEX(Tableau1[],MATCH(1,('2017'!B368>=Tableau1[[DATE DEBUT ]])*(Tableau1[DATE FIN]>='2017'!B368),0),1),""))}

Sheet EMPLOI
A1: NOM ENTREPRISE | B1: Km A/R | C1: DATE DEBUT | D1: DATE FIN | E1: NOMBRES JOURS | F1: NOMBRES HEURES | G1: Km Total Période | H1: JOUR NUIT | I1: AGENCE | J1: BASE TAUX HORAIRE | K1: PRIME HORAIRE 1 | L1: PRIME HORAIRE 2 | M1: PRIME HORAIRE 3 | N1: PANIER JOUR 1 | O1: PANIER JOUR 2 | P1: PANIER JOUR 3
E2: =SUMPRODUCT((INDIRECT(YEAR(Tableau1[[#This Row],[DATE DEBUT ]])&"!$M$3:$M$368")=EMPLOI!A2)*(INDIRECT(YEAR(Tableau1[[#This Row],[DATE DEBUT ]])&"!$A$3:$A$368")>=EMPLOI!C2)*(INDIRECT(YEAR(Tableau1[[#This Row],[DATE FIN]])&"!$A$3:$A$368")<=EMPLOI!$D2)) -> #REF! | F2: =SUMPRODUCT((INDIRECT(YEAR(Tableau1[[#This Row],[DATE DEBUT ]])&"!$A$3:$A$368")>=EMPLOI!C2)*(INDIRECT(YEAR(Tableau1[[#This Row],[DATE FIN]])&"!$A$3:$A$368")<=EMPLOI!$D2)*INDIRECT(YEAR(Tableau1[[#This Row],[DATE DEBUT ]])&"!$I$3:$I$368")) -> #REF! | G2: =Tableau1[[#This Row],[Km A/R]]*Tableau1[[#This Row],[NOMBRES JOURS]] -> #REF! | L2: =0.976*2 -> 1.952
A3: D | B3: ?? | C3: 43273 | D3: 43343 | E3: =SUMPRODUCT((INDIRECT(YEAR(Tableau1[[#This Row],[DATE DEBUT ]])&"!$M$3:$M$368")=EMPLOI!A3)*(INDIRECT(YEAR(Tableau1[[#This Row],[DATE DEBUT ]])&"!$A$3:$A$368")>=EMPLOI!C3)*(INDIRECT(YEAR(Tableau1[[#This Row],[DATE FIN]])&"!$A$3:$A$368")<=EMPLOI!$D3)) -> 0 | F3: =SUMPRODUCT((INDIRECT(YEAR(Tableau1[[#This Row],[DATE DEBUT ]])&"!$A$3:$A$368")>=EMPLOI!C3)*(INDIRECT(YEAR(Tableau1[[#This Row],[DATE FIN]])&"!$A$3:$A$368")<=EMPLOI!$D3)*INDIRECT(YEAR(Tableau1[[#This Row],[DATE DEBUT ]])&"!$I$3:$I$368")) -> #VALUE! | G3: =Tableau1[[#This Row],[Km A/R]]*Tableau1[[#This Row],[NOMBRES JOURS]] -> #VALUE! | L3: =0.976*2 -> 1.952
A4: C | B4: 79.4 | C4: 42975 | D4: 42979 | E4: =SUMPRODUCT((INDIRECT(YEAR(Tableau1[[#This Row],[DATE DEBUT ]])&"!$M$3:$M$368")=EMPLOI!A4)*(INDIRECT(YEAR(Tableau1[[#This Row],[DATE DEBUT ]])&"!$A$3:$A$368")>=EMPLOI!C4)*(INDIRECT(YEAR(Tableau1[[#This Row],[DATE FIN]])&"!$A$3:$A$368")<=EMPLOI!$D4)) -> 3 | F4: =SUMPRODUCT((INDIRECT(YEAR(Tableau1[[#This Row],[DATE DEBUT ]])&"!$A$3:$A$368")>=EMPLOI!C4)*(INDIRECT(YEAR(Tableau1[[#This Row],[DATE FIN]])&"!$A$3:$A$368")<=EMPLOI!$D4)*INDIRECT(YEAR(Tableau1[[#This Row],[DATE DEBUT ]])&"!$J$3:$J$368")) -> 0.95833333 | G4: =Tableau1[[#This Row],[Km A/R]]*Tableau1[[#This Row],[NOMBRES JOURS]] -> 238.2 | H4: N | I4: 1 | J4: 9.76 | K4: 2 | L4: =0.976*2 -> 1.952 | N4: 6.4 | O4: 1.58
A5: C | B5: 79.4 | C5: 42926 | D5: 42951 | E5: =SUMPRODUCT((INDIRECT(YEAR(Tableau1[[#This Row],[DATE DEBUT ]])&"!$M$3:$M$368")=EMPLOI!A5)*(INDIRECT(YEAR(Tableau1[[#This Row],[DATE DEBUT ]])&"!$A$3:$A$368")>=EMPLOI!C5)*(INDIRECT(YEAR(Tableau1[[#This Row],[DATE FIN]])&"!$A$3:$A$368")<=EMPLOI!$D5)) -> 19 | F5: =SUMPRODUCT((INDIRECT(YEAR(Tableau1[[#This Row],[DATE DEBUT ]])&"!$A$3:$A$368")>=EMPLOI!C5)*(INDIRECT(YEAR(Tableau1[[#This Row],[DATE FIN]])&"!$A$3:$A$368")<=EMPLOI!$D5)*INDIRECT(YEAR(Tableau1[[#This Row],[DATE DEBUT ]])&"!$J$3:$J$368")) -> 5.5833333 | G5: =Tableau1[[#This Row],[Km A/R]]*Tableau1[[#This Row],[NOMBRES JOURS]] -> 1508.6 | H5: N | I5: 1 | J5: 9.76 | K5: 2 | N5: 6.4 | O5: 1.58
A6: B | B6: 79.7 | C6: 42858 | D6: 42916 | E6: =SUMPRODUCT((INDIRECT(YEAR(Tableau1[[#This Row],[DATE DEBUT ]])&"!$M$3:$M$368")=EMPLOI!A6)*(INDIRECT(YEAR(Tableau1[[#This Row],[DATE DEBUT ]])&"!$A$3:$A$368")>=EMPLOI!C6)*(INDIRECT(YEAR(Tableau1[[#This Row],[DATE FIN]])&"!$A$3:$A$368")<=EMPLOI!$D6)) -> 39 | F6: =SUMPRODUCT((INDIRECT(YEAR(Tableau1[[#This Row],[DATE DEBUT ]])&"!$A$3:$A$368")>=EMPLOI!C6)*(INDIRECT(YEAR(Tableau1[[#This Row],[DATE FIN]])&"!$A$3:$A$368")<=EMPLOI!$D6)*INDIRECT(YEAR(Tableau1[[#This Row],[DATE DEBUT ]])&"!$J$3:$J$368")) -> 12.170139 | G6: =Tableau1[[#This Row],[Km A/R]]*Tableau1[[#This Row],[NOMBRES JOURS]] -> 3108.3 | H6: J | I6: 1 | J6: 9.76 | K6: 0.81 | N6: 6.4
A7: A | B7: 70.6 | C7: 42829 | D7: 42832 | E7: =SUMPRODUCT((INDIRECT(YEAR(Tableau1[[#This Row],[DATE DEBUT ]])&"!$M$3:$M$368")=EMPLOI!A7)*(INDIRECT(YEAR(Tableau1[[#This Row],[DATE DEBUT ]])&"!$A$3:$A$368")>=EMPLOI!C7)*(INDIRECT(YEAR(Tableau1[[#This Row],[DATE FIN]])&"!$A$3:$A$368")<=EMPLOI!$D7)) -> 4 | F7: =SUMPRODUCT((INDIRECT(YEAR(Tableau1[[#This Row],[DATE DEBUT ]])&"!$A$3:$A$368")>=EMPLOI!C7)*(INDIRECT(YEAR(Tableau1[[#This Row],[DATE FIN]])&"!$A$3:$A$368")<=EMPLOI!$D7)*INDIRECT(YEAR(Tableau1[[#This Row],[DATE DEBUT ]])&"!$J$3:$J$368")) -> 1.1666667 | G7: =Tableau1[[#This Row],[Km A/R]]*Tableau1[[#This Row],[NOMBRES JOURS]] -> 282.4 | H7: J | I7: 1 | J7: 9.76

Sheet Calcul Salaire
A1: ANNEE | B1: =IFERROR(YEAR(C2),"") -> 2017 | H1: NOMBRE JOUR TRAVAILLER | I1: {=SUMPRODUCT((INDIRECT(YEAR(C2)&"!$M$2:$M$368")=B3)*(INDIRECT(YEAR(C2)&"!$A$2:$A$368")>=C2)*(INDIRECT(YEAR(F2)&"!$A$2:$A$368")<=$F2))} -> 0
A2: PERIODE | B2: du | C2: 42917 | E2: au | F2: =EOMONTH(C2,0) -> 42947
A3: ENTREPRISE | B3: T.N.T. | H3: NOMBRE HEURES TRAVAILLER | I3: {=SUMPRODUCT((INDIRECT(YEAR(C2)&"!$A$3:$A$368")>=C2)*(INDIRECT(YEAR(F2)&"!$A$3:$A$368")<=F2)*INDIRECT(YEAR(C2)&"!$J$3:$J$368"))} -> 4.4166667 | L3: =IF(OR($B$1>0),"",IFERROR(INDEX(,MATCH(1,(C2)*(F2),0),1),""))
A4: AGENCE | B4: =IFERROR(VLOOKUP(B3,EMPLOI!A5:N7,9),"") -> 1
A6: Taux HORAIRE | C6: =IFERROR(VLOOKUP($B$3,EMPLOI!A:R,10,0),"") | F6: =IF(IFERROR(C6>0,""),$I$3*24,"") -> 106 | H6: =C6*F6 -> #VALUE! | L6: =EOMONTH(C2,0) -> 42947
A8: Prime Horaire 1 | C8: =IFERROR(VLOOKUP($B$3,EMPLOI!A:R,11,0),"") | F8: =IF(IFERROR(C8>0,"0"),$I$3*24,"0") -> 106 | H8: =C8*F8 -> #VALUE!
A9: Prime Horaire 2 | C9: =IFERROR(VLOOKUP($B$3,EMPLOI!A:R,12,0),"") | F9: =IF(IFERROR(C9>0,"0"),$I$3*24,"0") -> 106 | H9: =C9*F9 -> #VALUE!
A10: Prime Horaire 3 | C10: =IFERROR(VLOOKUP($B$3,EMPLOI!A:R,13,0),"") | F10: =IF(IFERROR(C10>0,"0"),$I$3*24,"0") -> 106 | H10: =C10*F10 -> #VALUE!
A12: Prime Jour 1 | C12: =IFERROR(VLOOKUP($B$3,EMPLOI!A:R,14,0),"") | F12: =IF(IFERROR(C12>0,""),$I$1,"0") -> 0 | H12: =C12*F12 -> #VALUE!
A13: Prime Jour 2 | C13: =IFERROR(VLOOKUP($B$3,EMPLOI!A:R,15,0),"") | F13: =IF(IFERROR(C13>0,""),$I$1,"0") -> 0 | H13: =C13*F13 -> #VALUE!
A14: Prime Jour 3 | C14: =IFERROR(VLOOKUP($B$3,EMPLOI!A:R,16,0),"") | F14: =IF(IFERROR(C14>0,""),$I$1,"0") -> 0 | H14: =C14*F14 -> #VALUE!
A16: Prime Exceptionnel | C16: 50 | F16: 1 | H16: =C16*F16 -> 50
A17: MAJ Jour Férié | C17: 9.76 | F17: 8 | H17: =C17*F17 -> 78.08
A19: SOUS TOTAL | H19: =SUM(H6:H16) -> #VALUE!

Sheet Km
B1: 1 | D1: 95 | F1: 99 | H1: 104 | J1: 108 | L1: 111 | N1: 113 | P1: 114/15
B2: A | C2: R | D2: A | E2: R | F2: A | G2: R | H2: A | I2: R | J2: A | K2: R | L2: A | M2: R | N2: A | O2: R | P2: A | Q2: R
A4: D | B4: 13 | C4: 13 | D4: 14.5 | E4: 14.5 | F4: 2.2 | G4: 2.2 | H4: 6.4 | I4: 6.8
A5: =EMPLOI!A4 -> C | B5: 39.7 | C5: 39.7
A6: =EMPLOI!A5 -> C | B6: 39.7 | C6: 39.7
A7: =EMPLOI!A6 -> B | B7: 39.9 | C7: 39.8
A8: =EMPLOI!A7 -> A | B8: 35.3 | C8: 35.3
