Workbook
Name Année: '[1]2 Enfants'!$B$10
Name Férié: Année!$AL$10:$AL$22
Name Fêtes: Année!$AL$24:$AL$28
Name JourCalculé: " =Feuil1!$B$10-JOURSEM(Feuil1!$B$10;3)+((LIGNE()-LIGNE(Feuil1!$AF$7))*7)+COLONNE()-COLONNE(Feuil1!$AF$7)"
Name NOM_ENTREPRISE: EMPLOI!$A$2:$A$20

Sheet Année
AG2: =TODAY() -> 42921
A3: Année | B3: TOTAL HEURES | H3: =SUM(AG8:AG42) -> 13.670139 | L3: TOTAL JOURS | R3: =SUM(AH8:AH42) -> 44 | U3: TOTAL TRAJET | AA3: =SUM(AI8:AI42) -> 3390.7 | AE3: Km
A5: 2017 | AG5: Heures Travaillées | AH5: Jours Travaillées | AI5: Km
B6: 1 | C6: 2 | D6: 3 | E6: 4 | F6: 5 | G6: 6 | H6: 7 | I6: 8 | J6: 9 | K6: 10 | L6: 11 | M6: 12 | N6: 13 | O6: 14 | P6: 15 | Q6: 16 | R6: 17 | S6: 18 | T6: 19 | U6: 20 | V6: 21 | W6: 22 | X6: 23 | Y6: 24 | Z6: 25 | AA6: 26 | AB6: 27 | AC6: 28 | AD6: 29 | AE6: 30 | AF6: 31
A7: Janvier | B7: =DATE($A$5,1,1) -> 42736 | C7: =B7+1 -> 42737 | D7: =C7+1 -> 42738 | E7: =D7+1 -> 42739 | F7: =E7+1 -> 42740 | G7: =F7+1 -> 42741 | H7: =G7+1 -> 42742 | I7: =H7+1 -> 42743 | J7: =I7+1 -> 42744 | ... AF7: =AE7+1 -> 42766
B8: =IFERROR(VLOOKUP(Année!B7,'HEURES DE PRESENCE'!$A$2:$I$367,9),"") -> 0.33333333 | C8: =IFERROR(VLOOKUP(Année!C7,'HEURES DE PRESENCE'!$A$2:$I$367,9),"") -> 0 | D8: =IFERROR(VLOOKUP(Année!D7,'HEURES DE PRESENCE'!$A$2:$I$367,9),"") -> 0 | E8: =IFERROR(VLOOKUP(Année!E7,'HEURES DE PRESENCE'!$A$2:$I$367,9),"") -> 0 | F8: =IFERROR(VLOOKUP(Année!F7,'HEURES DE PRESENCE'!$A$2:$I$367,9),"") -> 0 | G8: =IFERROR(VLOOKUP(Année!G7,'HEURES DE PRESENCE'!$A$2:$I$367,9),"") -> 0 | H8: =IFERROR(VLOOKUP(Année!H7,'HEURES DE PRESENCE'!$A$2:$I$367,9),"") -> 0 | I8: =IFERROR(VLOOKUP(Année!I7,'HEURES DE PRESENCE'!$A$2:$I$367,9),"") -> 0 | ... AF8: =IFERROR(VLOOKUP(Année!AF7,'HEURES DE PRESENCE'!$A$2:$I$367,9),"") -> 0 | AG8: =SUM(B8:AF8) -> 0.33333333 | AH8: =COUNTIF(B8:AF8,">"&0) -> 1 | AI8: =SUM(B9:AF9) -> 0 | AK8: =A5 -> 2017
AK9: Jours Fériés et Fêtes
A10: Février | B10: =DATE($A$5,2,1) -> 42767 | C10: =B10+1 -> 42768 | D10: =C10+1 -> 42769 | E10: =D10+1 -> 42770 | F10: =E10+1 -> 42771 | G10: =F10+1 -> 42772 | H10: =G10+1 -> 42773 | I10: =H10+1 -> 42774 | J10: =I10+1 -> 42775 | ... AC10: =AB10+1 -> 42794 | AD10: =IF(OR(MONTH(AC10+1)<>MONTH(AC10),AC10+1>=B13),0,AC10+1) -> 0 | AK10: JOUR DE L'AN | AL10: =DATE(AK8,1,1) -> 42736
B11: =IFERROR(VLOOKUP(Année!B10,'HEURES DE PRESENCE'!$A$2:$I$367,9),"") -> 0 | C11: =IFERROR(VLOOKUP(Année!C10,'HEURES DE PRESENCE'!$A$2:$I$367,9),"") -> 0 | D11: =IFERROR(VLOOKUP(Année!D10,'HEURES DE PRESENCE'!$A$2:$I$367,9),"") -> 0 | E11: =IFERROR(VLOOKUP(Année!E10,'HEURES DE PRESENCE'!$A$2:$I$367,9),"") -> 0 | F11: =IFERROR(VLOOKUP(Année!F10,'HEURES DE PRESENCE'!$A$2:$I$367,9),"") -> 0 | G11: =IFERROR(VLOOKUP(Année!G10,'HEURES DE PRESENCE'!$A$2:$I$367,9),"") -> 0 | H11: =IFERROR(VLOOKUP(Année!H10,'HEURES DE PRESENCE'!$A$2:$I$367,9),"") -> 0 | I11: =IFERROR(VLOOKUP(Année!I10,'HEURES DE PRESENCE'!$A$2:$I$367,9),"") -> 0 | ... AD11: =IFERROR(VLOOKUP(Année!AD10,'HEURES DE PRESENCE'!$A$2:$I$367,9),"") | AG11: =SUM(B11:AF11) -> 0 | AH11: =COUNTIF(B11:AF11,">"&0) -> 0 | AI11: =SUM(B12:AF12) -> 0 | AK11: PÂQUES | AL11: =FLOOR(DATE(AK8,5,DAY(MINUTE(AK8/38)/2+56)),7)-34+7*(AK8=2079) -> 42841
AK12: *Lundi de Pâques | AL12: =AL11+1 -> 42842
A13: Mars | B13: =DATE($A$5,3,1) -> 42795 | C13: =B13+1 -> 42796 | D13: =C13+1 -> 42797 | E13: =D13+1 -> 42798 | F13: =E13+1 -> 42799 | G13: =F13+1 -> 42800 | H13: =G13+1 -> 42801 | I13: =H13+1 -> 42802 | J13: =I13+1 -> 42803 | ... AE13: =AD13+1 -> 42824 | AF13: =IF(OR(MONTH(AE13+1)<>MONTH(AE13),AE13+1>=B16),0,AE13+1) -> 42825 | AK13: FÊTE DU TRAVAIL | AL13: =DATE(Année!A5,5,1) -> 42856
B14: =IFERROR(VLOOKUP(Année!B13,'HEURES DE PRESENCE'!$A$2:$I$367,9),"") -> 0 | C14: =IFERROR(VLOOKUP(Année!C13,'HEURES DE PRESENCE'!$A$2:$I$367,9),"") -> 0 | D14: =IFERROR(VLOOKUP(Année!D13,'HEURES DE PRESENCE'!$A$2:$I$367,9),"") -> 0 | E14: =IFERROR(VLOOKUP(Année!E13,'HEURES DE PRESENCE'!$A$2:$I$367,9),"") -> 0 | F14: =IFERROR(VLOOKUP(Année!F13,'HEURES DE PRESENCE'!$A$2:$I$367,9),"") -> 0 | G14: =IFERROR(VLOOKUP(Année!G13,'HEURES DE PRESENCE'!$A$2:$I$367,9),"") -> 0 | H14: =IFERROR(VLOOKUP(Année!H13,'HEURES DE PRESENCE'!$A$2:$I$367,9),"") -> 0 | I14: =IFERROR(VLOOKUP(Année!I13,'HEURES DE PRESENCE'!$A$2:$I$367,9),"") -> 0 | ... AF14: =IFERROR(VLOOKUP(Année!AF13,'HEURES DE PRESENCE'!$A$2:$I$367,9),"") -> 0 | AG14: =SUM(B14:AF14) -> 0 | AH14: =COUNTIF(B14:AF14,">"&0) -> 0 | AI14: =SUM(B15:AF15) -> 0 | AK14: ASCENSION | AL14: =AL11+39 -> 42880
AK15: VICTOIRE 1945 | AL15: =DATE(AK8,5,8) -> 42863
A16: Avril | B16: =DATE($A$5,4,1) -> 42826 | C16: =B16+1 -> 42827 | D16: =C16+1 -> 42828 | E16: =D16+1 -> 42829 | F16: =E16+1 -> 42830 | G16: =F16+1 -> 42831 | H16: =G16+1 -> 42832 | I16: =H16+1 -> 42833 | J16: =I16+1 -> 42834 | ... AE16: =AD16+1 -> 42855 | AF16: =IF(OR(MONTH(AE16+1)<>MONTH(AE16),AE16+1>=B19),0,AE16+1) -> 0 | AK16: PENTECÔTE | AL16: =AL11+49 -> 42890
B17: =IFERROR(VLOOKUP(Année!B16,'HEURES DE PRESENCE'!$A$2:$I$367,9),"") -> 0 | C17: =IFERROR(VLOOKUP(Année!C16,'HEURES DE PRESENCE'!$A$2:$I$367,9),"") -> 0 | D17: =IFERROR(VLOOKUP(Année!D16,'HEURES DE PRESENCE'!$A$2:$I$367,9),"") -> 0 | E17: =IFERROR(VLOOKUP(Année!E16,'HEURES DE PRESENCE'!$A$2:$I$367,9),"") -> 0.29166667 | F17: =IFERROR(VLOOKUP(Année!F16,'HEURES DE PRESENCE'!$A$2:$I$367,9),"") -> 0.29166667 | G17: =IFERROR(VLOOKUP(Année!G16,'HEURES DE PRESENCE'!$A$2:$I$367,9),"") -> 0.29166667 | H17: =IFERROR(VLOOKUP(Année!H16,'HEURES DE PRESENCE'!$A$2:$I$367,9),"") -> 0.29166667 | I17: =IFERROR(VLOOKUP(Année!I16,'HEURES DE PRESENCE'!$A$2:$I$367,9),"") -> 0 | ... AF17: =IFERROR(VLOOKUP(Année!AF16,'HEURES DE PRESENCE'!$A$2:$I$367,9),"") | AG17: =SUM(B17:AF17) -> 1.1666667 | AH17: =COUNTIF(B17:AF17,">"&0) -> 4 | AI17: =SUM(B18:AF18) -> 282.4 | AK17: *Lundi de Pentecôte | AL17: =AL11+50 -> 42891
E18: 70.6 | F18: 70.6 | G18: 70.6 | H18: 70.6 | AK18: FÊTE NAT | AL18: =DATE(AK8,7,14) -> 42930
A19: Mai | B19: =DATE($A$5,5,1) -> 42856 | C19: =B19+1 -> 42857 | D19: =C19+1 -> 42858 | E19: =D19+1 -> 42859 | F19: =E19+1 -> 42860 | G19: =F19+1 -> 42861 | H19: =G19+1 -> 42862 | I19: =H19+1 -> 42863 | J19: =I19+1 -> 42864 | ... AE19: =AD19+1 -> 42885 | AF19: =IF(OR(MONTH(AE19+1)<>MONTH(AE19),AE19+1>=B22),0,AE19+1) -> 42886 | AK19: ASSOMPTION | AL19: =DATE(AK8,8,15) -> 42962
B20: =IFERROR(VLOOKUP(Année!B19,'HEURES DE PRESENCE'!$A$2:$I$367,9),"") -> 0 | C20: =IFERROR(VLOOKUP(Année!C19,'HEURES DE PRESENCE'!$A$2:$I$367,9),"") -> 0 | D20: =IFERROR(VLOOKUP(Année!D19,'HEURES DE PRESENCE'!$A$2:$I$367,9),"") -> 0.3125 | E20: =IFERROR(VLOOKUP(Année!E19,'HEURES DE PRESENCE'!$A$2:$I$367,9),"") -> 0.3125 | F20: =IFERROR(VLOOKUP(Année!F19,'HEURES DE PRESENCE'!$A$2:$I$367,9),"") -> 0.3125 | G20: =IFERROR(VLOOKUP(Année!G19,'HEURES DE PRESENCE'!$A$2:$I$367,9),"") -> 0 | H20: =IFERROR(VLOOKUP(Année!H19,'HEURES DE PRESENCE'!$A$2:$I$367,9),"") -> 0 | I20: =IFERROR(VLOOKUP(Année!I19,'HEURES DE PRESENCE'!$A$2:$I$367,9),"") -> 0 | ... AF20: =IFERROR(VLOOKUP(Année!AF19,'HEURES DE PRESENCE'!$A$2:$I$367,9),"") -> 0.3125 | AG20: =SUM(B20:AF20) -> 5.6284722 | AH20: =COUNTIF(B20:AF20,">"&0) -> 18 | AI20: =SUM(B21:AF21) -> 1434.6 | AK20: TOUSSAINT | AL20: =DATE(AK8,11,1) -> 43040
D21: 79.7 | E21: 79.7 | F21: 79.7 | J21: 79.7 | K21: 79.7 | L21: 79.7 | M21: 79.7 | P21: 79.7 | Q21: 79.7 | R21: 79.7 | S21: 79.7 | T21: 79.7 | W21: 79.7 | X21: 79.7 | Y21: 79.7 | AD21: 79.7 | AE21: 79.7 | AF21: 79.7 | AK21: ARMISTICE 1918 | AL21: =DATE(AK8,11,11) -> 43050
A22: Juin | B22: =DATE($A$5,6,1) -> 42887 | C22: =B22+1 -> 42888 | D22: =C22+1 -> 42889 | E22: =D22+1 -> 42890 | F22: =E22+1 -> 42891 | G22: =F22+1 -> 42892 | H22: =G22+1 -> 42893 | I22: =H22+1 -> 42894 | J22: =I22+1 -> 42895 | ... AE22: =AD22+1 -> 42916 | AF22: =IF(OR(MONTH(AE22+1)<>MONTH(AE22),AE22+1>=B25),0,AE22+1) -> 0 | AK22: NOËL | AL22: =DATE(AK8,12,25) -> 43094
B23: =IFERROR(VLOOKUP(Année!B22,'HEURES DE PRESENCE'!$A$2:$I$367,9),"") -> 0.3125 | C23: =IFERROR(VLOOKUP(Année!C22,'HEURES DE PRESENCE'!$A$2:$I$367,9),"") -> 0.3125 | D23: =IFERROR(VLOOKUP(Année!D22,'HEURES DE PRESENCE'!$A$2:$I$367,9),"") -> 0 | E23: =IFERROR(VLOOKUP(Année!E22,'HEURES DE PRESENCE'!$A$2:$I$367,9),"") -> 0 | F23: =IFERROR(VLOOKUP(Année!F22,'HEURES DE PRESENCE'!$A$2:$I$367,9),"") -> 0 | G23: =IFERROR(VLOOKUP(Année!G22,'HEURES DE PRESENCE'!$A$2:$I$367,9),"") -> 0.3125 | H23: =IFERROR(VLOOKUP(Année!H22,'HEURES DE PRESENCE'!$A$2:$I$367,9),"") -> 0.32291667 | I23: =IFERROR(VLOOKUP(Année!I22,'HEURES DE PRESENCE'!$A$2:$I$367,9),"") -> 0.3125 | ... AF23: =IFERROR(VLOOKUP(Année!AF22,'HEURES DE PRESENCE'!$A$2:$I$367,9),"") | AG23: =SUM(B23:AF23) -> 6.5416667 | AH23: =COUNTIF(B23:AF23,">"&0) -> 21 | AI23: =SUM(B24:AF24) -> 1673.7
B24: 79.7 | C24: 79.7 | G24: 79.7 | H24: 79.7 | I24: 79.7 | J24: 79.7 | M24: 79.7 | N24: 79.7 | O24: 79.7 | P24: 79.7 | Q24: 79.7 | T24: 79.7 | U24: 79.7 | V24: 79.7 | W24: 79.7 | X24: 79.7 | AA24: 79.7 | AB24: 79.7 | AC24: 79.7 | AD24: 79.7 | AE24: 79.7 | AK24: Mardi-Gras | AL24: =AL11-47 -> 42794
A25: Juillet | B25: =DATE($A$5,7,1) -> 42917 | C25: =B25+1 -> 42918 | D25: =C25+1 -> 42919 | E25: =D25+1 -> 42920 | F25: =E25+1 -> 42921 | G25: =F25+1 -> 42922 | H25: =G25+1 -> 42923 | I25: =H25+1 -> 42924 | J25: =I25+1 -> 42925 | ... AE25: =AD25+1 -> 42946 | AF25: =IF(OR(MONTH(AE25+1)<>MONTH(AE25),AE25+1>=B28),0,AE25+1) -> 42947 | AK25: Cendres | AL25: =AL11-46 -> 42795
B26: =IFERROR(VLOOKUP(Année!B25,'HEURES DE PRESENCE'!$A$2:$I$367,9),"") -> 0 | C26: =IFERROR(VLOOKUP(Année!C25,'HEURES DE PRESENCE'!$A$2:$I$367,9),"") -> 0 | D26: =IFERROR(VLOOKUP(Année!D25,'HEURES DE PRESENCE'!$A$2:$I$367,9),"") -> 0 | E26: =IFERROR(VLOOKUP(Année!E25,'HEURES DE PRESENCE'!$A$2:$I$367,9),"") -> 0 | F26: =IFERROR(VLOOKUP(Année!F25,'HEURES DE PRESENCE'!$A$2:$I$367,9),"") -> 0 | G26: =IFERROR(VLOOKUP(Année!G25,'HEURES DE PRESENCE'!$A$2:$I$367,9),"") -> 0 | H26: =IFERROR(VLOOKUP(Année!H25,'HEURES DE PRESENCE'!$A$2:$I$367,9),"") -> 0 | I26: =IFERROR(VLOOKUP(Année!I25,'HEURES DE PRESENCE'!$A$2:$I$367,9),"") -> 0 | ... AF26: =IFERROR(VLOOKUP(Année!AF25,'HEURES DE PRESENCE'!$A$2:$I$367,9),"") -> 0 | AG26: =SUM(B26:AF26) -> 0 | AH26: =COUNTIF(B26:AF26,">"&0) -> 0 | AI26: =SUM(B27:AF27) -> 0 | AK26: Rameaux | AL26: =AL11-7 -> 42834
A28: Août | B28: =DATE($A$5,8,1) -> 42948 | C28: =B28+1 -> 42949 | D28: =C28+1 -> 42950 | E28: =D28+1 -> 42951 | F28: =E28+1 -> 42952 | G28: =F28+1 -> 42953 | H28: =G28+1 -> 42954 | I28: =H28+1 -> 42955 | J28: =I28+1 -> 42956 | ... AE28: =AD28+1 -> 42977 | AF28: =IF(OR(MONTH(AE28+1)<>MONTH(AE28),AE28+1>=B31),0,AE28+1) -> 42978 | AK28: Epiphanie | AL28: =DATE(AK8,1,1)+7-WEEKDAY(DATE(AK8,1,1),2) -> 42736
B29: =IFERROR(VLOOKUP(Année!B28,'HEURES DE PRESENCE'!$A$2:$I$367,9),"") -> 0 | C29: =IFERROR(VLOOKUP(Année!C28,'HEURES DE PRESENCE'!$A$2:$I$367,9),"") -> 0 | D29: =IFERROR(VLOOKUP(Année!D28,'HEURES DE PRESENCE'!$A$2:$I$367,9),"") -> 0 | E29: =IFERROR(VLOOKUP(Année!E28,'HEURES DE PRESENCE'!$A$2:$I$367,9),"") -> 0 | F29: =IFERROR(VLOOKUP(Année!F28,'HEURES DE PRESENCE'!$A$2:$I$367,9),"") -> 0 | G29: =IFERROR(VLOOKUP(Année!G28,'HEURES DE PRESENCE'!$A$2:$I$367,9),"") -> 0 | H29: =IFERROR(VLOOKUP(Année!H28,'HEURES DE PRESENCE'!$A$2:$I$367,9),"") -> 0 | I29: =IFERROR(VLOOKUP(Année!I28,'HEURES DE PRESENCE'!$A$2:$I$367,9),"") -> 0 | ... AF29: =IFERROR(VLOOKUP(Année!AF28,'HEURES DE PRESENCE'!$A$2:$I$367,9),"") -> 0 | AG29: =SUM(B29:AF29) -> 0 | AH29: =COUNTIF(B29:AF29,">"&0) -> 0 | AI29: =SUM(B30:AF30) -> 0
AK30: Fête Dieu | AL30: =AL11+63 -> 42904
A31: Septembre | B31: =DATE($A$5,9,1) -> 42979 | C31: =B31+1 -> 42980 | D31: =C31+1 -> 42981 | E31: =D31+1 -> 42982 | F31: =E31+1 -> 42983 | G31: =F31+1 -> 42984 | H31: =G31+1 -> 42985 | I31: =H31+1 -> 42986 | J31: =I31+1 -> 42987 | ... AE31: =AD31+1 -> 43008 | AF31: =IF(OR(MONTH(AE31+1)<>MONTH(AE31),AE31+1>=B34),0,AE31+1) -> 0
B32: =IFERROR(VLOOKUP(Année!B31,'HEURES DE PRESENCE'!$A$2:$I$367,9),"") -> 0 | C32: =IFERROR(VLOOKUP(Année!C31,'HEURES DE PRESENCE'!$A$2:$I$367,9),"") -> 0 | D32: =IFERROR(VLOOKUP(Année!D31,'HEURES DE PRESENCE'!$A$2:$I$367,9),"") -> 0 | E32: =IFERROR(VLOOKUP(Année!E31,'HEURES DE PRESENCE'!$A$2:$I$367,9),"") -> 0 | F32: =IFERROR(VLOOKUP(Année!F31,'HEURES DE PRESENCE'!$A$2:$I$367,9),"") -> 0 | G32: =IFERROR(VLOOKUP(Année!G31,'HEURES DE PRESENCE'!$A$2:$I$367,9),"") -> 0 | H32: =IFERROR(VLOOKUP(Année!H31,'HEURES DE PRESENCE'!$A$2:$I$367,9),"") -> 0 | I32: =IFERROR(VLOOKUP(Année!I31,'HEURES DE PRESENCE'!$A$2:$I$367,9),"") -> 0 | ... AF32: =IFERROR(VLOOKUP(Année!AF31,'HEURES DE PRESENCE'!$A$2:$I$367,9),"") | AG32: =SUM(B32:AF32) -> 0 | AH32: =COUNTIF(B32:AF32,">"&0) -> 0 | AI32: =SUM(B33:AF33) -> 0
A34: Octobre | B34: =DATE($A$5,10,1) -> 43009 | C34: =B34+1 -> 43010 | D34: =C34+1 -> 43011 | E34: =D34+1 -> 43012 | F34: =E34+1 -> 43013 | G34: =F34+1 -> 43014 | H34: =G34+1 -> 43015 | I34: =H34+1 -> 43016 | J34: =I34+1 -> 43017 | ... AE34: =AD34+1 -> 43038 | AF34: =IF(OR(MONTH(AE34+1)<>MONTH(AE34),AE34+1>=B37),0,AE34+1) -> 43039
B35: =IFERROR(VLOOKUP(Année!B34,'HEURES DE PRESENCE'!$A$2:$I$367,9),"") -> 0 | C35: =IFERROR(VLOOKUP(Année!C34,'HEURES DE PRESENCE'!$A$2:$I$367,9),"") -> 0 | D35: =IFERROR(VLOOKUP(Année!D34,'HEURES DE PRESENCE'!$A$2:$I$367,9),"") -> 0 | E35: =IFERROR(VLOOKUP(Année!E34,'HEURES DE PRESENCE'!$A$2:$I$367,9),"") -> 0 | F35: =IFERROR(VLOOKUP(Année!F34,'HEURES DE PRESENCE'!$A$2:$I$367,9),"") -> 0 | G35: =IFERROR(VLOOKUP(Année!G34,'HEURES DE PRESENCE'!$A$2:$I$367,9),"") -> 0 | H35: =IFERROR(VLOOKUP(Année!H34,'HEURES DE PRESENCE'!$A$2:$I$367,9),"") -> 0 | I35: =IFERROR(VLOOKUP(Année!I34,'HEURES DE PRESENCE'!$A$2:$I$367,9),"") -> 0 | ... AF35: =IFERROR(VLOOKUP(Année!AF34,'HEURES DE PRESENCE'!$A$2:$I$367,9),"") -> 0 | AG35: =SUM(B35:AF35) -> 0 | AH35: =COUNTIF(B35:AF35,">"&0) -> 0 | AI35: =SUM(B36:AF36) -> 0
A37: Novembre | B37: =DATE($A$5,11,1) -> 43040 | C37: =B37+1 -> 43041 | D37: =C37+1 -> 43042 | E37: =D37+1 -> 43043 | F37: =E37+1 -> 43044 | G37: =F37+1 -> 43045 | H37: =G37+1 -> 43046 | I37: =H37+1 -> 43047 | J37: =I37+1 -> 43048 | ... AE37: =AD37+1 -> 43069 | AF37: =IF(OR(MONTH(AE37+1)<>MONTH(AE37),AE37+1>=B40),0,AE37+1) -> 0
B38: =IFERROR(VLOOKUP(Année!B37,'HEURES DE PRESENCE'!$A$2:$I$367,9),"") -> 0 | C38: =IFERROR(VLOOKUP(Année!C37,'HEURES DE PRESENCE'!$A$2:$I$367,9),"") -> 0 | D38: =IFERROR(VLOOKUP(Année!D37,'HEURES DE PRESENCE'!$A$2:$I$367,9),"") -> 0 | E38: =IFERROR(VLOOKUP(Année!E37,'HEURES DE PRESENCE'!$A$2:$I$367,9),"") -> 0 | F38: =IFERROR(VLOOKUP(Année!F37,'HEURES DE PRESENCE'!$A$2:$I$367,9),"") -> 0 | G38: =IFERROR(VLOOKUP(Année!G37,'HEURES DE PRESENCE'!$A$2:$I$367,9),"") -> 0 | H38: =IFERROR(VLOOKUP(Année!H37,'HEURES DE PRESENCE'!$A$2:$I$367,9),"") -> 0 | I38: =IFERROR(VLOOKUP(Année!I37,'HEURES DE PRESENCE'!$A$2:$I$367,9),"") -> 0 | ... AF38: =IFERROR(VLOOKUP(Année!AF37,'HEURES DE PRESENCE'!$A$2:$I$367,9),"") | AG38: =SUM(B38:AF38) -> 0 | AH38: =COUNTIF(B38:AF38,">"&0) -> 0 | AI38: =SUM(B39:AF39) -> 0
A40: Décembre | B40: =DATE($A$5,12,1) -> 43070 | C40: =B40+1 -> 43071 | D40: =C40+1 -> 43072 | E40: =D40+1 -> 43073 | F40: =E40+1 -> 43074 | G40: =F40+1 -> 43075 | H40: =G40+1 -> 43076 | I40: =H40+1 -> 43077 | J40: =I40+1 -> 43078 | ... AF40: =AE40+1 -> 43100
B41: =IFERROR(VLOOKUP(Année!B40,'HEURES DE PRESENCE'!$A$2:$I$367,9),"") -> 0 | C41: =IFERROR(VLOOKUP(Année!C40,'HEURES DE PRESENCE'!$A$2:$I$367,9),"") -> 0 | D41: =IFERROR(VLOOKUP(Année!D40,'HEURES DE PRESENCE'!$A$2:$I$367,9),"") -> 0 | E41: =IFERROR(VLOOKUP(Année!E40,'HEURES DE PRESENCE'!$A$2:$I$367,9),"") -> 0 | F41: =IFERROR(VLOOKUP(Année!F40,'HEURES DE PRESENCE'!$A$2:$I$367,9),"") -> 0 | G41: =IFERROR(VLOOKUP(Année!G40,'HEURES DE PRESENCE'!$A$2:$I$367,9),"") -> 0 | H41: =IFERROR(VLOOKUP(Année!H40,'HEURES DE PRESENCE'!$A$2:$I$367,9),"") -> 0 | I41: =IFERROR(VLOOKUP(Année!I40,'HEURES DE PRESENCE'!$A$2:$I$367,9),"") -> 0 | ... AF41: =IFERROR(VLOOKUP(Année!AF40,'HEURES DE PRESENCE'!$A$2:$I$367,9),"") -> 0 | AG41: =SUM(B41:AF41) -> 0 | AH41: =COUNTIF(B41:AF41,">"&0) -> 0 | AI41: =SUM(B42:AF42) -> 0

Sheet HEURES DE PRESENCE
B1: Arrivée | C1: Départ | D1: Total 1 | E1: Arrivée | F1: Départ | G1: Total 2 | H1: Code | I1: Total | K1: Lieux | L1: Cumul | M1: Remarques
A2: =DATE(Année!A5,1,1) -> 42736 | B2: 0.33333333 | C2: 0.66666667 | D2: =IF(OR(C2="",B2=""),0,C2-B2)/1 -> 0.33333333 | G2: =IF(OR(F2="",E2=""),0,F2-E2)/1 -> 0 | I2: =SUM(D2+G2) -> 0.33333333
A3: =A2+1 -> 42737 | D3: =IF(OR(C3="",B3=""),0,C3-B3)/1 -> 0 | G3: =IF(OR(F3="",E3=""),0,F3-E3)/1 -> 0 | I3: =SUM(D3+G3) -> 0
A4: =A3+1 -> 42738 | D4: =IF(OR(C4="",B4=""),0,C4-B4)/1 -> 0 | G4: =IF(OR(F4="",E4=""),0,F4-E4)/1 -> 0 | I4: =SUM(D4+G4) -> 0
A5: =A4+1 -> 42739 | D5: =IF(OR(C5="",B5=""),0,C5-B5)/1 -> 0 | G5: =IF(OR(F5="",E5=""),0,F5-E5)/1 -> 0 | I5: =SUM(D5+G5) -> 0
A6: =A5+1 -> 42740 | D6: =IF(OR(C6="",B6=""),0,C6-B6)/1 -> 0 | G6: =IF(OR(F6="",E6=""),0,F6-E6)/1 -> 0 | I6: =SUM(D6+G6) -> 0
A7: =A6+1 -> 42741 | D7: =IF(OR(C7="",B7=""),0,C7-B7)/1 -> 0 | G7: =IF(OR(F7="",E7=""),0,F7-E7)/1 -> 0 | I7: =SUM(D7+G7) -> 0
A8: =A7+1 -> 42742 | D8: =IF(OR(C8="",B8=""),0,C8-B8)/1 -> 0 | G8: =IF(OR(F8="",E8=""),0,F8-E8)/1 -> 0 | I8: =SUM(D8+G8) -> 0
A9: =A8+1 -> 42743 | D9: =IF(OR(C9="",B9=""),0,C9-B9)/1 -> 0 | G9: =IF(OR(F9="",E9=""),0,F9-E9)/1 -> 0 | I9: =SUM(D9+G9) -> 0
A10: =A9+1 -> 42744 | D10: =IF(OR(C10="",B10=""),0,C10-B10)/1 -> 0 | G10: =IF(OR(F10="",E10=""),0,F10-E10)/1 -> 0 | I10: =SUM(D10+G10) -> 0
A11: =A10+1 -> 42745 | D11: =IF(OR(C11="",B11=""),0,C11-B11)/1 -> 0 | G11: =IF(OR(F11="",E11=""),0,F11-E11)/1 -> 0 | I11: =SUM(D11+G11) -> 0
A12: =A11+1 -> 42746 | D12: =IF(OR(C12="",B12=""),0,C12-B12)/1 -> 0 | G12: =IF(OR(F12="",E12=""),0,F12-E12)/1 -> 0 | I12: =SUM(D12+G12) -> 0
A13: =A12+1 -> 42747 | D13: =IF(OR(C13="",B13=""),0,C13-B13)/1 -> 0 | G13: =IF(OR(F13="",E13=""),0,F13-E13)/1 -> 0 | I13: =SUM(D13+G13) -> 0
A14: =A13+1 -> 42748 | D14: =IF(OR(C14="",B14=""),0,C14-B14)/1 -> 0 | G14: =IF(OR(F14="",E14=""),0,F14-E14)/1 -> 0 | I14: =SUM(D14+G14) -> 0
... A94: =A93+1 -> 42828 | D94: =IF(OR(C94="",B94=""),0,C94-B94)/1 -> 0 | G94: =IF(OR(F94="",E94=""),0,F94-E94)/1 -> 0 | I94: =SUM(D94+G94) -> 0
A95: =A94+1 -> 42829 | B95: 0.33333333 | C95: 0.48958333 | D95: =IF(OR(C95="",B95=""),0,C95-B95)/1 -> 0.15625 | E95: 0.53125 | F95: 0.66666667 | G95: =IF(OR(F95="",E95=""),0,F95-E95)/1 -> 0.13541667 | I95: =SUM(D95+G95) -> 0.29166667 | K95: 1
A96: =A95+1 -> 42830 | B96: 0.33333333 | C96: 0.48958333 | D96: =IF(OR(C96="",B96=""),0,C96-B96)/1 -> 0.15625 | E96: 0.53125 | F96: 0.66666667 | G96: =IF(OR(F96="",E96=""),0,F96-E96)/1 -> 0.13541667 | I96: =SUM(D96+G96) -> 0.29166667 | K96: 1
A97: =A96+1 -> 42831 | B97: 0.33333333 | C97: 0.48958333 | D97: =IF(OR(C97="",B97=""),0,C97-B97)/1 -> 0.15625 | E97: 0.53125 | F97: 0.66666667 | G97: =IF(OR(F97="",E97=""),0,F97-E97)/1 -> 0.13541667 | I97: =SUM(D97+G97) -> 0.29166667 | K97: 1
A98: =A97+1 -> 42832 | B98: 0.33333333 | C98: 0.48958333 | D98: =IF(OR(C98="",B98=""),0,C98-B98)/1 -> 0.15625 | E98: 0.53125 | F98: 0.66666667 | G98: =IF(OR(F98="",E98=""),0,F98-E98)/1 -> 0.13541667 | I98: =SUM(D98+G98) -> 0.29166667 | K98: 1
A99: =A98+1 -> 42833 | D99: =IF(OR(C99="",B99=""),0,C99-B99)/1 -> 0 | G99: =IF(OR(F99="",E99=""),0,F99-E99)/1 -> 0 | I99: =SUM(D99+G99) -> 0
A100: =A99+1 -> 42834 | D100: =IF(OR(C100="",B100=""),0,C100-B100)/1 -> 0 | G100: =IF(OR(F100="",E100=""),0,F100-E100)/1 -> 0 | I100: =SUM(D100+G100) -> 0
A101: =A100+1 -> 42835 | D101: =IF(OR(C101="",B101=""),0,C101-B101)/1 -> 0 | G101: =IF(OR(F101="",E101=""),0,F101-E101)/1 -> 0 | I101: =SUM(D101+G101) -> 0
A102: =A101+1 -> 42836 | D102: =IF(OR(C102="",B102=""),0,C102-B102)/1 -> 0 | G102: =IF(OR(F102="",E102=""),0,F102-E102)/1 -> 0 | I102: =SUM(D102+G102) -> 0
A103: =A102+1 -> 42837 | D103: =IF(OR(C103="",B103=""),0,C103-B103)/1 -> 0 | G103: =IF(OR(F103="",E103=""),0,F103-E103)/1 -> 0 | I103: =SUM(D103+G103) -> 0
A104: =A103+1 -> 42838 | D104: =IF(OR(C104="",B104=""),0,C104-B104)/1 -> 0 | G104: =IF(OR(F104="",E104=""),0,F104-E104)/1 -> 0 | I104: =SUM(D104+G104) -> 0
A105: =A104+1 -> 42839 | D105: =IF(OR(C105="",B105=""),0,C105-B105)/1 -> 0 | G105: =IF(OR(F105="",E105=""),0,F105-E105)/1 -> 0 | I105: =SUM(D105+G105) -> 0
A106: =A105+1 -> 42840 | D106: =IF(OR(C106="",B106=""),0,C106-B106)/1 -> 0 | G106: =IF(OR(F106="",E106=""),0,F106-E106)/1 -> 0 | I106: =SUM(D106+G106) -> 0
A107: =A106+1 -> 42841 | D107: =IF(OR(C107="",B107=""),0,C107-B107)/1 -> 0 | G107: =IF(OR(F107="",E107=""),0,F107-E107)/1 -> 0 | I107: =SUM(D107+G107) -> 0
A108: =A107+1 -> 42842 | D108: =IF(OR(C108="",B108=""),0,C108-B108)/1 -> 0 | G108: =IF(OR(F108="",E108=""),0,F108-E108)/1 -> 0 | I108: =SUM(D108+G108) -> 0
A109: =A108+1 -> 42843 | D109: =IF(OR(C109="",B109=""),0,C109-B109)/1 -> 0 | G109: =IF(OR(F109="",E109=""),0,F109-E109)/1 -> 0 | I109: =SUM(D109+G109) -> 0
A110: =A109+1 -> 42844 | D110: =IF(OR(C110="",B110=""),0,C110-B110)/1 -> 0 | G110: =IF(OR(F110="",E110=""),0,F110-E110)/1 -> 0 | I110: =SUM(D110+G110) -> 0
... A122: =A121+1 -> 42856 | D122: =IF(OR(C122="",B122=""),0,C122-B122)/1 -> 0 | G122: =IF(OR(F122="",E122=""),0,F122-E122)/1 -> 0 | I122: =SUM(D122+G122) -> 0
A123: =A122+1 -> 42857 | G123: =IF(OR(F123="",E123=""),0,F123-E123)/1 -> 0 | I123: =SUM(D123+G123) -> 0
A124: =A123+1 -> 42858 | B124: 0.375 | C124: 0.54166667 | D124: =IF(OR(C124="",B124=""),0,C124-B124)/1 -> 0.16666667 | E124: 0.5625 | F124: 0.70833333 | G124: =IF(OR(F124="",E124=""),0,F124-E124)/1 -> 0.14583333 | I124: =SUM(D124+G124) -> 0.3125 | K124: 2
A125: =A124+1 -> 42859 | B125: 0.375 | C125: 0.54166667 | D125: =IF(OR(C125="",B125=""),0,C125-B125)/1 -> 0.16666667 | E125: 0.5625 | F125: 0.70833333 | G125: =IF(OR(F125="",E125=""),0,F125-E125)/1 -> 0.14583333 | I125: =SUM(D125+G125) -> 0.3125 | K125: 2
A126: =A125+1 -> 42860 | B126: 0.375 | C126: 0.54166667 | D126: =IF(OR(C126="",B126=""),0,C126-B126)/1 -> 0.16666667 | E126: 0.5625 | F126: 0.70833333 | G126: =IF(OR(F126="",E126=""),0,F126-E126)/1 -> 0.14583333 | I126: =SUM(D126+G126) -> 0.3125 | K126: 2
A127: =A126+1 -> 42861 | D127: =IF(OR(C127="",B127=""),0,C127-B127)/1 -> 0 | G127: =IF(OR(F127="",E127=""),0,F127-E127)/1 -> 0 | I127: =SUM(D127+G127) -> 0
A128: =A127+1 -> 42862 | D128: =IF(OR(C128="",B128=""),0,C128-B128)/1 -> 0 | G128: =IF(OR(F128="",E128=""),0,F128-E128)/1 -> 0 | I128: =SUM(D128+G128) -> 0
A129: =A128+1 -> 42863 | D129: =IF(OR(C129="",B129=""),0,C129-B129)/1 -> 0 | G129: =IF(OR(F129="",E129=""),0,F129-E129)/1 -> 0 | I129: =SUM(D129+G129) -> 0
A130: =A129+1 -> 42864 | B130: 0.375 | C130: 0.54166667 | D130: =IF(OR(C130="",B130=""),0,C130-B130)/1 -> 0.16666667 | E130: 0.5625 | F130: 0.70833333 | G130: =IF(OR(F130="",E130=""),0,F130-E130)/1 -> 0.14583333 | I130: =SUM(D130+G130) -> 0.3125 | K130: 2
...

Sheet EMPLOI
A1: NOM ENTREPRISE | B1: BASE TAUX HORAIRE | C1: 13ème MOIS / H | D1: PANIER / JOUR | E1: Km | F1: DATE DEBUT | G1: DATE FIN | H1: NOMBRE JOUR | I1: NOMBRE HEURE | J1: AGENCE
A2: 1 | B2: 9.76 | E2: 70,6 Km | F2: 42829 | G2: 42833 | H2: =NETWORKDAYS(F2,G2,Année!AL10:AL20) -> 4 | I2: 1.1666667 | J2: a
A3: 2 | B3: 9.76 | C3: 0.81 | D3: 6.4 | E3: 79,7 Km | F3: 42858 | G3: 42916 | H3: =NETWORKDAYS(F3,G3,Année!AL11:AL21) -> 40 | J3: b

Sheet Feuil2
