Workbook
Name Année: '[1]2 Enfants'!$B$10
Name Férié: Année!$AL$3:$AL$15
Name Fêtes: Année!$AL$17:$AL$21
Name JourCalculé: " =Feuil1!$B$10-JOURSEM(Feuil1!$B$10;3)+((LIGNE()-LIGNE(Feuil1!$AF$7))*7)+COLONNE()-COLONNE(Feuil1!$AF$7)"

Sheet Année
C1: =INDIRECT("'"&A5&"'!I4") -> 0 | AG1: =TODAY() -> 42928 | AK1: =A5 -> 2017
AK2: Jours Fériés et Fêtes
A3: Année | B3: TOTAL HEURES | H3: =SUM(AG8:AG42) -> 13.944444 | L3: TOTAL JOURS | R3: =SUM(AH8:AH42) -> 45 | U3: TOTAL TRAJET | AA3: =SUM(AI8:AI42) -> 0 | AE3: Km | AG3: =NOW() -> 42928.646 | AK3: JOUR DE L'AN | AL3: =DATE(AK1,1,1) -> 42736
AK4: PÂQUES | AL4: =FLOOR(DATE(AK1,5,DAY(MINUTE(AK1/38)/2+56)),7)-34+7*(AK1=2079) -> 42841
A5: 2017 | AG5: Heures Travaillées | AH5: Jours Travaillées | AI5: Km | AK5: *Lundi de Pâques | AL5: =AL4+1 -> 42842
B6: 1 | C6: 2 | D6: 3 | E6: 4 | F6: 5 | G6: 6 | H6: 7 | I6: 8 | J6: 9 | K6: 10 | L6: 11 | M6: 12 | N6: 13 | O6: 14 | P6: 15 | Q6: 16 | R6: 17 | S6: 18 | T6: 19 | U6: 20 | V6: 21 | W6: 22 | X6: 23 | Y6: 24 | Z6: 25 | AA6: 26 | AB6: 27 | AC6: 28 | AD6: 29 | AE6: 30 | AF6: 31 | AK6: FÊTE DU TRAVAIL | AL6: =DATE(Année!U4,5,1) -> 122
A7: Janvier | B7: =DATE($A$5,1,1) -> 42736 | C7: =B7+1 -> 42737 | D7: =C7+1 -> 42738 | E7: =D7+1 -> 42739 | F7: =E7+1 -> 42740 | G7: =F7+1 -> 42741 | H7: =G7+1 -> 42742 | I7: =H7+1 -> 42743 | J7: =I7+1 -> 42744 | ... AF7: =AE7+1 -> 42766 | AK7: ASCENSION | AL7: =AL4+39 -> 42880
B8: =IFERROR(VLOOKUP(Année!B7,'2017'!$A$3:$I$368,9),"") -> 0 | C8: =IFERROR(VLOOKUP(Année!C7,'2017'!$A$3:$I$368,9),"") -> 0 | D8: =IFERROR(VLOOKUP(Année!D7,'2017'!$A$3:$I$368,9),"") -> 0 | E8: =IFERROR(VLOOKUP(Année!E7,'2017'!$A$3:$I$368,9),"") -> 0 | F8: =IFERROR(VLOOKUP(Année!F7,'2017'!$A$3:$I$368,9),"") -> 0 | G8: =IFERROR(VLOOKUP(Année!G7,'2017'!$A$3:$I$368,9),"") -> 0 | H8: =IFERROR(VLOOKUP(Année!H7,'2017'!$A$3:$I$368,9),"") -> 0 | I8: =IFERROR(VLOOKUP(Année!I7,'2017'!$A$3:$I$368,9),"") -> 0 | ... AF8: =IFERROR(VLOOKUP(Année!AF7,'2017'!$A$3:$I$368,9),"") -> 0 | AG8: =SUM(B8:AF8) -> 0 | AH8: =COUNTIF(B8:AF8,">"&0) -> 0 | AI8: =SUM(B9:AF9) -> 0 | AK8: VICTOIRE 1945 | AL8: =DATE(AK1,5,8) -> 42863
B9: =IFERROR(VLOOKUP(Année!B7,'2017'!$A$3:$J$368,11),"") | C9: =IFERROR(VLOOKUP(Année!C7,'2017'!$A$3:$J$368,11),"") | D9: =IFERROR(VLOOKUP(Année!D7,'2017'!$A$3:$J$368,11),"") | E9: =IFERROR(VLOOKUP(Année!E7,'2017'!$A$3:$J$368,11),"") | F9: =IFERROR(VLOOKUP(Année!F7,'2017'!$A$3:$J$368,11),"") | G9: =IFERROR(VLOOKUP(Année!G7,'2017'!$A$3:$J$368,11),"") | H9: =IFERROR(VLOOKUP(Année!H7,'2017'!$A$3:$J$368,11),"") | I9: =IFERROR(VLOOKUP(Année!I7,'2017'!$A$3:$J$368,11),"") | ... AF9: =IFERROR(VLOOKUP(Année!AF7,'2017'!$A$3:$J$368,11),"") | AK9: PENTECÔTE | AL9: =AL4+49 -> 42890
A10: Février | B10: =DATE($A$5,2,1) -> 42767 | C10: =B10+1 -> 42768 | D10: =C10+1 -> 42769 | E10: =D10+1 -> 42770 | F10: =E10+1 -> 42771 | G10: =F10+1 -> 42772 | H10: =G10+1 -> 42773 | I10: =H10+1 -> 42774 | J10: =I10+1 -> 42775 | ... AC10: =AB10+1 -> 42794 | AD10: =IF(OR(MONTH(AC10+1)<>MONTH(AC10),AC10+1>=B13),0,AC10+1) -> 0 | AK10: *Lundi de Pentecôte | AL10: =AL4+50 -> 42891
B11: =IFERROR(VLOOKUP(Année!B10,'2017'!$A$3:$I$368,9),"") -> 0 | C11: =IFERROR(VLOOKUP(Année!C10,'2017'!$A$3:$I$368,9),"") -> 0 | D11: =IFERROR(VLOOKUP(Année!D10,'2017'!$A$3:$I$368,9),"") -> 0 | E11: =IFERROR(VLOOKUP(Année!E10,'2017'!$A$3:$I$368,9),"") -> 0 | F11: =IFERROR(VLOOKUP(Année!F10,'2017'!$A$3:$I$368,9),"") -> 0 | G11: =IFERROR(VLOOKUP(Année!G10,'2017'!$A$3:$I$368,9),"") -> 0 | H11: =IFERROR(VLOOKUP(Année!H10,'2017'!$A$3:$I$368,9),"") -> 0 | I11: =IFERROR(VLOOKUP(Année!I10,'2017'!$A$3:$I$368,9),"") -> 0 | ... AD11: =IFERROR(VLOOKUP(Année!AD10,'2017'!$A$3:$I$368,9),"") | AG11: =SUM(B11:AF11) -> 0 | AH11: =COUNTIF(B11:AF11,">"&0) -> 0 | AI11: =SUM(B12:AF12) -> 0 | AK11: FÊTE NAT | AL11: =DATE(AK1,7,14) -> 42930
B12: =IFERROR(VLOOKUP(Année!B10,'2017'!$A$3:$J$368,11),"") | C12: =IFERROR(VLOOKUP(Année!C10,'2017'!$A$3:$J$368,11),"") | D12: =IFERROR(VLOOKUP(Année!D10,'2017'!$A$3:$J$368,11),"") | E12: =IFERROR(VLOOKUP(Année!E10,'2017'!$A$3:$J$368,11),"") | F12: =IFERROR(VLOOKUP(Année!F10,'2017'!$A$3:$J$368,11),"") | G12: =IFERROR(VLOOKUP(Année!G10,'2017'!$A$3:$J$368,11),"") | H12: =IFERROR(VLOOKUP(Année!H10,'2017'!$A$3:$J$368,11),"") | I12: =IFERROR(VLOOKUP(Année!I10,'2017'!$A$3:$J$368,11),"") | ... AD12: =IFERROR(VLOOKUP(Année!AD10,'2017'!$A$3:$J$368,11),"") | AK12: ASSOMPTION | AL12: =DATE(AK1,8,15) -> 42962
A13: Mars | B13: =DATE($A$5,3,1) -> 42795 | C13: =B13+1 -> 42796 | D13: =C13+1 -> 42797 | E13: =D13+1 -> 42798 | F13: =E13+1 -> 42799 | G13: =F13+1 -> 42800 | H13: =G13+1 -> 42801 | I13: =H13+1 -> 42802 | J13: =I13+1 -> 42803 | ... AE13: =AD13+1 -> 42824 | AF13: =IF(OR(MONTH(AE13+1)<>MONTH(AE13),AE13+1>=B16),0,AE13+1) -> 42825 | AK13: TOUSSAINT | AL13: =DATE(AK1,11,1) -> 43040
B14: =IFERROR(VLOOKUP(Année!B13,'2017'!$A$3:$I$368,9),"") -> 0 | C14: =IFERROR(VLOOKUP(Année!C13,'2017'!$A$3:$I$368,9),"") -> 0 | D14: =IFERROR(VLOOKUP(Année!D13,'2017'!$A$3:$I$368,9),"") -> 0 | E14: =IFERROR(VLOOKUP(Année!E13,'2017'!$A$3:$I$368,9),"") -> 0 | F14: =IFERROR(VLOOKUP(Année!F13,'2017'!$A$3:$I$368,9),"") -> 0 | G14: =IFERROR(VLOOKUP(Année!G13,'2017'!$A$3:$I$368,9),"") -> 0 | H14: =IFERROR(VLOOKUP(Année!H13,'2017'!$A$3:$I$368,9),"") -> 0 | I14: =IFERROR(VLOOKUP(Année!I13,'2017'!$A$3:$I$368,9),"") -> 0 | ... AF14: =IFERROR(VLOOKUP(Année!AF13,'2017'!$A$3:$I$368,9),"") -> 0 | AG14: =SUM(B14:AF14) -> 0 | AH14: =COUNTIF(B14:AF14,">"&0) -> 0 | AI14: =SUM(B15:AF15) -> 0 | AK14: ARMISTICE 1918 | AL14: =DATE(AK1,11,11) -> 43050
B15: =IFERROR(VLOOKUP(Année!B13,'2017'!$A$3:$J$368,11),"") | C15: =IFERROR(VLOOKUP(Année!C13,'2017'!$A$3:$J$368,11),"") | D15: =IFERROR(VLOOKUP(Année!D13,'2017'!$A$3:$J$368,11),"") | E15: =IFERROR(VLOOKUP(Année!E13,'2017'!$A$3:$J$368,11),"") | F15: =IFERROR(VLOOKUP(Année!F13,'2017'!$A$3:$J$368,11),"") | G15: =IFERROR(VLOOKUP(Année!G13,'2017'!$A$3:$J$368,11),"") | H15: =IFERROR(VLOOKUP(Année!H13,'2017'!$A$3:$J$368,11),"") | I15: =IFERROR(VLOOKUP(Année!I13,'2017'!$A$3:$J$368,11),"") | ... AF15: =IFERROR(VLOOKUP(Année!AF13,'2017'!$A$3:$J$368,11),"") | AK15: NOËL | AL15: =DATE(AK1,12,25) -> 43094
A16: Avril | B16: =DATE($A$5,4,1) -> 42826 | C16: =B16+1 -> 42827 | D16: =C16+1 -> 42828 | E16: =D16+1 -> 42829 | F16: =E16+1 -> 42830 | G16: =F16+1 -> 42831 | H16: =G16+1 -> 42832 | I16: =H16+1 -> 42833 | J16: =I16+1 -> 42834 | ... AE16: =AD16+1 -> 42855 | AF16: =IF(OR(MONTH(AE16+1)<>MONTH(AE16),AE16+1>=B19),0,AE16+1) -> 0
B17: =IFERROR(VLOOKUP(Année!B16,'2017'!$A$3:$I$368,9),"") -> 0 | C17: =IFERROR(VLOOKUP(Année!C16,'2017'!$A$3:$I$368,9),"") -> 0 | D17: =IFERROR(VLOOKUP(Année!D16,'2017'!$A$3:$J$368,9),"") -> 0 | E17: =IFERROR(VLOOKUP(Année!E16,'2017'!$A$3:$I$368,9),"") -> 0.29166667 | F17: =IFERROR(VLOOKUP(Année!F16,'2017'!$A$3:$I$368,9),"") -> 0.29166667 | G17: =IFERROR(VLOOKUP(Année!G16,'2017'!$A$3:$I$368,9),"") -> 0.29166667 | H17: =IFERROR(VLOOKUP(Année!H16,'2017'!$A$3:$I$368,9),"") -> 0.29166667 | I17: =IFERROR(VLOOKUP(Année!I16,'2017'!$A$3:$I$368,9),"") -> 0 | J17: =IFERROR(VLOOKUP(Année!J16,'2017'!$A$3:$I$368,9),"") -> 0 | K17: =IFERROR(VLOOKUP(Année!K16,'2017'!$A$3:$I$368,9),"") -> 0 | L17: =IFERROR(VLOOKUP(Année!L16,'2017'!$A$3:$I$368,9),"") -> 0 | ... AF17: =IFERROR(VLOOKUP(Année!AF16,'2017'!$A$3:$I$368,9),"") | AG17: =SUM(B17:AF17) -> 1.1666667 | AH17: =COUNTIF(B17:AF17,">"&0) -> 4 | AI17: =SUM(B18:AF18) -> 0 | AK17: Mardi-Gras | AL17: =AL4-47 -> 42794
B18: =IFERROR(VLOOKUP(Année!B16,'2017'!$A$3:$J$368,11),"") | C18: =IFERROR(VLOOKUP(Année!C16,'2017'!$A$3:$J$368,11),"") | D18: =IFERROR(VLOOKUP(Année!D16,'2017'!$A$3:$J$368,11),"") | E18: =IFERROR(VLOOKUP(Année!E16,'2017'!$A$3:$J$368,11),"") | F18: =IFERROR(VLOOKUP(Année!F16,'2017'!$A$3:$J$368,11),"") | G18: =IFERROR(VLOOKUP(Année!G16,'2017'!$A$3:$J$368,11),"") | H18: =IFERROR(VLOOKUP(Année!H16,'2017'!$A$3:$J$368,11),"") | I18: =IFERROR(VLOOKUP(Année!I16,'2017'!$A$3:$J$368,11),"") | ... AF18: =IFERROR(VLOOKUP(Année!AF16,'2017'!$A$3:$J$368,11),"") | AK18: Cendres | AL18: =AL4-46 -> 42795
A19: Mai | B19: =DATE($A$5,5,1) -> 42856 | C19: =B19+1 -> 42857 | D19: =C19+1 -> 42858 | E19: =D19+1 -> 42859 | F19: =E19+1 -> 42860 | G19: =F19+1 -> 42861 | H19: =G19+1 -> 42862 | I19: =H19+1 -> 42863 | J19: =I19+1 -> 42864 | ... AE19: =AD19+1 -> 42885 | AF19: =IF(OR(MONTH(AE19+1)<>MONTH(AE19),AE19+1>=B22),0,AE19+1) -> 42886 | AK19: Rameaux | AL19: =AL4-7 -> 42834
B20: =IFERROR(VLOOKUP(Année!B19,'2017'!$A$3:$I$368,9),"") -> 0 | C20: =IFERROR(VLOOKUP(Année!C19,'2017'!$A$3:$I$368,9),"") -> 0 | D20: =IFERROR(VLOOKUP(Année!D19,'2017'!$A$3:$I$368,9),"") -> 0.3125 | E20: =IFERROR(VLOOKUP(Année!E19,'2017'!$A$3:$I$368,9),"") -> 0.3125 | F20: =IFERROR(VLOOKUP(Année!F19,'2017'!$A$3:$I$368,9),"") -> 0.3125 | G20: =IFERROR(VLOOKUP(Année!G19,'2017'!$A$3:$I$368,9),"") -> 0 | H20: =IFERROR(VLOOKUP(Année!H19,'2017'!$A$3:$I$368,9),"") -> 0 | I20: =IFERROR(VLOOKUP(Année!I19,'2017'!$A$3:$I$368,9),"") -> 0 | ... AF20: =IFERROR(VLOOKUP(Année!AF19,'2017'!$A$3:$I$368,9),"") -> 0.3125 | AG20: =SUM(B20:AF20) -> 5.6284722 | AH20: =COUNTIF(B20:AF20,">"&0) -> 18 | AI20: =SUM(B21:AF21) -> 0
B21: =IFERROR(VLOOKUP(Année!B19,'2017'!$A$3:$J$368,11),"") | C21: =IFERROR(VLOOKUP(Année!C19,'2017'!$A$3:$J$368,11),"") | D21: =IFERROR(VLOOKUP(Année!D19,'2017'!$A$3:$J$368,11),"") | E21: =IFERROR(VLOOKUP(Année!E19,'2017'!$A$3:$J$368,11),"") | F21: =IFERROR(VLOOKUP(Année!F19,'2017'!$A$3:$J$368,11),"") | G21: =IFERROR(VLOOKUP(Année!G19,'2017'!$A$3:$J$368,11),"") | H21: =IFERROR(VLOOKUP(Année!H19,'2017'!$A$3:$J$368,11),"") | I21: =IFERROR(VLOOKUP(Année!I19,'2017'!$A$3:$J$368,11),"") | ... AF21: =IFERROR(VLOOKUP(Année!AF19,'2017'!$A$3:$J$368,11),"") | AK21: Epiphanie | AL21: =DATE(AK1,1,1)+7-WEEKDAY(DATE(AK1,1,1),2) -> 42736
A22: Juin | B22: =DATE($A$5,6,1) -> 42887 | C22: =B22+1 -> 42888 | D22: =C22+1 -> 42889 | E22: =D22+1 -> 42890 | F22: =E22+1 -> 42891 | G22: =F22+1 -> 42892 | H22: =G22+1 -> 42893 | I22: =H22+1 -> 42894 | J22: =I22+1 -> 42895 | ... AE22: =AD22+1 -> 42916 | AF22: =IF(OR(MONTH(AE22+1)<>MONTH(AE22),AE22+1>=B25),0,AE22+1) -> 0
B23: =IFERROR(VLOOKUP(Année!B22,'2017'!$A$3:$I$368,9),"") -> 0.3125 | C23: =IFERROR(VLOOKUP(Année!C22,'2017'!$A$3:$I$368,9),"") -> 0.3125 | D23: =IFERROR(VLOOKUP(Année!D22,'2017'!$A$3:$I$368,9),"") -> 0 | E23: =IFERROR(VLOOKUP(Année!E22,'2017'!$A$3:$I$368,9),"") -> 0 | F23: =IFERROR(VLOOKUP(Année!F22,'2017'!$A$3:$I$368,9),"") -> 0 | G23: =IFERROR(VLOOKUP(Année!G22,'2017'!$A$3:$I$368,9),"") -> 0.3125 | H23: =IFERROR(VLOOKUP(Année!H22,'2017'!$A$3:$I$368,9),"") -> 0.32291667 | I23: =IFERROR(VLOOKUP(Année!I22,'2017'!$A$3:$I$368,9),"") -> 0.3125 | ... AF23: =IFERROR(VLOOKUP(Année!AF22,'2017'!$A$3:$I$368,9),"") | AG23: =SUM(B23:AF23) -> 6.5416667 | AH23: =COUNTIF(B23:AF23,">"&0) -> 21 | AI23: =SUM(B24:AF24) -> 0 | AK23: Fête Dieu | AL23: =AL4+63 -> 42904
B24: =IFERROR(VLOOKUP(Année!B22,'2017'!$A$3:$J$368,11),"") | C24: =IFERROR(VLOOKUP(Année!C22,'2017'!$A$3:$J$368,11),"") | D24: =IFERROR(VLOOKUP(Année!D22,'2017'!$A$3:$J$368,11),"") | E24: =IFERROR(VLOOKUP(Année!E22,'2017'!$A$3:$J$368,11),"") | F24: =IFERROR(VLOOKUP(Année!F22,'2017'!$A$3:$J$368,11),"") | G24: =IFERROR(VLOOKUP(Année!G22,'2017'!$A$3:$J$368,11),"") | H24: =IFERROR(VLOOKUP(Année!H22,'2017'!$A$3:$J$368,11),"") | I24: =IFERROR(VLOOKUP(Année!I22,'2017'!$A$3:$J$368,11),"") | ... AF24: =IFERROR(VLOOKUP(Année!AF22,'2017'!$A$3:$J$368,11),"")
A25: Juillet | B25: =DATE($A$5,7,1) -> 42917 | C25: =B25+1 -> 42918 | D25: =C25+1 -> 42919 | E25: =D25+1 -> 42920 | F25: =E25+1 -> 42921 | G25: =F25+1 -> 42922 | H25: =G25+1 -> 42923 | I25: =H25+1 -> 42924 | J25: =I25+1 -> 42925 | ... AE25: =AD25+1 -> 42946 | AF25: =IF(OR(MONTH(AE25+1)<>MONTH(AE25),AE25+1>=B28),0,AE25+1) -> 42947
B26: =IFERROR(VLOOKUP(Année!B25,'2017'!$A$3:$I$368,9),"") -> 0 | C26: =IFERROR(VLOOKUP(Année!C25,'2017'!$A$3:$I$368,9),"") -> 0 | D26: =IFERROR(VLOOKUP(Année!D25,'2017'!$A$3:$I$368,9),"") -> 0 | E26: =IFERROR(VLOOKUP(Année!E25,'2017'!$A$3:$I$368,9),"") -> 0 | F26: =IFERROR(VLOOKUP(Année!F25,'2017'!$A$3:$I$368,9),"") -> 0 | G26: =IFERROR(VLOOKUP(Année!G25,'2017'!$A$3:$I$368,9),"") -> 0 | H26: =IFERROR(VLOOKUP(Année!H25,'2017'!$A$3:$I$368,9),"") -> 0 | I26: =IFERROR(VLOOKUP(Année!I25,'2017'!$A$3:$I$368,9),"") -> 0 | ... AF26: =IFERROR(VLOOKUP(Année!AF25,'2017'!$A$3:$I$368,9),"") -> 0 | AG26: =SUM(B26:AF26) -> 0.60763889 | AH26: =COUNTIF(B26:AF26,">"&0) -> 2 | AI26: =SUM(B27:AF27) -> 0
B27: =IFERROR(VLOOKUP(Année!B25,'2017'!$A$3:$J$368,11),"") | C27: =IFERROR(VLOOKUP(Année!C25,'2017'!$A$3:$J$368,11),"") | D27: =IFERROR(VLOOKUP(Année!D25,'2017'!$A$3:$J$368,11),"") | E27: =IFERROR(VLOOKUP(Année!E25,'2017'!$A$3:$J$368,11),"") | F27: =IFERROR(VLOOKUP(Année!F25,'2017'!$A$3:$J$368,11),"") | G27: =IFERROR(VLOOKUP(Année!G25,'2017'!$A$3:$J$368,11),"") | H27: =IFERROR(VLOOKUP(Année!H25,'2017'!$A$3:$J$368,11),"") | I27: =IFERROR(VLOOKUP(Année!I25,'2017'!$A$3:$J$368,11),"") | ... AF27: =IFERROR(VLOOKUP(Année!AF25,'2017'!$A$3:$J$368,11),"")
A28: Août | B28: =DATE($A$5,8,1) -> 42948 | C28: =B28+1 -> 42949 | D28: =C28+1 -> 42950 | E28: =D28+1 -> 42951 | F28: =E28+1 -> 42952 | G28: =F28+1 -> 42953 | H28: =G28+1 -> 42954 | I28: =H28+1 -> 42955 | J28: =I28+1 -> 42956 | ... AE28: =AD28+1 -> 42977 | AF28: =IF(OR(MONTH(AE28+1)<>MONTH(AE28),AE28+1>=B31),0,AE28+1) -> 42978
B29: =IFERROR(VLOOKUP(Année!B28,'2017'!$A$3:$I$368,9),"") -> 0 | C29: =IFERROR(VLOOKUP(Année!C28,'2017'!$A$3:$I$368,9),"") -> 0 | D29: =IFERROR(VLOOKUP(Année!D28,'2017'!$A$3:$I$368,9),"") -> 0 | E29: =IFERROR(VLOOKUP(Année!E28,'2017'!$A$3:$I$368,9),"") -> 0 | F29: =IFERROR(VLOOKUP(Année!F28,'2017'!$A$3:$I$368,9),"") -> 0 | G29: =IFERROR(VLOOKUP(Année!G28,'2017'!$A$3:$I$368,9),"") -> 0 | H29: =IFERROR(VLOOKUP(Année!H28,'2017'!$A$3:$I$368,9),"") -> 0 | I29: =IFERROR(VLOOKUP(Année!I28,'2017'!$A$3:$I$368,9),"") -> 0 | ... AF29: =IFERROR(VLOOKUP(Année!AF28,'2017'!$A$3:$I$368,9),"") -> 0 | AG29: =SUM(B29:AF29) -> 0 | AH29: =COUNTIF(B29:AF29,">"&0) -> 0 | AI29: =SUM(B30:AF30) -> 0
B30: =IFERROR(VLOOKUP(Année!B28,'2017'!$A$3:$J$368,11),"") | C30: =IFERROR(VLOOKUP(Année!C28,'2017'!$A$3:$J$368,11),"") | D30: =IFERROR(VLOOKUP(Année!D28,'2017'!$A$3:$J$368,11),"") | E30: =IFERROR(VLOOKUP(Année!E28,'2017'!$A$3:$J$368,11),"") | F30: =IFERROR(VLOOKUP(Année!F28,'2017'!$A$3:$J$368,11),"") | G30: =IFERROR(VLOOKUP(Année!G28,'2017'!$A$3:$J$368,11),"") | H30: =IFERROR(VLOOKUP(Année!H28,'2017'!$A$3:$J$368,11),"") | I30: =IFERROR(VLOOKUP(Année!I28,'2017'!$A$3:$J$368,11),"") | ... AF30: =IFERROR(VLOOKUP(Année!AF28,'2017'!$A$3:$J$368,11),"")
A31: Septembre | B31: =DATE($A$5,9,1) -> 42979 | C31: =B31+1 -> 42980 | D31: =C31+1 -> 42981 | E31: =D31+1 -> 42982 | F31: =E31+1 -> 42983 | G31: =F31+1 -> 42984 | H31: =G31+1 -> 42985 | I31: =H31+1 -> 42986 | J31: =I31+1 -> 42987 | ... AE31: =AD31+1 -> 43008 | AF31: =IF(OR(MONTH(AE31+1)<>MONTH(AE31),AE31+1>=B34),0,AE31+1) -> 0
B32: =IFERROR(VLOOKUP(Année!B31,'2017'!$A$3:$I$368,9),"") -> 0 | C32: =IFERROR(VLOOKUP(Année!C31,'2017'!$A$3:$I$368,9),"") -> 0 | D32: =IFERROR(VLOOKUP(Année!D31,'2017'!$A$3:$I$368,9),"") -> 0 | E32: =IFERROR(VLOOKUP(Année!E31,'2017'!$A$3:$I$368,9),"") -> 0 | F32: =IFERROR(VLOOKUP(Année!F31,'2017'!$A$3:$I$368,9),"") -> 0 | G32: =IFERROR(VLOOKUP(Année!G31,'2017'!$A$3:$I$368,9),"") -> 0 | H32: =IFERROR(VLOOKUP(Année!H31,'2017'!$A$3:$I$368,9),"") -> 0 | I32: =IFERROR(VLOOKUP(Année!I31,'2017'!$A$3:$I$368,9),"") -> 0 | ... AF32: =IFERROR(VLOOKUP(Année!AF31,'2017'!$A$3:$I$368,9),"") | AG32: =SUM(B32:AF32) -> 0 | AH32: =COUNTIF(B32:AF32,">"&0) -> 0 | AI32: =SUM(B33:AF33) -> 0
B33: =IFERROR(VLOOKUP(Année!B31,'2017'!$A$3:$J$368,11),"") | C33: =IFERROR(VLOOKUP(Année!C31,'2017'!$A$3:$J$368,11),"") | D33: =IFERROR(VLOOKUP(Année!D31,'2017'!$A$3:$J$368,11),"") | E33: =IFERROR(VLOOKUP(Année!E31,'2017'!$A$3:$J$368,11),"") | F33: =IFERROR(VLOOKUP(Année!F31,'2017'!$A$3:$J$368,11),"") | G33: =IFERROR(VLOOKUP(Année!G31,'2017'!$A$3:$J$368,11),"") | H33: =IFERROR(VLOOKUP(Année!H31,'2017'!$A$3:$J$368,11),"") | I33: =IFERROR(VLOOKUP(Année!I31,'2017'!$A$3:$J$368,11),"") | ... AF33: =IFERROR(VLOOKUP(Année!AF31,'2017'!$A$3:$J$368,11),"")
A34: Octobre | B34: =DATE($A$5,10,1) -> 43009 | C34: =B34+1 -> 43010 | D34: =C34+1 -> 43011 | E34: =D34+1 -> 43012 | F34: =E34+1 -> 43013 | G34: =F34+1 -> 43014 | H34: =G34+1 -> 43015 | I34: =H34+1 -> 43016 | J34: =I34+1 -> 43017 | ... AE34: =AD34+1 -> 43038 | AF34: =IF(OR(MONTH(AE34+1)<>MONTH(AE34),AE34+1>=B37),0,AE34+1) -> 43039
B35: =IFERROR(VLOOKUP(Année!B34,'2017'!$A$3:$I$368,9),"") -> 0 | C35: =IFERROR(VLOOKUP(Année!C34,'2017'!$A$3:$I$368,9),"") -> 0 | D35: =IFERROR(VLOOKUP(Année!D34,'2017'!$A$3:$I$368,9),"") -> 0 | E35: =IFERROR(VLOOKUP(Année!E34,'2017'!$A$3:$I$368,9),"") -> 0 | F35: =IFERROR(VLOOKUP(Année!F34,'2017'!$A$3:$I$368,9),"") -> 0 | G35: =IFERROR(VLOOKUP(Année!G34,'2017'!$A$3:$I$368,9),"") -> 0 | H35: =IFERROR(VLOOKUP(Année!H34,'2017'!$A$3:$I$368,9),"") -> 0 | I35: =IFERROR(VLOOKUP(Année!I34,'2017'!$A$3:$I$368,9),"") -> 0 | ... AF35: =IFERROR(VLOOKUP(Année!AF34,'2017'!$A$3:$I$368,9),"") -> 0 | AG35: =SUM(B35:AF35) -> 0 | AH35: =COUNTIF(B35:AF35,">"&0) -> 0 | AI35: =SUM(B36:AF36) -> 0
B36: =IFERROR(VLOOKUP(Année!B34,'2017'!$A$3:$J$368,11),"") | C36: =IFERROR(VLOOKUP(Année!C34,'2017'!$A$3:$J$368,11),"") | D36: =IFERROR(VLOOKUP(Année!D34,'2017'!$A$3:$J$368,11),"") | E36: =IFERROR(VLOOKUP(Année!E34,'2017'!$A$3:$J$368,11),"") | F36: =IFERROR(VLOOKUP(Année!F34,'2017'!$A$3:$J$368,11),"") | G36: =IFERROR(VLOOKUP(Année!G34,'2017'!$A$3:$J$368,11),"") | H36: =IFERROR(VLOOKUP(Année!H34,'2017'!$A$3:$J$368,11),"") | I36: =IFERROR(VLOOKUP(Année!I34,'2017'!$A$3:$J$368,11),"") | ... AF36: =IFERROR(VLOOKUP(Année!AF34,'2017'!$A$3:$J$368,11),"")
A37: Novembre | B37: =DATE($A$5,11,1) -> 43040 | C37: =B37+1 -> 43041 | D37: =C37+1 -> 43042 | E37: =D37+1 -> 43043 | F37: =E37+1 -> 43044 | G37: =F37+1 -> 43045 | H37: =G37+1 -> 43046 | I37: =H37+1 -> 43047 | J37: =I37+1 -> 43048 | ... AE37: =AD37+1 -> 43069 | AF37: =IF(OR(MONTH(AE37+1)<>MONTH(AE37),AE37+1>=B40),0,AE37+1) -> 0
B38: =IFERROR(VLOOKUP(Année!B37,'2017'!$A$3:$I$368,9),"") -> 0 | C38: =IFERROR(VLOOKUP(Année!C37,'2017'!$A$3:$I$368,9),"") -> 0 | D38: =IFERROR(VLOOKUP(Année!D37,'2017'!$A$3:$I$368,9),"") -> 0 | E38: =IFERROR(VLOOKUP(Année!E37,'2017'!$A$3:$I$368,9),"") -> 0 | F38: =IFERROR(VLOOKUP(Année!F37,'2017'!$A$3:$I$368,9),"") -> 0 | G38: =IFERROR(VLOOKUP(Année!G37,'2017'!$A$3:$I$368,9),"") -> 0 | H38: =IFERROR(VLOOKUP(Année!H37,'2017'!$A$3:$I$368,9),"") -> 0 | I38: =IFERROR(VLOOKUP(Année!I37,'2017'!$A$3:$I$368,9),"") -> 0 | ... AF38: =IFERROR(VLOOKUP(Année!AF37,'2017'!$A$3:$I$368,9),"") | AG38: =SUM(B38:AF38) -> 0 | AH38: =COUNTIF(B38:AF38,">"&0) -> 0 | AI38: =SUM(B39:AF39) -> 0
B39: =IFERROR(VLOOKUP(Année!B37,'2017'!$A$3:$J$368,11),"") | C39: =IFERROR(VLOOKUP(Année!C37,'2017'!$A$3:$J$368,11),"") | D39: =IFERROR(VLOOKUP(Année!D37,'2017'!$A$3:$J$368,11),"") | E39: =IFERROR(VLOOKUP(Année!E37,'2017'!$A$3:$J$368,11),"") | F39: =IFERROR(VLOOKUP(Année!F37,'2017'!$A$3:$J$368,11),"") | G39: =IFERROR(VLOOKUP(Année!G37,'2017'!$A$3:$J$368,11),"") | H39: =IFERROR(VLOOKUP(Année!H37,'2017'!$A$3:$J$368,11),"") | I39: =IFERROR(VLOOKUP(Année!I37,'2017'!$A$3:$J$368,11),"") | ... AF39: =IFERROR(VLOOKUP(Année!AF37,'2017'!$A$3:$J$368,11),"")
A40: Décembre | B40: =DATE($A$5,12,1) -> 43070 | C40: =B40+1 -> 43071 | D40: =C40+1 -> 43072 | E40: =D40+1 -> 43073 | F40: =E40+1 -> 43074 | G40: =F40+1 -> 43075 | H40: =G40+1 -> 43076 | I40: =H40+1 -> 43077 | J40: =I40+1 -> 43078 | ... AF40: =AE40+1 -> 43100
B41: =IFERROR(VLOOKUP(Année!B40,'2017'!$A$3:$I$368,9),"") -> 0 | C41: =IFERROR(VLOOKUP(Année!C40,'2017'!$A$3:$I$368,9),"") -> 0 | D41: =IFERROR(VLOOKUP(Année!D40,'2017'!$A$3:$I$368,9),"") -> 0 | E41: =IFERROR(VLOOKUP(Année!E40,'2017'!$A$3:$I$368,9),"") -> 0 | F41: =IFERROR(VLOOKUP(Année!F40,'2017'!$A$3:$I$368,9),"") -> 0 | G41: =IFERROR(VLOOKUP(Année!G40,'2017'!$A$3:$I$368,9),"") -> 0 | H41: =IFERROR(VLOOKUP(Année!H40,'2017'!$A$3:$I$368,9),"") -> 0 | I41: =IFERROR(VLOOKUP(Année!I40,'2017'!$A$3:$I$368,9),"") -> 0 | ... AF41: =IFERROR(VLOOKUP(Année!AF40,'2017'!$A$3:$I$368,9),"") -> 0 | AG41: =SUM(B41:AF41) -> 0 | AH41: =COUNTIF(B41:AF41,">"&0) -> 0 | AI41: =SUM(B42:AF42) -> 0
B42: =IFERROR(VLOOKUP(Année!B40,'2017'!$A$3:$J$368,11),"") | C42: =IFERROR(VLOOKUP(Année!C40,'2017'!$A$3:$J$368,11),"") | D42: =IFERROR(VLOOKUP(Année!D40,'2017'!$A$3:$J$368,11),"") | E42: =IFERROR(VLOOKUP(Année!E40,'2017'!$A$3:$J$368,11),"") | F42: =IFERROR(VLOOKUP(Année!F40,'2017'!$A$3:$J$368,11),"") | G42: =IFERROR(VLOOKUP(Année!G40,'2017'!$A$3:$J$368,11),"") | H42: =IFERROR(VLOOKUP(Année!H40,'2017'!$A$3:$J$368,11),"") | I42: =IFERROR(VLOOKUP(Année!I40,'2017'!$A$3:$J$368,11),"") | ... AF42: =IFERROR(VLOOKUP(Année!AF40,'2017'!$A$3:$J$368,11),"")

Sheet 2017
B1: =COUNTIF(K:L,A1) -> 41
B2: Arrivée | C2: Départ | D2: Total 1 | E2: Arrivée | F2: Départ | G2: Total 2 | H2: Code | I2: Total | J2: 1.1574074e-05 | L2: Lieux | N2: Cumul | O2: Remarques | P2: 2017
A3: =DATE(2017,1,1) -> 42736 | D3: =MOD(C3-B3,1) -> 0 | G3: =MOD(F3-E3,1) -> 0 | I3: =SUM(D3+G3) -> 0 | J3: =IFERROR(VLOOKUP(L3,EMPLOI!A:P,2,0),"") | K3: =IF(WEEKDAY(A3)=6,SUM(OFFSET(A3,0,8,-6,1)),"") | L3: {=IF(OR($J$2>I3),"",IFERROR(INDEX(Tableau1[],MATCH(1,('2017'!A3>=Tableau1[[DATE DEBUT ]])*(Tableau1[DATE FIN]>='2017'!A3),0),1),""))} | P3: Jours Fériés et Fêtes
A4: =A3+1 -> 42737 | D4: =MOD(C4-B4,1) -> 0 | G4: =MOD(F4-E4,1) -> 0 | I4: =SUM(D4+G4) -> 0 | J4: =IFERROR(VLOOKUP(L4,EMPLOI!A:P,2,0),"") | K4: =IF(WEEKDAY(A4)=6,SUM(OFFSET(A4,0,8,-6,1)),"") | L4: {=IF(OR($J$2>I4),"",IFERROR(INDEX(Tableau1[],MATCH(1,('2017'!A4>=Tableau1[[DATE DEBUT ]])*(Tableau1[DATE FIN]>='2017'!A4),0),1),""))} | P4: JOUR DE L'AN | Q4: =DATE(P2,1,1) -> 42736
A5: =A4+1 -> 42738 | D5: =MOD(C5-B5,1) -> 0 | G5: =MOD(F5-E5,1) -> 0 | I5: =IFERROR(SUM(D5,G5),"") -> 0 | J5: =IFERROR(VLOOKUP(L5,EMPLOI!A:P,2,0),"") | K5: =IF(WEEKDAY(A5)=6,SUM(OFFSET(A5,0,8,-6,1)),"") | L5: {=IF(OR($J$2>I5),"",IFERROR(INDEX(Tableau1[],MATCH(1,('2017'!A5>=Tableau1[[DATE DEBUT ]])*(Tableau1[DATE FIN]>='2017'!A5),0),1),""))} | P5: PÂQUES | Q5: =FLOOR(DATE(P2,5,DAY(MINUTE(P2/38)/2+56)),7)-34+7*(P2=2079) -> 42841
A6: =A5+1 -> 42739 | D6: =MOD(C6-B6,1) -> 0 | G6: =MOD(F6-E6,1) -> 0 | I6: =SUM(D6+G6) -> 0 | J6: =IFERROR(VLOOKUP(L6,EMPLOI!A:P,2,0),"") | K6: =IF(WEEKDAY(A6)=6,SUM(OFFSET(A6,0,8,-6,1)),"") | L6: {=IF(OR($J$2>I6),"",IFERROR(INDEX(Tableau1[],MATCH(1,('2017'!A6>=Tableau1[[DATE DEBUT ]])*(Tableau1[DATE FIN]>='2017'!A6),0),1),""))} | P6: *Lundi de Pâques | Q6: =Q5+1 -> 42842
A7: =A6+1 -> 42740 | D7: =MOD(C7-B7,1) -> 0 | G7: =MOD(F7-E7,1) -> 0 | I7: =SUM(D7+G7) -> 0 | J7: =IFERROR(VLOOKUP(L7,EMPLOI!A:P,2,0),"") | K7: =IF(WEEKDAY(A7)=6,SUM(OFFSET(A7,0,8,-6,1)),"") | L7: {=IF(OR($J$2>I7),"",IFERROR(INDEX(Tableau1[],MATCH(1,('2017'!A7>=Tableau1[[DATE DEBUT ]])*(Tableau1[DATE FIN]>='2017'!A7),0),1),""))} | P7: FÊTE DU TRAVAIL | Q7: =DATE(Année!A5,5,1) -> 42856
A8: =A7+1 -> 42741 | D8: =MOD(C8-B8,1) -> 0 | G8: =MOD(F8-E8,1) -> 0 | I8: =SUM(D8+G8) -> 0 | J8: =IFERROR(VLOOKUP(L8,EMPLOI!A:P,2,0),"") | K8: =IF(WEEKDAY(A8)=6,SUM(OFFSET(A8,0,8,-6,1)),"") -> 0 | L8: {=IF(OR($J$2>I8),"",IFERROR(INDEX(Tableau1[],MATCH(1,('2017'!A8>=Tableau1[[DATE DEBUT ]])*(Tableau1[DATE FIN]>='2017'!A8),0),1),""))} | P8: ASCENSION | Q8: =Q5+39 -> 42880
A9: =A8+1 -> 42742 | D9: =MOD(C9-B9,1) -> 0 | G9: =MOD(F9-E9,1) -> 0 | I9: =SUM(D9+G9) -> 0 | J9: =IFERROR(VLOOKUP(L9,EMPLOI!A:P,2,0),"") | K9: =IF(WEEKDAY(A9)=6,SUM(OFFSET(A9,0,8,-6,1)),"") | L9: {=IF(OR($J$2>I9),"",IFERROR(INDEX(Tableau1[],MATCH(1,('2017'!A9>=Tableau1[[DATE DEBUT ]])*(Tableau1[DATE FIN]>='2017'!A9),0),1),""))} | P9: VICTOIRE 1945 | Q9: =DATE(P2,5,8) -> 42863
A10: =A9+1 -> 42743 | D10: =MOD(C10-B10,1) -> 0 | G10: =MOD(F10-E10,1) -> 0 | I10: =SUM(D10+G10) -> 0 | J10: =IFERROR(VLOOKUP(L10,EMPLOI!A:P,2,0),"") | K10: =IF(WEEKDAY(A10)=6,SUM(OFFSET(A10,0,8,-6,1)),"") | L10: {=IF(OR($J$2>I10),"",IFERROR(INDEX(Tableau1[],MATCH(1,('2017'!A10>=Tableau1[[DATE DEBUT ]])*(Tableau1[DATE FIN]>='2017'!A10),0),1),""))} | P10: PENTECÔTE | Q10: =Q5+49 -> 42890
A11: =A10+1 -> 42744 | D11: =MOD(C11-B11,1) -> 0 | G11: =MOD(F11-E11,1) -> 0 | I11: =SUM(D11+G11) -> 0 | J11: =IFERROR(VLOOKUP(L11,EMPLOI!A:P,2,0),"") | K11: =IF(WEEKDAY(A11)=6,SUM(OFFSET(A11,0,8,-6,1)),"") | L11: {=IF(OR($J$2>I11),"",IFERROR(INDEX(Tableau1[],MATCH(1,('2017'!A11>=Tableau1[[DATE DEBUT ]])*(Tableau1[DATE FIN]>='2017'!A11),0),1),""))} | P11: *Lundi de Pentecôte | Q11: =Q5+50 -> 42891
A12: =A11+1 -> 42745 | D12: =MOD(C12-B12,1) -> 0 | G12: =MOD(F12-E12,1) -> 0 | I12: =SUM(D12+G12) -> 0 | J12: =IFERROR(VLOOKUP(L12,EMPLOI!A:P,2,0),"") | K12: =IF(WEEKDAY(A12)=6,SUM(OFFSET(A12,0,8,-6,1)),"") | L12: {=IF(OR($J$2>I12),"",IFERROR(INDEX(Tableau1[],MATCH(1,('2017'!A12>=Tableau1[[DATE DEBUT ]])*(Tableau1[DATE FIN]>='2017'!A12),0),1),""))} | P12: FÊTE NAT | Q12: =DATE(P2,7,14) -> 42930
A13: =A12+1 -> 42746 | D13: =MOD(C13-B13,1) -> 0 | G13: =MOD(F13-E13,1) -> 0 | I13: =SUM(D13+G13) -> 0 | J13: =IFERROR(VLOOKUP(L13,EMPLOI!A:P,2,0),"") | K13: =IF(WEEKDAY(A13)=6,SUM(OFFSET(A13,0,8,-6,1)),"") | L13: {=IF(OR($J$2>I13),"",IFERROR(INDEX(Tableau1[],MATCH(1,('2017'!A13>=Tableau1[[DATE DEBUT ]])*(Tableau1[DATE FIN]>='2017'!A13),0),1),""))} | P13: ASSOMPTION | Q13: =DATE(P2,8,15) -> 42962
A14: =A13+1 -> 42747 | D14: =MOD(C14-B14,1) -> 0 | G14: =MOD(F14-E14,1) -> 0 | I14: =SUM(D14+G14) -> 0 | J14: =IFERROR(VLOOKUP(L14,EMPLOI!A:P,2,0),"") | K14: =IF(WEEKDAY(A14)=6,SUM(OFFSET(A14,0,8,-6,1)),"") | L14: {=IF(OR($J$2>I14),"",IFERROR(INDEX(Tableau1[],MATCH(1,('2017'!A14>=Tableau1[[DATE DEBUT ]])*(Tableau1[DATE FIN]>='2017'!A14),0),1),""))} | P14: TOUSSAINT | Q14: =DATE(P2,11,1) -> 43040
A15: =A14+1 -> 42748 | D15: =MOD(C15-B15,1) -> 0 | G15: =MOD(F15-E15,1) -> 0 | I15: =SUM(D15+G15) -> 0 | J15: =IFERROR(VLOOKUP(L15,EMPLOI!A:P,2,0),"") | K15: =IF(WEEKDAY(A15)=6,SUM(OFFSET(A15,0,8,-6,1)),"") -> 0 | L15: {=IF(OR($J$2>I15),"",IFERROR(INDEX(Tableau1[],MATCH(1,('2017'!A15>=Tableau1[[DATE DEBUT ]])*(Tableau1[DATE FIN]>='2017'!A15),0),1),""))} | P15: ARMISTICE 1918 | Q15: =DATE(P2,11,11) -> 43050
A16: =A15+1 -> 42749 | D16: =MOD(C16-B16,1) -> 0 | G16: =MOD(F16-E16,1) -> 0 | I16: =SUM(D16+G16) -> 0 | J16: =IFERROR(VLOOKUP(L16,EMPLOI!A:P,2,0),"") | K16: =IF(WEEKDAY(A16)=6,SUM(OFFSET(A16,0,8,-6,1)),"") | L16: {=IF(OR($J$2>I16),"",IFERROR(INDEX(Tableau1[],MATCH(1,('2017'!A16>=Tableau1[[DATE DEBUT ]])*(Tableau1[DATE FIN]>='2017'!A16),0),1),""))} | P16: NOËL | Q16: =DATE(P2,12,25) -> 43094
A17: =A16+1 -> 42750 | D17: =MOD(C17-B17,1) -> 0 | G17: =MOD(F17-E17,1) -> 0 | I17: =SUM(D17+G17) -> 0 | J17: =IFERROR(VLOOKUP(L17,EMPLOI!A:P,2,0),"") | K17: =IF(WEEKDAY(A17)=6,SUM(OFFSET(A17,0,8,-6,1)),"") | L17: {=IF(OR($J$2>I17),"",IFERROR(INDEX(Tableau1[],MATCH(1,('2017'!A17>=Tableau1[[DATE DEBUT ]])*(Tableau1[DATE FIN]>='2017'!A17),0),1),""))}
A18: =A17+1 -> 42751 | D18: =MOD(C18-B18,1) -> 0 | G18: =MOD(F18-E18,1) -> 0 | I18: =SUM(D18+G18) -> 0 | J18: =IFERROR(VLOOKUP(L18,EMPLOI!A:P,2,0),"") | K18: =IF(WEEKDAY(A18)=6,SUM(OFFSET(A18,0,8,-6,1)),"") | L18: {=IF(OR($J$2>I18),"",IFERROR(INDEX(Tableau1[],MATCH(1,('2017'!A18>=Tableau1[[DATE DEBUT ]])*(Tableau1[DATE FIN]>='2017'!A18),0),1),""))} | P18: Mardi-Gras | Q18: =Q5-47 -> 42794
A19: =A18+1 -> 42752 | D19: =MOD(C19-B19,1) -> 0 | G19: =MOD(F19-E19,1) -> 0 | I19: =SUM(D19+G19) -> 0 | J19: =IFERROR(VLOOKUP(L19,EMPLOI!A:P,2,0),"") | K19: =IF(WEEKDAY(A19)=6,SUM(OFFSET(A19,0,8,-6,1)),"") | L19: {=IF(OR($J$2>I19),"",IFERROR(INDEX(Tableau1[],MATCH(1,('2017'!A19>=Tableau1[[DATE DEBUT ]])*(Tableau1[DATE FIN]>='2017'!A19),0),1),""))} | P19: Cendres | Q19: =Q5-46 -> 42795
A20: =A19+1 -> 42753 | D20: =MOD(C20-B20,1) -> 0 | G20: =MOD(F20-E20,1) -> 0 | I20: =SUM(D20+G20) -> 0 | J20: =IFERROR(VLOOKUP(L20,EMPLOI!A:P,2,0),"") | K20: =IF(WEEKDAY(A20)=6,SUM(OFFSET(A20,0,8,-6,1)),"") | L20: {=IF(OR($J$2>I20),"",IFERROR(INDEX(Tableau1[],MATCH(1,('2017'!A20>=Tableau1[[DATE DEBUT ]])*(Tableau1[DATE FIN]>='2017'!A20),0),1),""))} | P20: Rameaux | Q20: =Q5-7 -> 42834
A21: =A20+1 -> 42754 | D21: =MOD(C21-B21,1) -> 0 | G21: =MOD(F21-E21,1) -> 0 | I21: =SUM(D21+G21) -> 0 | J21: =IFERROR(VLOOKUP(L21,EMPLOI!A:P,2,0),"") | K21: =IF(WEEKDAY(A21)=6,SUM(OFFSET(A21,0,8,-6,1)),"") | L21: {=IF(OR($J$2>I21),"",IFERROR(INDEX(Tableau1[],MATCH(1,('2017'!A21>=Tableau1[[DATE DEBUT ]])*(Tableau1[DATE FIN]>='2017'!A21),0),1),""))}
A22: =A21+1 -> 42755 | D22: =MOD(C22-B22,1) -> 0 | G22: =MOD(F22-E22,1) -> 0 | I22: =SUM(D22+G22) -> 0 | J22: =IFERROR(VLOOKUP(L22,EMPLOI!A:P,2,0),"") | K22: =IF(WEEKDAY(A22)=6,SUM(OFFSET(A22,0,8,-6,1)),"") -> 0 | L22: {=IF(OR($J$2>I22),"",IFERROR(INDEX(Tableau1[],MATCH(1,('2017'!A22>=Tableau1[[DATE DEBUT ]])*(Tableau1[DATE FIN]>='2017'!A22),0),1),""))} | P22: Epiphanie | Q22: =DATE(P2,1,1)+7-WEEKDAY(DATE(P2,1,1),2) -> 42736
A23: =A22+1 -> 42756 | D23: =MOD(C23-B23,1) -> 0 | G23: =MOD(F23-E23,1) -> 0 | I23: =SUM(D23+G23) -> 0 | J23: =IFERROR(VLOOKUP(L23,EMPLOI!A:P,2,0),"") | K23: =IF(WEEKDAY(A23)=6,SUM(OFFSET(A23,0,8,-6,1)),"") | L23: {=IF(OR($J$2>I23),"",IFERROR(INDEX(Tableau1[],MATCH(1,('2017'!A23>=Tableau1[[DATE DEBUT ]])*(Tableau1[DATE FIN]>='2017'!A23),0),1),""))}
A24: =A23+1 -> 42757 | D24: =MOD(C24-B24,1) -> 0 | G24: =MOD(F24-E24,1) -> 0 | I24: =SUM(D24+G24) -> 0 | J24: =IFERROR(VLOOKUP(L24,EMPLOI!A:P,2,0),"") | K24: =IF(WEEKDAY(A24)=6,SUM(OFFSET(A24,0,8,-6,1)),"") | L24: {=IF(OR($J$2>I24),"",IFERROR(INDEX(Tableau1[],MATCH(1,('2017'!A24>=Tableau1[[DATE DEBUT ]])*(Tableau1[DATE FIN]>='2017'!A24),0),1),""))} | P24: Fête Dieu | Q24: =Q5+63 -> 42904
A25: =A24+1 -> 42758 | D25: =MOD(C25-B25,1) -> 0 | G25: =MOD(F25-E25,1) -> 0 | I25: =SUM(D25+G25) -> 0 | J25: =IFERROR(VLOOKUP(L25,EMPLOI!A:P,2,0),"") | K25: =IF(WEEKDAY(A25)=6,SUM(OFFSET(A25,0,8,-6,1)),"") | L25: {=IF(OR($J$2>I25),"",IFERROR(INDEX(Tableau1[],MATCH(1,('2017'!A25>=Tableau1[[DATE DEBUT ]])*(Tableau1[DATE FIN]>='2017'!A25),0),1),""))}
A26: =A25+1 -> 42759 | D26: =MOD(C26-B26,1) -> 0 | G26: =MOD(F26-E26,1) -> 0 | I26: =SUM(D26+G26) -> 0 | J26: =IFERROR(VLOOKUP(L26,EMPLOI!A:P,2,0),"") | K26: =IF(WEEKDAY(A26)=6,SUM(OFFSET(A26,0,8,-6,1)),"") | L26: {=IF(OR($J$2>I26),"",IFERROR(INDEX(Tableau1[],MATCH(1,('2017'!A26>=Tableau1[[DATE DEBUT ]])*(Tableau1[DATE FIN]>='2017'!A26),0),1),""))}
A27: =A26+1 -> 42760 | D27: =MOD(C27-B27,1) -> 0 | G27: =MOD(F27-E27,1) -> 0 | I27: =SUM(D27+G27) -> 0 | J27: =IFERROR(VLOOKUP(L27,EMPLOI!A:P,2,0),"") | K27: =IF(WEEKDAY(A27)=6,SUM(OFFSET(A27,0,8,-6,1)),"") | L27: {=IF(OR($J$2>I27),"",IFERROR(INDEX(Tableau1[],MATCH(1,('2017'!A27>=Tableau1[[DATE DEBUT ]])*(Tableau1[DATE FIN]>='2017'!A27),0),1),""))}
A28: =A27+1 -> 42761 | D28: =MOD(C28-B28,1) -> 0 | G28: =MOD(F28-E28,1) -> 0 | I28: =SUM(D28+G28) -> 0 | J28: =IFERROR(VLOOKUP(L28,EMPLOI!A:P,2,0),"") | K28: =IF(WEEKDAY(A28)=6,SUM(OFFSET(A28,0,8,-6,1)),"") | L28: {=IF(OR($J$2>I28),"",IFERROR(INDEX(Tableau1[],MATCH(1,('2017'!A28>=Tableau1[[DATE DEBUT ]])*(Tableau1[DATE FIN]>='2017'!A28),0),1),""))}
A29: =A28+1 -> 42762 | D29: =MOD(C29-B29,1) -> 0 | G29: =MOD(F29-E29,1) -> 0 | I29: =SUM(D29+G29) -> 0 | J29: =IFERROR(VLOOKUP(L29,EMPLOI!A:P,2,0),"") | K29: =IF(WEEKDAY(A29)=6,SUM(OFFSET(A29,0,8,-6,1)),"") -> 0 | L29: {=IF(OR($J$2>I29),"",IFERROR(INDEX(Tableau1[],MATCH(1,('2017'!A29>=Tableau1[[DATE DEBUT ]])*(Tableau1[DATE FIN]>='2017'!A29),0),1),""))}
A30: =A29+1 -> 42763 | D30: =MOD(C30-B30,1) -> 0 | G30: =MOD(F30-E30,1) -> 0 | I30: =SUM(D30+G30) -> 0 | J30: =IFERROR(VLOOKUP(L30,EMPLOI!A:P,2,0),"") | K30: =IF(WEEKDAY(A30)=6,SUM(OFFSET(A30,0,8,-6,1)),"") | L30: {=IF(OR($J$2>I30),"",IFERROR(INDEX(Tableau1[],MATCH(1,('2017'!A30>=Tableau1[[DATE DEBUT ]])*(Tableau1[DATE FIN]>='2017'!A30),0),1),""))}
A31: =A30+1 -> 42764 | D31: =MOD(C31-B31,1) -> 0 | G31: =MOD(F31-E31,1) -> 0 | I31: =SUM(D31+G31) -> 0 | J31: =IFERROR(VLOOKUP(L31,EMPLOI!A:P,2,0),"") | K31: =IF(WEEKDAY(A31)=6,SUM(OFFSET(A31,0,8,-6,1)),"") | L31: {=IF(OR($J$2>I31),"",IFERROR(INDEX(Tableau1[],MATCH(1,('2017'!A31>=Tableau1[[DATE DEBUT ]])*(Tableau1[DATE FIN]>='2017'!A31),0),1),""))}
A32: =A31+1 -> 42765 | D32: =MOD(C32-B32,1) -> 0 | G32: =MOD(F32-E32,1) -> 0 | I32: =SUM(D32+G32) -> 0 | J32: =IFERROR(VLOOKUP(L32,EMPLOI!A:P,2,0),"") | K32: =IF(WEEKDAY(A32)=6,SUM(OFFSET(A32,0,8,-6,1)),"") | L32: {=IF(OR($J$2>I32),"",IFERROR(INDEX(Tableau1[],MATCH(1,('2017'!A32>=Tableau1[[DATE DEBUT ]])*(Tableau1[DATE FIN]>='2017'!A32),0),1),""))}
A33: =A32+1 -> 42766 | D33: =MOD(C33-B33,1) -> 0 | G33: =MOD(F33-E33,1) -> 0 | I33: =SUM(D33+G33) -> 0 | J33: =IFERROR(VLOOKUP(L33,EMPLOI!A:P,2,0),"") | K33: =IF(WEEKDAY(A33)=6,SUM(OFFSET(A33,0,8,-6,1)),"") | L33: {=IF(OR($J$2>I33),"",IFERROR(INDEX(Tableau1[],MATCH(1,('2017'!A33>=Tableau1[[DATE DEBUT ]])*(Tableau1[DATE FIN]>='2017'!A33),0),1),""))}
A34: =A33+1 -> 42767 | D34: =MOD(C34-B34,1) -> 0 | G34: =MOD(F34-E34,1) -> 0 | I34: =SUM(D34+G34) -> 0 | J34: =IFERROR(VLOOKUP(L34,EMPLOI!A:P,2,0),"") | K34: =IF(WEEKDAY(A34)=6,SUM(OFFSET(A34,0,8,-6,1)),"") | L34: {=IF(OR($J$2>I34),"",IFERROR(INDEX(Tableau1[],MATCH(1,('2017'!A34>=Tableau1[[DATE DEBUT ]])*(Tableau1[DATE FIN]>='2017'!A34),0),1),""))}
A35: =A34+1 -> 42768 | D35: =MOD(C35-B35,1) -> 0 | G35: =MOD(F35-E35,1) -> 0 | I35: =SUM(D35+G35) -> 0 | J35: =IFERROR(VLOOKUP(L35,EMPLOI!A:P,2,0),"") | K35: =IF(WEEKDAY(A35)=6,SUM(OFFSET(A35,0,8,-6,1)),"") | L35: {=IF(OR($J$2>I35),"",IFERROR(INDEX(Tableau1[],MATCH(1,('2017'!A35>=Tableau1[[DATE DEBUT ]])*(Tableau1[DATE FIN]>='2017'!A35),0),1),""))}
A36: =A35+1 -> 42769 | D36: =MOD(C36-B36,1) -> 0 | G36: =MOD(F36-E36,1) -> 0 | I36: =SUM(D36+G36) -> 0 | J36: =IFERROR(VLOOKUP(L36,EMPLOI!A:P,2,0),"") | K36: =IF(WEEKDAY(A36)=6,SUM(OFFSET(A36,0,8,-6,1)),"") -> 0 | L36: {=IF(OR($J$2>I36),"",IFERROR(INDEX(Tableau1[],MATCH(1,('2017'!A36>=Tableau1[[DATE DEBUT ]])*(Tableau1[DATE FIN]>='2017'!A36),0),1),""))}
... A95: =A94+1 -> 42828 | D95: =MOD(C95-B95,1) -> 0 | G95: =MOD(F95-E95,1) -> 0 | I95: =SUM(D95+G95) -> 0 | J95: =IFERROR(VLOOKUP(L95,EMPLOI!A:P,2,0),"") | K95: =IF(WEEKDAY(A95)=6,SUM(OFFSET(A95,0,8,-6,1)),"") | L95: {=IF(OR($J$2>I95),"",IFERROR(INDEX(Tableau1[],MATCH(1,('2017'!A95>=Tableau1[[DATE DEBUT ]])*(Tableau1[DATE FIN]>='2017'!A95),0),1),""))}
A96: =A95+1 -> 42829 | B96: 0.33333333 | C96: 0.48958333 | D96: =MOD(C96-B96,1) -> 0.15625 | E96: 0.53125 | F96: 0.66666667 | G96: =MOD(F96-E96,1) -> 0.13541667 | I96: =SUM(D96+G96) -> 0.29166667 | J96: =IFERROR(VLOOKUP(L96,EMPLOI!A:P,2,0),"") -> 70.6 | K96: =IF(WEEKDAY(A96)=6,SUM(OFFSET(A96,0,8,-6,1)),"") | L96: {=IF(OR($J$2>I96),"",IFERROR(INDEX(Tableau1[],MATCH(1,('2017'!A96>=Tableau1[[DATE DEBUT ]])*(Tableau1[DATE FIN]>='2017'!A96),0),1),""))} -> 1
A97: =A96+1 -> 42830 | B97: 0.33333333 | C97: 0.48958333 | D97: =MOD(C97-B97,1) -> 0.15625 | E97: 0.53125 | F97: 0.66666667 | G97: =MOD(F97-E97,1) -> 0.13541667 | I97: =SUM(D97+G97) -> 0.29166667 | J97: =IFERROR(VLOOKUP(L97,EMPLOI!A:P,2,0),"") -> 70.6 | K97: =IF(WEEKDAY(A97)=6,SUM(OFFSET(A97,0,8,-6,1)),"") | L97: {=IF(OR($J$2>I97),"",IFERROR(INDEX(Tableau1[],MATCH(1,('2017'!A97>=Tableau1[[DATE DEBUT ]])*(Tableau1[DATE FIN]>='2017'!A97),0),1),""))} -> 1
A98: =A97+1 -> 42831 | B98: 0.33333333 | C98: 0.48958333 | D98: =MOD(C98-B98,1) -> 0.15625 | E98: 0.53125 | F98: 0.66666667 | G98: =MOD(F98-E98,1) -> 0.13541667 | I98: =SUM(D98+G98) -> 0.29166667 | J98: =IFERROR(VLOOKUP(L98,EMPLOI!A:P,2,0),"") -> 70.6 | K98: =IF(WEEKDAY(A98)=6,SUM(OFFSET(A98,0,8,-6,1)),"") | L98: {=IF(OR($J$2>I98),"",IFERROR(INDEX(Tableau1[],MATCH(1,('2017'!A98>=Tableau1[[DATE DEBUT ]])*(Tableau1[DATE FIN]>='2017'!A98),0),1),""))} -> 1
A99: =A98+1 -> 42832 | B99: 0.33333333 | C99: 0.48958333 | D99: =MOD(C99-B99,1) -> 0.15625 | E99: 0.53125 | F99: 0.66666667 | G99: =MOD(F99-E99,1) -> 0.13541667 | I99: =SUM(D99+G99) -> 0.29166667 | J99: =IFERROR(VLOOKUP(L99,EMPLOI!A:P,2,0),"") -> 70.6 | K99: =IF(WEEKDAY(A99)=6,SUM(OFFSET(A99,0,8,-6,1)),"") -> 1.1666667 | L99: {=IF(OR($J$2>I99),"",IFERROR(INDEX(Tableau1[],MATCH(1,('2017'!A99>=Tableau1[[DATE DEBUT ]])*(Tableau1[DATE FIN]>='2017'!A99),0),1),""))} -> 1
A100: =A99+1 -> 42833 | D100: =MOD(C100-B100,1) -> 0 | G100: =MOD(F100-E100,1) -> 0 | I100: =SUM(D100+G100) -> 0 | J100: =IFERROR(VLOOKUP(L100,EMPLOI!A:P,2,0),"") | K100: =IF(WEEKDAY(A100)=6,SUM(OFFSET(A100,0,8,-6,1)),"") | L100: {=IF(OR($J$2>I100),"",IFERROR(INDEX(Tableau1[],MATCH(1,('2017'!A100>=Tableau1[[DATE DEBUT ]])*(Tableau1[DATE FIN]>='2017'!A100),0),1),""))}
A101: =A100+1 -> 42834 | D101: =MOD(C101-B101,1) -> 0 | G101: =MOD(F101-E101,1) -> 0 | I101: =SUM(D101+G101) -> 0 | J101: =IFERROR(VLOOKUP(L101,EMPLOI!A:P,2,0),"") | K101: =IF(WEEKDAY(A101)=6,SUM(OFFSET(A101,0,8,-6,1)),"") | L101: {=IF(OR($J$2>I101),"",IFERROR(INDEX(Tableau1[],MATCH(1,('2017'!A101>=Tableau1[[DATE DEBUT ]])*(Tableau1[DATE FIN]>='2017'!A101),0),1),""))}
A102: =A101+1 -> 42835 | D102: =MOD(C102-B102,1) -> 0 | G102: =MOD(F102-E102,1) -> 0 | I102: =SUM(D102+G102) -> 0 | J102: =IFERROR(VLOOKUP(L102,EMPLOI!A:P,2,0),"") | K102: =IF(WEEKDAY(A102)=6,SUM(OFFSET(A102,0,8,-6,1)),"") | L102: {=IF(OR($J$2>I102),"",IFERROR(INDEX(Tableau1[],MATCH(1,('2017'!A102>=Tableau1[[DATE DEBUT ]])*(Tableau1[DATE FIN]>='2017'!A102),0),1),""))}
A103: =A102+1 -> 42836 | D103: =MOD(C103-B103,1) -> 0 | G103: =MOD(F103-E103,1) -> 0 | I103: =SUM(D103+G103) -> 0 | J103: =IFERROR(VLOOKUP(L103,EMPLOI!A:P,2,0),"") | K103: =IF(WEEKDAY(A103)=6,SUM(OFFSET(A103,0,8,-6,1)),"") | L103: {=IF(OR($J$2>I103),"",IFERROR(INDEX(Tableau1[],MATCH(1,('2017'!A103>=Tableau1[[DATE DEBUT ]])*(Tableau1[DATE FIN]>='2017'!A103),0),1),""))}
A104: =A103+1 -> 42837 | D104: =MOD(C104-B104,1) -> 0 | G104: =MOD(F104-E104,1) -> 0 | I104: =SUM(D104+G104) -> 0 | J104: =IFERROR(VLOOKUP(L104,EMPLOI!A:P,2,0),"") | K104: =IF(WEEKDAY(A104)=6,SUM(OFFSET(A104,0,8,-6,1)),"") | L104: {=IF(OR($J$2>I104),"",IFERROR(INDEX(Tableau1[],MATCH(1,('2017'!A104>=Tableau1[[DATE DEBUT ]])*(Tableau1[DATE FIN]>='2017'!A104),0),1),""))}
A105: =A104+1 -> 42838 | D105: =MOD(C105-B105,1) -> 0 | G105: =MOD(F105-E105,1) -> 0 | I105: =SUM(D105+G105) -> 0 | J105: =IFERROR(VLOOKUP(L105,EMPLOI!A:P,2,0),"") | K105: =IF(WEEKDAY(A105)=6,SUM(OFFSET(A105,0,8,-6,1)),"") | L105: {=IF(OR($J$2>I105),"",IFERROR(INDEX(Tableau1[],MATCH(1,('2017'!A105>=Tableau1[[DATE DEBUT ]])*(Tableau1[DATE FIN]>='2017'!A105),0),1),""))}
A106: =A105+1 -> 42839 | D106: =MOD(C106-B106,1) -> 0 | G106: =MOD(F106-E106,1) -> 0 | I106: =SUM(D106+G106) -> 0 | J106: =IFERROR(VLOOKUP(L106,EMPLOI!A:P,2,0),"") | K106: =IF(WEEKDAY(A106)=6,SUM(OFFSET(A106,0,8,-6,1)),"") -> 0 | L106: {=IF(OR($J$2>I106),"",IFERROR(INDEX(Tableau1[],MATCH(1,('2017'!A106>=Tableau1[[DATE DEBUT ]])*(Tableau1[DATE FIN]>='2017'!A106),0),1),""))}
A107: =A106+1 -> 42840 | D107: =MOD(C107-B107,1) -> 0 | G107: =MOD(F107-E107,1) -> 0 | I107: =SUM(D107+G107) -> 0 | J107: =IFERROR(VLOOKUP(L107,EMPLOI!A:P,2,0),"") | K107: =IF(WEEKDAY(A107)=6,SUM(OFFSET(A107,0,8,-6,1)),"") | L107: {=IF(OR($J$2>I107),"",IFERROR(INDEX(Tableau1[],MATCH(1,('2017'!A107>=Tableau1[[DATE DEBUT ]])*(Tableau1[DATE FIN]>='2017'!A107),0),1),""))}
A108: =A107+1 -> 42841 | D108: =MOD(C108-B108,1) -> 0 | G108: =MOD(F108-E108,1) -> 0 | I108: =SUM(D108+G108) -> 0 | J108: =IFERROR(VLOOKUP(L108,EMPLOI!A:P,2,0),"") | K108: =IF(WEEKDAY(A108)=6,SUM(OFFSET(A108,0,8,-6,1)),"") | L108: {=IF(OR($J$2>I108),"",IFERROR(INDEX(Tableau1[],MATCH(1,('2017'!A108>=Tableau1[[DATE DEBUT ]])*(Tableau1[DATE FIN]>='2017'!A108),0),1),""))}
A109: =A108+1 -> 42842 | D109: =MOD(C109-B109,1) -> 0 | G109: =MOD(F109-E109,1) -> 0 | I109: =SUM(D109+G109) -> 0 | J109: =IFERROR(VLOOKUP(L109,EMPLOI!A:P,2,0),"") | K109: =IF(WEEKDAY(A109)=6,SUM(OFFSET(A109,0,8,-6,1)),"") | L109: {=IF(OR($J$2>I109),"",IFERROR(INDEX(Tableau1[],MATCH(1,('2017'!A109>=Tableau1[[DATE DEBUT ]])*(Tableau1[DATE FIN]>='2017'!A109),0),1),""))}
A110: =A109+1 -> 42843 | D110: =MOD(C110-B110,1) -> 0 | G110: =MOD(F110-E110,1) -> 0 | I110: =SUM(D110+G110) -> 0 | J110: =IFERROR(VLOOKUP(L110,EMPLOI!A:P,2,0),"") | K110: =IF(WEEKDAY(A110)=6,SUM(OFFSET(A110,0,8,-6,1)),"") | L110: {=IF(OR($J$2>I110),"",IFERROR(INDEX(Tableau1[],MATCH(1,('2017'!A110>=Tableau1[[DATE DEBUT ]])*(Tableau1[DATE FIN]>='2017'!A110),0),1),""))}
A111: =A110+1 -> 42844 | D111: =MOD(C111-B111,1) -> 0 | G111: =MOD(F111-E111,1) -> 0 | I111: =SUM(D111+G111) -> 0 | J111: =IFERROR(VLOOKUP(L111,EMPLOI!A:P,2,0),"") | K111: =IF(WEEKDAY(A111)=6,SUM(OFFSET(A111,0,8,-6,1)),"") | L111: {=IF(OR($J$2>I111),"",IFERROR(INDEX(Tableau1[],MATCH(1,('2017'!A111>=Tableau1[[DATE DEBUT ]])*(Tableau1[DATE FIN]>='2017'!A111),0),1),""))}
... A124: =A123+1 -> 42857 | D124: =MOD(C124-B124,1) -> 0 | G124: =MOD(F124-E124,1) -> 0 | I124: =SUM(D124+G124) -> 0 | J124: =IFERROR(VLOOKUP(L124,EMPLOI!A:P,2,0),"") | K124: =IF(WEEKDAY(A124)=6,SUM(OFFSET(A124,0,8,-6,1)),"") | L124: {=IF(OR($J$2>I124),"",IFERROR(INDEX(Tableau1[],MATCH(1,('2017'!A124>=Tableau1[[DATE DEBUT ]])*(Tableau1[DATE FIN]>='2017'!A124),0),1),""))}
A125: =A124+1 -> 42858 | B125: 0.375 | C125: 0.54166667 | D125: =MOD(C125-B125,1) -> 0.16666667 | E125: 0.5625 | F125: 0.70833333 | G125: =MOD(F125-E125,1) -> 0.14583333 | I125: =SUM(D125+G125) -> 0.3125 | J125: =IFERROR(VLOOKUP(L125,EMPLOI!A:P,2,0),"") -> 79.7 | K125: =IF(WEEKDAY(A125)=6,SUM(OFFSET(A125,0,8,-6,1)),"") | L125: {=IF(OR($J$2>I125),"",IFERROR(INDEX(Tableau1[],MATCH(1,('2017'!A125>=Tableau1[[DATE DEBUT ]])*(Tableau1[DATE FIN]>='2017'!A125),0),1),""))} -> 2
A126: =A125+1 -> 42859 | B126: 0.375 | C126: 0.54166667 | D126: =MOD(C126-B126,1) -> 0.16666667 | E126: 0.5625 | F126: 0.70833333 | G126: =MOD(F126-E126,1) -> 0.14583333 | I126: =SUM(D126+G126) -> 0.3125 | J126: =IFERROR(VLOOKUP(L126,EMPLOI!A:P,2,0),"") -> 79.7 | K126: =IF(WEEKDAY(A126)=6,SUM(OFFSET(A126,0,8,-6,1)),"") | L126: {=IF(OR($J$2>I126),"",IFERROR(INDEX(Tableau1[],MATCH(1,('2017'!A126>=Tableau1[[DATE DEBUT ]])*(Tableau1[DATE FIN]>='2017'!A126),0),1),""))} -> 2
A127: =A126+1 -> 42860 | B127: 0.375 | C127: 0.54166667 | D127: =MOD(C127-B127,1) -> 0.16666667 | E127: 0.5625 | F127: 0.70833333 | G127: =MOD(F127-E127,1) -> 0.14583333 | I127: =SUM(D127+G127) -> 0.3125 | J127: =IFERROR(VLOOKUP(L127,EMPLOI!A:P,2,0),"") -> 79.7 | K127: =IF(WEEKDAY(A127)=6,SUM(OFFSET(A127,0,8,-6,1)),"") -> 0.9375 | L127: {=IF(OR($J$2>I127),"",IFERROR(INDEX(Tableau1[],MATCH(1,('2017'!A127>=Tableau1[[DATE DEBUT ]])*(Tableau1[DATE FIN]>='2017'!A127),0),1),""))} -> 2
A128: =A127+1 -> 42861 | D128: =MOD(C128-B128,1) -> 0 | G128: =MOD(F128-E128,1) -> 0 | I128: =SUM(D128+G128) -> 0 | J128: =IFERROR(VLOOKUP(L128,EMPLOI!A:P,2,0),"") | K128: =IF(WEEKDAY(A128)=6,SUM(OFFSET(A128,0,8,-6,1)),"") | L128: {=IF(OR($J$2>I128),"",IFERROR(INDEX(Tableau1[],MATCH(1,('2017'!A128>=Tableau1[[DATE DEBUT ]])*(Tableau1[DATE FIN]>='2017'!A128),0),1),""))}
A129: =A128+1 -> 42862 | D129: =MOD(C129-B129,1) -> 0 | G129: =MOD(F129-E129,1) -> 0 | I129: =SUM(D129+G129) -> 0 | J129: =IFERROR(VLOOKUP(L129,EMPLOI!A:P,2,0),"") | K129: =IF(WEEKDAY(A129)=6,SUM(OFFSET(A129,0,8,-6,1)),"") | L129: {=IF(OR($J$2>I129),"",IFERROR(INDEX(Tableau1[],MATCH(1,('2017'!A129>=Tableau1[[DATE DEBUT ]])*(Tableau1[DATE FIN]>='2017'!A129),0),1),""))}
A130: =A129+1 -> 42863 | D130: =MOD(C130-B130,1) -> 0 | G130: =MOD(F130-E130,1) -> 0 | I130: =SUM(D130+G130) -> 0 | J130: =IFERROR(VLOOKUP(L130,EMPLOI!A:P,2,0),"") | K130: =IF(WEEKDAY(A130)=6,SUM(OFFSET(A130,0,8,-6,1)),"") | L130: {=IF(OR($J$2>I130),"",IFERROR(INDEX(Tableau1[],MATCH(1,('2017'!A130>=Tableau1[[DATE DEBUT ]])*(Tableau1[DATE FIN]>='2017'!A130),0),1),""))}
A131: =A130+1 -> 42864 | B131: 0.375 | C131: 0.54166667 | D131: =MOD(C131-B131,1) -> 0.16666667 | E131: 0.5625 | F131: 0.70833333 | G131: =MOD(F131-E131,1) -> 0.14583333 | I131: =SUM(D131+G131) -> 0.3125 | J131: =IFERROR(VLOOKUP(L131,EMPLOI!A:P,2,0),"") -> 79.7 | K131: =IF(WEEKDAY(A131)=6,SUM(OFFSET(A131,0,8,-6,1)),"") | L131: {=IF(OR($J$2>I131),"",IFERROR(INDEX(Tableau1[],MATCH(1,('2017'!A131>=Tableau1[[DATE DEBUT ]])*(Tableau1[DATE FIN]>='2017'!A131),0),1),""))} -> 2
A132: =A131+1 -> 42865 | B132: 0.375 | C132: 0.54166667 | D132: =MOD(C132-B132,1) -> 0.16666667 | E132: 0.5625 | F132: 0.70833333 | G132: =MOD(F132-E132,1) -> 0.14583333 | I132: =SUM(D132+G132) -> 0.3125 | J132: =IFERROR(VLOOKUP(L132,EMPLOI!A:P,2,0),"") -> 79.7 | K132: =IF(WEEKDAY(A132)=6,SUM(OFFSET(A132,0,8,-6,1)),"") | L132: {=IF(OR($J$2>I132),"",IFERROR(INDEX(Tableau1[],MATCH(1,('2017'!A132>=Tableau1[[DATE DEBUT ]])*(Tableau1[DATE FIN]>='2017'!A132),0),1),""))} -> 2
A133: =A132+1 -> 42866 | B133: 0.375 | C133: 0.54166667 | D133: =MOD(C133-B133,1) -> 0.16666667 | E133: 0.5625 | F133: 0.70833333 | G133: =MOD(F133-E133,1) -> 0.14583333 | I133: =SUM(D133+G133) -> 0.3125 | J133: =IFERROR(VLOOKUP(L133,EMPLOI!A:P,2,0),"") -> 79.7 | K133: =IF(WEEKDAY(A133)=6,SUM(OFFSET(A133,0,8,-6,1)),"") | L133: {=IF(OR($J$2>I133),"",IFERROR(INDEX(Tableau1[],MATCH(1,('2017'!A133>=Tableau1[[DATE DEBUT ]])*(Tableau1[DATE FIN]>='2017'!A133),0),1),""))} -> 2
A134: =A133+1 -> 42867 | B134: 0.375 | C134: 0.54166667 | D134: =MOD(C134-B134,1) -> 0.16666667 | E134: 0.5625 | F134: 0.70833333 | G134: =MOD(F134-E134,1) -> 0.14583333 | I134: =SUM(D134+G134) -> 0.3125 | J134: =IFERROR(VLOOKUP(L134,EMPLOI!A:P,2,0),"") -> 79.7 | K134: =IF(WEEKDAY(A134)=6,SUM(OFFSET(A134,0,8,-6,1)),"") -> 1.25 | L134: {=IF(OR($J$2>I134),"",IFERROR(INDEX(Tableau1[],MATCH(1,('2017'!A134>=Tableau1[[DATE DEBUT ]])*(Tableau1[DATE FIN]>='2017'!A134),0),1),""))} -> 2
A135: =A134+1 -> 42868 | D135: =MOD(C135-B135,1) -> 0 | G135: =MOD(F135-E135,1) -> 0 | I135: =SUM(D135+G135) -> 0 | J135: =IFERROR(VLOOKUP(L135,EMPLOI!A:P,2,0),"") | K135: =IF(WEEKDAY(A135)=6,SUM(OFFSET(A135,0,8,-6,1)),"") | L135: {=IF(OR($J$2>I135),"",IFERROR(INDEX(Tableau1[],MATCH(1,('2017'!A135>=Tableau1[[DATE DEBUT ]])*(Tableau1[DATE FIN]>='2017'!A135),0),1),""))}
A136: =A135+1 -> 42869 | D136: =MOD(C136-B136,1) -> 0 | G136: =MOD(F136-E136,1) -> 0 | I136: =SUM(D136+G136) -> 0 | J136: =IFERROR(VLOOKUP(L136,EMPLOI!A:P,2,0),"") | K136: =IF(WEEKDAY(A136)=6,SUM(OFFSET(A136,0,8,-6,1)),"") | L136: {=IF(OR($J$2>I136),"",IFERROR(INDEX(Tableau1[],MATCH(1,('2017'!A136>=Tableau1[[DATE DEBUT ]])*(Tableau1[DATE FIN]>='2017'!A136),0),1),""))}
A137: =A136+1 -> 42870 | B137: 0.29166667 | C137: 0.5 | D137: =MOD(C137-B137,1) -> 0.20833333 | E137: 0.52083333 | F137: 0.66666667 | G137: =MOD(F137-E137,1) -> 0.14583333 | I137: =SUM(D137+G137) -> 0.35416667 | J137: =IFERROR(VLOOKUP(L137,EMPLOI!A:P,2,0),"") -> 79.7 | K137: =IF(WEEKDAY(A137)=6,SUM(OFFSET(A137,0,8,-6,1)),"") | L137: {=IF(OR($J$2>I137),"",IFERROR(INDEX(Tableau1[],MATCH(1,('2017'!A137>=Tableau1[[DATE DEBUT ]])*(Tableau1[DATE FIN]>='2017'!A137),0),1),""))} -> 2
A138: =A137+1 -> 42871 | B138: 0.29166667 | C138: 0.5 | D138: =MOD(C138-B138,1) -> 0.20833333 | E138: 0.52083333 | F138: 0.625 | G138: =MOD(F138-E138,1) -> 0.10416667 | I138: =SUM(D138+G138) -> 0.3125 | J138: =IFERROR(VLOOKUP(L138,EMPLOI!A:P,2,0),"") -> 79.7 | K138: =IF(WEEKDAY(A138)=6,SUM(OFFSET(A138,0,8,-6,1)),"") | L138: {=IF(OR($J$2>I138),"",IFERROR(INDEX(Tableau1[],MATCH(1,('2017'!A138>=Tableau1[[DATE DEBUT ]])*(Tableau1[DATE FIN]>='2017'!A138),0),1),""))} -> 2
A139: =A138+1 -> 42872 | B139: 0.29166667 | C139: 0.5 | D139: =MOD(C139-B139,1) -> 0.20833333 | E139: 0.52083333 | F139: 0.625 | G139: =MOD(F139-E139,1) -> 0.10416667 | I139: =SUM(D139+G139) -> 0.3125 | J139: =IFERROR(VLOOKUP(L139,EMPLOI!A:P,2,0),"") -> 79.7 | K139: =IF(WEEKDAY(A139)=6,SUM(OFFSET(A139,0,8,-6,1)),"") | L139: {=IF(OR($J$2>I139),"",IFERROR(INDEX(Tableau1[],MATCH(1,('2017'!A139>=Tableau1[[DATE DEBUT ]])*(Tableau1[DATE FIN]>='2017'!A139),0),1),""))} -> 2
A140: =A139+1 -> 42873 | B140: 0.29166667 | C140: 0.5 | D140: =MOD(C140-B140,1) -> 0.20833333 | E140: 0.52083333 | F140: 0.625 | G140: =MOD(F140-E140,1) -> 0.10416667 | I140: =SUM(D140+G140) -> 0.3125 | J140: =IFERROR(VLOOKUP(L140,EMPLOI!A:P,2,0),"") -> 79.7 | K140: =IF(WEEKDAY(A140)=6,SUM(OFFSET(A140,0,8,-6,1)),"") | L140: {=IF(OR($J$2>I140),"",IFERROR(INDEX(Tableau1[],MATCH(1,('2017'!A140>=Tableau1[[DATE DEBUT ]])*(Tableau1[DATE FIN]>='2017'!A140),0),1),""))} -> 2
A141: =A140+1 -> 42874 | B141: 0.29166667 | C141: 0.5 | D141: =MOD(C141-B141,1) -> 0.20833333 | E141: 0.52083333 | F141: 0.625 | G141: =MOD(F141-E141,1) -> 0.10416667 | I141: =SUM(D141+G141) -> 0.3125 | J141: =IFERROR(VLOOKUP(L141,EMPLOI!A:P,2,0),"") -> 79.7 | K141: =IF(WEEKDAY(A141)=6,SUM(OFFSET(A141,0,8,-6,1)),"") -> 1.6041667 | L141: {=IF(OR($J$2>I141),"",IFERROR(INDEX(Tableau1[],MATCH(1,('2017'!A141>=Tableau1[[DATE DEBUT ]])*(Tableau1[DATE FIN]>='2017'!A141),0),1),""))} -> 2
A142: =A141+1 -> 42875 | D142: =MOD(C142-B142,1) -> 0 | G142: =MOD(F142-E142,1) -> 0 | I142: =SUM(D142+G142) -> 0 | J142: =IFERROR(VLOOKUP(L142,EMPLOI!A:P,2,0),"") | K142: =IF(WEEKDAY(A142)=6,SUM(OFFSET(A142,0,8,-6,1)),"") | L142: {=IF(OR($J$2>I142),"",IFERROR(INDEX(Tableau1[],MATCH(1,('2017'!A142>=Tableau1[[DATE DEBUT ]])*(Tableau1[DATE FIN]>='2017'!A142),0),1),""))}
A143: =A142+1 -> 42876 | D143: =MOD(C143-B143,1) -> 0 | G143: =MOD(F143-E143,1) -> 0 | I143: =SUM(D143+G143) -> 0 | J143: =IFERROR(VLOOKUP(L143,EMPLOI!A:P,2,0),"") | K143: =IF(WEEKDAY(A143)=6,SUM(OFFSET(A143,0,8,-6,1)),"") | L143: {=IF(OR($J$2>I143),"",IFERROR(INDEX(Tableau1[],MATCH(1,('2017'!A143>=Tableau1[[DATE DEBUT ]])*(Tableau1[DATE FIN]>='2017'!A143),0),1),""))}
A144: =A143+1 -> 42877 | B144: 0.45833333 | C144: 0.58333333 | D144: =MOD(C144-B144,1) -> 0.125 | E144: 0.60416667 | F144: 0.79166667 | G144: =MOD(F144-E144,1) -> 0.1875 | I144: =SUM(D144+G144) -> 0.3125 | J144: =IFERROR(VLOOKUP(L144,EMPLOI!A:P,2,0),"") -> 79.7 | K144: =IF(WEEKDAY(A144)=6,SUM(OFFSET(A144,0,8,-6,1)),"") | L144: {=IF(OR($J$2>I144),"",IFERROR(INDEX(Tableau1[],MATCH(1,('2017'!A144>=Tableau1[[DATE DEBUT ]])*(Tableau1[DATE FIN]>='2017'!A144),0),1),""))} -> 2
A145: =A144+1 -> 42878 | B145: 0.45833333 | C145: 0.58333333 | D145: =MOD(C145-B145,1) -> 0.125 | E145: 0.60416667 | F145: 0.79166667 | G145: =MOD(F145-E145,1) -> 0.1875 | I145: =SUM(D145+G145) -> 0.3125 | J145: =IFERROR(VLOOKUP(L145,EMPLOI!A:P,2,0),"") -> 79.7 | K145: =IF(WEEKDAY(A145)=6,SUM(OFFSET(A145,0,8,-6,1)),"") | L145: {=IF(OR($J$2>I145),"",IFERROR(INDEX(Tableau1[],MATCH(1,('2017'!A145>=Tableau1[[DATE DEBUT ]])*(Tableau1[DATE FIN]>='2017'!A145),0),1),""))} -> 2
A146: =A145+1 -> 42879 | B146: 0.45833333 | C146: 0.58333333 | D146: =MOD(C146-B146,1) -> 0.125 | E146: 0.60416667 | F146: 0.73263889 | G146: =MOD(F146-E146,1) -> 0.12847222 | I146: =SUM(D146+G146) -> 0.25347222 | J146: =IFERROR(VLOOKUP(L146,EMPLOI!A:P,2,0),"") -> 79.7 | K146: =IF(WEEKDAY(A146)=6,SUM(OFFSET(A146,0,8,-6,1)),"") | L146: {=IF(OR($J$2>I146),"",IFERROR(INDEX(Tableau1[],MATCH(1,('2017'!A146>=Tableau1[[DATE DEBUT ]])*(Tableau1[DATE FIN]>='2017'!A146),0),1),""))} -> 2
A147: =A146+1 -> 42880 | D147: =MOD(C147-B147,1) -> 0 | G147: =MOD(F147-E147,1) -> 0 | I147: =SUM(D147+G147) -> 0 | J147: =IFERROR(VLOOKUP(L147,EMPLOI!A:P,2,0),"") | K147: =IF(WEEKDAY(A147)=6,SUM(OFFSET(A147,0,8,-6,1)),"") | L147: {=IF(OR($J$2>I147),"",IFERROR(INDEX(Tableau1[],MATCH(1,('2017'!A147>=Tableau1[[DATE DEBUT ]])*(Tableau1[DATE FIN]>='2017'!A147),0),1),""))}
A148: =A147+1 -> 42881 | D148: =MOD(C148-B148,1) -> 0 | G148: =MOD(F148-E148,1) -> 0 | I148: =SUM(D148+G148) -> 0 | J148: =IFERROR(VLOOKUP(L148,EMPLOI!A:P,2,0),"") | K148: =IF(WEEKDAY(A148)=6,SUM(OFFSET(A148,0,8,-6,1)),"") -> 0.87847222 | L148: {=IF(OR($J$2>I148),"",IFERROR(INDEX(Tableau1[],MATCH(1,('2017'!A148>=Tableau1[[DATE DEBUT ]])*(Tableau1[DATE FIN]>='2017'!A148),0),1),""))}
A149: =A148+1 -> 42882 | D149: =MOD(C149-B149,1) -> 0 | G149: =MOD(F149-E149,1) -> 0 | I149: =SUM(D149+G149) -> 0 | J149: =IFERROR(VLOOKUP(L149,EMPLOI!A:P,2,0),"") | K149: =IF(WEEKDAY(A149)=6,SUM(OFFSET(A149,0,8,-6,1)),"") | L149: {=IF(OR($J$2>I149),"",IFERROR(INDEX(Tableau1[],MATCH(1,('2017'!A149>=Tableau1[[DATE DEBUT ]])*(Tableau1[DATE FIN]>='2017'!A149),0),1),""))}
A150: =A149+1 -> 42883 | D150: =MOD(C150-B150,1) -> 0 | G150: =MOD(F150-E150,1) -> 0 | I150: =SUM(D150+G150) -> 0 | J150: =IFERROR(VLOOKUP(L150,EMPLOI!A:P,2,0),"") | K150: =IF(WEEKDAY(A150)=6,SUM(OFFSET(A150,0,8,-6,1)),"") | L150: {=IF(OR($J$2>I150),"",IFERROR(INDEX(Tableau1[],MATCH(1,('2017'!A150>=Tableau1[[DATE DEBUT ]])*(Tableau1[DATE FIN]>='2017'!A150),0),1),""))}
A151: =A150+1 -> 42884 | B151: 0.29166667 | C151: 0.5 | D151: =MOD(C151-B151,1) -> 0.20833333 | E151: 0.52083333 | F151: 0.64583333 | G151: =MOD(F151-E151,1) -> 0.125 | I151: =SUM(D151+G151) -> 0.33333333 | J151: =IFERROR(VLOOKUP(L151,EMPLOI!A:P,2,0),"") -> 79.7 | K151: =IF(WEEKDAY(A151)=6,SUM(OFFSET(A151,0,8,-6,1)),"") | L151: {=IF(OR($J$2>I151),"",IFERROR(INDEX(Tableau1[],MATCH(1,('2017'!A151>=Tableau1[[DATE DEBUT ]])*(Tableau1[DATE FIN]>='2017'!A151),0),1),""))} -> 2
A152: =A151+1 -> 42885 | B152: 0.29166667 | C152: 0.5 | D152: =MOD(C152-B152,1) -> 0.20833333 | E152: 0.52083333 | F152: 0.625 | G152: =MOD(F152-E152,1) -> 0.10416667 | I152: =SUM(D152+G152) -> 0.3125 | J152: =IFERROR(VLOOKUP(L152,EMPLOI!A:P,2,0),"") -> 79.7 | K152: =IF(WEEKDAY(A152)=6,SUM(OFFSET(A152,0,8,-6,1)),"") | L152: {=IF(OR($J$2>I152),"",IFERROR(INDEX(Tableau1[],MATCH(1,('2017'!A152>=Tableau1[[DATE DEBUT ]])*(Tableau1[DATE FIN]>='2017'!A152),0),1),""))} -> 2
A153: =A152+1 -> 42886 | B153: 0.29166667 | C153: 0.5 | D153: =MOD(C153-B153,1) -> 0.20833333 | E153: 0.52083333 | F153: 0.625 | G153: =MOD(F153-E153,1) -> 0.10416667 | I153: =SUM(D153+G153) -> 0.3125 | J153: =IFERROR(VLOOKUP(L153,EMPLOI!A:P,2,0),"") -> 79.7 | K153: =IF(WEEKDAY(A153)=6,SUM(OFFSET(A153,0,8,-6,1)),"") | L153: {=IF(OR($J$2>I153),"",IFERROR(INDEX(Tableau1[],MATCH(1,('2017'!A153>=Tableau1[[DATE DEBUT ]])*(Tableau1[DATE FIN]>='2017'!A153),0),1),""))} -> 2
A154: =A153+1 -> 42887 | B154: 0.29166667 | C154: 0.5 | D154: =MOD(C154-B154,1) -> 0.20833333 | E154: 0.52083333 | F154: 0.625 | G154: =MOD(F154-E154,1) -> 0.10416667 | I154: =SUM(D154+G154) -> 0.3125 | J154: =IFERROR(VLOOKUP(L154,EMPLOI!A:P,2,0),"") -> 79.7 | K154: =IF(WEEKDAY(A154)=6,SUM(OFFSET(A154,0,8,-6,1)),"") | L154: {=IF(OR($J$2>I154),"",IFERROR(INDEX(Tableau1[],MATCH(1,('2017'!A154>=Tableau1[[DATE DEBUT ]])*(Tableau1[DATE FIN]>='2017'!A154),0),1),""))} -> 2
A155: =A154+1 -> 42888 | B155: 0.29166667 | C155: 0.5 | D155: =MOD(C155-B155,1) -> 0.20833333 | E155: 0.52083333 | F155: 0.625 | G155: =MOD(F155-E155,1) -> 0.10416667 | I155: =SUM(D155+G155) -> 0.3125 | J155: =IFERROR(VLOOKUP(L155,EMPLOI!A:P,2,0),"") -> 79.7 | K155: =IF(WEEKDAY(A155)=6,SUM(OFFSET(A155,0,8,-6,1)),"") -> 1.5833333 | L155: {=IF(OR($J$2>I155),"",IFERROR(INDEX(Tableau1[],MATCH(1,('2017'!A155>=Tableau1[[DATE DEBUT ]])*(Tableau1[DATE FIN]>='2017'!A155),0),1),""))} -> 2
A156: =A155+1 -> 42889 | D156: =MOD(C156-B156,1) -> 0 | G156: =MOD(F156-E156,1) -> 0 | I156: =SUM(D156+G156) -> 0 | J156: =IFERROR(VLOOKUP(L156,EMPLOI!A:P,2,0),"") | K156: =IF(WEEKDAY(A156)=6,SUM(OFFSET(A156,0,8,-6,1)),"") | L156: {=IF(OR($J$2>I156),"",IFERROR(INDEX(Tableau1[],MATCH(1,('2017'!A156>=Tableau1[[DATE DEBUT ]])*(Tableau1[DATE FIN]>='2017'!A156),0),1),""))}
A157: =A156+1 -> 42890 | D157: =MOD(C157-B157,1) -> 0 | G157: =MOD(F157-E157,1) -> 0 | I157: =SUM(D157+G157) -> 0 | J157: =IFERROR(VLOOKUP(L157,EMPLOI!A:P,2,0),"") | K157: =IF(WEEKDAY(A157)=6,SUM(OFFSET(A157,0,8,-6,1)),"") | L157: {=IF(OR($J$2>I157),"",IFERROR(INDEX(Tableau1[],MATCH(1,('2017'!A157>=Tableau1[[DATE DEBUT ]])*(Tableau1[DATE FIN]>='2017'!A157),0),1),""))}
A158: =A157+1 -> 42891 | D158: =MOD(C158-B158,1) -> 0 | G158: =MOD(F158-E158,1) -> 0 | I158: =SUM(D158+G158) -> 0 | J158: =IFERROR(VLOOKUP(L158,EMPLOI!A:P,2,0),"") | K158: =IF(WEEKDAY(A158)=6,SUM(OFFSET(A158,0,8,-6,1)),"") | L158: {=IF(OR($J$2>I158),"",IFERROR(INDEX(Tableau1[],MATCH(1,('2017'!A158>=Tableau1[[DATE DEBUT ]])*(Tableau1[DATE FIN]>='2017'!A158),0),1),""))}
A159: =A158+1 -> 42892 | B159: 0.29166667 | C159: 0.5 | D159: =MOD(C159-B159,1) -> 0.20833333 | E159: 0.52083333 | F159: 0.625 | G159: =MOD(F159-E159,1) -> 0.10416667 | I159: =SUM(D159+G159) -> 0.3125 | J159: =IFERROR(VLOOKUP(L159,EMPLOI!A:P,2,0),"") -> 79.7 | K159: =IF(WEEKDAY(A159)=6,SUM(OFFSET(A159,0,8,-6,1)),"") | L159: {=IF(OR($J$2>I159),"",IFERROR(INDEX(Tableau1[],MATCH(1,('2017'!A159>=Tableau1[[DATE DEBUT ]])*(Tableau1[DATE FIN]>='2017'!A159),0),1),""))} -> 2
A160: =A159+1 -> 42893 | B160: 0.29166667 | C160: 0.5 | D160: =MOD(C160-B160,1) -> 0.20833333 | E160: 0.52083333 | F160: 0.63541667 | G160: =MOD(F160-E160,1) -> 0.11458333 | I160: =SUM(D160+G160) -> 0.32291667 | J160: =IFERROR(VLOOKUP(L160,EMPLOI!A:P,2,0),"") -> 79.7 | K160: =IF(WEEKDAY(A160)=6,SUM(OFFSET(A160,0,8,-6,1)),"") | L160: {=IF(OR($J$2>I160),"",IFERROR(INDEX(Tableau1[],MATCH(1,('2017'!A160>=Tableau1[[DATE DEBUT ]])*(Tableau1[DATE FIN]>='2017'!A160),0),1),""))} -> 2
A161: =A160+1 -> 42894 | B161: 0.29166667 | C161: 0.5 | D161: =MOD(C161-B161,1) -> 0.20833333 | E161: 0.52083333 | F161: 0.625 | G161: =MOD(F161-E161,1) -> 0.10416667 | I161: =SUM(D161+G161) -> 0.3125 | J161: =IFERROR(VLOOKUP(L161,EMPLOI!A:P,2,0),"") -> 79.7 | K161: =IF(WEEKDAY(A161)=6,SUM(OFFSET(A161,0,8,-6,1)),"") | L161: {=IF(OR($J$2>I161),"",IFERROR(INDEX(Tableau1[],MATCH(1,('2017'!A161>=Tableau1[[DATE DEBUT ]])*(Tableau1[DATE FIN]>='2017'!A161),0),1),""))} -> 2
A162: =A161+1 -> 42895 | B162: 0.29166667 | C162: 0.5 | D162: =MOD(C162-B162,1) -> 0.20833333 | E162: 0.52083333 | F162: 0.625 | G162: =MOD(F162-E162,1) -> 0.10416667 | I162: =SUM(D162+G162) -> 0.3125 | J162: =IFERROR(VLOOKUP(L162,EMPLOI!A:P,2,0),"") -> 79.7 | K162: =IF(WEEKDAY(A162)=6,SUM(OFFSET(A162,0,8,-6,1)),"") -> 1.2604167 | L162: {=IF(OR($J$2>I162),"",IFERROR(INDEX(Tableau1[],MATCH(1,('2017'!A162>=Tableau1[[DATE DEBUT ]])*(Tableau1[DATE FIN]>='2017'!A162),0),1),""))} -> 2
A163: =A162+1 -> 42896 | D163: =MOD(C163-B163,1) -> 0 | G163: =MOD(F163-E163,1) -> 0 | I163: =SUM(D163+G163) -> 0 | J163: =IFERROR(VLOOKUP(L163,EMPLOI!A:P,2,0),"") | K163: =IF(WEEKDAY(A163)=6,SUM(OFFSET(A163,0,8,-6,1)),"") | L163: {=IF(OR($J$2>I163),"",IFERROR(INDEX(Tableau1[],MATCH(1,('2017'!A163>=Tableau1[[DATE DEBUT ]])*(Tableau1[DATE FIN]>='2017'!A163),0),1),""))}
A164: =A163+1 -> 42897 | D164: =MOD(C164-B164,1) -> 0 | G164: =MOD(F164-E164,1) -> 0 | I164: =SUM(D164+G164) -> 0 | J164: =IFERROR(VLOOKUP(L164,EMPLOI!A:P,2,0),"") | K164: =IF(WEEKDAY(A164)=6,SUM(OFFSET(A164,0,8,-6,1)),"") | L164: {=IF(OR($J$2>I164),"",IFERROR(INDEX(Tableau1[],MATCH(1,('2017'!A164>=Tableau1[[DATE DEBUT ]])*(Tableau1[DATE FIN]>='2017'!A164),0),1),""))}
A165: =A164+1 -> 42898 | B165: 0.45833333 | C165: 0.5 | D165: =MOD(C165-B165,1) -> 0.041666667 | E165: 0.52083333 | F165: 0.79166667 | G165: =MOD(F165-E165,1) -> 0.27083333 | I165: =SUM(D165+G165) -> 0.3125 | J165: =IFERROR(VLOOKUP(L165,EMPLOI!A:P,2,0),"") -> 79.7 | K165: =IF(WEEKDAY(A165)=6,SUM(OFFSET(A165,0,8,-6,1)),"") | L165: {=IF(OR($J$2>I165),"",IFERROR(INDEX(Tableau1[],MATCH(1,('2017'!A165>=Tableau1[[DATE DEBUT ]])*(Tableau1[DATE FIN]>='2017'!A165),0),1),""))} -> 2
A166: =A165+1 -> 42899 | B166: 0.45833333 | C166: 0.5 | D166: =MOD(C166-B166,1) -> 0.041666667 | E166: 0.52083333 | F166: 0.79166667 | G166: =MOD(F166-E166,1) -> 0.27083333 | I166: =SUM(D166+G166) -> 0.3125 | J166: =IFERROR(VLOOKUP(L166,EMPLOI!A:P,2,0),"") -> 79.7 | K166: =IF(WEEKDAY(A166)=6,SUM(OFFSET(A166,0,8,-6,1)),"") | L166: {=IF(OR($J$2>I166),"",IFERROR(INDEX(Tableau1[],MATCH(1,('2017'!A166>=Tableau1[[DATE DEBUT ]])*(Tableau1[DATE FIN]>='2017'!A166),0),1),""))} -> 2
A167: =A166+1 -> 42900 | B167: 0.45833333 | C167: 0.5 | D167: =MOD(C167-B167,1) -> 0.041666667 | E167: 0.52083333 | F167: 0.79166667 | G167: =MOD(F167-E167,1) -> 0.27083333 | I167: =SUM(D167+G167) -> 0.3125 | J167: =IFERROR(VLOOKUP(L167,EMPLOI!A:P,2,0),"") -> 79.7 | K167: =IF(WEEKDAY(A167)=6,SUM(OFFSET(A167,0,8,-6,1)),"") | L167: {=IF(OR($J$2>I167),"",IFERROR(INDEX(Tableau1[],MATCH(1,('2017'!A167>=Tableau1[[DATE DEBUT ]])*(Tableau1[DATE FIN]>='2017'!A167),0),1),""))} -> 2
A168: =A167+1 -> 42901 | B168: 0.45833333 | C168: 0.5 | D168: =MOD(C168-B168,1) -> 0.041666667 | E168: 0.52083333 | F168: 0.79166667 | G168: =MOD(F168-E168,1) -> 0.27083333 | I168: =SUM(D168+G168) -> 0.3125 | J168: =IFERROR(VLOOKUP(L168,EMPLOI!A:P,2,0),"") -> 79.7 | K168: =IF(WEEKDAY(A168)=6,SUM(OFFSET(A168,0,8,-6,1)),"") | L168: {=IF(OR($J$2>I168),"",IFERROR(INDEX(Tableau1[],MATCH(1,('2017'!A168>=Tableau1[[DATE DEBUT ]])*(Tableau1[DATE FIN]>='2017'!A168),0),1),""))} -> 2
A169: =A168+1 -> 42902 | B169: 0.45833333 | C169: 0.5 | D169: =MOD(C169-B169,1) -> 0.041666667 | E169: 0.52083333 | F169: 0.75 | G169: =MOD(F169-E169,1) -> 0.22916667 | I169: =SUM(D169+G169) -> 0.27083333 | J169: =IFERROR(VLOOKUP(L169,EMPLOI!A:P,2,0),"") -> 79.7 | K169: =IF(WEEKDAY(A169)=6,SUM(OFFSET(A169,0,8,-6,1)),"") -> 1.5208333 | L169: {=IF(OR($J$2>I169),"",IFERROR(INDEX(Tableau1[],MATCH(1,('2017'!A169>=Tableau1[[DATE DEBUT ]])*(Tableau1[DATE FIN]>='2017'!A169),0),1),""))} -> 2
A170: =A169+1 -> 42903 | D170: =MOD(C170-B170,1) -> 0 | G170: =MOD(F170-E170,1) -> 0 | I170: =SUM(D170+G170) -> 0 | J170: =IFERROR(VLOOKUP(L170,EMPLOI!A:P,2,0),"") | K170: =IF(WEEKDAY(A170)=6,SUM(OFFSET(A170,0,8,-6,1)),"") | L170: {=IF(OR($J$2>I170),"",IFERROR(INDEX(Tableau1[],MATCH(1,('2017'!A170>=Tableau1[[DATE DEBUT ]])*(Tableau1[DATE FIN]>='2017'!A170),0),1),""))}
...

Sheet 2018
B1: =COUNTIF(K:M,A1) -> 41 | K1: =IFERROR(VLOOKUP(A1,EMPLOI!A:Q,5),"")
B2: Arrivée | C2: Départ | D2: Total 1 | E2: Arrivée | F2: Départ | G2: Total 2 | H2: Code | I2: Total | J2: 1.1574074e-05 | K2: Km | M2: Lieux | O2: Cumul | P2: Remarques | Q2: 2018
A3: =DATE(2018,1,1) -> 43101 | B3: 0.33333333 | C3: 0.66666667 | D3: =MOD(C3-B3,1) -> 0.33333333 | G3: =MOD(F3-E3,1) -> 0 | I3: =SUM(D3+G3) -> 0.33333333 | J3: =IFERROR(VLOOKUP(M3,EMPLOI!A:P,2,0),"") -> 999 | K3: =IF(I3>=$J$2,J3,"") -> 999 | L3: =IF(WEEKDAY(A3)=6,SUM(OFFSET(A3,0,8,-6,1)),"") | M3: {=IF(OR(WEEKDAY($A3,2)=7,WEEKDAY($A3,2)=6,A3=Férié,$J$2>I3),"",IFERROR(INDEX(Tableau1[],MATCH(1,('2018'!A3>=Tableau1[[DATE DEBUT ]])*(Tableau1[DATE FIN]>='2018'!A3),0),1),""))} -> test | Q3: Jours Fériés et Fêtes
A4: =A3+1 -> 43102 | B4: 0.33333333 | C4: 0.66666667 | D4: =MOD(C4-B4,1) -> 0.33333333 | G4: =MOD(F4-E4,1) -> 0 | I4: =SUM(D4+G4) -> 0.33333333 | J4: =IFERROR(VLOOKUP(M4,EMPLOI!A:P,2,0),"") -> 999 | K4: =IF(I4>=$J$2,J4,"") -> 999 | L4: =IF(WEEKDAY(A4)=6,SUM(OFFSET(A4,0,8,-6,1)),"") | M4: {=IF(OR(WEEKDAY($A4,2)=7,WEEKDAY($A4,2)=6,A4=Férié,$J$2>I4),"",IFERROR(INDEX(Tableau1[],MATCH(1,('2018'!A4>=Tableau1[[DATE DEBUT ]])*(Tableau1[DATE FIN]>='2018'!A4),0),1),""))} -> test | Q4: JOUR DE L'AN | R4: =DATE(Q2,1,1) -> 43101
A5: =A4+1 -> 43103 | D5: =MOD(C5-B5,1) -> 0 | G5: =MOD(F5-E5,1) -> 0 | I5: =IFERROR(SUM(D5,G5),"") -> 0 | J5: =IFERROR(VLOOKUP(M5,EMPLOI!A:P,2,0),"") | K5: =IF(I5>=$J$2,J5,"") | L5: =IF(WEEKDAY(A5)=6,SUM(OFFSET(A5,0,8,-6,1)),"") | M5: =IF(OR(WEEKDAY($A5,2)=7,WEEKDAY($A5,2)=6,A5=Férié,$J$2>I5),"",IFERROR(INDEX(Tableau1[],MATCH(1,('2018'!A5>=Tableau1[[DATE DEBUT ]])*(Tableau1[DATE FIN]>='2018'!A5),0),1),"")) | Q5: PÂQUES | R5: =FLOOR(DATE(Q2,5,DAY(MINUTE(Q2/38)/2+56)),7)-34+7*(Q2=2079) -> 43191
A6: =A5+1 -> 43104 | D6: =MOD(C6-B6,1) -> 0 | G6: =MOD(F6-E6,1) -> 0 | I6: =SUM(D6+G6) -> 0 | J6: =IFERROR(VLOOKUP(M6,EMPLOI!A:P,2,0),"") | K6: =IF(I6>=$J$2,J6,"") | L6: =IF(WEEKDAY(A6)=6,SUM(OFFSET(A6,0,8,-6,1)),"") | M6: =IF(OR(WEEKDAY($A6,2)=7,WEEKDAY($A6,2)=6,A6=Férié,$J$2>I6),"",IFERROR(INDEX(Tableau1[],MATCH(1,('2018'!A6>=Tableau1[[DATE DEBUT ]])*(Tableau1[DATE FIN]>='2018'!A6),0),1),"")) | Q6: *Lundi de Pâques | R6: =R5+1 -> 43192
A7: =A6+1 -> 43105 | D7: =MOD(C7-B7,1) -> 0 | G7: =MOD(F7-E7,1) -> 0 | I7: =SUM(D7+G7) -> 0 | J7: =IFERROR(VLOOKUP(M7,EMPLOI!A:P,2,0),"") | K7: =IF(I7>=$J$2,J7,"") | L7: =IF(WEEKDAY(A7)=6,SUM(OFFSET(A7,0,8,-6,1)),"") -> 0.66666667 | M7: =IF(OR(WEEKDAY($A7,2)=7,WEEKDAY($A7,2)=6,A7=Férié,$J$2>I7),"",IFERROR(INDEX(Tableau1[],MATCH(1,('2018'!A7>=Tableau1[[DATE DEBUT ]])*(Tableau1[DATE FIN]>='2018'!A7),0),1),"")) | Q7: FÊTE DU TRAVAIL | R7: =DATE(Année!A5,5,1) -> 42856
A8: =A7+1 -> 43106 | D8: =MOD(C8-B8,1) -> 0 | G8: =MOD(F8-E8,1) -> 0 | I8: =SUM(D8+G8) -> 0 | J8: =IFERROR(VLOOKUP(M8,EMPLOI!A:P,2,0),"") | K8: =IF(I8>=$J$2,J8,"") | L8: =IF(WEEKDAY(A8)=6,SUM(OFFSET(A8,0,8,-6,1)),"") | M8: =IF(OR(WEEKDAY($A8,2)=7,WEEKDAY($A8,2)=6,A8=Férié,$J$2>I8),"",IFERROR(INDEX(Tableau1[],MATCH(1,('2018'!A8>=Tableau1[[DATE DEBUT ]])*(Tableau1[DATE FIN]>='2018'!A8),0),1),"")) | Q8: ASCENSION | R8: =R5+39 -> 43230
A9: =A8+1 -> 43107 | D9: =MOD(C9-B9,1) -> 0 | G9: =MOD(F9-E9,1) -> 0 | I9: =SUM(D9+G9) -> 0 | J9: =IFERROR(VLOOKUP(M9,EMPLOI!A:P,2,0),"") | K9: =IF(I9>=$J$2,J9,"") | L9: =IF(WEEKDAY(A9)=6,SUM(OFFSET(A9,0,8,-6,1)),"") | M9: =IF(OR(WEEKDAY($A9,2)=7,WEEKDAY($A9,2)=6,A9=Férié,$J$2>I9),"",IFERROR(INDEX(Tableau1[],MATCH(1,('2018'!A9>=Tableau1[[DATE DEBUT ]])*(Tableau1[DATE FIN]>='2018'!A9),0),1),"")) | Q9: VICTOIRE 1945 | R9: =DATE(Q2,5,8) -> 43228
A10: =A9+1 -> 43108 | D10: =MOD(C10-B10,1) -> 0 | G10: =MOD(F10-E10,1) -> 0 | I10: =SUM(D10+G10) -> 0 | J10: =IFERROR(VLOOKUP(M10,EMPLOI!A:P,2,0),"") | K10: =IF(I10>=$J$2,J10,"") | L10: =IF(WEEKDAY(A10)=6,SUM(OFFSET(A10,0,8,-6,1)),"") | M10: =IF(OR(WEEKDAY($A10,2)=7,WEEKDAY($A10,2)=6,A10=Férié,$J$2>I10),"",IFERROR(INDEX(Tableau1[],MATCH(1,('2018'!A10>=Tableau1[[DATE DEBUT ]])*(Tableau1[DATE FIN]>='2018'!A10),0),1),"")) | Q10: PENTECÔTE | R10: =R5+49 -> 43240
A11: =A10+1 -> 43109 | D11: =MOD(C11-B11,1) -> 0 | G11: =MOD(F11-E11,1) -> 0 | I11: =SUM(D11+G11) -> 0 | J11: =IFERROR(VLOOKUP(M11,EMPLOI!A:P,2,0),"") | K11: =IF(I11>=$J$2,J11,"") | L11: =IF(WEEKDAY(A11)=6,SUM(OFFSET(A11,0,8,-6,1)),"") | M11: =IF(OR(WEEKDAY($A11,2)=7,WEEKDAY($A11,2)=6,A11=Férié,$J$2>I11),"",IFERROR(INDEX(Tableau1[],MATCH(1,('2018'!A11>=Tableau1[[DATE DEBUT ]])*(Tableau1[DATE FIN]>='2018'!A11),0),1),"")) | Q11: *Lundi de Pentecôte | R11: =R5+50 -> 43241
A12: =A11+1 -> 43110 | D12: =MOD(C12-B12,1) -> 0 | G12: =MOD(F12-E12,1) -> 0 | I12: =SUM(D12+G12) -> 0 | J12: =IFERROR(VLOOKUP(M12,EMPLOI!A:P,2,0),"") | K12: =IF(I12>=$J$2,J12,"") | L12: =IF(WEEKDAY(A12)=6,SUM(OFFSET(A12,0,8,-6,1)),"") | M12: =IF(OR(WEEKDAY($A12,2)=7,WEEKDAY($A12,2)=6,A12=Férié,$J$2>I12),"",IFERROR(INDEX(Tableau1[],MATCH(1,('2018'!A12>=Tableau1[[DATE DEBUT ]])*(Tableau1[DATE FIN]>='2018'!A12),0),1),"")) | Q12: FÊTE NAT | R12: =DATE(Q2,7,14) -> 43295
A13: =A12+1 -> 43111 | D13: =MOD(C13-B13,1) -> 0 | G13: =MOD(F13-E13,1) -> 0 | I13: =SUM(D13+G13) -> 0 | J13: =IFERROR(VLOOKUP(M13,EMPLOI!A:P,2,0),"") | K13: =IF(I13>=$J$2,J13,"") | L13: =IF(WEEKDAY(A13)=6,SUM(OFFSET(A13,0,8,-6,1)),"") | M13: =IF(OR(WEEKDAY($A13,2)=7,WEEKDAY($A13,2)=6,A13=Férié,$J$2>I13),"",IFERROR(INDEX(Tableau1[],MATCH(1,('2018'!A13>=Tableau1[[DATE DEBUT ]])*(Tableau1[DATE FIN]>='2018'!A13),0),1),"")) | Q13: ASSOMPTION | R13: =DATE(Q2,8,15) -> 43327
A14: =A13+1 -> 43112 | D14: =MOD(C14-B14,1) -> 0 | G14: =MOD(F14-E14,1) -> 0 | I14: =SUM(D14+G14) -> 0 | J14: =IFERROR(VLOOKUP(M14,EMPLOI!A:P,2,0),"") | K14: =IF(I14>=$J$2,J14,"") | L14: =IF(WEEKDAY(A14)=6,SUM(OFFSET(A14,0,8,-6,1)),"") -> 0 | M14: =IF(OR(WEEKDAY($A14,2)=7,WEEKDAY($A14,2)=6,A14=Férié,$J$2>I14),"",IFERROR(INDEX(Tableau1[],MATCH(1,('2018'!A14>=Tableau1[[DATE DEBUT ]])*(Tableau1[DATE FIN]>='2018'!A14),0),1),"")) | Q14: TOUSSAINT | R14: =DATE(Q2,11,1) -> 43405
A15: =A14+1 -> 43113 | D15: =MOD(C15-B15,1) -> 0 | G15: =MOD(F15-E15,1) -> 0 | I15: =SUM(D15+G15) -> 0 | J15: =IFERROR(VLOOKUP(M15,EMPLOI!A:P,2,0),"") | K15: =IF(I15>=$J$2,J15,"") | L15: =IF(WEEKDAY(A15)=6,SUM(OFFSET(A15,0,8,-6,1)),"") | M15: {=IF(OR(WEEKDAY($A15,2)=7,WEEKDAY($A15,2)=6,A15=Férié,$J$2>I15),"",IFERROR(INDEX(Tableau1[],MATCH(1,('2017'!A15>=Tableau1[[DATE DEBUT ]])*(Tableau1[DATE FIN]>='2017'!A15),0),1),""))} | Q15: ARMISTICE 1918 | R15: =DATE(Q2,11,11) -> 43415
A16: =A15+1 -> 43114 | D16: =MOD(C16-B16,1) -> 0 | G16: =MOD(F16-E16,1) -> 0 | I16: =SUM(D16+G16) -> 0 | J16: =IFERROR(VLOOKUP(M16,EMPLOI!A:P,2,0),"") | K16: =IF(I16>=$J$2,J16,"") | L16: =IF(WEEKDAY(A16)=6,SUM(OFFSET(A16,0,8,-6,1)),"") | M16: {=IF(OR(WEEKDAY($A16,2)=7,WEEKDAY($A16,2)=6,A16=Férié,$J$2>I16),"",IFERROR(INDEX(Tableau1[],MATCH(1,('2017'!A16>=Tableau1[[DATE DEBUT ]])*(Tableau1[DATE FIN]>='2017'!A16),0),1),""))} | Q16: NOËL | R16: =DATE(Q2,12,25) -> 43459
A17: =A16+1 -> 43115 | D17: =MOD(C17-B17,1) -> 0 | G17: =MOD(F17-E17,1) -> 0 | I17: =SUM(D17+G17) -> 0 | J17: =IFERROR(VLOOKUP(M17,EMPLOI!A:P,2,0),"") | K17: =IF(I17>=$J$2,J17,"") | L17: =IF(WEEKDAY(A17)=6,SUM(OFFSET(A17,0,8,-6,1)),"") | M17: {=IF(OR(WEEKDAY($A17,2)=7,WEEKDAY($A17,2)=6,A17=Férié,$J$2>I17),"",IFERROR(INDEX(Tableau1[],MATCH(1,('2017'!A17>=Tableau1[[DATE DEBUT ]])*(Tableau1[DATE FIN]>='2017'!A17),0),1),""))}
A18: =A17+1 -> 43116 | D18: =MOD(C18-B18,1) -> 0 | G18: =MOD(F18-E18,1) -> 0 | I18: =SUM(D18+G18) -> 0 | J18: =IFERROR(VLOOKUP(M18,EMPLOI!A:P,2,0),"") | K18: =IF(I18>=$J$2,J18,"") | L18: =IF(WEEKDAY(A18)=6,SUM(OFFSET(A18,0,8,-6,1)),"") | M18: {=IF(OR(WEEKDAY($A18,2)=7,WEEKDAY($A18,2)=6,A18=Férié,$J$2>I18),"",IFERROR(INDEX(Tableau1[],MATCH(1,('2017'!A18>=Tableau1[[DATE DEBUT ]])*(Tableau1[DATE FIN]>='2017'!A18),0),1),""))} | Q18: Mardi-Gras | R18: =R5-47 -> 43144
A19: =A18+1 -> 43117 | D19: =MOD(C19-B19,1) -> 0 | G19: =MOD(F19-E19,1) -> 0 | I19: =SUM(D19+G19) -> 0 | J19: =IFERROR(VLOOKUP(M19,EMPLOI!A:P,2,0),"") | K19: =IF(I19>=$J$2,J19,"") | L19: =IF(WEEKDAY(A19)=6,SUM(OFFSET(A19,0,8,-6,1)),"") | M19: {=IF(OR(WEEKDAY($A19,2)=7,WEEKDAY($A19,2)=6,A19=Férié,$J$2>I19),"",IFERROR(INDEX(Tableau1[],MATCH(1,('2017'!A19>=Tableau1[[DATE DEBUT ]])*(Tableau1[DATE FIN]>='2017'!A19),0),1),""))} | Q19: Cendres | R19: =R5-46 -> 43145
A20: =A19+1 -> 43118 | D20: =MOD(C20-B20,1) -> 0 | G20: =MOD(F20-E20,1) -> 0 | I20: =SUM(D20+G20) -> 0 | J20: =IFERROR(VLOOKUP(M20,EMPLOI!A:P,2,0),"") | K20: =IF(I20>=$J$2,J20,"") | L20: =IF(WEEKDAY(A20)=6,SUM(OFFSET(A20,0,8,-6,1)),"") | M20: {=IF(OR(WEEKDAY($A20,2)=7,WEEKDAY($A20,2)=6,A20=Férié,$J$2>I20),"",IFERROR(INDEX(Tableau1[],MATCH(1,('2017'!A20>=Tableau1[[DATE DEBUT ]])*(Tableau1[DATE FIN]>='2017'!A20),0),1),""))} | Q20: Rameaux | R20: =R5-7 -> 43184
A21: =A20+1 -> 43119 | D21: =MOD(C21-B21,1) -> 0 | G21: =MOD(F21-E21,1) -> 0 | I21: =SUM(D21+G21) -> 0 | J21: =IFERROR(VLOOKUP(M21,EMPLOI!A:P,2,0),"") | K21: =IF(I21>=$J$2,J21,"") | L21: =IF(WEEKDAY(A21)=6,SUM(OFFSET(A21,0,8,-6,1)),"") -> 0 | M21: {=IF(OR(WEEKDAY($A21,2)=7,WEEKDAY($A21,2)=6,A21=Férié,$J$2>I21),"",IFERROR(INDEX(Tableau1[],MATCH(1,('2017'!A21>=Tableau1[[DATE DEBUT ]])*(Tableau1[DATE FIN]>='2017'!A21),0),1),""))}
A22: =A21+1 -> 43120 | D22: =MOD(C22-B22,1) -> 0 | G22: =MOD(F22-E22,1) -> 0 | I22: =SUM(D22+G22) -> 0 | J22: =IFERROR(VLOOKUP(M22,EMPLOI!A:P,2,0),"") | K22: =IF(I22>=$J$2,J22,"") | L22: =IF(WEEKDAY(A22)=6,SUM(OFFSET(A22,0,8,-6,1)),"") | M22: {=IF(OR(WEEKDAY($A22,2)=7,WEEKDAY($A22,2)=6,A22=Férié,$J$2>I22),"",IFERROR(INDEX(Tableau1[],MATCH(1,('2017'!A22>=Tableau1[[DATE DEBUT ]])*(Tableau1[DATE FIN]>='2017'!A22),0),1),""))} | Q22: Epiphanie | R22: =DATE(Q2,1,1)+7-WEEKDAY(DATE(Q2,1,1),2) -> 43107
A23: =A22+1 -> 43121 | D23: =MOD(C23-B23,1) -> 0 | G23: =MOD(F23-E23,1) -> 0 | I23: =SUM(D23+G23) -> 0 | J23: =IFERROR(VLOOKUP(M23,EMPLOI!A:P,2,0),"") | K23: =IF(I23>=$J$2,J23,"") | L23: =IF(WEEKDAY(A23)=6,SUM(OFFSET(A23,0,8,-6,1)),"") | M23: {=IF(OR(WEEKDAY($A23,2)=7,WEEKDAY($A23,2)=6,A23=Férié,$J$2>I23),"",IFERROR(INDEX(Tableau1[],MATCH(1,('2017'!A23>=Tableau1[[DATE DEBUT ]])*(Tableau1[DATE FIN]>='2017'!A23),0),1),""))}
A24: =A23+1 -> 43122 | D24: =MOD(C24-B24,1) -> 0 | G24: =MOD(F24-E24,1) -> 0 | I24: =SUM(D24+G24) -> 0 | J24: =IFERROR(VLOOKUP(M24,EMPLOI!A:P,2,0),"") | K24: =IF(I24>=$J$2,J24,"") | L24: =IF(WEEKDAY(A24)=6,SUM(OFFSET(A24,0,8,-6,1)),"") | M24: {=IF(OR(WEEKDAY($A24,2)=7,WEEKDAY($A24,2)=6,A24=Férié,$J$2>I24),"",IFERROR(INDEX(Tableau1[],MATCH(1,('2017'!A24>=Tableau1[[DATE DEBUT ]])*(Tableau1[DATE FIN]>='2017'!A24),0),1),""))} | Q24: Fête Dieu | R24: =R5+63 -> 43254
A25: =A24+1 -> 43123 | D25: =MOD(C25-B25,1) -> 0 | G25: =MOD(F25-E25,1) -> 0 | I25: =SUM(D25+G25) -> 0 | J25: =IFERROR(VLOOKUP(M25,EMPLOI!A:P,2,0),"") | K25: =IF(I25>=$J$2,J25,"") | L25: =IF(WEEKDAY(A25)=6,SUM(OFFSET(A25,0,8,-6,1)),"") | M25: {=IF(OR(WEEKDAY($A25,2)=7,WEEKDAY($A25,2)=6,A25=Férié,$J$2>I25),"",IFERROR(INDEX(Tableau1[],MATCH(1,('2017'!A25>=Tableau1[[DATE DEBUT ]])*(Tableau1[DATE FIN]>='2017'!A25),0),1),""))}
A26: =A25+1 -> 43124 | D26: =MOD(C26-B26,1) -> 0 | G26: =MOD(F26-E26,1) -> 0 | I26: =SUM(D26+G26) -> 0 | J26: =IFERROR(VLOOKUP(M26,EMPLOI!A:P,2,0),"") | K26: =IF(I26>=$J$2,J26,"") | L26: =IF(WEEKDAY(A26)=6,SUM(OFFSET(A26,0,8,-6,1)),"") | M26: {=IF(OR(WEEKDAY($A26,2)=7,WEEKDAY($A26,2)=6,A26=Férié,$J$2>I26),"",IFERROR(INDEX(Tableau1[],MATCH(1,('2017'!A26>=Tableau1[[DATE DEBUT ]])*(Tableau1[DATE FIN]>='2017'!A26),0),1),""))}
A27: =A26+1 -> 43125 | D27: =MOD(C27-B27,1) -> 0 | G27: =MOD(F27-E27,1) -> 0 | I27: =SUM(D27+G27) -> 0 | J27: =IFERROR(VLOOKUP(M27,EMPLOI!A:P,2,0),"") | K27: =IF(I27>=$J$2,J27,"") | L27: =IF(WEEKDAY(A27)=6,SUM(OFFSET(A27,0,8,-6,1)),"") | M27: {=IF(OR(WEEKDAY($A27,2)=7,WEEKDAY($A27,2)=6,A27=Férié,$J$2>I27),"",IFERROR(INDEX(Tableau1[],MATCH(1,('2017'!A27>=Tableau1[[DATE DEBUT ]])*(Tableau1[DATE FIN]>='2017'!A27),0),1),""))}
A28: =A27+1 -> 43126 | D28: =MOD(C28-B28,1) -> 0 | G28: =MOD(F28-E28,1) -> 0 | I28: =SUM(D28+G28) -> 0 | J28: =IFERROR(VLOOKUP(M28,EMPLOI!A:P,2,0),"") | K28: =IF(I28>=$J$2,J28,"") | L28: =IF(WEEKDAY(A28)=6,SUM(OFFSET(A28,0,8,-6,1)),"") -> 0 | M28: {=IF(OR(WEEKDAY($A28,2)=7,WEEKDAY($A28,2)=6,A28=Férié,$J$2>I28),"",IFERROR(INDEX(Tableau1[],MATCH(1,('2017'!A28>=Tableau1[[DATE DEBUT ]])*(Tableau1[DATE FIN]>='2017'!A28),0),1),""))}
A29: =A28+1 -> 43127 | D29: =MOD(C29-B29,1) -> 0 | G29: =MOD(F29-E29,1) -> 0 | I29: =SUM(D29+G29) -> 0 | J29: =IFERROR(VLOOKUP(M29,EMPLOI!A:P,2,0),"") | K29: =IF(I29>=$J$2,J29,"") | L29: =IF(WEEKDAY(A29)=6,SUM(OFFSET(A29,0,8,-6,1)),"") | M29: {=IF(OR(WEEKDAY($A29,2)=7,WEEKDAY($A29,2)=6,A29=Férié,$J$2>I29),"",IFERROR(INDEX(Tableau1[],MATCH(1,('2017'!A29>=Tableau1[[DATE DEBUT ]])*(Tableau1[DATE FIN]>='2017'!A29),0),1),""))}
A30: =A29+1 -> 43128 | D30: =MOD(C30-B30,1) -> 0 | G30: =MOD(F30-E30,1) -> 0 | I30: =SUM(D30+G30) -> 0 | J30: =IFERROR(VLOOKUP(M30,EMPLOI!A:P,2,0),"") | K30: =IF(I30>=$J$2,J30,"") | L30: =IF(WEEKDAY(A30)=6,SUM(OFFSET(A30,0,8,-6,1)),"") | M30: {=IF(OR(WEEKDAY($A30,2)=7,WEEKDAY($A30,2)=6,A30=Férié,$J$2>I30),"",IFERROR(INDEX(Tableau1[],MATCH(1,('2017'!A30>=Tableau1[[DATE DEBUT ]])*(Tableau1[DATE FIN]>='2017'!A30),0),1),""))}
A31: =A30+1 -> 43129 | D31: =MOD(C31-B31,1) -> 0 | G31: =MOD(F31-E31,1) -> 0 | I31: =SUM(D31+G31) -> 0 | J31: =IFERROR(VLOOKUP(M31,EMPLOI!A:P,2,0),"") | K31: =IF(I31>=$J$2,J31,"") | L31: =IF(WEEKDAY(A31)=6,SUM(OFFSET(A31,0,8,-6,1)),"") | M31: {=IF(OR(WEEKDAY($A31,2)=7,WEEKDAY($A31,2)=6,A31=Férié,$J$2>I31),"",IFERROR(INDEX(Tableau1[],MATCH(1,('2017'!A31>=Tableau1[[DATE DEBUT ]])*(Tableau1[DATE FIN]>='2017'!A31),0),1),""))}
A32: =A31+1 -> 43130 | D32: =MOD(C32-B32,1) -> 0 | G32: =MOD(F32-E32,1) -> 0 | I32: =SUM(D32+G32) -> 0 | J32: =IFERROR(VLOOKUP(M32,EMPLOI!A:P,2,0),"") | K32: =IF(I32>=$J$2,J32,"") | L32: =IF(WEEKDAY(A32)=6,SUM(OFFSET(A32,0,8,-6,1)),"") | M32: {=IF(OR(WEEKDAY($A32,2)=7,WEEKDAY($A32,2)=6,A32=Férié,$J$2>I32),"",IFERROR(INDEX(Tableau1[],MATCH(1,('2017'!A32>=Tableau1[[DATE DEBUT ]])*(Tableau1[DATE FIN]>='2017'!A32),0),1),""))}
A33: =A32+1 -> 43131 | D33: =MOD(C33-B33,1) -> 0 | G33: =MOD(F33-E33,1) -> 0 | I33: =SUM(D33+G33) -> 0 | J33: =IFERROR(VLOOKUP(M33,EMPLOI!A:P,2,0),"") | K33: =IF(I33>=$J$2,J33,"") | L33: =IF(WEEKDAY(A33)=6,SUM(OFFSET(A33,0,8,-6,1)),"") | M33: {=IF(OR(WEEKDAY($A33,2)=7,WEEKDAY($A33,2)=6,A33=Férié,$J$2>I33),"",IFERROR(INDEX(Tableau1[],MATCH(1,('2017'!A33>=Tableau1[[DATE DEBUT ]])*(Tableau1[DATE FIN]>='2017'!A33),0),1),""))}
A34: =A33+1 -> 43132 | D34: =MOD(C34-B34,1) -> 0 | G34: =MOD(F34-E34,1) -> 0 | I34: =SUM(D34+G34) -> 0 | J34: =IFERROR(VLOOKUP(M34,EMPLOI!A:P,2,0),"") | K34: =IF(I34>=$J$2,J34,"") | L34: =IF(WEEKDAY(A34)=6,SUM(OFFSET(A34,0,8,-6,1)),"") | M34: {=IF(OR(WEEKDAY($A34,2)=7,WEEKDAY($A34,2)=6,A34=Férié,$J$2>I34),"",IFERROR(INDEX(Tableau1[],MATCH(1,('2017'!A34>=Tableau1[[DATE DEBUT ]])*(Tableau1[DATE FIN]>='2017'!A34),0),1),""))}
A35: =A34+1 -> 43133 | D35: =MOD(C35-B35,1) -> 0 | G35: =MOD(F35-E35,1) -> 0 | I35: =SUM(D35+G35) -> 0 | J35: =IFERROR(VLOOKUP(M35,EMPLOI!A:P,2,0),"") | K35: =IF(I35>=$J$2,J35,"") | L35: =IF(WEEKDAY(A35)=6,SUM(OFFSET(A35,0,8,-6,1)),"") -> 0 | M35: {=IF(OR(WEEKDAY($A35,2)=7,WEEKDAY($A35,2)=6,A35=Férié,$J$2>I35),"",IFERROR(INDEX(Tableau1[],MATCH(1,('2017'!A35>=Tableau1[[DATE DEBUT ]])*(Tableau1[DATE FIN]>='2017'!A35),0),1),""))}
A36: =A35+1 -> 43134 | D36: =MOD(C36-B36,1) -> 0 | G36: =MOD(F36-E36,1) -> 0 | I36: =SUM(D36+G36) -> 0 | J36: =IFERROR(VLOOKUP(M36,EMPLOI!A:P,2,0),"") | K36: =IF(I36>=$J$2,J36,"") | L36: =IF(WEEKDAY(A36)=6,SUM(OFFSET(A36,0,8,-6,1)),"") | M36: {=IF(OR(WEEKDAY($A36,2)=7,WEEKDAY($A36,2)=6,A36=Férié,$J$2>I36),"",IFERROR(INDEX(Tableau1[],MATCH(1,('2017'!A36>=Tableau1[[DATE DEBUT ]])*(Tableau1[DATE FIN]>='2017'!A36),0),1),""))}
... A95: =A94+1 -> 43193 | D95: =MOD(C95-B95,1) -> 0 | G95: =MOD(F95-E95,1) -> 0 | I95: =SUM(D95+G95) -> 0 | J95: =IFERROR(VLOOKUP(M95,EMPLOI!A:P,2,0),"") | K95: =IF(I95>=$J$2,J95,"") | L95: =IF(WEEKDAY(A95)=6,SUM(OFFSET(A95,0,8,-6,1)),"") | M95: {=IF(OR(WEEKDAY($A95,2)=7,WEEKDAY($A95,2)=6,A95=Férié,$J$2>I95),"",IFERROR(INDEX(Tableau1[],MATCH(1,('2017'!A95>=Tableau1[[DATE DEBUT ]])*(Tableau1[DATE FIN]>='2017'!A95),0),1),""))}
A96: =A95+1 -> 43194 | B96: 0.33333333 | C96: 0.48958333 | D96: =MOD(C96-B96,1) -> 0.15625 | E96: 0.53125 | F96: 0.66666667 | G96: =MOD(F96-E96,1) -> 0.13541667 | I96: =SUM(D96+G96) -> 0.29166667 | J96: =IFERROR(VLOOKUP(M96,EMPLOI!A:P,2,0),"") -> 70.6 | K96: =IF(I96>=$J$2,J96,"") -> 70.6 | L96: =IF(WEEKDAY(A96)=6,SUM(OFFSET(A96,0,8,-6,1)),"") | M96: {=IF(OR(WEEKDAY($A96,2)=7,WEEKDAY($A96,2)=6,A96=Férié,$J$2>I96),"",IFERROR(INDEX(Tableau1[],MATCH(1,('2017'!A96>=Tableau1[[DATE DEBUT ]])*(Tableau1[DATE FIN]>='2017'!A96),0),1),""))} -> 1
A97: =A96+1 -> 43195 | B97: 0.33333333 | C97: 0.48958333 | D97: =MOD(C97-B97,1) -> 0.15625 | E97: 0.53125 | F97: 0.66666667 | G97: =MOD(F97-E97,1) -> 0.13541667 | I97: =SUM(D97+G97) -> 0.29166667 | J97: =IFERROR(VLOOKUP(M97,EMPLOI!A:P,2,0),"") -> 70.6 | K97: =IF(I97>=$J$2,J97,"") -> 70.6 | L97: =IF(WEEKDAY(A97)=6,SUM(OFFSET(A97,0,8,-6,1)),"") | M97: {=IF(OR(WEEKDAY($A97,2)=7,WEEKDAY($A97,2)=6,A97=Férié,$J$2>I97),"",IFERROR(INDEX(Tableau1[],MATCH(1,('2017'!A97>=Tableau1[[DATE DEBUT ]])*(Tableau1[DATE FIN]>='2017'!A97),0),1),""))} -> 1
A98: =A97+1 -> 43196 | B98: 0.33333333 | C98: 0.48958333 | D98: =MOD(C98-B98,1) -> 0.15625 | E98: 0.53125 | F98: 0.66666667 | G98: =MOD(F98-E98,1) -> 0.13541667 | I98: =SUM(D98+G98) -> 0.29166667 | J98: =IFERROR(VLOOKUP(M98,EMPLOI!A:P,2,0),"") -> 70.6 | K98: =IF(I98>=$J$2,J98,"") -> 70.6 | L98: =IF(WEEKDAY(A98)=6,SUM(OFFSET(A98,0,8,-6,1)),"") -> 0.875 | M98: {=IF(OR(WEEKDAY($A98,2)=7,WEEKDAY($A98,2)=6,A98=Férié,$J$2>I98),"",IFERROR(INDEX(Tableau1[],MATCH(1,('2017'!A98>=Tableau1[[DATE DEBUT ]])*(Tableau1[DATE FIN]>='2017'!A98),0),1),""))} -> 1
A99: =A98+1 -> 43197 | B99: 0.33333333 | C99: 0.48958333 | D99: =MOD(C99-B99,1) -> 0.15625 | E99: 0.53125 | F99: 0.66666667 | G99: =MOD(F99-E99,1) -> 0.13541667 | I99: =SUM(D99+G99) -> 0.29166667 | J99: =IFERROR(VLOOKUP(M99,EMPLOI!A:P,2,0),"") | K99: =IF(I99>=$J$2,J99,"") | L99: =IF(WEEKDAY(A99)=6,SUM(OFFSET(A99,0,8,-6,1)),"") | M99: {=IF(OR(WEEKDAY($A99,2)=7,WEEKDAY($A99,2)=6,A99=Férié,$J$2>I99),"",IFERROR(INDEX(Tableau1[],MATCH(1,('2017'!A99>=Tableau1[[DATE DEBUT ]])*(Tableau1[DATE FIN]>='2017'!A99),0),1),""))}
A100: =A99+1 -> 43198 | D100: =MOD(C100-B100,1) -> 0 | G100: =MOD(F100-E100,1) -> 0 | I100: =SUM(D100+G100) -> 0 | J100: =IFERROR(VLOOKUP(M100,EMPLOI!A:P,2,0),"") | K100: =IF(I100>=$J$2,J100,"") | L100: =IF(WEEKDAY(A100)=6,SUM(OFFSET(A100,0,8,-6,1)),"") | M100: {=IF(OR(WEEKDAY($A100,2)=7,WEEKDAY($A100,2)=6,A100=Férié,$J$2>I100),"",IFERROR(INDEX(Tableau1[],MATCH(1,('2017'!A100>=Tableau1[[DATE DEBUT ]])*(Tableau1[DATE FIN]>='2017'!A100),0),1),""))}
A101: =A100+1 -> 43199 | D101: =MOD(C101-B101,1) -> 0 | G101: =MOD(F101-E101,1) -> 0 | I101: =SUM(D101+G101) -> 0 | J101: =IFERROR(VLOOKUP(M101,EMPLOI!A:P,2,0),"") | K101: =IF(I101>=$J$2,J101,"") | L101: =IF(WEEKDAY(A101)=6,SUM(OFFSET(A101,0,8,-6,1)),"") | M101: {=IF(OR(WEEKDAY($A101,2)=7,WEEKDAY($A101,2)=6,A101=Férié,$J$2>I101),"",IFERROR(INDEX(Tableau1[],MATCH(1,('2017'!A101>=Tableau1[[DATE DEBUT ]])*(Tableau1[DATE FIN]>='2017'!A101),0),1),""))}
A102: =A101+1 -> 43200 | D102: =MOD(C102-B102,1) -> 0 | G102: =MOD(F102-E102,1) -> 0 | I102: =SUM(D102+G102) -> 0 | J102: =IFERROR(VLOOKUP(M102,EMPLOI!A:P,2,0),"") | K102: =IF(I102>=$J$2,J102,"") | L102: =IF(WEEKDAY(A102)=6,SUM(OFFSET(A102,0,8,-6,1)),"") | M102: {=IF(OR(WEEKDAY($A102,2)=7,WEEKDAY($A102,2)=6,A102=Férié,$J$2>I102),"",IFERROR(INDEX(Tableau1[],MATCH(1,('2017'!A102>=Tableau1[[DATE DEBUT ]])*(Tableau1[DATE FIN]>='2017'!A102),0),1),""))}
A103: =A102+1 -> 43201 | D103: =MOD(C103-B103,1) -> 0 | G103: =MOD(F103-E103,1) -> 0 | I103: =SUM(D103+G103) -> 0 | J103: =IFERROR(VLOOKUP(M103,EMPLOI!A:P,2,0),"") | K103: =IF(I103>=$J$2,J103,"") | L103: =IF(WEEKDAY(A103)=6,SUM(OFFSET(A103,0,8,-6,1)),"") | M103: {=IF(OR(WEEKDAY($A103,2)=7,WEEKDAY($A103,2)=6,A103=Férié,$J$2>I103),"",IFERROR(INDEX(Tableau1[],MATCH(1,('2017'!A103>=Tableau1[[DATE DEBUT ]])*(Tableau1[DATE FIN]>='2017'!A103),0),1),""))}
A104: =A103+1 -> 43202 | D104: =MOD(C104-B104,1) -> 0 | G104: =MOD(F104-E104,1) -> 0 | I104: =SUM(D104+G104) -> 0 | J104: =IFERROR(VLOOKUP(M104,EMPLOI!A:P,2,0),"") | K104: =IF(I104>=$J$2,J104,"") | L104: =IF(WEEKDAY(A104)=6,SUM(OFFSET(A104,0,8,-6,1)),"") | M104: {=IF(OR(WEEKDAY($A104,2)=7,WEEKDAY($A104,2)=6,A104=Férié,$J$2>I104),"",IFERROR(INDEX(Tableau1[],MATCH(1,('2017'!A104>=Tableau1[[DATE DEBUT ]])*(Tableau1[DATE FIN]>='2017'!A104),0),1),""))}
A105: =A104+1 -> 43203 | D105: =MOD(C105-B105,1) -> 0 | G105: =MOD(F105-E105,1) -> 0 | I105: =SUM(D105+G105) -> 0 | J105: =IFERROR(VLOOKUP(M105,EMPLOI!A:P,2,0),"") | K105: =IF(I105>=$J$2,J105,"") | L105: =IF(WEEKDAY(A105)=6,SUM(OFFSET(A105,0,8,-6,1)),"") -> 0 | M105: {=IF(OR(WEEKDAY($A105,2)=7,WEEKDAY($A105,2)=6,A105=Férié,$J$2>I105),"",IFERROR(INDEX(Tableau1[],MATCH(1,('2017'!A105>=Tableau1[[DATE DEBUT ]])*(Tableau1[DATE FIN]>='2017'!A105),0),1),""))}
A106: =A105+1 -> 43204 | D106: =MOD(C106-B106,1) -> 0 | G106: =MOD(F106-E106,1) -> 0 | I106: =SUM(D106+G106) -> 0 | J106: =IFERROR(VLOOKUP(M106,EMPLOI!A:P,2,0),"") | K106: =IF(I106>=$J$2,J106,"") | L106: =IF(WEEKDAY(A106)=6,SUM(OFFSET(A106,0,8,-6,1)),"") | M106: {=IF(OR(WEEKDAY($A106,2)=7,WEEKDAY($A106,2)=6,A106=Férié,$J$2>I106),"",IFERROR(INDEX(Tableau1[],MATCH(1,('2017'!A106>=Tableau1[[DATE DEBUT ]])*(Tableau1[DATE FIN]>='2017'!A106),0),1),""))}
A107: =A106+1 -> 43205 | D107: =MOD(C107-B107,1) -> 0 | G107: =MOD(F107-E107,1) -> 0 | I107: =SUM(D107+G107) -> 0 | J107: =IFERROR(VLOOKUP(M107,EMPLOI!A:P,2,0),"") | K107: =IF(I107>=$J$2,J107,"") | L107: =IF(WEEKDAY(A107)=6,SUM(OFFSET(A107,0,8,-6,1)),"") | M107: {=IF(OR(WEEKDAY($A107,2)=7,WEEKDAY($A107,2)=6,A107=Férié,$J$2>I107),"",IFERROR(INDEX(Tableau1[],MATCH(1,('2017'!A107>=Tableau1[[DATE DEBUT ]])*(Tableau1[DATE FIN]>='2017'!A107),0),1),""))}
A108: =A107+1 -> 43206 | D108: =MOD(C108-B108,1) -> 0 | G108: =MOD(F108-E108,1) -> 0 | I108: =SUM(D108+G108) -> 0 | J108: =IFERROR(VLOOKUP(M108,EMPLOI!A:P,2,0),"") | K108: =IF(I108>=$J$2,J108,"") | L108: =IF(WEEKDAY(A108)=6,SUM(OFFSET(A108,0,8,-6,1)),"") | M108: {=IF(OR(WEEKDAY($A108,2)=7,WEEKDAY($A108,2)=6,A108=Férié,$J$2>I108),"",IFERROR(INDEX(Tableau1[],MATCH(1,('2017'!A108>=Tableau1[[DATE DEBUT ]])*(Tableau1[DATE FIN]>='2017'!A108),0),1),""))}
A109: =A108+1 -> 43207 | D109: =MOD(C109-B109,1) -> 0 | G109: =MOD(F109-E109,1) -> 0 | I109: =SUM(D109+G109) -> 0 | J109: =IFERROR(VLOOKUP(M109,EMPLOI!A:P,2,0),"") | K109: =IF(I109>=$J$2,J109,"") | L109: =IF(WEEKDAY(A109)=6,SUM(OFFSET(A109,0,8,-6,1)),"") | M109: {=IF(OR(WEEKDAY($A109,2)=7,WEEKDAY($A109,2)=6,A109=Férié,$J$2>I109),"",IFERROR(INDEX(Tableau1[],MATCH(1,('2017'!A109>=Tableau1[[DATE DEBUT ]])*(Tableau1[DATE FIN]>='2017'!A109),0),1),""))}
A110: =A109+1 -> 43208 | D110: =MOD(C110-B110,1) -> 0 | G110: =MOD(F110-E110,1) -> 0 | I110: =SUM(D110+G110) -> 0 | J110: =IFERROR(VLOOKUP(M110,EMPLOI!A:P,2,0),"") | K110: =IF(I110>=$J$2,J110,"") | L110: =IF(WEEKDAY(A110)=6,SUM(OFFSET(A110,0,8,-6,1)),"") | M110: {=IF(OR(WEEKDAY($A110,2)=7,WEEKDAY($A110,2)=6,A110=Férié,$J$2>I110),"",IFERROR(INDEX(Tableau1[],MATCH(1,('2017'!A110>=Tableau1[[DATE DEBUT ]])*(Tableau1[DATE FIN]>='2017'!A110),0),1),""))}
A111: =A110+1 -> 43209 | D111: =MOD(C111-B111,1) -> 0 | G111: =MOD(F111-E111,1) -> 0 | I111: =SUM(D111+G111) -> 0 | J111: =IFERROR(VLOOKUP(M111,EMPLOI!A:P,2,0),"") | K111: =IF(I111>=$J$2,J111,"") | L111: =IF(WEEKDAY(A111)=6,SUM(OFFSET(A111,0,8,-6,1)),"") | M111: {=IF(OR(WEEKDAY($A111,2)=7,WEEKDAY($A111,2)=6,A111=Férié,$J$2>I111),"",IFERROR(INDEX(Tableau1[],MATCH(1,('2017'!A111>=Tableau1[[DATE DEBUT ]])*(Tableau1[DATE FIN]>='2017'!A111),0),1),""))}
... A124: =A123+1 -> 43222 | D124: =MOD(C124-B124,1) -> 0 | G124: =MOD(F124-E124,1) -> 0 | I124: =SUM(D124+G124) -> 0 | J124: =IFERROR(VLOOKUP(M124,EMPLOI!A:P,2,0),"") | K124: =IF(I124>=$J$2,J124,"") | L124: =IF(WEEKDAY(A124)=6,SUM(OFFSET(A124,0,8,-6,1)),"") | M124: {=IF(OR(WEEKDAY($A124,2)=7,WEEKDAY($A124,2)=6,A124=Férié,$J$2>I124),"",IFERROR(INDEX(Tableau1[],MATCH(1,('2017'!A124>=Tableau1[[DATE DEBUT ]])*(Tableau1[DATE FIN]>='2017'!A124),0),1),""))}
A125: =A124+1 -> 43223 | B125: 0.375 | C125: 0.54166667 | D125: =MOD(C125-B125,1) -> 0.16666667 | E125: 0.5625 | F125: 0.70833333 | G125: =MOD(F125-E125,1) -> 0.14583333 | I125: =SUM(D125+G125) -> 0.3125 | J125: =IFERROR(VLOOKUP(M125,EMPLOI!A:P,2,0),"") -> 79.7 | K125: =IF(I125>=$J$2,J125,"") -> 79.7 | L125: =IF(WEEKDAY(A125)=6,SUM(OFFSET(A125,0,8,-6,1)),"") | M125: {=IF(OR(WEEKDAY($A125,2)=7,WEEKDAY($A125,2)=6,A125=Férié,$J$2>I125),"",IFERROR(INDEX(Tableau1[],MATCH(1,('2017'!A125>=Tableau1[[DATE DEBUT ]])*(Tableau1[DATE FIN]>='2017'!A125),0),1),""))} -> 2
A126: =A125+1 -> 43224 | B126: 0.375 | C126: 0.54166667 | D126: =MOD(C126-B126,1) -> 0.16666667 | E126: 0.5625 | F126: 0.70833333 | G126: =MOD(F126-E126,1) -> 0.14583333 | I126: =SUM(D126+G126) -> 0.3125 | J126: =IFERROR(VLOOKUP(M126,EMPLOI!A:P,2,0),"") -> 79.7 | K126: =IF(I126>=$J$2,J126,"") -> 79.7 | L126: =IF(WEEKDAY(A126)=6,SUM(OFFSET(A126,0,8,-6,1)),"") -> 0.625 | M126: {=IF(OR(WEEKDAY($A126,2)=7,WEEKDAY($A126,2)=6,A126=Férié,$J$2>I126),"",IFERROR(INDEX(Tableau1[],MATCH(1,('2017'!A126>=Tableau1[[DATE DEBUT ]])*(Tableau1[DATE FIN]>='2017'!A126),0),1),""))} -> 2
A127: =A126+1 -> 43225 | B127: 0.375 | C127: 0.54166667 | D127: =MOD(C127-B127,1) -> 0.16666667 | E127: 0.5625 | F127: 0.70833333 | G127: =MOD(F127-E127,1) -> 0.14583333 | I127: =SUM(D127+G127) -> 0.3125 | J127: =IFERROR(VLOOKUP(M127,EMPLOI!A:P,2,0),"") | K127: =IF(I127>=$J$2,J127,"") | L127: =IF(WEEKDAY(A127)=6,SUM(OFFSET(A127,0,8,-6,1)),"") | M127: {=IF(OR(WEEKDAY($A127,2)=7,WEEKDAY($A127,2)=6,A127=Férié,$J$2>I127),"",IFERROR(INDEX(Tableau1[],MATCH(1,('2017'!A127>=Tableau1[[DATE DEBUT ]])*(Tableau1[DATE FIN]>='2017'!A127),0),1),""))}
A128: =A127+1 -> 43226 | D128: =MOD(C128-B128,1) -> 0 | G128: =MOD(F128-E128,1) -> 0 | I128: =SUM(D128+G128) -> 0 | J128: =IFERROR(VLOOKUP(M128,EMPLOI!A:P,2,0),"") | K128: =IF(I128>=$J$2,J128,"") | L128: =IF(WEEKDAY(A128)=6,SUM(OFFSET(A128,0,8,-6,1)),"") | M128: {=IF(OR(WEEKDAY($A128,2)=7,WEEKDAY($A128,2)=6,A128=Férié,$J$2>I128),"",IFERROR(INDEX(Tableau1[],MATCH(1,('2017'!A128>=Tableau1[[DATE DEBUT ]])*(Tableau1[DATE FIN]>='2017'!A128),0),1),""))}
A129: =A128+1 -> 43227 | D129: =MOD(C129-B129,1) -> 0 | G129: =MOD(F129-E129,1) -> 0 | I129: =SUM(D129+G129) -> 0 | J129: =IFERROR(VLOOKUP(M129,EMPLOI!A:P,2,0),"") | K129: =IF(I129>=$J$2,J129,"") | L129: =IF(WEEKDAY(A129)=6,SUM(OFFSET(A129,0,8,-6,1)),"") | M129: {=IF(OR(WEEKDAY($A129,2)=7,WEEKDAY($A129,2)=6,A129=Férié,$J$2>I129),"",IFERROR(INDEX(Tableau1[],MATCH(1,('2017'!A129>=Tableau1[[DATE DEBUT ]])*(Tableau1[DATE FIN]>='2017'!A129),0),1),""))}
A130: =A129+1 -> 43228 | D130: =MOD(C130-B130,1) -> 0 | G130: =MOD(F130-E130,1) -> 0 | I130: =SUM(D130+G130) -> 0 | J130: =IFERROR(VLOOKUP(M130,EMPLOI!A:P,2,0),"") | K130: =IF(I130>=$J$2,J130,"") | L130: =IF(WEEKDAY(A130)=6,SUM(OFFSET(A130,0,8,-6,1)),"") | M130: {=IF(OR(WEEKDAY($A130,2)=7,WEEKDAY($A130,2)=6,A130=Férié,$J$2>I130),"",IFERROR(INDEX(Tableau1[],MATCH(1,('2017'!A130>=Tableau1[[DATE DEBUT ]])*(Tableau1[DATE FIN]>='2017'!A130),0),1),""))}
A131: =A130+1 -> 43229 | B131: 0.375 | C131: 0.54166667 | D131: =MOD(C131-B131,1) -> 0.16666667 | E131: 0.5625 | F131: 0.70833333 | G131: =MOD(F131-E131,1) -> 0.14583333 | I131: =SUM(D131+G131) -> 0.3125 | J131: =IFERROR(VLOOKUP(M131,EMPLOI!A:P,2,0),"") -> 79.7 | K131: =IF(I131>=$J$2,J131,"") -> 79.7 | L131: =IF(WEEKDAY(A131)=6,SUM(OFFSET(A131,0,8,-6,1)),"") | M131: {=IF(OR(WEEKDAY($A131,2)=7,WEEKDAY($A131,2)=6,A131=Férié,$J$2>I131),"",IFERROR(INDEX(Tableau1[],MATCH(1,('2017'!A131>=Tableau1[[DATE DEBUT ]])*(Tableau1[DATE FIN]>='2017'!A131),0),1),""))} -> 2
A132: =A131+1 -> 43230 | B132: 0.375 | C132: 0.54166667 | D132: =MOD(C132-B132,1) -> 0.16666667 | E132: 0.5625 | F132: 0.70833333 | G132: =MOD(F132-E132,1) -> 0.14583333 | I132: =SUM(D132+G132) -> 0.3125 | J132: =IFERROR(VLOOKUP(M132,EMPLOI!A:P,2,0),"") -> 79.7 | K132: =IF(I132>=$J$2,J132,"") -> 79.7 | L132: =IF(WEEKDAY(A132)=6,SUM(OFFSET(A132,0,8,-6,1)),"") | M132: {=IF(OR(WEEKDAY($A132,2)=7,WEEKDAY($A132,2)=6,A132=Férié,$J$2>I132),"",IFERROR(INDEX(Tableau1[],MATCH(1,('2017'!A132>=Tableau1[[DATE DEBUT ]])*(Tableau1[DATE FIN]>='2017'!A132),0),1),""))} -> 2
A133: =A132+1 -> 43231 | B133: 0.375 | C133: 0.54166667 | D133: =MOD(C133-B133,1) -> 0.16666667 | E133: 0.5625 | F133: 0.70833333 | G133: =MOD(F133-E133,1) -> 0.14583333 | I133: =SUM(D133+G133) -> 0.3125 | J133: =IFERROR(VLOOKUP(M133,EMPLOI!A:P,2,0),"") -> 79.7 | K133: =IF(I133>=$J$2,J133,"") -> 79.7 | L133: =IF(WEEKDAY(A133)=6,SUM(OFFSET(A133,0,8,-6,1)),"") -> 0.9375 | M133: {=IF(OR(WEEKDAY($A133,2)=7,WEEKDAY($A133,2)=6,A133=Férié,$J$2>I133),"",IFERROR(INDEX(Tableau1[],MATCH(1,('2017'!A133>=Tableau1[[DATE DEBUT ]])*(Tableau1[DATE FIN]>='2017'!A133),0),1),""))} -> 2
A134: =A133+1 -> 43232 | B134: 0.375 | C134: 0.54166667 | D134: =MOD(C134-B134,1) -> 0.16666667 | E134: 0.5625 | F134: 0.70833333 | G134: =MOD(F134-E134,1) -> 0.14583333 | I134: =SUM(D134+G134) -> 0.3125 | J134: =IFERROR(VLOOKUP(M134,EMPLOI!A:P,2,0),"") | K134: =IF(I134>=$J$2,J134,"") | L134: =IF(WEEKDAY(A134)=6,SUM(OFFSET(A134,0,8,-6,1)),"") | M134: {=IF(OR(WEEKDAY($A134,2)=7,WEEKDAY($A134,2)=6,A134=Férié,$J$2>I134),"",IFERROR(INDEX(Tableau1[],MATCH(1,('2017'!A134>=Tableau1[[DATE DEBUT ]])*(Tableau1[DATE FIN]>='2017'!A134),0),1),""))}
A135: =A134+1 -> 43233 | D135: =MOD(C135-B135,1) -> 0 | G135: =MOD(F135-E135,1) -> 0 | I135: =SUM(D135+G135) -> 0 | J135: =IFERROR(VLOOKUP(M135,EMPLOI!A:P,2,0),"") | K135: =IF(I135>=$J$2,J135,"") | L135: =IF(WEEKDAY(A135)=6,SUM(OFFSET(A135,0,8,-6,1)),"") | M135: {=IF(OR(WEEKDAY($A135,2)=7,WEEKDAY($A135,2)=6,A135=Férié,$J$2>I135),"",IFERROR(INDEX(Tableau1[],MATCH(1,('2017'!A135>=Tableau1[[DATE DEBUT ]])*(Tableau1[DATE FIN]>='2017'!A135),0),1),""))}
A136: =A135+1 -> 43234 | D136: =MOD(C136-B136,1) -> 0 | G136: =MOD(F136-E136,1) -> 0 | I136: =SUM(D136+G136) -> 0 | J136: =IFERROR(VLOOKUP(M136,EMPLOI!A:P,2,0),"") | K136: =IF(I136>=$J$2,J136,"") | L136: =IF(WEEKDAY(A136)=6,SUM(OFFSET(A136,0,8,-6,1)),"") | M136: {=IF(OR(WEEKDAY($A136,2)=7,WEEKDAY($A136,2)=6,A136=Férié,$J$2>I136),"",IFERROR(INDEX(Tableau1[],MATCH(1,('2017'!A136>=Tableau1[[DATE DEBUT ]])*(Tableau1[DATE FIN]>='2017'!A136),0),1),""))}
A137: =A136+1 -> 43235 | B137: 0.29166667 | C137: 0.5 | D137: =MOD(C137-B137,1) -> 0.20833333 | E137: 0.52083333 | F137: 0.66666667 | G137: =MOD(F137-E137,1) -> 0.14583333 | I137: =SUM(D137+G137) -> 0.35416667 | J137: =IFERROR(VLOOKUP(M137,EMPLOI!A:P,2,0),"") -> 79.7 | K137: =IF(I137>=$J$2,J137,"") -> 79.7 | L137: =IF(WEEKDAY(A137)=6,SUM(OFFSET(A137,0,8,-6,1)),"") | M137: {=IF(OR(WEEKDAY($A137,2)=7,WEEKDAY($A137,2)=6,A137=Férié,$J$2>I137),"",IFERROR(INDEX(Tableau1[],MATCH(1,('2017'!A137>=Tableau1[[DATE DEBUT ]])*(Tableau1[DATE FIN]>='2017'!A137),0),1),""))} -> 2
A138: =A137+1 -> 43236 | B138: 0.29166667 | C138: 0.5 | D138: =MOD(C138-B138,1) -> 0.20833333 | E138: 0.52083333 | F138: 0.625 | G138: =MOD(F138-E138,1) -> 0.10416667 | I138: =SUM(D138+G138) -> 0.3125 | J138: =IFERROR(VLOOKUP(M138,EMPLOI!A:P,2,0),"") -> 79.7 | K138: =IF(I138>=$J$2,J138,"") -> 79.7 | L138: =IF(WEEKDAY(A138)=6,SUM(OFFSET(A138,0,8,-6,1)),"") | M138: {=IF(OR(WEEKDAY($A138,2)=7,WEEKDAY($A138,2)=6,A138=Férié,$J$2>I138),"",IFERROR(INDEX(Tableau1[],MATCH(1,('2017'!A138>=Tableau1[[DATE DEBUT ]])*(Tableau1[DATE FIN]>='2017'!A138),0),1),""))} -> 2
A139: =A138+1 -> 43237 | B139: 0.29166667 | C139: 0.5 | D139: =MOD(C139-B139,1) -> 0.20833333 | E139: 0.52083333 | F139: 0.625 | G139: =MOD(F139-E139,1) -> 0.10416667 | I139: =SUM(D139+G139) -> 0.3125 | J139: =IFERROR(VLOOKUP(M139,EMPLOI!A:P,2,0),"") -> 79.7 | K139: =IF(I139>=$J$2,J139,"") -> 79.7 | L139: =IF(WEEKDAY(A139)=6,SUM(OFFSET(A139,0,8,-6,1)),"") | M139: {=IF(OR(WEEKDAY($A139,2)=7,WEEKDAY($A139,2)=6,A139=Férié,$J$2>I139),"",IFERROR(INDEX(Tableau1[],MATCH(1,('2017'!A139>=Tableau1[[DATE DEBUT ]])*(Tableau1[DATE FIN]>='2017'!A139),0),1),""))} -> 2
A140: =A139+1 -> 43238 | B140: 0.29166667 | C140: 0.5 | D140: =MOD(C140-B140,1) -> 0.20833333 | E140: 0.52083333 | F140: 0.625 | G140: =MOD(F140-E140,1) -> 0.10416667 | I140: =SUM(D140+G140) -> 0.3125 | J140: =IFERROR(VLOOKUP(M140,EMPLOI!A:P,2,0),"") -> 79.7 | K140: =IF(I140>=$J$2,J140,"") -> 79.7 | L140: =IF(WEEKDAY(A140)=6,SUM(OFFSET(A140,0,8,-6,1)),"") -> 1.2916667 | M140: {=IF(OR(WEEKDAY($A140,2)=7,WEEKDAY($A140,2)=6,A140=Férié,$J$2>I140),"",IFERROR(INDEX(Tableau1[],MATCH(1,('2017'!A140>=Tableau1[[DATE DEBUT ]])*(Tableau1[DATE FIN]>='2017'!A140),0),1),""))} -> 2
A141: =A140+1 -> 43239 | B141: 0.29166667 | C141: 0.5 | D141: =MOD(C141-B141,1) -> 0.20833333 | E141: 0.52083333 | F141: 0.625 | G141: =MOD(F141-E141,1) -> 0.10416667 | I141: =SUM(D141+G141) -> 0.3125 | J141: =IFERROR(VLOOKUP(M141,EMPLOI!A:P,2,0),"") | K141: =IF(I141>=$J$2,J141,"") | L141: =IF(WEEKDAY(A141)=6,SUM(OFFSET(A141,0,8,-6,1)),"") | M141: {=IF(OR(WEEKDAY($A141,2)=7,WEEKDAY($A141,2)=6,A141=Férié,$J$2>I141),"",IFERROR(INDEX(Tableau1[],MATCH(1,('2017'!A141>=Tableau1[[DATE DEBUT ]])*(Tableau1[DATE FIN]>='2017'!A141),0),1),""))}
A142: =A141+1 -> 43240 | D142: =MOD(C142-B142,1) -> 0 | G142: =MOD(F142-E142,1) -> 0 | I142: =SUM(D142+G142) -> 0 | J142: =IFERROR(VLOOKUP(M142,EMPLOI!A:P,2,0),"") | K142: =IF(I142>=$J$2,J142,"") | L142: =IF(WEEKDAY(A142)=6,SUM(OFFSET(A142,0,8,-6,1)),"") | M142: {=IF(OR(WEEKDAY($A142,2)=7,WEEKDAY($A142,2)=6,A142=Férié,$J$2>I142),"",IFERROR(INDEX(Tableau1[],MATCH(1,('2017'!A142>=Tableau1[[DATE DEBUT ]])*(Tableau1[DATE FIN]>='2017'!A142),0),1),""))}
A143: =A142+1 -> 43241 | D143: =MOD(C143-B143,1) -> 0 | G143: =MOD(F143-E143,1) -> 0 | I143: =SUM(D143+G143) -> 0 | J143: =IFERROR(VLOOKUP(M143,EMPLOI!A:P,2,0),"") | K143: =IF(I143>=$J$2,J143,"") | L143: =IF(WEEKDAY(A143)=6,SUM(OFFSET(A143,0,8,-6,1)),"") | M143: {=IF(OR(WEEKDAY($A143,2)=7,WEEKDAY($A143,2)=6,A143=Férié,$J$2>I143),"",IFERROR(INDEX(Tableau1[],MATCH(1,('2017'!A143>=Tableau1[[DATE DEBUT ]])*(Tableau1[DATE FIN]>='2017'!A143),0),1),""))}
A144: =A143+1 -> 43242 | B144: 0.45833333 | C144: 0.58333333 | D144: =MOD(C144-B144,1) -> 0.125 | E144: 0.60416667 | F144: 0.79166667 | G144: =MOD(F144-E144,1) -> 0.1875 | I144: =SUM(D144+G144) -> 0.3125 | J144: =IFERROR(VLOOKUP(M144,EMPLOI!A:P,2,0),"") -> 79.7 | K144: =IF(I144>=$J$2,J144,"") -> 79.7 | L144: =IF(WEEKDAY(A144)=6,SUM(OFFSET(A144,0,8,-6,1)),"") | M144: {=IF(OR(WEEKDAY($A144,2)=7,WEEKDAY($A144,2)=6,A144=Férié,$J$2>I144),"",IFERROR(INDEX(Tableau1[],MATCH(1,('2017'!A144>=Tableau1[[DATE DEBUT ]])*(Tableau1[DATE FIN]>='2017'!A144),0),1),""))} -> 2
A145: =A144+1 -> 43243 | B145: 0.45833333 | C145: 0.58333333 | D145: =MOD(C145-B145,1) -> 0.125 | E145: 0.60416667 | F145: 0.79166667 | G145: =MOD(F145-E145,1) -> 0.1875 | I145: =SUM(D145+G145) -> 0.3125 | J145: =IFERROR(VLOOKUP(M145,EMPLOI!A:P,2,0),"") -> 79.7 | K145: =IF(I145>=$J$2,J145,"") -> 79.7 | L145: =IF(WEEKDAY(A145)=6,SUM(OFFSET(A145,0,8,-6,1)),"") | M145: {=IF(OR(WEEKDAY($A145,2)=7,WEEKDAY($A145,2)=6,A145=Férié,$J$2>I145),"",IFERROR(INDEX(Tableau1[],MATCH(1,('2017'!A145>=Tableau1[[DATE DEBUT ]])*(Tableau1[DATE FIN]>='2017'!A145),0),1),""))} -> 2
A146: =A145+1 -> 43244 | B146: 0.45833333 | C146: 0.58333333 | D146: =MOD(C146-B146,1) -> 0.125 | E146: 0.60416667 | F146: 0.73263889 | G146: =MOD(F146-E146,1) -> 0.12847222 | I146: =SUM(D146+G146) -> 0.25347222 | J146: =IFERROR(VLOOKUP(M146,EMPLOI!A:P,2,0),"") -> 79.7 | K146: =IF(I146>=$J$2,J146,"") -> 79.7 | L146: =IF(WEEKDAY(A146)=6,SUM(OFFSET(A146,0,8,-6,1)),"") | M146: {=IF(OR(WEEKDAY($A146,2)=7,WEEKDAY($A146,2)=6,A146=Férié,$J$2>I146),"",IFERROR(INDEX(Tableau1[],MATCH(1,('2017'!A146>=Tableau1[[DATE DEBUT ]])*(Tableau1[DATE FIN]>='2017'!A146),0),1),""))} -> 2
A147: =A146+1 -> 43245 | D147: =MOD(C147-B147,1) -> 0 | G147: =MOD(F147-E147,1) -> 0 | I147: =SUM(D147+G147) -> 0 | J147: =IFERROR(VLOOKUP(M147,EMPLOI!A:P,2,0),"") | K147: =IF(I147>=$J$2,J147,"") | L147: =IF(WEEKDAY(A147)=6,SUM(OFFSET(A147,0,8,-6,1)),"") -> 0.87847222 | M147: {=IF(OR(WEEKDAY($A147,2)=7,WEEKDAY($A147,2)=6,A147=Férié,$J$2>I147),"",IFERROR(INDEX(Tableau1[],MATCH(1,('2017'!A147>=Tableau1[[DATE DEBUT ]])*(Tableau1[DATE FIN]>='2017'!A147),0),1),""))}
A148: =A147+1 -> 43246 | D148: =MOD(C148-B148,1) -> 0 | G148: =MOD(F148-E148,1) -> 0 | I148: =SUM(D148+G148) -> 0 | J148: =IFERROR(VLOOKUP(M148,EMPLOI!A:P,2,0),"") | K148: =IF(I148>=$J$2,J148,"") | L148: =IF(WEEKDAY(A148)=6,SUM(OFFSET(A148,0,8,-6,1)),"") | M148: {=IF(OR(WEEKDAY($A148,2)=7,WEEKDAY($A148,2)=6,A148=Férié,$J$2>I148),"",IFERROR(INDEX(Tableau1[],MATCH(1,('2017'!A148>=Tableau1[[DATE DEBUT ]])*(Tableau1[DATE FIN]>='2017'!A148),0),1),""))}
A149: =A148+1 -> 43247 | D149: =MOD(C149-B149,1) -> 0 | G149: =MOD(F149-E149,1) -> 0 | I149: =SUM(D149+G149) -> 0 | J149: =IFERROR(VLOOKUP(M149,EMPLOI!A:P,2,0),"") | K149: =IF(I149>=$J$2,J149,"") | L149: =IF(WEEKDAY(A149)=6,SUM(OFFSET(A149,0,8,-6,1)),"") | M149: {=IF(OR(WEEKDAY($A149,2)=7,WEEKDAY($A149,2)=6,A149=Férié,$J$2>I149),"",IFERROR(INDEX(Tableau1[],MATCH(1,('2017'!A149>=Tableau1[[DATE DEBUT ]])*(Tableau1[DATE FIN]>='2017'!A149),0),1),""))}
A150: =A149+1 -> 43248 | D150: =MOD(C150-B150,1) -> 0 | G150: =MOD(F150-E150,1) -> 0 | I150: =SUM(D150+G150) -> 0 | J150: =IFERROR(VLOOKUP(M150,EMPLOI!A:P,2,0),"") | K150: =IF(I150>=$J$2,J150,"") | L150: =IF(WEEKDAY(A150)=6,SUM(OFFSET(A150,0,8,-6,1)),"") | M150: {=IF(OR(WEEKDAY($A150,2)=7,WEEKDAY($A150,2)=6,A150=Férié,$J$2>I150),"",IFERROR(INDEX(Tableau1[],MATCH(1,('2017'!A150>=Tableau1[[DATE DEBUT ]])*(Tableau1[DATE FIN]>='2017'!A150),0),1),""))}
A151: =A150+1 -> 43249 | B151: 0.29166667 | C151: 0.5 | D151: =MOD(C151-B151,1) -> 0.20833333 | E151: 0.52083333 | F151: 0.64583333 | G151: =MOD(F151-E151,1) -> 0.125 | I151: =SUM(D151+G151) -> 0.33333333 | J151: =IFERROR(VLOOKUP(M151,EMPLOI!A:P,2,0),"") -> 79.7 | K151: =IF(I151>=$J$2,J151,"") -> 79.7 | L151: =IF(WEEKDAY(A151)=6,SUM(OFFSET(A151,0,8,-6,1)),"") | M151: {=IF(OR(WEEKDAY($A151,2)=7,WEEKDAY($A151,2)=6,A151=Férié,$J$2>I151),"",IFERROR(INDEX(Tableau1[],MATCH(1,('2017'!A151>=Tableau1[[DATE DEBUT ]])*(Tableau1[DATE FIN]>='2017'!A151),0),1),""))} -> 2
A152: =A151+1 -> 43250 | B152: 0.29166667 | C152: 0.5 | D152: =MOD(C152-B152,1) -> 0.20833333 | E152: 0.52083333 | F152: 0.625 | G152: =MOD(F152-E152,1) -> 0.10416667 | I152: =SUM(D152+G152) -> 0.3125 | J152: =IFERROR(VLOOKUP(M152,EMPLOI!A:P,2,0),"") -> 79.7 | K152: =IF(I152>=$J$2,J152,"") -> 79.7 | L152: =IF(WEEKDAY(A152)=6,SUM(OFFSET(A152,0,8,-6,1)),"") | M152: {=IF(OR(WEEKDAY($A152,2)=7,WEEKDAY($A152,2)=6,A152=Férié,$J$2>I152),"",IFERROR(INDEX(Tableau1[],MATCH(1,('2017'!A152>=Tableau1[[DATE DEBUT ]])*(Tableau1[DATE FIN]>='2017'!A152),0),1),""))} -> 2
A153: =A152+1 -> 43251 | B153: 0.29166667 | C153: 0.5 | D153: =MOD(C153-B153,1) -> 0.20833333 | E153: 0.52083333 | F153: 0.625 | G153: =MOD(F153-E153,1) -> 0.10416667 | I153: =SUM(D153+G153) -> 0.3125 | J153: =IFERROR(VLOOKUP(M153,EMPLOI!A:P,2,0),"") -> 79.7 | K153: =IF(I153>=$J$2,J153,"") -> 79.7 | L153: =IF(WEEKDAY(A153)=6,SUM(OFFSET(A153,0,8,-6,1)),"") | M153: {=IF(OR(WEEKDAY($A153,2)=7,WEEKDAY($A153,2)=6,A153=Férié,$J$2>I153),"",IFERROR(INDEX(Tableau1[],MATCH(1,('2017'!A153>=Tableau1[[DATE DEBUT ]])*(Tableau1[DATE FIN]>='2017'!A153),0),1),""))} -> 2
A154: =A153+1 -> 43252 | B154: 0.29166667 | C154: 0.5 | D154: =MOD(C154-B154,1) -> 0.20833333 | E154: 0.52083333 | F154: 0.625 | G154: =MOD(F154-E154,1) -> 0.10416667 | I154: =SUM(D154+G154) -> 0.3125 | J154: =IFERROR(VLOOKUP(M154,EMPLOI!A:P,2,0),"") -> 79.7 | K154: =IF(I154>=$J$2,J154,"") -> 79.7 | L154: =IF(WEEKDAY(A154)=6,SUM(OFFSET(A154,0,8,-6,1)),"") -> 1.2708333 | M154: {=IF(OR(WEEKDAY($A154,2)=7,WEEKDAY($A154,2)=6,A154=Férié,$J$2>I154),"",IFERROR(INDEX(Tableau1[],MATCH(1,('2017'!A154>=Tableau1[[DATE DEBUT ]])*(Tableau1[DATE FIN]>='2017'!A154),0),1),""))} -> 2
A155: =A154+1 -> 43253 | B155: 0.29166667 | C155: 0.5 | D155: =MOD(C155-B155,1) -> 0.20833333 | E155: 0.52083333 | F155: 0.625 | G155: =MOD(F155-E155,1) -> 0.10416667 | I155: =SUM(D155+G155) -> 0.3125 | J155: =IFERROR(VLOOKUP(M155,EMPLOI!A:P,2,0),"") | K155: =IF(I155>=$J$2,J155,"") | L155: =IF(WEEKDAY(A155)=6,SUM(OFFSET(A155,0,8,-6,1)),"") | M155: {=IF(OR(WEEKDAY($A155,2)=7,WEEKDAY($A155,2)=6,A155=Férié,$J$2>I155),"",IFERROR(INDEX(Tableau1[],MATCH(1,('2017'!A155>=Tableau1[[DATE DEBUT ]])*(Tableau1[DATE FIN]>='2017'!A155),0),1),""))}
A156: =A155+1 -> 43254 | D156: =MOD(C156-B156,1) -> 0 | G156: =MOD(F156-E156,1) -> 0 | I156: =SUM(D156+G156) -> 0 | J156: =IFERROR(VLOOKUP(M156,EMPLOI!A:P,2,0),"") | K156: =IF(I156>=$J$2,J156,"") | L156: =IF(WEEKDAY(A156)=6,SUM(OFFSET(A156,0,8,-6,1)),"") | M156: {=IF(OR(WEEKDAY($A156,2)=7,WEEKDAY($A156,2)=6,A156=Férié,$J$2>I156),"",IFERROR(INDEX(Tableau1[],MATCH(1,('2017'!A156>=Tableau1[[DATE DEBUT ]])*(Tableau1[DATE FIN]>='2017'!A156),0),1),""))}
A157: =A156+1 -> 43255 | D157: =MOD(C157-B157,1) -> 0 | G157: =MOD(F157-E157,1) -> 0 | I157: =SUM(D157+G157) -> 0 | J157: =IFERROR(VLOOKUP(M157,EMPLOI!A:P,2,0),"") | K157: =IF(I157>=$J$2,J157,"") | L157: =IF(WEEKDAY(A157)=6,SUM(OFFSET(A157,0,8,-6,1)),"") | M157: {=IF(OR(WEEKDAY($A157,2)=7,WEEKDAY($A157,2)=6,A157=Férié,$J$2>I157),"",IFERROR(INDEX(Tableau1[],MATCH(1,('2017'!A157>=Tableau1[[DATE DEBUT ]])*(Tableau1[DATE FIN]>='2017'!A157),0),1),""))}
A158: =A157+1 -> 43256 | D158: =MOD(C158-B158,1) -> 0 | G158: =MOD(F158-E158,1) -> 0 | I158: =SUM(D158+G158) -> 0 | J158: =IFERROR(VLOOKUP(M158,EMPLOI!A:P,2,0),"") | K158: =IF(I158>=$J$2,J158,"") | L158: =IF(WEEKDAY(A158)=6,SUM(OFFSET(A158,0,8,-6,1)),"") | M158: {=IF(OR(WEEKDAY($A158,2)=7,WEEKDAY($A158,2)=6,A158=Férié,$J$2>I158),"",IFERROR(INDEX(Tableau1[],MATCH(1,('2017'!A158>=Tableau1[[DATE DEBUT ]])*(Tableau1[DATE FIN]>='2017'!A158),0),1),""))}
A159: =A158+1 -> 43257 | B159: 0.29166667 | C159: 0.5 | D159: =MOD(C159-B159,1) -> 0.20833333 | E159: 0.52083333 | F159: 0.625 | G159: =MOD(F159-E159,1) -> 0.10416667 | I159: =SUM(D159+G159) -> 0.3125 | J159: =IFERROR(VLOOKUP(M159,EMPLOI!A:P,2,0),"") -> 79.7 | K159: =IF(I159>=$J$2,J159,"") -> 79.7 | L159: =IF(WEEKDAY(A159)=6,SUM(OFFSET(A159,0,8,-6,1)),"") | M159: {=IF(OR(WEEKDAY($A159,2)=7,WEEKDAY($A159,2)=6,A159=Férié,$J$2>I159),"",IFERROR(INDEX(Tableau1[],MATCH(1,('2017'!A159>=Tableau1[[DATE DEBUT ]])*(Tableau1[DATE FIN]>='2017'!A159),0),1),""))} -> 2
A160: =A159+1 -> 43258 | B160: 0.29166667 | C160: 0.5 | D160: =MOD(C160-B160,1) -> 0.20833333 | E160: 0.52083333 | F160: 0.63541667 | G160: =MOD(F160-E160,1) -> 0.11458333 | I160: =SUM(D160+G160) -> 0.32291667 | J160: =IFERROR(VLOOKUP(M160,EMPLOI!A:P,2,0),"") -> 79.7 | K160: =IF(I160>=$J$2,J160,"") -> 79.7 | L160: =IF(WEEKDAY(A160)=6,SUM(OFFSET(A160,0,8,-6,1)),"") | M160: {=IF(OR(WEEKDAY($A160,2)=7,WEEKDAY($A160,2)=6,A160=Férié,$J$2>I160),"",IFERROR(INDEX(Tableau1[],MATCH(1,('2017'!A160>=Tableau1[[DATE DEBUT ]])*(Tableau1[DATE FIN]>='2017'!A160),0),1),""))} -> 2
A161: =A160+1 -> 43259 | B161: 0.29166667 | C161: 0.5 | D161: =MOD(C161-B161,1) -> 0.20833333 | E161: 0.52083333 | F161: 0.625 | G161: =MOD(F161-E161,1) -> 0.10416667 | I161: =SUM(D161+G161) -> 0.3125 | J161: =IFERROR(VLOOKUP(M161,EMPLOI!A:P,2,0),"") -> 79.7 | K161: =IF(I161>=$J$2,J161,"") -> 79.7 | L161: =IF(WEEKDAY(A161)=6,SUM(OFFSET(A161,0,8,-6,1)),"") -> 0.94791667 | M161: {=IF(OR(WEEKDAY($A161,2)=7,WEEKDAY($A161,2)=6,A161=Férié,$J$2>I161),"",IFERROR(INDEX(Tableau1[],MATCH(1,('2017'!A161>=Tableau1[[DATE DEBUT ]])*(Tableau1[DATE FIN]>='2017'!A161),0),1),""))} -> 2
A162: =A161+1 -> 43260 | B162: 0.29166667 | C162: 0.5 | D162: =MOD(C162-B162,1) -> 0.20833333 | E162: 0.52083333 | F162: 0.625 | G162: =MOD(F162-E162,1) -> 0.10416667 | I162: =SUM(D162+G162) -> 0.3125 | J162: =IFERROR(VLOOKUP(M162,EMPLOI!A:P,2,0),"") | K162: =IF(I162>=$J$2,J162,"") | L162: =IF(WEEKDAY(A162)=6,SUM(OFFSET(A162,0,8,-6,1)),"") | M162: {=IF(OR(WEEKDAY($A162,2)=7,WEEKDAY($A162,2)=6,A162=Férié,$J$2>I162),"",IFERROR(INDEX(Tableau1[],MATCH(1,('2017'!A162>=Tableau1[[DATE DEBUT ]])*(Tableau1[DATE FIN]>='2017'!A162),0),1),""))}
A163: =A162+1 -> 43261 | D163: =MOD(C163-B163,1) -> 0 | G163: =MOD(F163-E163,1) -> 0 | I163: =SUM(D163+G163) -> 0 | J163: =IFERROR(VLOOKUP(M163,EMPLOI!A:P,2,0),"") | K163: =IF(I163>=$J$2,J163,"") | L163: =IF(WEEKDAY(A163)=6,SUM(OFFSET(A163,0,8,-6,1)),"") | M163: {=IF(OR(WEEKDAY($A163,2)=7,WEEKDAY($A163,2)=6,A163=Férié,$J$2>I163),"",IFERROR(INDEX(Tableau1[],MATCH(1,('2017'!A163>=Tableau1[[DATE DEBUT ]])*(Tableau1[DATE FIN]>='2017'!A163),0),1),""))}
A164: =A163+1 -> 43262 | D164: =MOD(C164-B164,1) -> 0 | G164: =MOD(F164-E164,1) -> 0 | I164: =SUM(D164+G164) -> 0 | J164: =IFERROR(VLOOKUP(M164,EMPLOI!A:P,2,0),"") | K164: =IF(I164>=$J$2,J164,"") | L164: =IF(WEEKDAY(A164)=6,SUM(OFFSET(A164,0,8,-6,1)),"") | M164: {=IF(OR(WEEKDAY($A164,2)=7,WEEKDAY($A164,2)=6,A164=Férié,$J$2>I164),"",IFERROR(INDEX(Tableau1[],MATCH(1,('2017'!A164>=Tableau1[[DATE DEBUT ]])*(Tableau1[DATE FIN]>='2017'!A164),0),1),""))}
A165: =A164+1 -> 43263 | B165: 0.45833333 | C165: 0.5 | D165: =MOD(C165-B165,1) -> 0.041666667 | E165: 0.52083333 | F165: 0.79166667 | G165: =MOD(F165-E165,1) -> 0.27083333 | I165: =SUM(D165+G165) -> 0.3125 | J165: =IFERROR(VLOOKUP(M165,EMPLOI!A:P,2,0),"") -> 79.7 | K165: =IF(I165>=$J$2,J165,"") -> 79.7 | L165: =IF(WEEKDAY(A165)=6,SUM(OFFSET(A165,0,8,-6,1)),"") | M165: {=IF(OR(WEEKDAY($A165,2)=7,WEEKDAY($A165,2)=6,A165=Férié,$J$2>I165),"",IFERROR(INDEX(Tableau1[],MATCH(1,('2017'!A165>=Tableau1[[DATE DEBUT ]])*(Tableau1[DATE FIN]>='2017'!A165),0),1),""))} -> 2
A166: =A165+1 -> 43264 | B166: 0.45833333 | C166: 0.5 | D166: =MOD(C166-B166,1) -> 0.041666667 | E166: 0.52083333 | F166: 0.79166667 | G166: =MOD(F166-E166,1) -> 0.27083333 | I166: =SUM(D166+G166) -> 0.3125 | J166: =IFERROR(VLOOKUP(M166,EMPLOI!A:P,2,0),"") -> 79.7 | K166: =IF(I166>=$J$2,J166,"") -> 79.7 | L166: =IF(WEEKDAY(A166)=6,SUM(OFFSET(A166,0,8,-6,1)),"") | M166: {=IF(OR(WEEKDAY($A166,2)=7,WEEKDAY($A166,2)=6,A166=Férié,$J$2>I166),"",IFERROR(INDEX(Tableau1[],MATCH(1,('2017'!A166>=Tableau1[[DATE DEBUT ]])*(Tableau1[DATE FIN]>='2017'!A166),0),1),""))} -> 2
A167: =A166+1 -> 43265 | B167: 0.45833333 | C167: 0.5 | D167: =MOD(C167-B167,1) -> 0.041666667 | E167: 0.52083333 | F167: 0.79166667 | G167: =MOD(F167-E167,1) -> 0.27083333 | I167: =SUM(D167+G167) -> 0.3125 | J167: =IFERROR(VLOOKUP(M167,EMPLOI!A:P,2,0),"") -> 79.7 | K167: =IF(I167>=$J$2,J167,"") -> 79.7 | L167: =IF(WEEKDAY(A167)=6,SUM(OFFSET(A167,0,8,-6,1)),"") | M167: {=IF(OR(WEEKDAY($A167,2)=7,WEEKDAY($A167,2)=6,A167=Férié,$J$2>I167),"",IFERROR(INDEX(Tableau1[],MATCH(1,('2017'!A167>=Tableau1[[DATE DEBUT ]])*(Tableau1[DATE FIN]>='2017'!A167),0),1),""))} -> 2
A168: =A167+1 -> 43266 | B168: 0.45833333 | C168: 0.5 | D168: =MOD(C168-B168,1) -> 0.041666667 | E168: 0.52083333 | F168: 0.79166667 | G168: =MOD(F168-E168,1) -> 0.27083333 | I168: =SUM(D168+G168) -> 0.3125 | J168: =IFERROR(VLOOKUP(M168,EMPLOI!A:P,2,0),"") -> 79.7 | K168: =IF(I168>=$J$2,J168,"") -> 79.7 | L168: =IF(WEEKDAY(A168)=6,SUM(OFFSET(A168,0,8,-6,1)),"") -> 1.25 | M168: {=IF(OR(WEEKDAY($A168,2)=7,WEEKDAY($A168,2)=6,A168=Férié,$J$2>I168),"",IFERROR(INDEX(Tableau1[],MATCH(1,('2017'!A168>=Tableau1[[DATE DEBUT ]])*(Tableau1[DATE FIN]>='2017'!A168),0),1),""))} -> 2
A169: =A168+1 -> 43267 | B169: 0.45833333 | C169: 0.5 | D169: =MOD(C169-B169,1) -> 0.041666667 | E169: 0.52083333 | F169: 0.75 | G169: =MOD(F169-E169,1) -> 0.22916667 | I169: =SUM(D169+G169) -> 0.27083333 | J169: =IFERROR(VLOOKUP(M169,EMPLOI!A:P,2,0),"") | K169: =IF(I169>=$J$2,J169,"") | L169: =IF(WEEKDAY(A169)=6,SUM(OFFSET(A169,0,8,-6,1)),"") | M169: {=IF(OR(WEEKDAY($A169,2)=7,WEEKDAY($A169,2)=6,A169=Férié,$J$2>I169),"",IFERROR(INDEX(Tableau1[],MATCH(1,('2017'!A169>=Tableau1[[DATE DEBUT ]])*(Tableau1[DATE FIN]>='2017'!A169),0),1),""))}
A170: =A169+1 -> 43268 | D170: =MOD(C170-B170,1) -> 0 | G170: =MOD(F170-E170,1) -> 0 | I170: =SUM(D170+G170) -> 0 | J170: =IFERROR(VLOOKUP(M170,EMPLOI!A:P,2,0),"") | K170: =IF(I170>=$J$2,J170,"") | L170: =IF(WEEKDAY(A170)=6,SUM(OFFSET(A170,0,8,-6,1)),"") | M170: {=IF(OR(WEEKDAY($A170,2)=7,WEEKDAY($A170,2)=6,A170=Férié,$J$2>I170),"",IFERROR(INDEX(Tableau1[],MATCH(1,('2017'!A170>=Tableau1[[DATE DEBUT ]])*(Tableau1[DATE FIN]>='2017'!A170),0),1),""))}
...

Sheet EMPLOI
A1: NOM ENTREPRISE | B1: Km | C1: DATE DEBUT | D1: DATE FIN | E1: NOMBRES JOURS | F1: NOMBRES HEURES | G1: Km Total Période | H1: JOUR NUIT | I1: AGENCE | J1: BASE TAUX HORAIRE | K1: 13ème MOIS / H | L1: PANIER JOUR
E2: =SUMPRODUCT(('2017'!$L$3:$L$368=EMPLOI!A2)*('2017'!$A$3:$A$368>=EMPLOI!C2)*('2017'!$A$3:$A$368<=EMPLOI!$D2)*1) -> 0 | F2: =SUMPRODUCT(('2017'!$A$3:$A$368>=Tableau1[[#This Row],[DATE DEBUT ]])*('2017'!$A$3:$A$368<=Tableau1[[#This Row],[DATE FIN]])*('2017'!$I$3:$I$368)) -> 0 | G2: =Tableau1[[#This Row],[Km]]*Tableau1[[#This Row],[NOMBRES JOURS]] -> 0
A3: test | B3: 999 | C3: 43101 | D3: 43130 | E3: =SUMPRODUCT(('2017'!$L$3:$L$368=EMPLOI!A3)*('2017'!$A$3:$A$368>=EMPLOI!C3)*('2017'!$A$3:$A$368<=EMPLOI!$D3)*1) -> 0 | F3: =SUMPRODUCT(('2017'!$A$3:$A$368>=Tableau1[[#This Row],[DATE DEBUT ]])*('2017'!$A$3:$A$368<=Tableau1[[#This Row],[DATE FIN]])*('2017'!$I$3:$I$368)) -> 0 | G3: =Tableau1[[#This Row],[Km]]*Tableau1[[#This Row],[NOMBRES JOURS]] -> 0
A4: 3 | B4: 79.4 | C4: 42926 | D4: 42931 | E4: =SUMPRODUCT(('2017'!$L$3:$L$368=EMPLOI!A4)*('2017'!$A$3:$A$368>=EMPLOI!C4)*('2017'!$A$3:$A$368<=EMPLOI!$D4)*1) -> 2 | F4: =SUMPRODUCT(('2017'!$A$3:$A$368>=Tableau1[[#This Row],[DATE DEBUT ]])*('2017'!$A$3:$A$368<=Tableau1[[#This Row],[DATE FIN]])*('2017'!$I$3:$I$368)) -> 0.60763889 | G4: =Tableau1[[#This Row],[Km]]*Tableau1[[#This Row],[NOMBRES JOURS]] -> 158.8 | H4: N | I4: A | J4: 9.76 | L4: =1.5+6.4 -> 7.9
A5: 2 | B5: 79.7 | C5: 42858 | D5: 42916 | E5: =SUMPRODUCT(('2017'!$L$3:$L$368=EMPLOI!A5)*('2017'!$A$3:$A$368>=EMPLOI!C5)*('2017'!$A$3:$A$368<=EMPLOI!$D5)*1) -> 39 | F5: =SUMPRODUCT(('2017'!$A$3:$A$368>=Tableau1[[#This Row],[DATE DEBUT ]])*('2017'!$A$3:$A$368<=Tableau1[[#This Row],[DATE FIN]])*('2017'!$I$3:$I$368)) -> 12.170139 | G5: =Tableau1[[#This Row],[Km]]*Tableau1[[#This Row],[NOMBRES JOURS]] -> 3108.3 | H5: J | I5: A | J5: 9.76 | K5: 0.81 | L5: 6.4
A6: 1 | B6: 70.6 | C6: 42829 | D6: 42832 | E6: =SUMPRODUCT(('2017'!$L$3:$L$368=EMPLOI!A6)*('2017'!$A$3:$A$368>=EMPLOI!C6)*('2017'!$A$3:$A$368<=EMPLOI!$D6)*1) -> 4 | F6: =SUMPRODUCT(('2017'!$A$3:$A$368>=Tableau1[[#This Row],[DATE DEBUT ]])*('2017'!$A$3:$A$368<=Tableau1[[#This Row],[DATE FIN]])*('2017'!$I$3:$I$368)) -> 1.1666667 | G6: =Tableau1[[#This Row],[Km]]*Tableau1[[#This Row],[NOMBRES JOURS]] -> 282.4 | H6: J | I6: A | J6: 9.76
