Workbook
Name Année: '[1]2 Enfants'!$B$10
Name Férié: Année!$AL$3:$AL$15
Name Fêtes: Année!$AL$17:$AL$21
Name JourCalculé: " =Feuil1!$B$10-JOURSEM(Feuil1!$B$10;3)+((LIGNE()-LIGNE(Feuil1!$AF$7))*7)+COLONNE()-COLONNE(Feuil1!$AF$7)"

Sheet Année
C1: =INDIRECT("'"&A5&"'!I4") -> 0 | AG1: =TODAY() -> 42928 | AK1: =A5 -> 2017
AK2: Jours Fériés et Fêtes
A3: Année | B3: TOTAL HEURES | H3: =SUM(AG8:AG42) -> 13.944444 | L3: TOTAL JOURS | R3: =SUM(AH8:AH42) -> 45 | U3: TOTAL TRAJET | AA3: =SUM(AI8:AI42) -> 0 | AE3: Km | AG3: =NOW() -> 42928.646 | AK3: JOUR DE L'AN | AL3: =DATE(AK1,1,1) -> 42736
AK4: PÂQUES | AL4: =FLOOR(DATE(AK1,5,DAY(MINUTE(AK1/38)/2+56)),7)-34+7*(AK1=2079) -> 42841
A5: 2017 | AG5: Heures Travaillées | AH5: Jours Travaillées | AI5: Km | AK5: *Lundi de Pâques | AL5: =AL4+1 -> 42842
B6: 1 | C6: 2 | D6: 3 | E6: 4 | F6: 5 | G6: 6 | H6: 7 | I6: 8 | J6: 9 | K6: 10 | L6: 11 | M6: 12 | N6: 13 | O6: 14 | P6: 15 | Q6: 16 | R6: 17 | S6: 18 | T6: 19 | U6: 20 | V6: 21 | W6: 22 | X6: 23 | Y6: 24 | Z6: 25 | AA6: 26 | AB6: 27 | AC6: 28 | AD6: 29 | AE6: 30 | AF6: 31 | AK6: FÊTE DU TRAVAIL | AL6: =DATE(Année!U4,5,1) -> 122
A7: Janvier | B7: =DATE($A$5,1,1) -> 42736 | C7: =B7+1 -> 42737 | D7: =C7+1 -> 42738 | E7: =D7+1 -> 42739 | F7: =E7+1 -> 42740 | G7: =F7+1 -> 42741 | H7: =G7+1 -> 42742 | I7: =H7+1 -> 42743 | J7: =I7+1 -> 42744 | ... AF7: =AE7+1 -> 42766 | AK7: ASCENSION | AL7: =AL4+39 -> 42880
B8: =IFERROR(VLOOKUP(Année!B7,'2017'!$A$3:$I$368,9),"") -> 0 | C8: =IFERROR(VLOOKUP(Année!C7,'2017'!$A$3:$I$368,9),"") -> 0 | D8: =IFERROR(VLOOKUP(Année!D7,'2017'!$A$3:$I$368,9),"") -> 0 | E8: =IFERROR(VLOOKUP(Année!E7,'2017'!$A$3:$I$368,9),"") -> 0 | F8: =IFERROR(VLOOKUP(Année!F7,'2017'!$A$3:$I$368,9),"") -> 0 | G8: =IFERROR(VLOOKUP(Année!G7,'2017'!$A$3:$I$368,9),"") -> 0 | H8: =IFERROR(VLOOKUP(Année!H7,'2017'!$A$3:$I$368,9),"") -> 0 | I8: =IFERROR(VLOOKUP(Année!I7,'2017'!$A$3:$I$368,9),"") -> 0 | ... AF8: =IFERROR(VLOOKUP(Année!AF7,'2017'!$A$3:$I$368,9),"") -> 0 | AG8: =SUM(B8:AF8) -> 0 | AH8: =COUNTIF(B8:AF8,">"&0) -> 0 | AI8: =SUM(B9:AF9) -> 0 | AK8: VICTOIRE 1945 | AL8: =DATE(AK1,5,8) -> 42863
B9: =IFERROR(VLOOKUP(Année!B7,'2017'!$A$3:$J$368,11),"") | C9: =IFERROR(VLOOKUP(Année!C7,'2017'!$A$3:$J$368,11),"") | D9: =IFERROR(VLOOKUP(Année!D7,'2017'!$A$3:$J$368,11),"") | E9: =IFERROR(VLOOKUP(Année!E7,'2017'!$A$3:$J$368,11),"") | F9: =IFERROR(VLOOKUP(Année!F7,'2017'!$A$3:$J$368,11),"") | G9: =IFERROR(VLOOKUP(Année!G7,'2017'!$A$3:$J$368,11),"") | H9: =IFERROR(VLOOKUP(Année!H7,'2017'!$A$3:$J$368,11),"") | I9: =IFERROR(VLOOKUP(Année!I7,'2017'!$A$3:$J$368,11),"") | ... AF9: =IFERROR(VLOOKUP(Année!AF7,'2017'!$A$3:$J$368,11),"") | AK9: PENTECÔTE | AL9: =AL4+49 -> 42890
A10: Février | B10: =DATE($A$5,2,1) -> 42767 | C10: =B10+1 -> 42768 | D10: =C10+1 -> 42769 | E10: =D10+1 -> 42770 | F10: =E10+1 -> 42771 | G10: =F10+1 -> 42772 | H10: =G10+1 -> 42773 | I10: =H10+1 -> 42774 | J10: =I10+1 -> 42775 | ... AC10: =AB10+1 -> 42794 | AD10: =IF(OR(MONTH(AC10+1)<>MONTH(AC10),AC10+1>=B13),0,AC10+1) -> 0 | AK10: *Lundi de Pentecôte | AL10: =AL4+50 -> 42891
B11: =IFERROR(VLOOKUP(Année!B10,'2017'!$A$3:$I$368,9),"") -> 0 | C11: =IFERROR(VLOOKUP(Année!C10,'2017'!$A$3:$I$368,9),"") -> 0 | D11: =IFERROR(VLOOKUP(Année!D10,'2017'!$A$3:$I$368,9),"") -> 0 | E11: =IFERROR(VLOOKUP(Année!E10,'2017'!$A$3:$I$368,9),"") -> 0 | F11: =IFERROR(VLOOKUP(Année!F10,'2017'!$A$3:$I$368,9),"") -> 0 | G11: =IFERROR(VLOOKUP(Année!G10,'2017'!$A$3:$I$368,9),"") -> 0 | H11: =IFERROR(VLOOKUP(Année!H10,'2017'!$A$3:$I$368,9),"") -> 0 | I11: =IFERROR(VLOOKUP(Année!I10,'2017'!$A$3:$I$368,9),"") -> 0 | ... AD11: =IFERROR(VLOOKUP(Année!AD10,'2017'!$A$3:$I$368,9),"") | AG11: =SUM(B11:AF11) -> 0 | AH11: =COUNTIF(B11:AF11,">"&0) -> 0 | AI11: =SUM(B12:AF12) -> 0 | AK11: FÊTE NAT | AL11: =DATE(AK1,7,14) -> 42930
B12: =IFERROR(VLOOKUP(Année!B10,'2017'!$A$3:$J$368,11),"") | C12: =IFERROR(VLOOKUP(Année!C10,'2017'!$A$3:$J$368,11),"") | D12: =IFERROR(VLOOKUP(Année!D10,'2017'!$A$3:$J$368,11),"") | E12: =IFERROR(VLOOKUP(Année!E10,'2017'!$A$3:$J$368,11),"") | F12: =IFERROR(VLOOKUP(Année!F10,'2017'!$A$3:$J$368,11),"") | G12: =IFERROR(VLOOKUP(Année!G10,'2017'!$A$3:$J$368,11),"") | H12: =IFERROR(VLOOKUP(Année!H10,'2017'!$A$3:$J$368,11),"") | I12: =IFERROR(VLOOKUP(Année!I10,'2017'!$A$3:$J$368,11),"") | ... AD12: =IFERROR(VLOOKUP(Année!AD10,'2017'!$A$3:$J$368,11),"") | AK12: ASSOMPTION | AL12: =DATE(AK1,8,15) -> 42962
A13: Mars | B13: =DATE($A$5,3,1) -> 42795 | C13: =B13+1 -> 42796 | D13: =C13+1 -> 42797 | E13: =D13+1 -> 42798 | F13: =E13+1 -> 42799 | G13: =F13+1 -> 42800 | H13: =G13+1 -> 42801 | I13: =H13+1 -> 42802 | J13: =I13+1 -> 42803 | ... AE13: =AD13+1 -> 42824 | AF13: =IF(OR(MONTH(AE13+1)<>MONTH(AE13),AE13+1>=B16),0,AE13+1) -> 42825 | AK13: TOUSSAINT | AL13: =DATE(AK1,11,1) -> 43040
B14: =IFERROR(VLOOKUP(Année!B13,'2017'!$A$3:$I$368,9),"") -> 0 | C14: =IFERROR(VLOOKUP(Année!C13,'2017'!$A$3:$I$368,9),"") -> 0 | D14: =IFERROR(VLOOKUP(Année!D13,'2017'!$A$3:$I$368,9),"") -> 0 | E14: =IFERROR(VLOOKUP(Année!E13,'2017'!$A$3:$I$368,9),"") -> 0 | F14: =IFERROR(VLOOKUP(Année!F13,'2017'!$A$3:$I$368,9),"") -> 0 | G14: =IFERROR(VLOOKUP(Année!G13,'2017'!$A$3:$I$368,9),"") -> 0 | H14: =IFERROR(VLOOKUP(Année!H13,'2017'!$A$3:$I$368,9),"") -> 0 | I14: =IFERROR(VLOOKUP(Année!I13,'2017'!$A$3:$I$368,9),"") -> 0 | ... AF14: =IFERROR(VLOOKUP(Année!AF13,'2017'!$A$3:$I$368,9),"") -> 0 | AG14: =SUM(B14:AF14) -> 0 | AH14: =COUNTIF(B14:AF14,">"&0) -> 0 | AI14: =SUM(B15:AF15) -> 0 | AK14: ARMISTICE 1918 | AL14: =DATE(AK1,11,11) -> 43050
B15: =IFERROR(VLOOKUP(Année!B13,'2017'!$A$3:$J$368,11),"") | C15: =IFERROR(VLOOKUP(Année!C13,'2017'!$A$3:$J$368,11),"") | D15: =IFERROR(VLOOKUP(Année!D13,'2017'!$A$3:$J$368,11),"") | E15: =IFERROR(VLOOKUP(Année!E13,'2017'!$A$3:$J$368,11),"") | F15: =IFERROR(VLOOKUP(Année!F13,'2017'!$A$3:$J$368,11),"") | G15: =IFERROR(VLOOKUP(Année!G13,'2017'!$A$3:$J$368,11),"") | H15: =IFERROR(VLOOKUP(Année!H13,'2017'!$A$3:$J$368,11),"") | I15: =IFERROR(VLOOKUP(Année!I13,'2017'!$A$3:$J$368,11),"") | ... AF15: =IFERROR(VLOOKUP(Année!AF13,'2017'!$A$3:$J$368,11),"") | AK15: NOËL | AL15: =DATE(AK1,12,25) -> 43094
A16: Avril | B16: =DATE($A$5,4,1) -> 42826 | C16: =B16+1 -> 42827 | D16: =C16+1 -> 42828 | E16: =D16+1 -> 42829 | F16: =E16+1 -> 42830 | G16: =F16+1 -> 42831 | H16: =G16+1 -> 42832 | I16: =H16+1 -> 42833 | J16: =I16+1 -> 42834 | ... AE16: =AD16+1 -> 42855 | AF16: =IF(OR(MONTH(AE16+1)<>MONTH(AE16),AE16+1>=B19),0,AE16+1) -> 0
B17: =IFERROR(VLOOKUP(Année!B16,'2017'!$A$3:$I$368,9),"") -> 0 | C17: =IFERROR(VLOOKUP(Année!C16,'2017'!$A$3:$I$368,9),"") -> 0 | D17: =IFERROR(VLOOKUP(Année!D16,'2017'!$A$3:$J$368,9),"") -> 0 | E17: =IFERROR(VLOOKUP(Année!E16,'2017'!$A$3:$I$368,9),"") -> 0.29166667 | F17: =IFERROR(VLOOKUP(Année!F16,'2017'!$A$3:$I$368,9),"") -> 0.29166667 | G17: =IFERROR(VLOOKUP(Année!G16,'2017'!$A$3:$I$368,9),"") -> 0.29166667 | H17: =IFERROR(VLOOKUP(Année!H16,'2017'!$A$3:$I$368,9),"") -> 0.29166667 | I17: =IFERROR(VLOOKUP(Année!I16,'2017'!$A$3:$I$368,9),"") -> 0 | J17: =IFERROR(VLOOKUP(Année!J16,'2017'!$A$3:$I$368,9),"") -> 0 | K17: =IFERROR(VLOOKUP(Année!K16,'2017'!$A$3:$I$368,9),"") -> 0 | L17: =IFERROR(VLOOKUP(Année!L16,'2017'!$A$3:$I$368,9),"") -> 0 | ... AF17: =IFERROR(VLOOKUP(Année!AF16,'2017'!$A$3:$I$368,9),"") | AG17: =SUM(B17:AF17) -> 1.1666667 | AH17: =COUNTIF(B17:AF17,">"&0) -> 4 | AI17: =SUM(B18:AF18) -> 0 | AK17: Mardi-Gras | AL17: =AL4-47 -> 42794
B18: =IFERROR(VLOOKUP(Année!B16,'2017'!$A$3:$J$368,11),"") | C18: =IFERROR(VLOOKUP(Année!C16,'2017'!$A$3:$J$368,11),"") | D18: =IFERROR(VLOOKUP(Année!D16,'2017'!$A$3:$J$368,11),"") | E18: =IFERROR(VLOOKUP(Année!E16,'2017'!$A$3:$J$368,11),"") | F18: =IFERROR(VLOOKUP(Année!F16,'2017'!$A$3:$J$368,11),"") | G18: =IFERROR(VLOOKUP(Année!G16,'2017'!$A$3:$J$368,11),"") | H18: =IFERROR(VLOOKUP(Année!H16,'2017'!$A$3:$J$368,11),"") | I18: =IFERROR(VLOOKUP(Année!I16,'2017'!$A$3:$J$368,11),"") | ... AF18: =IFERROR(VLOOKUP(Année!AF16,'2017'!$A$3:$J$368,11),"") | AK18: Cendres | AL18: =AL4-46 -> 42795
A19: Mai | B19: =DATE($A$5,5,1) -> 42856 | C19: =B19+1 -> 42857 | D19: =C19+1 -> 42858 | E19: =D19+1 -> 42859 | F19: =E19+1 -> 42860 | G19: =F19+1 -> 42861 | H19: =G19+1 -> 42862 | I19: =H19+1 -> 42863 | J19: =I19+1 -> 42864 | ... AE19: =AD19+1 -> 42885 | AF19: =IF(OR(MONTH(AE19+1)<>MONTH(AE19),AE19+1>=B22),0,AE19+1) -> 42886 | AK19: Rameaux | AL19: =AL4-7 -> 42834
B20: =IFERROR(VLOOKUP(Année!B19,'2017'!$A$3:$I$368,9),"") -> 0 | C20: =IFERROR(VLOOKUP(Année!C19,'2017'!$A$3:$I$368,9),"") -> 0 | D20: =IFERROR(VLOOKUP(Année!D19,'2017'!$A$3:$I$368,9),"") -> 0.3125 | E20: =IFERROR(VLOOKUP(Année!E19,'2017'!$A$3:$I$368,9),"") -> 0.3125 | F20: =IFERROR(VLOOKUP(Année!F19,'2017'!$A$3:$I$368,9),"") -> 0.3125 | G20: =IFERROR(VLOOKUP(Année!G19,'2017'!$A$3:$I$368,9),"") -> 0 | H20: =IFERROR(VLOOKUP(Année!H19,'2017'!$A$3:$I$368,9),"") -> 0 | I20: =IFERROR(VLOOKUP(Année!I19,'2017'!$A$3:$I$368,9),"") -> 0 | ... AF20: =IFERROR(VLOOKUP(Année!AF19,'2017'!$A$3:$I$368,9),"") -> 0.3125 | AG20: =SUM(B20:AF20) -> 5.6284722 | AH20: =COUNTIF(B20:AF20,">"&0) -> 18 | AI20: =SUM(B21:AF21) -> 0
B21: =IFERROR(VLOOKUP(Année!B19,'2017'!$A$3:$J$368,11),"") | C21: =IFERROR(VLOOKUP(Année!C19,'2017'!$A$3:$J$368,11),"") | D21: =IFERROR(VLOOKUP(Année!D19,'2017'!$A$3:$J$368,11),"") | E21: =IFERROR(VLOOKUP(Année!E19,'2017'!$A$3:$J$368,11),"") | F21: =IFERROR(VLOOKUP(Année!F19,'2017'!$A$3:$J$368,11),"") | G21: =IFERROR(VLOOKUP(Année!G19,'2017'!$A$3:$J$368,11),"") | H21: =IFERROR(VLOOKUP(Année!H19,'2017'!$A$3:$J$368,11),"") | I21: =IFERROR(VLOOKUP(Année!I19,'2017'!$A$3:$J$368,11),"") | ... AF21: =IFERROR(VLOOKUP(Année!AF19,'2017'!$A$3:$J$368,11),"") | AK21: Epiphanie | AL21: =DATE(AK1,1,1)+7-WEEKDAY(DATE(AK1,1,1),2) -> 42736
A22: Juin | B22: =DATE($A$5,6,1) -> 42887 | C22: =B22+1 -> 42888 | D22: =C22+1 -> 42889 | E22: =D22+1 -> 42890 | F22: =E22+1 -> 42891 | G22: =F22+1 -> 42892 | H22: =G22+1 -> 42893 | I22: =H22+1 -> 42894 | J22: =I22+1 -> 42895 | ... AE22: =AD22+1 -> 42916 | AF22: =IF(OR(MONTH(AE22+1)<>MONTH(AE22),AE22+1>=B25),0,AE22+1) -> 0
B23: =IFERROR(VLOOKUP(Année!B22,'2017'!$A$3:$I$368,9),"") -> 0.3125 | C23: =IFERROR(VLOOKUP(Année!C22,'2017'!$A$3:$I$368,9),"") -> 0.3125 | D23: =IFERROR(VLOOKUP(Année!D22,'2017'!$A$3:$I$368,9),"") -> 0 | E23: =IFERROR(VLOOKUP(Année!E22,'2017'!$A$3:$I$368,9),"") -> 0 | F23: =IFERROR(VLOOKUP(Année!F22,'2017'!$A$3:$I$368,9),"") -> 0 | G23: =IFERROR(VLOOKUP(Année!G22,'2017'!$A$3:$I$368,9),"") -> 0.3125 | H23: =IFERROR(VLOOKUP(Année!H22,'2017'!$A$3:$I$368,9),"") -> 0.32291667 | I23: =IFERROR(VLOOKUP(Année!I22,'2017'!$A$3:$I$368,9),"") -> 0.3125 | ... AF23: =IFERROR(VLOOKUP(Année!AF22,'2017'!$A$3:$I$368,9),"") | AG23: =SUM(B23:AF23) -> 6.5416667 | AH23: =COUNTIF(B23:AF23,">"&0) -> 21 | AI23: =SUM(B24:AF24) -> 0 | AK23: Fête Dieu | AL23: =AL4+63 -> 42904
B24: =IFERROR(VLOOKUP(Année!B22,'2017'!$A$3:$J$368,11),"") | C24: =IFERROR(VLOOKUP(Année!C22,'2017'!$A$3:$J$368,11),"") | D24: =IFERROR(VLOOKUP(Année!D22,'2017'!$A$3:$J$368,11),"") | E24: =IFERROR(VLOOKUP(Année!E22,'2017'!$A$3:$J$368,11),"") | F24: =IFERROR(VLOOKUP(Année!F22,'2017'!$A$3:$J$368,11),"") | G24: =IFERROR(VLOOKUP(Année!G22,'2017'!$A$3:$J$368,11),"") | H24: =IFERROR(VLOOKUP(Année!H22,'2017'!$A$3:$J$368,11),"") | I24: =IFERROR(VLOOKUP(Année!I22,'2017'!$A$3:$J$368,11),"") | ... AF24: =IFERROR(VLOOKUP(Année!AF22,'2017'!$A$3:$J$368,11),"")
A25: Juillet | B25: =DATE($A$5,7,1) -> 42917 | C25: =B25+1 -> 42918 | D25: =C25+1 -> 42919 | E25: =D25+1 -> 42920 | F25: =E25+1 -> 42921 | G25: =F25+1 -> 42922 | H25: =G25+1 -> 42923 | I25: =H25+1 -> 42924 | J25: =I25+1 -> 42925 | ... AE25: =AD25+1 -> 42946 | AF25: =IF(OR(MONTH(AE25+1)<>MONTH(AE25),AE25+1>=B28),0,AE25+1) -> 42947
B26: =IFERROR(VLOOKUP(Année!B25,'2017'!$A$3:$I$368,9),"") -> 0 | C26: =IFERROR(VLOOKUP(Année!C25,'2017'!$A$3:$I$368,9),"") -> 0 | D26: =IFERROR(VLOOKUP(Année!D25,'2017'!$A$3:$I$368,9),"") -> 0 | E26: =IFERROR(VLOOKUP(Année!E25,'2017'!$A$3:$I$368,9),"") -> 0 | F26: =IFERROR(VLOOKUP(Année!F25,'2017'!$A$3:$I$368,9),"") -> 0 | G26: =IFERROR(VLOOKUP(Année!G25,'2017'!$A$3:$I$368,9),"") -> 0 | H26: =IFERROR(VLOOKUP(Année!H25,'2017'!$A$3:$I$368,9),"") -> 0 | I26: =IFERROR(VLOOKUP(Année!I25,'2017'!$A$3:$I$368,9),"") -> 0 | ... AF26: =IFERROR(VLOOKUP(Année!AF25,'2017'!$A$3:$I$368,9),"") -> 0 | AG26: =SUM(B26:AF26) -> 0.60763889 | AH26: =COUNTIF(B26:AF26,">"&0) -> 2 | AI26: =SUM(B27:AF27) -> 0
B27: =IFERROR(VLOOKUP(Année!B25,'2017'!$A$3:$J$368,11),"") | C27: =IFERROR(VLOOKUP(Année!C25,'2017'!$A$3:$J$368,11),"") | D27: =IFERROR(VLOOKUP(Année!D25,'2017'!$A$3:$J$368,11),"") | E27: =IFERROR(VLOOKUP(Année!E25,'2017'!$A$3:$J$368,11),"") | F27: =IFERROR(VLOOKUP(Année!F25,'2017'!$A$3:$J$368,11),"") | G27: =IFERROR(VLOOKUP(Année!G25,'2017'!$A$3:$J$368,11),"") | H27: =IFERROR(VLOOKUP(Année!H25,'2017'!$A$3:$J$368,11),"") | I27: =IFERROR(VLOOKUP(Année!I25,'2017'!$A$3:$J$368,11),"") | ... AF27: =IFERROR(VLOOKUP(Année!AF25,'2017'!$A$3:$J$368,11),"")
A28: Août | B28: =DATE($A$5,8,1) -> 42948 | C28: =B28+1 -> 42949 | D28: =C28+1 -> 42950 | E28: =D28+1 -> 42951 | F28: =E28+1 -> 42952 | G28: =F28+1 -> 42953 | H28: =G28+1 -> 42954 | I28: =H28+1 -> 42955 | J28: =I28+1 -> 42956 | ... AE28: =AD28+1 -> 42977 | AF28: =IF(OR(MONTH(AE28+1)<>MONTH(AE28),AE28+1>=B31),0,AE28+1) -> 42978
B29: =IFERROR(VLOOKUP(Année!B28,'2017'!$A$3:$I$368,9),"") -> 0 | C29: =IFERROR(VLOOKUP(Année!C28,'2017'!$A$3:$I$368,9),"") -> 0 | D29: =IFERROR(VLOOKUP(Année!D28,'2017'!$A$3:$I$368,9),"") -> 0 | E29: =IFERROR(VLOOKUP(Année!E28,'2017'!$A$3:$I$368,9),"") -> 0 | F29: =IFERROR(VLOOKUP(Année!F28,'2017'!$A$3:$I$368,9),"") -> 0 | G29: =IFERROR(VLOOKUP(Année!G28,'2017'!$A$3:$I$368,9),"") -> 0 | H29: =IFERROR(VLOOKUP(Année!H28,'2017'!$A$3:$I$368,9),"") -> 0 | I29: =IFERROR(VLOOKUP(Année!I28,'2017'!$A$3:$I$368,9),"") -> 0 | ... AF29: =IFERROR(VLOOKUP(Année!AF28,'2017'!$A$3:$I$368,9),"") -> 0 | AG29: =SUM(B29:AF29) -> 0 | AH29: =COUNTIF(B29:AF29,">"&0) -> 0 | AI29: =SUM(B30:AF30) -> 0
B30: =IFERROR(VLOOKUP(Année!B28,'2017'!$A$3:$J$368,11),"") | C30: =IFERROR(VLOOKUP(Année!C28,'2017'!$A$3:$J$368,11),"") | D30: =IFERROR(VLOOKUP(Année!D28,'2017'!$A$3:$J$368,11),"") | E30: =IFERROR(VLOOKUP(Année!E28,'2017'!$A$3:$J$368,11),"") | F30: =IFERROR(VLOOKUP(Année!F28,'2017'!$A$3:$J$368,11),"") | G30: =IFERROR(VLOOKUP(Année!G28,'2017'!$A$3:$J$368,11),"") | H30: =IFERROR(VLOOKUP(Année!H28,'2017'!$A$3:$J$368,11),"") | I30: =IFERROR(VLOOKUP(Année!I28,'2017'!$A$3:$J$368,11),"") | ... AF30: =IFERROR(VLOOKUP(Année!AF28,'2017'!$A$3:$J$368,11),"")
A31: Septembre | B31: =DATE($A$5,9,1) -> 42979 | C31: =B31+1 -> 42980 | D31: =C31+1 -> 42981 | E31: =D31+1 -> 42982 | F31: =E31+1 -> 42983 | G31: =F31+1 -> 42984 | H31: =G31+1 -> 42985 | I31: =H31+1 -> 42986 | J31: =I31+1 -> 42987 | ... AE31: =AD31+1 -> 43008 | AF31: =IF(OR(MONTH(AE31+1)<>MONTH(AE31),AE31+1>=B34),0,AE31+1) -> 0
B32: =IFERROR(VLOOKUP(Année!B31,'2017'!$A$3:$I$368,9),"") -> 0 | C32: =IFERROR(VLOOKUP(Année!C31,'2017'!$A$3:$I$368,9),"") -> 0 | D32: =IFERROR(VLOOKUP(Année!D31,'2017'!$A$3:$I$368,9),"") -> 0 | E32: =IFERROR(VLOOKUP(Année!E31,'2017'!$A$3:$I$368,9),"") -> 0 | F32: =IFERROR(VLOOKUP(Année!F31,'2017'!$A$3:$I$368,9),"") -> 0 | G32: =IFERROR(VLOOKUP(Année!G31,'2017'!$A$3:$I$368,9),"") -> 0 | H32: =IFERROR(VLOOKUP(Année!H31,'2017'!$A$3:$I$368,9),"") -> 0 | I32: =IFERROR(VLOOKUP(Année!I31,'2017'!$A$3:$I$368,9),"") -> 0 | ... AF32: =IFERROR(VLOOKUP(Année!AF31,'2017'!$A$3:$I$368,9),"") | AG32: =SUM(B32:AF32) -> 0 | AH32: =COUNTIF(B32:AF32,">"&0) -> 0 | AI32: =SUM(B33:AF33) -> 0
B33: =IFERROR(VLOOKUP(Année!B31,'2017'!$A$3:$J$368,11),"") | C33: =IFERROR(VLOOKUP(Année!C31,'2017'!$A$3:$J$368,11),"") | D33: =IFERROR(VLOOKUP(Année!D31,'2017'!$A$3:$J$368,11),"") | E33: =IFERROR(VLOOKUP(Année!E31,'2017'!$A$3:$J$368,11),"") | F33: =IFERROR(VLOOKUP(Année!F31,'2017'!$A$3:$J$368,11),"") | G33: =IFERROR(VLOOKUP(Année!G31,'2017'!$A$3:$J$368,11),"") | H33: =IFERROR(VLOOKUP(Année!H31,'2017'!$A$3:$J$368,11),"") | I33: =IFERROR(VLOOKUP(Année!I31,'2017'!$A$3:$J$368,11),"") | ... AF33: =IFERROR(VLOOKUP(Année!AF31,'2017'!$A$3:$J$368,11),"")
A34: Octobre | B34: =DATE($A$5,10,1) -> 43009 | C34: =B34+1 -> 43010 | D34: =C34+1 -> 43011 | E34: =D34+1 -> 43012 | F34: =E34+1 -> 43013 | G34: =F34+1 -> 43014 | H34: =G34+1 -> 43015 | I34: =H34+1 -> 43016 | J34: =I34+1 -> 43017 | ... AE34: =AD34+1 -> 43038 | AF34: =IF(OR(MONTH(AE34+1)<>MONTH(AE34),AE34+1>=B37),0,AE34+1) -> 43039
B35: =IFERROR(VLOOKUP(Année!B34,'2017'!$A$3:$I$368,9),"") -> 0 | C35: =IFERROR(VLOOKUP(Année!C34,'2017'!$A$3:$I$368,9),"") -> 0 | D35: =IFERROR(VLOOKUP(Année!D34,'2017'!$A$3:$I$368,9),"") -> 0 | E35: =IFERROR(VLOOKUP(Année!E34,'2017'!$A$3:$I$368,9),"") -> 0 | F35: =IFERROR(VLOOKUP(Année!F34,'2017'!$A$3:$I$368,9),"") -> 0 | G35: =IFERROR(VLOOKUP(Année!G34,'2017'!$A$3:$I$368,9),"") -> 0 | H35: =IFERROR(VLOOKUP(Année!H34,'2017'!$A$3:$I$368,9),"") -> 0 | I35: =IFERROR(VLOOKUP(Année!I34,'2017'!$A$3:$I$368,9),"") -> 0 | ... AF35: =IFERROR(VLOOKUP(Année!AF34,'2017'!$A$3:$I$368,9),"") -> 0 | AG35: =SUM(B35:AF35) -> 0 | AH35: =COUNTIF(B35:AF35,">"&0) -> 0 | AI35: =SUM(B36:AF36) -> 0
B36: =IFERROR(VLOOKUP(Année!B34,'2017'!$A$3:$J$368,11),"") | C36: =IFERROR(VLOOKUP(Année!C34,'2017'!$A$3:$J$368,11),"") | D36: =IFERROR(VLOOKUP(Année!D34,'2017'!$A$3:$J$368,11),"") | E36: =IFERROR(VLOOKUP(Année!E34,'2017'!$A$3:$J$368,11),"") | F36: =IFERROR(VLOOKUP(Année!F34,'2017'!$A$3:$J$368,11),"") | G36: =IFERROR(VLOOKUP(Année!G34,'2017'!$A$3:$J$368,11),"") | H36: =IFERROR(VLOOKUP(Année!H34,'2017'!$A$3:$J$368,11),"") | I36: =IFERROR(VLOOKUP(Année!I34,'2017'!$A$3:$J$368,11),"") | ... AF36: =IFERROR(VLOOKUP(Année!AF34,'2017'!$A$3:$J$368,11),"")
A37: Novembre | B37: =DATE($A$5,11,1) -> 43040 | C37: =B37+1 -> 43041 | D37: =C37+1 -> 43042 | E37: =D37+1 -> 43043 | F37: =E37+1 -> 43044 | G37: =F37+1 -> 43045 | H37: =G37+1 -> 43046 | I37: =H37+1 -> 43047 | J37: =I37+1 -> 43048 | ... AE37: =AD37+1 -> 43069 | AF37: =IF(OR(MONTH(AE37+1)<>MONTH(AE37),AE37+1>=B40),0,AE37+1) -> 0
B38: =IFERROR(VLOOKUP(Année!B37,'2017'!$A$3:$I$368,9),"") -> 0 | C38: =IFERROR(VLOOKUP(Année!C37,'2017'!$A$3:$I$368,9),"") -> 0 | D38: =IFERROR(VLOOKUP(Année!D37,'2017'!$A$3:$I$368,9),"") -> 0 | E38: =IFERROR(VLOOKUP(Année!E37,'2017'!$A$3:$I$368,9),"") -> 0 | F38: =IFERROR(VLOOKUP(Année!F37,'2017'!$A$3:$I$368,9),"") -> 0 | G38: =IFERROR(VLOOKUP(Année!G37,'2017'!$A$3:$I$368,9),"") -> 0 | H38: =IFERROR(VLOOKUP(Année!H37,'2017'!$A$3:$I$368,9),"") -> 0 | I38: =IFERROR(VLOOKUP(Année!I37,'2017'!$A$3:$I$368,9),"") -> 0 | ... AF38: =IFERROR(VLOOKUP(Année!AF37,'2017'!$A$3:$I$368,9),"") | AG38: =SUM(B38:AF38) -> 0 | AH38: =COUNTIF(B38:AF38,">"&0) -> 0 | AI38: =SUM(B39:AF39) -> 0
B39: =IFERROR(VLOOKUP(Année!B37,'2017'!$A$3:$J$368,11),"") | C39: =IFERROR(VLOOKUP(Année!C37,'2017'!$A$3:$J$368,11),"") | D39: =IFERROR(VLOOKUP(Année!D37,'2017'!$A$3:$J$368,11),"") | E39: =IFERROR(VLOOKUP(Année!E37,'2017'!$A$3:$J$368,11),"") | F39: =IFERROR(VLOOKUP(Année!F37,'2017'!$A$3:$J$368,11),"") | G39: =IFERROR(VLOOKUP(Année!G37,'2017'!$A$3:$J$368,11),"") | H39: =IFERROR(VLOOKUP(Année!H37,'2017'!$A$3:$J$368,11),"") | I39: =IFERROR(VLOOKUP(Année!I37,'2017'!$A$3:$J$368,11),"") | ... AF39: =IFERROR(VLOOKUP(Année!AF37,'2017'!$A$3:$J$368,11),"")
A40: Décembre | B40: =DATE($A$5,12,1) -> 43070 | C40: =B40+1 -> 43071 | D40: =C40+1 -> 43072 | E40: =D40+1 -> 43073 | F40: =E40+1 -> 43074 | G40: =F40+1 -> 43075 | H40: =G40+1 -> 43076 | I40: =H40+1 -> 43077 | J40: =I40+1 -> 43078 | ... AF40: =AE40+1 -> 43100
...

Sheet 2017
B1: =COUNTIF(K:L,A1) -> 41
B2: Arrivée | C2: Départ | D2: Total 1 | E2: Arrivée | F2: Départ | G2: Total 2 | H2: Code | I2: Total | J2: 1.1574074e-05 | L2: Lieux | N2: Cumul | O2: Remarques | P2: 2017
A3: =DATE(2017,1,1) -> 42736 | D3: =MOD(C3-B3,1) -> 0 | G3: =MOD(F3-E3,1) -> 0 | I3: =SUM(D3+G3) -> 0 | J3: =IFERROR(VLOOKUP(L3,EMPLOI!A:P,2,0),"") | K3: =IF(WEEKDAY(A3)=6,SUM(OFFSET(A3,0,8,-6,1)),"") | L3: {=IF(OR($J$2>I3),"",IFERROR(INDEX(Tableau1[],MATCH(1,('2017'!A3>=Tableau1[[DATE DEBUT ]])*(Tableau1[DATE FIN]>='2017'!A3),0),1),""))} | P3: Jours Fériés et Fêtes
A4: =A3+1 -> 42737 | D4: =MOD(C4-B4,1) -> 0 | G4: =MOD(F4-E4,1) -> 0 | I4: =SUM(D4+G4) -> 0 | J4: =IFERROR(VLOOKUP(L4,EMPLOI!A:P,2,0),"") | K4: =IF(WEEKDAY(A4)=6,SUM(OFFSET(A4,0,8,-6,1)),"") | L4: {=IF(OR($J$2>I4),"",IFERROR(INDEX(Tableau1[],MATCH(1,('2017'!A4>=Tableau1[[DATE DEBUT ]])*(Tableau1[DATE FIN]>='2017'!A4),0),1),""))} | P4: JOUR DE L'AN | Q4: =DATE(P2,1,1) -> 42736
A5: =A4+1 -> 42738 | D5: =MOD(C5-B5,1) -> 0 | G5: =MOD(F5-E5,1) -> 0 | I5: =IFERROR(SUM(D5,G5),"") -> 0 | J5: =IFERROR(VLOOKUP(L5,EMPLOI!A:P,2,0),"") | K5: =IF(WEEKDAY(A5)=6,SUM(OFFSET(A5,0,8,-6,1)),"") | L5: {=IF(OR($J$2>I5),"",IFERROR(INDEX(Tableau1[],MATCH(1,('2017'!A5>=Tableau1[[DATE DEBUT ]])*(Tableau1[DATE FIN]>='2017'!A5),0),1),""))} | P5: PÂQUES | Q5: =FLOOR(DATE(P2,5,DAY(MINUTE(P2/38)/2+56)),7)-34+7*(P2=2079) -> 42841
A6: =A5+1 -> 42739 | D6: =MOD(C6-B6,1) -> 0 | G6: =MOD(F6-E6,1) -> 0 | I6: =SUM(D6+G6) -> 0 | J6: =IFERROR(VLOOKUP(L6,EMPLOI!A:P,2,0),"") | K6: =IF(WEEKDAY(A6)=6,SUM(OFFSET(A6,0,8,-6,1)),"") | L6: {=IF(OR($J$2>I6),"",IFERROR(INDEX(Tableau1[],MATCH(1,('2017'!A6>=Tableau1[[DATE DEBUT ]])*(Tableau1[DATE FIN]>='2017'!A6),0),1),""))} | P6: *Lundi de Pâques | Q6: =Q5+1 -> 42842
A7: =A6+1 -> 42740 | D7: =MOD(C7-B7,1) -> 0 | G7: =MOD(F7-E7,1) -> 0 | I7: =SUM(D7+G7) -> 0 | J7: =IFERROR(VLOOKUP(L7,EMPLOI!A:P,2,0),"") | K7: =IF(WEEKDAY(A7)=6,SUM(OFFSET(A7,0,8,-6,1)),"") | L7: {=IF(OR($J$2>I7),"",IFERROR(INDEX(Tableau1[],MATCH(1,('2017'!A7>=Tableau1[[DATE DEBUT ]])*(Tableau1[DATE FIN]>='2017'!A7),0),1),""))} | P7: FÊTE DU TRAVAIL | Q7: =DATE(Année!A5,5,1) -> 42856
A8: =A7+1 -> 42741 | D8: =MOD(C8-B8,1) -> 0 | G8: =MOD(F8-E8,1) -> 0 | I8: =SUM(D8+G8) -> 0 | J8: =IFERROR(VLOOKUP(L8,EMPLOI!A:P,2,0),"") | K8: =IF(WEEKDAY(A8)=6,SUM(OFFSET(A8,0,8,-6,1)),"") -> 0 | L8: {=IF(OR($J$2>I8),"",IFERROR(INDEX(Tableau1[],MATCH(1,('2017'!A8>=Tableau1[[DATE DEBUT ]])*(Tableau1[DATE FIN]>='2017'!A8),0),1),""))} | P8: ASCENSION | Q8: =Q5+39 -> 42880
A9: =A8+1 -> 42742 | D9: =MOD(C9-B9,1) -> 0 | G9: =MOD(F9-E9,1) -> 0 | I9: =SUM(D9+G9) -> 0 | J9: =IFERROR(VLOOKUP(L9,EMPLOI!A:P,2,0),"") | K9: =IF(WEEKDAY(A9)=6,SUM(OFFSET(A9,0,8,-6,1)),"") | L9: {=IF(OR($J$2>I9),"",IFERROR(INDEX(Tableau1[],MATCH(1,('2017'!A9>=Tableau1[[DATE DEBUT ]])*(Tableau1[DATE FIN]>='2017'!A9),0),1),""))} | P9: VICTOIRE 1945 | Q9: =DATE(P2,5,8) -> 42863
A10: =A9+1 -> 42743 | D10: =MOD(C10-B10,1) -> 0 | G10: =MOD(F10-E10,1) -> 0 | I10: =SUM(D10+G10) -> 0 | J10: =IFERROR(VLOOKUP(L10,EMPLOI!A:P,2,0),"") | K10: =IF(WEEKDAY(A10)=6,SUM(OFFSET(A10,0,8,-6,1)),"") | L10: {=IF(OR($J$2>I10),"",IFERROR(INDEX(Tableau1[],MATCH(1,('2017'!A10>=Tableau1[[DATE DEBUT ]])*(Tableau1[DATE FIN]>='2017'!A10),0),1),""))} | P10: PENTECÔTE | Q10: =Q5+49 -> 42890
A11: =A10+1 -> 42744 | D11: =MOD(C11-B11,1) -> 0 | G11: =MOD(F11-E11,1) -> 0 | I11: =SUM(D11+G11) -> 0 | J11: =IFERROR(VLOOKUP(L11,EMPLOI!A:P,2,0),"") | K11: =IF(WEEKDAY(A11)=6,SUM(OFFSET(A11,0,8,-6,1)),"") | L11: {=IF(OR($J$2>I11),"",IFERROR(INDEX(Tableau1[],MATCH(1,('2017'!A11>=Tableau1[[DATE DEBUT ]])*(Tableau1[DATE FIN]>='2017'!A11),0),1),""))} | P11: *Lundi de Pentecôte | Q11: =Q5+50 -> 42891
A12: =A11+1 -> 42745 | D12: =MOD(C12-B12,1) -> 0 | G12: =MOD(F12-E12,1) -> 0 | I12: =SUM(D12+G12) -> 0 | J12: =IFERROR(VLOOKUP(L12,EMPLOI!A:P,2,0),"") | K12: =IF(WEEKDAY(A12)=6,SUM(OFFSET(A12,0,8,-6,1)),"") | L12: {=IF(OR($J$2>I12),"",IFERROR(INDEX(Tableau1[],MATCH(1,('2017'!A12>=Tableau1[[DATE DEBUT ]])*(Tableau1[DATE FIN]>='2017'!A12),0),1),""))} | P12: FÊTE NAT | Q12: =DATE(P2,7,14) -> 42930
A13: =A12+1 -> 42746 | D13: =MOD(C13-B13,1) -> 0 | G13: =MOD(F13-E13,1) -> 0 | I13: =SUM(D13+G13) -> 0 | J13: =IFERROR(VLOOKUP(L13,EMPLOI!A:P,2,0),"") | K13: =IF(WEEKDAY(A13)=6,SUM(OFFSET(A13,0,8,-6,1)),"") | L13: {=IF(OR($J$2>I13),"",IFERROR(INDEX(Tableau1[],MATCH(1,('2017'!A13>=Tableau1[[DATE DEBUT ]])*(Tableau1[DATE FIN]>='2017'!A13),0),1),""))} | P13: ASSOMPTION | Q13: =DATE(P2,8,15) -> 42962
A14: =A13+1 -> 42747 | D14: =MOD(C14-B14,1) -> 0 | G14: =MOD(F14-E14,1) -> 0 | I14: =SUM(D14+G14) -> 0 | J14: =IFERROR(VLOOKUP(L14,EMPLOI!A:P,2,0),"") | K14: =IF(WEEKDAY(A14)=6,SUM(OFFSET(A14,0,8,-6,1)),"") | L14: {=IF(OR($J$2>I14),"",IFERROR(INDEX(Tableau1[],MATCH(1,('2017'!A14>=Tableau1[[DATE DEBUT ]])*(Tableau1[DATE FIN]>='2017'!A14),0),1),""))} | P14: TOUSSAINT | Q14: =DATE(P2,11,1) -> 43040
A15: =A14+1 -> 42748 | D15: =MOD(C15-B15,1) -> 0 | G15: =MOD(F15-E15,1) -> 0 | I15: =SUM(D15+G15) -> 0 | J15: =IFERROR(VLOOKUP(L15,EMPLOI!A:P,2,0),"") | K15: =IF(WEEKDAY(A15)=6,SUM(OFFSET(A15,0,8,-6,1)),"") -> 0 | L15: {=IF(OR($J$2>I15),"",IFERROR(INDEX(Tableau1[],MATCH(1,('2017'!A15>=Tableau1[[DATE DEBUT ]])*(Tableau1[DATE FIN]>='2017'!A15),0),1),""))} | P15: ARMISTICE 1918 | Q15: =DATE(P2,11,11) -> 43050
A16: =A15+1 -> 42749 | D16: =MOD(C16-B16,1) -> 0 | G16: =MOD(F16-E16,1) -> 0 | I16: =SUM(D16+G16) -> 0 | J16: =IFERROR(VLOOKUP(L16,EMPLOI!A:P,2,0),"") | K16: =IF(WEEKDAY(A16)=6,SUM(OFFSET(A16,0,8,-6,1)),"") | L16: {=IF(OR($J$2>I16),"",IFERROR(INDEX(Tableau1[],MATCH(1,('2017'!A16>=Tableau1[[DATE DEBUT ]])*(Tableau1[DATE FIN]>='2017'!A16),0),1),""))} | P16: NOËL | Q16: =DATE(P2,12,25) -> 43094
A17: =A16+1 -> 42750 | D17: =MOD(C17-B17,1) -> 0 | G17: =MOD(F17-E17,1) -> 0 | I17: =SUM(D17+G17) -> 0 | J17: =IFERROR(VLOOKUP(L17,EMPLOI!A:P,2,0),"") | K17: =IF(WEEKDAY(A17)=6,SUM(OFFSET(A17,0,8,-6,1)),"") | L17: {=IF(OR($J$2>I17),"",IFERROR(INDEX(Tableau1[],MATCH(1,('2017'!A17>=Tableau1[[DATE DEBUT ]])*(Tableau1[DATE FIN]>='2017'!A17),0),1),""))}
A18: =A17+1 -> 42751 | D18: =MOD(C18-B18,1) -> 0 | G18: =MOD(F18-E18,1) -> 0 | I18: =SUM(D18+G18) -> 0 | J18: =IFERROR(VLOOKUP(L18,EMPLOI!A:P,2,0),"") | K18: =IF(WEEKDAY(A18)=6,SUM(OFFSET(A18,0,8,-6,1)),"") | L18: {=IF(OR($J$2>I18),"",IFERROR(INDEX(Tableau1[],MATCH(1,('2017'!A18>=Tableau1[[DATE DEBUT ]])*(Tableau1[DATE FIN]>='2017'!A18),0),1),""))} | P18: Mardi-Gras | Q18: =Q5-47 -> 42794
A19: =A18+1 -> 42752 | D19: =MOD(C19-B19,1) -> 0 | G19: =MOD(F19-E19,1) -> 0 | I19: =SUM(D19+G19) -> 0 | J19: =IFERROR(VLOOKUP(L19,EMPLOI!A:P,2,0),"") | K19: =IF(WEEKDAY(A19)=6,SUM(OFFSET(A19,0,8,-6,1)),"") | L19: {=IF(OR($J$2>I19),"",IFERROR(INDEX(Tableau1[],MATCH(1,('2017'!A19>=Tableau1[[DATE DEBUT ]])*(Tableau1[DATE FIN]>='2017'!A19),0),1),""))} | P19: Cendres | Q19: =Q5-46 -> 42795
A20: =A19+1 -> 42753 | D20: =MOD(C20-B20,1) -> 0 | G20: =MOD(F20-E20,1) -> 0 | I20: =SUM(D20+G20) -> 0 | J20: =IFERROR(VLOOKUP(L20,EMPLOI!A:P,2,0),"") | K20: =IF(WEEKDAY(A20)=6,SUM(OFFSET(A20,0,8,-6,1)),"") | L20: {=IF(OR($J$2>I20),"",IFERROR(INDEX(Tableau1[],MATCH(1,('2017'!A20>=Tableau1[[DATE DEBUT ]])*(Tableau1[DATE FIN]>='2017'!A20),0),1),""))} | P20: Rameaux | Q20: =Q5-7 -> 42834
A21: =A20+1 -> 42754 | D21: =MOD(C21-B21,1) -> 0 | G21: =MOD(F21-E21,1) -> 0 | I21: =SUM(D21+G21) -> 0 | J21: =IFERROR(VLOOKUP(L21,EMPLOI!A:P,2,0),"") | K21: =IF(WEEKDAY(A21)=6,SUM(OFFSET(A21,0,8,-6,1)),"") | L21: {=IF(OR($J$2>I21),"",IFERROR(INDEX(Tableau1[],MATCH(1,('2017'!A21>=Tableau1[[DATE DEBUT ]])*(Tableau1[DATE FIN]>='2017'!A21),0),1),""))}
A22: =A21+1 -> 42755 | D22: =MOD(C22-B22,1) -> 0 | G22: =MOD(F22-E22,1) -> 0 | I22: =SUM(D22+G22) -> 0 | J22: =IFERROR(VLOOKUP(L22,EMPLOI!A:P,2,0),"") | K22: =IF(WEEKDAY(A22)=6,SUM(OFFSET(A22,0,8,-6,1)),"") -> 0 | L22: {=IF(OR($J$2>I22),"",IFERROR(INDEX(Tableau1[],MATCH(1,('2017'!A22>=Tableau1[[DATE DEBUT ]])*(Tableau1[DATE FIN]>='2017'!A22),0),1),""))} | P22: Epiphanie | Q22: =DATE(P2,1,1)+7-WEEKDAY(DATE(P2,1,1),2) -> 42736
A23: =A22+1 -> 42756 | D23: =MOD(C23-B23,1) -> 0 | G23: =MOD(F23-E23,1) -> 0 | I23: =SUM(D23+G23) -> 0 | J23: =IFERROR(VLOOKUP(L23,EMPLOI!A:P,2,0),"") | K23: =IF(WEEKDAY(A23)=6,SUM(OFFSET(A23,0,8,-6,1)),"") | L23: {=IF(OR($J$2>I23),"",IFERROR(INDEX(Tableau1[],MATCH(1,('2017'!A23>=Tableau1[[DATE DEBUT ]])*(Tableau1[DATE FIN]>='2017'!A23),0),1),""))}
A24: =A23+1 -> 42757 | D24: =MOD(C24-B24,1) -> 0 | G24: =MOD(F24-E24,1) -> 0 | I24: =SUM(D24+G24) -> 0 | J24: =IFERROR(VLOOKUP(L24,EMPLOI!A:P,2,0),"") | K24: =IF(WEEKDAY(A24)=6,SUM(OFFSET(A24,0,8,-6,1)),"") | L24: {=IF(OR($J$2>I24),"",IFERROR(INDEX(Tableau1[],MATCH(1,('2017'!A24>=Tableau1[[DATE DEBUT ]])*(Tableau1[DATE FIN]>='2017'!A24),0),1),""))} | P24: Fête Dieu | Q24: =Q5+63 -> 42904
A25: =A24+1 -> 42758 | D25: =MOD(C25-B25,1) -> 0 | G25: =MOD(F25-E25,1) -> 0 | I25: =SUM(D25+G25) -> 0 | J25: =IFERROR(VLOOKUP(L25,EMPLOI!A:P,2,0),"") | K25: =IF(WEEKDAY(A25)=6,SUM(OFFSET(A25,0,8,-6,1)),"") | L25: {=IF(OR($J$2>I25),"",IFERROR(INDEX(Tableau1[],MATCH(1,('2017'!A25>=Tableau1[[DATE DEBUT ]])*(Tableau1[DATE FIN]>='2017'!A25),0),1),""))}
A26: =A25+1 -> 42759 | D26: =MOD(C26-B26,1) -> 0 | G26: =MOD(F26-E26,1) -> 0 | I26: =SUM(D26+G26) -> 0 | J26: =IFERROR(VLOOKUP(L26,EMPLOI!A:P,2,0),"") | K26: =IF(WEEKDAY(A26)=6,SUM(OFFSET(A26,0,8,-6,1)),"") | L26: {=IF(OR($J$2>I26),"",IFERROR(INDEX(Tableau1[],MATCH(1,('2017'!A26>=Tableau1[[DATE DEBUT ]])*(Tableau1[DATE FIN]>='2017'!A26),0),1),""))}
A27: =A26+1 -> 42760 | D27: =MOD(C27-B27,1) -> 0 | G27: =MOD(F27-E27,1) -> 0 | I27: =SUM(D27+G27) -> 0 | J27: =IFERROR(VLOOKUP(L27,EMPLOI!A:P,2,0),"") | K27: =IF(WEEKDAY(A27)=6,SUM(OFFSET(A27,0,8,-6,1)),"") | L27: {=IF(OR($J$2>I27),"",IFERROR(INDEX(Tableau1[],MATCH(1,('2017'!A27>=Tableau1[[DATE DEBUT ]])*(Tableau1[DATE FIN]>='2017'!A27),0),1),""))}
A28: =A27+1 -> 42761 | D28: =MOD(C28-B28,1) -> 0 | G28: =MOD(F28-E28,1) -> 0 | I28: =SUM(D28+G28) -> 0 | J28: =IFERROR(VLOOKUP(L28,EMPLOI!A:P,2,0),"") | K28: =IF(WEEKDAY(A28)=6,SUM(OFFSET(A28,0,8,-6,1)),"") | L28: {=IF(OR($J$2>I28),"",IFERROR(INDEX(Tableau1[],MATCH(1,('2017'!A28>=Tableau1[[DATE DEBUT ]])*(Tableau1[DATE FIN]>='2017'!A28),0),1),""))}
A29: =A28+1 -> 42762 | D29: =MOD(C29-B29,1) -> 0 | G29: =MOD(F29-E29,1) -> 0 | I29: =SUM(D29+G29) -> 0 | J29: =IFERROR(VLOOKUP(L29,EMPLOI!A:P,2,0),"") | K29: =IF(WEEKDAY(A29)=6,SUM(OFFSET(A29,0,8,-6,1)),"") -> 0 | L29: {=IF(OR($J$2>I29),"",IFERROR(INDEX(Tableau1[],MATCH(1,('2017'!A29>=Tableau1[[DATE DEBUT ]])*(Tableau1[DATE FIN]>='2017'!A29),0),1),""))}
A30: =A29+1 -> 42763 | D30: =MOD(C30-B30,1) -> 0 | G30: =MOD(F30-E30,1) -> 0 | I30: =SUM(D30+G30) -> 0 | J30: =IFERROR(VLOOKUP(L30,EMPLOI!A:P,2,0),"") | K30: =IF(WEEKDAY(A30)=6,SUM(OFFSET(A30,0,8,-6,1)),"") | L30: {=IF(OR($J$2>I30),"",IFERROR(INDEX(Tableau1[],MATCH(1,('2017'!A30>=Tableau1[[DATE DEBUT ]])*(Tableau1[DATE FIN]>='2017'!A30),0),1),""))}
A31: =A30+1 -> 42764 | D31: =MOD(C31-B31,1) -> 0 | G31: =MOD(F31-E31,1) -> 0 | I31: =SUM(D31+G31) -> 0 | J31: =IFERROR(VLOOKUP(L31,EMPLOI!A:P,2,0),"") | K31: =IF(WEEKDAY(A31)=6,SUM(OFFSET(A31,0,8,-6,1)),"") | L31: {=IF(OR($J$2>I31),"",IFERROR(INDEX(Tableau1[],MATCH(1,('2017'!A31>=Tableau1[[DATE DEBUT ]])*(Tableau1[DATE FIN]>='2017'!A31),0),1),""))}
A32: =A31+1 -> 42765 | D32: =MOD(C32-B32,1) -> 0 | G32: =MOD(F32-E32,1) -> 0 | I32: =SUM(D32+G32) -> 0 | J32: =IFERROR(VLOOKUP(L32,EMPLOI!A:P,2,0),"") | K32: =IF(WEEKDAY(A32)=6,SUM(OFFSET(A32,0,8,-6,1)),"") | L32: {=IF(OR($J$2>I32),"",IFERROR(INDEX(Tableau1[],MATCH(1,('2017'!A32>=Tableau1[[DATE DEBUT ]])*(Tableau1[DATE FIN]>='2017'!A32),0),1),""))}
A33: =A32+1 -> 42766 | D33: =MOD(C33-B33,1) -> 0 | G33: =MOD(F33-E33,1) -> 0 | I33: =SUM(D33+G33) -> 0 | J33: =IFERROR(VLOOKUP(L33,EMPLOI!A:P,2,0),"") | K33: =IF(WEEKDAY(A33)=6,SUM(OFFSET(A33,0,8,-6,1)),"") | L33: {=IF(OR($J$2>I33),"",IFERROR(INDEX(Tableau1[],MATCH(1,('2017'!A33>=Tableau1[[DATE DEBUT ]])*(Tableau1[DATE FIN]>='2017'!A33),0),1),""))}
A34: =A33+1 -> 42767 | D34: =MOD(C34-B34,1) -> 0 | G34: =MOD(F34-E34,1) -> 0 | I34: =SUM(D34+G34) -> 0 | J34: =IFERROR(VLOOKUP(L34,EMPLOI!A:P,2,0),"") | K34: =IF(WEEKDAY(A34)=6,SUM(OFFSET(A34,0,8,-6,1)),"") | L34: {=IF(OR($J$2>I34),"",IFERROR(INDEX(Tableau1[],MATCH(1,('2017'!A34>=Tableau1[[DATE DEBUT ]])*(Tableau1[DATE FIN]>='2017'!A34),0),1),""))}
A35: =A34+1 -> 42768 | D35: =MOD(C35-B35,1) -> 0 | G35: =MOD(F35-E35,1) -> 0 | I35: =SUM(D35+G35) -> 0 | J35: =IFERROR(VLOOKUP(L35,EMPLOI!A:P,2,0),"") | K35: =IF(WEEKDAY(A35)=6,SUM(OFFSET(A35,0,8,-6,1)),"") | L35: {=IF(OR($J$2>I35),"",IFERROR(INDEX(Tableau1[],MATCH(1,('2017'!A35>=Tableau1[[DATE DEBUT ]])*(Tableau1[DATE FIN]>='2017'!A35),0),1),""))}
A36: =A35+1 -> 42769 | D36: =MOD(C36-B36,1) -> 0 | G36: =MOD(F36-E36,1) -> 0 | I36: =SUM(D36+G36) -> 0 | J36: =IFERROR(VLOOKUP(L36,EMPLOI!A:P,2,0),"") | K36: =IF(WEEKDAY(A36)=6,SUM(OFFSET(A36,0,8,-6,1)),"") -> 0 | L36: {=IF(OR($J$2>I36),"",IFERROR(INDEX(Tableau1[],MATCH(1,('2017'!A36>=Tableau1[[DATE DEBUT ]])*(Tableau1[DATE FIN]>='2017'!A36),0),1),""))}
... A95: =A94+1 -> 42828 | D95: =MOD(C95-B95,1) -> 0 | G95: =MOD(F95-E95,1) -> 0 | I95: =SUM(D95+G95) -> 0 | J95: =IFERROR(VLOOKUP(L95,EMPLOI!A:P,2,0),"") | K95: =IF(WEEKDAY(A95)=6,SUM(OFFSET(A95,0,8,-6,1)),"") | L95: {=IF(OR($J$2>I95),"",IFERROR(INDEX(Tableau1[],MATCH(1,('2017'!A95>=Tableau1[[DATE DEBUT ]])*(Tableau1[DATE FIN]>='2017'!A95),0),1),""))}
A96: =A95+1 -> 42829 | B96: 0.33333333 | C96: 0.48958333 | D96: =MOD(C96-B96,1) -> 0.15625 | E96: 0.53125 | F96: 0.66666667 | G96: =MOD(F96-E96,1) -> 0.13541667 | I96: =SUM(D96+G96) -> 0.29166667 | J96: =IFERROR(VLOOKUP(L96,EMPLOI!A:P,2,0),"") -> 70.6 | K96: =IF(WEEKDAY(A96)=6,SUM(OFFSET(A96,0,8,-6,1)),"") | L96: {=IF(OR($J$2>I96),"",IFERROR(INDEX(Tableau1[],MATCH(1,('2017'!A96>=Tableau1[[DATE DEBUT ]])*(Tableau1[DATE FIN]>='2017'!A96),0),1),""))} -> 1
A97: =A96+1 -> 42830 | B97: 0.33333333 | C97: 0.48958333 | D97: =MOD(C97-B97,1) -> 0.15625 | E97: 0.53125 | F97: 0.66666667 | G97: =MOD(F97-E97,1) -> 0.13541667 | I97: =SUM(D97+G97) -> 0.29166667 | J97: =IFERROR(VLOOKUP(L97,EMPLOI!A:P,2,0),"") -> 70.6 | K97: =IF(WEEKDAY(A97)=6,SUM(OFFSET(A97,0,8,-6,1)),"") | L97: {=IF(OR($J$2>I97),"",IFERROR(INDEX(Tableau1[],MATCH(1,('2017'!A97>=Tableau1[[DATE DEBUT ]])*(Tableau1[DATE FIN]>='2017'!A97),0),1),""))} -> 1
A98: =A97+1 -> 42831 | B98: 0.33333333 | C98: 0.48958333 | D98: =MOD(C98-B98,1) -> 0.15625 | E98: 0.53125 | F98: 0.66666667 | G98: =MOD(F98-E98,1) -> 0.13541667 | I98: =SUM(D98+G98) -> 0.29166667 | J98: =IFERROR(VLOOKUP(L98,EMPLOI!A:P,2,0),"") -> 70.6 | K98: =IF(WEEKDAY(A98)=6,SUM(OFFSET(A98,0,8,-6,1)),"") | L98: {=IF(OR($J$2>I98),"",IFERROR(INDEX(Tableau1[],MATCH(1,('2017'!A98>=Tableau1[[DATE DEBUT ]])*(Tableau1[DATE FIN]>='2017'!A98),0),1),""))} -> 1
...

Sheet 2018
B1: =COUNTIF(K:M,A1) -> 41 | K1: =IFERROR(VLOOKUP(A1,EMPLOI!A:Q,5),"")
B2: Arrivée | C2: Départ | D2: Total 1 | E2: Arrivée | F2: Départ | G2: Total 2 | H2: Code | I2: Total | J2: 1.1574074e-05 | K2: Km | M2: Lieux | O2: Cumul | P2: Remarques | Q2: 2018
A3: =DATE(2018,1,1) -> 43101 | B3: 0.33333333 | C3: 0.66666667 | D3: =MOD(C3-B3,1) -> 0.33333333 | G3: =MOD(F3-E3,1) -> 0 | I3: =SUM(D3+G3) -> 0.33333333 | J3: =IFERROR(VLOOKUP(M3,EMPLOI!A:P,2,0),"") -> 999 | K3: =IF(I3>=$J$2,J3,"") -> 999 | L3: =IF(WEEKDAY(A3)=6,SUM(OFFSET(A3,0,8,-6,1)),"") | M3: {=IF(OR(WEEKDAY($A3,2)=7,WEEKDAY($A3,2)=6,A3=Férié,$J$2>I3),"",IFERROR(INDEX(Tableau1[],MATCH(1,('2018'!A3>=Tableau1[[DATE DEBUT ]])*(Tableau1[DATE FIN]>='2018'!A3),0),1),""))} -> test | Q3: Jours Fériés et Fêtes
A4: =A3+1 -> 43102 | B4: 0.33333333 | C4: 0.66666667 | D4: =MOD(C4-B4,1) -> 0.33333333 | G4: =MOD(F4-E4,1) -> 0 | I4: =SUM(D4+G4) -> 0.33333333 | J4: =IFERROR(VLOOKUP(M4,EMPLOI!A:P,2,0),"") -> 999 | K4: =IF(I4>=$J$2,J4,"") -> 999 | L4: =IF(WEEKDAY(A4)=6,SUM(OFFSET(A4,0,8,-6,1)),"") | M4: {=IF(OR(WEEKDAY($A4,2)=7,WEEKDAY($A4,2)=6,A4=Férié,$J$2>I4),"",IFERROR(INDEX(Tableau1[],MATCH(1,('2018'!A4>=Tableau1[[DATE DEBUT ]])*(Tableau1[DATE FIN]>='2018'!A4),0),1),""))} -> test | Q4: JOUR DE L'AN | R4: =DATE(Q2,1,1) -> 43101
A5: =A4+1 -> 43103 | D5: =MOD(C5-B5,1) -> 0 | G5: =MOD(F5-E5,1) -> 0 | I5: =IFERROR(SUM(D5,G5),"") -> 0 | J5: =IFERROR(VLOOKUP(M5,EMPLOI!A:P,2,0),"") | K5: =IF(I5>=$J$2,J5,"") | L5: =IF(WEEKDAY(A5)=6,SUM(OFFSET(A5,0,8,-6,1)),"") | M5: =IF(OR(WEEKDAY($A5,2)=7,WEEKDAY($A5,2)=6,A5=Férié,$J$2>I5),"",IFERROR(INDEX(Tableau1[],MATCH(1,('2018'!A5>=Tableau1[[DATE DEBUT ]])*(Tableau1[DATE FIN]>='2018'!A5),0),1),"")) | Q5: PÂQUES | R5: =FLOOR(DATE(Q2,5,DAY(MINUTE(Q2/38)/2+56)),7)-34+7*(Q2=2079) -> 43191
A6: =A5+1 -> 43104 | D6: =MOD(C6-B6,1) -> 0 | G6: =MOD(F6-E6,1) -> 0 | I6: =SUM(D6+G6) -> 0 | J6: =IFERROR(VLOOKUP(M6,EMPLOI!A:P,2,0),"") | K6: =IF(I6>=$J$2,J6,"") | L6: =IF(WEEKDAY(A6)=6,SUM(OFFSET(A6,0,8,-6,1)),"") | M6: =IF(OR(WEEKDAY($A6,2)=7,WEEKDAY($A6,2)=6,A6=Férié,$J$2>I6),"",IFERROR(INDEX(Tableau1[],MATCH(1,('2018'!A6>=Tableau1[[DATE DEBUT ]])*(Tableau1[DATE FIN]>='2018'!A6),0),1),"")) | Q6: *Lundi de Pâques | R6: =R5+1 -> 43192
A7: =A6+1 -> 43105 | D7: =MOD(C7-B7,1) -> 0 | G7: =MOD(F7-E7,1) -> 0 | I7: =SUM(D7+G7) -> 0 | J7: =IFERROR(VLOOKUP(M7,EMPLOI!A:P,2,0),"") | K7: =IF(I7>=$J$2,J7,"") | L7: =IF(WEEKDAY(A7)=6,SUM(OFFSET(A7,0,8,-6,1)),"") -> 0.66666667 | M7: =IF(OR(WEEKDAY($A7,2)=7,WEEKDAY($A7,2)=6,A7=Férié,$J$2>I7),"",IFERROR(INDEX(Tableau1[],MATCH(1,('2018'!A7>=Tableau1[[DATE DEBUT ]])*(Tableau1[DATE FIN]>='2018'!A7),0),1),"")) | Q7: FÊTE DU TRAVAIL | R7: =DATE(Année!A5,5,1) -> 42856
A8: =A7+1 -> 43106 | D8: =MOD(C8-B8,1) -> 0 | G8: =MOD(F8-E8,1) -> 0 | I8: =SUM(D8+G8) -> 0 | J8: =IFERROR(VLOOKUP(M8,EMPLOI!A:P,2,0),"") | K8: =IF(I8>=$J$2,J8,"") | L8: =IF(WEEKDAY(A8)=6,SUM(OFFSET(A8,0,8,-6,1)),"") | M8: =IF(OR(WEEKDAY($A8,2)=7,WEEKDAY($A8,2)=6,A8=Férié,$J$2>I8),"",IFERROR(INDEX(Tableau1[],MATCH(1,('2018'!A8>=Tableau1[[DATE DEBUT ]])*(Tableau1[DATE FIN]>='2018'!A8),0),1),"")) | Q8: ASCENSION | R8: =R5+39 -> 43230
A9: =A8+1 -> 43107 | D9: =MOD(C9-B9,1) -> 0 | G9: =MOD(F9-E9,1) -> 0 | I9: =SUM(D9+G9) -> 0 | J9: =IFERROR(VLOOKUP(M9,EMPLOI!A:P,2,0),"") | K9: =IF(I9>=$J$2,J9,"") | L9: =IF(WEEKDAY(A9)=6,SUM(OFFSET(A9,0,8,-6,1)),"") | M9: =IF(OR(WEEKDAY($A9,2)=7,WEEKDAY($A9,2)=6,A9=Férié,$J$2>I9),"",IFERROR(INDEX(Tableau1[],MATCH(1,('2018'!A9>=Tableau1[[DATE DEBUT ]])*(Tableau1[DATE FIN]>='2018'!A9),0),1),"")) | Q9: VICTOIRE 1945 | R9: =DATE(Q2,5,8) -> 43228
A10: =A9+1 -> 43108 | D10: =MOD(C10-B10,1) -> 0 | G10: =MOD(F10-E10,1) -> 0 | I10: =SUM(D10+G10) -> 0 | J10: =IFERROR(VLOOKUP(M10,EMPLOI!A:P,2,0),"") | K10: =IF(I10>=$J$2,J10,"") | L10: =IF(WEEKDAY(A10)=6,SUM(OFFSET(A10,0,8,-6,1)),"") | M10: =IF(OR(WEEKDAY($A10,2)=7,WEEKDAY($A10,2)=6,A10=Férié,$J$2>I10),"",IFERROR(INDEX(Tableau1[],MATCH(1,('2018'!A10>=Tableau1[[DATE DEBUT ]])*(Tableau1[DATE FIN]>='2018'!A10),0),1),"")) | Q10: PENTECÔTE | R10: =R5+49 -> 43240
A11: =A10+1 -> 43109 | D11: =MOD(C11-B11,1) -> 0 | G11: =MOD(F11-E11,1) -> 0 | I11: =SUM(D11+G11) -> 0 | J11: =IFERROR(VLOOKUP(M11,EMPLOI!A:P,2,0),"") | K11: =IF(I11>=$J$2,J11,"") | L11: =IF(WEEKDAY(A11)=6,SUM(OFFSET(A11,0,8,-6,1)),"") | M11: =IF(OR(WEEKDAY($A11,2)=7,WEEKDAY($A11,2)=6,A11=Férié,$J$2>I11),"",IFERROR(INDEX(Tableau1[],MATCH(1,('2018'!A11>=Tableau1[[DATE DEBUT ]])*(Tableau1[DATE FIN]>='2018'!A11),0),1),"")) | Q11: *Lundi de Pentecôte | R11: =R5+50 -> 43241
A12: =A11+1 -> 43110 | D12: =MOD(C12-B12,1) -> 0 | G12: =MOD(F12-E12,1) -> 0 | I12: =SUM(D12+G12) -> 0 | J12: =IFERROR(VLOOKUP(M12,EMPLOI!A:P,2,0),"") | K12: =IF(I12>=$J$2,J12,"") | L12: =IF(WEEKDAY(A12)=6,SUM(OFFSET(A12,0,8,-6,1)),"") | M12: =IF(OR(WEEKDAY($A12,2)=7,WEEKDAY($A12,2)=6,A12=Férié,$J$2>I12),"",IFERROR(INDEX(Tableau1[],MATCH(1,('2018'!A12>=Tableau1[[DATE DEBUT ]])*(Tableau1[DATE FIN]>='2018'!A12),0),1),"")) | Q12: FÊTE NAT | R12: =DATE(Q2,7,14) -> 43295
A13: =A12+1 -> 43111 | D13: =MOD(C13-B13,1) -> 0 | G13: =MOD(F13-E13,1) -> 0 | I13: =SUM(D13+G13) -> 0 | J13: =IFERROR(VLOOKUP(M13,EMPLOI!A:P,2,0),"") | K13: =IF(I13>=$J$2,J13,"") | L13: =IF(WEEKDAY(A13)=6,SUM(OFFSET(A13,0,8,-6,1)),"") | M13: =IF(OR(WEEKDAY($A13,2)=7,WEEKDAY($A13,2)=6,A13=Férié,$J$2>I13),"",IFERROR(INDEX(Tableau1[],MATCH(1,('2018'!A13>=Tableau1[[DATE DEBUT ]])*(Tableau1[DATE FIN]>='2018'!A13),0),1),"")) | Q13: ASSOMPTION | R13: =DATE(Q2,8,15) -> 43327
A14: =A13+1 -> 43112 | D14: =MOD(C14-B14,1) -> 0 | G14: =MOD(F14-E14,1) -> 0 | I14: =SUM(D14+G14) -> 0 | J14: =IFERROR(VLOOKUP(M14,EMPLOI!A:P,2,0),"") | K14: =IF(I14>=$J$2,J14,"") | L14: =IF(WEEKDAY(A14)=6,SUM(OFFSET(A14,0,8,-6,1)),"") -> 0 | M14: =IF(OR(WEEKDAY($A14,2)=7,WEEKDAY($A14,2)=6,A14=Férié,$J$2>I14),"",IFERROR(INDEX(Tableau1[],MATCH(1,('2018'!A14>=Tableau1[[DATE DEBUT ]])*(Tableau1[DATE FIN]>='2018'!A14),0),1),"")) | Q14: TOUSSAINT | R14: =DATE(Q2,11,1) -> 43405
A15: =A14+1 -> 43113 | D15: =MOD(C15-B15,1) -> 0 | G15: =MOD(F15-E15,1) -> 0 | I15: =SUM(D15+G15) -> 0 | J15: =IFERROR(VLOOKUP(M15,EMPLOI!A:P,2,0),"") | K15: =IF(I15>=$J$2,J15,"") | L15: =IF(WEEKDAY(A15)=6,SUM(OFFSET(A15,0,8,-6,1)),"") | M15: {=IF(OR(WEEKDAY($A15,2)=7,WEEKDAY($A15,2)=6,A15=Férié,$J$2>I15),"",IFERROR(INDEX(Tableau1[],MATCH(1,('2017'!A15>=Tableau1[[DATE DEBUT ]])*(Tableau1[DATE FIN]>='2017'!A15),0),1),""))} | Q15: ARMISTICE 1918 | R15: =DATE(Q2,11,11) -> 43415
A16: =A15+1 -> 43114 | D16: =MOD(C16-B16,1) -> 0 | G16: =MOD(F16-E16,1) -> 0 | I16: =SUM(D16+G16) -> 0 | J16: =IFERROR(VLOOKUP(M16,EMPLOI!A:P,2,0),"") | K16: =IF(I16>=$J$2,J16,"") | L16: =IF(WEEKDAY(A16)=6,SUM(OFFSET(A16,0,8,-6,1)),"") | M16: {=IF(OR(WEEKDAY($A16,2)=7,WEEKDAY($A16,2)=6,A16=Férié,$J$2>I16),"",IFERROR(INDEX(Tableau1[],MATCH(1,('2017'!A16>=Tableau1[[DATE DEBUT ]])*(Tableau1[DATE FIN]>='2017'!A16),0),1),""))} | Q16: NOËL | R16: =DATE(Q2,12,25) -> 43459
A17: =A16+1 -> 43115 | D17: =MOD(C17-B17,1) -> 0 | G17: =MOD(F17-E17,1) -> 0 | I17: =SUM(D17+G17) -> 0 | J17: =IFERROR(VLOOKUP(M17,EMPLOI!A:P,2,0),"") | K17: =IF(I17>=$J$2,J17,"") | L17: =IF(WEEKDAY(A17)=6,SUM(OFFSET(A17,0,8,-6,1)),"") | M17: {=IF(OR(WEEKDAY($A17,2)=7,WEEKDAY($A17,2)=6,A17=Férié,$J$2>I17),"",IFERROR(INDEX(Tableau1[],MATCH(1,('2017'!A17>=Tableau1[[DATE DEBUT ]])*(Tableau1[DATE FIN]>='2017'!A17),0),1),""))}
A18: =A17+1 -> 43116 | D18: =MOD(C18-B18,1) -> 0 | G18: =MOD(F18-E18,1) -> 0 | I18: =SUM(D18+G18) -> 0 | J18: =IFERROR(VLOOKUP(M18,EMPLOI!A:P,2,0),"") | K18: =IF(I18>=$J$2,J18,"") | L18: =IF(WEEKDAY(A18)=6,SUM(OFFSET(A18,0,8,-6,1)),"") | M18: {=IF(OR(WEEKDAY($A18,2)=7,WEEKDAY($A18,2)=6,A18=Férié,$J$2>I18),"",IFERROR(INDEX(Tableau1[],MATCH(1,('2017'!A18>=Tableau1[[DATE DEBUT ]])*(Tableau1[DATE FIN]>='2017'!A18),0),1),""))} | Q18: Mardi-Gras | R18: =R5-47 -> 43144
A19: =A18+1 -> 43117 | D19: =MOD(C19-B19,1) -> 0 | G19: =MOD(F19-E19,1) -> 0 | I19: =SUM(D19+G19) -> 0 | J19: =IFERROR(VLOOKUP(M19,EMPLOI!A:P,2,0),"") | K19: =IF(I19>=$J$2,J19,"") | L19: =IF(WEEKDAY(A19)=6,SUM(OFFSET(A19,0,8,-6,1)),"") | M19: {=IF(OR(WEEKDAY($A19,2)=7,WEEKDAY($A19,2)=6,A19=Férié,$J$2>I19),"",IFERROR(INDEX(Tableau1[],MATCH(1,('2017'!A19>=Tableau1[[DATE DEBUT ]])*(Tableau1[DATE FIN]>='2017'!A19),0),1),""))} | Q19: Cendres | R19: =R5-46 -> 43145
A20: =A19+1 -> 43118 | D20: =MOD(C20-B20,1) -> 0 | G20: =MOD(F20-E20,1) -> 0 | I20: =SUM(D20+G20) -> 0 | J20: =IFERROR(VLOOKUP(M20,EMPLOI!A:P,2,0),"") | K20: =IF(I20>=$J$2,J20,"") | L20: =IF(WEEKDAY(A20)=6,SUM(OFFSET(A20,0,8,-6,1)),"") | M20: {=IF(OR(WEEKDAY($A20,2)=7,WEEKDAY($A20,2)=6,A20=Férié,$J$2>I20),"",IFERROR(INDEX(Tableau1[],MATCH(1,('2017'!A20>=Tableau1[[DATE DEBUT ]])*(Tableau1[DATE FIN]>='2017'!A20),0),1),""))} | Q20: Rameaux | R20: =R5-7 -> 43184
A21: =A20+1 -> 43119 | D21: =MOD(C21-B21,1) -> 0 | G21: =MOD(F21-E21,1) -> 0 | I21: =SUM(D21+G21) -> 0 | J21: =IFERROR(VLOOKUP(M21,EMPLOI!A:P,2,0),"") | K21: =IF(I21>=$J$2,J21,"") | L21: =IF(WEEKDAY(A21)=6,SUM(OFFSET(A21,0,8,-6,1)),"") -> 0 | M21: {=IF(OR(WEEKDAY($A21,2)=7,WEEKDAY($A21,2)=6,A21=Férié,$J$2>I21),"",IFERROR(INDEX(Tableau1[],MATCH(1,('2017'!A21>=Tableau1[[DATE DEBUT ]])*(Tableau1[DATE FIN]>='2017'!A21),0),1),""))}
A22: =A21+1 -> 43120 | D22: =MOD(C22-B22,1) -> 0 | G22: =MOD(F22-E22,1) -> 0 | I22: =SUM(D22+G22) -> 0 | J22: =IFERROR(VLOOKUP(M22,EMPLOI!A:P,2,0),"") | K22: =IF(I22>=$J$2,J22,"") | L22: =IF(WEEKDAY(A22)=6,SUM(OFFSET(A22,0,8,-6,1)),"") | M22: {=IF(OR(WEEKDAY($A22,2)=7,WEEKDAY($A22,2)=6,A22=Férié,$J$2>I22),"",IFERROR(INDEX(Tableau1[],MATCH(1,('2017'!A22>=Tableau1[[DATE DEBUT ]])*(Tableau1[DATE FIN]>='2017'!A22),0),1),""))} | Q22: Epiphanie | R22: =DATE(Q2,1,1)+7-WEEKDAY(DATE(Q2,1,1),2) -> 43107
A23: =A22+1 -> 43121 | D23: =MOD(C23-B23,1) -> 0 | G23: =MOD(F23-E23,1) -> 0 | I23: =SUM(D23+G23) -> 0 | J23: =IFERROR(VLOOKUP(M23,EMPLOI!A:P,2,0),"") | K23: =IF(I23>=$J$2,J23,"") | L23: =IF(WEEKDAY(A23)=6,SUM(OFFSET(A23,0,8,-6,1)),"") | M23: {=IF(OR(WEEKDAY($A23,2)=7,WEEKDAY($A23,2)=6,A23=Férié,$J$2>I23),"",IFERROR(INDEX(Tableau1[],MATCH(1,('2017'!A23>=Tableau1[[DATE DEBUT ]])*(Tableau1[DATE FIN]>='2017'!A23),0),1),""))}
A24: =A23+1 -> 43122 | D24: =MOD(C24-B24,1) -> 0 | G24: =MOD(F24-E24,1) -> 0 | I24: =SUM(D24+G24) -> 0 | J24: =IFERROR(VLOOKUP(M24,EMPLOI!A:P,2,0),"") | K24: =IF(I24>=$J$2,J24,"") | L24: =IF(WEEKDAY(A24)=6,SUM(OFFSET(A24,0,8,-6,1)),"") | M24: {=IF(OR(WEEKDAY($A24,2)=7,WEEKDAY($A24,2)=6,A24=Férié,$J$2>I24),"",IFERROR(INDEX(Tableau1[],MATCH(1,('2017'!A24>=Tableau1[[DATE DEBUT ]])*(Tableau1[DATE FIN]>='2017'!A24),0),1),""))} | Q24: Fête Dieu | R24: =R5+63 -> 43254
A25: =A24+1 -> 43123 | D25: =MOD(C25-B25,1) -> 0 | G25: =MOD(F25-E25,1) -> 0 | I25: =SUM(D25+G25) -> 0 | J25: =IFERROR(VLOOKUP(M25,EMPLOI!A:P,2,0),"") | K25: =IF(I25>=$J$2,J25,"") | L25: =IF(WEEKDAY(A25)=6,SUM(OFFSET(A25,0,8,-6,1)),"") | M25: {=IF(OR(WEEKDAY($A25,2)=7,WEEKDAY($A25,2)=6,A25=Férié,$J$2>I25),"",IFERROR(INDEX(Tableau1[],MATCH(1,('2017'!A25>=Tableau1[[DATE DEBUT ]])*(Tableau1[DATE FIN]>='2017'!A25),0),1),""))}
A26: =A25+1 -> 43124 | D26: =MOD(C26-B26,1) -> 0 | G26: =MOD(F26-E26,1) -> 0 | I26: =SUM(D26+G26) -> 0 | J26: =IFERROR(VLOOKUP(M26,EMPLOI!A:P,2,0),"") | K26: =IF(I26>=$J$2,J26,"") | L26: =IF(WEEKDAY(A26)=6,SUM(OFFSET(A26,0,8,-6,1)),"") | M26: {=IF(OR(WEEKDAY($A26,2)=7,WEEKDAY($A26,2)=6,A26=Férié,$J$2>I26),"",IFERROR(INDEX(Tableau1[],MATCH(1,('2017'!A26>=Tableau1[[DATE DEBUT ]])*(Tableau1[DATE FIN]>='2017'!A26),0),1),""))}
A27: =A26+1 -> 43125 | D27: =MOD(C27-B27,1) -> 0 | G27: =MOD(F27-E27,1) -> 0 | I27: =SUM(D27+G27) -> 0 | J27: =IFERROR(VLOOKUP(M27,EMPLOI!A:P,2,0),"") | K27: =IF(I27>=$J$2,J27,"") | L27: =IF(WEEKDAY(A27)=6,SUM(OFFSET(A27,0,8,-6,1)),"") | M27: {=IF(OR(WEEKDAY($A27,2)=7,WEEKDAY($A27,2)=6,A27=Férié,$J$2>I27),"",IFERROR(INDEX(Tableau1[],MATCH(1,('2017'!A27>=Tableau1[[DATE DEBUT ]])*(Tableau1[DATE FIN]>='2017'!A27),0),1),""))}
A28: =A27+1 -> 43126 | D28: =MOD(C28-B28,1) -> 0 | G28: =MOD(F28-E28,1) -> 0 | I28: =SUM(D28+G28) -> 0 | J28: =IFERROR(VLOOKUP(M28,EMPLOI!A:P,2,0),"") | K28: =IF(I28>=$J$2,J28,"") | L28: =IF(WEEKDAY(A28)=6,SUM(OFFSET(A28,0,8,-6,1)),"") -> 0 | M28: {=IF(OR(WEEKDAY($A28,2)=7,WEEKDAY($A28,2)=6,A28=Férié,$J$2>I28),"",IFERROR(INDEX(Tableau1[],MATCH(1,('2017'!A28>=Tableau1[[DATE DEBUT ]])*(Tableau1[DATE FIN]>='2017'!A28),0),1),""))}
A29: =A28+1 -> 43127 | D29: =MOD(C29-B29,1) -> 0 | G29: =MOD(F29-E29,1) -> 0 | I29: =SUM(D29+G29) -> 0 | J29: =IFERROR(VLOOKUP(M29,EMPLOI!A:P,2,0),"") | K29: =IF(I29>=$J$2,J29,"") | L29: =IF(WEEKDAY(A29)=6,SUM(OFFSET(A29,0,8,-6,1)),"") | M29: {=IF(OR(WEEKDAY($A29,2)=7,WEEKDAY($A29,2)=6,A29=Férié,$J$2>I29),"",IFERROR(INDEX(Tableau1[],MATCH(1,('2017'!A29>=Tableau1[[DATE DEBUT ]])*(Tableau1[DATE FIN]>='2017'!A29),0),1),""))}
A30: =A29+1 -> 43128 | D30: =MOD(C30-B30,1) -> 0 | G30: =MOD(F30-E30,1) -> 0 | I30: =SUM(D30+G30) -> 0 | J30: =IFERROR(VLOOKUP(M30,EMPLOI!A:P,2,0),"") | K30: =IF(I30>=$J$2,J30,"") | L30: =IF(WEEKDAY(A30)=6,SUM(OFFSET(A30,0,8,-6,1)),"") | M30: {=IF(OR(WEEKDAY($A30,2)=7,WEEKDAY($A30,2)=6,A30=Férié,$J$2>I30),"",IFERROR(INDEX(Tableau1[],MATCH(1,('2017'!A30>=Tableau1[[DATE DEBUT ]])*(Tableau1[DATE FIN]>='2017'!A30),0),1),""))}
A31: =A30+1 -> 43129 | D31: =MOD(C31-B31,1) -> 0 | G31: =MOD(F31-E31,1) -> 0 | I31: =SUM(D31+G31) -> 0 | J31: =IFERROR(VLOOKUP(M31,EMPLOI!A:P,2,0),"") | K31: =IF(I31>=$J$2,J31,"") | L31: =IF(WEEKDAY(A31)=6,SUM(OFFSET(A31,0,8,-6,1)),"") | M31: {=IF(OR(WEEKDAY($A31,2)=7,WEEKDAY($A31,2)=6,A31=Férié,$J$2>I31),"",IFERROR(INDEX(Tableau1[],MATCH(1,('2017'!A31>=Tableau1[[DATE DEBUT ]])*(Tableau1[DATE FIN]>='2017'!A31),0),1),""))}
A32: =A31+1 -> 43130 | D32: =MOD(C32-B32,1) -> 0 | G32: =MOD(F32-E32,1) -> 0 | I32: =SUM(D32+G32) -> 0 | J32: =IFERROR(VLOOKUP(M32,EMPLOI!A:P,2,0),"") | K32: =IF(I32>=$J$2,J32,"") | L32: =IF(WEEKDAY(A32)=6,SUM(OFFSET(A32,0,8,-6,1)),"") | M32: {=IF(OR(WEEKDAY($A32,2)=7,WEEKDAY($A32,2)=6,A32=Férié,$J$2>I32),"",IFERROR(INDEX(Tableau1[],MATCH(1,('2017'!A32>=Tableau1[[DATE DEBUT ]])*(Tableau1[DATE FIN]>='2017'!A32),0),1),""))}
A33: =A32+1 -> 43131 | D33: =MOD(C33-B33,1) -> 0 | G33: =MOD(F33-E33,1) -> 0 | I33: =SUM(D33+G33) -> 0 | J33: =IFERROR(VLOOKUP(M33,EMPLOI!A:P,2,0),"") | K33: =IF(I33>=$J$2,J33,"") | L33: =IF(WEEKDAY(A33)=6,SUM(OFFSET(A33,0,8,-6,1)),"") | M33: {=IF(OR(WEEKDAY($A33,2)=7,WEEKDAY($A33,2)=6,A33=Férié,$J$2>I33),"",IFERROR(INDEX(Tableau1[],MATCH(1,('2017'!A33>=Tableau1[[DATE DEBUT ]])*(Tableau1[DATE FIN]>='2017'!A33),0),1),""))}
A34: =A33+1 -> 43132 | D34: =MOD(C34-B34,1) -> 0 | G34: =MOD(F34-E34,1) -> 0 | I34: =SUM(D34+G34) -> 0 | J34: =IFERROR(VLOOKUP(M34,EMPLOI!A:P,2,0),"") | K34: =IF(I34>=$J$2,J34,"") | L34: =IF(WEEKDAY(A34)=6,SUM(OFFSET(A34,0,8,-6,1)),"") | M34: {=IF(OR(WEEKDAY($A34,2)=7,WEEKDAY($A34,2)=6,A34=Férié,$J$2>I34),"",IFERROR(INDEX(Tableau1[],MATCH(1,('2017'!A34>=Tableau1[[DATE DEBUT ]])*(Tableau1[DATE FIN]>='2017'!A34),0),1),""))}
A35: =A34+1 -> 43133 | D35: =MOD(C35-B35,1) -> 0 | G35: =MOD(F35-E35,1) -> 0 | I35: =SUM(D35+G35) -> 0 | J35: =IFERROR(VLOOKUP(M35,EMPLOI!A:P,2,0),"") | K35: =IF(I35>=$J$2,J35,"") | L35: =IF(WEEKDAY(A35)=6,SUM(OFFSET(A35,0,8,-6,1)),"") -> 0 | M35: {=IF(OR(WEEKDAY($A35,2)=7,WEEKDAY($A35,2)=6,A35=Férié,$J$2>I35),"",IFERROR(INDEX(Tableau1[],MATCH(1,('2017'!A35>=Tableau1[[DATE DEBUT ]])*(Tableau1[DATE FIN]>='2017'!A35),0),1),""))}
A36: =A35+1 -> 43134 | D36: =MOD(C36-B36,1) -> 0 | G36: =MOD(F36-E36,1) -> 0 | I36: =SUM(D36+G36) -> 0 | J36: =IFERROR(VLOOKUP(M36,EMPLOI!A:P,2,0),"") | K36: =IF(I36>=$J$2,J36,"") | L36: =IF(WEEKDAY(A36)=6,SUM(OFFSET(A36,0,8,-6,1)),"") | M36: {=IF(OR(WEEKDAY($A36,2)=7,WEEKDAY($A36,2)=6,A36=Férié,$J$2>I36),"",IFERROR(INDEX(Tableau1[],MATCH(1,('2017'!A36>=Tableau1[[DATE DEBUT ]])*(Tableau1[DATE FIN]>='2017'!A36),0),1),""))}
... A95: =A94+1 -> 43193 | D95: =MOD(C95-B95,1) -> 0 | G95: =MOD(F95-E95,1) -> 0 | I95: =SUM(D95+G95) -> 0 | J95: =IFERROR(VLOOKUP(M95,EMPLOI!A:P,2,0),"") | K95: =IF(I95>=$J$2,J95,"") | L95: =IF(WEEKDAY(A95)=6,SUM(OFFSET(A95,0,8,-6,1)),"") | M95: {=IF(OR(WEEKDAY($A95,2)=7,WEEKDAY($A95,2)=6,A95=Férié,$J$2>I95),"",IFERROR(INDEX(Tableau1[],MATCH(1,('2017'!A95>=Tableau1[[DATE DEBUT ]])*(Tableau1[DATE FIN]>='2017'!A95),0),1),""))}
A96: =A95+1 -> 43194 | B96: 0.33333333 | C96: 0.48958333 | D96: =MOD(C96-B96,1) -> 0.15625 | E96: 0.53125 | F96: 0.66666667 | G96: =MOD(F96-E96,1) -> 0.13541667 | I96: =SUM(D96+G96) -> 0.29166667 | J96: =IFERROR(VLOOKUP(M96,EMPLOI!A:P,2,0),"") -> 70.6 | K96: =IF(I96>=$J$2,J96,"") -> 70.6 | L96: =IF(WEEKDAY(A96)=6,SUM(OFFSET(A96,0,8,-6,1)),"") | M96: {=IF(OR(WEEKDAY($A96,2)=7,WEEKDAY($A96,2)=6,A96=Férié,$J$2>I96),"",IFERROR(INDEX(Tableau1[],MATCH(1,('2017'!A96>=Tableau1[[DATE DEBUT ]])*(Tableau1[DATE FIN]>='2017'!A96),0),1),""))} -> 1
A97: =A96+1 -> 43195 | B97: 0.33333333 | C97: 0.48958333 | D97: =MOD(C97-B97,1) -> 0.15625 | E97: 0.53125 | F97: 0.66666667 | G97: =MOD(F97-E97,1) -> 0.13541667 | I97: =SUM(D97+G97) -> 0.29166667 | J97: =IFERROR(VLOOKUP(M97,EMPLOI!A:P,2,0),"") -> 70.6 | K97: =IF(I97>=$J$2,J97,"") -> 70.6 | L97: =IF(WEEKDAY(A97)=6,SUM(OFFSET(A97,0,8,-6,1)),"") | M97: {=IF(OR(WEEKDAY($A97,2)=7,WEEKDAY($A97,2)=6,A97=Férié,$J$2>I97),"",IFERROR(INDEX(Tableau1[],MATCH(1,('2017'!A97>=Tableau1[[DATE DEBUT ]])*(Tableau1[DATE FIN]>='2017'!A97),0),1),""))} -> 1
A98: =A97+1 -> 43196 | B98: 0.33333333 | C98: 0.48958333 | D98: =MOD(C98-B98,1) -> 0.15625 | E98: 0.53125 | F98: 0.66666667 | G98: =MOD(F98-E98,1) -> 0.13541667 | I98: =SUM(D98+G98) -> 0.29166667 | J98: =IFERROR(VLOOKUP(M98,EMPLOI!A:P,2,0),"") -> 70.6 | K98: =IF(I98>=$J$2,J98,"") -> 70.6 | L98: =IF(WEEKDAY(A98)=6,SUM(OFFSET(A98,0,8,-6,1)),"") -> 0.875 | M98: {=IF(OR(WEEKDAY($A98,2)=7,WEEKDAY($A98,2)=6,A98=Férié,$J$2>I98),"",IFERROR(INDEX(Tableau1[],MATCH(1,('2017'!A98>=Tableau1[[DATE DEBUT ]])*(Tableau1[DATE FIN]>='2017'!A98),0),1),""))} -> 1
...

Sheet EMPLOI
A1: NOM ENTREPRISE | B1: Km | C1: DATE DEBUT | D1: DATE FIN | E1: NOMBRES JOURS | F1: NOMBRES HEURES | G1: Km Total Période | H1: JOUR NUIT | I1: AGENCE | J1: BASE TAUX HORAIRE | K1: 13ème MOIS / H | L1: PANIER JOUR
E2: =SUMPRODUCT(('2017'!$L$3:$L$368=EMPLOI!A2)*('2017'!$A$3:$A$368>=EMPLOI!C2)*('2017'!$A$3:$A$368<=EMPLOI!$D2)*1) -> 0 | F2: =SUMPRODUCT(('2017'!$A$3:$A$368>=Tableau1[[#This Row],[DATE DEBUT ]])*('2017'!$A$3:$A$368<=Tableau1[[#This Row],[DATE FIN]])*('2017'!$I$3:$I$368)) -> 0 | G2: =Tableau1[[#This Row],[Km]]*Tableau1[[#This Row],[NOMBRES JOURS]] -> 0
A3: test | B3: 999 | C3: 43101 | D3: 43130 | E3: =SUMPRODUCT(('2017'!$L$3:$L$368=EMPLOI!A3)*('2017'!$A$3:$A$368>=EMPLOI!C3)*('2017'!$A$3:$A$368<=EMPLOI!$D3)*1) -> 0 | F3: =SUMPRODUCT(('2017'!$A$3:$A$368>=Tableau1[[#This Row],[DATE DEBUT ]])*('2017'!$A$3:$A$368<=Tableau1[[#This Row],[DATE FIN]])*('2017'!$I$3:$I$368)) -> 0 | G3: =Tableau1[[#This Row],[Km]]*Tableau1[[#This Row],[NOMBRES JOURS]] -> 0
A4: 3 | B4: 79.4 | C4: 42926 | D4: 42931 | E4: =SUMPRODUCT(('2017'!$L$3:$L$368=EMPLOI!A4)*('2017'!$A$3:$A$368>=EMPLOI!C4)*('2017'!$A$3:$A$368<=EMPLOI!$D4)*1) -> 2 | F4: =SUMPRODUCT(('2017'!$A$3:$A$368>=Tableau1[[#This Row],[DATE DEBUT ]])*('2017'!$A$3:$A$368<=Tableau1[[#This Row],[DATE FIN]])*('2017'!$I$3:$I$368)) -> 0.60763889 | G4: =Tableau1[[#This Row],[Km]]*Tableau1[[#This Row],[NOMBRES JOURS]] -> 158.8 | H4: N | I4: A | J4: 9.76 | L4: =1.5+6.4 -> 7.9
A5: 2 | B5: 79.7 | C5: 42858 | D5: 42916 | E5: =SUMPRODUCT(('2017'!$L$3:$L$368=EMPLOI!A5)*('2017'!$A$3:$A$368>=EMPLOI!C5)*('2017'!$A$3:$A$368<=EMPLOI!$D5)*1) -> 39 | F5: =SUMPRODUCT(('2017'!$A$3:$A$368>=Tableau1[[#This Row],[DATE DEBUT ]])*('2017'!$A$3:$A$368<=Tableau1[[#This Row],[DATE FIN]])*('2017'!$I$3:$I$368)) -> 12.170139 | G5: =Tableau1[[#This Row],[Km]]*Tableau1[[#This Row],[NOMBRES JOURS]] -> 3108.3 | H5: J | I5: A | J5: 9.76 | K5: 0.81 | L5: 6.4
A6: 1 | B6: 70.6 | C6: 42829 | D6: 42832 | E6: =SUMPRODUCT(('2017'!$L$3:$L$368=EMPLOI!A6)*('2017'!$A$3:$A$368>=EMPLOI!C6)*('2017'!$A$3:$A$368<=EMPLOI!$D6)*1) -> 4 | F6: =SUMPRODUCT(('2017'!$A$3:$A$368>=Tableau1[[#This Row],[DATE DEBUT ]])*('2017'!$A$3:$A$368<=Tableau1[[#This Row],[DATE FIN]])*('2017'!$I$3:$I$368)) -> 1.1666667 | G6: =Tableau1[[#This Row],[Km]]*Tableau1[[#This Row],[NOMBRES JOURS]] -> 282.4 | H6: J | I6: A | J6: 9.76
