Workbook

Sheet Pour TDB
A1: ='JANVIER 2018'!A5 -> 42736 | B1: ='JANVIER 2018'!L5 -> 0
A2: ='JANVIER 2018'!A6 -> 42737 | B2: ='JANVIER 2018'!L6 -> 9397.67
A3: ='JANVIER 2018'!A7 -> 42738 | B3: ='JANVIER 2018'!L7 -> 10811.35
A4: ='JANVIER 2018'!A8 -> 42739 | B4: ='JANVIER 2018'!L8 -> 6344.69
A5: ='JANVIER 2018'!A9 -> 42740 | B5: ='JANVIER 2018'!L9 -> 6883.43
A6: ='JANVIER 2018'!A10 -> 42741 | B6: ='JANVIER 2018'!L10 -> 0
A7: ='JANVIER 2018'!A11 -> 42742 | B7: ='JANVIER 2018'!L11 -> 0
A8: ='JANVIER 2018'!A12 -> 42743 | B8: ='JANVIER 2018'!L12 -> 551.91
A9: ='JANVIER 2018'!A13 -> 42744 | B9: ='JANVIER 2018'!L13 -> 986.42
A10: ='JANVIER 2018'!A14 -> 42745 | B10: ='JANVIER 2018'!L14 -> 8733.62
A11: ='JANVIER 2018'!A15 -> 42746 | B11: ='JANVIER 2018'!L15 -> 9208.32
A12: ='JANVIER 2018'!A16 -> 42747 | B12: ='JANVIER 2018'!L16 -> 0
... A31: ='JANVIER 2018'!A35 -> 42766 | B31: ='JANVIER 2018'!L35 -> 0

Sheet JANVIER 2018
L3: TOTO
B4: Donnée1 | C4: Donnée2 | D4: Donnée3 | E4: Donnée4 | F4: Donnée5 | G4: Donnée6 | H4: Donnée7 | I4: Donnée8 | J4: Donnée9
A5: 42736
A6: 42737 | B6: 222 | G6: 9056.12 | H6: 49.2 | I6: 70.35 | L6: =SUM(B6:K6) -> 9397.67
A7: 42738 | B7: 206.18 | C7: 206.18 | D7: 5684.3 | F7: 3.34 | H7: 30.1 | I7: 95.75 | J7: 4585.5 | L7: =SUM(B7:K7) -> 10811.35
A8: 42739 | B8: 368.64 | C8: 1.8 | D8: 15.5 | E8: 122.69 | F8: 1.67 | G8: 5600 | H8: 83.95 | I8: 27.75 | K8: 122.69 | L8: =SUM(B8:K8) -> 6344.69
A9: 42740 | B9: 241.2 | D9: 122.69 | E9: 122.69 | F9: 11.67 | G9: 122.69 | H9: 74.85 | I9: 30.95 | J9: 122.69 | K9: 6034 | L9: =SUM(B9:K9) -> 6883.43
A10: 42741
A11: 42742
A12: 42743 | B12: 49.8 | D12: 76.5 | E12: 108 | F12: 3.34 | G12: 122.69 | H12: 65.6 | I12: 92.65 | J12: 33.33 | L12: =SUM(B12:K12) -> 551.91
A13: 42744 | B13: 135.6 | D13: 51.9 | F13: 1.67 | G13: 694.3 | H13: 62.2 | I13: 40.75 | L13: =SUM(B13:K13) -> 986.42
A14: 42745 | B14: 262.2 | C14: 7.4 | D14: =2.42+1+55 -> 58.42 | E14: 206.18 | F14: 1.67 | G14: 8023 | H14: 89.85 | I14: 84.9 | L14: =SUM(B14:K14) -> 8733.62
A15: 42746 | B15: 84 | F15: 1.67 | G15: 8969 | H15: 117.1 | I15: 36.55 | L15: =SUM(B15:K15) -> 9208.32
A16: 42747 | L16: =SUM(B16:K16) -> 0
A17: 42748
A18: 42749
A19: 42750 | L19: =SUM(B19:K19) -> 0
A20: 42751 | L20: =SUM(B20:K20) -> 0
A21: 42752 | L21: =SUM(B21:K21) -> 0
A22: 42753 | L22: =SUM(B22:K22) -> 0
A23: 42754 | L23: =SUM(B23:K23) -> 0
A24: 42755
A25: 42756
A26: 42757 | L26: =SUM(B26:K26) -> 0
A27: 42758 | L27: =SUM(B27:K27) -> 0
A28: 42759 | L28: =SUM(B28:K28) -> 0
A29: 42760 | L29: =SUM(B29:K29) -> 0
A30: 42761 | L30: =SUM(B30:K30) -> 0
A31: 42762
A32: 42763
A33: 42764 | L33: =SUM(B33:K33) -> 0
A34: 42765 | L34: =SUM(B34:K34) -> 0
A35: 42766 | L35: =SUM(B35:K35) -> 0
A36: TOTAL | B36: =SUM(B5:B35) -> 1569.62 | C36: =SUM(C5:C35) -> 215.38 | D36: =SUM(D5:D35) -> 6009.31 | E36: =SUM(E5:E35) -> 559.56 | F36: =SUM(F5:F35) -> 25.03 | G36: =SUM(G5:G35) -> 32587.8 | H36: =SUM(H5:H35) -> 572.85 | I36: =SUM(I5:I35) -> 479.65 | ... L36: =SUM(L5:L35) -> 52917.41

Sheet FEVRIER 2018
