Workbook

Sheet ANOMALIE
A1: Semaine | B1: Date et Heure de RDV | C1: N° de PO | D1: Code Produit | E1: Libéllé / Désignation | F1: Chargt | G1: Déchargt | H1: Date et Heure d'arrivée | I1: Départ | J1: Non Venu | K1: Retard | L1: Autre | M1: Fournisseur | N1: Transporteur / Destination | O1: FI Emise | P1: commentaires
A2: =IFERROR(VLOOKUP($C2,[1]Planning!$K$1:$S$10000,9,FALSE),"") -> 0 | B2: =IFERROR(INDEX([1]Planning!$B$1:$B$10000,MATCH($C2,[1]Planning!$K$1:$K$10000,0)),"") -> 0 | D2: =IFERROR(VLOOKUP($C2,[1]Planning!$K$1:$S$10000,2,FALSE),"") -> 0 | E2: =IFERROR(VLOOKUP(D2,BDD!$A$2:$B$199,2,FALSE),"") | F2: =IFERROR(INDEX([1]Planning!$I$1:$I$10000,MATCH($C2,[1]Planning!$K$1:$K$10000,FALSE)),"") -> 0 | G2: =IFERROR(INDEX([1]Planning!$J$1:$J$10000,MATCH($C2,[1]Planning!$K$1:$K$10000,FALSE)),"") -> 0 | K2: =H2-B2 -> 0 | M2: =IFERROR(VLOOKUP($D2,BDD!$A$2:$C$199,3,FALSE),"") | N2: =IFERROR(VLOOKUP(C2,[1]Planning!$K$1:$N$10000,4,FALSE),"") -> 0
B3: 42519.375 | H3: 42519.406 | K3: =H3-B3 -> 0.03125 | M3: Opole
B4: 42520.375 | H4: 42520.403 | K4: =H4-B4 -> 0.027777778 | M4: Cuijk
B5: 42521.375 | H5: 42521.385 | K5: =H5-B5 -> 0.010416667 | M5: Cuijk
B6: 42522.375 | H6: 42522.403 | K6: =H6-B6 -> 0.027777778 | M6: Fulda
B7: 42523.375 | H7: 42523.403 | K7: =H7-B7 -> 0.027777778 | M7: Tereos
B8: 42524.375 | H8: 42524.403 | K8: =H8-B8 -> 0.027777778 | M8: Macroom
B9: 42525.375 | H9: 42525.403 | K9: =H9-B9 -> 0.027777778 | M9: Hochwald
B10: 42526.375 | H10: 42526.403 | K10: =H10-B10 -> 0.027777778 | M10: Fulda
B11: 42527.375 | H11: 42527.403 | K11: =H11-B11 -> 0.027777778 | M11: Tereos
B12: 42528.375 | H12: 42528.403 | K12: =H12-B12 -> 0.027777778 | M12: Tereos
B13: 42529.375 | H13: 42529.403 | K13: =H13-B13 -> 0.027777778 | M13: Opole

Sheet BDD
A1: CODE PRODUIT | B1: DESIGNATION | C1: FOURNISSEUR | D1: TRANSPORTEUR
A2: 10269591 | B2: BASE POUDRE FOLLOW ON 2FK 80:2 | C2: FRIESLAND
A3: 10117482 | B3: MALTODEXTRINE DE19 BB MEL.SEC | C3: TEREOS SYRAL
A4: 10117487 | B4: LACTOSE BIG BAG MELANGE A SEC | C4: NUTRICIA ZAKLADY
A5: 10142417 | B5: MB START FKN | C5: Nutricia Cuijk
A6: 10142444 | B6: PREMIX GUM 1 STOA FK 0.8 | C6: Nutricia Cuijk
A7: 10142488 | B7: PX FOLLOW ON F N 154400 BB | C7: Nutricia Cuijk
A8: 10143115 | B8: BASE FOLLOW ON FK 80:20 | C8: NUTRICIA INFANT NUTRITION | D8: EUCON
A9: 10143118 | B9: BASE GUM 1 STOA V FK 0.8 | C9: NUTRICIA INFANT NUTRITION | D9: EUCON
A10: 10146396 | B10: BIG BAG BARRIER WITH OUTLINER | C10: NNZ
A11: 10146397 | B11: BIG BAG MONO LAYER WITH OUTLIN | C11: NNZ
A12: 10153078 | B12: BASE GUM 1 LCP FK | C12: NUTRICIA INFANT NUTRITION | D12: EUCON
A13: 10154776 | B13: MB GUM 1 FK 178086 | C13: Nutricia Cuijk
A14: 10155190 | B14: FARINE CAROUBE BB MELANGE A S | C14: DANISCO
A15: 10173197 | B15: BASE FOLLOW ON LCP 0.3:0.3 Fk | C15: NUTRICIA INFANT NUTRITION | D15: EUCON
A16: 10174590 | B16: BASE START LCP 0.35:0.32 Fk | C16: Milupa GmbH
A17: 10174682 | B17: MB FOF 2 CODEX F N 172315 BB | C17: Nutricia Cuijk
A18: 10175109 | B18: MB START NURSIE 0171713 BB | C18: Nutricia Cuijk
A19: 10176612 | B19: MB GUM 1 LCP F N RUS 178082 B | C19: Nutricia Cuijk
A20: 10178902 | B20: BASE START LCP 4 FK BW | C20: NUTRICIA INFANT NUTRITION | D20: EUCON
A21: 10179304 | B21: STARCH MAIZE PREGELATINISED IF | C21: INGREDION GERMANY
A22: 10180157 | B22: BASE START NURSIE LCP 4 | C22: NUTRICIA INFANT NUTRITION | D22: EUCON
A23: 10190448 | B23: BASE FOLLOW ON 80:20 RUSSIA | C23: NUTRICIA INFANT NUTRITION | D23: EUCON
A24: 10201734 | B24: MB IP PWD FO MD CDEX 173921 BB | C24: Nutricia Cuijk
A25: 10202879 | B25: POLFABRYKAT MB IF COMFORT N MD | C25: NUTRICIA ZAKLADY
A26: 10202880 | B26: POLFABRYKATMB FO COMFORT N MD | C26: NUTRICIA ZAKLADY
A27: 10226218 | B27: STARCH MAIZE PREGELATINISED FO | C27: INGREDION GERMANY
A28: 10245079 | B28: SKIM MILK POW FO/GUM | C28: HOCHWALD FOODS
A29: 10146017 | B29: BASE PREBIO 1 70/30 EXP 550025 | C29: STV | D29: P&O
A30: 10146018 | B30: BASE PREBIO 2 70/30 EXP 550025 | C30: STV | D30: P&O
A31: 10146013 | B31: BASE LACTOFIDUS 60/40 EXP 5500 | C31: STV | D31: A remplir
A32: 10180301 | B32: BASE LACTOFIDUS 60/40 OB4 EXP | C32: STV | D32: A remplir
A33: 10190827 | B33: BASE LACTOFIDUS 60/40 OB4 LA VIE EXP | C33: STV | D33: A remplir
A34: 10254644 | B34: BP HA 1 HAL OB4 LCP3 113612 | C34: STV | D34: ROBINSON
A35: 10254643 | B35: BP HA 2 HAL OB4 LCP4 113613 | C35: STV | D35: ROBINSON
A36: 10261124 | B36: BP COMFORT 1 OB LCP3 113615 EX | C36: STV | D36: ROBINSON
A37: 10254645 | B37: BP HA 2 OB4 LCP4 113611 EXP | C37: STV | D37: A remplir
A38: 10231605 | B38: BP HA 1 OB4 LCP3 113609 EXP | C38: STV | D38: A remplir
A39: 10278591 | B39: BP HA 1 RWK OB4 LCP3 113609 EX | C39: STV | D39: ROBINSON
A40: 10278588 | B40: BP HA 1 RWK OB4 LCP3 113609 EX | C40: STV | D40: TRADE TRANS
...

Sheet Copie Hebdomadaire
A1: Semaine | B1: Date et Heure de RDV | C1: N° de PO | D1: Code Produit | E1: Libéllé / Désignation | F1: Chargt | G1: Déchargt | H1: Date | I1: Arrivée | J1: Départ | K1: Non Venu | L1: Autre | M1: Fournisseur | N1: Transporteur | O1: FI Emise | P1: commentaires
A2: S18 | B2: 42492.292 | C2: 400128406 | E2: =VLOOKUP(D2,BDD!$A$2:$B$199,2,FALSE) -> #N/A | F2: x | H2: 42492 | I2: 0.54166667 | J2: 0.57291667 | M2: =VLOOKUP(D2,BDD!$A$2:$C$199,3,FALSE) -> #N/A | N2: TradeTrans
A3: S18 | B3: 42492.375 | C3: 400123595 | E3: =VLOOKUP(D3,BDD!$A$2:$B$199,2,FALSE) -> #N/A | F3: x | H3: 42492 | I3: 0.72916667 | J3: 18h30 | M3: =VLOOKUP(D3,BDD!$A$2:$C$199,3,FALSE) -> #N/A | N3: Robinson
A4: S18 | B4: 42493.375 | C4: 400128179 | E4: =VLOOKUP(D4,BDD!$A$2:$B$199,2,FALSE) -> #N/A | F4: x | H4: 42494 | I4: 0.375 | J4: 9h20 | M4: =VLOOKUP(D4,BDD!$A$2:$D$199,3,FALSE) -> #N/A | N4: =VLOOKUP(D4,BDD!$A$2:$D$199,4,FALSE) -> #N/A
A5: S18 | B5: 42494.375 | C5: 400128654 | E5: =E2=VLOOKUP(D5,BDD!$A$2:$B$199,2,FALSE) -> #N/A | F5: x | M5: =VLOOKUP(D5,BDD!$A$2:$C$199,3,FALSE) -> #N/A | N5: TradeTrans
A6: S18 | B6: 42494.417 | C6: 400127015 | E6: =VLOOKUP(D6,BDD!$A$2:$B$199,2,FALSE) -> #N/A | F6: x | M6: =VLOOKUP(D6,BDD!$A$2:$C$199,3,FALSE) -> #N/A | N6: TradeTrans
A7: S18 | B7: 42499.667 | C7: 800006910 | D7: =IFERROR(VLOOKUP($C7,[1]Planning!$K$1:$S$10000,2,FALSE),"") | E7: =IFERROR(VLOOKUP(D7,BDD!$A$2:$B$199,2,FALSE),"") | F7: =IFERROR(INDEX([1]Planning!$I$1:$I$10000,MATCH($C7,[1]Planning!$K$1:$K$10000,FALSE)),"") | G7: retour | H7: 42499 | K7: x
A8: S19 | B8: 42500.583 | C8: W19STVMAC1003 | D8: =IFERROR(VLOOKUP($C8,[1]Planning!$K$1:$S$10000,2,FALSE),"") | E8: Macroom Rework | F8: x | G8: =IFERROR(INDEX([1]Planning!$J$1:$J$10000,MATCH($C8,[1]Planning!$K$1:$K$10000,FALSE)),"") | H8: 42500 | I8: 0.65625 | J8: 0.77083333 | M8: =IFERROR(VLOOKUP($D8,BDD!$A$2:$C$199,3,FALSE),"")
A9: S19 | B9: 42500.75 | C9: 400126455 | D9: =IFERROR(VLOOKUP($C9,[1]Planning!$K$1:$S$10000,2,FALSE),"") | E9: CUIJK | F9: x | G9: =IFERROR(INDEX([1]Planning!$J$1:$J$10000,MATCH($C9,[1]Planning!$K$1:$K$10000,FALSE)),"") | H9: 42500 | K9: x | N9: Robinson | P9: Reprogrammé le 11/05/16 à 13h
A10: S19 | B10: 42501.333 | C10: 4501981324 | D10: =IFERROR(VLOOKUP($C10,[1]Planning!$K$1:$S$10000,2,FALSE),"") | E10: =IFERROR(VLOOKUP(D10,BDD!$A$2:$B$199,2,FALSE),"") | F10: =IFERROR(INDEX([1]Planning!$I$1:$I$10000,MATCH($C10,[1]Planning!$K$1:$K$10000,FALSE)),"") | G10: =IFERROR(INDEX([1]Planning!$J$1:$J$10000,MATCH($C10,[1]Planning!$K$1:$K$10000,FALSE)),"") | H10: 42501 | I10: 0.43055556 | J10: 0.60763889 | M10: =IFERROR(VLOOKUP($D10,BDD!$A$2:$C$199,3,FALSE),"") | N10: VRD UW LOGISTIEKE PARTNE
A11: S19 | B11: 42501.542 | C11: 400126455 | D11: =IFERROR(VLOOKUP($C11,[1]Planning!$K$1:$S$10000,2,FALSE),"") | E11: CUIJK | F11: =IFERROR(INDEX([1]Planning!$I$1:$I$10000,MATCH($C11,[1]Planning!$K$1:$K$10000,FALSE)),"") | G11: =IFERROR(INDEX([1]Planning!$J$1:$J$10000,MATCH($C11,[1]Planning!$K$1:$K$10000,FALSE)),"") | H11: 42501 | I11: 0.81944444 | J11: 0.85416667 | M11: =IFERROR(VLOOKUP($D11,BDD!$A$2:$C$199,3,FALSE),"") | N11: Robinson
A12: S19 | B12: 42501.667 | C12: W19STVMAC1103 | E12: Macroom Rework | F12: x | H12: 42501 | I12: 0.70833333 | J12: 0.72916667 | M12: =IFERROR(VLOOKUP($D12,BDD!$A$2:$C$199,3,FALSE),"")
A13: S19 | B13: =IFERROR(INDEX([1]Planning!$B$1:$B$10000,MATCH($C13,[1]Planning!$K$1:$K$10000,0)),"") | C13: 4501984626 | D13: =IFERROR(VLOOKUP($C13,[1]Planning!$K$1:$S$10000,2,FALSE),"") | E13: =IFERROR(VLOOKUP(D13,BDD!$A$2:$B$199,2,FALSE),"") | F13: =IFERROR(INDEX([1]Planning!$I$1:$I$10000,MATCH($C13,[1]Planning!$K$1:$K$10000,FALSE)),"") | G13: 1 | H13: 42502 | I13: 0.51736111 | J13: 0.58333333 | M13: =IFERROR(VLOOKUP($D13,BDD!$A$2:$C$199,3,FALSE),"")
A14: S19 | B14: 42502.5 | C14: 4501925396 | D14: 10201734 | E14: =IFERROR(VLOOKUP(D14,BDD!$A$2:$B$199,2,FALSE),"") -> MB IP PWD FO MD CDEX 173921 BB | F14: =IFERROR(INDEX([1]Planning!$I$1:$I$10000,MATCH($C14,[1]Planning!$K$1:$K$10000,FALSE)),"") | G14: 1 | H14: 42502 | I14: 0.5625 | J14: 0.69791667 | M14: =IFERROR(VLOOKUP($D14,BDD!$A$2:$C$199,3,FALSE),"") -> Nutricia Cuijk
A15: S19 | B15: =IFERROR(INDEX([1]Planning!$B$1:$B$10000,MATCH($C15,[1]Planning!$K$1:$K$10000,0)),"") | C15: 400126454 | D15: =IFERROR(VLOOKUP($C15,[1]Planning!$K$1:$S$10000,2,FALSE),"") | E15: Wexford | F15: 1 | G15: =IFERROR(INDEX([1]Planning!$J$1:$J$10000,MATCH($C15,[1]Planning!$K$1:$K$10000,FALSE)),"") | H15: 42502 | I15: 0.84722222 | J15: 0.88888889 | M15: =IFERROR(VLOOKUP($D15,BDD!$A$2:$C$199,3,FALSE),"")
A16: S19 | B16: =IFERROR(INDEX([1]Planning!$B$1:$B$10000,MATCH($C16,[1]Planning!$K$1:$K$10000,0)),"") -> 42503.333 | C16: 4501996979 | D16: =IFERROR(VLOOKUP($C16,[1]Planning!$K$1:$S$10000,2,FALSE),"") -> 10174590 | E16: =IFERROR(VLOOKUP(D16,BDD!$A$2:$B$199,2,FALSE),"") -> BASE START LCP 0.35:0.32 Fk | F16: =IFERROR(INDEX([1]Planning!$I$1:$I$10000,MATCH($C16,[1]Planning!$K$1:$K$10000,FALSE)),"") -> 0 | G16: =IFERROR(INDEX([1]Planning!$J$1:$J$10000,MATCH($C16,[1]Planning!$K$1:$K$10000,FALSE)),"") -> 1 | H16: 42503 | I16: 0.65277778 | J16: 0.6875 | M16: =IFERROR(VLOOKUP($D16,BDD!$A$2:$C$199,3,FALSE),"") -> Milupa GmbH | N16: unterer
A17: S20 | B17: 42507.625 | C17: 400126224 | D17: 10146018 | E17: =IFERROR(VLOOKUP(D17,BDD!$A$2:$B$199,2,FALSE),"") -> BASE PREBIO 2 70/30 EXP 550025 | F17: 1 | G17: =IFERROR(INDEX([1]Planning!$J$1:$J$10000,MATCH($C17,[1]Planning!$K$1:$K$10000,FALSE)),"") | H17: 42507 | I17: 0.30555556 | J17: 0.31944444 | M17: =IFERROR(VLOOKUP($D17,BDD!$A$2:$C$199,3,FALSE),"") -> STV
A18: S20 | B18: 42507.458 | C18: 400132442 | D18: 10254645-10231605 | E18: OPOLE | F18: 1 | G18: =IFERROR(INDEX([1]Planning!$J$1:$J$10000,MATCH($C18,[1]Planning!$K$1:$K$10000,FALSE)),"") | H18: 42507 | I18: 0.72916667 | J18: 0.73958333 | M18: =IFERROR(VLOOKUP($D18,BDD!$A$2:$C$199,3,FALSE),"")
A19: S20 | B19: 42508.583 | C19: 400127313 | D19: 10146017 | E19: FULDA | F19: 1 | G19: =IFERROR(INDEX([1]Planning!$J$1:$J$10000,MATCH($C19,[1]Planning!$K$1:$K$10000,FALSE)),"") -> 0 | H19: 42508 | K19: x
A20: S20 | B20: 42508.625 | C20: 400131450 | D20: 10146017 | E20: FULDA | F20: 1 | G20: =IFERROR(INDEX([1]Planning!$J$1:$J$10000,MATCH($C20,[1]Planning!$K$1:$K$10000,FALSE)),"") | H20: 42508 | K20: x
A21: S20 | B21: 42508.708 | C21: 4501984628 | D21: 10190448 | E21: =IFERROR(VLOOKUP(D21,BDD!$A$2:$B$199,2,FALSE),"") -> BASE FOLLOW ON 80:20 RUSSIA | G21: 1 | H21: 42508 | I21: 0.82291667 | J21: 0.875 | M21: =IFERROR(VLOOKUP($D21,BDD!$A$2:$C$199,3,FALSE),"") -> NUTRICIA INFANT NUTRITION
A22: =IFERROR(VLOOKUP($C22,[1]Planning!$K$1:$S$10000,9,FALSE),"") -> S20 | B22: =IFERROR(INDEX([1]Planning!$B$1:$B$10000,MATCH($C22,[1]Planning!$K$1:$K$10000,0)),"") -> 42508.792 | C22: 4501992311 | D22: =IFERROR(VLOOKUP($C22,[1]Planning!$K$1:$S$10000,2,FALSE),"") -> 10180302 | E22: =IFERROR(VLOOKUP(D22,BDD!$A$2:$B$199,2,FALSE),"") -> BASE LAIT 2 SPEC VITAFER 60/40 | F22: =IFERROR(INDEX([1]Planning!$I$1:$I$10000,MATCH($C22,[1]Planning!$K$1:$K$10000,FALSE)),"") -> 0 | G22: =IFERROR(INDEX([1]Planning!$J$1:$J$10000,MATCH($C22,[1]Planning!$K$1:$K$10000,FALSE)),"") -> 1 | H22: 42509 | I22: 0.27083333 | M22: =IFERROR(VLOOKUP($D22,BDD!$A$2:$C$199,3,FALSE),"") -> NUTRICIA INFANT NUTRITION
A23: S20 | B23: 42509 | C23: 4501957601 | D23: =IFERROR(VLOOKUP($C23,[1]Planning!$K$1:$S$10000,2,FALSE),"") -> 10202880 | E23: =IFERROR(VLOOKUP(D23,BDD!$A$2:$B$199,2,FALSE),"") -> POLFABRYKATMB FO COMFORT N MD | F23: =IFERROR(INDEX([1]Planning!$I$1:$I$10000,MATCH($C23,[1]Planning!$K$1:$K$10000,FALSE)),"") -> 0 | G23: =IFERROR(INDEX([1]Planning!$J$1:$J$10000,MATCH($C23,[1]Planning!$K$1:$K$10000,FALSE)),"") -> 1 | H23: 42509 | I23: 0.55208333 | J23: 0.58333333 | M23: =IFERROR(VLOOKUP($D23,BDD!$A$2:$C$199,3,FALSE),"") -> NUTRICIA ZAKLADY | P23: Camion refusé cause big-bag penché et glissé vers l'avant
A24: S20 | B24: =IFERROR(INDEX([1]Planning!$B$1:$B$10000,MATCH($C24,[1]Planning!$K$1:$K$10000,0)),"") -> 42509.708 | C24: 4501965655 | D24: =IFERROR(VLOOKUP($C24,[1]Planning!$K$1:$S$10000,2,FALSE),"") -> 10180303 | E24: Macroom Rework | F24: =IFERROR(INDEX([1]Planning!$I$1:$I$10000,MATCH($C24,[1]Planning!$K$1:$K$10000,FALSE)),"") -> 0 | G24: =IFERROR(INDEX([1]Planning!$J$1:$J$10000,MATCH($C24,[1]Planning!$K$1:$K$10000,FALSE)),"") -> 1 | H24: 42509 | I24: 0.77777778 | J24: 0.81805556 | M24: =IFERROR(VLOOKUP($D24,BDD!$A$2:$C$199,3,FALSE),"") | N24: S,C KLD LOGISTIC TRANS S,R,L
A25: S20 | B25: =IFERROR(INDEX([1]Planning!$B$1:$B$10000,MATCH($C25,[1]Planning!$K$1:$K$10000,0)),"") | C25: 4501925396 | D25: =IFERROR(VLOOKUP($C25,[1]Planning!$K$1:$S$10000,2,FALSE),"") | E25: nutricia cuijk | F25: =IFERROR(INDEX([1]Planning!$I$1:$I$10000,MATCH($C25,[1]Planning!$K$1:$K$10000,FALSE)),"") | G25: 1 | H25: 42510 | I25: 0.33333333 | J25: 0.41666667 | M25: NUTRICIA CUIJK | P25: REMI AU 20/05 à 8H00
A26: =IFERROR(VLOOKUP($C26,[1]Planning!$K$1:$S$10000,9,FALSE),"") -> S20 | B26: =IFERROR(INDEX([1]Planning!$B$1:$B$10000,MATCH($C26,[1]Planning!$K$1:$K$10000,0)),"") -> 42510.333 | C26: 400128223 | D26: =IFERROR(VLOOKUP($C26,[1]Planning!$K$1:$S$10000,2,FALSE),"") -> 10146017 | E26: =IFERROR(VLOOKUP(D26,BDD!$A$2:$B$199,2,FALSE),"") -> BASE PREBIO 1 70/30 EXP 550025 | F26: =IFERROR(INDEX([1]Planning!$I$1:$I$10000,MATCH($C26,[1]Planning!$K$1:$K$10000,FALSE)),"") -> 0 | G26: 1 | H26: 42510 | I26: 0.79166667
A27: S20 | B27: =IFERROR(INDEX([1]Planning!$B$1:$B$10000,MATCH($C27,[1]Planning!$K$1:$K$10000,0)),"") -> 42510.333 | C27: 400128223 | D27: 10146013 | E27: =IFERROR(VLOOKUP(D27,BDD!$A$2:$B$199,2,FALSE),"") -> BASE LACTOFIDUS 60/40 EXP 5500 | F27: 1 | G27: =IFERROR(INDEX([1]Planning!$J$1:$J$10000,MATCH($C27,[1]Planning!$K$1:$K$10000,FALSE)),"") -> 0 | H27: 42510 | K27: X | M27: =IFERROR(VLOOKUP($D27,BDD!$A$2:$C$199,3,FALSE),"") -> STV
A28: S21 | B28: =IFERROR(INDEX([1]Planning!$B$1:$B$10000,MATCH($C28,[1]Planning!$K$1:$K$10000,0)),"") -> 42510.333 | C28: 400128223 | D28: 10146013 | E28: =IFERROR(VLOOKUP(D28,BDD!$A$2:$B$199,2,FALSE),"") -> BASE LACTOFIDUS 60/40 EXP 5500 | F28: 1 | G28: =IFERROR(INDEX([1]Planning!$J$1:$J$10000,MATCH($C28,[1]Planning!$K$1:$K$10000,FALSE)),"") -> 0 | H28: 42513 | I28: 9H30 | J28: 10H40 | M28: =IFERROR(VLOOKUP($D28,BDD!$A$2:$C$199,3,FALSE),"") -> STV | P28: HEURE D'ARRIVEE 9H40 AU QUAI
A29: S21 | B29: =IFERROR(INDEX([1]Planning!$B$1:$B$10000,MATCH($C29,[1]Planning!$K$1:$K$10000,0)),"") -> 42509.542 | C29: 4501957601 | D29: =IFERROR(VLOOKUP($C29,[1]Planning!$K$1:$S$10000,2,FALSE),"") -> 10202880 | E29: =IFERROR(VLOOKUP(D29,BDD!$A$2:$B$199,2,FALSE),"") -> POLFABRYKATMB FO COMFORT N MD | F29: =IFERROR(INDEX([1]Planning!$I$1:$I$10000,MATCH($C29,[1]Planning!$K$1:$K$10000,FALSE)),"") -> 0 | G29: =IFERROR(INDEX([1]Planning!$J$1:$J$10000,MATCH($C29,[1]Planning!$K$1:$K$10000,FALSE)),"") -> 1 | H29: 42513 | I29: 10H30 | J29: 11H00 | M29: =IFERROR(VLOOKUP($D29,BDD!$A$2:$C$199,3,FALSE),"") -> NUTRICIA ZAKLADY | P29: 1 BIB-BAG PERCE
A30: S21 | B30: =IFERROR(INDEX([1]Planning!$B$1:$B$10000,MATCH($C30,[1]Planning!$K$1:$K$10000,0)),"") -> 42510.458 | C30: 400131101 | D30: =IFERROR(VLOOKUP($C30,[1]Planning!$K$1:$S$10000,2,FALSE),"") -> 10146013 | E30: =IFERROR(VLOOKUP(D30,BDD!$A$2:$B$199,2,FALSE),"") -> BASE LACTOFIDUS 60/40 EXP 5500 | F30: 0 | G30: =IFERROR(INDEX([1]Planning!$J$1:$J$10000,MATCH($C30,[1]Planning!$K$1:$K$10000,FALSE)),"") -> 0 | H30: 42513 | K30: X | M30: =IFERROR(VLOOKUP($D30,BDD!$A$2:$C$199,3,FALSE),"") -> STV | P30: PROBLEME QUALITE
A31: S21 | B31: =IFERROR(INDEX([1]Planning!$B$1:$B$10000,MATCH($C31,[1]Planning!$K$1:$K$10000,0)),"") | C31: 400131450 | D31: 10146017-10146013 | E31: FULDA | F31: 0 | G31: =IFERROR(INDEX([1]Planning!$J$1:$J$10000,MATCH($C31,[1]Planning!$K$1:$K$10000,FALSE)),"") | H31: 42513 | K31: X | M31: STV | P31: PROBLEME QUALITE

Sheet Stat Réception
A1: Fournisseur | B1: Nombre de réception | C1: Total de RDV respecté | D1: Total de retard | E1: %
A2: Macroom | B2: =COUNTIF(ANOMALIE!M:M,"Macroom") -> 1 | I2: 0.020833333
A3: Fulda | B3: =COUNTIF(ANOMALIE!M:M,"Fulda") -> 2
A4: Tereos | B4: =COUNTIF(ANOMALIE!M:M,"Tereos") -> 3
A5: Hochwald | B5: =COUNTIF(ANOMALIE!M:M,"Hochwald") -> 1
A6: Cuijk | B6: =COUNTIF(ANOMALIE!M:M,"Cuijk") -> 2
A7: Opole | B7: =COUNTIF(ANOMALIE!M:M,"Opole") -> 2
A8: NNZ | B8: =COUNTIF(ANOMALIE!M:M,"NNZ") -> 0

Sheet Stat Expédition
A1: Fournisseur | B1: Nombre de réception | C1: Total de RDV respecté | D1: Total de retard | E1: %
A2: Fulda | B2: =COUNTIF(ANOMALIE!N:N,"Fulda") -> 0
A3: Cuijk | B3: =COUNTIF(ANOMALIE!N:N,"Cuijk") -> 0
A4: Opole | B4: =COUNTIF(ANOMALIE!N:N,"Opole") -> 0
A5: Istra | B5: =COUNTIF(ANOMALIE!N:N,"Istra") -> 0
