Workbook
Name base: Tableau1[]
Name base: Tableau1[]
Name résumé: Feuil2!$A$5:$AS$34
Name résumé: Feuil1!$A$5:$AS$34

Sheet service d'attache
A1: Code de service d'attache | B1: Description du service d'attache
A2: 113 | B2: Académie de Formation Renaissance
A3: 521 | B3: CD Cousineau-Promenade du Parc
A4: 518 | B4: CD René-Laennec-Pl. Vilamont - ADC
A5: 200 | B5: Centre de Distribution
A6: 520 | B6: Centre de don 1148 Chambly - ADC
A7: 502 | B7: Centre de don ADC Cadillac | C7: SSP
A8: 503 | B8: Centre de don ADC Concorde | C8: SSP
A9: 501 | B9: Centre de don ADC Des Sources
A10: 505 | B10: Centre de don ADC Fleury
A11: 404 | B11: Centre de don ADC Pierrefonds
A12: 409 | B12: Centre de don ADC Saint-Luc
A13: 510 | B13: Centre de don Beaconsfield - ADC
A14: 509 | B14: Centre de don Blainville - ADC
A15: 528 | B15: Centre de don Carnaval - ADC
A16: 519 | B16: Centre de don Chambly - Rémillard | C16: Nabil
A17: 504 | B17: Centre de don Des Laurentides-Lacas | C17: Nabil
A18: 526 | B18: Centre de don Des Oiseaux - ADC | C18: Adil
A19: 511 | B19: Centre de don Dorval - ADC | C19: Maria
A20: 524 | B20: Centre de don Faubourg Des Prairies | C20: Adil
A21: 529 | B21: Centre de don Grande Allée | C21: Maria
A22: 532 | B22: Centre de don Greenfield Park | C22: Maria
A23: 527 | B23: Centre de don Hymus - ADC | C23: Violaine
A24: 512 | B24: Centre de don Ile Bizard - ADC | C24: Adil
A25: 513 | B25: Centre de don Ile des Soeurs - ADC | C25: Maria
A26: 522 | B26: Centre de don Jarry -Grenier ADC | C26: Maria
A27: 517 | B27: Centre de don Jolibourg - ADC | C27: Maria
... A77: 201 | B77: Transport | C77: Responsable ADC

Sheet données
A1: Login | B1: Prénom | C1: Nom | D1: Service | E1: Date de début | F1: Actif | G1: Nom du poste | H1: Unité fonctionelle | I1: code service d'attache | J1: Service d'attache | K1: Date de Ré-embauche | L1: Accueil 3 - "La santé avant tout" | M1: Etat de Accueil 3 - "La santé avant tout" | N1: Score de Accueil 3 - "La santé avant tout" | O1: Progression de Accueil 3 - "La santé avant tout" | P1: Date de validation Accueil 3 - "La santé avant tout" | Q1: Accueil 4 - La riviere des dons à Renaissance (V2020) | R1: Etat de Accueil 4 - La riviere des dons à Renaissance (V2020) | S1: Score de Accueil 4 - La riviere des dons à Renaissance (V2020) | T1: Progression de Accueil 4 - La riviere des dons à Renaissance (V2020) | U1: Date de validation Accueil 4 - La riviere des dons à Renaissance (V2020) | V1: Accueil 2 "La vie chez Renaissance V2" | W1: Etat de Accueil 2 "La vie chez Renaissance V2" | X1: Score de Accueil 2 "La vie chez Renaissance V2" | Y1: Progression de Accueil 2 "La vie chez Renaissance V2" | Z1: Date de validation Accueil 2 "La vie chez Renaissance V2" | AA1: Formation ARPE-Québec | AB1: Etat de Formation ARPE-Québec | AC1: Score de Formation ARPE-Québec | AD1: Progression de Formation ARPE-Québec | AE1: Date de validation Formation ARPE-Québec | AF1: Cybersécurité | AG1: Etat de Cybersécurité | AH1: Score de Cybersécurité | AI1: Progression de Cybersécurité | AJ1: Date de validation Cybersécurité | AK1: Cybersécurité-Questionnaire | AL1: Etat de Cybersécurité-Questionnaire | AM1: Score de Cybersécurité-Questionnaire | AN1: Progression de Cybersécurité-Questionnaire | AO1: Date de validation Cybersécurité-Questionnaire | AP1: Formation SST: La prévention du harcelement et de la violence au travail | AQ1: Etat de Formation SST: La prévention du harcelement et de la violence au travail | AR1: Score de Formation SST: La prévention du harcelement et de la violence au travail | AS1: Progression de Formation SST: La prévention du harcelement et de la violence au travail | AT1: Date de validation Formation SST: La prévention du harcelement et de la violence au travail | AU1: Accueil 1 - Bienvenue chez Renaissance 2021 | AV1: Etat de Accueil 1 - Bienvenue chez Renaissance 2021 | AW1: Score de Accueil 1 - Bienvenue chez Renaissance 2021 | AX1: Progression de Accueil 1 - Bienvenue chez Renaissance 2021 | AY1: Date de validation Accueil 1 - Bienvenue chez Renaissance 2021 | AZ1: Quiz d'integration | BA1: Etat de Quiz d'integration | BB1: Score de Quiz d'integration | BC1: Progression de Quiz d'integration | BD1: Date de validation Quiz d'integration | BE1: Sondage d'intégration d'un nouvel employé | BF1: Etat de Sondage d'intégration d'un nouvel employé | BG1: Score de Sondage d'intégration d'un nouvel employé | BH1: Progression de Sondage d'intégration d'un nouvel employé | BI1: Date de validation Sondage d'intégration d'un nouvel employé | BJ1: SST: Prévention de la Covid-19 en milieu de travail | BK1: Etat de SST: Prévention de la Covid-19 en milieu de travail | BL1: Score de SST: Prévention de la Covid-19 en milieu de travail | BM1: Progression de SST: Prévention de la Covid-19 en milieu de travail | BN1: Date de validation SST: Prévention de la Covid-19 en milieu de travail
A2: 22U6000003298 | B2: Ossama | C2: ABDAAL | E2: 43325 | F2: Oui | G2: ADC - Préposé aux donateurs | H2: 22U6 | I2: 525 | J2: Centre de don Sherbrooke E. - ADC | L2: Accueil 3 - "La santé avant tout" | M2: Validé | N2: 100 | O2: 100 | P2: 20/08/2018 | Q2: Accueil 4 - La riviere des dons à Renaissance (V2020) | R2: Pas commencé | V2: Accueil 2 "La vie chez Renaissance V2" | W2: Validé | X2: 100 | Y2: 100 | Z2: 20/08/2018 | AA2: Formation ARPE-Québec | AB2: Pas commencé | AF2: Cybersécurité | AG2: Validé | AH2: 0 | AI2: 100 | AJ2: 27/11/2020 | AK2: Cybersécurité-Questionnaire | AL2: Validé | AM2: 80 | AN2: 100 | AO2: 27/11/2020 | AP2: Formation SST: La prévention du harcelement et de la violence au travail | AQ2: Pas commencé | AU2: Accueil 1 - Bienvenue chez Renaissance 2021 | AV2: Pas commencé | AZ2: Quiz d'integration | BA2: En cours | BB2: 0 | BC2: 50 | BE2: Sondage d'intégration d'un nouvel employé | BF2: Pas commencé | BJ2: SST: Prévention de la Covid-19 en milieu de travail | BK2: Validé | BL2: 0 | BM2: 100 | BN2: 23/02/2021
A3: 22U6000004810 | B3: Lana | C3: ABDALLAH | E3: 44253 | F3: Oui | G3: GGC- Caissier Commis Boutique | H3: 22U6 | I3: 314 | J3: Mag. Galerie des sources | L3: Accueil 3 - "La santé avant tout" | M3: Validé | N3: 0 | O3: 100 | P3: 26/02/2021 | Q3: Accueil 4 - La riviere des dons à Renaissance (V2020) | R3: Validé | S3: 0 | T3: 100 | U3: 26/02/2021 | V3: Accueil 2 "La vie chez Renaissance V2" | W3: Validé | X3: 0 | Y3: 100 | Z3: 26/02/2021 | AA3: Formation ARPE-Québec | AB3: Validé | AC3: 0 | AD3: 100 | AE3: 26/02/2021 | AF3: Cybersécurité | AG3: Validé | AH3: 0 | AI3: 100 | AJ3: 26/02/2021 | AK3: Cybersécurité-Questionnaire | AL3: Validé | AM3: 80 | AN3: 100 | AO3: 26/02/2021 | AP3: Formation SST: La prévention du harcelement et de la violence au travail | AQ3: Validé | AR3: 0 | AS3: 100 | AT3: 26/02/2021 | AU3: Accueil 1 - Bienvenue chez Renaissance 2021 | AV3: Validé | AW3: 0 | AX3: 100 | AY3: 26/02/2021 | AZ3: Quiz d'integration | BA3: Pas commencé | BE3: Sondage d'intégration d'un nouvel employé | BF3: Pas commencé | BJ3: SST: Prévention de la Covid-19 en milieu de travail | BK3: Validé | BL3: 0 | BM3: 100 | BN3: 26/02/2021
A4: 22U6000004922 | B4: Afyaa | C4: ABDEL MAHDI | E4: 44274 | F4: Oui | G4: GGC-Commis plancher&Cabine | H4: 22U6 | I4: 302 | J4: Mag. Des Laurentides | L4: Accueil 3 - "La santé avant tout" | M4: Pas commencé | Q4: Accueil 4 - La riviere des dons à Renaissance (V2020) | R4: Pas commencé | V4: Accueil 2 "La vie chez Renaissance V2" | W4: Pas commencé | AA4: Formation ARPE-Québec | AB4: Pas commencé | AF4: Cybersécurité | AG4: Pas commencé | AK4: Cybersécurité-Questionnaire | AL4: Pas commencé | AP4: Formation SST: La prévention du harcelement et de la violence au travail | AQ4: Pas commencé | AU4: Accueil 1 - Bienvenue chez Renaissance 2021 | AV4: Pas commencé | AZ4: Quiz d'integration | BA4: Pas commencé | BE4: Sondage d'intégration d'un nouvel employé | BF4: Pas commencé | BJ4: SST: Prévention de la Covid-19 en milieu de travail | BK4: Pas commencé
A5: 22U6000003239 | B5: Foudil | C5: ABDELADIM | E5: 43285 | F5: Oui | G5: GGC- Etiq Electro | H5: 22U6 | I5: 308 | J5: Mag. Pie-IX | L5: Accueil 3 - "La santé avant tout" | M5: Validé | N5: 100 | O5: 100 | P5: 05/07/2018 | Q5: Accueil 4 - La riviere des dons à Renaissance (V2020) | R5: Pas commencé | V5: Accueil 2 "La vie chez Renaissance V2" | W5: Validé | X5: 100 | Y5: 100 | Z5: 05/07/2018 | AA5: Formation ARPE-Québec | AB5: Pas commencé | AF5: Cybersécurité | AG5: Validé | AH5: 0 | AI5: 100 | AJ5: 27/02/2021 | AK5: Cybersécurité-Questionnaire | AL5: Validé | AM5: 80 | AN5: 100 | AO5: 27/02/2021 | AP5: Formation SST: La prévention du harcelement et de la violence au travail | AQ5: Pas commencé | AU5: Accueil 1 - Bienvenue chez Renaissance 2021 | AV5: Pas commencé | AZ5: Quiz d'integration | BA5: Pas commencé | BE5: Sondage d'intégration d'un nouvel employé | BF5: Pas commencé | BJ5: SST: Prévention de la Covid-19 en milieu de travail | BK5: Validé | BL5: 0 | BM5: 100 | BN5: 27/02/2021
A6: 22U6000003062 | B6: Nabil | C6: ABDELWAHAB | E6: 43528 | F6: Oui | G6: CDD - Superviseur au transport et approv. | H6: 22U6 | I6: 109 | J6: Sup approvissionnement et transport | K6: 43528 | L6: Accueil 3 - "La santé avant tout" | M6: Pas commencé | Q6: Accueil 4 - La riviere des dons à Renaissance (V2020) | R6: Pas commencé | V6: Accueil 2 "La vie chez Renaissance V2" | W6: Pas commencé | AA6: Formation ARPE-Québec | AB6: Validé | AC6: 0 | AD6: 100 | AE6: 29/09/2020 | AF6: Cybersécurité | AG6: Validé | AH6: 0 | AI6: 100 | AJ6: 15/11/2020 | AK6: Cybersécurité-Questionnaire | AL6: Validé | AM6: 100 | AN6: 100 | AO6: 15/11/2020 | AP6: Formation SST: La prévention du harcelement et de la violence au travail | AQ6: Pas commencé | AU6: Accueil 1 - Bienvenue chez Renaissance 2021 | AV6: Pas commencé | AZ6: Quiz d'integration | BA6: Pas commencé | BE6: Sondage d'intégration d'un nouvel employé | BF6: Pas commencé | BJ6: SST: Prévention de la Covid-19 en milieu de travail | BK6: Validé | BL6: 0 | BM6: 100 | BN6: 16/02/2021
A7: 22U6000004615 | B7: Diar | C7: ABED | E7: 44140 | F7: Oui | G7: GGC- Caissier Commis Boutique | H7: 22U6 | I7: 313 | J7: Mag. Portobello | L7: Accueil 3 - "La santé avant tout" | M7: Pas commencé | Q7: Accueil 4 - La riviere des dons à Renaissance (V2020) | R7: Pas commencé | V7: Accueil 2 "La vie chez Renaissance V2" | W7: Pas commencé | AA7: Formation ARPE-Québec | AB7: En cours | AC7: 0 | AD7: 50 | AF7: Cybersécurité | AG7: Validé | AH7: 0 | AI7: 100 | AJ7: 26/02/2021 | AK7: Cybersécurité-Questionnaire | AL7: Terminé, non validé | AM7: 70 | AN7: 100 | AP7: Formation SST: La prévention du harcelement et de la violence au travail | AQ7: Pas commencé | AU7: Accueil 1 - Bienvenue chez Renaissance 2021 | AV7: Pas commencé | AZ7: Quiz d'integration | BA7: Pas commencé | BE7: Sondage d'intégration d'un nouvel employé | BF7: Pas commencé | BJ7: SST: Prévention de la Covid-19 en milieu de travail | BK7: Pas commencé
A8: 22U6000002928 | B8: Rehab | C8: ABED | E8: 43052 | F8: Oui | G8: GGC-Etiq HG2 | H8: 22U6 | I8: 312 | J8: Mag. Centre St-Martin | L8: Accueil 3 - "La santé avant tout" | M8: Validé | N8: 100 | O8: 100 | P8: 14/11/2017 | Q8: Accueil 4 - La riviere des dons à Renaissance (V2020) | R8: Pas commencé | V8: Accueil 2 "La vie chez Renaissance V2" | W8: Pas commencé | AA8: Formation ARPE-Québec | AB8: Pas commencé | AF8: Cybersécurité | AG8: En cours | AH8: 0 | AI8: 50 | AK8: Cybersécurité-Questionnaire | AL8: En cours | AM8: 0 | AN8: 50 | AP8: Formation SST: La prévention du harcelement et de la violence au travail | AQ8: Pas commencé | AU8: Accueil 1 - Bienvenue chez Renaissance 2021 | AV8: Pas commencé | AZ8: Quiz d'integration | BA8: Pas commencé | BE8: Sondage d'intégration d'un nouvel employé | BF8: Pas commencé | BJ8: SST: Prévention de la Covid-19 en milieu de travail | BK8: Validé | BL8: 0 | BM8: 100 | BN8: 25/02/2021
A9: 22U6000003221 | B9: Said | C9: ABOUCHE | E9: 43269 | F9: Oui | G9: CDL- Caissier | H9: 22U6 | I9: 400 | J9: Centre de Liquidation | L9: Accueil 3 - "La santé avant tout" | M9: Validé | N9: 100 | O9: 100 | P9: 19/06/2018 | Q9: Accueil 4 - La riviere des dons à Renaissance (V2020) | R9: Pas commencé | V9: Accueil 2 "La vie chez Renaissance V2" | W9: Validé | X9: 100 | Y9: 100 | Z9: 19/06/2018 | AA9: Formation ARPE-Québec | AB9: Pas commencé | AF9: Cybersécurité | AG9: Validé | AH9: 0 | AI9: 100 | AJ9: 23/10/2020 | AK9: Cybersécurité-Questionnaire | AL9: Validé | AM9: 100 | AN9: 100 | AO9: 23/10/2020 | AP9: Formation SST: La prévention du harcelement et de la violence au travail | AQ9: Pas commencé | AU9: Accueil 1 - Bienvenue chez Renaissance 2021 | AV9: Pas commencé | AZ9: Quiz d'integration | BA9: Pas commencé | BE9: Sondage d'intégration d'un nouvel employé | BF9: Pas commencé | BJ9: SST: Prévention de la Covid-19 en milieu de travail | BK9: Validé | BL9: 0 | BM9: 100 | BN9: 25/02/2021
A10: 22U6000000265 | B10: Zineb | C10: ABOUSSAAD | E10: 37005 | F10: Oui | G10: Adjoint de direction | H10: 22U6 | I10: 100 | J10: Direction Générale | L10: Accueil 3 - "La santé avant tout" | M10: Pas commencé | Q10: Accueil 4 - La riviere des dons à Renaissance (V2020) | R10: Pas commencé | V10: Accueil 2 "La vie chez Renaissance V2" | W10: Pas commencé | AA10: Formation ARPE-Québec | AB10: Pas commencé | AF10: Cybersécurité | AG10: Validé | AH10: 100 | AI10: 100 | AJ10: 18/02/2021 | AK10: Cybersécurité-Questionnaire | AL10: Validé | AM10: 100 | AN10: 100 | AO10: 20/09/2020 | AP10: Formation SST: La prévention du harcelement et de la violence au travail | AQ10: Pas commencé | AU10: Accueil 1 - Bienvenue chez Renaissance 2021 | AV10: Pas commencé | AZ10: Quiz d'integration | BA10: Pas commencé | BE10: Sondage d'intégration d'un nouvel employé | BF10: Pas commencé | BJ10: SST: Prévention de la Covid-19 en milieu de travail | BK10: Validé | BL10: 100 | BM10: 100 | BN10: 18/02/2021
A11: 22U6000003167 | B11: Mariam | C11: ABSLAMI | E11: 43243 | F11: Oui | G11: GGC-Commis plancher&Cabine | H11: 22U6 | I11: 309 | J11: Mag. Côte-des-Neiges | L11: Accueil 3 - "La santé avant tout" | M11: Validé | N11: 0 | O11: 100 | P11: 08/10/2020 | Q11: Accueil 4 - La riviere des dons à Renaissance (V2020) | R11: Validé | S11: 0 | T11: 100 | U11: 08/10/2020 | V11: Accueil 2 "La vie chez Renaissance V2" | W11: Validé | X11: 0 | Y11: 100 | Z11: 08/10/2020 | AA11: Formation ARPE-Québec | AB11: Pas commencé | AF11: Cybersécurité | AG11: Validé | AH11: 0 | AI11: 100 | AJ11: 26/02/2021 | AK11: Cybersécurité-Questionnaire | AL11: Validé | AM11: 90 | AN11: 100 | AO11: 26/02/2021 | AP11: Formation SST: La prévention du harcelement et de la violence au travail | AQ11: Pas commencé | AU11: Accueil 1 - Bienvenue chez Renaissance 2021 | AV11: Pas commencé | AZ11: Quiz d'integration | BA11: Pas commencé | BE11: Sondage d'intégration d'un nouvel employé | BF11: Pas commencé | BJ11: SST: Prévention de la Covid-19 en milieu de travail | BK11: Validé | BL11: 0 | BM11: 100 | BN11: 26/02/2021
A12: 22U6000001692 | B12: Patrick | C12: ABUD | E12: 41396 | F12: Oui | G12: Prépose entretien ménager - accompagnateur | H12: 22U6 | I12: 110 | J12: Entretien et ménager | L12: Accueil 3 - "La santé avant tout" | M12: Pas commencé | Q12: Accueil 4 - La riviere des dons à Renaissance (V2020) | R12: Pas commencé | V12: Accueil 2 "La vie chez Renaissance V2" | W12: Pas commencé | AA12: Formation ARPE-Québec | AB12: Pas commencé | AF12: Cybersécurité | AG12: Validé | AH12: 0 | AI12: 100 | AJ12: 09/02/2021 | AK12: Cybersécurité-Questionnaire | AL12: Validé | AM12: 90 | AN12: 100 | AO12: 09/02/2021 | AP12: Formation SST: La prévention du harcelement et de la violence au travail | AQ12: Pas commencé | AU12: Accueil 1 - Bienvenue chez Renaissance 2021 | AV12: Pas commencé | AZ12: Quiz d'integration | BA12: Pas commencé | BE12: Sondage d'intégration d'un nouvel employé | BF12: Pas commencé | BJ12: SST: Prévention de la Covid-19 en milieu de travail | BK12: Validé | BL12: 0 | BM12: 100 | BN12: 08/02/2021
A13: 22U6000002693 | B13: Dante Justo | C13: ACOSTA HERRERA | E13: 42878 | F13: Oui | G13: ADC - Préposé aux donateurs | H13: 22U6 | I13: 512 | J13: Centre de don Ile Bizard - ADC | L13: Accueil 3 - "La santé avant tout" | M13: Validé | N13: 0 | O13: 100 | P13: 22/11/2017 | Q13: Accueil 4 - La riviere des dons à Renaissance (V2020) | R13: En cours | S13: 0 | T13: 50 | V13: Accueil 2 "La vie chez Renaissance V2" | W13: Validé | X13: 0 | Y13: 100 | Z13: 18/06/2021 | AA13: Formation ARPE-Québec | AB13: Validé | AC13: 0 | AD13: 100 | AE13: 11/06/2021 | AF13: Cybersécurité | AG13: Validé | AH13: 0 | AI13: 100 | AJ13: 18/10/2020 | AK13: Cybersécurité-Questionnaire | AL13: Validé | AM13: 90 | AN13: 100 | AO13: 14/11/2020 | AP13: Formation SST: La prévention du harcelement et de la violence au travail | AQ13: Pas commencé | AU13: Accueil 1 - Bienvenue chez Renaissance 2021 | AV13: Validé | AW13: 0 | AX13: 100 | AY13: 18/06/2021 | AZ13: Quiz d'integration | BA13: Pas commencé | BE13: Sondage d'intégration d'un nouvel employé | BF13: Pas commencé | BJ13: SST: Prévention de la Covid-19 en milieu de travail | BK13: Validé | BL13: 0 | BM13: 100 | BN13: 24/02/2021
A14: 22U6000001168 | B14: Aicha | C14: ACOURTAME | E14: 40472 | F14: Oui | G14: GGC- Monteur | H14: 22U6 | I14: 302 | J14: Mag. Des Laurentides | L14: Accueil 3 - "La santé avant tout" | M14: Validé | N14: 100 | O14: 100 | P14: 24/08/2017 | Q14: Accueil 4 - La riviere des dons à Renaissance (V2020) | R14: Pas commencé | V14: Accueil 2 "La vie chez Renaissance V2" | W14: Validé | X14: 0 | Y14: 100 | Z14: 16/07/2020 | AA14: Formation ARPE-Québec | AB14: Validé | AC14: 0 | AD14: 100 | AE14: 28/03/2021 | AF14: Cybersécurité | AG14: Validé | AH14: 0 | AI14: 100 | AJ14: 25/02/2021 | AK14: Cybersécurité-Questionnaire | AL14: Terminé, non validé | AM14: 60 | AN14: 100 | AP14: Formation SST: La prévention du harcelement et de la violence au travail | AQ14: Pas commencé | AU14: Accueil 1 - Bienvenue chez Renaissance 2021 | AV14: Pas commencé | AZ14: Quiz d'integration | BA14: Pas commencé | BE14: Sondage d'intégration d'un nouvel employé | BF14: Pas commencé | BJ14: SST: Prévention de la Covid-19 en milieu de travail | BK14: Validé | BL14: 0 | BM14: 100 | BN14: 28/03/2021
A15: 22U6000005154 | B15: Henry Adebayo | C15: ADEDUWON | E15: 44331 | F15: Oui | G15: CDD-Commis d'entrepôt | H15: 22U6 | I15: 200 | J15: Centre de Distribution | L15: Accueil 3 - "La santé avant tout" | M15: Pas commencé | Q15: Accueil 4 - La riviere des dons à Renaissance (V2020) | R15: Pas commencé | V15: Accueil 2 "La vie chez Renaissance V2" | W15: Pas commencé | AA15: Formation ARPE-Québec | AB15: Pas commencé | AF15: Cybersécurité | AG15: Pas commencé | AK15: Cybersécurité-Questionnaire | AL15: Pas commencé | AP15: Formation SST: La prévention du harcelement et de la violence au travail | AQ15: Pas commencé | AU15: Accueil 1 - Bienvenue chez Renaissance 2021 | AV15: Pas commencé | AZ15: Quiz d'integration | BA15: Pas commencé | BE15: Sondage d'intégration d'un nouvel employé | BF15: Pas commencé | BJ15: SST: Prévention de la Covid-19 en milieu de travail | BK15: Pas commencé
A16: 22U6000002558 | B16: Sonia Morelle | C16: ADJANOHOUN | E16: 42646 | F16: Oui | G16: Paie Maitre | H16: 22U6 | I16: 104 | J16: Dir. des finances et l'informatique | L16: Accueil 3 - "La santé avant tout" | M16: Pas commencé | Q16: Accueil 4 - La riviere des dons à Renaissance (V2020) | R16: Pas commencé | V16: Accueil 2 "La vie chez Renaissance V2" | W16: Pas commencé | AA16: Formation ARPE-Québec | AB16: Pas commencé | AF16: Cybersécurité | AG16: Validé | AH16: 0 | AI16: 100 | AJ16: 21/10/2020 | AK16: Cybersécurité-Questionnaire | AL16: Validé | AM16: 80 | AN16: 100 | AO16: 19/02/2021 | AP16: Formation SST: La prévention du harcelement et de la violence au travail | AQ16: Pas commencé | AU16: Accueil 1 - Bienvenue chez Renaissance 2021 | AV16: Pas commencé | AZ16: Quiz d'integration | BA16: Pas commencé | BE16: Sondage d'intégration d'un nouvel employé | BF16: Pas commencé | BJ16: SST: Prévention de la Covid-19 en milieu de travail | BK16: En cours | BL16: 0 | BM16: 50
A17: 22U6000004908 | B17: Mohamed Akli | C17: AFETTOUCHE | E17: 44268 | F17: Oui | G17: Camionneur déménageur C1 | H17: 22U6 | I17: 201 | J17: Transport | L17: Accueil 3 - "La santé avant tout" | M17: Validé | N17: 100 | O17: 100 | P17: 15/03/2021 | Q17: Accueil 4 - La riviere des dons à Renaissance (V2020) | R17: Validé | S17: 100 | T17: 100 | U17: 15/03/2021 | V17: Accueil 2 "La vie chez Renaissance V2" | W17: Validé | X17: 100 | Y17: 100 | Z17: 15/03/2021 | AA17: Formation ARPE-Québec | AB17: Pas commencé | AF17: Cybersécurité | AG17: Pas commencé | AK17: Cybersécurité-Questionnaire | AL17: Pas commencé | AP17: Formation SST: La prévention du harcelement et de la violence au travail | AQ17: Pas commencé | AU17: Accueil 1 - Bienvenue chez Renaissance 2021 | AV17: Validé | AW17: 100 | AX17: 100 | AY17: 15/03/2021 | AZ17: Quiz d'integration | BA17: Pas commencé | BE17: Sondage d'intégration d'un nouvel employé | BF17: Pas commencé | BJ17: SST: Prévention de la Covid-19 en milieu de travail | BK17: Validé | BL17: 100 | BM17: 100 | BN17: 15/03/2021
A18: 22U6000005057 | B18: Rabia | C18: AHMIMOU | E18: 44304 | F18: Oui | G18: GGC-Etiq HG1 | H18: 22U6 | I18: 310 | J18: Mag. Henri Bourassa | L18: Accueil 3 - "La santé avant tout" | M18: Validé | N18: 0 | O18: 100 | P18: 18/04/2021 | Q18: Accueil 4 - La riviere des dons à Renaissance (V2020) | R18: Validé | S18: 0 | T18: 100 | U18: 18/04/2021 | V18: Accueil 2 "La vie chez Renaissance V2" | W18: Validé | X18: 0 | Y18: 100 | Z18: 18/04/2021 | AA18: Formation ARPE-Québec | AB18: Pas commencé | AF18: Cybersécurité | AG18: Validé | AH18: 0 | AI18: 100 | AJ18: 18/04/2021 | AK18: Cybersécurité-Questionnaire | AL18: Pas commencé | AP18: Formation SST: La prévention du harcelement et de la violence au travail | AQ18: Pas commencé | AU18: Accueil 1 - Bienvenue chez Renaissance 2021 | AV18: Validé | AW18: 0 | AX18: 100 | AY18: 18/04/2021 | AZ18: Quiz d'integration | BA18: Pas commencé | BE18: Sondage d'intégration d'un nouvel employé | BF18: Pas commencé | BJ18: SST: Prévention de la Covid-19 en milieu de travail | BK18: Pas commencé
A19: 22U6000002657 | B19: Laurette | C19: AHO | E19: 42835 | F19: Oui | G19: GGC- Caissier Commis Boutique | H19: 22U6 | I19: 309 | J19: Mag. Côte-des-Neiges | L19: Accueil 3 - "La santé avant tout" | M19: Validé | N19: 100 | O19: 100 | P19: 24/08/2017 | Q19: Accueil 4 - La riviere des dons à Renaissance (V2020) | R19: Pas commencé | V19: Accueil 2 "La vie chez Renaissance V2" | W19: Pas commencé | AA19: Formation ARPE-Québec | AB19: Pas commencé | AF19: Cybersécurité | AG19: Validé | AH19: 0 | AI19: 100 | AJ19: 22/02/2021 | AK19: Cybersécurité-Questionnaire | AL19: Validé | AM19: 90 | AN19: 100 | AO19: 22/02/2021 | AP19: Formation SST: La prévention du harcelement et de la violence au travail | AQ19: Pas commencé | AU19: Accueil 1 - Bienvenue chez Renaissance 2021 | AV19: Pas commencé | AZ19: Quiz d'integration | BA19: Pas commencé | BE19: Sondage d'intégration d'un nouvel employé | BF19: Pas commencé | BJ19: SST: Prévention de la Covid-19 en milieu de travail | BK19: Validé | BL19: 0 | BM19: 100 | BN19: 19/02/2021
A20: 22U6000003861 | B20: Mohamed | C20: AIN AMAKRAN | E20: 43677 | F20: Oui | G20: GGC-Assistant gérant | H20: 22U6 | I20: 304 | J20: Mag. Saint-Hubert | L20: Accueil 3 - "La santé avant tout" | M20: Validé | N20: 0 | O20: 100 | P20: 03/11/2020 | Q20: Accueil 4 - La riviere des dons à Renaissance (V2020) | R20: Validé | S20: 0 | T20: 100 | U20: 03/11/2020 | V20: Accueil 2 "La vie chez Renaissance V2" | W20: Validé | X20: 0 | Y20: 100 | Z20: 06/07/2020 | AA20: Formation ARPE-Québec | AB20: Validé | AC20: 0 | AD20: 100 | AE20: 03/11/2020 | AF20: Cybersécurité | AG20: Validé | AH20: 0 | AI20: 100 | AJ20: 03/11/2020 | AK20: Cybersécurité-Questionnaire | AL20: Validé | AM20: 100 | AN20: 100 | AO20: 03/11/2020 | AP20: Formation SST: La prévention du harcelement et de la violence au travail | AQ20: Pas commencé | AU20: Accueil 1 - Bienvenue chez Renaissance 2021 | AV20: Pas commencé | AZ20: Quiz d'integration | BA20: Terminé, non validé | BB20: 77.7 | BC20: 100 | BE20: Sondage d'intégration d'un nouvel employé | BF20: Pas commencé | BJ20: SST: Prévention de la Covid-19 en milieu de travail | BK20: Validé | BL20: 0 | BM20: 100 | BN20: 23/02/2021
A21: 22U6000004703 | B21: Samira | C21: AIT BENALI | E21: 44163 | F21: Oui | G21: GGC- Etiq Accessoires | H21: 22U6 | I21: 303 | J21: Mag. Verdun | L21: Accueil 3 - "La santé avant tout" | M21: Pas commencé | Q21: Accueil 4 - La riviere des dons à Renaissance (V2020) | R21: Pas commencé | V21: Accueil 2 "La vie chez Renaissance V2" | W21: Pas commencé | AA21: Formation ARPE-Québec | AB21: Pas commencé | AF21: Cybersécurité | AG21: Validé | AH21: 0 | AI21: 100 | AJ21: 25/02/2021 | AK21: Cybersécurité-Questionnaire | AL21: Terminé, non validé | AM21: 70 | AN21: 100 | AP21: Formation SST: La prévention du harcelement et de la violence au travail | AQ21: Pas commencé | AU21: Accueil 1 - Bienvenue chez Renaissance 2021 | AV21: Pas commencé | AZ21: Quiz d'integration | BA21: Pas commencé | BE21: Sondage d'intégration d'un nouvel employé | BF21: Pas commencé | BJ21: SST: Prévention de la Covid-19 en milieu de travail | BK21: Validé | BL21: 0 | BM21: 100 | BN21: 25/02/2021
A22: 22U5000007972 | B22: Hamid | C22: AIT HAMOUCHE | E22: 43514 | F22: Oui | G22: GGC Préposé entretiens ménager | H22: 22U6 | I22: 307 | J22: Mag. Saint-Jacques | K22: 43514 | L22: Accueil 3 - "La santé avant tout" | M22: Pas commencé | Q22: Accueil 4 - La riviere des dons à Renaissance (V2020) | R22: Pas commencé | V22: Accueil 2 "La vie chez Renaissance V2" | W22: Pas commencé | AA22: Formation ARPE-Québec | AB22: Pas commencé | AF22: Cybersécurité | AG22: Pas commencé | AK22: Cybersécurité-Questionnaire | AL22: Pas commencé | AP22: Formation SST: La prévention du harcelement et de la violence au travail | AQ22: Pas commencé | AU22: Accueil 1 - Bienvenue chez Renaissance 2021 | AV22: Pas commencé | AZ22: Quiz d'integration | BA22: Pas commencé | BE22: Sondage d'intégration d'un nouvel employé | BF22: Pas commencé | BJ22: SST: Prévention de la Covid-19 en milieu de travail | BK22: Pas commencé
A23: 22U6000004971 | B23: Malik | C23: AIT MOHAND | E23: 44286 | F23: Oui | G23: GGC-Etiq Livres | H23: 22U6 | I23: 311 | J23: Mag. Galeries Normandie | L23: Accueil 3 - "La santé avant tout" | M23: Pas commencé | Q23: Accueil 4 - La riviere des dons à Renaissance (V2020) | R23: Pas commencé | V23: Accueil 2 "La vie chez Renaissance V2" | W23: Pas commencé | AA23: Formation ARPE-Québec | AB23: Pas commencé | AF23: Cybersécurité | AG23: Pas commencé | AK23: Cybersécurité-Questionnaire | AL23: Pas commencé | AP23: Formation SST: La prévention du harcelement et de la violence au travail | AQ23: Pas commencé | AU23: Accueil 1 - Bienvenue chez Renaissance 2021 | AV23: Pas commencé | AZ23: Quiz d'integration | BA23: Pas commencé | BE23: Sondage d'intégration d'un nouvel employé | BF23: Pas commencé | BJ23: SST: Prévention de la Covid-19 en milieu de travail | BK23: Pas commencé
A24: 22U6000004836 | B24: Sikirat Titilopé | C24: AKADIRI | E24: 44256 | F24: Oui | G24: GGC-Commis plancher&Cabine | H24: 22U6 | I24: 309 | J24: Mag. Côte-des-Neiges | L24: Accueil 3 - "La santé avant tout" | M24: Validé | N24: 0 | O24: 100 | P24: 01/03/2021 | Q24: Accueil 4 - La riviere des dons à Renaissance (V2020) | R24: Validé | S24: 0 | T24: 100 | U24: 01/03/2021 | V24: Accueil 2 "La vie chez Renaissance V2" | W24: Validé | X24: 0 | Y24: 100 | Z24: 01/03/2021 | AA24: Formation ARPE-Québec | AB24: Pas commencé | AF24: Cybersécurité | AG24: Pas commencé | AK24: Cybersécurité-Questionnaire | AL24: Pas commencé | AP24: Formation SST: La prévention du harcelement et de la violence au travail | AQ24: Validé | AR24: 0 | AS24: 100 | AT24: 01/03/2021 | AU24: Accueil 1 - Bienvenue chez Renaissance 2021 | AV24: Validé | AW24: 0 | AX24: 100 | AY24: 01/03/2021 | AZ24: Quiz d'integration | BA24: Validé | BB24: 94.4 | BC24: 100 | BD24: 01/03/2021 | BE24: Sondage d'intégration d'un nouvel employé | BF24: Pas commencé | BJ24: SST: Prévention de la Covid-19 en milieu de travail | BK24: En cours | BL24: 0 | BM24: 50
A25: 22U6000003023 | B25: Bienheureuse Martine | C25: AKPOVO | E25: 43139 | F25: Oui | G25: GGC-Trieur | H25: 22U6 | I25: 313 | J25: Mag. Portobello | L25: Accueil 3 - "La santé avant tout" | M25: Validé | N25: 100 | O25: 100 | P25: 09/02/2018 | Q25: Accueil 4 - La riviere des dons à Renaissance (V2020) | R25: Pas commencé | V25: Accueil 2 "La vie chez Renaissance V2" | W25: Pas commencé | AA25: Formation ARPE-Québec | AB25: Pas commencé | AF25: Cybersécurité | AG25: Validé | AH25: 0 | AI25: 100 | AJ25: 26/02/2021 | AK25: Cybersécurité-Questionnaire | AL25: Terminé, non validé | AM25: 40 | AN25: 100 | AP25: Formation SST: La prévention du harcelement et de la violence au travail | AQ25: Pas commencé | AU25: Accueil 1 - Bienvenue chez Renaissance 2021 | AV25: Pas commencé | AZ25: Quiz d'integration | BA25: Pas commencé | BE25: Sondage d'intégration d'un nouvel employé | BF25: Pas commencé | BJ25: SST: Prévention de la Covid-19 en milieu de travail | BK25: Pas commencé
A26: 22U6000003998 | B26: Sayma | C26: AKTHER SUCHI | E26: 43794 | F26: Oui | G26: Technicien recrutement | H26: 22U6 | I26: 103 | J26: Direction des ressources humaines | L26: Accueil 3 - "La santé avant tout" | M26: Pas commencé | Q26: Accueil 4 - La riviere des dons à Renaissance (V2020) | R26: Pas commencé | V26: Accueil 2 "La vie chez Renaissance V2" | W26: Validé | X26: 0 | Y26: 100 | Z26: 22/05/2020 | AA26: Formation ARPE-Québec | AB26: Pas commencé | AF26: Cybersécurité | AG26: Validé | AH26: 0 | AI26: 100 | AJ26: 23/02/2021 | AK26: Cybersécurité-Questionnaire | AL26: Validé | AM26: 80 | AN26: 100 | AO26: 23/02/2021 | AP26: Formation SST: La prévention du harcelement et de la violence au travail | AQ26: Pas commencé | AU26: Accueil 1 - Bienvenue chez Renaissance 2021 | AV26: Validé | AW26: 0 | AX26: 100 | AY26: 01/06/2021 | AZ26: Quiz d'integration | BA26: Pas commencé | BE26: Sondage d'intégration d'un nouvel employé | BF26: Pas commencé | BJ26: SST: Prévention de la Covid-19 en milieu de travail | BK26: Validé | BL26: 0 | BM26: 100 | BN26: 26/02/2021
A27: 22U6000002943 | B27: Saeed | C27: AL HALLAKE | E27: 43059 | F27: Oui | G27: Camionneur déménageur C1 | H27: 22U6 | I27: 201 | J27: Transport | L27: Accueil 3 - "La santé avant tout" | M27: Pas commencé | Q27: Accueil 4 - La riviere des dons à Renaissance (V2020) | R27: Pas commencé | V27: Accueil 2 "La vie chez Renaissance V2" | W27: Pas commencé | AA27: Formation ARPE-Québec | AB27: Pas commencé | AF27: Cybersécurité | AG27: Pas commencé | AK27: Cybersécurité-Questionnaire | AL27: Pas commencé | AP27: Formation SST: La prévention du harcelement et de la violence au travail | AQ27: Pas commencé | AU27: Accueil 1 - Bienvenue chez Renaissance 2021 | AV27: Pas commencé | AZ27: Quiz d'integration | BA27: Pas commencé | BE27: Sondage d'intégration d'un nouvel employé | BF27: Pas commencé | BJ27: SST: Prévention de la Covid-19 en milieu de travail | BK27: Pas commencé
A28: 22U6000004886 | B28: Ghinwa | C28: AL MAJZOUB | E28: 44270 | F28: Oui | G28: GGC- Monteur | H28: 22U6 | I28: 312 | J28: Mag. Centre St-Martin | L28: Accueil 3 - "La santé avant tout" | M28: Pas commencé | Q28: Accueil 4 - La riviere des dons à Renaissance (V2020) | R28: Pas commencé | V28: Accueil 2 "La vie chez Renaissance V2" | W28: Pas commencé | AA28: Formation ARPE-Québec | AB28: Pas commencé | AF28: Cybersécurité | AG28: Pas commencé | AK28: Cybersécurité-Questionnaire | AL28: Pas commencé | AP28: Formation SST: La prévention du harcelement et de la violence au travail | AQ28: Pas commencé | AU28: Accueil 1 - Bienvenue chez Renaissance 2021 | AV28: Pas commencé | AZ28: Quiz d'integration | BA28: Pas commencé | BE28: Sondage d'intégration d'un nouvel employé | BF28: Pas commencé | BJ28: SST: Prévention de la Covid-19 en milieu de travail | BK28: Pas commencé
A29: 22U6000005200 | B29: Fatiha | C29: AL MOUHTADI | E29: 44347 | F29: Oui | G29: GGC- Etiq Accessoires | H29: 22U6 | I29: 301 | J29: Mag. Décarie | L29: Accueil 3 - "La santé avant tout" | M29: Validé | N29: 0 | O29: 100 | P29: 31/05/2021 | Q29: Accueil 4 - La riviere des dons à Renaissance (V2020) | R29: Validé | S29: 0 | T29: 100 | U29: 31/05/2021 | V29: Accueil 2 "La vie chez Renaissance V2" | W29: Validé | X29: 0 | Y29: 100 | Z29: 31/05/2021 | AA29: Formation ARPE-Québec | AB29: Pas commencé | AF29: Cybersécurité | AG29: Pas commencé | AK29: Cybersécurité-Questionnaire | AL29: Pas commencé | AP29: Formation SST: La prévention du harcelement et de la violence au travail | AQ29: Pas commencé | AU29: Accueil 1 - Bienvenue chez Renaissance 2021 | AV29: Validé | AW29: 0 | AX29: 100 | AY29: 31/05/2021 | AZ29: Quiz d'integration | BA29: Pas commencé | BE29: Sondage d'intégration d'un nouvel employé | BF29: Pas commencé | BJ29: SST: Prévention de la Covid-19 en milieu de travail | BK29: Pas commencé
A30: 22U6000004728 | B30: Kindah | C30: AL SHAREEF | E30: 44176 | F30: Oui | G30: GGC-Commis plancher&Cabine | H30: 22U6 | I30: 314 | J30: Mag. Galerie des sources | L30: Accueil 3 - "La santé avant tout" | M30: Validé | N30: 0 | O30: 100 | P30: 07/02/2021 | Q30: Accueil 4 - La riviere des dons à Renaissance (V2020) | R30: Validé | S30: 0 | T30: 100 | U30: 07/02/2021 | V30: Accueil 2 "La vie chez Renaissance V2" | W30: Validé | X30: 0 | Y30: 100 | Z30: 07/02/2021 | AA30: Formation ARPE-Québec | AB30: Validé | AC30: 0 | AD30: 100 | AE30: 07/02/2021 | AF30: Cybersécurité | AG30: Validé | AH30: 0 | AI30: 100 | AJ30: 07/02/2021 | AK30: Cybersécurité-Questionnaire | AL30: Validé | AM30: 80 | AN30: 100 | AO30: 07/02/2021 | AP30: Formation SST: La prévention du harcelement et de la violence au travail | AQ30: Pas commencé | AU30: Accueil 1 - Bienvenue chez Renaissance 2021 | AV30: Pas commencé | AZ30: Quiz d'integration | BA30: Validé | BB30: 88.8 | BC30: 100 | BD30: 07/02/2021 | BE30: Sondage d'intégration d'un nouvel employé | BF30: Pas commencé | BJ30: SST: Prévention de la Covid-19 en milieu de travail | BK30: Pas commencé
A31: 22U6000004010 | B31: Abdul Karim | C31: AL TAHRAWI | E31: 43815 | F31: Oui | G31: CDD- Conducteur chariot élévateur | H31: 22U6 | I31: 200 | J31: Centre de Distribution | L31: Accueil 3 - "La santé avant tout" | M31: Pas commencé | Q31: Accueil 4 - La riviere des dons à Renaissance (V2020) | R31: Pas commencé | V31: Accueil 2 "La vie chez Renaissance V2" | W31: Pas commencé | AA31: Formation ARPE-Québec | AB31: Pas commencé | AF31: Cybersécurité | AG31: Pas commencé | AK31: Cybersécurité-Questionnaire | AL31: Pas commencé | AP31: Formation SST: La prévention du harcelement et de la violence au travail | AQ31: Pas commencé | AU31: Accueil 1 - Bienvenue chez Renaissance 2021 | AV31: Pas commencé | AZ31: Quiz d'integration | BA31: Pas commencé | BE31: Sondage d'intégration d'un nouvel employé | BF31: Pas commencé | BJ31: SST: Prévention de la Covid-19 en milieu de travail | BK31: Pas commencé
A32: 22U6000004354 | B32: Ahmad Abdul Kareem Ahmad | C32: AL TAHRAWI | E32: 44029 | F32: Oui | G32: GGC- Préposé aux donateurs | H32: 22U6 | I32: 313 | J32: Mag. Portobello | L32: Accueil 3 - "La santé avant tout" | M32: Pas commencé | Q32: Accueil 4 - La riviere des dons à Renaissance (V2020) | R32: Validé | S32: 0 | T32: 100 | U32: 07/02/2021 | V32: Accueil 2 "La vie chez Renaissance V2" | W32: Pas commencé | AA32: Formation ARPE-Québec | AB32: Validé | AC32: 0 | AD32: 100 | AE32: 07/02/2021 | AF32: Cybersécurité | AG32: Validé | AH32: 0 | AI32: 100 | AJ32: 03/03/2021 | AK32: Cybersécurité-Questionnaire | AL32: Terminé, non validé | AM32: 60 | AN32: 100 | AP32: Formation SST: La prévention du harcelement et de la violence au travail | AQ32: Pas commencé | AU32: Accueil 1 - Bienvenue chez Renaissance 2021 | AV32: Pas commencé | AZ32: Quiz d'integration | BA32: Pas commencé | BE32: Sondage d'intégration d'un nouvel employé | BF32: Pas commencé | BJ32: SST: Prévention de la Covid-19 en milieu de travail | BK32: Pas commencé
A33: 22U6000004547 | B33: Ayman | C33: AL ZABADI | E33: 44104 | F33: Oui | G33: GGC- Préposé aux donateurs | H33: 22U6 | I33: 314 | J33: Mag. Galerie des sources | L33: Accueil 3 - "La santé avant tout" | M33: Pas commencé | Q33: Accueil 4 - La riviere des dons à Renaissance (V2020) | R33: Pas commencé | V33: Accueil 2 "La vie chez Renaissance V2" | W33: Pas commencé | AA33: Formation ARPE-Québec | AB33: Pas commencé | AF33: Cybersécurité | AG33: Validé | AH33: 0 | AI33: 100 | AJ33: 23/02/2021 | AK33: Cybersécurité-Questionnaire | AL33: Validé | AM33: 100 | AN33: 100 | AO33: 23/02/2021 | AP33: Formation SST: La prévention du harcelement et de la violence au travail | AQ33: Pas commencé | AU33: Accueil 1 - Bienvenue chez Renaissance 2021 | AV33: Pas commencé | AZ33: Quiz d'integration | BA33: Pas commencé | BE33: Sondage d'intégration d'un nouvel employé | BF33: Pas commencé | BJ33: SST: Prévention de la Covid-19 en milieu de travail | BK33: Pas commencé
A34: 22U6000003916 | B34: Yaser | C34: AL-SHAMMA | E34: 44241 | F34: Oui | G34: GGC- Préposé aux donateurs | H34: 22U6 | I34: 307 | J34: Mag. Saint-Jacques | K34: 44241 | L34: Accueil 3 - "La santé avant tout" | M34: Pas commencé | Q34: Accueil 4 - La riviere des dons à Renaissance (V2020) | R34: Pas commencé | V34: Accueil 2 "La vie chez Renaissance V2" | W34: Pas commencé | AA34: Formation ARPE-Québec | AB34: Pas commencé | AF34: Cybersécurité | AG34: Pas commencé | AK34: Cybersécurité-Questionnaire | AL34: Pas commencé | AP34: Formation SST: La prévention du harcelement et de la violence au travail | AQ34: Pas commencé | AU34: Accueil 1 - Bienvenue chez Renaissance 2021 | AV34: Pas commencé | AZ34: Quiz d'integration | BA34: Pas commencé | BE34: Sondage d'intégration d'un nouvel employé | BF34: Pas commencé | BJ34: SST: Prévention de la Covid-19 en milieu de travail | BK34: Pas commencé
A35: 22U6000035664 | B35: Ameer | C35: AL-SHAMMAA | E35: 43532 | F35: Oui | G35: GGC- Préposé aux donateurs | H35: 22U6 | I35: 313 | J35: Mag. Portobello | L35: Accueil 3 - "La santé avant tout" | M35: Pas commencé | Q35: Accueil 4 - La riviere des dons à Renaissance (V2020) | R35: Pas commencé | V35: Accueil 2 "La vie chez Renaissance V2" | W35: Pas commencé | AA35: Formation ARPE-Québec | AB35: Pas commencé | AF35: Cybersécurité | AG35: Pas commencé | AK35: Cybersécurité-Questionnaire | AL35: Pas commencé | AP35: Formation SST: La prévention du harcelement et de la violence au travail | AQ35: Pas commencé | AU35: Accueil 1 - Bienvenue chez Renaissance 2021 | AV35: Pas commencé | AZ35: Quiz d'integration | BA35: Pas commencé | BE35: Sondage d'intégration d'un nouvel employé | BF35: Pas commencé | BJ35: SST: Prévention de la Covid-19 en milieu de travail | BK35: Pas commencé
A36: 22U6000001635 | B36: Roko | C36: ALAIN ROLAND | E36: 41310 | F36: Oui | G36: ADC - Préposé aux donateurs | H36: 22U6 | I36: 503 | J36: Centre de don ADC Concorde | L36: Accueil 3 - "La santé avant tout" | M36: Validé | N36: 100 | O36: 100 | P36: 24/08/2017 | Q36: Accueil 4 - La riviere des dons à Renaissance (V2020) | R36: Validé | S36: 0 | T36: 100 | U36: 25/06/2021 | V36: Accueil 2 "La vie chez Renaissance V2" | W36: En cours | X36: 0 | Y36: 50 | AA36: Formation ARPE-Québec | AB36: Pas commencé | AF36: Cybersécurité | AG36: Validé | AH36: 0 | AI36: 100 | AJ36: 23/02/2021 | AK36: Cybersécurité-Questionnaire | AL36: Validé | AM36: 90 | AN36: 100 | AO36: 23/02/2021 | AP36: Formation SST: La prévention du harcelement et de la violence au travail | AQ36: Pas commencé | AU36: Accueil 1 - Bienvenue chez Renaissance 2021 | AV36: Validé | AW36: 0 | AX36: 100 | AY36: 23/02/2021 | AZ36: Quiz d'integration | BA36: Pas commencé | BE36: Sondage d'intégration d'un nouvel employé | BF36: Pas commencé | BJ36: SST: Prévention de la Covid-19 en milieu de travail | BK36: Validé | BL36: 0 | BM36: 100 | BN36: 23/02/2021
A37: 22U6000007641 | B37: Maria | C37: ALAYO VALDES | E37: 43185 | F37: Oui | G37: GGC-Trieur | H37: 22U6 | I37: 309 | J37: Mag. Côte-des-Neiges | K37: 43185 | L37: Accueil 3 - "La santé avant tout" | M37: Validé | N37: 100 | O37: 100 | P37: 04/04/2018 | Q37: Accueil 4 - La riviere des dons à Renaissance (V2020) | R37: Pas commencé | V37: Accueil 2 "La vie chez Renaissance V2" | W37: Validé | X37: 100 | Y37: 100 | Z37: 04/04/2018 | AA37: Formation ARPE-Québec | AB37: Pas commencé | AF37: Cybersécurité | AG37: Validé | AH37: 0 | AI37: 100 | AJ37: 23/02/2021 | AK37: Cybersécurité-Questionnaire | AL37: Validé | AM37: 100 | AN37: 100 | AO37: 26/02/2021 | AP37: Formation SST: La prévention du harcelement et de la violence au travail | AQ37: Pas commencé | AU37: Accueil 1 - Bienvenue chez Renaissance 2021 | AV37: Pas commencé | AZ37: Quiz d'integration | BA37: Pas commencé | BE37: Sondage d'intégration d'un nouvel employé | BF37: Pas commencé | BJ37: SST: Prévention de la Covid-19 en milieu de travail | BK37: Validé | BL37: 0 | BM37: 100 | BN37: 26/02/2021
A38: 22U6000004551 | B38: Grace | C38: ALEID | E38: 44107 | F38: Oui | G38: GGC- Monteur | H38: 22U6 | I38: 311 | J38: Mag. Galeries Normandie | L38: Accueil 3 - "La santé avant tout" | M38: Pas commencé | Q38: Accueil 4 - La riviere des dons à Renaissance (V2020) | R38: Pas commencé | V38: Accueil 2 "La vie chez Renaissance V2" | W38: Pas commencé | AA38: Formation ARPE-Québec | AB38: Pas commencé | AF38: Cybersécurité | AG38: Validé | AH38: 0 | AI38: 100 | AJ38: 27/02/2021 | AK38: Cybersécurité-Questionnaire | AL38: Terminé, non validé | AM38: 60 | AN38: 100 | AP38: Formation SST: La prévention du harcelement et de la violence au travail | AQ38: Pas commencé | AU38: Accueil 1 - Bienvenue chez Renaissance 2021 | AV38: Pas commencé | AZ38: Quiz d'integration | BA38: Pas commencé | BE38: Sondage d'intégration d'un nouvel employé | BF38: Pas commencé | BJ38: SST: Prévention de la Covid-19 en milieu de travail | BK38: Validé | BL38: 0 | BM38: 100 | BN38: 27/02/2021
A39: 22U6000004601 | B39: Mohammed Ameziane | C39: ALEM | E39: 44133 | F39: Oui | G39: CDL- Caissier | H39: 22U6 | I39: 400 | J39: Centre de Liquidation | L39: Accueil 3 - "La santé avant tout" | M39: Pas commencé | Q39: Accueil 4 - La riviere des dons à Renaissance (V2020) | R39: Pas commencé | V39: Accueil 2 "La vie chez Renaissance V2" | W39: Pas commencé | AA39: Formation ARPE-Québec | AB39: Pas commencé | AF39: Cybersécurité | AG39: Validé | AH39: 0 | AI39: 100 | AJ39: 26/02/2021 | AK39: Cybersécurité-Questionnaire | AL39: Validé | AM39: 80 | AN39: 100 | AO39: 26/02/2021 | AP39: Formation SST: La prévention du harcelement et de la violence au travail | AQ39: Pas commencé | AU39: Accueil 1 - Bienvenue chez Renaissance 2021 | AV39: Pas commencé | AZ39: Quiz d'integration | BA39: Pas commencé | BE39: Sondage d'intégration d'un nouvel employé | BF39: Pas commencé | BJ39: SST: Prévention de la Covid-19 en milieu de travail | BK39: Validé | BL39: 0 | BM39: 100 | BN39: 26/02/2021
A40: 22U6000003935 | B40: Shafaa | C40: ALHAYEK | E40: 43724 | F40: Oui | G40: GGC- Etiq Accessoires | H40: 22U6 | I40: 313 | J40: Mag. Portobello | L40: Accueil 3 - "La santé avant tout" | M40: Pas commencé | Q40: Accueil 4 - La riviere des dons à Renaissance (V2020) | R40: Pas commencé | V40: Accueil 2 "La vie chez Renaissance V2" | W40: Pas commencé | AA40: Formation ARPE-Québec | AB40: Pas commencé | AF40: Cybersécurité | AG40: Validé | AH40: 0 | AI40: 100 | AJ40: 23/02/2021 | AK40: Cybersécurité-Questionnaire | AL40: Terminé, non validé | AM40: 70 | AN40: 100 | AP40: Formation SST: La prévention du harcelement et de la violence au travail | AQ40: Pas commencé | AU40: Accueil 1 - Bienvenue chez Renaissance 2021 | AV40: Pas commencé | AZ40: Quiz d'integration | BA40: Pas commencé | BE40: Sondage d'intégration d'un nouvel employé | BF40: Pas commencé | BJ40: SST: Prévention de la Covid-19 en milieu de travail | BK40: Pas commencé
A41: 22U6000007560 | B41: Hayat Ghaleb | C41: ALI | E41: 43122 | F41: Oui | G41: GGC-Chef caissier | H41: 22U6 | I41: 309 | J41: Mag. Côte-des-Neiges | K41: 43122 | L41: Accueil 3 - "La santé avant tout" | M41: Validé | N41: 0 | O41: 100 | P41: 01/02/2018 | Q41: Accueil 4 - La riviere des dons à Renaissance (V2020) | R41: Validé | S41: 0 | T41: 100 | U41: 07/10/2020 | V41: Accueil 2 "La vie chez Renaissance V2" | W41: Validé | X41: 0 | Y41: 100 | Z41: 07/10/2020 | AA41: Formation ARPE-Québec | AB41: En cours | AC41: 0 | AD41: 50 | AF41: Cybersécurité | AG41: Validé | AH41: 0 | AI41: 100 | AJ41: 07/10/2020 | AK41: Cybersécurité-Questionnaire | AL41: Validé | AM41: 90 | AN41: 100 | AO41: 07/10/2020 | AP41: Formation SST: La prévention du harcelement et de la violence au travail | AQ41: En cours | AR41: 0 | AS41: 50 | AU41: Accueil 1 - Bienvenue chez Renaissance 2021 | AV41: Pas commencé | AZ41: Quiz d'integration | BA41: Pas commencé | BE41: Sondage d'intégration d'un nouvel employé | BF41: Pas commencé | BJ41: SST: Prévention de la Covid-19 en milieu de travail | BK41: Validé | BL41: 0 | BM41: 100 | BN41: 26/02/2021
A42: 22U6000005245 | B42: Roxanne | C42: ALIVIO | E42: 44376 | F42: Oui | G42: CDL-Manutentionnaire | H42: 22U6 | I42: 400 | J42: Centre de Liquidation | L42: Accueil 3 - "La santé avant tout" | M42: Pas commencé | Q42: Accueil 4 - La riviere des dons à Renaissance (V2020) | R42: Pas commencé | V42: Accueil 2 "La vie chez Renaissance V2" | W42: Pas commencé | AA42: Formation ARPE-Québec | AB42: Pas commencé | AF42: Cybersécurité | AG42: Pas commencé | AK42: Cybersécurité-Questionnaire | AL42: Pas commencé | AP42: Formation SST: La prévention du harcelement et de la violence au travail | AQ42: Pas commencé | AU42: Accueil 1 - Bienvenue chez Renaissance 2021 | AV42: Pas commencé | AZ42: Quiz d'integration | BA42: Pas commencé | BE42: Sondage d'intégration d'un nouvel employé | BF42: Pas commencé | BJ42: SST: Prévention de la Covid-19 en milieu de travail | BK42: Pas commencé
A43: 22U6000000923 | B43: Gerald | C43: ALIZAIRE | E43: 39888 | F43: Oui | G43: GGC Préposé entretiens ménager | H43: 22U6 | I43: 300 | J43: Mag. St-Laurent | L43: Accueil 3 - "La santé avant tout" | M43: Pas commencé | Q43: Accueil 4 - La riviere des dons à Renaissance (V2020) | R43: Pas commencé | V43: Accueil 2 "La vie chez Renaissance V2" | W43: Pas commencé | AA43: Formation ARPE-Québec | AB43: Pas commencé | AF43: Cybersécurité | AG43: En cours | AH43: 0 | AI43: 50 | AK43: Cybersécurité-Questionnaire | AL43: Terminé, non validé | AM43: 50 | AN43: 100 | AP43: Formation SST: La prévention du harcelement et de la violence au travail | AQ43: Pas commencé | AU43: Accueil 1 - Bienvenue chez Renaissance 2021 | AV43: Pas commencé | AZ43: Quiz d'integration | BA43: Pas commencé | BE43: Sondage d'intégration d'un nouvel employé | BF43: Pas commencé | BJ43: SST: Prévention de la Covid-19 en milieu de travail | BK43: Pas commencé
A44: 22U6000005076 | B44: Hadeer | C44: ALKHAQANI | E44: 44312 | F44: Oui | G44: GGC-Commis plancher&Cabine | H44: 22U6 | I44: 314 | J44: Mag. Galerie des sources | L44: Accueil 3 - "La santé avant tout" | M44: Pas commencé | Q44: Accueil 4 - La riviere des dons à Renaissance (V2020) | R44: Pas commencé | V44: Accueil 2 "La vie chez Renaissance V2" | W44: Pas commencé | AA44: Formation ARPE-Québec | AB44: Pas commencé | AF44: Cybersécurité | AG44: Pas commencé | AK44: Cybersécurité-Questionnaire | AL44: Pas commencé | AP44: Formation SST: La prévention du harcelement et de la violence au travail | AQ44: Pas commencé | AU44: Accueil 1 - Bienvenue chez Renaissance 2021 | AV44: Pas commencé | AZ44: Quiz d'integration | BA44: Pas commencé | BE44: Sondage d'intégration d'un nouvel employé | BF44: Pas commencé | BJ44: SST: Prévention de la Covid-19 en milieu de travail | BK44: Pas commencé
A45: 22U6000004193 | B45: Venus Bernice-Fee | C45: ALLANGBA | E45: 43991 | F45: Oui | G45: GGC-Trieur | H45: 22U6 | I45: 300 | J45: Mag. St-Laurent | L45: Accueil 3 - "La santé avant tout" | M45: Validé | N45: 0 | O45: 100 | P45: 09/06/2020 | Q45: Accueil 4 - La riviere des dons à Renaissance (V2020) | R45: Pas commencé | V45: Accueil 2 "La vie chez Renaissance V2" | W45: Validé | X45: 0 | Y45: 100 | Z45: 09/06/2020 | AA45: Formation ARPE-Québec | AB45: Pas commencé | AF45: Cybersécurité | AG45: Validé | AH45: 0 | AI45: 100 | AJ45: 23/02/2021 | AK45: Cybersécurité-Questionnaire | AL45: Validé | AM45: 100 | AN45: 100 | AO45: 23/02/2021 | AP45: Formation SST: La prévention du harcelement et de la violence au travail | AQ45: Pas commencé | AU45: Accueil 1 - Bienvenue chez Renaissance 2021 | AV45: Pas commencé | AZ45: Quiz d'integration | BA45: Pas commencé | BE45: Sondage d'intégration d'un nouvel employé | BF45: Pas commencé | BJ45: SST: Prévention de la Covid-19 en milieu de travail | BK45: Validé | BL45: 0 | BM45: 100 | BN45: 23/02/2021
A46: 22U6000004405 | B46: Atikatou | C46: ALLASSANI | E46: 44041 | F46: Oui | G46: GGC- Monteur | H46: 22U6 | I46: 309 | J46: Mag. Côte-des-Neiges | L46: Accueil 3 - "La santé avant tout" | M46: Pas commencé | Q46: Accueil 4 - La riviere des dons à Renaissance (V2020) | R46: Pas commencé | V46: Accueil 2 "La vie chez Renaissance V2" | W46: Pas commencé | AA46: Formation ARPE-Québec | AB46: Pas commencé | AF46: Cybersécurité | AG46: Validé | AH46: 0 | AI46: 100 | AJ46: 27/02/2021 | AK46: Cybersécurité-Questionnaire | AL46: Validé | AM46: 90 | AN46: 100 | AO46: 27/02/2021 | AP46: Formation SST: La prévention du harcelement et de la violence au travail | AQ46: Pas commencé | AU46: Accueil 1 - Bienvenue chez Renaissance 2021 | AV46: Pas commencé | AZ46: Quiz d'integration | BA46: Pas commencé | BE46: Sondage d'intégration d'un nouvel employé | BF46: Pas commencé | BJ46: SST: Prévention de la Covid-19 en milieu de travail | BK46: Validé | BL46: 0 | BM46: 100 | BN46: 27/02/2021
A47: 22U6000004619 | B47: Saliatou | C47: ALLASSANI | E47: 44140 | F47: Oui | G47: GGC-Commis plancher&Cabine | H47: 22U6 | I47: 309 | J47: Mag. Côte-des-Neiges | L47: Accueil 3 - "La santé avant tout" | M47: Pas commencé | Q47: Accueil 4 - La riviere des dons à Renaissance (V2020) | R47: Pas commencé | V47: Accueil 2 "La vie chez Renaissance V2" | W47: Pas commencé | AA47: Formation ARPE-Québec | AB47: Pas commencé | AF47: Cybersécurité | AG47: Validé | AH47: 0 | AI47: 100 | AJ47: 24/02/2021 | AK47: Cybersécurité-Questionnaire | AL47: Validé | AM47: 80 | AN47: 100 | AO47: 24/02/2021 | AP47: Formation SST: La prévention du harcelement et de la violence au travail | AQ47: Pas commencé | AU47: Accueil 1 - Bienvenue chez Renaissance 2021 | AV47: Pas commencé | AZ47: Quiz d'integration | BA47: Pas commencé | BE47: Sondage d'intégration d'un nouvel employé | BF47: Pas commencé | BJ47: SST: Prévention de la Covid-19 en milieu de travail | BK47: Validé | BL47: 0 | BM47: 100 | BN47: 26/02/2021
A48: 22U6000004307 | B48: Rami | C48: ALMEMAR | E48: 44017 | F48: Oui | G48: GGC-Commis plancher&Cabine | H48: 22U6 | I48: 411 | J48: Mag. Victoria | L48: Accueil 3 - "La santé avant tout" | M48: Pas commencé | Q48: Accueil 4 - La riviere des dons à Renaissance (V2020) | R48: Pas commencé | V48: Accueil 2 "La vie chez Renaissance V2" | W48: Pas commencé | AA48: Formation ARPE-Québec | AB48: Pas commencé | AF48: Cybersécurité | AG48: Validé | AH48: 0 | AI48: 100 | AJ48: 08/11/2020 | AK48: Cybersécurité-Questionnaire | AL48: Validé | AM48: 90 | AN48: 100 | AO48: 23/02/2021 | AP48: Formation SST: La prévention du harcelement et de la violence au travail | AQ48: Pas commencé | AU48: Accueil 1 - Bienvenue chez Renaissance 2021 | AV48: Pas commencé | AZ48: Quiz d'integration | BA48: Pas commencé | BE48: Sondage d'intégration d'un nouvel employé | BF48: Pas commencé | BJ48: SST: Prévention de la Covid-19 en milieu de travail | BK48: Validé | BL48: 0 | BM48: 100 | BN48: 26/02/2021
A49: 22U6000005226 | B49: Raneem | C49: ALMIDANT | E49: 44370 | F49: Oui | G49: GGC- Caissier Commis Boutique | H49: 22U6 | I49: 313 | J49: Mag. Portobello | L49: Accueil 3 - "La santé avant tout" | M49: Validé | N49: 0 | O49: 100 | P49: 23/06/2021 | Q49: Accueil 4 - La riviere des dons à Renaissance (V2020) | R49: Validé | S49: 0 | T49: 100 | U49: 23/06/2021 | V49: Accueil 2 "La vie chez Renaissance V2" | W49: Pas commencé | AA49: Formation ARPE-Québec | AB49: Pas commencé | AF49: Cybersécurité | AG49: Pas commencé | AK49: Cybersécurité-Questionnaire | AL49: Pas commencé | AP49: Formation SST: La prévention du harcelement et de la violence au travail | AQ49: Validé | AR49: 0 | AS49: 100 | AT49: 23/06/2021 | AU49: Accueil 1 - Bienvenue chez Renaissance 2021 | AV49: Pas commencé | AZ49: Quiz d'integration | BA49: Pas commencé | BE49: Sondage d'intégration d'un nouvel employé | BF49: Pas commencé | BJ49: SST: Prévention de la Covid-19 en milieu de travail | BK49: Validé | BL49: 0 | BM49: 100 | BN49: 23/06/2021
A50: 22U6000004973 | B50: Franrice | C50: ALOGA | E50: 44286 | F50: Oui | G50: GGC- Caissier Commis Boutique | H50: 22U6 | I50: 304 | J50: Mag. Saint-Hubert | L50: Accueil 3 - "La santé avant tout" | M50: Pas commencé | Q50: Accueil 4 - La riviere des dons à Renaissance (V2020) | R50: Pas commencé | V50: Accueil 2 "La vie chez Renaissance V2" | W50: Pas commencé | AA50: Formation ARPE-Québec | AB50: Pas commencé | AF50: Cybersécurité | AG50: Pas commencé | AK50: Cybersécurité-Questionnaire | AL50: Pas commencé | AP50: Formation SST: La prévention du harcelement et de la violence au travail | AQ50: Pas commencé | AU50: Accueil 1 - Bienvenue chez Renaissance 2021 | AV50: Pas commencé | AZ50: Quiz d'integration | BA50: Pas commencé | BE50: Sondage d'intégration d'un nouvel employé | BF50: Pas commencé | BJ50: SST: Prévention de la Covid-19 en milieu de travail | BK50: Pas commencé
A51: 22U5000008269 | B51: Maria Isabel | C51: ALQUEJAY MORALES | E51: 43822 | F51: Oui | G51: GGC-Commis plancher&Cabine | H51: 22U6 | I51: 309 | J51: Mag. Côte-des-Neiges | K51: 43822 | L51: Accueil 3 - "La santé avant tout" | M51: En cours | N51: 0 | O51: 50 | Q51: Accueil 4 - La riviere des dons à Renaissance (V2020) | R51: Pas commencé | V51: Accueil 2 "La vie chez Renaissance V2" | W51: Validé | X51: 0 | Y51: 100 | Z51: 04/06/2020 | AA51: Formation ARPE-Québec | AB51: Pas commencé | AF51: Cybersécurité | AG51: Validé | AH51: 0 | AI51: 100 | AJ51: 26/02/2021 | AK51: Cybersécurité-Questionnaire | AL51: Validé | AM51: 90 | AN51: 100 | AO51: 26/02/2021 | AP51: Formation SST: La prévention du harcelement et de la violence au travail | AQ51: Pas commencé | AU51: Accueil 1 - Bienvenue chez Renaissance 2021 | AV51: Pas commencé | AZ51: Quiz d'integration | BA51: Pas commencé | BE51: Sondage d'intégration d'un nouvel employé | BF51: Pas commencé | BJ51: SST: Prévention de la Covid-19 en milieu de travail | BK51: Validé | BL51: 0 | BM51: 100 | BN51: 26/02/2021
A52: 22U6000005084 | B52: Felipe | C52: ALVARADO | E52: 44319 | F52: Oui | G52: GGC-Assistant gérant | H52: 22U6 | I52: 107 | J52: Support aux magasins réguliers | L52: Accueil 3 - "La santé avant tout" | M52: Pas commencé | Q52: Accueil 4 - La riviere des dons à Renaissance (V2020) | R52: Pas commencé | V52: Accueil 2 "La vie chez Renaissance V2" | W52: Pas commencé | AA52: Formation ARPE-Québec | AB52: Validé | AC52: 0 | AD52: 100 | AE52: 04/05/2021 | AF52: Cybersécurité | AG52: Validé | AH52: 0 | AI52: 100 | AJ52: 03/05/2021 | AK52: Cybersécurité-Questionnaire | AL52: Validé | AM52: 80 | AN52: 100 | AO52: 04/05/2021 | AP52: Formation SST: La prévention du harcelement et de la violence au travail | AQ52: Validé | AR52: 0 | AS52: 100 | AT52: 04/05/2021 | AU52: Accueil 1 - Bienvenue chez Renaissance 2021 | AV52: Pas commencé | AZ52: Quiz d'integration | BA52: Pas commencé | BE52: Sondage d'intégration d'un nouvel employé | BF52: Pas commencé | BJ52: SST: Prévention de la Covid-19 en milieu de travail | BK52: Validé | BL52: 0 | BM52: 100 | BN52: 08/05/2021
A53: 22U6000003695 | B53: Zenadeen Abden | C53: AMADOU | E53: 43606 | F53: Oui | G53: CDD-Chef équipe entrepôt | H53: 22U6 | I53: 109 | J53: Sup approvissionnement et transport | L53: Accueil 3 - "La santé avant tout" | M53: Pas commencé | Q53: Accueil 4 - La riviere des dons à Renaissance (V2020) | R53: Pas commencé | V53: Accueil 2 "La vie chez Renaissance V2" | W53: Pas commencé | AA53: Formation ARPE-Québec | AB53: Validé | AC53: 0 | AD53: 100 | AE53: 01/03/2021 | AF53: Cybersécurité | AG53: Validé | AH53: 0 | AI53: 100 | AJ53: 01/03/2021 | AK53: Cybersécurité-Questionnaire | AL53: Validé | AM53: 80 | AN53: 100 | AO53: 01/03/2021 | AP53: Formation SST: La prévention du harcelement et de la violence au travail | AQ53: Pas commencé | AU53: Accueil 1 - Bienvenue chez Renaissance 2021 | AV53: Pas commencé | AZ53: Quiz d'integration | BA53: Pas commencé | BE53: Sondage d'intégration d'un nouvel employé | BF53: Pas commencé | BJ53: SST: Prévention de la Covid-19 en milieu de travail | BK53: Validé | BL53: 100 | BM53: 100 | BN53: 31/03/2021
A54: 22U6000004966 | B54: Chernor | C54: AMADU BAH | E54: 44284 | F54: Oui | G54: GGC- Préposé aux donateurs | H54: 22U6 | I54: 303 | J54: Mag. Verdun | L54: Accueil 3 - "La santé avant tout" | M54: Pas commencé | Q54: Accueil 4 - La riviere des dons à Renaissance (V2020) | R54: Pas commencé | V54: Accueil 2 "La vie chez Renaissance V2" | W54: Pas commencé | AA54: Formation ARPE-Québec | AB54: Pas commencé | AF54: Cybersécurité | AG54: Pas commencé | AK54: Cybersécurité-Questionnaire | AL54: Pas commencé | AP54: Formation SST: La prévention du harcelement et de la violence au travail | AQ54: Pas commencé | AU54: Accueil 1 - Bienvenue chez Renaissance 2021 | AV54: Pas commencé | AZ54: Quiz d'integration | BA54: Pas commencé | BE54: Sondage d'intégration d'un nouvel employé | BF54: Pas commencé | BJ54: SST: Prévention de la Covid-19 en milieu de travail | BK54: Pas commencé
A55: 22U6000003774 | B55: Roodlyne | C55: AMAZAN | E55: 43641 | F55: Oui | G55: GGC-Etiq HG1 | H55: 22U6 | I55: 310 | J55: Mag. Henri Bourassa | L55: Accueil 3 - "La santé avant tout" | M55: Pas commencé | Q55: Accueil 4 - La riviere des dons à Renaissance (V2020) | R55: Pas commencé | V55: Accueil 2 "La vie chez Renaissance V2" | W55: Pas commencé | AA55: Formation ARPE-Québec | AB55: Pas commencé | AF55: Cybersécurité | AG55: Validé | AH55: 0 | AI55: 100 | AJ55: 13/02/2021 | AK55: Cybersécurité-Questionnaire | AL55: Terminé, non validé | AM55: 60 | AN55: 100 | AP55: Formation SST: La prévention du harcelement et de la violence au travail | AQ55: Pas commencé | AU55: Accueil 1 - Bienvenue chez Renaissance 2021 | AV55: Pas commencé | AZ55: Quiz d'integration | BA55: Pas commencé | BE55: Sondage d'intégration d'un nouvel employé | BF55: Pas commencé | BJ55: SST: Prévention de la Covid-19 en milieu de travail | BK55: Pas commencé
A56: 22U6000004972 | B56: Youcef | C56: AMINE BOUABIB | E56: 44286 | F56: Oui | G56: GGC- Préposé aux donateurs | H56: 22U6 | I56: 311 | J56: Mag. Galeries Normandie | L56: Accueil 3 - "La santé avant tout" | M56: Pas commencé | Q56: Accueil 4 - La riviere des dons à Renaissance (V2020) | R56: Pas commencé | V56: Accueil 2 "La vie chez Renaissance V2" | W56: Pas commencé | AA56: Formation ARPE-Québec | AB56: Pas commencé | AF56: Cybersécurité | AG56: Pas commencé | AK56: Cybersécurité-Questionnaire | AL56: Pas commencé | AP56: Formation SST: La prévention du harcelement et de la violence au travail | AQ56: Pas commencé | AU56: Accueil 1 - Bienvenue chez Renaissance 2021 | AV56: Pas commencé | AZ56: Quiz d'integration | BA56: Pas commencé | BE56: Sondage d'intégration d'un nouvel employé | BF56: Pas commencé | BJ56: SST: Prévention de la Covid-19 en milieu de travail | BK56: Pas commencé
A57: 22U6000004403 | B57: Yazid | C57: AMOURA | E57: 44046 | F57: Oui | G57: GGC- Préposé aux donateurs | H57: 22U6 | I57: 302 | J57: Mag. Des Laurentides | L57: Accueil 3 - "La santé avant tout" | M57: Pas commencé | Q57: Accueil 4 - La riviere des dons à Renaissance (V2020) | R57: Pas commencé | V57: Accueil 2 "La vie chez Renaissance V2" | W57: Pas commencé | AA57: Formation ARPE-Québec | AB57: Pas commencé | AF57: Cybersécurité | AG57: Pas commencé | AK57: Cybersécurité-Questionnaire | AL57: Pas commencé | AP57: Formation SST: La prévention du harcelement et de la violence au travail | AQ57: Pas commencé | AU57: Accueil 1 - Bienvenue chez Renaissance 2021 | AV57: Pas commencé | AZ57: Quiz d'integration | BA57: Pas commencé | BE57: Sondage d'intégration d'un nouvel employé | BF57: Pas commencé | BJ57: SST: Prévention de la Covid-19 en milieu de travail | BK57: Pas commencé
A58: 22U6000003995 | B58: Malik | C58: AMROUCHE | E58: 43787 | F58: Oui | G58: LIB- Préposé aux donateurs | H58: 22U6 | I58: 405 | J58: Libraire Bélanger-Lacordaire | L58: Accueil 3 - "La santé avant tout" | M58: Validé | N58: 0 | O58: 100 | P58: 10/04/2020 | Q58: Accueil 4 - La riviere des dons à Renaissance (V2020) | R58: Validé | S58: 0 | T58: 100 | U58: 30/01/2021 | V58: Accueil 2 "La vie chez Renaissance V2" | W58: Validé | X58: 0 | Y58: 100 | Z58: 10/04/2020 | AA58: Formation ARPE-Québec | AB58: Validé | AC58: 0 | AD58: 100 | AE58: 21/09/2020 | AF58: Cybersécurité | AG58: Validé | AH58: 0 | AI58: 100 | AJ58: 05/02/2021 | AK58: Cybersécurité-Questionnaire | AL58: Validé | AM58: 100 | AN58: 100 | AO58: 02/10/2020 | AP58: Formation SST: La prévention du harcelement et de la violence au travail | AQ58: Pas commencé | AU58: Accueil 1 - Bienvenue chez Renaissance 2021 | AV58: En cours | AW58: 0 | AX58: 50 | AZ58: Quiz d'integration | BA58: Pas commencé | BE58: Sondage d'intégration d'un nouvel employé | BF58: Pas commencé | BJ58: SST: Prévention de la Covid-19 en milieu de travail | BK58: Validé | BL58: 0 | BM58: 100 | BN58: 04/02/2021
A59: 22U6000004853 | B59: Custodio | C59: ANA | E59: 44261 | F59: Oui | G59: GGC-Commis plancher&Cabine | H59: 22U6 | I59: 315 | J59: Mag. Sherbrooke | L59: Accueil 3 - "La santé avant tout" | M59: Pas commencé | Q59: Accueil 4 - La riviere des dons à Renaissance (V2020) | R59: Pas commencé | V59: Accueil 2 "La vie chez Renaissance V2" | W59: Pas commencé | AA59: Formation ARPE-Québec | AB59: Validé | AC59: 0 | AD59: 100 | AE59: 06/03/2021 | AF59: Cybersécurité | AG59: Pas commencé | AK59: Cybersécurité-Questionnaire | AL59: Pas commencé | AP59: Formation SST: La prévention du harcelement et de la violence au travail | AQ59: Validé | AR59: 0 | AS59: 100 | AT59: 27/03/2021 | AU59: Accueil 1 - Bienvenue chez Renaissance 2021 | AV59: Pas commencé | AZ59: Quiz d'integration | BA59: Pas commencé | BE59: Sondage d'intégration d'un nouvel employé | BF59: Pas commencé | BJ59: SST: Prévention de la Covid-19 en milieu de travail | BK59: Pas commencé
A60: 22U6000005243 | B60: Jean-Charles | C60: ANOUMAN | E60: 44375 | F60: Oui | G60: LIB-Commis plancher | H60: 22U6 | I60: 410 | J60: Librairie Ontario | L60: Accueil 3 - "La santé avant tout" | M60: Pas commencé | Q60: Accueil 4 - La riviere des dons à Renaissance (V2020) | R60: Pas commencé | V60: Accueil 2 "La vie chez Renaissance V2" | W60: Pas commencé | AA60: Formation ARPE-Québec | AB60: Pas commencé | AF60: Cybersécurité | AG60: Pas commencé | AK60: Cybersécurité-Questionnaire | AL60: Pas commencé | AP60: Formation SST: La prévention du harcelement et de la violence au travail | AQ60: Pas commencé | AU60: Accueil 1 - Bienvenue chez Renaissance 2021 | AV60: Pas commencé | AZ60: Quiz d'integration | BA60: Pas commencé | BE60: Sondage d'intégration d'un nouvel employé | BF60: Pas commencé | BJ60: SST: Prévention de la Covid-19 en milieu de travail | BK60: Pas commencé
A61: 22U6000003672 | B61: Charif | C61: AOUAD | E61: 43591 | F61: Oui | G61: LIB-Commis plancher | H61: 22U6 | I61: 401 | J61: Librairie NDG | L61: Accueil 3 - "La santé avant tout" | M61: Pas commencé | Q61: Accueil 4 - La riviere des dons à Renaissance (V2020) | R61: Pas commencé | V61: Accueil 2 "La vie chez Renaissance V2" | W61: Pas commencé | AA61: Formation ARPE-Québec | AB61: Pas commencé | AF61: Cybersécurité | AG61: Validé | AH61: 0 | AI61: 100 | AJ61: 19/02/2021 | AK61: Cybersécurité-Questionnaire | AL61: Validé | AM61: 80 | AN61: 100 | AO61: 19/02/2021 | AP61: Formation SST: La prévention du harcelement et de la violence au travail | AQ61: Pas commencé | AU61: Accueil 1 - Bienvenue chez Renaissance 2021 | AV61: Pas commencé | AZ61: Quiz d'integration | BA61: Pas commencé | BE61: Sondage d'intégration d'un nouvel employé | BF61: Pas commencé | BJ61: SST: Prévention de la Covid-19 en milieu de travail | BK61: Validé | BL61: 0 | BM61: 100 | BN61: 19/02/2021
A62: 22U6000004305 | B62: Abderraouf | C62: AOUADI | E62: 44015 | F62: Oui | G62: GGC- Etiq Electro | H62: 22U6 | I62: 310 | J62: Mag. Henri Bourassa | L62: Accueil 3 - "La santé avant tout" | M62: Pas commencé | Q62: Accueil 4 - La riviere des dons à Renaissance (V2020) | R62: Pas commencé | V62: Accueil 2 "La vie chez Renaissance V2" | W62: Pas commencé | AA62: Formation ARPE-Québec | AB62: Pas commencé | AF62: Cybersécurité | AG62: Validé | AH62: 0 | AI62: 100 | AJ62: 25/02/2021 | AK62: Cybersécurité-Questionnaire | AL62: Validé | AM62: 80 | AN62: 100 | AO62: 25/02/2021 | AP62: Formation SST: La prévention du harcelement et de la violence au travail | AQ62: Pas commencé | AU62: Accueil 1 - Bienvenue chez Renaissance 2021 | AV62: Pas commencé | AZ62: Quiz d'integration | BA62: Pas commencé | BE62: Sondage d'intégration d'un nouvel employé | BF62: Pas commencé | BJ62: SST: Prévention de la Covid-19 en milieu de travail | BK62: Validé | BL62: 0 | BM62: 100 | BN62: 25/02/2021
A63: 22U6000004120 | B63: Samuel Wilfred | C63: APPIAH | E63: 43899 | F63: Oui | G63: CDD- Conducteur chariot élévateur | H63: 22U6 | I63: 200 | J63: Centre de Distribution | L63: Accueil 3 - "La santé avant tout" | M63: Pas commencé | Q63: Accueil 4 - La riviere des dons à Renaissance (V2020) | R63: Pas commencé | V63: Accueil 2 "La vie chez Renaissance V2" | W63: En cours | X63: 0 | Y63: 50 | AA63: Formation ARPE-Québec | AB63: Pas commencé | AF63: Cybersécurité | AG63: Pas commencé | AK63: Cybersécurité-Questionnaire | AL63: Pas commencé | AP63: Formation SST: La prévention du harcelement et de la violence au travail | AQ63: Pas commencé | AU63: Accueil 1 - Bienvenue chez Renaissance 2021 | AV63: Pas commencé | AZ63: Quiz d'integration | BA63: Pas commencé | BE63: Sondage d'intégration d'un nouvel employé | BF63: Pas commencé | BJ63: SST: Prévention de la Covid-19 en milieu de travail | BK63: Pas commencé
A64: 22U6000003617 | B64: Dominic | C64: APRIL | E64: 43570 | F64: Oui | G64: Intervenant socioprofessionnel | H64: 22U6 | I64: 106 | J64: Direction socioprofessionnelle | L64: Accueil 3 - "La santé avant tout" | M64: Pas commencé | Q64: Accueil 4 - La riviere des dons à Renaissance (V2020) | R64: Validé | S64: 0 | T64: 100 | U64: 25/05/2021 | V64: Accueil 2 "La vie chez Renaissance V2" | W64: Validé | X64: 0 | Y64: 100 | Z64: 24/12/2020 | AA64: Formation ARPE-Québec | AB64: Validé | AC64: 0 | AD64: 100 | AE64: 26/10/2020 | AF64: Cybersécurité | AG64: Validé | AH64: 0 | AI64: 100 | AJ64: 26/10/2020 | AK64: Cybersécurité-Questionnaire | AL64: Validé | AM64: 90 | AN64: 100 | AO64: 26/10/2020 | AP64: Formation SST: La prévention du harcelement et de la violence au travail | AQ64: Pas commencé | AU64: Accueil 1 - Bienvenue chez Renaissance 2021 | AV64: Pas commencé | AZ64: Quiz d'integration | BA64: Pas commencé | BE64: Sondage d'intégration d'un nouvel employé | BF64: Pas commencé | BJ64: SST: Prévention de la Covid-19 en milieu de travail | BK64: En cours | BL64: 0 | BM64: 50
A65: 22U6000008536 | B65: Gina | C65: ARAZA | E65: 44241 | F65: Oui | G65: GGC- Caissier Commis Boutique | H65: 22U6 | I65: 302 | J65: Mag. Des Laurentides | K65: 44241 | L65: Accueil 3 - "La santé avant tout" | M65: Pas commencé | Q65: Accueil 4 - La riviere des dons à Renaissance (V2020) | R65: Pas commencé | V65: Accueil 2 "La vie chez Renaissance V2" | W65: Pas commencé | AA65: Formation ARPE-Québec | AB65: Pas commencé | AF65: Cybersécurité | AG65: Validé | AH65: 0 | AI65: 100 | AJ65: 03/03/2021 | AK65: Cybersécurité-Questionnaire | AL65: Terminé, non validé | AM65: 50 | AN65: 100 | AP65: Formation SST: La prévention du harcelement et de la violence au travail | AQ65: Pas commencé | AU65: Accueil 1 - Bienvenue chez Renaissance 2021 | AV65: Pas commencé | AZ65: Quiz d'integration | BA65: Pas commencé | BE65: Sondage d'intégration d'un nouvel employé | BF65: Pas commencé | BJ65: SST: Prévention de la Covid-19 en milieu de travail | BK65: Validé | BL65: 0 | BM65: 100 | BN65: 03/03/2021
A66: 22U6000003126 | B66: Tayeb | C66: ARBADJI | E66: 43215 | F66: Oui | G66: CDD- Conducteur chariot élévateur | H66: 22U6 | I66: 200 | J66: Centre de Distribution | L66: Accueil 3 - "La santé avant tout" | M66: Validé | N66: 100 | O66: 100 | P66: 01/05/2018 | Q66: Accueil 4 - La riviere des dons à Renaissance (V2020) | R66: Pas commencé | V66: Accueil 2 "La vie chez Renaissance V2" | W66: Validé | X66: 100 | Y66: 100 | Z66: 01/05/2018 | AA66: Formation ARPE-Québec | AB66: Pas commencé | AF66: Cybersécurité | AG66: Pas commencé | AK66: Cybersécurité-Questionnaire | AL66: Pas commencé | AP66: Formation SST: La prévention du harcelement et de la violence au travail | AQ66: Pas commencé | AU66: Accueil 1 - Bienvenue chez Renaissance 2021 | AV66: Pas commencé | AZ66: Quiz d'integration | BA66: Pas commencé | BE66: Sondage d'intégration d'un nouvel employé | BF66: Pas commencé | BJ66: SST: Prévention de la Covid-19 en milieu de travail | BK66: Pas commencé
A67: 22U6000003636 | B67: James | C67: ARBLASTER | E67: 43578 | F67: Oui | G67: ADC - Préposé aux donateurs | H67: 22U6 | I67: 514 | J67: Centre de don LaSalle - ADC | L67: Accueil 3 - "La santé avant tout" | M67: Pas commencé | Q67: Accueil 4 - La riviere des dons à Renaissance (V2020) | R67: Pas commencé | V67: Accueil 2 "La vie chez Renaissance V2" | W67: Pas commencé | AA67: Formation ARPE-Québec | AB67: Pas commencé | AF67: Cybersécurité | AG67: Validé | AH67: 0 | AI67: 100 | AJ67: 23/02/2021 | AK67: Cybersécurité-Questionnaire | AL67: Validé | AM67: 80 | AN67: 100 | AO67: 23/02/2021 | AP67: Formation SST: La prévention du harcelement et de la violence au travail | AQ67: Pas commencé | AU67: Accueil 1 - Bienvenue chez Renaissance 2021 | AV67: Pas commencé | AZ67: Quiz d'integration | BA67: Pas commencé | BE67: Sondage d'intégration d'un nouvel employé | BF67: Pas commencé | BJ67: SST: Prévention de la Covid-19 en milieu de travail | BK67: Validé | BL67: 0 | BM67: 100 | BN67: 23/02/2021
A68: 22U6000003319 | B68: Marco | C68: ARDILES | E68: 43339 | F68: Oui | G68: GGC- Préposé aux donateurs | H68: 22U6 | I68: 307 | J68: Mag. Saint-Jacques | L68: Accueil 3 - "La santé avant tout" | M68: Validé | N68: 100 | O68: 100 | P68: 17/09/2018 | Q68: Accueil 4 - La riviere des dons à Renaissance (V2020) | R68: Pas commencé | V68: Accueil 2 "La vie chez Renaissance V2" | W68: Validé | X68: 100 | Y68: 100 | Z68: 17/09/2018 | AA68: Formation ARPE-Québec | AB68: Pas commencé | AF68: Cybersécurité | AG68: Validé | AH68: 0 | AI68: 100 | AJ68: 27/02/2021 | AK68: Cybersécurité-Questionnaire | AL68: Terminé, non validé | AM68: 50 | AN68: 100 | AP68: Formation SST: La prévention du harcelement et de la violence au travail | AQ68: Pas commencé | AU68: Accueil 1 - Bienvenue chez Renaissance 2021 | AV68: Pas commencé | AZ68: Quiz d'integration | BA68: Pas commencé | BE68: Sondage d'intégration d'un nouvel employé | BF68: Pas commencé | BJ68: SST: Prévention de la Covid-19 en milieu de travail | BK68: Validé | BL68: 0 | BM68: 100 | BN68: 27/02/2021
A69: 22U6000007197 | B69: Roseli Eduviges | C69: ARDON | E69: 42687 | F69: Oui | G69: GGC-Commis plancher&Cabine | H69: 22U6 | I69: 303 | J69: Mag. Verdun | K69: 42687 | L69: Accueil 3 - "La santé avant tout" | M69: Validé | N69: 100 | O69: 100 | P69: 24/08/2017 | Q69: Accueil 4 - La riviere des dons à Renaissance (V2020) | R69: Pas commencé | V69: Accueil 2 "La vie chez Renaissance V2" | W69: En cours | X69: 0 | Y69: 50 | AA69: Formation ARPE-Québec | AB69: Pas commencé | AF69: Cybersécurité | AG69: Validé | AH69: 0 | AI69: 100 | AJ69: 23/02/2021 | AK69: Cybersécurité-Questionnaire | AL69: Validé | AM69: 90 | AN69: 100 | AO69: 23/02/2021 | AP69: Formation SST: La prévention du harcelement et de la violence au travail | AQ69: Pas commencé | AU69: Accueil 1 - Bienvenue chez Renaissance 2021 | AV69: Pas commencé | AZ69: Quiz d'integration | BA69: Pas commencé | BE69: Sondage d'intégration d'un nouvel employé | BF69: Pas commencé | BJ69: SST: Prévention de la Covid-19 en milieu de travail | BK69: Validé | BL69: 0 | BM69: 100 | BN69: 23/02/2021
A70: 22U6000004855 | B70: Salaheddine | C70: ARFA | E70: 44263 | F70: Oui | G70: GGC- Préposé aux donateurs | H70: 22U6 | I70: 301 | J70: Mag. Décarie | L70: Accueil 3 - "La santé avant tout" | M70: Validé | N70: 0 | O70: 100 | P70: 08/03/2021 | Q70: Accueil 4 - La riviere des dons à Renaissance (V2020) | R70: En cours | S70: 0 | T70: 50 | V70: Accueil 2 "La vie chez Renaissance V2" | W70: Validé | X70: 0 | Y70: 100 | Z70: 08/03/2021 | AA70: Formation ARPE-Québec | AB70: Pas commencé | AF70: Cybersécurité | AG70: Pas commencé | AK70: Cybersécurité-Questionnaire | AL70: Pas commencé | AP70: Formation SST: La prévention du harcelement et de la violence au travail | AQ70: Pas commencé | AU70: Accueil 1 - Bienvenue chez Renaissance 2021 | AV70: Pas commencé | AZ70: Quiz d'integration | BA70: Pas commencé | BE70: Sondage d'intégration d'un nouvel employé | BF70: Pas commencé | BJ70: SST: Prévention de la Covid-19 en milieu de travail | BK70: Pas commencé
A71: 22U6000004622 | B71: Lison | C71: ARGENTON | E71: 44142 | F71: Oui | G71: Mag SP-Commis plancher | H71: 22U6 | I71: 313 | J71: Mag. Portobello | L71: Accueil 3 - "La santé avant tout" | M71: Pas commencé | Q71: Accueil 4 - La riviere des dons à Renaissance (V2020) | R71: Pas commencé | V71: Accueil 2 "La vie chez Renaissance V2" | W71: Pas commencé | AA71: Formation ARPE-Québec | AB71: Pas commencé | AF71: Cybersécurité | AG71: En cours | AH71: 0 | AI71: 50 | AK71: Cybersécurité-Questionnaire | AL71: Validé | AM71: 100 | AN71: 100 | AO71: 01/03/2021 | AP71: Formation SST: La prévention du harcelement et de la violence au travail | AQ71: Pas commencé | AU71: Accueil 1 - Bienvenue chez Renaissance 2021 | AV71: Pas commencé | AZ71: Quiz d'integration | BA71: Pas commencé | BE71: Sondage d'intégration d'un nouvel employé | BF71: Pas commencé | BJ71: SST: Prévention de la Covid-19 en milieu de travail | BK71: Pas commencé
A72: 22U6000004356 | B72: Yvrose | C72: ARISTIDE | E72: 44028 | F72: Oui | G72: GGC- Caissier Commis Boutique | H72: 22U6 | I72: 310 | J72: Mag. Henri Bourassa | L72: Accueil 3 - "La santé avant tout" | M72: Validé | N72: 0 | O72: 100 | P72: 16/07/2020 | Q72: Accueil 4 - La riviere des dons à Renaissance (V2020) | R72: Pas commencé | V72: Accueil 2 "La vie chez Renaissance V2" | W72: Validé | X72: 0 | Y72: 100 | Z72: 16/07/2020 | AA72: Formation ARPE-Québec | AB72: Pas commencé | AF72: Cybersécurité | AG72: En cours | AH72: 0 | AI72: 50 | AK72: Cybersécurité-Questionnaire | AL72: Pas commencé | AP72: Formation SST: La prévention du harcelement et de la violence au travail | AQ72: Pas commencé | AU72: Accueil 1 - Bienvenue chez Renaissance 2021 | AV72: Pas commencé | AZ72: Quiz d'integration | BA72: Pas commencé | BE72: Sondage d'intégration d'un nouvel employé | BF72: Pas commencé | BJ72: SST: Prévention de la Covid-19 en milieu de travail | BK72: Pas commencé
A73: 22U6000003821_FOR | B73: Mohamed | C73: ARRAS | E73: 43675 | F73: Oui | G73: Superviseur centre de don | H73: 22U6 | I73: 108 | J73: Sup ctr de don et mag. spécialisés | L73: Accueil 3 - "La santé avant tout" | M73: Pas commencé | Q73: Accueil 4 - La riviere des dons à Renaissance (V2020) | R73: Pas commencé | V73: Accueil 2 "La vie chez Renaissance V2" | W73: Pas commencé | AA73: Formation ARPE-Québec | AB73: Pas commencé | AF73: Cybersécurité | AG73: Pas commencé | AK73: Cybersécurité-Questionnaire | AL73: Pas commencé | AP73: Formation SST: La prévention du harcelement et de la violence au travail | AQ73: Pas commencé | AU73: Accueil 1 - Bienvenue chez Renaissance 2021 | AV73: Pas commencé | AZ73: Quiz d'integration | BA73: Pas commencé | BE73: Sondage d'intégration d'un nouvel employé | BF73: Pas commencé | BJ73: SST: Prévention de la Covid-19 en milieu de travail | BK73: Pas commencé
A74: 22U6000003821_APP | B74: Mohamed | C74: ARRAS | E74: 43675 | F74: Oui | G74: Superviseur centre de don | H74: 22U6 | I74: 108 | J74: Sup ctr de don et mag. spécialisés | L74: Accueil 3 - "La santé avant tout" | M74: Pas commencé | Q74: Accueil 4 - La riviere des dons à Renaissance (V2020) | R74: Pas commencé | V74: Accueil 2 "La vie chez Renaissance V2" | W74: Pas commencé | AA74: Formation ARPE-Québec | AB74: Pas commencé | AF74: Cybersécurité | AG74: Validé | AH74: 100 | AI74: 100 | AJ74: 25/02/2021 | AK74: Cybersécurité-Questionnaire | AL74: Validé | AM74: 90 | AN74: 100 | AO74: 25/02/2021 | AP74: Formation SST: La prévention du harcelement et de la violence au travail | AQ74: Pas commencé | AU74: Accueil 1 - Bienvenue chez Renaissance 2021 | AV74: Pas commencé | AZ74: Quiz d'integration | BA74: Pas commencé | BE74: Sondage d'intégration d'un nouvel employé | BF74: Pas commencé | BJ74: SST: Prévention de la Covid-19 en milieu de travail | BK74: Validé | BL74: 100 | BM74: 100 | BN74: 25/02/2021
A75: 22U5000008524 | B75: Safia | C75: ASLA | E75: 44173 | F75: Oui | G75: GGC-Chef caissier | H75: 22U6 | I75: 312 | J75: Mag. Centre St-Martin | K75: 44173 | L75: Accueil 3 - "La santé avant tout" | M75: Validé | N75: 0 | O75: 100 | P75: 11/03/2021 | Q75: Accueil 4 - La riviere des dons à Renaissance (V2020) | R75: Validé | S75: 0 | T75: 100 | U75: 29/03/2021 | V75: Accueil 2 "La vie chez Renaissance V2" | W75: Validé | X75: 0 | Y75: 100 | Z75: 04/03/2021 | AA75: Formation ARPE-Québec | AB75: Validé | AC75: 0 | AD75: 100 | AE75: 01/03/2021 | AF75: Cybersécurité | AG75: Validé | AH75: 0 | AI75: 100 | AJ75: 26/02/2021 | AK75: Cybersécurité-Questionnaire | AL75: Validé | AM75: 100 | AN75: 100 | AO75: 01/03/2021 | AP75: Formation SST: La prévention du harcelement et de la violence au travail | AQ75: Pas commencé | AU75: Accueil 1 - Bienvenue chez Renaissance 2021 | AV75: Validé | AW75: 0 | AX75: 100 | AY75: 04/03/2021 | AZ75: Quiz d'integration | BA75: Pas commencé | BE75: Sondage d'intégration d'un nouvel employé | BF75: Pas commencé | BJ75: SST: Prévention de la Covid-19 en milieu de travail | BK75: Validé | BL75: 0 | BM75: 100 | BN75: 26/02/2021
A76: 22U6000001813 | B76: Abdelnasser | C76: ATIF | E76: 41598 | F76: Oui | G76: GGC- Préposé aux donateurs | H76: 22U6 | I76: 308 | J76: Mag. Pie-IX | L76: Accueil 3 - "La santé avant tout" | M76: Validé | N76: 0 | O76: 100 | P76: 24/08/2017 | Q76: Accueil 4 - La riviere des dons à Renaissance (V2020) | R76: Validé | S76: 0 | T76: 100 | U76: 31/10/2020 | V76: Accueil 2 "La vie chez Renaissance V2" | W76: Validé | X76: 0 | Y76: 100 | Z76: 31/10/2020 | AA76: Formation ARPE-Québec | AB76: En cours | AC76: 0 | AD76: 50 | AF76: Cybersécurité | AG76: Validé | AH76: 0 | AI76: 100 | AJ76: 25/02/2021 | AK76: Cybersécurité-Questionnaire | AL76: Validé | AM76: 100 | AN76: 100 | AO76: 25/02/2021 | AP76: Formation SST: La prévention du harcelement et de la violence au travail | AQ76: Pas commencé | AU76: Accueil 1 - Bienvenue chez Renaissance 2021 | AV76: Pas commencé | AZ76: Quiz d'integration | BA76: Validé | BB76: 100 | BC76: 100 | BD76: 31/10/2020 | BE76: Sondage d'intégration d'un nouvel employé | BF76: Pas commencé | BJ76: SST: Prévention de la Covid-19 en milieu de travail | BK76: Validé | BL76: 0 | BM76: 100 | BN76: 25/02/2021
A77: 22U6000002214 | B77: Julien | C77: AUDETTE | E77: 42143 | F77: Oui | G77: LIB- Coordonnateur de plancher | H77: 22U6 | I77: 410 | J77: Librairie Ontario | L77: Accueil 3 - "La santé avant tout" | M77: Validé | N77: 100 | O77: 100 | P77: 24/08/2017 | Q77: Accueil 4 - La riviere des dons à Renaissance (V2020) | R77: Pas commencé | V77: Accueil 2 "La vie chez Renaissance V2" | W77: Validé | X77: 0 | Y77: 100 | Z77: 10/03/2018 | AA77: Formation ARPE-Québec | AB77: Pas commencé | AF77: Cybersécurité | AG77: Validé | AH77: 0 | AI77: 100 | AJ77: 25/02/2021 | AK77: Cybersécurité-Questionnaire | AL77: Validé | AM77: 90 | AN77: 100 | AO77: 25/02/2021 | AP77: Formation SST: La prévention du harcelement et de la violence au travail | AQ77: Pas commencé | AU77: Accueil 1 - Bienvenue chez Renaissance 2021 | AV77: Pas commencé | AZ77: Quiz d'integration | BA77: Pas commencé | BE77: Sondage d'intégration d'un nouvel employé | BF77: Pas commencé | BJ77: SST: Prévention de la Covid-19 en milieu de travail | BK77: Validé | BL77: 0 | BM77: 100 | BN77: 13/02/2021
A78: 22U6000004895 | B78: Jean Pierre | C78: AYENA | E78: 44268 | F78: Oui | G78: GGC- Caissier Commis Boutique | H78: 22U6 | I78: 315 | J78: Mag. Sherbrooke | L78: Accueil 3 - "La santé avant tout" | M78: Pas commencé | Q78: Accueil 4 - La riviere des dons à Renaissance (V2020) | R78: Pas commencé | V78: Accueil 2 "La vie chez Renaissance V2" | W78: Pas commencé | AA78: Formation ARPE-Québec | AB78: Pas commencé | AF78: Cybersécurité | AG78: Pas commencé | AK78: Cybersécurité-Questionnaire | AL78: Pas commencé | AP78: Formation SST: La prévention du harcelement et de la violence au travail | AQ78: Pas commencé | AU78: Accueil 1 - Bienvenue chez Renaissance 2021 | AV78: Pas commencé | AZ78: Quiz d'integration | BA78: Pas commencé | BE78: Sondage d'intégration d'un nouvel employé | BF78: Pas commencé | BJ78: SST: Prévention de la Covid-19 en milieu de travail | BK78: Pas commencé
A79: 22U6000004158 | B79: Maria Leonor | C79: AYLUARDO TRONCOSO | E79: 43981 | F79: Oui | G79: GGC- Caissier Commis Boutique | H79: 22U6 | I79: 301 | J79: Mag. Décarie | L79: Accueil 3 - "La santé avant tout" | M79: Validé | N79: 0 | O79: 100 | P79: 01/06/2020 | Q79: Accueil 4 - La riviere des dons à Renaissance (V2020) | R79: Validé | S79: 0 | T79: 100 | U79: 26/09/2020 | V79: Accueil 2 "La vie chez Renaissance V2" | W79: Validé | X79: 0 | Y79: 100 | Z79: 01/06/2020 | AA79: Formation ARPE-Québec | AB79: En cours | AC79: 0 | AD79: 50 | AF79: Cybersécurité | AG79: Validé | AH79: 0 | AI79: 100 | AJ79: 25/02/2021 | AK79: Cybersécurité-Questionnaire | AL79: Validé | AM79: 90 | AN79: 100 | AO79: 26/09/2020 | AP79: Formation SST: La prévention du harcelement et de la violence au travail | AQ79: Pas commencé | AU79: Accueil 1 - Bienvenue chez Renaissance 2021 | AV79: En cours | AW79: 0 | AX79: 50 | AZ79: Quiz d'integration | BA79: Pas commencé | BE79: Sondage d'intégration d'un nouvel employé | BF79: Pas commencé | BJ79: SST: Prévention de la Covid-19 en milieu de travail | BK79: Pas commencé
A80: 22U6000004780 | B80: Mohameth | C80: BA | E80: 44243 | F80: Oui | G80: CDD-Coordonnateur expéd récept marchandises | H80: 22U6 | I80: 109 | J80: Sup approvissionnement et transport | L80: Accueil 3 - "La santé avant tout" | M80: Pas commencé | Q80: Accueil 4 - La riviere des dons à Renaissance (V2020) | R80: Pas commencé | V80: Accueil 2 "La vie chez Renaissance V2" | W80: Pas commencé | AA80: Formation ARPE-Québec | AB80: Validé | AC80: 0 | AD80: 100 | AE80: 01/03/2021 | AF80: Cybersécurité | AG80: Pas commencé | AK80: Cybersécurité-Questionnaire | AL80: Validé | AM80: 100 | AN80: 100 | AO80: 01/03/2021 | AP80: Formation SST: La prévention du harcelement et de la violence au travail | AQ80: Pas commencé | AU80: Accueil 1 - Bienvenue chez Renaissance 2021 | AV80: Pas commencé | AZ80: Quiz d'integration | BA80: Pas commencé | BE80: Sondage d'intégration d'un nouvel employé | BF80: Pas commencé | BJ80: SST: Prévention de la Covid-19 en milieu de travail | BK80: Validé | BL80: 0 | BM80: 100 | BN80: 01/03/2021
A81: 22U6000003947 | B81: Hind | C81: BAABI | E81: 43731 | F81: Oui | G81: GGC- Etiq Accessoires | H81: 22U6 | I81: 311 | J81: Mag. Galeries Normandie | L81: Accueil 3 - "La santé avant tout" | M81: Validé | N81: 0 | O81: 100 | P81: 20/10/2020 | Q81: Accueil 4 - La riviere des dons à Renaissance (V2020) | R81: Validé | S81: 0 | T81: 100 | U81: 31/10/2020 | V81: Accueil 2 "La vie chez Renaissance V2" | W81: Validé | X81: 0 | Y81: 100 | Z81: 19/10/2020 | AA81: Formation ARPE-Québec | AB81: Validé | AC81: 0 | AD81: 100 | AE81: 20/10/2020 | AF81: Cybersécurité | AG81: Validé | AH81: 0 | AI81: 100 | AJ81: 20/10/2020 | AK81: Cybersécurité-Questionnaire | AL81: Validé | AM81: 100 | AN81: 100 | AO81: 20/10/2020 | AP81: Formation SST: La prévention du harcelement et de la violence au travail | AQ81: Pas commencé | AU81: Accueil 1 - Bienvenue chez Renaissance 2021 | AV81: Pas commencé | AZ81: Quiz d'integration | BA81: Validé | BB81: 94.4 | BC81: 100 | BD81: 19/10/2020 | BE81: Sondage d'intégration d'un nouvel employé | BF81: Pas commencé | BJ81: SST: Prévention de la Covid-19 en milieu de travail | BK81: Validé | BL81: 0 | BM81: 100 | BN81: 14/02/2021
A82: kauaiva@hotmail.com | B82: Jordel | C82: BAADE ACCARINO | E82: 43475 | F82: Oui | G82: GGC-Etiq HG1 | H82: 22U6 | I82: 403 | J82: Mag. Plateau | K82: 43475 | L82: Accueil 3 - "La santé avant tout" | M82: Pas commencé | Q82: Accueil 4 - La riviere des dons à Renaissance (V2020) | R82: Pas commencé | V82: Accueil 2 "La vie chez Renaissance V2" | W82: Pas commencé | AA82: Formation ARPE-Québec | AB82: Pas commencé | AF82: Cybersécurité | AG82: Validé | AH82: 0 | AI82: 100 | AJ82: 24/02/2021 | AK82: Cybersécurité-Questionnaire | AL82: Validé | AM82: 100 | AN82: 100 | AO82: 25/02/2021 | AP82: Formation SST: La prévention du harcelement et de la violence au travail | AQ82: Pas commencé | AU82: Accueil 1 - Bienvenue chez Renaissance 2021 | AV82: Pas commencé | AZ82: Quiz d'integration | BA82: Pas commencé | BE82: Sondage d'intégration d'un nouvel employé | BF82: Pas commencé | BJ82: SST: Prévention de la Covid-19 en milieu de travail | BK82: Validé | BL82: 0 | BM82: 100 | BN82: 24/02/2021
A83: 22U6000007924 | B83: Jordel | C83: BAADE ACCARINO | E83: 43475 | F83: Oui | G83: GGC-Etiq HG1 | H83: 22U6 | I83: 403 | J83: Mag. Plateau | K83: 43475 | L83: Accueil 3 - "La santé avant tout" | M83: Pas commencé | Q83: Accueil 4 - La riviere des dons à Renaissance (V2020) | R83: Pas commencé | V83: Accueil 2 "La vie chez Renaissance V2" | W83: Pas commencé | AA83: Formation ARPE-Québec | AB83: Pas commencé | AF83: Cybersécurité | AG83: Pas commencé | AK83: Cybersécurité-Questionnaire | AL83: Pas commencé | AP83: Formation SST: La prévention du harcelement et de la violence au travail | AQ83: Pas commencé | AU83: Accueil 1 - Bienvenue chez Renaissance 2021 | AV83: Pas commencé | AZ83: Quiz d'integration | BA83: Pas commencé | BE83: Sondage d'intégration d'un nouvel employé | BF83: Pas commencé | BJ83: SST: Prévention de la Covid-19 en milieu de travail | BK83: Pas commencé
A84: 22U6000004457 | B84: Baya | C84: BABAADDOUN | E84: 44074 | F84: Oui | G84: GGC-Etiq HG1 | H84: 22U6 | I84: 314 | J84: Mag. Galerie des sources | L84: Accueil 3 - "La santé avant tout" | M84: Pas commencé | Q84: Accueil 4 - La riviere des dons à Renaissance (V2020) | R84: Pas commencé | V84: Accueil 2 "La vie chez Renaissance V2" | W84: Pas commencé | AA84: Formation ARPE-Québec | AB84: Pas commencé | AF84: Cybersécurité | AG84: Validé | AH84: 0 | AI84: 100 | AJ84: 23/02/2021 | AK84: Cybersécurité-Questionnaire | AL84: Validé | AM84: 80 | AN84: 100 | AO84: 23/02/2021 | AP84: Formation SST: La prévention du harcelement et de la violence au travail | AQ84: Pas commencé | AU84: Accueil 1 - Bienvenue chez Renaissance 2021 | AV84: Pas commencé | AZ84: Quiz d'integration | BA84: Pas commencé | BE84: Sondage d'intégration d'un nouvel employé | BF84: Pas commencé | BJ84: SST: Prévention de la Covid-19 en milieu de travail | BK84: Pas commencé
A85: 22U6000005118 | B85: Moufida | C85: BACHA | E85: 44325 | F85: Oui | G85: GGC-Etiq HG2 | H85: 22U6 | I85: 311 | J85: Mag. Galeries Normandie | L85: Accueil 3 - "La santé avant tout" | M85: Pas commencé | Q85: Accueil 4 - La riviere des dons à Renaissance (V2020) | R85: Pas commencé | V85: Accueil 2 "La vie chez Renaissance V2" | W85: Pas commencé | AA85: Formation ARPE-Québec | AB85: Pas commencé | AF85: Cybersécurité | AG85: Pas commencé | AK85: Cybersécurité-Questionnaire | AL85: Pas commencé | AP85: Formation SST: La prévention du harcelement et de la violence au travail | AQ85: Pas commencé | AU85: Accueil 1 - Bienvenue chez Renaissance 2021 | AV85: Pas commencé | AZ85: Quiz d'integration | BA85: Pas commencé | BE85: Sondage d'intégration d'un nouvel employé | BF85: Pas commencé | BJ85: SST: Prévention de la Covid-19 en milieu de travail | BK85: Pas commencé
A86: 22U6000001296 | B86: Nadjat | C86: BADANI | E86: 40703 | F86: Oui | G86: GGC-Assistant gérant | H86: 22U6 | I86: 310 | J86: Mag. Henri Bourassa | L86: Accueil 3 - "La santé avant tout" | M86: Validé | N86: 100 | O86: 100 | P86: 25/08/2017 | Q86: Accueil 4 - La riviere des dons à Renaissance (V2020) | R86: Validé | S86: 0 | T86: 100 | U86: 24/11/2020 | V86: Accueil 2 "La vie chez Renaissance V2" | W86: Validé | X86: 0 | Y86: 100 | Z86: 08/05/2020 | AA86: Formation ARPE-Québec | AB86: En cours | AC86: 0 | AD86: 50 | AF86: Cybersécurité | AG86: Validé | AH86: 0 | AI86: 100 | AJ86: 25/02/2021 | AK86: Cybersécurité-Questionnaire | AL86: Validé | AM86: 100 | AN86: 100 | AO86: 25/02/2021 | AP86: Formation SST: La prévention du harcelement et de la violence au travail | AQ86: En cours | AR86: 0 | AS86: 50 | AU86: Accueil 1 - Bienvenue chez Renaissance 2021 | AV86: Pas commencé | AZ86: Quiz d'integration | BA86: Validé | BB86: 88.8 | BC86: 100 | BD86: 14/05/2021 | BE86: Sondage d'intégration d'un nouvel employé | BF86: Pas commencé | BJ86: SST: Prévention de la Covid-19 en milieu de travail | BK86: Validé | BL86: 0 | BM86: 100 | BN86: 25/02/2021
A87: 22U6000005113 | B87: Nadia | C87: BADIA NAFA | E87: 44323 | F87: Oui | G87: GGC- Etiq Sacs&Chaussures | H87: 22U6 | I87: 307 | J87: Mag. Saint-Jacques | L87: Accueil 3 - "La santé avant tout" | M87: Pas commencé | Q87: Accueil 4 - La riviere des dons à Renaissance (V2020) | R87: Pas commencé | V87: Accueil 2 "La vie chez Renaissance V2" | W87: Pas commencé | AA87: Formation ARPE-Québec | AB87: Pas commencé | AF87: Cybersécurité | AG87: Pas commencé | AK87: Cybersécurité-Questionnaire | AL87: Pas commencé | AP87: Formation SST: La prévention du harcelement et de la violence au travail | AQ87: Pas commencé | AU87: Accueil 1 - Bienvenue chez Renaissance 2021 | AV87: Pas commencé | AZ87: Quiz d'integration | BA87: Pas commencé | BE87: Sondage d'intégration d'un nouvel employé | BF87: Pas commencé | BJ87: SST: Prévention de la Covid-19 en milieu de travail | BK87: Pas commencé
A88: 22U6000004348 | B88: Outaiba | C88: BADREDDINE | E88: 44025 | F88: Oui | G88: GGC- Préposé aux donateurs | H88: 22U6 | I88: 403 | J88: Mag. Plateau | L88: Accueil 3 - "La santé avant tout" | M88: Pas commencé | Q88: Accueil 4 - La riviere des dons à Renaissance (V2020) | R88: Pas commencé | V88: Accueil 2 "La vie chez Renaissance V2" | W88: Pas commencé | AA88: Formation ARPE-Québec | AB88: Pas commencé | AF88: Cybersécurité | AG88: Validé | AH88: 0 | AI88: 100 | AJ88: 25/02/2021 | AK88: Cybersécurité-Questionnaire | AL88: Validé | AM88: 90 | AN88: 100 | AO88: 25/02/2021 | AP88: Formation SST: La prévention du harcelement et de la violence au travail | AQ88: Pas commencé | AU88: Accueil 1 - Bienvenue chez Renaissance 2021 | AV88: Pas commencé | AZ88: Quiz d'integration | BA88: Pas commencé | BE88: Sondage d'intégration d'un nouvel employé | BF88: Pas commencé | BJ88: SST: Prévention de la Covid-19 en milieu de travail | BK88: Validé | BL88: 0 | BM88: 100 | BN88: 25/02/2021
A89: 22U6000007855 | B89: Hadja Kadiatou | C89: BAH | E89: 43390 | F89: Oui | G89: GGC- Monteur | H89: 22U6 | I89: 309 | J89: Mag. Côte-des-Neiges | K89: 43390 | L89: Accueil 3 - "La santé avant tout" | M89: Pas commencé | Q89: Accueil 4 - La riviere des dons à Renaissance (V2020) | R89: Pas commencé | V89: Accueil 2 "La vie chez Renaissance V2" | W89: Pas commencé | AA89: Formation ARPE-Québec | AB89: Pas commencé | AF89: Cybersécurité | AG89: Validé | AH89: 0 | AI89: 100 | AJ89: 24/02/2021 | AK89: Cybersécurité-Questionnaire | AL89: Validé | AM89: 80 | AN89: 100 | AO89: 24/02/2021 | AP89: Formation SST: La prévention du harcelement et de la violence au travail | AQ89: Pas commencé | AU89: Accueil 1 - Bienvenue chez Renaissance 2021 | AV89: Pas commencé | AZ89: Quiz d'integration | BA89: Pas commencé | BE89: Sondage d'intégration d'un nouvel employé | BF89: Pas commencé | BJ89: SST: Prévention de la Covid-19 en milieu de travail | BK89: Validé | BL89: 0 | BM89: 100 | BN89: 24/02/2021
A90: 22U6000004996 | B90: Hassane | C90: BAHASSI | E90: 44293 | F90: Oui | G90: ADC - Préposé aux donateurs | H90: 22U6 | I90: 526 | J90: Centre de don Des Oiseaux - ADC | L90: Accueil 3 - "La santé avant tout" | M90: Validé | N90: 0 | O90: 100 | P90: 07/04/2021 | Q90: Accueil 4 - La riviere des dons à Renaissance (V2020) | R90: Validé | S90: 0 | T90: 100 | U90: 20/04/2021 | V90: Accueil 2 "La vie chez Renaissance V2" | W90: Validé | X90: 0 | Y90: 100 | Z90: 07/04/2021 | AA90: Formation ARPE-Québec | AB90: Validé | AC90: 0 | AD90: 100 | AE90: 20/04/2021 | AF90: Cybersécurité | AG90: Validé | AH90: 0 | AI90: 100 | AJ90: 20/04/2021 | AK90: Cybersécurité-Questionnaire | AL90: Validé | AM90: 100 | AN90: 100 | AO90: 20/04/2021 | AP90: Formation SST: La prévention du harcelement et de la violence au travail | AQ90: Validé | AR90: 0 | AS90: 100 | AT90: 10/06/2021 | AU90: Accueil 1 - Bienvenue chez Renaissance 2021 | AV90: Validé | AW90: 0 | AX90: 100 | AY90: 07/04/2021 | AZ90: Quiz d'integration | BA90: Validé | BB90: 83.3 | BC90: 100 | BD90: 22/06/2021 | BE90: Sondage d'intégration d'un nouvel employé | BF90: Pas commencé | BJ90: SST: Prévention de la Covid-19 en milieu de travail | BK90: Validé | BL90: 0 | BM90: 100 | BN90: 21/04/2021
A91: 22U6000004882 | B91: Frantz | C91: BAILLE | E91: 44266 | F91: Oui | G91: GGC- Préposé aux donateurs | H91: 22U6 | I91: 310 | J91: Mag. Henri Bourassa | L91: Accueil 3 - "La santé avant tout" | M91: Pas commencé | Q91: Accueil 4 - La riviere des dons à Renaissance (V2020) | R91: Pas commencé | V91: Accueil 2 "La vie chez Renaissance V2" | W91: Validé | X91: 0 | Y91: 100 | Z91: 11/03/2021 | AA91: Formation ARPE-Québec | AB91: Pas commencé | AF91: Cybersécurité | AG91: Pas commencé | AK91: Cybersécurité-Questionnaire | AL91: Pas commencé | AP91: Formation SST: La prévention du harcelement et de la violence au travail | AQ91: Validé | AR91: 0 | AS91: 100 | AT91: 11/03/2021 | AU91: Accueil 1 - Bienvenue chez Renaissance 2021 | AV91: Validé | AW91: 0 | AX91: 100 | AY91: 11/03/2021 | AZ91: Quiz d'integration | BA91: Pas commencé | BE91: Sondage d'intégration d'un nouvel employé | BF91: Pas commencé | BJ91: SST: Prévention de la Covid-19 en milieu de travail | BK91: En cours | BL91: 0 | BM91: 50
A92: 22U6000004837 | B92: Ines | C92: BAKARI | E92: 44256 | F92: Oui | G92: GGC-Chef caissier | H92: 22U6 | I92: 311 | J92: Mag. Galeries Normandie | L92: Accueil 3 - "La santé avant tout" | M92: Pas commencé | Q92: Accueil 4 - La riviere des dons à Renaissance (V2020) | R92: Pas commencé | V92: Accueil 2 "La vie chez Renaissance V2" | W92: Pas commencé | AA92: Formation ARPE-Québec | AB92: Pas commencé | AF92: Cybersécurité | AG92: Pas commencé | AK92: Cybersécurité-Questionnaire | AL92: Pas commencé | AP92: Formation SST: La prévention du harcelement et de la violence au travail | AQ92: Pas commencé | AU92: Accueil 1 - Bienvenue chez Renaissance 2021 | AV92: Pas commencé | AZ92: Quiz d'integration | BA92: Pas commencé | BE92: Sondage d'intégration d'un nouvel employé | BF92: Pas commencé | BJ92: SST: Prévention de la Covid-19 en milieu de travail | BK92: Pas commencé
A93: 22U6000003963 | B93: Souadou | C93: BALDÉ | E93: 43749 | F93: Oui | G93: GGC-Etiq Livres | H93: 22U6 | I93: 311 | J93: Mag. Galeries Normandie | L93: Accueil 3 - "La santé avant tout" | M93: Pas commencé | Q93: Accueil 4 - La riviere des dons à Renaissance (V2020) | R93: Pas commencé | V93: Accueil 2 "La vie chez Renaissance V2" | W93: Pas commencé | AA93: Formation ARPE-Québec | AB93: Pas commencé | AF93: Cybersécurité | AG93: Validé | AH93: 0 | AI93: 100 | AJ93: 25/02/2021 | AK93: Cybersécurité-Questionnaire | AL93: Terminé, non validé | AM93: 60 | AN93: 100 | AP93: Formation SST: La prévention du harcelement et de la violence au travail | AQ93: Pas commencé | AU93: Accueil 1 - Bienvenue chez Renaissance 2021 | AV93: Pas commencé | AZ93: Quiz d'integration | BA93: Pas commencé | BE93: Sondage d'intégration d'un nouvel employé | BF93: Pas commencé | BJ93: SST: Prévention de la Covid-19 en milieu de travail | BK93: Validé | BL93: 0 | BM93: 100 | BN93: 27/02/2021
A94: 22U6000004121 | B94: Loriley | C94: BALISI MAMAUAG | E94: 43906 | F94: Oui | G94: GGC-Coordonnateur opération du magasin | H94: 22U6 | I94: 314 | J94: Mag. Galerie des sources | L94: Accueil 3 - "La santé avant tout" | M94: Pas commencé | Q94: Accueil 4 - La riviere des dons à Renaissance (V2020) | R94: Pas commencé | V94: Accueil 2 "La vie chez Renaissance V2" | W94: Pas commencé | AA94: Formation ARPE-Québec | AB94: Pas commencé | AF94: Cybersécurité | AG94: Validé | AH94: 0 | AI94: 100 | AJ94: 24/02/2021 | AK94: Cybersécurité-Questionnaire | AL94: Validé | AM94: 100 | AN94: 100 | AO94: 24/02/2021 | AP94: Formation SST: La prévention du harcelement et de la violence au travail | AQ94: Pas commencé | AU94: Accueil 1 - Bienvenue chez Renaissance 2021 | AV94: Pas commencé | AZ94: Quiz d'integration | BA94: Pas commencé | BE94: Sondage d'intégration d'un nouvel employé | BF94: Pas commencé | BJ94: SST: Prévention de la Covid-19 en milieu de travail | BK94: Validé | BL94: 0 | BM94: 100 | BN94: 23/02/2021
A95: 22U6000003404 | B95: Virginia | C95: BALZA | E95: 43396 | F95: Oui | G95: GGC- Etiq Accessoires | H95: 22U6 | I95: 313 | J95: Mag. Portobello | L95: Accueil 3 - "La santé avant tout" | M95: Validé | N95: 0 | O95: 100 | P95: 21/10/2020 | Q95: Accueil 4 - La riviere des dons à Renaissance (V2020) | R95: Validé | S95: 0 | T95: 100 | U95: 21/10/2020 | V95: Accueil 2 "La vie chez Renaissance V2" | W95: Validé | X95: 0 | Y95: 100 | Z95: 01/06/2020 | AA95: Formation ARPE-Québec | AB95: Validé | AC95: 0 | AD95: 100 | AE95: 22/10/2020 | AF95: Cybersécurité | AG95: Validé | AH95: 0 | AI95: 100 | AJ95: 01/03/2021 | AK95: Cybersécurité-Questionnaire | AL95: Validé | AM95: 90 | AN95: 100 | AO95: 01/03/2021 | AP95: Formation SST: La prévention du harcelement et de la violence au travail | AQ95: Pas commencé | AU95: Accueil 1 - Bienvenue chez Renaissance 2021 | AV95: Pas commencé | AZ95: Quiz d'integration | BA95: Validé | BB95: 100 | BC95: 100 | BD95: 22/10/2020 | BE95: Sondage d'intégration d'un nouvel employé | BF95: Pas commencé | BJ95: SST: Prévention de la Covid-19 en milieu de travail | BK95: En cours | BL95: 0 | BM95: 50
A96: 22U6000004135 | B96: Matthew | C96: BARKLEY | E96: 43906 | F96: Oui | G96: GGC Préposé entretiens ménager | H96: 22U6 | I96: 314 | J96: Mag. Galerie des sources | L96: Accueil 3 - "La santé avant tout" | M96: Pas commencé | Q96: Accueil 4 - La riviere des dons à Renaissance (V2020) | R96: Pas commencé | V96: Accueil 2 "La vie chez Renaissance V2" | W96: En cours | X96: 0 | Y96: 50 | AA96: Formation ARPE-Québec | AB96: Pas commencé | AF96: Cybersécurité | AG96: Validé | AH96: 0 | AI96: 100 | AJ96: 23/02/2021 | AK96: Cybersécurité-Questionnaire | AL96: Validé | AM96: 100 | AN96: 100 | AO96: 23/02/2021 | AP96: Formation SST: La prévention du harcelement et de la violence au travail | AQ96: Pas commencé | AU96: Accueil 1 - Bienvenue chez Renaissance 2021 | AV96: Pas commencé | AZ96: Quiz d'integration | BA96: Pas commencé | BE96: Sondage d'intégration d'un nouvel employé | BF96: Pas commencé | BJ96: SST: Prévention de la Covid-19 en milieu de travail | BK96: Pas commencé
A97: 22U6000000616 | B97: Sylvain | C97: BARON | E97: 38866 | F97: Oui | G97: GGC-Gérant | H97: 22U6 | I97: 309 | J97: Mag. Côte-des-Neiges | L97: Accueil 3 - "La santé avant tout" | M97: Validé | N97: 0 | O97: 100 | P97: 03/06/2020 | Q97: Accueil 4 - La riviere des dons à Renaissance (V2020) | R97: Validé | S97: 0 | T97: 100 | U97: 04/09/2020 | V97: Accueil 2 "La vie chez Renaissance V2" | W97: Validé | X97: 0 | Y97: 100 | Z97: 03/06/2020 | AA97: Formation ARPE-Québec | AB97: Validé | AC97: 0 | AD97: 100 | AE97: 10/11/2020 | AF97: Cybersécurité | AG97: Validé | AH97: 0 | AI97: 100 | AJ97: 23/02/2021 | AK97: Cybersécurité-Questionnaire | AL97: Validé | AM97: 90 | AN97: 100 | AO97: 23/02/2021 | AP97: Formation SST: La prévention du harcelement et de la violence au travail | AQ97: Pas commencé | AU97: Accueil 1 - Bienvenue chez Renaissance 2021 | AV97: Pas commencé | AZ97: Quiz d'integration | BA97: Pas commencé | BE97: Sondage d'intégration d'un nouvel employé | BF97: Pas commencé | BJ97: SST: Prévention de la Covid-19 en milieu de travail | BK97: Validé | BL97: 0 | BM97: 100 | BN97: 10/02/2021
A98: 22U6000004805 | B98: Paloma | C98: BARREAU FERNANDEZ | E98: 44249 | F98: Oui | G98: Mag SP-Commis plancher | H98: 22U6 | I98: 507 | J98: Mag. Outremont | L98: Accueil 3 - "La santé avant tout" | M98: Validé | N98: 100 | O98: 100 | P98: 28/02/2021 | Q98: Accueil 4 - La riviere des dons à Renaissance (V2020) | R98: Validé | S98: 100 | T98: 100 | U98: 28/02/2021 | V98: Accueil 2 "La vie chez Renaissance V2" | W98: Validé | X98: 100 | Y98: 100 | Z98: 28/02/2021 | AA98: Formation ARPE-Québec | AB98: Pas commencé | AF98: Cybersécurité | AG98: Validé | AH98: 100 | AI98: 100 | AJ98: 28/02/2021 | AK98: Cybersécurité-Questionnaire | AL98: Validé | AM98: 80 | AN98: 100 | AO98: 28/02/2021 | AP98: Formation SST: La prévention du harcelement et de la violence au travail | AQ98: Pas commencé | AU98: Accueil 1 - Bienvenue chez Renaissance 2021 | AV98: Validé | AW98: 100 | AX98: 100 | AY98: 28/02/2021 | AZ98: Quiz d'integration | BA98: Pas commencé | BE98: Sondage d'intégration d'un nouvel employé | BF98: Pas commencé | BJ98: SST: Prévention de la Covid-19 en milieu de travail | BK98: Validé | BL98: 100 | BM98: 100 | BN98: 28/02/2021
A99: 22U6000002022 | B99: Claudette | C99: BARRETTE | E99: 41872 | F99: Oui | G99: ADC - Préposé aux donateurs | H99: 22U6 | I99: 505 | J99: Centre de don ADC Fleury | L99: Accueil 3 - "La santé avant tout" | M99: Validé | N99: 100 | O99: 100 | P99: 25/08/2017 | Q99: Accueil 4 - La riviere des dons à Renaissance (V2020) | R99: Pas commencé | V99: Accueil 2 "La vie chez Renaissance V2" | W99: Validé | X99: 0 | Y99: 100 | Z99: 01/05/2020 | AA99: Formation ARPE-Québec | AB99: Pas commencé | AF99: Cybersécurité | AG99: Validé | AH99: 0 | AI99: 100 | AJ99: 25/02/2021 | AK99: Cybersécurité-Questionnaire | AL99: Validé | AM99: 100 | AN99: 100 | AO99: 25/02/2021 | AP99: Formation SST: La prévention du harcelement et de la violence au travail | AQ99: Pas commencé | AU99: Accueil 1 - Bienvenue chez Renaissance 2021 | AV99: Pas commencé | AZ99: Quiz d'integration | BA99: Pas commencé | BE99: Sondage d'intégration d'un nouvel employé | BF99: Pas commencé | BJ99: SST: Prévention de la Covid-19 en milieu de travail | BK99: Validé | BL99: 0 | BM99: 100 | BN99: 24/02/2021
A100: 22U6000003391 | B100: Mariama | C100: BARRY | E100: 43360 | F100: Oui | G100: GGC-Trieur | H100: 22U6 | I100: 107 | J100: Support aux magasins réguliers | L100: Accueil 3 - "La santé avant tout" | M100: Pas commencé | Q100: Accueil 4 - La riviere des dons à Renaissance (V2020) | R100: Pas commencé | V100: Accueil 2 "La vie chez Renaissance V2" | W100: Pas commencé | AA100: Formation ARPE-Québec | AB100: Pas commencé | AF100: Cybersécurité | AG100: Validé | AH100: 0 | AI100: 100 | AJ100: 07/10/2020 | AK100: Cybersécurité-Questionnaire | AL100: Validé | AM100: 80 | AN100: 100 | AO100: 07/10/2020 | AP100: Formation SST: La prévention du harcelement et de la violence au travail | AQ100: Pas commencé | AU100: Accueil 1 - Bienvenue chez Renaissance 2021 | AV100: Pas commencé | AZ100: Quiz d'integration | BA100: Pas commencé | BE100: Sondage d'intégration d'un nouvel employé | BF100: Pas commencé | BJ100: SST: Prévention de la Covid-19 en milieu de travail | BK100: Validé | BL100: 0 | BM100: 100 | BN100: 26/02/2021
...

Sheet Feuil1
A5: J | B5: AU | C5: AV | G5: V | H5: W | J5: L | K5: M | N5: Q | O5: R | R5: BJ | S5: BK | V5: AP | W5: AQ | Z5: AA | AA5: AB | AD5: AF | AE5: AG | AH5: AK | AI5: AL | AL5: AZ | AM5: BA | AP5: BE | AQ5: BF
A7: Service d'attache | B7: Accueil 1 - Bienvenue chez Renaissance 2021 | F7: Accueil 2 "La vie chez Renaissance V2" | J7: Accueil 3 - "La santé avant tout" | N7: Accueil 4 - La riviere des dons à Renaissance (V2020) | R7: SST: Prévention de la Covid-19 en milieu de travail | V7: Formation SST: La prévention du harcelement et de la violence au travail | Z7: Formation ARPE-Québec | AD7: Cybersécurité | AH7: Cybersécurité-Questionnaire | AL7: Quiz d'integration | AP7: Sondage d'intégration d'un nouvel employé
B8: Pas commencé | C8: En cours | D8: Validé | E8: Terminé, non validé | F8: Pas commencé | G8: En cours | H8: Validé | I8: Terminé, non validé | J8: Pas commencé | K8: En cours | L8: Validé | M8: Terminé, non validé | N8: Pas commencé | O8: En cours | P8: Validé | Q8: Terminé, non validé | R8: Pas commencé | S8: En cours | T8: Validé | U8: Terminé, non validé | V8: Pas commencé | W8: En cours | X8: Validé | Y8: Terminé, non validé | Z8: Pas commencé | AA8: En cours | AB8: Validé | AC8: Terminé, non validé | AD8: Pas commencé | AE8: En cours | AF8: Validé | AG8: Terminé, non validé | AH8: Pas commencé | AI8: En cours | AJ8: Validé | AK8: Terminé, non validé | AL8: Pas commencé | AM8: En cours | AN8: Validé | AO8: Terminé, non validé | AP8: Pas commencé | AQ8: En cours | AR8: Validé | AS8: Terminé, non validé
A9: Libraire Bélanger-Lacordaire | B9: =COUNTIFS(données!$J:$J,A9,données!$AV:$AV,Feuil1!$B$8) -> 4 | C9: =COUNTIFS(données!$J:$J,A9,données!$AV:$AV,Feuil1!$C$8) -> 2 | D9: =COUNTIFS(données!$J:$J,A9,données!$AV:$AV,Feuil1!$D$8) -> 2 | E9: =COUNTIFS(données!$J:$J,A9,données!$AV:$AV,Feuil1!$E$8) -> 0 | F9: =COUNTIFS(données!$J:$J,Feuil1!$A9,données!$W:$W,Feuil1!$F$8) -> 5 | G9: =COUNTIFS(données!$J:$J,Feuil1!$A9,données!$W:$W,Feuil1!$G$8) -> 0 | H9: =COUNTIFS(données!$J:$J,Feuil1!$A9,données!$W:$W,Feuil1!$H$8) -> 3 | I9: =COUNTIFS(données!$J:$J,Feuil1!$A9,données!$W:$W,Feuil1!$I$8) -> 0 | J9: =COUNTIFS(données!$J:$J,Feuil1!$A9,données!$M:$M,Feuil1!$J$8) -> 3 | K9: =COUNTIFS(données!$J:$J,Feuil1!$A9,données!$M:$M,Feuil1!$K$8) -> 1 | L9: =COUNTIFS(données!$J:$J,Feuil1!$A9,données!$M:$M,Feuil1!$L$8) -> 4 | M9: =COUNTIFS(données!$J:$J,Feuil1!$A9,données!$M:$M,Feuil1!$M$8) -> 0 | N9: =COUNTIFS(données!$J:$J,Feuil1!$A9,données!$R:$R,Feuil1!$N$8) -> 5 | O9: =COUNTIFS(données!$J:$J,Feuil1!$A9,données!$R:$R,Feuil1!$O$8) -> 0 | P9: =COUNTIFS(données!$J:$J,Feuil1!$A9,données!$R:$R,Feuil1!$P$8) -> 3 | Q9: =COUNTIFS(données!$J:$J,Feuil1!$A9,données!$R:$R,Feuil1!$Q$8) -> 0 | R9: =COUNTIFS(données!$J:$J,Feuil1!$A9,données!$BK:$BK,Feuil1!$R$8) -> 2 | S9: =COUNTIFS(données!$J:$J,Feuil1!$A9,données!$BK:$BK,Feuil1!$S$8) -> 0 | T9: =COUNTIFS(données!$J:$J,Feuil1!$A9,données!$BK:$BK,Feuil1!$T$8) -> 6 | U9: =COUNTIFS(données!$J:$J,Feuil1!$A9,données!$BK:$BK,Feuil1!$U$8) -> 0 | V9: =COUNTIFS(données!$J:$J,Feuil1!$A9,données!$AQ:$AQ,Feuil1!$V$8) -> 4 | W9: =COUNTIFS(données!$J:$J,Feuil1!$A9,données!$AQ:$AQ,Feuil1!$W$8) -> 1 | X9: =COUNTIFS(données!$J:$J,Feuil1!$A9,données!$AQ:$AQ,Feuil1!$X$8) -> 3 | Y9: =COUNTIFS(données!$J:$J,Feuil1!$A9,données!$AQ:$AQ,Feuil1!$Y$8) -> 0 | Z9: =COUNTIFS(données!$J:$J,Feuil1!$A9,données!$AB:$AB,Feuil1!$Z$8) -> 2 | AA9: =COUNTIFS(données!$J:$J,Feuil1!$A9,données!$AB:$AB,Feuil1!$AA$8) -> 0 | AB9: =COUNTIFS(données!$J:$J,Feuil1!$A9,données!$AB:$AB,Feuil1!$AB$8) -> 6 | AC9: =COUNTIFS(données!$J:$J,Feuil1!$A9,données!$AB:$AB,Feuil1!$AC$8) -> 0 | AD9: =COUNTIFS(données!$J:$J,Feuil1!$A9,données!$AG:$AG,Feuil1!$AD$8) -> 3 | AE9: =COUNTIFS(données!$J:$J,Feuil1!$A9,données!$AG:$AG,Feuil1!$AE$8) -> 0 | AF9: =COUNTIFS(données!$J:$J,Feuil1!$A9,données!$AG:$AG,Feuil1!$AF$8) -> 5 | AG9: =COUNTIFS(données!$J:$J,Feuil1!$A9,données!$AG:$AG,Feuil1!$AG$8) -> 0 | AH9: =COUNTIFS(données!$J:$J,Feuil1!$A9,données!$AL:$AL,Feuil1!$AH$8) -> 3 | AI9: =COUNTIFS(données!$J:$J,Feuil1!$A9,données!$AL:$AL,Feuil1!$AI$8) -> 0 | AJ9: =COUNTIFS(données!$J:$J,Feuil1!$A9,données!$AL:$AL,Feuil1!$AJ$8) -> 5 | AK9: =COUNTIFS(données!$J:$J,Feuil1!$A9,données!$AL:$AL,Feuil1!$AK$8) -> 0 | AL9: =COUNTIFS(données!$J:$J,Feuil1!$A9,données!$BA:$BA,Feuil1!$AL$8) -> 6 | AM9: =COUNTIFS(données!$J:$J,Feuil1!$A9,données!$BA:$BA,Feuil1!$AM$8) -> 0 | AN9: =COUNTIFS(données!$J:$J,Feuil1!$A9,données!$BA:$BA,Feuil1!$AN$8) -> 0 | AO9: =COUNTIFS(données!$J:$J,Feuil1!$A9,données!$BA:$BA,Feuil1!$AO$8) -> 2 | AP9: =COUNTIFS(données!$J:$J,Feuil1!$A9,données!$BF:$BF,Feuil1!$AP$8) -> 8 | AQ9: =COUNTIFS(données!$J:$J,Feuil1!$A9,données!$BF:$BF,Feuil1!$AQ$8) -> 0 | AR9: =COUNTIFS(données!$J:$J,Feuil1!$A9,données!$BF:$BF,Feuil1!$AR$8) -> 0 | AS9: =COUNTIFS(données!$J:$J,Feuil1!$A9,données!$BF:$BF,Feuil1!$AS$8) -> 0
A10: Librairie Beaumont | B10: =COUNTIFS(données!$J:$J,A10,données!$AV:$AV,Feuil1!$B$8) -> 7 | C10: =COUNTIFS(données!$J:$J,A10,données!$AV:$AV,Feuil1!$C$8) -> 0 | D10: =COUNTIFS(données!$J:$J,A10,données!$AV:$AV,Feuil1!$D$8) -> 2 | E10: =COUNTIFS(données!$J:$J,A10,données!$AV:$AV,Feuil1!$E$8) -> 0 | F10: =COUNTIFS(données!$J:$J,Feuil1!A10,données!$W:$W,Feuil1!$F$8) -> 4 | G10: =COUNTIFS(données!$J:$J,Feuil1!$A10,données!$W:$W,Feuil1!$G$8) -> 1 | H10: =COUNTIFS(données!$J:$J,Feuil1!$A10,données!$W:$W,Feuil1!$H$8) -> 4 | I10: =COUNTIFS(données!$J:$J,Feuil1!$A10,données!$W:$W,Feuil1!$I$8) -> 0 | J10: =COUNTIFS(données!$J:$J,Feuil1!$A10,données!$M:$M,Feuil1!$J$8) -> 2 | K10: =COUNTIFS(données!$J:$J,Feuil1!$A10,données!$M:$M,Feuil1!$K$8) -> 1 | L10: =COUNTIFS(données!$J:$J,Feuil1!$A10,données!$M:$M,Feuil1!$L$8) -> 6 | M10: =COUNTIFS(données!$J:$J,Feuil1!$A10,données!$M:$M,Feuil1!$M$8) -> 0 | N10: =COUNTIFS(données!$J:$J,Feuil1!$A10,données!$R:$R,Feuil1!$N$8) -> 6 | O10: =COUNTIFS(données!$J:$J,Feuil1!$A10,données!$R:$R,Feuil1!$O$8) -> 0 | P10: =COUNTIFS(données!$J:$J,Feuil1!$A10,données!$R:$R,Feuil1!$P$8) -> 3 | Q10: =COUNTIFS(données!$J:$J,Feuil1!$A10,données!$R:$R,Feuil1!$Q$8) -> 0 | R10: =COUNTIFS(données!$J:$J,Feuil1!$A10,données!$BK:$BK,Feuil1!$R$8) -> 0 | S10: =COUNTIFS(données!$J:$J,Feuil1!$A10,données!$BK:$BK,Feuil1!$S$8) -> 0 | T10: =COUNTIFS(données!$J:$J,Feuil1!$A10,données!$BK:$BK,Feuil1!$T$8) -> 9 | U10: =COUNTIFS(données!$J:$J,Feuil1!$A10,données!$BK:$BK,Feuil1!$U$8) -> 0 | V10: =COUNTIFS(données!$J:$J,Feuil1!$A10,données!$AQ:$AQ,Feuil1!$V$8) -> 6 | W10: =COUNTIFS(données!$J:$J,Feuil1!$A10,données!$AQ:$AQ,Feuil1!$W$8) -> 0 | X10: =COUNTIFS(données!$J:$J,Feuil1!$A10,données!$AQ:$AQ,Feuil1!$X$8) -> 3 | Y10: =COUNTIFS(données!$J:$J,Feuil1!$A10,données!$AQ:$AQ,Feuil1!$Y$8) -> 0 | Z10: =COUNTIFS(données!$J:$J,Feuil1!$A10,données!$AB:$AB,Feuil1!$Z$8) -> 0 | AA10: =COUNTIFS(données!$J:$J,Feuil1!$A10,données!$AB:$AB,Feuil1!$AA$8) -> 0 | AB10: =COUNTIFS(données!$J:$J,Feuil1!$A10,données!$AB:$AB,Feuil1!$AB$8) -> 9 | AC10: =COUNTIFS(données!$J:$J,Feuil1!$A10,données!$AB:$AB,Feuil1!$AC$8) -> 0 | AD10: =COUNTIFS(données!$J:$J,Feuil1!$A10,données!$AG:$AG,Feuil1!$AD$8) -> 1 | AE10: =COUNTIFS(données!$J:$J,Feuil1!$A10,données!$AG:$AG,Feuil1!$AE$8) -> 0 | AF10: =COUNTIFS(données!$J:$J,Feuil1!$A10,données!$AG:$AG,Feuil1!$AF$8) -> 8 | AG10: =COUNTIFS(données!$J:$J,Feuil1!$A10,données!$AG:$AG,Feuil1!$AG$8) -> 0 | AH10: =COUNTIFS(données!$J:$J,Feuil1!$A10,données!$AL:$AL,Feuil1!$AH$8) -> 1 | AI10: =COUNTIFS(données!$J:$J,Feuil1!$A10,données!$AL:$AL,Feuil1!$AI$8) -> 1 | AJ10: =COUNTIFS(données!$J:$J,Feuil1!$A10,données!$AL:$AL,Feuil1!$AJ$8) -> 7 | AK10: =COUNTIFS(données!$J:$J,Feuil1!$A10,données!$AL:$AL,Feuil1!$AK$8) -> 0 | AL10: =COUNTIFS(données!$J:$J,Feuil1!$A10,données!$BA:$BA,Feuil1!$AL$8) -> 8 | AM10: =COUNTIFS(données!$J:$J,Feuil1!$A10,données!$BA:$BA,Feuil1!$AM$8) -> 0 | AN10: =COUNTIFS(données!$J:$J,Feuil1!$A10,données!$BA:$BA,Feuil1!$AN$8) -> 1 | AO10: =COUNTIFS(données!$J:$J,Feuil1!$A10,données!$BA:$BA,Feuil1!$AO$8) -> 0 | AP10: =COUNTIFS(données!$J:$J,Feuil1!$A10,données!$BF:$BF,Feuil1!$AP$8) -> 9 | AQ10: =COUNTIFS(données!$J:$J,Feuil1!$A10,données!$BF:$BF,Feuil1!$AQ$8) -> 0 | AR10: =COUNTIFS(données!$J:$J,Feuil1!$A10,données!$BF:$BF,Feuil1!$AR$8) -> 0 | AS10: =COUNTIFS(données!$J:$J,Feuil1!$A10,données!$BF:$BF,Feuil1!$AS$8) -> 0
A11: Librairie Fleury-Hamel | B11: =COUNTIFS(données!$J:$J,A11,données!$AV:$AV,Feuil1!$B$8) -> 6 | C11: =COUNTIFS(données!$J:$J,A11,données!$AV:$AV,Feuil1!$C$8) -> 0 | D11: =COUNTIFS(données!$J:$J,A11,données!$AV:$AV,Feuil1!$D$8) -> 2 | E11: =COUNTIFS(données!$J:$J,A11,données!$AV:$AV,Feuil1!$E$8) -> 0 | F11: =COUNTIFS(données!$J:$J,Feuil1!A11,données!$W:$W,Feuil1!$F$8) -> 4 | G11: =COUNTIFS(données!$J:$J,Feuil1!$A11,données!$W:$W,Feuil1!$G$8) -> 0 | H11: =COUNTIFS(données!$J:$J,Feuil1!$A11,données!$W:$W,Feuil1!$H$8) -> 4 | I11: =COUNTIFS(données!$J:$J,Feuil1!$A11,données!$W:$W,Feuil1!$I$8) -> 0 | J11: =COUNTIFS(données!$J:$J,Feuil1!$A11,données!$M:$M,Feuil1!$J$8) -> 5 | K11: =COUNTIFS(données!$J:$J,Feuil1!$A11,données!$M:$M,Feuil1!$K$8) -> 0 | L11: =COUNTIFS(données!$J:$J,Feuil1!$A11,données!$M:$M,Feuil1!$L$8) -> 3 | M11: =COUNTIFS(données!$J:$J,Feuil1!$A11,données!$M:$M,Feuil1!$M$8) -> 0 | N11: =COUNTIFS(données!$J:$J,Feuil1!$A11,données!$R:$R,Feuil1!$N$8) -> 5 | O11: =COUNTIFS(données!$J:$J,Feuil1!$A11,données!$R:$R,Feuil1!$O$8) -> 0 | P11: =COUNTIFS(données!$J:$J,Feuil1!$A11,données!$R:$R,Feuil1!$P$8) -> 3 | Q11: =COUNTIFS(données!$J:$J,Feuil1!$A11,données!$R:$R,Feuil1!$Q$8) -> 0 | R11: =COUNTIFS(données!$J:$J,Feuil1!$A11,données!$BK:$BK,Feuil1!$R$8) -> 3 | S11: =COUNTIFS(données!$J:$J,Feuil1!$A11,données!$BK:$BK,Feuil1!$S$8) -> 0 | T11: =COUNTIFS(données!$J:$J,Feuil1!$A11,données!$BK:$BK,Feuil1!$T$8) -> 5 | U11: =COUNTIFS(données!$J:$J,Feuil1!$A11,données!$BK:$BK,Feuil1!$U$8) -> 0 | V11: =COUNTIFS(données!$J:$J,Feuil1!$A11,données!$AQ:$AQ,Feuil1!$V$8) -> 8 | W11: =COUNTIFS(données!$J:$J,Feuil1!$A11,données!$AQ:$AQ,Feuil1!$W$8) -> 0 | X11: =COUNTIFS(données!$J:$J,Feuil1!$A11,données!$AQ:$AQ,Feuil1!$X$8) -> 0 | Y11: =COUNTIFS(données!$J:$J,Feuil1!$A11,données!$AQ:$AQ,Feuil1!$Y$8) -> 0 | Z11: =COUNTIFS(données!$J:$J,Feuil1!$A11,données!$AB:$AB,Feuil1!$Z$8) -> 4 | AA11: =COUNTIFS(données!$J:$J,Feuil1!$A11,données!$AB:$AB,Feuil1!$AA$8) -> 0 | AB11: =COUNTIFS(données!$J:$J,Feuil1!$A11,données!$AB:$AB,Feuil1!$AB$8) -> 4 | AC11: =COUNTIFS(données!$J:$J,Feuil1!$A11,données!$AB:$AB,Feuil1!$AC$8) -> 0 | AD11: =COUNTIFS(données!$J:$J,Feuil1!$A11,données!$AG:$AG,Feuil1!$AD$8) -> 3 | AE11: =COUNTIFS(données!$J:$J,Feuil1!$A11,données!$AG:$AG,Feuil1!$AE$8) -> 0 | AF11: =COUNTIFS(données!$J:$J,Feuil1!$A11,données!$AG:$AG,Feuil1!$AF$8) -> 5 | AG11: =COUNTIFS(données!$J:$J,Feuil1!$A11,données!$AG:$AG,Feuil1!$AG$8) -> 0 | AH11: =COUNTIFS(données!$J:$J,Feuil1!$A11,données!$AL:$AL,Feuil1!$AH$8) -> 3 | AI11: =COUNTIFS(données!$J:$J,Feuil1!$A11,données!$AL:$AL,Feuil1!$AI$8) -> 0 | AJ11: =COUNTIFS(données!$J:$J,Feuil1!$A11,données!$AL:$AL,Feuil1!$AJ$8) -> 5 | AK11: =COUNTIFS(données!$J:$J,Feuil1!$A11,données!$AL:$AL,Feuil1!$AK$8) -> 0 | AL11: =COUNTIFS(données!$J:$J,Feuil1!$A11,données!$BA:$BA,Feuil1!$AL$8) -> 8 | AM11: =COUNTIFS(données!$J:$J,Feuil1!$A11,données!$BA:$BA,Feuil1!$AM$8) -> 0 | AN11: =COUNTIFS(données!$J:$J,Feuil1!$A11,données!$BA:$BA,Feuil1!$AN$8) -> 0 | AO11: =COUNTIFS(données!$J:$J,Feuil1!$A11,données!$BA:$BA,Feuil1!$AO$8) -> 0 | AP11: =COUNTIFS(données!$J:$J,Feuil1!$A11,données!$BF:$BF,Feuil1!$AP$8) -> 8 | AQ11: =COUNTIFS(données!$J:$J,Feuil1!$A11,données!$BF:$BF,Feuil1!$AQ$8) -> 0 | AR11: =COUNTIFS(données!$J:$J,Feuil1!$A11,données!$BF:$BF,Feuil1!$AR$8) -> 0 | AS11: =COUNTIFS(données!$J:$J,Feuil1!$A11,données!$BF:$BF,Feuil1!$AS$8) -> 0
A12: Librairie Ile Perrot | B12: =COUNTIFS(données!$J:$J,A12,données!$AV:$AV,Feuil1!$B$8) -> 5 | C12: =COUNTIFS(données!$J:$J,A12,données!$AV:$AV,Feuil1!$C$8) -> 0 | D12: =COUNTIFS(données!$J:$J,A12,données!$AV:$AV,Feuil1!$D$8) -> 1 | E12: =COUNTIFS(données!$J:$J,A12,données!$AV:$AV,Feuil1!$E$8) -> 0 | F12: =COUNTIFS(données!$J:$J,Feuil1!A12,données!$W:$W,Feuil1!$F$8) -> 3 | G12: =COUNTIFS(données!$J:$J,Feuil1!$A12,données!$W:$W,Feuil1!$G$8) -> 0 | H12: =COUNTIFS(données!$J:$J,Feuil1!$A12,données!$W:$W,Feuil1!$H$8) -> 3 | I12: =COUNTIFS(données!$J:$J,Feuil1!$A12,données!$W:$W,Feuil1!$I$8) -> 0 | J12: =COUNTIFS(données!$J:$J,Feuil1!$A12,données!$M:$M,Feuil1!$J$8) -> 2 | K12: =COUNTIFS(données!$J:$J,Feuil1!$A12,données!$M:$M,Feuil1!$K$8) -> 0 | L12: =COUNTIFS(données!$J:$J,Feuil1!$A12,données!$M:$M,Feuil1!$L$8) -> 4 | M12: =COUNTIFS(données!$J:$J,Feuil1!$A12,données!$M:$M,Feuil1!$M$8) -> 0 | N12: =COUNTIFS(données!$J:$J,Feuil1!$A12,données!$R:$R,Feuil1!$N$8) -> 4 | O12: =COUNTIFS(données!$J:$J,Feuil1!$A12,données!$R:$R,Feuil1!$O$8) -> 0 | P12: =COUNTIFS(données!$J:$J,Feuil1!$A12,données!$R:$R,Feuil1!$P$8) -> 2 | Q12: =COUNTIFS(données!$J:$J,Feuil1!$A12,données!$R:$R,Feuil1!$Q$8) -> 0 | R12: =COUNTIFS(données!$J:$J,Feuil1!$A12,données!$BK:$BK,Feuil1!$R$8) -> 1 | S12: =COUNTIFS(données!$J:$J,Feuil1!$A12,données!$BK:$BK,Feuil1!$S$8) -> 0 | T12: =COUNTIFS(données!$J:$J,Feuil1!$A12,données!$BK:$BK,Feuil1!$T$8) -> 5 | U12: =COUNTIFS(données!$J:$J,Feuil1!$A12,données!$BK:$BK,Feuil1!$U$8) -> 0 | V12: =COUNTIFS(données!$J:$J,Feuil1!$A12,données!$AQ:$AQ,Feuil1!$V$8) -> 6 | W12: =COUNTIFS(données!$J:$J,Feuil1!$A12,données!$AQ:$AQ,Feuil1!$W$8) -> 0 | X12: =COUNTIFS(données!$J:$J,Feuil1!$A12,données!$AQ:$AQ,Feuil1!$X$8) -> 0 | Y12: =COUNTIFS(données!$J:$J,Feuil1!$A12,données!$AQ:$AQ,Feuil1!$Y$8) -> 0 | Z12: =COUNTIFS(données!$J:$J,Feuil1!$A12,données!$AB:$AB,Feuil1!$Z$8) -> 4 | AA12: =COUNTIFS(données!$J:$J,Feuil1!$A12,données!$AB:$AB,Feuil1!$AA$8) -> 2 | AB12: =COUNTIFS(données!$J:$J,Feuil1!$A12,données!$AB:$AB,Feuil1!$AB$8) -> 0 | AC12: =COUNTIFS(données!$J:$J,Feuil1!$A12,données!$AB:$AB,Feuil1!$AC$8) -> 0 | AD12: =COUNTIFS(données!$J:$J,Feuil1!$A12,données!$AG:$AG,Feuil1!$AD$8) -> 0 | AE12: =COUNTIFS(données!$J:$J,Feuil1!$A12,données!$AG:$AG,Feuil1!$AE$8) -> 0 | AF12: =COUNTIFS(données!$J:$J,Feuil1!$A12,données!$AG:$AG,Feuil1!$AF$8) -> 6 | AG12: =COUNTIFS(données!$J:$J,Feuil1!$A12,données!$AG:$AG,Feuil1!$AG$8) -> 0 | AH12: =COUNTIFS(données!$J:$J,Feuil1!$A12,données!$AL:$AL,Feuil1!$AH$8) -> 0 | AI12: =COUNTIFS(données!$J:$J,Feuil1!$A12,données!$AL:$AL,Feuil1!$AI$8) -> 0 | AJ12: =COUNTIFS(données!$J:$J,Feuil1!$A12,données!$AL:$AL,Feuil1!$AJ$8) -> 6 | AK12: =COUNTIFS(données!$J:$J,Feuil1!$A12,données!$AL:$AL,Feuil1!$AK$8) -> 0 | AL12: =COUNTIFS(données!$J:$J,Feuil1!$A12,données!$BA:$BA,Feuil1!$AL$8) -> 6 | AM12: =COUNTIFS(données!$J:$J,Feuil1!$A12,données!$BA:$BA,Feuil1!$AM$8) -> 0 | AN12: =COUNTIFS(données!$J:$J,Feuil1!$A12,données!$BA:$BA,Feuil1!$AN$8) -> 0 | AO12: =COUNTIFS(données!$J:$J,Feuil1!$A12,données!$BA:$BA,Feuil1!$AO$8) -> 0 | AP12: =COUNTIFS(données!$J:$J,Feuil1!$A12,données!$BF:$BF,Feuil1!$AP$8) -> 6 | AQ12: =COUNTIFS(données!$J:$J,Feuil1!$A12,données!$BF:$BF,Feuil1!$AQ$8) -> 0 | AR12: =COUNTIFS(données!$J:$J,Feuil1!$A12,données!$BF:$BF,Feuil1!$AR$8) -> 0 | AS12: =COUNTIFS(données!$J:$J,Feuil1!$A12,données!$BF:$BF,Feuil1!$AS$8) -> 0
A13: Librairie NDG | B13: =COUNTIFS(données!$J:$J,A13,données!$AV:$AV,Feuil1!$B$8) -> 8 | C13: =COUNTIFS(données!$J:$J,A13,données!$AV:$AV,Feuil1!$C$8) -> 1 | D13: =COUNTIFS(données!$J:$J,A13,données!$AV:$AV,Feuil1!$D$8) -> 2 | E13: =COUNTIFS(données!$J:$J,A13,données!$AV:$AV,Feuil1!$E$8) -> 0 | F13: =COUNTIFS(données!$J:$J,Feuil1!A13,données!$W:$W,Feuil1!$F$8) -> 7 | G13: =COUNTIFS(données!$J:$J,Feuil1!$A13,données!$W:$W,Feuil1!$G$8) -> 0 | H13: =COUNTIFS(données!$J:$J,Feuil1!$A13,données!$W:$W,Feuil1!$H$8) -> 4 | I13: =COUNTIFS(données!$J:$J,Feuil1!$A13,données!$W:$W,Feuil1!$I$8) -> 0 | J13: =COUNTIFS(données!$J:$J,Feuil1!$A13,données!$M:$M,Feuil1!$J$8) -> 6 | K13: =COUNTIFS(données!$J:$J,Feuil1!$A13,données!$M:$M,Feuil1!$K$8) -> 0 | L13: =COUNTIFS(données!$J:$J,Feuil1!$A13,données!$M:$M,Feuil1!$L$8) -> 5 | M13: =COUNTIFS(données!$J:$J,Feuil1!$A13,données!$M:$M,Feuil1!$M$8) -> 0 | N13: =COUNTIFS(données!$J:$J,Feuil1!$A13,données!$R:$R,Feuil1!$N$8) -> 8 | O13: =COUNTIFS(données!$J:$J,Feuil1!$A13,données!$R:$R,Feuil1!$O$8) -> 0 | P13: =COUNTIFS(données!$J:$J,Feuil1!$A13,données!$R:$R,Feuil1!$P$8) -> 3 | Q13: =COUNTIFS(données!$J:$J,Feuil1!$A13,données!$R:$R,Feuil1!$Q$8) -> 0 | R13: =COUNTIFS(données!$J:$J,Feuil1!$A13,données!$BK:$BK,Feuil1!$R$8) -> 4 | S13: =COUNTIFS(données!$J:$J,Feuil1!$A13,données!$BK:$BK,Feuil1!$S$8) -> 1 | T13: =COUNTIFS(données!$J:$J,Feuil1!$A13,données!$BK:$BK,Feuil1!$T$8) -> 6 | U13: =COUNTIFS(données!$J:$J,Feuil1!$A13,données!$BK:$BK,Feuil1!$U$8) -> 0 | V13: =COUNTIFS(données!$J:$J,Feuil1!$A13,données!$AQ:$AQ,Feuil1!$V$8) -> 10 | W13: =COUNTIFS(données!$J:$J,Feuil1!$A13,données!$AQ:$AQ,Feuil1!$W$8) -> 0 | X13: =COUNTIFS(données!$J:$J,Feuil1!$A13,données!$AQ:$AQ,Feuil1!$X$8) -> 1 | Y13: =COUNTIFS(données!$J:$J,Feuil1!$A13,données!$AQ:$AQ,Feuil1!$Y$8) -> 0 | Z13: =COUNTIFS(données!$J:$J,Feuil1!$A13,données!$AB:$AB,Feuil1!$Z$8) -> 9 | AA13: =COUNTIFS(données!$J:$J,Feuil1!$A13,données!$AB:$AB,Feuil1!$AA$8) -> 0 | AB13: =COUNTIFS(données!$J:$J,Feuil1!$A13,données!$AB:$AB,Feuil1!$AB$8) -> 2 | AC13: =COUNTIFS(données!$J:$J,Feuil1!$A13,données!$AB:$AB,Feuil1!$AC$8) -> 0 | AD13: =COUNTIFS(données!$J:$J,Feuil1!$A13,données!$AG:$AG,Feuil1!$AD$8) -> 4 | AE13: =COUNTIFS(données!$J:$J,Feuil1!$A13,données!$AG:$AG,Feuil1!$AE$8) -> 0 | AF13: =COUNTIFS(données!$J:$J,Feuil1!$A13,données!$AG:$AG,Feuil1!$AF$8) -> 7 | AG13: =COUNTIFS(données!$J:$J,Feuil1!$A13,données!$AG:$AG,Feuil1!$AG$8) -> 0 | AH13: =COUNTIFS(données!$J:$J,Feuil1!$A13,données!$AL:$AL,Feuil1!$AH$8) -> 4 | AI13: =COUNTIFS(données!$J:$J,Feuil1!$A13,données!$AL:$AL,Feuil1!$AI$8) -> 0 | AJ13: =COUNTIFS(données!$J:$J,Feuil1!$A13,données!$AL:$AL,Feuil1!$AJ$8) -> 6 | AK13: =COUNTIFS(données!$J:$J,Feuil1!$A13,données!$AL:$AL,Feuil1!$AK$8) -> 1 | AL13: =COUNTIFS(données!$J:$J,Feuil1!$A13,données!$BA:$BA,Feuil1!$AL$8) -> 10 | AM13: =COUNTIFS(données!$J:$J,Feuil1!$A13,données!$BA:$BA,Feuil1!$AM$8) -> 0 | AN13: =COUNTIFS(données!$J:$J,Feuil1!$A13,données!$BA:$BA,Feuil1!$AN$8) -> 1 | AO13: =COUNTIFS(données!$J:$J,Feuil1!$A13,données!$BA:$BA,Feuil1!$AO$8) -> 0 | AP13: =COUNTIFS(données!$J:$J,Feuil1!$A13,données!$BF:$BF,Feuil1!$AP$8) -> 11 | AQ13: =COUNTIFS(données!$J:$J,Feuil1!$A13,données!$BF:$BF,Feuil1!$AQ$8) -> 0 | AR13: =COUNTIFS(données!$J:$J,Feuil1!$A13,données!$BF:$BF,Feuil1!$AR$8) -> 0 | AS13: =COUNTIFS(données!$J:$J,Feuil1!$A13,données!$BF:$BF,Feuil1!$AS$8) -> 0
A14: Librairie Ontario | B14: =COUNTIFS(données!$J:$J,A14,données!$AV:$AV,Feuil1!$B$8) -> 6 | C14: =COUNTIFS(données!$J:$J,A14,données!$AV:$AV,Feuil1!$C$8) -> 0 | D14: =COUNTIFS(données!$J:$J,A14,données!$AV:$AV,Feuil1!$D$8) -> 1 | E14: =COUNTIFS(données!$J:$J,A14,données!$AV:$AV,Feuil1!$E$8) -> 0 | F14: =COUNTIFS(données!$J:$J,Feuil1!A14,données!$W:$W,Feuil1!$F$8) -> 4 | G14: =COUNTIFS(données!$J:$J,Feuil1!$A14,données!$W:$W,Feuil1!$G$8) -> 1 | H14: =COUNTIFS(données!$J:$J,Feuil1!$A14,données!$W:$W,Feuil1!$H$8) -> 2 | I14: =COUNTIFS(données!$J:$J,Feuil1!$A14,données!$W:$W,Feuil1!$I$8) -> 0 | J14: =COUNTIFS(données!$J:$J,Feuil1!$A14,données!$M:$M,Feuil1!$J$8) -> 5 | K14: =COUNTIFS(données!$J:$J,Feuil1!$A14,données!$M:$M,Feuil1!$K$8) -> 0 | L14: =COUNTIFS(données!$J:$J,Feuil1!$A14,données!$M:$M,Feuil1!$L$8) -> 2 | M14: =COUNTIFS(données!$J:$J,Feuil1!$A14,données!$M:$M,Feuil1!$M$8) -> 0 | N14: =COUNTIFS(données!$J:$J,Feuil1!$A14,données!$R:$R,Feuil1!$N$8) -> 6 | O14: =COUNTIFS(données!$J:$J,Feuil1!$A14,données!$R:$R,Feuil1!$O$8) -> 0 | P14: =COUNTIFS(données!$J:$J,Feuil1!$A14,données!$R:$R,Feuil1!$P$8) -> 1 | Q14: =COUNTIFS(données!$J:$J,Feuil1!$A14,données!$R:$R,Feuil1!$Q$8) -> 0 | R14: =COUNTIFS(données!$J:$J,Feuil1!$A14,données!$BK:$BK,Feuil1!$R$8) -> 2 | S14: =COUNTIFS(données!$J:$J,Feuil1!$A14,données!$BK:$BK,Feuil1!$S$8) -> 0 | T14: =COUNTIFS(données!$J:$J,Feuil1!$A14,données!$BK:$BK,Feuil1!$T$8) -> 5 | U14: =COUNTIFS(données!$J:$J,Feuil1!$A14,données!$BK:$BK,Feuil1!$U$8) -> 0 | V14: =COUNTIFS(données!$J:$J,Feuil1!$A14,données!$AQ:$AQ,Feuil1!$V$8) -> 7 | W14: =COUNTIFS(données!$J:$J,Feuil1!$A14,données!$AQ:$AQ,Feuil1!$W$8) -> 0 | X14: =COUNTIFS(données!$J:$J,Feuil1!$A14,données!$AQ:$AQ,Feuil1!$X$8) -> 0 | Y14: =COUNTIFS(données!$J:$J,Feuil1!$A14,données!$AQ:$AQ,Feuil1!$Y$8) -> 0 | Z14: =COUNTIFS(données!$J:$J,Feuil1!$A14,données!$AB:$AB,Feuil1!$Z$8) -> 6 | AA14: =COUNTIFS(données!$J:$J,Feuil1!$A14,données!$AB:$AB,Feuil1!$AA$8) -> 0 | AB14: =COUNTIFS(données!$J:$J,Feuil1!$A14,données!$AB:$AB,Feuil1!$AB$8) -> 1 | AC14: =COUNTIFS(données!$J:$J,Feuil1!$A14,données!$AB:$AB,Feuil1!$AC$8) -> 0 | AD14: =COUNTIFS(données!$J:$J,Feuil1!$A14,données!$AG:$AG,Feuil1!$AD$8) -> 2 | AE14: =COUNTIFS(données!$J:$J,Feuil1!$A14,données!$AG:$AG,Feuil1!$AE$8) -> 0 | AF14: =COUNTIFS(données!$J:$J,Feuil1!$A14,données!$AG:$AG,Feuil1!$AF$8) -> 5 | AG14: =COUNTIFS(données!$J:$J,Feuil1!$A14,données!$AG:$AG,Feuil1!$AG$8) -> 0 | AH14: =COUNTIFS(données!$J:$J,Feuil1!$A14,données!$AL:$AL,Feuil1!$AH$8) -> 2 | AI14: =COUNTIFS(données!$J:$J,Feuil1!$A14,données!$AL:$AL,Feuil1!$AI$8) -> 0 | AJ14: =COUNTIFS(données!$J:$J,Feuil1!$A14,données!$AL:$AL,Feuil1!$AJ$8) -> 4 | AK14: =COUNTIFS(données!$J:$J,Feuil1!$A14,données!$AL:$AL,Feuil1!$AK$8) -> 1 | AL14: =COUNTIFS(données!$J:$J,Feuil1!$A14,données!$BA:$BA,Feuil1!$AL$8) -> 6 | AM14: =COUNTIFS(données!$J:$J,Feuil1!$A14,données!$BA:$BA,Feuil1!$AM$8) -> 0 | AN14: =COUNTIFS(données!$J:$J,Feuil1!$A14,données!$BA:$BA,Feuil1!$AN$8) -> 0 | AO14: =COUNTIFS(données!$J:$J,Feuil1!$A14,données!$BA:$BA,Feuil1!$AO$8) -> 1 | AP14: =COUNTIFS(données!$J:$J,Feuil1!$A14,données!$BF:$BF,Feuil1!$AP$8) -> 7 | AQ14: =COUNTIFS(données!$J:$J,Feuil1!$A14,données!$BF:$BF,Feuil1!$AQ$8) -> 0 | AR14: =COUNTIFS(données!$J:$J,Feuil1!$A14,données!$BF:$BF,Feuil1!$AR$8) -> 0 | AS14: =COUNTIFS(données!$J:$J,Feuil1!$A14,données!$BF:$BF,Feuil1!$AS$8) -> 0
A15: Mag. Centre St-Martin | B15: =COUNTIFS(données!$J:$J,A15,données!$AV:$AV,Feuil1!$B$8) -> 31 | C15: =COUNTIFS(données!$J:$J,A15,données!$AV:$AV,Feuil1!$C$8) -> 2 | D15: =COUNTIFS(données!$J:$J,A15,données!$AV:$AV,Feuil1!$D$8) -> 5 | E15: =COUNTIFS(données!$J:$J,A15,données!$AV:$AV,Feuil1!$E$8) -> 0 | F15: =COUNTIFS(données!$J:$J,Feuil1!A15,données!$W:$W,Feuil1!$F$8) -> 27 | G15: =COUNTIFS(données!$J:$J,Feuil1!$A15,données!$W:$W,Feuil1!$G$8) -> 1 | H15: =COUNTIFS(données!$J:$J,Feuil1!$A15,données!$W:$W,Feuil1!$H$8) -> 10 | I15: =COUNTIFS(données!$J:$J,Feuil1!$A15,données!$W:$W,Feuil1!$I$8) -> 0 | J15: =COUNTIFS(données!$J:$J,Feuil1!$A15,données!$M:$M,Feuil1!$J$8) -> 23 | K15: =COUNTIFS(données!$J:$J,Feuil1!$A15,données!$M:$M,Feuil1!$K$8) -> 3 | L15: =COUNTIFS(données!$J:$J,Feuil1!$A15,données!$M:$M,Feuil1!$L$8) -> 12 | M15: =COUNTIFS(données!$J:$J,Feuil1!$A15,données!$M:$M,Feuil1!$M$8) -> 0 | N15: =COUNTIFS(données!$J:$J,Feuil1!$A15,données!$R:$R,Feuil1!$N$8) -> 30 | O15: =COUNTIFS(données!$J:$J,Feuil1!$A15,données!$R:$R,Feuil1!$O$8) -> 2 | P15: =COUNTIFS(données!$J:$J,Feuil1!$A15,données!$R:$R,Feuil1!$P$8) -> 6 | Q15: =COUNTIFS(données!$J:$J,Feuil1!$A15,données!$R:$R,Feuil1!$Q$8) -> 0 | R15: =COUNTIFS(données!$J:$J,Feuil1!$A15,données!$BK:$BK,Feuil1!$R$8) -> 9 | S15: =COUNTIFS(données!$J:$J,Feuil1!$A15,données!$BK:$BK,Feuil1!$S$8) -> 1 | T15: =COUNTIFS(données!$J:$J,Feuil1!$A15,données!$BK:$BK,Feuil1!$T$8) -> 28 | U15: =COUNTIFS(données!$J:$J,Feuil1!$A15,données!$BK:$BK,Feuil1!$U$8) -> 0 | V15: =COUNTIFS(données!$J:$J,Feuil1!$A15,données!$AQ:$AQ,Feuil1!$V$8) -> 35 | W15: =COUNTIFS(données!$J:$J,Feuil1!$A15,données!$AQ:$AQ,Feuil1!$W$8) -> 1 | X15: =COUNTIFS(données!$J:$J,Feuil1!$A15,données!$AQ:$AQ,Feuil1!$X$8) -> 2 | Y15: =COUNTIFS(données!$J:$J,Feuil1!$A15,données!$AQ:$AQ,Feuil1!$Y$8) -> 0 | Z15: =COUNTIFS(données!$J:$J,Feuil1!$A15,données!$AB:$AB,Feuil1!$Z$8) -> 32 | AA15: =COUNTIFS(données!$J:$J,Feuil1!$A15,données!$AB:$AB,Feuil1!$AA$8) -> 2 | AB15: =COUNTIFS(données!$J:$J,Feuil1!$A15,données!$AB:$AB,Feuil1!$AB$8) -> 4 | AC15: =COUNTIFS(données!$J:$J,Feuil1!$A15,données!$AB:$AB,Feuil1!$AC$8) -> 0 | AD15: =COUNTIFS(données!$J:$J,Feuil1!$A15,données!$AG:$AG,Feuil1!$AD$8) -> 10 | AE15: =COUNTIFS(données!$J:$J,Feuil1!$A15,données!$AG:$AG,Feuil1!$AE$8) -> 3 | AF15: =COUNTIFS(données!$J:$J,Feuil1!$A15,données!$AG:$AG,Feuil1!$AF$8) -> 25 | AG15: =COUNTIFS(données!$J:$J,Feuil1!$A15,données!$AG:$AG,Feuil1!$AG$8) -> 0 | AH15: =COUNTIFS(données!$J:$J,Feuil1!$A15,données!$AL:$AL,Feuil1!$AH$8) -> 10 | AI15: =COUNTIFS(données!$J:$J,Feuil1!$A15,données!$AL:$AL,Feuil1!$AI$8) -> 1 | AJ15: =COUNTIFS(données!$J:$J,Feuil1!$A15,données!$AL:$AL,Feuil1!$AJ$8) -> 19 | AK15: =COUNTIFS(données!$J:$J,Feuil1!$A15,données!$AL:$AL,Feuil1!$AK$8) -> 8 | AL15: =COUNTIFS(données!$J:$J,Feuil1!$A15,données!$BA:$BA,Feuil1!$AL$8) -> 36 | AM15: =COUNTIFS(données!$J:$J,Feuil1!$A15,données!$BA:$BA,Feuil1!$AM$8) -> 0 | AN15: =COUNTIFS(données!$J:$J,Feuil1!$A15,données!$BA:$BA,Feuil1!$AN$8) -> 1 | AO15: =COUNTIFS(données!$J:$J,Feuil1!$A15,données!$BA:$BA,Feuil1!$AO$8) -> 1 | AP15: =COUNTIFS(données!$J:$J,Feuil1!$A15,données!$BF:$BF,Feuil1!$AP$8) -> 38 | AQ15: =COUNTIFS(données!$J:$J,Feuil1!$A15,données!$BF:$BF,Feuil1!$AQ$8) -> 0 | AR15: =COUNTIFS(données!$J:$J,Feuil1!$A15,données!$BF:$BF,Feuil1!$AR$8) -> 0 | AS15: =COUNTIFS(données!$J:$J,Feuil1!$A15,données!$BF:$BF,Feuil1!$AS$8) -> 0
A16: Mag. Côte-des-Neiges | B16: =COUNTIFS(données!$J:$J,A16,données!$AV:$AV,Feuil1!$B$8) -> 40 | C16: =COUNTIFS(données!$J:$J,A16,données!$AV:$AV,Feuil1!$C$8) -> 1 | D16: =COUNTIFS(données!$J:$J,A16,données!$AV:$AV,Feuil1!$D$8) -> 6 | E16: =COUNTIFS(données!$J:$J,A16,données!$AV:$AV,Feuil1!$E$8) -> 0 | F16: =COUNTIFS(données!$J:$J,Feuil1!A16,données!$W:$W,Feuil1!$F$8) -> 29 | G16: =COUNTIFS(données!$J:$J,Feuil1!$A16,données!$W:$W,Feuil1!$G$8) -> 2 | H16: =COUNTIFS(données!$J:$J,Feuil1!$A16,données!$W:$W,Feuil1!$H$8) -> 16 | I16: =COUNTIFS(données!$J:$J,Feuil1!$A16,données!$W:$W,Feuil1!$I$8) -> 0 | J16: =COUNTIFS(données!$J:$J,Feuil1!$A16,données!$M:$M,Feuil1!$J$8) -> 25 | K16: =COUNTIFS(données!$J:$J,Feuil1!$A16,données!$M:$M,Feuil1!$K$8) -> 4 | L16: =COUNTIFS(données!$J:$J,Feuil1!$A16,données!$M:$M,Feuil1!$L$8) -> 18 | M16: =COUNTIFS(données!$J:$J,Feuil1!$A16,données!$M:$M,Feuil1!$M$8) -> 0 | N16: =COUNTIFS(données!$J:$J,Feuil1!$A16,données!$R:$R,Feuil1!$N$8) -> 32 | O16: =COUNTIFS(données!$J:$J,Feuil1!$A16,données!$R:$R,Feuil1!$O$8) -> 1 | P16: =COUNTIFS(données!$J:$J,Feuil1!$A16,données!$R:$R,Feuil1!$P$8) -> 14 | Q16: =COUNTIFS(données!$J:$J,Feuil1!$A16,données!$R:$R,Feuil1!$Q$8) -> 0 | R16: =COUNTIFS(données!$J:$J,Feuil1!$A16,données!$BK:$BK,Feuil1!$R$8) -> 9 | S16: =COUNTIFS(données!$J:$J,Feuil1!$A16,données!$BK:$BK,Feuil1!$S$8) -> 2 | T16: =COUNTIFS(données!$J:$J,Feuil1!$A16,données!$BK:$BK,Feuil1!$T$8) -> 36 | U16: =COUNTIFS(données!$J:$J,Feuil1!$A16,données!$BK:$BK,Feuil1!$U$8) -> 0 | V16: =COUNTIFS(données!$J:$J,Feuil1!$A16,données!$AQ:$AQ,Feuil1!$V$8) -> 35 | W16: =COUNTIFS(données!$J:$J,Feuil1!$A16,données!$AQ:$AQ,Feuil1!$W$8) -> 4 | X16: =COUNTIFS(données!$J:$J,Feuil1!$A16,données!$AQ:$AQ,Feuil1!$X$8) -> 8 | Y16: =COUNTIFS(données!$J:$J,Feuil1!$A16,données!$AQ:$AQ,Feuil1!$Y$8) -> 0 | Z16: =COUNTIFS(données!$J:$J,Feuil1!$A16,données!$AB:$AB,Feuil1!$Z$8) -> 37 | AA16: =COUNTIFS(données!$J:$J,Feuil1!$A16,données!$AB:$AB,Feuil1!$AA$8) -> 1 | AB16: =COUNTIFS(données!$J:$J,Feuil1!$A16,données!$AB:$AB,Feuil1!$AB$8) -> 9 | AC16: =COUNTIFS(données!$J:$J,Feuil1!$A16,données!$AB:$AB,Feuil1!$AC$8) -> 0 | AD16: =COUNTIFS(données!$J:$J,Feuil1!$A16,données!$AG:$AG,Feuil1!$AD$8) -> 6 | AE16: =COUNTIFS(données!$J:$J,Feuil1!$A16,données!$AG:$AG,Feuil1!$AE$8) -> 0 | AF16: =COUNTIFS(données!$J:$J,Feuil1!$A16,données!$AG:$AG,Feuil1!$AF$8) -> 41 | AG16: =COUNTIFS(données!$J:$J,Feuil1!$A16,données!$AG:$AG,Feuil1!$AG$8) -> 0 | AH16: =COUNTIFS(données!$J:$J,Feuil1!$A16,données!$AL:$AL,Feuil1!$AH$8) -> 6 | AI16: =COUNTIFS(données!$J:$J,Feuil1!$A16,données!$AL:$AL,Feuil1!$AI$8) -> 0 | AJ16: =COUNTIFS(données!$J:$J,Feuil1!$A16,données!$AL:$AL,Feuil1!$AJ$8) -> 41 | AK16: =COUNTIFS(données!$J:$J,Feuil1!$A16,données!$AL:$AL,Feuil1!$AK$8) -> 0 | AL16: =COUNTIFS(données!$J:$J,Feuil1!$A16,données!$BA:$BA,Feuil1!$AL$8) -> 40 | AM16: =COUNTIFS(données!$J:$J,Feuil1!$A16,données!$BA:$BA,Feuil1!$AM$8) -> 0 | AN16: =COUNTIFS(données!$J:$J,Feuil1!$A16,données!$BA:$BA,Feuil1!$AN$8) -> 5 | AO16: =COUNTIFS(données!$J:$J,Feuil1!$A16,données!$BA:$BA,Feuil1!$AO$8) -> 2 | AP16: =COUNTIFS(données!$J:$J,Feuil1!$A16,données!$BF:$BF,Feuil1!$AP$8) -> 47 | AQ16: =COUNTIFS(données!$J:$J,Feuil1!$A16,données!$BF:$BF,Feuil1!$AQ$8) -> 0 | AR16: =COUNTIFS(données!$J:$J,Feuil1!$A16,données!$BF:$BF,Feuil1!$AR$8) -> 0 | AS16: =COUNTIFS(données!$J:$J,Feuil1!$A16,données!$BF:$BF,Feuil1!$AS$8) -> 0
A17: Mag. Décarie | B17: =COUNTIFS(données!$J:$J,A17,données!$AV:$AV,Feuil1!$B$8) -> 28 | C17: =COUNTIFS(données!$J:$J,A17,données!$AV:$AV,Feuil1!$C$8) -> 2 | D17: =COUNTIFS(données!$J:$J,A17,données!$AV:$AV,Feuil1!$D$8) -> 1 | E17: =COUNTIFS(données!$J:$J,A17,données!$AV:$AV,Feuil1!$E$8) -> 0 | F17: =COUNTIFS(données!$J:$J,Feuil1!A17,données!$W:$W,Feuil1!$F$8) -> 21 | G17: =COUNTIFS(données!$J:$J,Feuil1!$A17,données!$W:$W,Feuil1!$G$8) -> 2 | H17: =COUNTIFS(données!$J:$J,Feuil1!$A17,données!$W:$W,Feuil1!$H$8) -> 8 | I17: =COUNTIFS(données!$J:$J,Feuil1!$A17,données!$W:$W,Feuil1!$I$8) -> 0 | J17: =COUNTIFS(données!$J:$J,Feuil1!$A17,données!$M:$M,Feuil1!$J$8) -> 20 | K17: =COUNTIFS(données!$J:$J,Feuil1!$A17,données!$M:$M,Feuil1!$K$8) -> 1 | L17: =COUNTIFS(données!$J:$J,Feuil1!$A17,données!$M:$M,Feuil1!$L$8) -> 10 | M17: =COUNTIFS(données!$J:$J,Feuil1!$A17,données!$M:$M,Feuil1!$M$8) -> 0 | N17: =COUNTIFS(données!$J:$J,Feuil1!$A17,données!$R:$R,Feuil1!$N$8) -> 26 | O17: =COUNTIFS(données!$J:$J,Feuil1!$A17,données!$R:$R,Feuil1!$O$8) -> 2 | P17: =COUNTIFS(données!$J:$J,Feuil1!$A17,données!$R:$R,Feuil1!$P$8) -> 3 | Q17: =COUNTIFS(données!$J:$J,Feuil1!$A17,données!$R:$R,Feuil1!$Q$8) -> 0 | R17: =COUNTIFS(données!$J:$J,Feuil1!$A17,données!$BK:$BK,Feuil1!$R$8) -> 30 | S17: =COUNTIFS(données!$J:$J,Feuil1!$A17,données!$BK:$BK,Feuil1!$S$8) -> 0 | T17: =COUNTIFS(données!$J:$J,Feuil1!$A17,données!$BK:$BK,Feuil1!$T$8) -> 1 | U17: =COUNTIFS(données!$J:$J,Feuil1!$A17,données!$BK:$BK,Feuil1!$U$8) -> 0 | V17: =COUNTIFS(données!$J:$J,Feuil1!$A17,données!$AQ:$AQ,Feuil1!$V$8) -> 30 | W17: =COUNTIFS(données!$J:$J,Feuil1!$A17,données!$AQ:$AQ,Feuil1!$W$8) -> 0 | X17: =COUNTIFS(données!$J:$J,Feuil1!$A17,données!$AQ:$AQ,Feuil1!$X$8) -> 1 | Y17: =COUNTIFS(données!$J:$J,Feuil1!$A17,données!$AQ:$AQ,Feuil1!$Y$8) -> 0 | Z17: =COUNTIFS(données!$J:$J,Feuil1!$A17,données!$AB:$AB,Feuil1!$Z$8) -> 30 | AA17: =COUNTIFS(données!$J:$J,Feuil1!$A17,données!$AB:$AB,Feuil1!$AA$8) -> 1 | AB17: =COUNTIFS(données!$J:$J,Feuil1!$A17,données!$AB:$AB,Feuil1!$AB$8) -> 0 | AC17: =COUNTIFS(données!$J:$J,Feuil1!$A17,données!$AB:$AB,Feuil1!$AC$8) -> 0 | AD17: =COUNTIFS(données!$J:$J,Feuil1!$A17,données!$AG:$AG,Feuil1!$AD$8) -> 11 | AE17: =COUNTIFS(données!$J:$J,Feuil1!$A17,données!$AG:$AG,Feuil1!$AE$8) -> 1 | AF17: =COUNTIFS(données!$J:$J,Feuil1!$A17,données!$AG:$AG,Feuil1!$AF$8) -> 19 | AG17: =COUNTIFS(données!$J:$J,Feuil1!$A17,données!$AG:$AG,Feuil1!$AG$8) -> 0 | AH17: =COUNTIFS(données!$J:$J,Feuil1!$A17,données!$AL:$AL,Feuil1!$AH$8) -> 11 | AI17: =COUNTIFS(données!$J:$J,Feuil1!$A17,données!$AL:$AL,Feuil1!$AI$8) -> 0 | AJ17: =COUNTIFS(données!$J:$J,Feuil1!$A17,données!$AL:$AL,Feuil1!$AJ$8) -> 19 | AK17: =COUNTIFS(données!$J:$J,Feuil1!$A17,données!$AL:$AL,Feuil1!$AK$8) -> 1 | AL17: =COUNTIFS(données!$J:$J,Feuil1!$A17,données!$BA:$BA,Feuil1!$AL$8) -> 30 | AM17: =COUNTIFS(données!$J:$J,Feuil1!$A17,données!$BA:$BA,Feuil1!$AM$8) -> 0 | AN17: =COUNTIFS(données!$J:$J,Feuil1!$A17,données!$BA:$BA,Feuil1!$AN$8) -> 1 | AO17: =COUNTIFS(données!$J:$J,Feuil1!$A17,données!$BA:$BA,Feuil1!$AO$8) -> 0 | AP17: =COUNTIFS(données!$J:$J,Feuil1!$A17,données!$BF:$BF,Feuil1!$AP$8) -> 31 | AQ17: =COUNTIFS(données!$J:$J,Feuil1!$A17,données!$BF:$BF,Feuil1!$AQ$8) -> 0 | AR17: =COUNTIFS(données!$J:$J,Feuil1!$A17,données!$BF:$BF,Feuil1!$AR$8) -> 0 | AS17: =COUNTIFS(données!$J:$J,Feuil1!$A17,données!$BF:$BF,Feuil1!$AS$8) -> 0
A18: Mag. Des Laurentides | B18: =COUNTIFS(données!$J:$J,A18,données!$AV:$AV,Feuil1!$B$8) -> 49 | C18: =COUNTIFS(données!$J:$J,A18,données!$AV:$AV,Feuil1!$C$8) -> 0 | D18: =COUNTIFS(données!$J:$J,A18,données!$AV:$AV,Feuil1!$D$8) -> 10 | E18: =COUNTIFS(données!$J:$J,A18,données!$AV:$AV,Feuil1!$E$8) -> 0 | F18: =COUNTIFS(données!$J:$J,Feuil1!A18,données!$W:$W,Feuil1!$F$8) -> 44 | G18: =COUNTIFS(données!$J:$J,Feuil1!$A18,données!$W:$W,Feuil1!$G$8) -> 1 | H18: =COUNTIFS(données!$J:$J,Feuil1!$A18,données!$W:$W,Feuil1!$H$8) -> 14 | I18: =COUNTIFS(données!$J:$J,Feuil1!$A18,données!$W:$W,Feuil1!$I$8) -> 0 | J18: =COUNTIFS(données!$J:$J,Feuil1!$A18,données!$M:$M,Feuil1!$J$8) -> 42 | K18: =COUNTIFS(données!$J:$J,Feuil1!$A18,données!$M:$M,Feuil1!$K$8) -> 1 | L18: =COUNTIFS(données!$J:$J,Feuil1!$A18,données!$M:$M,Feuil1!$L$8) -> 16 | M18: =COUNTIFS(données!$J:$J,Feuil1!$A18,données!$M:$M,Feuil1!$M$8) -> 0 | N18: =COUNTIFS(données!$J:$J,Feuil1!$A18,données!$R:$R,Feuil1!$N$8) -> 50 | O18: =COUNTIFS(données!$J:$J,Feuil1!$A18,données!$R:$R,Feuil1!$O$8) -> 0 | P18: =COUNTIFS(données!$J:$J,Feuil1!$A18,données!$R:$R,Feuil1!$P$8) -> 9 | Q18: =COUNTIFS(données!$J:$J,Feuil1!$A18,données!$R:$R,Feuil1!$Q$8) -> 0 | R18: =COUNTIFS(données!$J:$J,Feuil1!$A18,données!$BK:$BK,Feuil1!$R$8) -> 20 | S18: =COUNTIFS(données!$J:$J,Feuil1!$A18,données!$BK:$BK,Feuil1!$S$8) -> 0 | T18: =COUNTIFS(données!$J:$J,Feuil1!$A18,données!$BK:$BK,Feuil1!$T$8) -> 39 | U18: =COUNTIFS(données!$J:$J,Feuil1!$A18,données!$BK:$BK,Feuil1!$U$8) -> 0 | V18: =COUNTIFS(données!$J:$J,Feuil1!$A18,données!$AQ:$AQ,Feuil1!$V$8) -> 56 | W18: =COUNTIFS(données!$J:$J,Feuil1!$A18,données!$AQ:$AQ,Feuil1!$W$8) -> 1 | X18: =COUNTIFS(données!$J:$J,Feuil1!$A18,données!$AQ:$AQ,Feuil1!$X$8) -> 2 | Y18: =COUNTIFS(données!$J:$J,Feuil1!$A18,données!$AQ:$AQ,Feuil1!$Y$8) -> 0 | Z18: =COUNTIFS(données!$J:$J,Feuil1!$A18,données!$AB:$AB,Feuil1!$Z$8) -> 54 | AA18: =COUNTIFS(données!$J:$J,Feuil1!$A18,données!$AB:$AB,Feuil1!$AA$8) -> 2 | AB18: =COUNTIFS(données!$J:$J,Feuil1!$A18,données!$AB:$AB,Feuil1!$AB$8) -> 3 | AC18: =COUNTIFS(données!$J:$J,Feuil1!$A18,données!$AB:$AB,Feuil1!$AC$8) -> 0 | AD18: =COUNTIFS(données!$J:$J,Feuil1!$A18,données!$AG:$AG,Feuil1!$AD$8) -> 18 | AE18: =COUNTIFS(données!$J:$J,Feuil1!$A18,données!$AG:$AG,Feuil1!$AE$8) -> 2 | AF18: =COUNTIFS(données!$J:$J,Feuil1!$A18,données!$AG:$AG,Feuil1!$AF$8) -> 39 | AG18: =COUNTIFS(données!$J:$J,Feuil1!$A18,données!$AG:$AG,Feuil1!$AG$8) -> 0 | AH18: =COUNTIFS(données!$J:$J,Feuil1!$A18,données!$AL:$AL,Feuil1!$AH$8) -> 18 | AI18: =COUNTIFS(données!$J:$J,Feuil1!$A18,données!$AL:$AL,Feuil1!$AI$8) -> 2 | AJ18: =COUNTIFS(données!$J:$J,Feuil1!$A18,données!$AL:$AL,Feuil1!$AJ$8) -> 25 | AK18: =COUNTIFS(données!$J:$J,Feuil1!$A18,données!$AL:$AL,Feuil1!$AK$8) -> 14 | AL18: =COUNTIFS(données!$J:$J,Feuil1!$A18,données!$BA:$BA,Feuil1!$AL$8) -> 55 | AM18: =COUNTIFS(données!$J:$J,Feuil1!$A18,données!$BA:$BA,Feuil1!$AM$8) -> 2 | AN18: =COUNTIFS(données!$J:$J,Feuil1!$A18,données!$BA:$BA,Feuil1!$AN$8) -> 2 | AO18: =COUNTIFS(données!$J:$J,Feuil1!$A18,données!$BA:$BA,Feuil1!$AO$8) -> 0 | AP18: =COUNTIFS(données!$J:$J,Feuil1!$A18,données!$BF:$BF,Feuil1!$AP$8) -> 59 | AQ18: =COUNTIFS(données!$J:$J,Feuil1!$A18,données!$BF:$BF,Feuil1!$AQ$8) -> 0 | AR18: =COUNTIFS(données!$J:$J,Feuil1!$A18,données!$BF:$BF,Feuil1!$AR$8) -> 0 | AS18: =COUNTIFS(données!$J:$J,Feuil1!$A18,données!$BF:$BF,Feuil1!$AS$8) -> 0
A19: Mag. Galerie des sources | B19: =COUNTIFS(données!$J:$J,A19,données!$AV:$AV,Feuil1!$B$8) -> 36 | C19: =COUNTIFS(données!$J:$J,A19,données!$AV:$AV,Feuil1!$C$8) -> 1 | D19: =COUNTIFS(données!$J:$J,A19,données!$AV:$AV,Feuil1!$D$8) -> 4 | E19: =COUNTIFS(données!$J:$J,A19,données!$AV:$AV,Feuil1!$E$8) -> 0 | F19: =COUNTIFS(données!$J:$J,Feuil1!A19,données!$W:$W,Feuil1!$F$8) -> 24 | G19: =COUNTIFS(données!$J:$J,Feuil1!$A19,données!$W:$W,Feuil1!$G$8) -> 1 | H19: =COUNTIFS(données!$J:$J,Feuil1!$A19,données!$W:$W,Feuil1!$H$8) -> 16 | I19: =COUNTIFS(données!$J:$J,Feuil1!$A19,données!$W:$W,Feuil1!$I$8) -> 0 | J19: =COUNTIFS(données!$J:$J,Feuil1!$A19,données!$M:$M,Feuil1!$J$8) -> 26 | K19: =COUNTIFS(données!$J:$J,Feuil1!$A19,données!$M:$M,Feuil1!$K$8) -> 1 | L19: =COUNTIFS(données!$J:$J,Feuil1!$A19,données!$M:$M,Feuil1!$L$8) -> 14 | M19: =COUNTIFS(données!$J:$J,Feuil1!$A19,données!$M:$M,Feuil1!$M$8) -> 0 | N19: =COUNTIFS(données!$J:$J,Feuil1!$A19,données!$R:$R,Feuil1!$N$8) -> 32 | O19: =COUNTIFS(données!$J:$J,Feuil1!$A19,données!$R:$R,Feuil1!$O$8) -> 2 | P19: =COUNTIFS(données!$J:$J,Feuil1!$A19,données!$R:$R,Feuil1!$P$8) -> 7 | Q19: =COUNTIFS(données!$J:$J,Feuil1!$A19,données!$R:$R,Feuil1!$Q$8) -> 0 | R19: =COUNTIFS(données!$J:$J,Feuil1!$A19,données!$BK:$BK,Feuil1!$R$8) -> 29 | S19: =COUNTIFS(données!$J:$J,Feuil1!$A19,données!$BK:$BK,Feuil1!$S$8) -> 3 | T19: =COUNTIFS(données!$J:$J,Feuil1!$A19,données!$BK:$BK,Feuil1!$T$8) -> 9 | U19: =COUNTIFS(données!$J:$J,Feuil1!$A19,données!$BK:$BK,Feuil1!$U$8) -> 0 | V19: =COUNTIFS(données!$J:$J,Feuil1!$A19,données!$AQ:$AQ,Feuil1!$V$8) -> 38 | W19: =COUNTIFS(données!$J:$J,Feuil1!$A19,données!$AQ:$AQ,Feuil1!$W$8) -> 0 | X19: =COUNTIFS(données!$J:$J,Feuil1!$A19,données!$AQ:$AQ,Feuil1!$X$8) -> 3 | Y19: =COUNTIFS(données!$J:$J,Feuil1!$A19,données!$AQ:$AQ,Feuil1!$Y$8) -> 0 | Z19: =COUNTIFS(données!$J:$J,Feuil1!$A19,données!$AB:$AB,Feuil1!$Z$8) -> 33 | AA19: =COUNTIFS(données!$J:$J,Feuil1!$A19,données!$AB:$AB,Feuil1!$AA$8) -> 1 | AB19: =COUNTIFS(données!$J:$J,Feuil1!$A19,données!$AB:$AB,Feuil1!$AB$8) -> 7 | AC19: =COUNTIFS(données!$J:$J,Feuil1!$A19,données!$AB:$AB,Feuil1!$AC$8) -> 0 | AD19: =COUNTIFS(données!$J:$J,Feuil1!$A19,données!$AG:$AG,Feuil1!$AD$8) -> 8 | AE19: =COUNTIFS(données!$J:$J,Feuil1!$A19,données!$AG:$AG,Feuil1!$AE$8) -> 1 | AF19: =COUNTIFS(données!$J:$J,Feuil1!$A19,données!$AG:$AG,Feuil1!$AF$8) -> 32 | AG19: =COUNTIFS(données!$J:$J,Feuil1!$A19,données!$AG:$AG,Feuil1!$AG$8) -> 0 | AH19: =COUNTIFS(données!$J:$J,Feuil1!$A19,données!$AL:$AL,Feuil1!$AH$8) -> 8 | AI19: =COUNTIFS(données!$J:$J,Feuil1!$A19,données!$AL:$AL,Feuil1!$AI$8) -> 0 | AJ19: =COUNTIFS(données!$J:$J,Feuil1!$A19,données!$AL:$AL,Feuil1!$AJ$8) -> 33 | AK19: =COUNTIFS(données!$J:$J,Feuil1!$A19,données!$AL:$AL,Feuil1!$AK$8) -> 0 | AL19: =COUNTIFS(données!$J:$J,Feuil1!$A19,données!$BA:$BA,Feuil1!$AL$8) -> 31 | AM19: =COUNTIFS(données!$J:$J,Feuil1!$A19,données!$BA:$BA,Feuil1!$AM$8) -> 6 | AN19: =COUNTIFS(données!$J:$J,Feuil1!$A19,données!$BA:$BA,Feuil1!$AN$8) -> 2 | AO19: =COUNTIFS(données!$J:$J,Feuil1!$A19,données!$BA:$BA,Feuil1!$AO$8) -> 2 | AP19: =COUNTIFS(données!$J:$J,Feuil1!$A19,données!$BF:$BF,Feuil1!$AP$8) -> 41 | AQ19: =COUNTIFS(données!$J:$J,Feuil1!$A19,données!$BF:$BF,Feuil1!$AQ$8) -> 0 | AR19: =COUNTIFS(données!$J:$J,Feuil1!$A19,données!$BF:$BF,Feuil1!$AR$8) -> 0 | AS19: =COUNTIFS(données!$J:$J,Feuil1!$A19,données!$BF:$BF,Feuil1!$AS$8) -> 0
A20: Mag. Galeries Normandie | B20: =COUNTIFS(données!$J:$J,A20,données!$AV:$AV,Feuil1!$B$8) -> 47 | C20: =COUNTIFS(données!$J:$J,A20,données!$AV:$AV,Feuil1!$C$8) -> 0 | D20: =COUNTIFS(données!$J:$J,A20,données!$AV:$AV,Feuil1!$D$8) -> 2 | E20: =COUNTIFS(données!$J:$J,A20,données!$AV:$AV,Feuil1!$E$8) -> 0 | F20: =COUNTIFS(données!$J:$J,Feuil1!A20,données!$W:$W,Feuil1!$F$8) -> 37 | G20: =COUNTIFS(données!$J:$J,Feuil1!$A20,données!$W:$W,Feuil1!$G$8) -> 0 | H20: =COUNTIFS(données!$J:$J,Feuil1!$A20,données!$W:$W,Feuil1!$H$8) -> 12 | I20: =COUNTIFS(données!$J:$J,Feuil1!$A20,données!$W:$W,Feuil1!$I$8) -> 0 | J20: =COUNTIFS(données!$J:$J,Feuil1!$A20,données!$M:$M,Feuil1!$J$8) -> 36 | K20: =COUNTIFS(données!$J:$J,Feuil1!$A20,données!$M:$M,Feuil1!$K$8) -> 1 | L20: =COUNTIFS(données!$J:$J,Feuil1!$A20,données!$M:$M,Feuil1!$L$8) -> 12 | M20: =COUNTIFS(données!$J:$J,Feuil1!$A20,données!$M:$M,Feuil1!$M$8) -> 0 | N20: =COUNTIFS(données!$J:$J,Feuil1!$A20,données!$R:$R,Feuil1!$N$8) -> 43 | O20: =COUNTIFS(données!$J:$J,Feuil1!$A20,données!$R:$R,Feuil1!$O$8) -> 0 | P20: =COUNTIFS(données!$J:$J,Feuil1!$A20,données!$R:$R,Feuil1!$P$8) -> 6 | Q20: =COUNTIFS(données!$J:$J,Feuil1!$A20,données!$R:$R,Feuil1!$Q$8) -> 0 | R20: =COUNTIFS(données!$J:$J,Feuil1!$A20,données!$BK:$BK,Feuil1!$R$8) -> 21 | S20: =COUNTIFS(données!$J:$J,Feuil1!$A20,données!$BK:$BK,Feuil1!$S$8) -> 0 | T20: =COUNTIFS(données!$J:$J,Feuil1!$A20,données!$BK:$BK,Feuil1!$T$8) -> 28 | U20: =COUNTIFS(données!$J:$J,Feuil1!$A20,données!$BK:$BK,Feuil1!$U$8) -> 0 | V20: =COUNTIFS(données!$J:$J,Feuil1!$A20,données!$AQ:$AQ,Feuil1!$V$8) -> 47 | W20: =COUNTIFS(données!$J:$J,Feuil1!$A20,données!$AQ:$AQ,Feuil1!$W$8) -> 1 | X20: =COUNTIFS(données!$J:$J,Feuil1!$A20,données!$AQ:$AQ,Feuil1!$X$8) -> 1 | Y20: =COUNTIFS(données!$J:$J,Feuil1!$A20,données!$AQ:$AQ,Feuil1!$Y$8) -> 0 | Z20: =COUNTIFS(données!$J:$J,Feuil1!$A20,données!$AB:$AB,Feuil1!$Z$8) -> 45 | AA20: =COUNTIFS(données!$J:$J,Feuil1!$A20,données!$AB:$AB,Feuil1!$AA$8) -> 1 | AB20: =COUNTIFS(données!$J:$J,Feuil1!$A20,données!$AB:$AB,Feuil1!$AB$8) -> 3 | AC20: =COUNTIFS(données!$J:$J,Feuil1!$A20,données!$AB:$AB,Feuil1!$AC$8) -> 0 | AD20: =COUNTIFS(données!$J:$J,Feuil1!$A20,données!$AG:$AG,Feuil1!$AD$8) -> 20 | AE20: =COUNTIFS(données!$J:$J,Feuil1!$A20,données!$AG:$AG,Feuil1!$AE$8) -> 0 | AF20: =COUNTIFS(données!$J:$J,Feuil1!$A20,données!$AG:$AG,Feuil1!$AF$8) -> 29 | AG20: =COUNTIFS(données!$J:$J,Feuil1!$A20,données!$AG:$AG,Feuil1!$AG$8) -> 0 | AH20: =COUNTIFS(données!$J:$J,Feuil1!$A20,données!$AL:$AL,Feuil1!$AH$8) -> 20 | AI20: =COUNTIFS(données!$J:$J,Feuil1!$A20,données!$AL:$AL,Feuil1!$AI$8) -> 0 | AJ20: =COUNTIFS(données!$J:$J,Feuil1!$A20,données!$AL:$AL,Feuil1!$AJ$8) -> 17 | AK20: =COUNTIFS(données!$J:$J,Feuil1!$A20,données!$AL:$AL,Feuil1!$AK$8) -> 12 | AL20: =COUNTIFS(données!$J:$J,Feuil1!$A20,données!$BA:$BA,Feuil1!$AL$8) -> 46 | AM20: =COUNTIFS(données!$J:$J,Feuil1!$A20,données!$BA:$BA,Feuil1!$AM$8) -> 0 | AN20: =COUNTIFS(données!$J:$J,Feuil1!$A20,données!$BA:$BA,Feuil1!$AN$8) -> 3 | AO20: =COUNTIFS(données!$J:$J,Feuil1!$A20,données!$BA:$BA,Feuil1!$AO$8) -> 0 | AP20: =COUNTIFS(données!$J:$J,Feuil1!$A20,données!$BF:$BF,Feuil1!$AP$8) -> 49 | AQ20: =COUNTIFS(données!$J:$J,Feuil1!$A20,données!$BF:$BF,Feuil1!$AQ$8) -> 0 | AR20: =COUNTIFS(données!$J:$J,Feuil1!$A20,données!$BF:$BF,Feuil1!$AR$8) -> 0 | AS20: =COUNTIFS(données!$J:$J,Feuil1!$A20,données!$BF:$BF,Feuil1!$AS$8) -> 0
A21: Mag. Henri Bourassa | B21: =COUNTIFS(données!$J:$J,A21,données!$AV:$AV,Feuil1!$B$8) -> 48 | C21: =COUNTIFS(données!$J:$J,A21,données!$AV:$AV,Feuil1!$C$8) -> 2 | D21: =COUNTIFS(données!$J:$J,A21,données!$AV:$AV,Feuil1!$D$8) -> 11 | E21: =COUNTIFS(données!$J:$J,A21,données!$AV:$AV,Feuil1!$E$8) -> 0 | F21: =COUNTIFS(données!$J:$J,Feuil1!A21,données!$W:$W,Feuil1!$F$8) -> 36 | G21: =COUNTIFS(données!$J:$J,Feuil1!$A21,données!$W:$W,Feuil1!$G$8) -> 6 | H21: =COUNTIFS(données!$J:$J,Feuil1!$A21,données!$W:$W,Feuil1!$H$8) -> 19 | I21: =COUNTIFS(données!$J:$J,Feuil1!$A21,données!$W:$W,Feuil1!$I$8) -> 0 | J21: =COUNTIFS(données!$J:$J,Feuil1!$A21,données!$M:$M,Feuil1!$J$8) -> 37 | K21: =COUNTIFS(données!$J:$J,Feuil1!$A21,données!$M:$M,Feuil1!$K$8) -> 1 | L21: =COUNTIFS(données!$J:$J,Feuil1!$A21,données!$M:$M,Feuil1!$L$8) -> 23 | M21: =COUNTIFS(données!$J:$J,Feuil1!$A21,données!$M:$M,Feuil1!$M$8) -> 0 | N21: =COUNTIFS(données!$J:$J,Feuil1!$A21,données!$R:$R,Feuil1!$N$8) -> 47 | O21: =COUNTIFS(données!$J:$J,Feuil1!$A21,données!$R:$R,Feuil1!$O$8) -> 4 | P21: =COUNTIFS(données!$J:$J,Feuil1!$A21,données!$R:$R,Feuil1!$P$8) -> 10 | Q21: =COUNTIFS(données!$J:$J,Feuil1!$A21,données!$R:$R,Feuil1!$Q$8) -> 0 | R21: =COUNTIFS(données!$J:$J,Feuil1!$A21,données!$BK:$BK,Feuil1!$R$8) -> 32 | S21: =COUNTIFS(données!$J:$J,Feuil1!$A21,données!$BK:$BK,Feuil1!$S$8) -> 6 | T21: =COUNTIFS(données!$J:$J,Feuil1!$A21,données!$BK:$BK,Feuil1!$T$8) -> 23 | U21: =COUNTIFS(données!$J:$J,Feuil1!$A21,données!$BK:$BK,Feuil1!$U$8) -> 0 | V21: =COUNTIFS(données!$J:$J,Feuil1!$A21,données!$AQ:$AQ,Feuil1!$V$8) -> 56 | W21: =COUNTIFS(données!$J:$J,Feuil1!$A21,données!$AQ:$AQ,Feuil1!$W$8) -> 2 | X21: =COUNTIFS(données!$J:$J,Feuil1!$A21,données!$AQ:$AQ,Feuil1!$X$8) -> 3 | Y21: =COUNTIFS(données!$J:$J,Feuil1!$A21,données!$AQ:$AQ,Feuil1!$Y$8) -> 0 | Z21: =COUNTIFS(données!$J:$J,Feuil1!$A21,données!$AB:$AB,Feuil1!$Z$8) -> 58 | AA21: =COUNTIFS(données!$J:$J,Feuil1!$A21,données!$AB:$AB,Feuil1!$AA$8) -> 2 | AB21: =COUNTIFS(données!$J:$J,Feuil1!$A21,données!$AB:$AB,Feuil1!$AB$8) -> 1 | AC21: =COUNTIFS(données!$J:$J,Feuil1!$A21,données!$AB:$AB,Feuil1!$AC$8) -> 0 | AD21: =COUNTIFS(données!$J:$J,Feuil1!$A21,données!$AG:$AG,Feuil1!$AD$8) -> 16 | AE21: =COUNTIFS(données!$J:$J,Feuil1!$A21,données!$AG:$AG,Feuil1!$AE$8) -> 7 | AF21: =COUNTIFS(données!$J:$J,Feuil1!$A21,données!$AG:$AG,Feuil1!$AF$8) -> 38 | AG21: =COUNTIFS(données!$J:$J,Feuil1!$A21,données!$AG:$AG,Feuil1!$AG$8) -> 0 | AH21: =COUNTIFS(données!$J:$J,Feuil1!$A21,données!$AL:$AL,Feuil1!$AH$8) -> 21 | AI21: =COUNTIFS(données!$J:$J,Feuil1!$A21,données!$AL:$AL,Feuil1!$AI$8) -> 1 | AJ21: =COUNTIFS(données!$J:$J,Feuil1!$A21,données!$AL:$AL,Feuil1!$AJ$8) -> 31 | AK21: =COUNTIFS(données!$J:$J,Feuil1!$A21,données!$AL:$AL,Feuil1!$AK$8) -> 8 | AL21: =COUNTIFS(données!$J:$J,Feuil1!$A21,données!$BA:$BA,Feuil1!$AL$8) -> 57 | AM21: =COUNTIFS(données!$J:$J,Feuil1!$A21,données!$BA:$BA,Feuil1!$AM$8) -> 3 | AN21: =COUNTIFS(données!$J:$J,Feuil1!$A21,données!$BA:$BA,Feuil1!$AN$8) -> 1 | AO21: =COUNTIFS(données!$J:$J,Feuil1!$A21,données!$BA:$BA,Feuil1!$AO$8) -> 0 | AP21: =COUNTIFS(données!$J:$J,Feuil1!$A21,données!$BF:$BF,Feuil1!$AP$8) -> 61 | AQ21: =COUNTIFS(données!$J:$J,Feuil1!$A21,données!$BF:$BF,Feuil1!$AQ$8) -> 0 | AR21: =COUNTIFS(données!$J:$J,Feuil1!$A21,données!$BF:$BF,Feuil1!$AR$8) -> 0 | AS21: =COUNTIFS(données!$J:$J,Feuil1!$A21,données!$BF:$BF,Feuil1!$AS$8) -> 0
... A34: Mag. Victoria | B34: =COUNTIFS(données!$J:$J,A34,données!$AV:$AV,Feuil1!$B$8) -> 5 | C34: =COUNTIFS(données!$J:$J,A34,données!$AV:$AV,Feuil1!$C$8) -> 0 | D34: =COUNTIFS(données!$J:$J,A34,données!$AV:$AV,Feuil1!$D$8) -> 0 | E34: =COUNTIFS(données!$J:$J,A34,données!$AV:$AV,Feuil1!$E$8) -> 0 | F34: =COUNTIFS(données!$J:$J,Feuil1!A34,données!$W:$W,Feuil1!$F$8) -> 4 | G34: =COUNTIFS(données!$J:$J,Feuil1!$A34,données!$W:$W,Feuil1!$G$8) -> 0 | H34: =COUNTIFS(données!$J:$J,Feuil1!$A34,données!$W:$W,Feuil1!$H$8) -> 1 | I34: =COUNTIFS(données!$J:$J,Feuil1!$A34,données!$W:$W,Feuil1!$I$8) -> 0 | J34: =COUNTIFS(données!$J:$J,Feuil1!$A34,données!$M:$M,Feuil1!$J$8) -> 3 | K34: =COUNTIFS(données!$J:$J,Feuil1!$A34,données!$M:$M,Feuil1!$K$8) -> 0 | L34: =COUNTIFS(données!$J:$J,Feuil1!$A34,données!$M:$M,Feuil1!$L$8) -> 2 | M34: =COUNTIFS(données!$J:$J,Feuil1!$A34,données!$M:$M,Feuil1!$M$8) -> 0 | N34: =COUNTIFS(données!$J:$J,Feuil1!$A34,données!$R:$R,Feuil1!$N$8) -> 5 | O34: =COUNTIFS(données!$J:$J,Feuil1!$A34,données!$R:$R,Feuil1!$O$8) -> 0 | P34: =COUNTIFS(données!$J:$J,Feuil1!$A34,données!$R:$R,Feuil1!$P$8) -> 0 | Q34: =COUNTIFS(données!$J:$J,Feuil1!$A34,données!$R:$R,Feuil1!$Q$8) -> 0 | R34: =COUNTIFS(données!$J:$J,Feuil1!$A34,données!$BK:$BK,Feuil1!$R$8) -> 0 | S34: =COUNTIFS(données!$J:$J,Feuil1!$A34,données!$BK:$BK,Feuil1!$S$8) -> 0 | T34: =COUNTIFS(données!$J:$J,Feuil1!$A34,données!$BK:$BK,Feuil1!$T$8) -> 5 | U34: =COUNTIFS(données!$J:$J,Feuil1!$A34,données!$BK:$BK,Feuil1!$U$8) -> 0 | V34: =COUNTIFS(données!$J:$J,Feuil1!$A34,données!$AQ:$AQ,Feuil1!$V$8) -> 5 | W34: =COUNTIFS(données!$J:$J,Feuil1!$A34,données!$AQ:$AQ,Feuil1!$W$8) -> 0 | X34: =COUNTIFS(données!$J:$J,Feuil1!$A34,données!$AQ:$AQ,Feuil1!$X$8) -> 0 | Y34: =COUNTIFS(données!$J:$J,Feuil1!$A34,données!$AQ:$AQ,Feuil1!$Y$8) -> 0 | Z34: =COUNTIFS(données!$J:$J,Feuil1!$A34,données!$AB:$AB,Feuil1!$Z$8) -> 5 | AA34: =COUNTIFS(données!$J:$J,Feuil1!$A34,données!$AB:$AB,Feuil1!$AA$8) -> 0 | AB34: =COUNTIFS(données!$J:$J,Feuil1!$A34,données!$AB:$AB,Feuil1!$AB$8) -> 0 | AC34: =COUNTIFS(données!$J:$J,Feuil1!$A34,données!$AB:$AB,Feuil1!$AC$8) -> 0 | AD34: =COUNTIFS(données!$J:$J,Feuil1!$A34,données!$AG:$AG,Feuil1!$AD$8) -> 0 | AE34: =COUNTIFS(données!$J:$J,Feuil1!$A34,données!$AG:$AG,Feuil1!$AE$8) -> 0 | AF34: =COUNTIFS(données!$J:$J,Feuil1!$A34,données!$AG:$AG,Feuil1!$AF$8) -> 5 | AG34: =COUNTIFS(données!$J:$J,Feuil1!$A34,données!$AG:$AG,Feuil1!$AG$8) -> 0 | AH34: =COUNTIFS(données!$J:$J,Feuil1!$A34,données!$AL:$AL,Feuil1!$AH$8) -> 0 | AI34: =COUNTIFS(données!$J:$J,Feuil1!$A34,données!$AL:$AL,Feuil1!$AI$8) -> 0 | AJ34: =COUNTIFS(données!$J:$J,Feuil1!$A34,données!$AL:$AL,Feuil1!$AJ$8) -> 5 | AK34: =COUNTIFS(données!$J:$J,Feuil1!$A34,données!$AL:$AL,Feuil1!$AK$8) -> 0 | AL34: =COUNTIFS(données!$J:$J,Feuil1!$A34,données!$BA:$BA,Feuil1!$AL$8) -> 4 | AM34: =COUNTIFS(données!$J:$J,Feuil1!$A34,données!$BA:$BA,Feuil1!$AM$8) -> 1 | AN34: =COUNTIFS(données!$J:$J,Feuil1!$A34,données!$BA:$BA,Feuil1!$AN$8) -> 0 | AO34: =COUNTIFS(données!$J:$J,Feuil1!$A34,données!$BA:$BA,Feuil1!$AO$8) -> 0 | AP34: =COUNTIFS(données!$J:$J,Feuil1!$A34,données!$BF:$BF,Feuil1!$AP$8) -> 5 | AQ34: =COUNTIFS(données!$J:$J,Feuil1!$A34,données!$BF:$BF,Feuil1!$AQ$8) -> 0 | AR34: =COUNTIFS(données!$J:$J,Feuil1!$A34,données!$BF:$BF,Feuil1!$AR$8) -> 0 | AS34: =COUNTIFS(données!$J:$J,Feuil1!$A34,données!$BF:$BF,Feuil1!$AS$8) -> 0

Sheet Feuil2
A5: J | B5: AU | C5: AV | G5: V | H5: W | J5: L | K5: M | N5: Q | O5: R | R5: BJ | S5: BK | V5: AP | W5: AQ | Z5: AA | AA5: AB | AD5: AF | AE5: AG | AH5: AK | AI5: AL | AL5: AZ | AM5: BA | AP5: BE | AQ5: BF
A7: Service d'attache | B7: Accueil 1 - Bienvenue chez Renaissance 2021 | F7: Accueil 2 "La vie chez Renaissance V2" | J7: Accueil 3 - "La santé avant tout" | N7: Accueil 4 - La riviere des dons à Renaissance (V2020) | R7: SST: Prévention de la Covid-19 en milieu de travail | V7: Formation SST: La prévention du harcelement et de la violence au travail | Z7: Formation ARPE-Québec | AD7: Cybersécurité | AH7: Cybersécurité-Questionnaire | AL7: Quiz d'integration | AP7: Sondage d'intégration d'un nouvel employé
B8: Pas commencé | C8: En cours | D8: Validé | E8: Terminé, non validé | F8: Pas commencé | G8: En cours | H8: Validé | I8: Terminé, non validé | J8: Pas commencé | K8: En cours | L8: Validé | M8: Terminé, non validé | N8: Pas commencé | O8: En cours | P8: Validé | Q8: Terminé, non validé | R8: Pas commencé | S8: En cours | T8: Validé | U8: Terminé, non validé | V8: Pas commencé | W8: En cours | X8: Validé | Y8: Terminé, non validé | Z8: Pas commencé | AA8: En cours | AB8: Validé | AC8: Terminé, non validé | AD8: Pas commencé | AE8: En cours | AF8: Validé | AG8: Terminé, non validé | AH8: Pas commencé | AI8: En cours | AJ8: Validé | AK8: Terminé, non validé | AL8: Pas commencé | AM8: En cours | AN8: Validé | AO8: Terminé, non validé | AP8: Pas commencé | AQ8: En cours | AR8: Validé | AS8: Terminé, non validé
A9: Libraire Bélanger-Lacordaire | B9: =COUNTIFS(données!$J:$J,A9,données!$AV:$AV,Feuil2!$B$8) -> 4 | C9: =COUNTIFS(données!$J:$J,A9,données!$AV:$AV,Feuil2!$C$8) -> 2 | D9: =COUNTIFS(données!$J:$J,A9,données!$AV:$AV,Feuil2!$D$8) -> 2 | E9: =COUNTIFS(données!$J:$J,A9,données!$AV:$AV,Feuil2!$E$8) -> 0 | F9: =COUNTIFS(données!$J:$J,Feuil2!$A9,données!$W:$W,Feuil2!$F$8) -> 5 | G9: =COUNTIFS(données!$J:$J,Feuil2!$A9,données!$W:$W,Feuil2!$G$8) -> 0 | H9: =COUNTIFS(données!$J:$J,Feuil2!$A9,données!$W:$W,Feuil2!$H$8) -> 3 | I9: =COUNTIFS(données!$J:$J,Feuil2!$A9,données!$W:$W,Feuil2!$I$8) -> 0 | J9: =COUNTIFS(données!$J:$J,Feuil2!$A9,données!$M:$M,Feuil2!$J$8) -> 3 | K9: =COUNTIFS(données!$J:$J,Feuil2!$A9,données!$M:$M,Feuil2!$K$8) -> 1 | L9: =COUNTIFS(données!$J:$J,Feuil2!$A9,données!$M:$M,Feuil2!$L$8) -> 4 | M9: =COUNTIFS(données!$J:$J,Feuil2!$A9,données!$M:$M,Feuil2!$M$8) -> 0 | N9: =COUNTIFS(données!$J:$J,Feuil2!$A9,données!$R:$R,Feuil2!$N$8) -> 5 | O9: =COUNTIFS(données!$J:$J,Feuil2!$A9,données!$R:$R,Feuil2!$O$8) -> 0 | P9: =COUNTIFS(données!$J:$J,Feuil2!$A9,données!$R:$R,Feuil2!$P$8) -> 3 | Q9: =COUNTIFS(données!$J:$J,Feuil2!$A9,données!$R:$R,Feuil2!$Q$8) -> 0 | R9: =COUNTIFS(données!$J:$J,Feuil2!$A9,données!$BK:$BK,Feuil2!$R$8) -> 2 | S9: =COUNTIFS(données!$J:$J,Feuil2!$A9,données!$BK:$BK,Feuil2!$S$8) -> 0 | T9: =COUNTIFS(données!$J:$J,Feuil2!$A9,données!$BK:$BK,Feuil2!$T$8) -> 6 | U9: =COUNTIFS(données!$J:$J,Feuil2!$A9,données!$BK:$BK,Feuil2!$U$8) -> 0 | V9: =COUNTIFS(données!$J:$J,Feuil2!$A9,données!$AQ:$AQ,Feuil2!$V$8) -> 4 | W9: =COUNTIFS(données!$J:$J,Feuil2!$A9,données!$AQ:$AQ,Feuil2!$W$8) -> 1 | X9: =COUNTIFS(données!$J:$J,Feuil2!$A9,données!$AQ:$AQ,Feuil2!$X$8) -> 3 | Y9: =COUNTIFS(données!$J:$J,Feuil2!$A9,données!$AQ:$AQ,Feuil2!$Y$8) -> 0 | Z9: =COUNTIFS(données!$J:$J,Feuil2!$A9,données!$AB:$AB,Feuil2!$Z$8) -> 2 | AA9: =COUNTIFS(données!$J:$J,Feuil2!$A9,données!$AB:$AB,Feuil2!$AA$8) -> 0 | AB9: =COUNTIFS(données!$J:$J,Feuil2!$A9,données!$AB:$AB,Feuil2!$AB$8) -> 6 | AC9: =COUNTIFS(données!$J:$J,Feuil2!$A9,données!$AB:$AB,Feuil2!$AC$8) -> 0 | AD9: =COUNTIFS(données!$J:$J,Feuil2!$A9,données!$AG:$AG,Feuil2!$AD$8) -> 3 | AE9: =COUNTIFS(données!$J:$J,Feuil2!$A9,données!$AG:$AG,Feuil2!$AE$8) -> 0 | AF9: =COUNTIFS(données!$J:$J,Feuil2!$A9,données!$AG:$AG,Feuil2!$AF$8) -> 5 | AG9: =COUNTIFS(données!$J:$J,Feuil2!$A9,données!$AG:$AG,Feuil2!$AG$8) -> 0 | AH9: =COUNTIFS(données!$J:$J,Feuil2!$A9,données!$AL:$AL,Feuil2!$AH$8) -> 3 | AI9: =COUNTIFS(données!$J:$J,Feuil2!$A9,données!$AL:$AL,Feuil2!$AI$8) -> 0 | AJ9: =COUNTIFS(données!$J:$J,Feuil2!$A9,données!$AL:$AL,Feuil2!$AJ$8) -> 5 | AK9: =COUNTIFS(données!$J:$J,Feuil2!$A9,données!$AL:$AL,Feuil2!$AK$8) -> 0 | AL9: =COUNTIFS(données!$J:$J,Feuil2!$A9,données!$BA:$BA,Feuil2!$AL$8) -> 6 | AM9: =COUNTIFS(données!$J:$J,Feuil2!$A9,données!$BA:$BA,Feuil2!$AM$8) -> 0 | AN9: =COUNTIFS(données!$J:$J,Feuil2!$A9,données!$BA:$BA,Feuil2!$AN$8) -> 0 | AO9: =COUNTIFS(données!$J:$J,Feuil2!$A9,données!$BA:$BA,Feuil2!$AO$8) -> 2 | AP9: =COUNTIFS(données!$J:$J,Feuil2!$A9,données!$BF:$BF,Feuil2!$AP$8) -> 8 | AQ9: =COUNTIFS(données!$J:$J,Feuil2!$A9,données!$BF:$BF,Feuil2!$AQ$8) -> 0 | AR9: =COUNTIFS(données!$J:$J,Feuil2!$A9,données!$BF:$BF,Feuil2!$AR$8) -> 0 | AS9: =COUNTIFS(données!$J:$J,Feuil2!$A9,données!$BF:$BF,Feuil2!$AS$8) -> 0
A10: Librairie Beaumont | B10: =COUNTIFS(données!$J:$J,A10,données!$AV:$AV,Feuil2!$B$8) -> 7 | C10: =COUNTIFS(données!$J:$J,A10,données!$AV:$AV,Feuil2!$C$8) -> 0 | D10: =COUNTIFS(données!$J:$J,A10,données!$AV:$AV,Feuil2!$D$8) -> 2 | E10: =COUNTIFS(données!$J:$J,A10,données!$AV:$AV,Feuil2!$E$8) -> 0 | F10: =COUNTIFS(données!$J:$J,Feuil2!A10,données!$W:$W,Feuil2!$F$8) -> 4 | G10: =COUNTIFS(données!$J:$J,Feuil2!$A10,données!$W:$W,Feuil2!$G$8) -> 1 | H10: =COUNTIFS(données!$J:$J,Feuil2!$A10,données!$W:$W,Feuil2!$H$8) -> 4 | I10: =COUNTIFS(données!$J:$J,Feuil2!$A10,données!$W:$W,Feuil2!$I$8) -> 0 | J10: =COUNTIFS(données!$J:$J,Feuil2!$A10,données!$M:$M,Feuil2!$J$8) -> 2 | K10: =COUNTIFS(données!$J:$J,Feuil2!$A10,données!$M:$M,Feuil2!$K$8) -> 1 | L10: =COUNTIFS(données!$J:$J,Feuil2!$A10,données!$M:$M,Feuil2!$L$8) -> 6 | M10: =COUNTIFS(données!$J:$J,Feuil2!$A10,données!$M:$M,Feuil2!$M$8) -> 0 | N10: =COUNTIFS(données!$J:$J,Feuil2!$A10,données!$R:$R,Feuil2!$N$8) -> 6 | O10: =COUNTIFS(données!$J:$J,Feuil2!$A10,données!$R:$R,Feuil2!$O$8) -> 0 | P10: =COUNTIFS(données!$J:$J,Feuil2!$A10,données!$R:$R,Feuil2!$P$8) -> 3 | Q10: =COUNTIFS(données!$J:$J,Feuil2!$A10,données!$R:$R,Feuil2!$Q$8) -> 0 | R10: =COUNTIFS(données!$J:$J,Feuil2!$A10,données!$BK:$BK,Feuil2!$R$8) -> 0 | S10: =COUNTIFS(données!$J:$J,Feuil2!$A10,données!$BK:$BK,Feuil2!$S$8) -> 0 | T10: =COUNTIFS(données!$J:$J,Feuil2!$A10,données!$BK:$BK,Feuil2!$T$8) -> 9 | U10: =COUNTIFS(données!$J:$J,Feuil2!$A10,données!$BK:$BK,Feuil2!$U$8) -> 0 | V10: =COUNTIFS(données!$J:$J,Feuil2!$A10,données!$AQ:$AQ,Feuil2!$V$8) -> 6 | W10: =COUNTIFS(données!$J:$J,Feuil2!$A10,données!$AQ:$AQ,Feuil2!$W$8) -> 0 | X10: =COUNTIFS(données!$J:$J,Feuil2!$A10,données!$AQ:$AQ,Feuil2!$X$8) -> 3 | Y10: =COUNTIFS(données!$J:$J,Feuil2!$A10,données!$AQ:$AQ,Feuil2!$Y$8) -> 0 | Z10: =COUNTIFS(données!$J:$J,Feuil2!$A10,données!$AB:$AB,Feuil2!$Z$8) -> 0 | AA10: =COUNTIFS(données!$J:$J,Feuil2!$A10,données!$AB:$AB,Feuil2!$AA$8) -> 0 | AB10: =COUNTIFS(données!$J:$J,Feuil2!$A10,données!$AB:$AB,Feuil2!$AB$8) -> 9 | AC10: =COUNTIFS(données!$J:$J,Feuil2!$A10,données!$AB:$AB,Feuil2!$AC$8) -> 0 | AD10: =COUNTIFS(données!$J:$J,Feuil2!$A10,données!$AG:$AG,Feuil2!$AD$8) -> 1 | AE10: =COUNTIFS(données!$J:$J,Feuil2!$A10,données!$AG:$AG,Feuil2!$AE$8) -> 0 | AF10: =COUNTIFS(données!$J:$J,Feuil2!$A10,données!$AG:$AG,Feuil2!$AF$8) -> 8 | AG10: =COUNTIFS(données!$J:$J,Feuil2!$A10,données!$AG:$AG,Feuil2!$AG$8) -> 0 | AH10: =COUNTIFS(données!$J:$J,Feuil2!$A10,données!$AL:$AL,Feuil2!$AH$8) -> 1 | AI10: =COUNTIFS(données!$J:$J,Feuil2!$A10,données!$AL:$AL,Feuil2!$AI$8) -> 1 | AJ10: =COUNTIFS(données!$J:$J,Feuil2!$A10,données!$AL:$AL,Feuil2!$AJ$8) -> 7 | AK10: =COUNTIFS(données!$J:$J,Feuil2!$A10,données!$AL:$AL,Feuil2!$AK$8) -> 0 | AL10: =COUNTIFS(données!$J:$J,Feuil2!$A10,données!$BA:$BA,Feuil2!$AL$8) -> 8 | AM10: =COUNTIFS(données!$J:$J,Feuil2!$A10,données!$BA:$BA,Feuil2!$AM$8) -> 0 | AN10: =COUNTIFS(données!$J:$J,Feuil2!$A10,données!$BA:$BA,Feuil2!$AN$8) -> 1 | AO10: =COUNTIFS(données!$J:$J,Feuil2!$A10,données!$BA:$BA,Feuil2!$AO$8) -> 0 | AP10: =COUNTIFS(données!$J:$J,Feuil2!$A10,données!$BF:$BF,Feuil2!$AP$8) -> 9 | AQ10: =COUNTIFS(données!$J:$J,Feuil2!$A10,données!$BF:$BF,Feuil2!$AQ$8) -> 0 | AR10: =COUNTIFS(données!$J:$J,Feuil2!$A10,données!$BF:$BF,Feuil2!$AR$8) -> 0 | AS10: =COUNTIFS(données!$J:$J,Feuil2!$A10,données!$BF:$BF,Feuil2!$AS$8) -> 0
A11: Librairie Fleury-Hamel | B11: =COUNTIFS(données!$J:$J,A11,données!$AV:$AV,Feuil2!$B$8) -> 6 | C11: =COUNTIFS(données!$J:$J,A11,données!$AV:$AV,Feuil2!$C$8) -> 0 | D11: =COUNTIFS(données!$J:$J,A11,données!$AV:$AV,Feuil2!$D$8) -> 2 | E11: =COUNTIFS(données!$J:$J,A11,données!$AV:$AV,Feuil2!$E$8) -> 0 | F11: =COUNTIFS(données!$J:$J,Feuil2!A11,données!$W:$W,Feuil2!$F$8) -> 4 | G11: =COUNTIFS(données!$J:$J,Feuil2!$A11,données!$W:$W,Feuil2!$G$8) -> 0 | H11: =COUNTIFS(données!$J:$J,Feuil2!$A11,données!$W:$W,Feuil2!$H$8) -> 4 | I11: =COUNTIFS(données!$J:$J,Feuil2!$A11,données!$W:$W,Feuil2!$I$8) -> 0 | J11: =COUNTIFS(données!$J:$J,Feuil2!$A11,données!$M:$M,Feuil2!$J$8) -> 5 | K11: =COUNTIFS(données!$J:$J,Feuil2!$A11,données!$M:$M,Feuil2!$K$8) -> 0 | L11: =COUNTIFS(données!$J:$J,Feuil2!$A11,données!$M:$M,Feuil2!$L$8) -> 3 | M11: =COUNTIFS(données!$J:$J,Feuil2!$A11,données!$M:$M,Feuil2!$M$8) -> 0 | N11: =COUNTIFS(données!$J:$J,Feuil2!$A11,données!$R:$R,Feuil2!$N$8) -> 5 | O11: =COUNTIFS(données!$J:$J,Feuil2!$A11,données!$R:$R,Feuil2!$O$8) -> 0 | P11: =COUNTIFS(données!$J:$J,Feuil2!$A11,données!$R:$R,Feuil2!$P$8) -> 3 | Q11: =COUNTIFS(données!$J:$J,Feuil2!$A11,données!$R:$R,Feuil2!$Q$8) -> 0 | R11: =COUNTIFS(données!$J:$J,Feuil2!$A11,données!$BK:$BK,Feuil2!$R$8) -> 3 | S11: =COUNTIFS(données!$J:$J,Feuil2!$A11,données!$BK:$BK,Feuil2!$S$8) -> 0 | T11: =COUNTIFS(données!$J:$J,Feuil2!$A11,données!$BK:$BK,Feuil2!$T$8) -> 5 | U11: =COUNTIFS(données!$J:$J,Feuil2!$A11,données!$BK:$BK,Feuil2!$U$8) -> 0 | V11: =COUNTIFS(données!$J:$J,Feuil2!$A11,données!$AQ:$AQ,Feuil2!$V$8) -> 8 | W11: =COUNTIFS(données!$J:$J,Feuil2!$A11,données!$AQ:$AQ,Feuil2!$W$8) -> 0 | X11: =COUNTIFS(données!$J:$J,Feuil2!$A11,données!$AQ:$AQ,Feuil2!$X$8) -> 0 | Y11: =COUNTIFS(données!$J:$J,Feuil2!$A11,données!$AQ:$AQ,Feuil2!$Y$8) -> 0 | Z11: =COUNTIFS(données!$J:$J,Feuil2!$A11,données!$AB:$AB,Feuil2!$Z$8) -> 4 | AA11: =COUNTIFS(données!$J:$J,Feuil2!$A11,données!$AB:$AB,Feuil2!$AA$8) -> 0 | AB11: =COUNTIFS(données!$J:$J,Feuil2!$A11,données!$AB:$AB,Feuil2!$AB$8) -> 4 | AC11: =COUNTIFS(données!$J:$J,Feuil2!$A11,données!$AB:$AB,Feuil2!$AC$8) -> 0 | AD11: =COUNTIFS(données!$J:$J,Feuil2!$A11,données!$AG:$AG,Feuil2!$AD$8) -> 3 | AE11: =COUNTIFS(données!$J:$J,Feuil2!$A11,données!$AG:$AG,Feuil2!$AE$8) -> 0 | AF11: =COUNTIFS(données!$J:$J,Feuil2!$A11,données!$AG:$AG,Feuil2!$AF$8) -> 5 | AG11: =COUNTIFS(données!$J:$J,Feuil2!$A11,données!$AG:$AG,Feuil2!$AG$8) -> 0 | AH11: =COUNTIFS(données!$J:$J,Feuil2!$A11,données!$AL:$AL,Feuil2!$AH$8) -> 3 | AI11: =COUNTIFS(données!$J:$J,Feuil2!$A11,données!$AL:$AL,Feuil2!$AI$8) -> 0 | AJ11: =COUNTIFS(données!$J:$J,Feuil2!$A11,données!$AL:$AL,Feuil2!$AJ$8) -> 5 | AK11: =COUNTIFS(données!$J:$J,Feuil2!$A11,données!$AL:$AL,Feuil2!$AK$8) -> 0 | AL11: =COUNTIFS(données!$J:$J,Feuil2!$A11,données!$BA:$BA,Feuil2!$AL$8) -> 8 | AM11: =COUNTIFS(données!$J:$J,Feuil2!$A11,données!$BA:$BA,Feuil2!$AM$8) -> 0 | AN11: =COUNTIFS(données!$J:$J,Feuil2!$A11,données!$BA:$BA,Feuil2!$AN$8) -> 0 | AO11: =COUNTIFS(données!$J:$J,Feuil2!$A11,données!$BA:$BA,Feuil2!$AO$8) -> 0 | AP11: =COUNTIFS(données!$J:$J,Feuil2!$A11,données!$BF:$BF,Feuil2!$AP$8) -> 8 | AQ11: =COUNTIFS(données!$J:$J,Feuil2!$A11,données!$BF:$BF,Feuil2!$AQ$8) -> 0 | AR11: =COUNTIFS(données!$J:$J,Feuil2!$A11,données!$BF:$BF,Feuil2!$AR$8) -> 0 | AS11: =COUNTIFS(données!$J:$J,Feuil2!$A11,données!$BF:$BF,Feuil2!$AS$8) -> 0
A12: Librairie Ile Perrot | B12: =COUNTIFS(données!$J:$J,A12,données!$AV:$AV,Feuil2!$B$8) -> 5 | C12: =COUNTIFS(données!$J:$J,A12,données!$AV:$AV,Feuil2!$C$8) -> 0 | D12: =COUNTIFS(données!$J:$J,A12,données!$AV:$AV,Feuil2!$D$8) -> 1 | E12: =COUNTIFS(données!$J:$J,A12,données!$AV:$AV,Feuil2!$E$8) -> 0 | F12: =COUNTIFS(données!$J:$J,Feuil2!A12,données!$W:$W,Feuil2!$F$8) -> 3 | G12: =COUNTIFS(données!$J:$J,Feuil2!$A12,données!$W:$W,Feuil2!$G$8) -> 0 | H12: =COUNTIFS(données!$J:$J,Feuil2!$A12,données!$W:$W,Feuil2!$H$8) -> 3 | I12: =COUNTIFS(données!$J:$J,Feuil2!$A12,données!$W:$W,Feuil2!$I$8) -> 0 | J12: =COUNTIFS(données!$J:$J,Feuil2!$A12,données!$M:$M,Feuil2!$J$8) -> 2 | K12: =COUNTIFS(données!$J:$J,Feuil2!$A12,données!$M:$M,Feuil2!$K$8) -> 0 | L12: =COUNTIFS(données!$J:$J,Feuil2!$A12,données!$M:$M,Feuil2!$L$8) -> 4 | M12: =COUNTIFS(données!$J:$J,Feuil2!$A12,données!$M:$M,Feuil2!$M$8) -> 0 | N12: =COUNTIFS(données!$J:$J,Feuil2!$A12,données!$R:$R,Feuil2!$N$8) -> 4 | O12: =COUNTIFS(données!$J:$J,Feuil2!$A12,données!$R:$R,Feuil2!$O$8) -> 0 | P12: =COUNTIFS(données!$J:$J,Feuil2!$A12,données!$R:$R,Feuil2!$P$8) -> 2 | Q12: =COUNTIFS(données!$J:$J,Feuil2!$A12,données!$R:$R,Feuil2!$Q$8) -> 0 | R12: =COUNTIFS(données!$J:$J,Feuil2!$A12,données!$BK:$BK,Feuil2!$R$8) -> 1 | S12: =COUNTIFS(données!$J:$J,Feuil2!$A12,données!$BK:$BK,Feuil2!$S$8) -> 0 | T12: =COUNTIFS(données!$J:$J,Feuil2!$A12,données!$BK:$BK,Feuil2!$T$8) -> 5 | U12: =COUNTIFS(données!$J:$J,Feuil2!$A12,données!$BK:$BK,Feuil2!$U$8) -> 0 | V12: =COUNTIFS(données!$J:$J,Feuil2!$A12,données!$AQ:$AQ,Feuil2!$V$8) -> 6 | W12: =COUNTIFS(données!$J:$J,Feuil2!$A12,données!$AQ:$AQ,Feuil2!$W$8) -> 0 | X12: =COUNTIFS(données!$J:$J,Feuil2!$A12,données!$AQ:$AQ,Feuil2!$X$8) -> 0 | Y12: =COUNTIFS(données!$J:$J,Feuil2!$A12,données!$AQ:$AQ,Feuil2!$Y$8) -> 0 | Z12: =COUNTIFS(données!$J:$J,Feuil2!$A12,données!$AB:$AB,Feuil2!$Z$8) -> 4 | AA12: =COUNTIFS(données!$J:$J,Feuil2!$A12,données!$AB:$AB,Feuil2!$AA$8) -> 2 | AB12: =COUNTIFS(données!$J:$J,Feuil2!$A12,données!$AB:$AB,Feuil2!$AB$8) -> 0 | AC12: =COUNTIFS(données!$J:$J,Feuil2!$A12,données!$AB:$AB,Feuil2!$AC$8) -> 0 | AD12: =COUNTIFS(données!$J:$J,Feuil2!$A12,données!$AG:$AG,Feuil2!$AD$8) -> 0 | AE12: =COUNTIFS(données!$J:$J,Feuil2!$A12,données!$AG:$AG,Feuil2!$AE$8) -> 0 | AF12: =COUNTIFS(données!$J:$J,Feuil2!$A12,données!$AG:$AG,Feuil2!$AF$8) -> 6 | AG12: =COUNTIFS(données!$J:$J,Feuil2!$A12,données!$AG:$AG,Feuil2!$AG$8) -> 0 | AH12: =COUNTIFS(données!$J:$J,Feuil2!$A12,données!$AL:$AL,Feuil2!$AH$8) -> 0 | AI12: =COUNTIFS(données!$J:$J,Feuil2!$A12,données!$AL:$AL,Feuil2!$AI$8) -> 0 | AJ12: =COUNTIFS(données!$J:$J,Feuil2!$A12,données!$AL:$AL,Feuil2!$AJ$8) -> 6 | AK12: =COUNTIFS(données!$J:$J,Feuil2!$A12,données!$AL:$AL,Feuil2!$AK$8) -> 0 | AL12: =COUNTIFS(données!$J:$J,Feuil2!$A12,données!$BA:$BA,Feuil2!$AL$8) -> 6 | AM12: =COUNTIFS(données!$J:$J,Feuil2!$A12,données!$BA:$BA,Feuil2!$AM$8) -> 0 | AN12: =COUNTIFS(données!$J:$J,Feuil2!$A12,données!$BA:$BA,Feuil2!$AN$8) -> 0 | AO12: =COUNTIFS(données!$J:$J,Feuil2!$A12,données!$BA:$BA,Feuil2!$AO$8) -> 0 | AP12: =COUNTIFS(données!$J:$J,Feuil2!$A12,données!$BF:$BF,Feuil2!$AP$8) -> 6 | AQ12: =COUNTIFS(données!$J:$J,Feuil2!$A12,données!$BF:$BF,Feuil2!$AQ$8) -> 0 | AR12: =COUNTIFS(données!$J:$J,Feuil2!$A12,données!$BF:$BF,Feuil2!$AR$8) -> 0 | AS12: =COUNTIFS(données!$J:$J,Feuil2!$A12,données!$BF:$BF,Feuil2!$AS$8) -> 0
A13: Librairie NDG | B13: =COUNTIFS(données!$J:$J,A13,données!$AV:$AV,Feuil2!$B$8) -> 8 | C13: =COUNTIFS(données!$J:$J,A13,données!$AV:$AV,Feuil2!$C$8) -> 1 | D13: =COUNTIFS(données!$J:$J,A13,données!$AV:$AV,Feuil2!$D$8) -> 2 | E13: =COUNTIFS(données!$J:$J,A13,données!$AV:$AV,Feuil2!$E$8) -> 0 | F13: =COUNTIFS(données!$J:$J,Feuil2!A13,données!$W:$W,Feuil2!$F$8) -> 7 | G13: =COUNTIFS(données!$J:$J,Feuil2!$A13,données!$W:$W,Feuil2!$G$8) -> 0 | H13: =COUNTIFS(données!$J:$J,Feuil2!$A13,données!$W:$W,Feuil2!$H$8) -> 4 | I13: =COUNTIFS(données!$J:$J,Feuil2!$A13,données!$W:$W,Feuil2!$I$8) -> 0 | J13: =COUNTIFS(données!$J:$J,Feuil2!$A13,données!$M:$M,Feuil2!$J$8) -> 6 | K13: =COUNTIFS(données!$J:$J,Feuil2!$A13,données!$M:$M,Feuil2!$K$8) -> 0 | L13: =COUNTIFS(données!$J:$J,Feuil2!$A13,données!$M:$M,Feuil2!$L$8) -> 5 | M13: =COUNTIFS(données!$J:$J,Feuil2!$A13,données!$M:$M,Feuil2!$M$8) -> 0 | N13: =COUNTIFS(données!$J:$J,Feuil2!$A13,données!$R:$R,Feuil2!$N$8) -> 8 | O13: =COUNTIFS(données!$J:$J,Feuil2!$A13,données!$R:$R,Feuil2!$O$8) -> 0 | P13: =COUNTIFS(données!$J:$J,Feuil2!$A13,données!$R:$R,Feuil2!$P$8) -> 3 | Q13: =COUNTIFS(données!$J:$J,Feuil2!$A13,données!$R:$R,Feuil2!$Q$8) -> 0 | R13: =COUNTIFS(données!$J:$J,Feuil2!$A13,données!$BK:$BK,Feuil2!$R$8) -> 4 | S13: =COUNTIFS(données!$J:$J,Feuil2!$A13,données!$BK:$BK,Feuil2!$S$8) -> 1 | T13: =COUNTIFS(données!$J:$J,Feuil2!$A13,données!$BK:$BK,Feuil2!$T$8) -> 6 | U13: =COUNTIFS(données!$J:$J,Feuil2!$A13,données!$BK:$BK,Feuil2!$U$8) -> 0 | V13: =COUNTIFS(données!$J:$J,Feuil2!$A13,données!$AQ:$AQ,Feuil2!$V$8) -> 10 | W13: =COUNTIFS(données!$J:$J,Feuil2!$A13,données!$AQ:$AQ,Feuil2!$W$8) -> 0 | X13: =COUNTIFS(données!$J:$J,Feuil2!$A13,données!$AQ:$AQ,Feuil2!$X$8) -> 1 | Y13: =COUNTIFS(données!$J:$J,Feuil2!$A13,données!$AQ:$AQ,Feuil2!$Y$8) -> 0 | Z13: =COUNTIFS(données!$J:$J,Feuil2!$A13,données!$AB:$AB,Feuil2!$Z$8) -> 9 | AA13: =COUNTIFS(données!$J:$J,Feuil2!$A13,données!$AB:$AB,Feuil2!$AA$8) -> 0 | AB13: =COUNTIFS(données!$J:$J,Feuil2!$A13,données!$AB:$AB,Feuil2!$AB$8) -> 2 | AC13: =COUNTIFS(données!$J:$J,Feuil2!$A13,données!$AB:$AB,Feuil2!$AC$8) -> 0 | AD13: =COUNTIFS(données!$J:$J,Feuil2!$A13,données!$AG:$AG,Feuil2!$AD$8) -> 4 | AE13: =COUNTIFS(données!$J:$J,Feuil2!$A13,données!$AG:$AG,Feuil2!$AE$8) -> 0 | AF13: =COUNTIFS(données!$J:$J,Feuil2!$A13,données!$AG:$AG,Feuil2!$AF$8) -> 7 | AG13: =COUNTIFS(données!$J:$J,Feuil2!$A13,données!$AG:$AG,Feuil2!$AG$8) -> 0 | AH13: =COUNTIFS(données!$J:$J,Feuil2!$A13,données!$AL:$AL,Feuil2!$AH$8) -> 4 | AI13: =COUNTIFS(données!$J:$J,Feuil2!$A13,données!$AL:$AL,Feuil2!$AI$8) -> 0 | AJ13: =COUNTIFS(données!$J:$J,Feuil2!$A13,données!$AL:$AL,Feuil2!$AJ$8) -> 6 | AK13: =COUNTIFS(données!$J:$J,Feuil2!$A13,données!$AL:$AL,Feuil2!$AK$8) -> 1 | AL13: =COUNTIFS(données!$J:$J,Feuil2!$A13,données!$BA:$BA,Feuil2!$AL$8) -> 10 | AM13: =COUNTIFS(données!$J:$J,Feuil2!$A13,données!$BA:$BA,Feuil2!$AM$8) -> 0 | AN13: =COUNTIFS(données!$J:$J,Feuil2!$A13,données!$BA:$BA,Feuil2!$AN$8) -> 1 | AO13: =COUNTIFS(données!$J:$J,Feuil2!$A13,données!$BA:$BA,Feuil2!$AO$8) -> 0 | AP13: =COUNTIFS(données!$J:$J,Feuil2!$A13,données!$BF:$BF,Feuil2!$AP$8) -> 11 | AQ13: =COUNTIFS(données!$J:$J,Feuil2!$A13,données!$BF:$BF,Feuil2!$AQ$8) -> 0 | AR13: =COUNTIFS(données!$J:$J,Feuil2!$A13,données!$BF:$BF,Feuil2!$AR$8) -> 0 | AS13: =COUNTIFS(données!$J:$J,Feuil2!$A13,données!$BF:$BF,Feuil2!$AS$8) -> 0
A14: Librairie Ontario | B14: =COUNTIFS(données!$J:$J,A14,données!$AV:$AV,Feuil2!$B$8) -> 6 | C14: =COUNTIFS(données!$J:$J,A14,données!$AV:$AV,Feuil2!$C$8) -> 0 | D14: =COUNTIFS(données!$J:$J,A14,données!$AV:$AV,Feuil2!$D$8) -> 1 | E14: =COUNTIFS(données!$J:$J,A14,données!$AV:$AV,Feuil2!$E$8) -> 0 | F14: =COUNTIFS(données!$J:$J,Feuil2!A14,données!$W:$W,Feuil2!$F$8) -> 4 | G14: =COUNTIFS(données!$J:$J,Feuil2!$A14,données!$W:$W,Feuil2!$G$8) -> 1 | H14: =COUNTIFS(données!$J:$J,Feuil2!$A14,données!$W:$W,Feuil2!$H$8) -> 2 | I14: =COUNTIFS(données!$J:$J,Feuil2!$A14,données!$W:$W,Feuil2!$I$8) -> 0 | J14: =COUNTIFS(données!$J:$J,Feuil2!$A14,données!$M:$M,Feuil2!$J$8) -> 5 | K14: =COUNTIFS(données!$J:$J,Feuil2!$A14,données!$M:$M,Feuil2!$K$8) -> 0 | L14: =COUNTIFS(données!$J:$J,Feuil2!$A14,données!$M:$M,Feuil2!$L$8) -> 2 | M14: =COUNTIFS(données!$J:$J,Feuil2!$A14,données!$M:$M,Feuil2!$M$8) -> 0 | N14: =COUNTIFS(données!$J:$J,Feuil2!$A14,données!$R:$R,Feuil2!$N$8) -> 6 | O14: =COUNTIFS(données!$J:$J,Feuil2!$A14,données!$R:$R,Feuil2!$O$8) -> 0 | P14: =COUNTIFS(données!$J:$J,Feuil2!$A14,données!$R:$R,Feuil2!$P$8) -> 1 | Q14: =COUNTIFS(données!$J:$J,Feuil2!$A14,données!$R:$R,Feuil2!$Q$8) -> 0 | R14: =COUNTIFS(données!$J:$J,Feuil2!$A14,données!$BK:$BK,Feuil2!$R$8) -> 2 | S14: =COUNTIFS(données!$J:$J,Feuil2!$A14,données!$BK:$BK,Feuil2!$S$8) -> 0 | T14: =COUNTIFS(données!$J:$J,Feuil2!$A14,données!$BK:$BK,Feuil2!$T$8) -> 5 | U14: =COUNTIFS(données!$J:$J,Feuil2!$A14,données!$BK:$BK,Feuil2!$U$8) -> 0 | V14: =COUNTIFS(données!$J:$J,Feuil2!$A14,données!$AQ:$AQ,Feuil2!$V$8) -> 7 | W14: =COUNTIFS(données!$J:$J,Feuil2!$A14,données!$AQ:$AQ,Feuil2!$W$8) -> 0 | X14: =COUNTIFS(données!$J:$J,Feuil2!$A14,données!$AQ:$AQ,Feuil2!$X$8) -> 0 | Y14: =COUNTIFS(données!$J:$J,Feuil2!$A14,données!$AQ:$AQ,Feuil2!$Y$8) -> 0 | Z14: =COUNTIFS(données!$J:$J,Feuil2!$A14,données!$AB:$AB,Feuil2!$Z$8) -> 6 | AA14: =COUNTIFS(données!$J:$J,Feuil2!$A14,données!$AB:$AB,Feuil2!$AA$8) -> 0 | AB14: =COUNTIFS(données!$J:$J,Feuil2!$A14,données!$AB:$AB,Feuil2!$AB$8) -> 1 | AC14: =COUNTIFS(données!$J:$J,Feuil2!$A14,données!$AB:$AB,Feuil2!$AC$8) -> 0 | AD14: =COUNTIFS(données!$J:$J,Feuil2!$A14,données!$AG:$AG,Feuil2!$AD$8) -> 2 | AE14: =COUNTIFS(données!$J:$J,Feuil2!$A14,données!$AG:$AG,Feuil2!$AE$8) -> 0 | AF14: =COUNTIFS(données!$J:$J,Feuil2!$A14,données!$AG:$AG,Feuil2!$AF$8) -> 5 | AG14: =COUNTIFS(données!$J:$J,Feuil2!$A14,données!$AG:$AG,Feuil2!$AG$8) -> 0 | AH14: =COUNTIFS(données!$J:$J,Feuil2!$A14,données!$AL:$AL,Feuil2!$AH$8) -> 2 | AI14: =COUNTIFS(données!$J:$J,Feuil2!$A14,données!$AL:$AL,Feuil2!$AI$8) -> 0 | AJ14: =COUNTIFS(données!$J:$J,Feuil2!$A14,données!$AL:$AL,Feuil2!$AJ$8) -> 4 | AK14: =COUNTIFS(données!$J:$J,Feuil2!$A14,données!$AL:$AL,Feuil2!$AK$8) -> 1 | AL14: =COUNTIFS(données!$J:$J,Feuil2!$A14,données!$BA:$BA,Feuil2!$AL$8) -> 6 | AM14: =COUNTIFS(données!$J:$J,Feuil2!$A14,données!$BA:$BA,Feuil2!$AM$8) -> 0 | AN14: =COUNTIFS(données!$J:$J,Feuil2!$A14,données!$BA:$BA,Feuil2!$AN$8) -> 0 | AO14: =COUNTIFS(données!$J:$J,Feuil2!$A14,données!$BA:$BA,Feuil2!$AO$8) -> 1 | AP14: =COUNTIFS(données!$J:$J,Feuil2!$A14,données!$BF:$BF,Feuil2!$AP$8) -> 7 | AQ14: =COUNTIFS(données!$J:$J,Feuil2!$A14,données!$BF:$BF,Feuil2!$AQ$8) -> 0 | AR14: =COUNTIFS(données!$J:$J,Feuil2!$A14,données!$BF:$BF,Feuil2!$AR$8) -> 0 | AS14: =COUNTIFS(données!$J:$J,Feuil2!$A14,données!$BF:$BF,Feuil2!$AS$8) -> 0
A15: Mag. Centre St-Martin | B15: =COUNTIFS(données!$J:$J,A15,données!$AV:$AV,Feuil2!$B$8) -> 31 | C15: =COUNTIFS(données!$J:$J,A15,données!$AV:$AV,Feuil2!$C$8) -> 2 | D15: =COUNTIFS(données!$J:$J,A15,données!$AV:$AV,Feuil2!$D$8) -> 5 | E15: =COUNTIFS(données!$J:$J,A15,données!$AV:$AV,Feuil2!$E$8) -> 0 | F15: =COUNTIFS(données!$J:$J,Feuil2!A15,données!$W:$W,Feuil2!$F$8) -> 27 | G15: =COUNTIFS(données!$J:$J,Feuil2!$A15,données!$W:$W,Feuil2!$G$8) -> 1 | H15: =COUNTIFS(données!$J:$J,Feuil2!$A15,données!$W:$W,Feuil2!$H$8) -> 10 | I15: =COUNTIFS(données!$J:$J,Feuil2!$A15,données!$W:$W,Feuil2!$I$8) -> 0 | J15: =COUNTIFS(données!$J:$J,Feuil2!$A15,données!$M:$M,Feuil2!$J$8) -> 23 | K15: =COUNTIFS(données!$J:$J,Feuil2!$A15,données!$M:$M,Feuil2!$K$8) -> 3 | L15: =COUNTIFS(données!$J:$J,Feuil2!$A15,données!$M:$M,Feuil2!$L$8) -> 12 | M15: =COUNTIFS(données!$J:$J,Feuil2!$A15,données!$M:$M,Feuil2!$M$8) -> 0 | N15: =COUNTIFS(données!$J:$J,Feuil2!$A15,données!$R:$R,Feuil2!$N$8) -> 30 | O15: =COUNTIFS(données!$J:$J,Feuil2!$A15,données!$R:$R,Feuil2!$O$8) -> 2 | P15: =COUNTIFS(données!$J:$J,Feuil2!$A15,données!$R:$R,Feuil2!$P$8) -> 6 | Q15: =COUNTIFS(données!$J:$J,Feuil2!$A15,données!$R:$R,Feuil2!$Q$8) -> 0 | R15: =COUNTIFS(données!$J:$J,Feuil2!$A15,données!$BK:$BK,Feuil2!$R$8) -> 9 | S15: =COUNTIFS(données!$J:$J,Feuil2!$A15,données!$BK:$BK,Feuil2!$S$8) -> 1 | T15: =COUNTIFS(données!$J:$J,Feuil2!$A15,données!$BK:$BK,Feuil2!$T$8) -> 28 | U15: =COUNTIFS(données!$J:$J,Feuil2!$A15,données!$BK:$BK,Feuil2!$U$8) -> 0 | V15: =COUNTIFS(données!$J:$J,Feuil2!$A15,données!$AQ:$AQ,Feuil2!$V$8) -> 35 | W15: =COUNTIFS(données!$J:$J,Feuil2!$A15,données!$AQ:$AQ,Feuil2!$W$8) -> 1 | X15: =COUNTIFS(données!$J:$J,Feuil2!$A15,données!$AQ:$AQ,Feuil2!$X$8) -> 2 | Y15: =COUNTIFS(données!$J:$J,Feuil2!$A15,données!$AQ:$AQ,Feuil2!$Y$8) -> 0 | Z15: =COUNTIFS(données!$J:$J,Feuil2!$A15,données!$AB:$AB,Feuil2!$Z$8) -> 32 | AA15: =COUNTIFS(données!$J:$J,Feuil2!$A15,données!$AB:$AB,Feuil2!$AA$8) -> 2 | AB15: =COUNTIFS(données!$J:$J,Feuil2!$A15,données!$AB:$AB,Feuil2!$AB$8) -> 4 | AC15: =COUNTIFS(données!$J:$J,Feuil2!$A15,données!$AB:$AB,Feuil2!$AC$8) -> 0 | AD15: =COUNTIFS(données!$J:$J,Feuil2!$A15,données!$AG:$AG,Feuil2!$AD$8) -> 10 | AE15: =COUNTIFS(données!$J:$J,Feuil2!$A15,données!$AG:$AG,Feuil2!$AE$8) -> 3 | AF15: =COUNTIFS(données!$J:$J,Feuil2!$A15,données!$AG:$AG,Feuil2!$AF$8) -> 25 | AG15: =COUNTIFS(données!$J:$J,Feuil2!$A15,données!$AG:$AG,Feuil2!$AG$8) -> 0 | AH15: =COUNTIFS(données!$J:$J,Feuil2!$A15,données!$AL:$AL,Feuil2!$AH$8) -> 10 | AI15: =COUNTIFS(données!$J:$J,Feuil2!$A15,données!$AL:$AL,Feuil2!$AI$8) -> 1 | AJ15: =COUNTIFS(données!$J:$J,Feuil2!$A15,données!$AL:$AL,Feuil2!$AJ$8) -> 19 | AK15: =COUNTIFS(données!$J:$J,Feuil2!$A15,données!$AL:$AL,Feuil2!$AK$8) -> 8 | AL15: =COUNTIFS(données!$J:$J,Feuil2!$A15,données!$BA:$BA,Feuil2!$AL$8) -> 36 | AM15: =COUNTIFS(données!$J:$J,Feuil2!$A15,données!$BA:$BA,Feuil2!$AM$8) -> 0 | AN15: =COUNTIFS(données!$J:$J,Feuil2!$A15,données!$BA:$BA,Feuil2!$AN$8) -> 1 | AO15: =COUNTIFS(données!$J:$J,Feuil2!$A15,données!$BA:$BA,Feuil2!$AO$8) -> 1 | AP15: =COUNTIFS(données!$J:$J,Feuil2!$A15,données!$BF:$BF,Feuil2!$AP$8) -> 38 | AQ15: =COUNTIFS(données!$J:$J,Feuil2!$A15,données!$BF:$BF,Feuil2!$AQ$8) -> 0 | AR15: =COUNTIFS(données!$J:$J,Feuil2!$A15,données!$BF:$BF,Feuil2!$AR$8) -> 0 | AS15: =COUNTIFS(données!$J:$J,Feuil2!$A15,données!$BF:$BF,Feuil2!$AS$8) -> 0
A16: Mag. Côte-des-Neiges | B16: =COUNTIFS(données!$J:$J,A16,données!$AV:$AV,Feuil2!$B$8) -> 40 | C16: =COUNTIFS(données!$J:$J,A16,données!$AV:$AV,Feuil2!$C$8) -> 1 | D16: =COUNTIFS(données!$J:$J,A16,données!$AV:$AV,Feuil2!$D$8) -> 6 | E16: =COUNTIFS(données!$J:$J,A16,données!$AV:$AV,Feuil2!$E$8) -> 0 | F16: =COUNTIFS(données!$J:$J,Feuil2!A16,données!$W:$W,Feuil2!$F$8) -> 29 | G16: =COUNTIFS(données!$J:$J,Feuil2!$A16,données!$W:$W,Feuil2!$G$8) -> 2 | H16: =COUNTIFS(données!$J:$J,Feuil2!$A16,données!$W:$W,Feuil2!$H$8) -> 16 | I16: =COUNTIFS(données!$J:$J,Feuil2!$A16,données!$W:$W,Feuil2!$I$8) -> 0 | J16: =COUNTIFS(données!$J:$J,Feuil2!$A16,données!$M:$M,Feuil2!$J$8) -> 25 | K16: =COUNTIFS(données!$J:$J,Feuil2!$A16,données!$M:$M,Feuil2!$K$8) -> 4 | L16: =COUNTIFS(données!$J:$J,Feuil2!$A16,données!$M:$M,Feuil2!$L$8) -> 18 | M16: =COUNTIFS(données!$J:$J,Feuil2!$A16,données!$M:$M,Feuil2!$M$8) -> 0 | N16: =COUNTIFS(données!$J:$J,Feuil2!$A16,données!$R:$R,Feuil2!$N$8) -> 32 | O16: =COUNTIFS(données!$J:$J,Feuil2!$A16,données!$R:$R,Feuil2!$O$8) -> 1 | P16: =COUNTIFS(données!$J:$J,Feuil2!$A16,données!$R:$R,Feuil2!$P$8) -> 14 | Q16: =COUNTIFS(données!$J:$J,Feuil2!$A16,données!$R:$R,Feuil2!$Q$8) -> 0 | R16: =COUNTIFS(données!$J:$J,Feuil2!$A16,données!$BK:$BK,Feuil2!$R$8) -> 9 | S16: =COUNTIFS(données!$J:$J,Feuil2!$A16,données!$BK:$BK,Feuil2!$S$8) -> 2 | T16: =COUNTIFS(données!$J:$J,Feuil2!$A16,données!$BK:$BK,Feuil2!$T$8) -> 36 | U16: =COUNTIFS(données!$J:$J,Feuil2!$A16,données!$BK:$BK,Feuil2!$U$8) -> 0 | V16: =COUNTIFS(données!$J:$J,Feuil2!$A16,données!$AQ:$AQ,Feuil2!$V$8) -> 35 | W16: =COUNTIFS(données!$J:$J,Feuil2!$A16,données!$AQ:$AQ,Feuil2!$W$8) -> 4 | X16: =COUNTIFS(données!$J:$J,Feuil2!$A16,données!$AQ:$AQ,Feuil2!$X$8) -> 8 | Y16: =COUNTIFS(données!$J:$J,Feuil2!$A16,données!$AQ:$AQ,Feuil2!$Y$8) -> 0 | Z16: =COUNTIFS(données!$J:$J,Feuil2!$A16,données!$AB:$AB,Feuil2!$Z$8) -> 37 | AA16: =COUNTIFS(données!$J:$J,Feuil2!$A16,données!$AB:$AB,Feuil2!$AA$8) -> 1 | AB16: =COUNTIFS(données!$J:$J,Feuil2!$A16,données!$AB:$AB,Feuil2!$AB$8) -> 9 | AC16: =COUNTIFS(données!$J:$J,Feuil2!$A16,données!$AB:$AB,Feuil2!$AC$8) -> 0 | AD16: =COUNTIFS(données!$J:$J,Feuil2!$A16,données!$AG:$AG,Feuil2!$AD$8) -> 6 | AE16: =COUNTIFS(données!$J:$J,Feuil2!$A16,données!$AG:$AG,Feuil2!$AE$8) -> 0 | AF16: =COUNTIFS(données!$J:$J,Feuil2!$A16,données!$AG:$AG,Feuil2!$AF$8) -> 41 | AG16: =COUNTIFS(données!$J:$J,Feuil2!$A16,données!$AG:$AG,Feuil2!$AG$8) -> 0 | AH16: =COUNTIFS(données!$J:$J,Feuil2!$A16,données!$AL:$AL,Feuil2!$AH$8) -> 6 | AI16: =COUNTIFS(données!$J:$J,Feuil2!$A16,données!$AL:$AL,Feuil2!$AI$8) -> 0 | AJ16: =COUNTIFS(données!$J:$J,Feuil2!$A16,données!$AL:$AL,Feuil2!$AJ$8) -> 41 | AK16: =COUNTIFS(données!$J:$J,Feuil2!$A16,données!$AL:$AL,Feuil2!$AK$8) -> 0 | AL16: =COUNTIFS(données!$J:$J,Feuil2!$A16,données!$BA:$BA,Feuil2!$AL$8) -> 40 | AM16: =COUNTIFS(données!$J:$J,Feuil2!$A16,données!$BA:$BA,Feuil2!$AM$8) -> 0 | AN16: =COUNTIFS(données!$J:$J,Feuil2!$A16,données!$BA:$BA,Feuil2!$AN$8) -> 5 | AO16: =COUNTIFS(données!$J:$J,Feuil2!$A16,données!$BA:$BA,Feuil2!$AO$8) -> 2 | AP16: =COUNTIFS(données!$J:$J,Feuil2!$A16,données!$BF:$BF,Feuil2!$AP$8) -> 47 | AQ16: =COUNTIFS(données!$J:$J,Feuil2!$A16,données!$BF:$BF,Feuil2!$AQ$8) -> 0 | AR16: =COUNTIFS(données!$J:$J,Feuil2!$A16,données!$BF:$BF,Feuil2!$AR$8) -> 0 | AS16: =COUNTIFS(données!$J:$J,Feuil2!$A16,données!$BF:$BF,Feuil2!$AS$8) -> 0
A17: Mag. Décarie | B17: =COUNTIFS(données!$J:$J,A17,données!$AV:$AV,Feuil2!$B$8) -> 28 | C17: =COUNTIFS(données!$J:$J,A17,données!$AV:$AV,Feuil2!$C$8) -> 2 | D17: =COUNTIFS(données!$J:$J,A17,données!$AV:$AV,Feuil2!$D$8) -> 1 | E17: =COUNTIFS(données!$J:$J,A17,données!$AV:$AV,Feuil2!$E$8) -> 0 | F17: =COUNTIFS(données!$J:$J,Feuil2!A17,données!$W:$W,Feuil2!$F$8) -> 21 | G17: =COUNTIFS(données!$J:$J,Feuil2!$A17,données!$W:$W,Feuil2!$G$8) -> 2 | H17: =COUNTIFS(données!$J:$J,Feuil2!$A17,données!$W:$W,Feuil2!$H$8) -> 8 | I17: =COUNTIFS(données!$J:$J,Feuil2!$A17,données!$W:$W,Feuil2!$I$8) -> 0 | J17: =COUNTIFS(données!$J:$J,Feuil2!$A17,données!$M:$M,Feuil2!$J$8) -> 20 | K17: =COUNTIFS(données!$J:$J,Feuil2!$A17,données!$M:$M,Feuil2!$K$8) -> 1 | L17: =COUNTIFS(données!$J:$J,Feuil2!$A17,données!$M:$M,Feuil2!$L$8) -> 10 | M17: =COUNTIFS(données!$J:$J,Feuil2!$A17,données!$M:$M,Feuil2!$M$8) -> 0 | N17: =COUNTIFS(données!$J:$J,Feuil2!$A17,données!$R:$R,Feuil2!$N$8) -> 26 | O17: =COUNTIFS(données!$J:$J,Feuil2!$A17,données!$R:$R,Feuil2!$O$8) -> 2 | P17: =COUNTIFS(données!$J:$J,Feuil2!$A17,données!$R:$R,Feuil2!$P$8) -> 3 | Q17: =COUNTIFS(données!$J:$J,Feuil2!$A17,données!$R:$R,Feuil2!$Q$8) -> 0 | R17: =COUNTIFS(données!$J:$J,Feuil2!$A17,données!$BK:$BK,Feuil2!$R$8) -> 30 | S17: =COUNTIFS(données!$J:$J,Feuil2!$A17,données!$BK:$BK,Feuil2!$S$8) -> 0 | T17: =COUNTIFS(données!$J:$J,Feuil2!$A17,données!$BK:$BK,Feuil2!$T$8) -> 1 | U17: =COUNTIFS(données!$J:$J,Feuil2!$A17,données!$BK:$BK,Feuil2!$U$8) -> 0 | V17: =COUNTIFS(données!$J:$J,Feuil2!$A17,données!$AQ:$AQ,Feuil2!$V$8) -> 30 | W17: =COUNTIFS(données!$J:$J,Feuil2!$A17,données!$AQ:$AQ,Feuil2!$W$8) -> 0 | X17: =COUNTIFS(données!$J:$J,Feuil2!$A17,données!$AQ:$AQ,Feuil2!$X$8) -> 1 | Y17: =COUNTIFS(données!$J:$J,Feuil2!$A17,données!$AQ:$AQ,Feuil2!$Y$8) -> 0 | Z17: =COUNTIFS(données!$J:$J,Feuil2!$A17,données!$AB:$AB,Feuil2!$Z$8) -> 30 | AA17: =COUNTIFS(données!$J:$J,Feuil2!$A17,données!$AB:$AB,Feuil2!$AA$8) -> 1 | AB17: =COUNTIFS(données!$J:$J,Feuil2!$A17,données!$AB:$AB,Feuil2!$AB$8) -> 0 | AC17: =COUNTIFS(données!$J:$J,Feuil2!$A17,données!$AB:$AB,Feuil2!$AC$8) -> 0 | AD17: =COUNTIFS(données!$J:$J,Feuil2!$A17,données!$AG:$AG,Feuil2!$AD$8) -> 11 | AE17: =COUNTIFS(données!$J:$J,Feuil2!$A17,données!$AG:$AG,Feuil2!$AE$8) -> 1 | AF17: =COUNTIFS(données!$J:$J,Feuil2!$A17,données!$AG:$AG,Feuil2!$AF$8) -> 19 | AG17: =COUNTIFS(données!$J:$J,Feuil2!$A17,données!$AG:$AG,Feuil2!$AG$8) -> 0 | AH17: =COUNTIFS(données!$J:$J,Feuil2!$A17,données!$AL:$AL,Feuil2!$AH$8) -> 11 | AI17: =COUNTIFS(données!$J:$J,Feuil2!$A17,données!$AL:$AL,Feuil2!$AI$8) -> 0 | AJ17: =COUNTIFS(données!$J:$J,Feuil2!$A17,données!$AL:$AL,Feuil2!$AJ$8) -> 19 | AK17: =COUNTIFS(données!$J:$J,Feuil2!$A17,données!$AL:$AL,Feuil2!$AK$8) -> 1 | AL17: =COUNTIFS(données!$J:$J,Feuil2!$A17,données!$BA:$BA,Feuil2!$AL$8) -> 30 | AM17: =COUNTIFS(données!$J:$J,Feuil2!$A17,données!$BA:$BA,Feuil2!$AM$8) -> 0 | AN17: =COUNTIFS(données!$J:$J,Feuil2!$A17,données!$BA:$BA,Feuil2!$AN$8) -> 1 | AO17: =COUNTIFS(données!$J:$J,Feuil2!$A17,données!$BA:$BA,Feuil2!$AO$8) -> 0 | AP17: =COUNTIFS(données!$J:$J,Feuil2!$A17,données!$BF:$BF,Feuil2!$AP$8) -> 31 | AQ17: =COUNTIFS(données!$J:$J,Feuil2!$A17,données!$BF:$BF,Feuil2!$AQ$8) -> 0 | AR17: =COUNTIFS(données!$J:$J,Feuil2!$A17,données!$BF:$BF,Feuil2!$AR$8) -> 0 | AS17: =COUNTIFS(données!$J:$J,Feuil2!$A17,données!$BF:$BF,Feuil2!$AS$8) -> 0
A18: Mag. Des Laurentides | B18: =COUNTIFS(données!$J:$J,A18,données!$AV:$AV,Feuil2!$B$8) -> 49 | C18: =COUNTIFS(données!$J:$J,A18,données!$AV:$AV,Feuil2!$C$8) -> 0 | D18: =COUNTIFS(données!$J:$J,A18,données!$AV:$AV,Feuil2!$D$8) -> 10 | E18: =COUNTIFS(données!$J:$J,A18,données!$AV:$AV,Feuil2!$E$8) -> 0 | F18: =COUNTIFS(données!$J:$J,Feuil2!A18,données!$W:$W,Feuil2!$F$8) -> 44 | G18: =COUNTIFS(données!$J:$J,Feuil2!$A18,données!$W:$W,Feuil2!$G$8) -> 1 | H18: =COUNTIFS(données!$J:$J,Feuil2!$A18,données!$W:$W,Feuil2!$H$8) -> 14 | I18: =COUNTIFS(données!$J:$J,Feuil2!$A18,données!$W:$W,Feuil2!$I$8) -> 0 | J18: =COUNTIFS(données!$J:$J,Feuil2!$A18,données!$M:$M,Feuil2!$J$8) -> 42 | K18: =COUNTIFS(données!$J:$J,Feuil2!$A18,données!$M:$M,Feuil2!$K$8) -> 1 | L18: =COUNTIFS(données!$J:$J,Feuil2!$A18,données!$M:$M,Feuil2!$L$8) -> 16 | M18: =COUNTIFS(données!$J:$J,Feuil2!$A18,données!$M:$M,Feuil2!$M$8) -> 0 | N18: =COUNTIFS(données!$J:$J,Feuil2!$A18,données!$R:$R,Feuil2!$N$8) -> 50 | O18: =COUNTIFS(données!$J:$J,Feuil2!$A18,données!$R:$R,Feuil2!$O$8) -> 0 | P18: =COUNTIFS(données!$J:$J,Feuil2!$A18,données!$R:$R,Feuil2!$P$8) -> 9 | Q18: =COUNTIFS(données!$J:$J,Feuil2!$A18,données!$R:$R,Feuil2!$Q$8) -> 0 | R18: =COUNTIFS(données!$J:$J,Feuil2!$A18,données!$BK:$BK,Feuil2!$R$8) -> 20 | S18: =COUNTIFS(données!$J:$J,Feuil2!$A18,données!$BK:$BK,Feuil2!$S$8) -> 0 | T18: =COUNTIFS(données!$J:$J,Feuil2!$A18,données!$BK:$BK,Feuil2!$T$8) -> 39 | U18: =COUNTIFS(données!$J:$J,Feuil2!$A18,données!$BK:$BK,Feuil2!$U$8) -> 0 | V18: =COUNTIFS(données!$J:$J,Feuil2!$A18,données!$AQ:$AQ,Feuil2!$V$8) -> 56 | W18: =COUNTIFS(données!$J:$J,Feuil2!$A18,données!$AQ:$AQ,Feuil2!$W$8) -> 1 | X18: =COUNTIFS(données!$J:$J,Feuil2!$A18,données!$AQ:$AQ,Feuil2!$X$8) -> 2 | Y18: =COUNTIFS(données!$J:$J,Feuil2!$A18,données!$AQ:$AQ,Feuil2!$Y$8) -> 0 | Z18: =COUNTIFS(données!$J:$J,Feuil2!$A18,données!$AB:$AB,Feuil2!$Z$8) -> 54 | AA18: =COUNTIFS(données!$J:$J,Feuil2!$A18,données!$AB:$AB,Feuil2!$AA$8) -> 2 | AB18: =COUNTIFS(données!$J:$J,Feuil2!$A18,données!$AB:$AB,Feuil2!$AB$8) -> 3 | AC18: =COUNTIFS(données!$J:$J,Feuil2!$A18,données!$AB:$AB,Feuil2!$AC$8) -> 0 | AD18: =COUNTIFS(données!$J:$J,Feuil2!$A18,données!$AG:$AG,Feuil2!$AD$8) -> 18 | AE18: =COUNTIFS(données!$J:$J,Feuil2!$A18,données!$AG:$AG,Feuil2!$AE$8) -> 2 | AF18: =COUNTIFS(données!$J:$J,Feuil2!$A18,données!$AG:$AG,Feuil2!$AF$8) -> 39 | AG18: =COUNTIFS(données!$J:$J,Feuil2!$A18,données!$AG:$AG,Feuil2!$AG$8) -> 0 | AH18: =COUNTIFS(données!$J:$J,Feuil2!$A18,données!$AL:$AL,Feuil2!$AH$8) -> 18 | AI18: =COUNTIFS(données!$J:$J,Feuil2!$A18,données!$AL:$AL,Feuil2!$AI$8) -> 2 | AJ18: =COUNTIFS(données!$J:$J,Feuil2!$A18,données!$AL:$AL,Feuil2!$AJ$8) -> 25 | AK18: =COUNTIFS(données!$J:$J,Feuil2!$A18,données!$AL:$AL,Feuil2!$AK$8) -> 14 | AL18: =COUNTIFS(données!$J:$J,Feuil2!$A18,données!$BA:$BA,Feuil2!$AL$8) -> 55 | AM18: =COUNTIFS(données!$J:$J,Feuil2!$A18,données!$BA:$BA,Feuil2!$AM$8) -> 2 | AN18: =COUNTIFS(données!$J:$J,Feuil2!$A18,données!$BA:$BA,Feuil2!$AN$8) -> 2 | AO18: =COUNTIFS(données!$J:$J,Feuil2!$A18,données!$BA:$BA,Feuil2!$AO$8) -> 0 | AP18: =COUNTIFS(données!$J:$J,Feuil2!$A18,données!$BF:$BF,Feuil2!$AP$8) -> 59 | AQ18: =COUNTIFS(données!$J:$J,Feuil2!$A18,données!$BF:$BF,Feuil2!$AQ$8) -> 0 | AR18: =COUNTIFS(données!$J:$J,Feuil2!$A18,données!$BF:$BF,Feuil2!$AR$8) -> 0 | AS18: =COUNTIFS(données!$J:$J,Feuil2!$A18,données!$BF:$BF,Feuil2!$AS$8) -> 0
A19: Mag. Galerie des sources | B19: =COUNTIFS(données!$J:$J,A19,données!$AV:$AV,Feuil2!$B$8) -> 36 | C19: =COUNTIFS(données!$J:$J,A19,données!$AV:$AV,Feuil2!$C$8) -> 1 | D19: =COUNTIFS(données!$J:$J,A19,données!$AV:$AV,Feuil2!$D$8) -> 4 | E19: =COUNTIFS(données!$J:$J,A19,données!$AV:$AV,Feuil2!$E$8) -> 0 | F19: =COUNTIFS(données!$J:$J,Feuil2!A19,données!$W:$W,Feuil2!$F$8) -> 24 | G19: =COUNTIFS(données!$J:$J,Feuil2!$A19,données!$W:$W,Feuil2!$G$8) -> 1 | H19: =COUNTIFS(données!$J:$J,Feuil2!$A19,données!$W:$W,Feuil2!$H$8) -> 16 | I19: =COUNTIFS(données!$J:$J,Feuil2!$A19,données!$W:$W,Feuil2!$I$8) -> 0 | J19: =COUNTIFS(données!$J:$J,Feuil2!$A19,données!$M:$M,Feuil2!$J$8) -> 26 | K19: =COUNTIFS(données!$J:$J,Feuil2!$A19,données!$M:$M,Feuil2!$K$8) -> 1 | L19: =COUNTIFS(données!$J:$J,Feuil2!$A19,données!$M:$M,Feuil2!$L$8) -> 14 | M19: =COUNTIFS(données!$J:$J,Feuil2!$A19,données!$M:$M,Feuil2!$M$8) -> 0 | N19: =COUNTIFS(données!$J:$J,Feuil2!$A19,données!$R:$R,Feuil2!$N$8) -> 32 | O19: =COUNTIFS(données!$J:$J,Feuil2!$A19,données!$R:$R,Feuil2!$O$8) -> 2 | P19: =COUNTIFS(données!$J:$J,Feuil2!$A19,données!$R:$R,Feuil2!$P$8) -> 7 | Q19: =COUNTIFS(données!$J:$J,Feuil2!$A19,données!$R:$R,Feuil2!$Q$8) -> 0 | R19: =COUNTIFS(données!$J:$J,Feuil2!$A19,données!$BK:$BK,Feuil2!$R$8) -> 29 | S19: =COUNTIFS(données!$J:$J,Feuil2!$A19,données!$BK:$BK,Feuil2!$S$8) -> 3 | T19: =COUNTIFS(données!$J:$J,Feuil2!$A19,données!$BK:$BK,Feuil2!$T$8) -> 9 | U19: =COUNTIFS(données!$J:$J,Feuil2!$A19,données!$BK:$BK,Feuil2!$U$8) -> 0 | V19: =COUNTIFS(données!$J:$J,Feuil2!$A19,données!$AQ:$AQ,Feuil2!$V$8) -> 38 | W19: =COUNTIFS(données!$J:$J,Feuil2!$A19,données!$AQ:$AQ,Feuil2!$W$8) -> 0 | X19: =COUNTIFS(données!$J:$J,Feuil2!$A19,données!$AQ:$AQ,Feuil2!$X$8) -> 3 | Y19: =COUNTIFS(données!$J:$J,Feuil2!$A19,données!$AQ:$AQ,Feuil2!$Y$8) -> 0 | Z19: =COUNTIFS(données!$J:$J,Feuil2!$A19,données!$AB:$AB,Feuil2!$Z$8) -> 33 | AA19: =COUNTIFS(données!$J:$J,Feuil2!$A19,données!$AB:$AB,Feuil2!$AA$8) -> 1 | AB19: =COUNTIFS(données!$J:$J,Feuil2!$A19,données!$AB:$AB,Feuil2!$AB$8) -> 7 | AC19: =COUNTIFS(données!$J:$J,Feuil2!$A19,données!$AB:$AB,Feuil2!$AC$8) -> 0 | AD19: =COUNTIFS(données!$J:$J,Feuil2!$A19,données!$AG:$AG,Feuil2!$AD$8) -> 8 | AE19: =COUNTIFS(données!$J:$J,Feuil2!$A19,données!$AG:$AG,Feuil2!$AE$8) -> 1 | AF19: =COUNTIFS(données!$J:$J,Feuil2!$A19,données!$AG:$AG,Feuil2!$AF$8) -> 32 | AG19: =COUNTIFS(données!$J:$J,Feuil2!$A19,données!$AG:$AG,Feuil2!$AG$8) -> 0 | AH19: =COUNTIFS(données!$J:$J,Feuil2!$A19,données!$AL:$AL,Feuil2!$AH$8) -> 8 | AI19: =COUNTIFS(données!$J:$J,Feuil2!$A19,données!$AL:$AL,Feuil2!$AI$8) -> 0 | AJ19: =COUNTIFS(données!$J:$J,Feuil2!$A19,données!$AL:$AL,Feuil2!$AJ$8) -> 33 | AK19: =COUNTIFS(données!$J:$J,Feuil2!$A19,données!$AL:$AL,Feuil2!$AK$8) -> 0 | AL19: =COUNTIFS(données!$J:$J,Feuil2!$A19,données!$BA:$BA,Feuil2!$AL$8) -> 31 | AM19: =COUNTIFS(données!$J:$J,Feuil2!$A19,données!$BA:$BA,Feuil2!$AM$8) -> 6 | AN19: =COUNTIFS(données!$J:$J,Feuil2!$A19,données!$BA:$BA,Feuil2!$AN$8) -> 2 | AO19: =COUNTIFS(données!$J:$J,Feuil2!$A19,données!$BA:$BA,Feuil2!$AO$8) -> 2 | AP19: =COUNTIFS(données!$J:$J,Feuil2!$A19,données!$BF:$BF,Feuil2!$AP$8) -> 41 | AQ19: =COUNTIFS(données!$J:$J,Feuil2!$A19,données!$BF:$BF,Feuil2!$AQ$8) -> 0 | AR19: =COUNTIFS(données!$J:$J,Feuil2!$A19,données!$BF:$BF,Feuil2!$AR$8) -> 0 | AS19: =COUNTIFS(données!$J:$J,Feuil2!$A19,données!$BF:$BF,Feuil2!$AS$8) -> 0
A20: Mag. Galeries Normandie | B20: =COUNTIFS(données!$J:$J,A20,données!$AV:$AV,Feuil2!$B$8) -> 47 | C20: =COUNTIFS(données!$J:$J,A20,données!$AV:$AV,Feuil2!$C$8) -> 0 | D20: =COUNTIFS(données!$J:$J,A20,données!$AV:$AV,Feuil2!$D$8) -> 2 | E20: =COUNTIFS(données!$J:$J,A20,données!$AV:$AV,Feuil2!$E$8) -> 0 | F20: =COUNTIFS(données!$J:$J,Feuil2!A20,données!$W:$W,Feuil2!$F$8) -> 37 | G20: =COUNTIFS(données!$J:$J,Feuil2!$A20,données!$W:$W,Feuil2!$G$8) -> 0 | H20: =COUNTIFS(données!$J:$J,Feuil2!$A20,données!$W:$W,Feuil2!$H$8) -> 12 | I20: =COUNTIFS(données!$J:$J,Feuil2!$A20,données!$W:$W,Feuil2!$I$8) -> 0 | J20: =COUNTIFS(données!$J:$J,Feuil2!$A20,données!$M:$M,Feuil2!$J$8) -> 36 | K20: =COUNTIFS(données!$J:$J,Feuil2!$A20,données!$M:$M,Feuil2!$K$8) -> 1 | L20: =COUNTIFS(données!$J:$J,Feuil2!$A20,données!$M:$M,Feuil2!$L$8) -> 12 | M20: =COUNTIFS(données!$J:$J,Feuil2!$A20,données!$M:$M,Feuil2!$M$8) -> 0 | N20: =COUNTIFS(données!$J:$J,Feuil2!$A20,données!$R:$R,Feuil2!$N$8) -> 43 | O20: =COUNTIFS(données!$J:$J,Feuil2!$A20,données!$R:$R,Feuil2!$O$8) -> 0 | P20: =COUNTIFS(données!$J:$J,Feuil2!$A20,données!$R:$R,Feuil2!$P$8) -> 6 | Q20: =COUNTIFS(données!$J:$J,Feuil2!$A20,données!$R:$R,Feuil2!$Q$8) -> 0 | R20: =COUNTIFS(données!$J:$J,Feuil2!$A20,données!$BK:$BK,Feuil2!$R$8) -> 21 | S20: =COUNTIFS(données!$J:$J,Feuil2!$A20,données!$BK:$BK,Feuil2!$S$8) -> 0 | T20: =COUNTIFS(données!$J:$J,Feuil2!$A20,données!$BK:$BK,Feuil2!$T$8) -> 28 | U20: =COUNTIFS(données!$J:$J,Feuil2!$A20,données!$BK:$BK,Feuil2!$U$8) -> 0 | V20: =COUNTIFS(données!$J:$J,Feuil2!$A20,données!$AQ:$AQ,Feuil2!$V$8) -> 47 | W20: =COUNTIFS(données!$J:$J,Feuil2!$A20,données!$AQ:$AQ,Feuil2!$W$8) -> 1 | X20: =COUNTIFS(données!$J:$J,Feuil2!$A20,données!$AQ:$AQ,Feuil2!$X$8) -> 1 | Y20: =COUNTIFS(données!$J:$J,Feuil2!$A20,données!$AQ:$AQ,Feuil2!$Y$8) -> 0 | Z20: =COUNTIFS(données!$J:$J,Feuil2!$A20,données!$AB:$AB,Feuil2!$Z$8) -> 45 | AA20: =COUNTIFS(données!$J:$J,Feuil2!$A20,données!$AB:$AB,Feuil2!$AA$8) -> 1 | AB20: =COUNTIFS(données!$J:$J,Feuil2!$A20,données!$AB:$AB,Feuil2!$AB$8) -> 3 | AC20: =COUNTIFS(données!$J:$J,Feuil2!$A20,données!$AB:$AB,Feuil2!$AC$8) -> 0 | AD20: =COUNTIFS(données!$J:$J,Feuil2!$A20,données!$AG:$AG,Feuil2!$AD$8) -> 20 | AE20: =COUNTIFS(données!$J:$J,Feuil2!$A20,données!$AG:$AG,Feuil2!$AE$8) -> 0 | AF20: =COUNTIFS(données!$J:$J,Feuil2!$A20,données!$AG:$AG,Feuil2!$AF$8) -> 29 | AG20: =COUNTIFS(données!$J:$J,Feuil2!$A20,données!$AG:$AG,Feuil2!$AG$8) -> 0 | AH20: =COUNTIFS(données!$J:$J,Feuil2!$A20,données!$AL:$AL,Feuil2!$AH$8) -> 20 | AI20: =COUNTIFS(données!$J:$J,Feuil2!$A20,données!$AL:$AL,Feuil2!$AI$8) -> 0 | AJ20: =COUNTIFS(données!$J:$J,Feuil2!$A20,données!$AL:$AL,Feuil2!$AJ$8) -> 17 | AK20: =COUNTIFS(données!$J:$J,Feuil2!$A20,données!$AL:$AL,Feuil2!$AK$8) -> 12 | AL20: =COUNTIFS(données!$J:$J,Feuil2!$A20,données!$BA:$BA,Feuil2!$AL$8) -> 46 | AM20: =COUNTIFS(données!$J:$J,Feuil2!$A20,données!$BA:$BA,Feuil2!$AM$8) -> 0 | AN20: =COUNTIFS(données!$J:$J,Feuil2!$A20,données!$BA:$BA,Feuil2!$AN$8) -> 3 | AO20: =COUNTIFS(données!$J:$J,Feuil2!$A20,données!$BA:$BA,Feuil2!$AO$8) -> 0 | AP20: =COUNTIFS(données!$J:$J,Feuil2!$A20,données!$BF:$BF,Feuil2!$AP$8) -> 49 | AQ20: =COUNTIFS(données!$J:$J,Feuil2!$A20,données!$BF:$BF,Feuil2!$AQ$8) -> 0 | AR20: =COUNTIFS(données!$J:$J,Feuil2!$A20,données!$BF:$BF,Feuil2!$AR$8) -> 0 | AS20: =COUNTIFS(données!$J:$J,Feuil2!$A20,données!$BF:$BF,Feuil2!$AS$8) -> 0
A21: Mag. Henri Bourassa | B21: =COUNTIFS(données!$J:$J,A21,données!$AV:$AV,Feuil2!$B$8) -> 48 | C21: =COUNTIFS(données!$J:$J,A21,données!$AV:$AV,Feuil2!$C$8) -> 2 | D21: =COUNTIFS(données!$J:$J,A21,données!$AV:$AV,Feuil2!$D$8) -> 11 | E21: =COUNTIFS(données!$J:$J,A21,données!$AV:$AV,Feuil2!$E$8) -> 0 | F21: =COUNTIFS(données!$J:$J,Feuil2!A21,données!$W:$W,Feuil2!$F$8) -> 36 | G21: =COUNTIFS(données!$J:$J,Feuil2!$A21,données!$W:$W,Feuil2!$G$8) -> 6 | H21: =COUNTIFS(données!$J:$J,Feuil2!$A21,données!$W:$W,Feuil2!$H$8) -> 19 | I21: =COUNTIFS(données!$J:$J,Feuil2!$A21,données!$W:$W,Feuil2!$I$8) -> 0 | J21: =COUNTIFS(données!$J:$J,Feuil2!$A21,données!$M:$M,Feuil2!$J$8) -> 37 | K21: =COUNTIFS(données!$J:$J,Feuil2!$A21,données!$M:$M,Feuil2!$K$8) -> 1 | L21: =COUNTIFS(données!$J:$J,Feuil2!$A21,données!$M:$M,Feuil2!$L$8) -> 23 | M21: =COUNTIFS(données!$J:$J,Feuil2!$A21,données!$M:$M,Feuil2!$M$8) -> 0 | N21: =COUNTIFS(données!$J:$J,Feuil2!$A21,données!$R:$R,Feuil2!$N$8) -> 47 | O21: =COUNTIFS(données!$J:$J,Feuil2!$A21,données!$R:$R,Feuil2!$O$8) -> 4 | P21: =COUNTIFS(données!$J:$J,Feuil2!$A21,données!$R:$R,Feuil2!$P$8) -> 10 | Q21: =COUNTIFS(données!$J:$J,Feuil2!$A21,données!$R:$R,Feuil2!$Q$8) -> 0 | R21: =COUNTIFS(données!$J:$J,Feuil2!$A21,données!$BK:$BK,Feuil2!$R$8) -> 32 | S21: =COUNTIFS(données!$J:$J,Feuil2!$A21,données!$BK:$BK,Feuil2!$S$8) -> 6 | T21: =COUNTIFS(données!$J:$J,Feuil2!$A21,données!$BK:$BK,Feuil2!$T$8) -> 23 | U21: =COUNTIFS(données!$J:$J,Feuil2!$A21,données!$BK:$BK,Feuil2!$U$8) -> 0 | V21: =COUNTIFS(données!$J:$J,Feuil2!$A21,données!$AQ:$AQ,Feuil2!$V$8) -> 56 | W21: =COUNTIFS(données!$J:$J,Feuil2!$A21,données!$AQ:$AQ,Feuil2!$W$8) -> 2 | X21: =COUNTIFS(données!$J:$J,Feuil2!$A21,données!$AQ:$AQ,Feuil2!$X$8) -> 3 | Y21: =COUNTIFS(données!$J:$J,Feuil2!$A21,données!$AQ:$AQ,Feuil2!$Y$8) -> 0 | Z21: =COUNTIFS(données!$J:$J,Feuil2!$A21,données!$AB:$AB,Feuil2!$Z$8) -> 58 | AA21: =COUNTIFS(données!$J:$J,Feuil2!$A21,données!$AB:$AB,Feuil2!$AA$8) -> 2 | AB21: =COUNTIFS(données!$J:$J,Feuil2!$A21,données!$AB:$AB,Feuil2!$AB$8) -> 1 | AC21: =COUNTIFS(données!$J:$J,Feuil2!$A21,données!$AB:$AB,Feuil2!$AC$8) -> 0 | AD21: =COUNTIFS(données!$J:$J,Feuil2!$A21,données!$AG:$AG,Feuil2!$AD$8) -> 16 | AE21: =COUNTIFS(données!$J:$J,Feuil2!$A21,données!$AG:$AG,Feuil2!$AE$8) -> 7 | AF21: =COUNTIFS(données!$J:$J,Feuil2!$A21,données!$AG:$AG,Feuil2!$AF$8) -> 38 | AG21: =COUNTIFS(données!$J:$J,Feuil2!$A21,données!$AG:$AG,Feuil2!$AG$8) -> 0 | AH21: =COUNTIFS(données!$J:$J,Feuil2!$A21,données!$AL:$AL,Feuil2!$AH$8) -> 21 | AI21: =COUNTIFS(données!$J:$J,Feuil2!$A21,données!$AL:$AL,Feuil2!$AI$8) -> 1 | AJ21: =COUNTIFS(données!$J:$J,Feuil2!$A21,données!$AL:$AL,Feuil2!$AJ$8) -> 31 | AK21: =COUNTIFS(données!$J:$J,Feuil2!$A21,données!$AL:$AL,Feuil2!$AK$8) -> 8 | AL21: =COUNTIFS(données!$J:$J,Feuil2!$A21,données!$BA:$BA,Feuil2!$AL$8) -> 57 | AM21: =COUNTIFS(données!$J:$J,Feuil2!$A21,données!$BA:$BA,Feuil2!$AM$8) -> 3 | AN21: =COUNTIFS(données!$J:$J,Feuil2!$A21,données!$BA:$BA,Feuil2!$AN$8) -> 1 | AO21: =COUNTIFS(données!$J:$J,Feuil2!$A21,données!$BA:$BA,Feuil2!$AO$8) -> 0 | AP21: =COUNTIFS(données!$J:$J,Feuil2!$A21,données!$BF:$BF,Feuil2!$AP$8) -> 61 | AQ21: =COUNTIFS(données!$J:$J,Feuil2!$A21,données!$BF:$BF,Feuil2!$AQ$8) -> 0 | AR21: =COUNTIFS(données!$J:$J,Feuil2!$A21,données!$BF:$BF,Feuil2!$AR$8) -> 0 | AS21: =COUNTIFS(données!$J:$J,Feuil2!$A21,données!$BF:$BF,Feuil2!$AS$8) -> 0
