Workbook
Name base: Tableau1[]
Name base: Tableau1[]
Name résumé: Feuil2!$A$5:$AS$34
Name résumé: Feuil1!$A$5:$AS$34

Sheet service d'attache
A1: Code de service d'attache | B1: Description du service d'attache
A2: 113 | B2: Académie de Formation Renaissance
A3: 521 | B3: CD Cousineau-Promenade du Parc
A4: 518 | B4: CD René-Laennec-Pl. Vilamont - ADC
A5: 200 | B5: Centre de Distribution
A6: 520 | B6: Centre de don 1148 Chambly - ADC
A7: 502 | B7: Centre de don ADC Cadillac | C7: SSP
A8: 503 | B8: Centre de don ADC Concorde | C8: SSP
A9: 501 | B9: Centre de don ADC Des Sources
A10: 505 | B10: Centre de don ADC Fleury
A11: 404 | B11: Centre de don ADC Pierrefonds
A12: 409 | B12: Centre de don ADC Saint-Luc
A13: 510 | B13: Centre de don Beaconsfield - ADC
A14: 509 | B14: Centre de don Blainville - ADC
A15: 528 | B15: Centre de don Carnaval - ADC
A16: 519 | B16: Centre de don Chambly - Rémillard | C16: Nabil
A17: 504 | B17: Centre de don Des Laurentides-Lacas | C17: Nabil
A18: 526 | B18: Centre de don Des Oiseaux - ADC | C18: Adil
A19: 511 | B19: Centre de don Dorval - ADC | C19: Maria
A20: 524 | B20: Centre de don Faubourg Des Prairies | C20: Adil
A21: 529 | B21: Centre de don Grande Allée | C21: Maria
A22: 532 | B22: Centre de don Greenfield Park | C22: Maria
A23: 527 | B23: Centre de don Hymus - ADC | C23: Violaine
A24: 512 | B24: Centre de don Ile Bizard - ADC | C24: Adil
A25: 513 | B25: Centre de don Ile des Soeurs - ADC | C25: Maria
A26: 522 | B26: Centre de don Jarry -Grenier ADC | C26: Maria
A27: 517 | B27: Centre de don Jolibourg - ADC | C27: Maria
... A77: 201 | B77: Transport | C77: Responsable ADC

Sheet données
A1: Login | B1: Prénom | C1: Nom | D1: Service | E1: Date de début | F1: Actif | G1: Nom du poste | H1: Unité fonctionelle | I1: code service d'attache | J1: Service d'attache | K1: Date de Ré-embauche | L1: Accueil 3 - "La santé avant tout" | M1: Etat de Accueil 3 - "La santé avant tout" | N1: Score de Accueil 3 - "La santé avant tout" | O1: Progression de Accueil 3 - "La santé avant tout" | P1: Date de validation Accueil 3 - "La santé avant tout" | Q1: Accueil 4 - La riviere des dons à Renaissance (V2020) | R1: Etat de Accueil 4 - La riviere des dons à Renaissance (V2020) | S1: Score de Accueil 4 - La riviere des dons à Renaissance (V2020) | T1: Progression de Accueil 4 - La riviere des dons à Renaissance (V2020) | U1: Date de validation Accueil 4 - La riviere des dons à Renaissance (V2020) | V1: Accueil 2 "La vie chez Renaissance V2" | W1: Etat de Accueil 2 "La vie chez Renaissance V2" | X1: Score de Accueil 2 "La vie chez Renaissance V2" | Y1: Progression de Accueil 2 "La vie chez Renaissance V2" | Z1: Date de validation Accueil 2 "La vie chez Renaissance V2" | AA1: Formation ARPE-Québec | AB1: Etat de Formation ARPE-Québec | AC1: Score de Formation ARPE-Québec | AD1: Progression de Formation ARPE-Québec | AE1: Date de validation Formation ARPE-Québec | AF1: Cybersécurité | AG1: Etat de Cybersécurité | AH1: Score de Cybersécurité | AI1: Progression de Cybersécurité | AJ1: Date de validation Cybersécurité | AK1: Cybersécurité-Questionnaire | AL1: Etat de Cybersécurité-Questionnaire | AM1: Score de Cybersécurité-Questionnaire | AN1: Progression de Cybersécurité-Questionnaire | AO1: Date de validation Cybersécurité-Questionnaire | AP1: Formation SST: La prévention du harcelement et de la violence au travail | AQ1: Etat de Formation SST: La prévention du harcelement et de la violence au travail | AR1: Score de Formation SST: La prévention du harcelement et de la violence au travail | AS1: Progression de Formation SST: La prévention du harcelement et de la violence au travail | AT1: Date de validation Formation SST: La prévention du harcelement et de la violence au travail | AU1: Accueil 1 - Bienvenue chez Renaissance 2021 | AV1: Etat de Accueil 1 - Bienvenue chez Renaissance 2021 | AW1: Score de Accueil 1 - Bienvenue chez Renaissance 2021 | AX1: Progression de Accueil 1 - Bienvenue chez Renaissance 2021 | AY1: Date de validation Accueil 1 - Bienvenue chez Renaissance 2021 | AZ1: Quiz d'integration | BA1: Etat de Quiz d'integration | BB1: Score de Quiz d'integration | BC1: Progression de Quiz d'integration | BD1: Date de validation Quiz d'integration | BE1: Sondage d'intégration d'un nouvel employé | BF1: Etat de Sondage d'intégration d'un nouvel employé | BG1: Score de Sondage d'intégration d'un nouvel employé | BH1: Progression de Sondage d'intégration d'un nouvel employé | BI1: Date de validation Sondage d'intégration d'un nouvel employé | BJ1: SST: Prévention de la Covid-19 en milieu de travail | BK1: Etat de SST: Prévention de la Covid-19 en milieu de travail | BL1: Score de SST: Prévention de la Covid-19 en milieu de travail | BM1: Progression de SST: Prévention de la Covid-19 en milieu de travail | BN1: Date de validation SST: Prévention de la Covid-19 en milieu de travail
A2: 22U6000003298 | B2: Ossama | C2: ABDAAL | E2: 43325 | F2: Oui | G2: ADC - Préposé aux donateurs | H2: 22U6 | I2: 525 | J2: Centre de don Sherbrooke E. - ADC | L2: Accueil 3 - "La santé avant tout" | M2: Validé | N2: 100 | O2: 100 | P2: 20/08/2018 | Q2: Accueil 4 - La riviere des dons à Renaissance (V2020) | R2: Pas commencé | V2: Accueil 2 "La vie chez Renaissance V2" | W2: Validé | X2: 100 | Y2: 100 | Z2: 20/08/2018 | AA2: Formation ARPE-Québec | AB2: Pas commencé | AF2: Cybersécurité | AG2: Validé | AH2: 0 | AI2: 100 | AJ2: 27/11/2020 | AK2: Cybersécurité-Questionnaire | AL2: Validé | AM2: 80 | AN2: 100 | AO2: 27/11/2020 | AP2: Formation SST: La prévention du harcelement et de la violence au travail | AQ2: Pas commencé | AU2: Accueil 1 - Bienvenue chez Renaissance 2021 | AV2: Pas commencé | AZ2: Quiz d'integration | BA2: En cours | BB2: 0 | BC2: 50 | BE2: Sondage d'intégration d'un nouvel employé | BF2: Pas commencé | BJ2: SST: Prévention de la Covid-19 en milieu de travail | BK2: Validé | BL2: 0 | BM2: 100 | BN2: 23/02/2021
A3: 22U6000004810 | B3: Lana | C3: ABDALLAH | E3: 44253 | F3: Oui | G3: GGC- Caissier Commis Boutique | H3: 22U6 | I3: 314 | J3: Mag. Galerie des sources | L3: Accueil 3 - "La santé avant tout" | M3: Validé | N3: 0 | O3: 100 | P3: 26/02/2021 | Q3: Accueil 4 - La riviere des dons à Renaissance (V2020) | R3: Validé | S3: 0 | T3: 100 | U3: 26/02/2021 | V3: Accueil 2 "La vie chez Renaissance V2" | W3: Validé | X3: 0 | Y3: 100 | Z3: 26/02/2021 | AA3: Formation ARPE-Québec | AB3: Validé | AC3: 0 | AD3: 100 | AE3: 26/02/2021 | AF3: Cybersécurité | AG3: Validé | AH3: 0 | AI3: 100 | AJ3: 26/02/2021 | AK3: Cybersécurité-Questionnaire | AL3: Validé | AM3: 80 | AN3: 100 | AO3: 26/02/2021 | AP3: Formation SST: La prévention du harcelement et de la violence au travail | AQ3: Validé | AR3: 0 | AS3: 100 | AT3: 26/02/2021 | AU3: Accueil 1 - Bienvenue chez Renaissance 2021 | AV3: Validé | AW3: 0 | AX3: 100 | AY3: 26/02/2021 | AZ3: Quiz d'integration | BA3: Pas commencé | BE3: Sondage d'intégration d'un nouvel employé | BF3: Pas commencé | BJ3: SST: Prévention de la Covid-19 en milieu de travail | BK3: Validé | BL3: 0 | BM3: 100 | BN3: 26/02/2021
A4: 22U6000004922 | B4: Afyaa | C4: ABDEL MAHDI | E4: 44274 | F4: Oui | G4: GGC-Commis plancher&Cabine | H4: 22U6 | I4: 302 | J4: Mag. Des Laurentides | L4: Accueil 3 - "La santé avant tout" | M4: Pas commencé | Q4: Accueil 4 - La riviere des dons à Renaissance (V2020) | R4: Pas commencé | V4: Accueil 2 "La vie chez Renaissance V2" | W4: Pas commencé | AA4: Formation ARPE-Québec | AB4: Pas commencé | AF4: Cybersécurité | AG4: Pas commencé | AK4: Cybersécurité-Questionnaire | AL4: Pas commencé | AP4: Formation SST: La prévention du harcelement et de la violence au travail | AQ4: Pas commencé | AU4: Accueil 1 - Bienvenue chez Renaissance 2021 | AV4: Pas commencé | AZ4: Quiz d'integration | BA4: Pas commencé | BE4: Sondage d'intégration d'un nouvel employé | BF4: Pas commencé | BJ4: SST: Prévention de la Covid-19 en milieu de travail | BK4: Pas commencé
A5: 22U6000003239 | B5: Foudil | C5: ABDELADIM | E5: 43285 | F5: Oui | G5: GGC- Etiq Electro | H5: 22U6 | I5: 308 | J5: Mag. Pie-IX | L5: Accueil 3 - "La santé avant tout" | M5: Validé | N5: 100 | O5: 100 | P5: 05/07/2018 | Q5: Accueil 4 - La riviere des dons à Renaissance (V2020) | R5: Pas commencé | V5: Accueil 2 "La vie chez Renaissance V2" | W5: Validé | X5: 100 | Y5: 100 | Z5: 05/07/2018 | AA5: Formation ARPE-Québec | AB5: Pas commencé | AF5: Cybersécurité | AG5: Validé | AH5: 0 | AI5: 100 | AJ5: 27/02/2021 | AK5: Cybersécurité-Questionnaire | AL5: Validé | AM5: 80 | AN5: 100 | AO5: 27/02/2021 | AP5: Formation SST: La prévention du harcelement et de la violence au travail | AQ5: Pas commencé | AU5: Accueil 1 - Bienvenue chez Renaissance 2021 | AV5: Pas commencé | AZ5: Quiz d'integration | BA5: Pas commencé | BE5: Sondage d'intégration d'un nouvel employé | BF5: Pas commencé | BJ5: SST: Prévention de la Covid-19 en milieu de travail | BK5: Validé | BL5: 0 | BM5: 100 | BN5: 27/02/2021
A6: 22U6000003062 | B6: Nabil | C6: ABDELWAHAB | E6: 43528 | F6: Oui | G6: CDD - Superviseur au transport et approv. | H6: 22U6 | I6: 109 | J6: Sup approvissionnement et transport | K6: 43528 | L6: Accueil 3 - "La santé avant tout" | M6: Pas commencé | Q6: Accueil 4 - La riviere des dons à Renaissance (V2020) | R6: Pas commencé | V6: Accueil 2 "La vie chez Renaissance V2" | W6: Pas commencé | AA6: Formation ARPE-Québec | AB6: Validé | AC6: 0 | AD6: 100 | AE6: 29/09/2020 | AF6: Cybersécurité | AG6: Validé | AH6: 0 | AI6: 100 | AJ6: 15/11/2020 | AK6: Cybersécurité-Questionnaire | AL6: Validé | AM6: 100 | AN6: 100 | AO6: 15/11/2020 | AP6: Formation SST: La prévention du harcelement et de la violence au travail | AQ6: Pas commencé | AU6: Accueil 1 - Bienvenue chez Renaissance 2021 | AV6: Pas commencé | AZ6: Quiz d'integration | BA6: Pas commencé | BE6: Sondage d'intégration d'un nouvel employé | BF6: Pas commencé | BJ6: SST: Prévention de la Covid-19 en milieu de travail | BK6: Validé | BL6: 0 | BM6: 100 | BN6: 16/02/2021
A7: 22U6000004615 | B7: Diar | C7: ABED | E7: 44140 | F7: Oui | G7: GGC- Caissier Commis Boutique | H7: 22U6 | I7: 313 | J7: Mag. Portobello | L7: Accueil 3 - "La santé avant tout" | M7: Pas commencé | Q7: Accueil 4 - La riviere des dons à Renaissance (V2020) | R7: Pas commencé | V7: Accueil 2 "La vie chez Renaissance V2" | W7: Pas commencé | AA7: Formation ARPE-Québec | AB7: En cours | AC7: 0 | AD7: 50 | AF7: Cybersécurité | AG7: Validé | AH7: 0 | AI7: 100 | AJ7: 26/02/2021 | AK7: Cybersécurité-Questionnaire | AL7: Terminé, non validé | AM7: 70 | AN7: 100 | AP7: Formation SST: La prévention du harcelement et de la violence au travail | AQ7: Pas commencé | AU7: Accueil 1 - Bienvenue chez Renaissance 2021 | AV7: Pas commencé | AZ7: Quiz d'integration | BA7: Pas commencé | BE7: Sondage d'intégration d'un nouvel employé | BF7: Pas commencé | BJ7: SST: Prévention de la Covid-19 en milieu de travail | BK7: Pas commencé
A8: 22U6000002928 | B8: Rehab | C8: ABED | E8: 43052 | F8: Oui | G8: GGC-Etiq HG2 | H8: 22U6 | I8: 312 | J8: Mag. Centre St-Martin | L8: Accueil 3 - "La santé avant tout" | M8: Validé | N8: 100 | O8: 100 | P8: 14/11/2017 | Q8: Accueil 4 - La riviere des dons à Renaissance (V2020) | R8: Pas commencé | V8: Accueil 2 "La vie chez Renaissance V2" | W8: Pas commencé | AA8: Formation ARPE-Québec | AB8: Pas commencé | AF8: Cybersécurité | AG8: En cours | AH8: 0 | AI8: 50 | AK8: Cybersécurité-Questionnaire | AL8: En cours | AM8: 0 | AN8: 50 | AP8: Formation SST: La prévention du harcelement et de la violence au travail | AQ8: Pas commencé | AU8: Accueil 1 - Bienvenue chez Renaissance 2021 | AV8: Pas commencé | AZ8: Quiz d'integration | BA8: Pas commencé | BE8: Sondage d'intégration d'un nouvel employé | BF8: Pas commencé | BJ8: SST: Prévention de la Covid-19 en milieu de travail | BK8: Validé | BL8: 0 | BM8: 100 | BN8: 25/02/2021
A9: 22U6000003221 | B9: Said | C9: ABOUCHE | E9: 43269 | F9: Oui | G9: CDL- Caissier | H9: 22U6 | I9: 400 | J9: Centre de Liquidation | L9: Accueil 3 - "La santé avant tout" | M9: Validé | N9: 100 | O9: 100 | P9: 19/06/2018 | Q9: Accueil 4 - La riviere des dons à Renaissance (V2020) | R9: Pas commencé | V9: Accueil 2 "La vie chez Renaissance V2" | W9: Validé | X9: 100 | Y9: 100 | Z9: 19/06/2018 | AA9: Formation ARPE-Québec | AB9: Pas commencé | AF9: Cybersécurité | AG9: Validé | AH9: 0 | AI9: 100 | AJ9: 23/10/2020 | AK9: Cybersécurité-Questionnaire | AL9: Validé | AM9: 100 | AN9: 100 | AO9: 23/10/2020 | AP9: Formation SST: La prévention du harcelement et de la violence au travail | AQ9: Pas commencé | AU9: Accueil 1 - Bienvenue chez Renaissance 2021 | AV9: Pas commencé | AZ9: Quiz d'integration | BA9: Pas commencé | BE9: Sondage d'intégration d'un nouvel employé | BF9: Pas commencé | BJ9: SST: Prévention de la Covid-19 en milieu de travail | BK9: Validé | BL9: 0 | BM9: 100 | BN9: 25/02/2021
A10: 22U6000000265 | B10: Zineb | C10: ABOUSSAAD | E10: 37005 | F10: Oui | G10: Adjoint de direction | H10: 22U6 | I10: 100 | J10: Direction Générale | L10: Accueil 3 - "La santé avant tout" | M10: Pas commencé | Q10: Accueil 4 - La riviere des dons à Renaissance (V2020) | R10: Pas commencé | V10: Accueil 2 "La vie chez Renaissance V2" | W10: Pas commencé | AA10: Formation ARPE-Québec | AB10: Pas commencé | AF10: Cybersécurité | AG10: Validé | AH10: 100 | AI10: 100 | AJ10: 18/02/2021 | AK10: Cybersécurité-Questionnaire | AL10: Validé | AM10: 100 | AN10: 100 | AO10: 20/09/2020 | AP10: Formation SST: La prévention du harcelement et de la violence au travail | AQ10: Pas commencé | AU10: Accueil 1 - Bienvenue chez Renaissance 2021 | AV10: Pas commencé | AZ10: Quiz d'integration | BA10: Pas commencé | BE10: Sondage d'intégration d'un nouvel employé | BF10: Pas commencé | BJ10: SST: Prévention de la Covid-19 en milieu de travail | BK10: Validé | BL10: 100 | BM10: 100 | BN10: 18/02/2021
A11: 22U6000003167 | B11: Mariam | C11: ABSLAMI | E11: 43243 | F11: Oui | G11: GGC-Commis plancher&Cabine | H11: 22U6 | I11: 309 | J11: Mag. Côte-des-Neiges | L11: Accueil 3 - "La santé avant tout" | M11: Validé | N11: 0 | O11: 100 | P11: 08/10/2020 | Q11: Accueil 4 - La riviere des dons à Renaissance (V2020) | R11: Validé | S11: 0 | T11: 100 | U11: 08/10/2020 | V11: Accueil 2 "La vie chez Renaissance V2" | W11: Validé | X11: 0 | Y11: 100 | Z11: 08/10/2020 | AA11: Formation ARPE-Québec | AB11: Pas commencé | AF11: Cybersécurité | AG11: Validé | AH11: 0 | AI11: 100 | AJ11: 26/02/2021 | AK11: Cybersécurité-Questionnaire | AL11: Validé | AM11: 90 | AN11: 100 | AO11: 26/02/2021 | AP11: Formation SST: La prévention du harcelement et de la violence au travail | AQ11: Pas commencé | AU11: Accueil 1 - Bienvenue chez Renaissance 2021 | AV11: Pas commencé | AZ11: Quiz d'integration | BA11: Pas commencé | BE11: Sondage d'intégration d'un nouvel employé | BF11: Pas commencé | BJ11: SST: Prévention de la Covid-19 en milieu de travail | BK11: Validé | BL11: 0 | BM11: 100 | BN11: 26/02/2021
A12: 22U6000001692 | B12: Patrick | C12: ABUD | E12: 41396 | F12: Oui | G12: Prépose entretien ménager - accompagnateur | H12: 22U6 | I12: 110 | J12: Entretien et ménager | L12: Accueil 3 - "La santé avant tout" | M12: Pas commencé | Q12: Accueil 4 - La riviere des dons à Renaissance (V2020) | R12: Pas commencé | V12: Accueil 2 "La vie chez Renaissance V2" | W12: Pas commencé | AA12: Formation ARPE-Québec | AB12: Pas commencé | AF12: Cybersécurité | AG12: Validé | AH12: 0 | AI12: 100 | AJ12: 09/02/2021 | AK12: Cybersécurité-Questionnaire | AL12: Validé | AM12: 90 | AN12: 100 | AO12: 09/02/2021 | AP12: Formation SST: La prévention du harcelement et de la violence au travail | AQ12: Pas commencé | AU12: Accueil 1 - Bienvenue chez Renaissance 2021 | AV12: Pas commencé | AZ12: Quiz d'integration | BA12: Pas commencé | BE12: Sondage d'intégration d'un nouvel employé | BF12: Pas commencé | BJ12: SST: Prévention de la Covid-19 en milieu de travail | BK12: Validé | BL12: 0 | BM12: 100 | BN12: 08/02/2021
A13: 22U6000002693 | B13: Dante Justo | C13: ACOSTA HERRERA | E13: 42878 | F13: Oui | G13: ADC - Préposé aux donateurs | H13: 22U6 | I13: 512 | J13: Centre de don Ile Bizard - ADC | L13: Accueil 3 - "La santé avant tout" | M13: Validé | N13: 0 | O13: 100 | P13: 22/11/2017 | Q13: Accueil 4 - La riviere des dons à Renaissance (V2020) | R13: En cours | S13: 0 | T13: 50 | V13: Accueil 2 "La vie chez Renaissance V2" | W13: Validé | X13: 0 | Y13: 100 | Z13: 18/06/2021 | AA13: Formation ARPE-Québec | AB13: Validé | AC13: 0 | AD13: 100 | AE13: 11/06/2021 | AF13: Cybersécurité | AG13: Validé | AH13: 0 | AI13: 100 | AJ13: 18/10/2020 | AK13: Cybersécurité-Questionnaire | AL13: Validé | AM13: 90 | AN13: 100 | AO13: 14/11/2020 | AP13: Formation SST: La prévention du harcelement et de la violence au travail | AQ13: Pas commencé | AU13: Accueil 1 - Bienvenue chez Renaissance 2021 | AV13: Validé | AW13: 0 | AX13: 100 | AY13: 18/06/2021 | AZ13: Quiz d'integration | BA13: Pas commencé | BE13: Sondage d'intégration d'un nouvel employé | BF13: Pas commencé | BJ13: SST: Prévention de la Covid-19 en milieu de travail | BK13: Validé | BL13: 0 | BM13: 100 | BN13: 24/02/2021
A14: 22U6000001168 | B14: Aicha | C14: ACOURTAME | E14: 40472 | F14: Oui | G14: GGC- Monteur | H14: 22U6 | I14: 302 | J14: Mag. Des Laurentides | L14: Accueil 3 - "La santé avant tout" | M14: Validé | N14: 100 | O14: 100 | P14: 24/08/2017 | Q14: Accueil 4 - La riviere des dons à Renaissance (V2020) | R14: Pas commencé | V14: Accueil 2 "La vie chez Renaissance V2" | W14: Validé | X14: 0 | Y14: 100 | Z14: 16/07/2020 | AA14: Formation ARPE-Québec | AB14: Validé | AC14: 0 | AD14: 100 | AE14: 28/03/2021 | AF14: Cybersécurité | AG14: Validé | AH14: 0 | AI14: 100 | AJ14: 25/02/2021 | AK14: Cybersécurité-Questionnaire | AL14: Terminé, non validé | AM14: 60 | AN14: 100 | AP14: Formation SST: La prévention du harcelement et de la violence au travail | AQ14: Pas commencé | AU14: Accueil 1 - Bienvenue chez Renaissance 2021 | AV14: Pas commencé | AZ14: Quiz d'integration | BA14: Pas commencé | BE14: Sondage d'intégration d'un nouvel employé | BF14: Pas commencé | BJ14: SST: Prévention de la Covid-19 en milieu de travail | BK14: Validé | BL14: 0 | BM14: 100 | BN14: 28/03/2021
A15: 22U6000005154 | B15: Henry Adebayo | C15: ADEDUWON | E15: 44331 | F15: Oui | G15: CDD-Commis d'entrepôt | H15: 22U6 | I15: 200 | J15: Centre de Distribution | L15: Accueil 3 - "La santé avant tout" | M15: Pas commencé | Q15: Accueil 4 - La riviere des dons à Renaissance (V2020) | R15: Pas commencé | V15: Accueil 2 "La vie chez Renaissance V2" | W15: Pas commencé | AA15: Formation ARPE-Québec | AB15: Pas commencé | AF15: Cybersécurité | AG15: Pas commencé | AK15: Cybersécurité-Questionnaire | AL15: Pas commencé | AP15: Formation SST: La prévention du harcelement et de la violence au travail | AQ15: Pas commencé | AU15: Accueil 1 - Bienvenue chez Renaissance 2021 | AV15: Pas commencé | AZ15: Quiz d'integration | BA15: Pas commencé | BE15: Sondage d'intégration d'un nouvel employé | BF15: Pas commencé | BJ15: SST: Prévention de la Covid-19 en milieu de travail | BK15: Pas commencé
A16: 22U6000002558 | B16: Sonia Morelle | C16: ADJANOHOUN | E16: 42646 | F16: Oui | G16: Paie Maitre | H16: 22U6 | I16: 104 | J16: Dir. des finances et l'informatique | L16: Accueil 3 - "La santé avant tout" | M16: Pas commencé | Q16: Accueil 4 - La riviere des dons à Renaissance (V2020) | R16: Pas commencé | V16: Accueil 2 "La vie chez Renaissance V2" | W16: Pas commencé | AA16: Formation ARPE-Québec | AB16: Pas commencé | AF16: Cybersécurité | AG16: Validé | AH16: 0 | AI16: 100 | AJ16: 21/10/2020 | AK16: Cybersécurité-Questionnaire | AL16: Validé | AM16: 80 | AN16: 100 | AO16: 19/02/2021 | AP16: Formation SST: La prévention du harcelement et de la violence au travail | AQ16: Pas commencé | AU16: Accueil 1 - Bienvenue chez Renaissance 2021 | AV16: Pas commencé | AZ16: Quiz d'integration | BA16: Pas commencé | BE16: Sondage d'intégration d'un nouvel employé | BF16: Pas commencé | BJ16: SST: Prévention de la Covid-19 en milieu de travail | BK16: En cours | BL16: 0 | BM16: 50
A17: 22U6000004908 | B17: Mohamed Akli | C17: AFETTOUCHE | E17: 44268 | F17: Oui | G17: Camionneur déménageur C1 | H17: 22U6 | I17: 201 | J17: Transport | L17: Accueil 3 - "La santé avant tout" | M17: Validé | N17: 100 | O17: 100 | P17: 15/03/2021 | Q17: Accueil 4 - La riviere des dons à Renaissance (V2020) | R17: Validé | S17: 100 | T17: 100 | U17: 15/03/2021 | V17: Accueil 2 "La vie chez Renaissance V2" | W17: Validé | X17: 100 | Y17: 100 | Z17: 15/03/2021 | AA17: Formation ARPE-Québec | AB17: Pas commencé | AF17: Cybersécurité | AG17: Pas commencé | AK17: Cybersécurité-Questionnaire | AL17: Pas commencé | AP17: Formation SST: La prévention du harcelement et de la violence au travail | AQ17: Pas commencé | AU17: Accueil 1 - Bienvenue chez Renaissance 2021 | AV17: Validé | AW17: 100 | AX17: 100 | AY17: 15/03/2021 | AZ17: Quiz d'integration | BA17: Pas commencé | BE17: Sondage d'intégration d'un nouvel employé | BF17: Pas commencé | BJ17: SST: Prévention de la Covid-19 en milieu de travail | BK17: Validé | BL17: 100 | BM17: 100 | BN17: 15/03/2021
A18: 22U6000005057 | B18: Rabia | C18: AHMIMOU | E18: 44304 | F18: Oui | G18: GGC-Etiq HG1 | H18: 22U6 | I18: 310 | J18: Mag. Henri Bourassa | L18: Accueil 3 - "La santé avant tout" | M18: Validé | N18: 0 | O18: 100 | P18: 18/04/2021 | Q18: Accueil 4 - La riviere des dons à Renaissance (V2020) | R18: Validé | S18: 0 | T18: 100 | U18: 18/04/2021 | V18: Accueil 2 "La vie chez Renaissance V2" | W18: Validé | X18: 0 | Y18: 100 | Z18: 18/04/2021 | AA18: Formation ARPE-Québec | AB18: Pas commencé | AF18: Cybersécurité | AG18: Validé | AH18: 0 | AI18: 100 | AJ18: 18/04/2021 | AK18: Cybersécurité-Questionnaire | AL18: Pas commencé | AP18: Formation SST: La prévention du harcelement et de la violence au travail | AQ18: Pas commencé | AU18: Accueil 1 - Bienvenue chez Renaissance 2021 | AV18: Validé | AW18: 0 | AX18: 100 | AY18: 18/04/2021 | AZ18: Quiz d'integration | BA18: Pas commencé | BE18: Sondage d'intégration d'un nouvel employé | BF18: Pas commencé | BJ18: SST: Prévention de la Covid-19 en milieu de travail | BK18: Pas commencé
A19: 22U6000002657 | B19: Laurette | C19: AHO | E19: 42835 | F19: Oui | G19: GGC- Caissier Commis Boutique | H19: 22U6 | I19: 309 | J19: Mag. Côte-des-Neiges | L19: Accueil 3 - "La santé avant tout" | M19: Validé | N19: 100 | O19: 100 | P19: 24/08/2017 | Q19: Accueil 4 - La riviere des dons à Renaissance (V2020) | R19: Pas commencé | V19: Accueil 2 "La vie chez Renaissance V2" | W19: Pas commencé | AA19: Formation ARPE-Québec | AB19: Pas commencé | AF19: Cybersécurité | AG19: Validé | AH19: 0 | AI19: 100 | AJ19: 22/02/2021 | AK19: Cybersécurité-Questionnaire | AL19: Validé | AM19: 90 | AN19: 100 | AO19: 22/02/2021 | AP19: Formation SST: La prévention du harcelement et de la violence au travail | AQ19: Pas commencé | AU19: Accueil 1 - Bienvenue chez Renaissance 2021 | AV19: Pas commencé | AZ19: Quiz d'integration | BA19: Pas commencé | BE19: Sondage d'intégration d'un nouvel employé | BF19: Pas commencé | BJ19: SST: Prévention de la Covid-19 en milieu de travail | BK19: Validé | BL19: 0 | BM19: 100 | BN19: 19/02/2021
A20: 22U6000003861 | B20: Mohamed | C20: AIN AMAKRAN | E20: 43677 | F20: Oui | G20: GGC-Assistant gérant | H20: 22U6 | I20: 304 | J20: Mag. Saint-Hubert | L20: Accueil 3 - "La santé avant tout" | M20: Validé | N20: 0 | O20: 100 | P20: 03/11/2020 | Q20: Accueil 4 - La riviere des dons à Renaissance (V2020) | R20: Validé | S20: 0 | T20: 100 | U20: 03/11/2020 | V20: Accueil 2 "La vie chez Renaissance V2" | W20: Validé | X20: 0 | Y20: 100 | Z20: 06/07/2020 | AA20: Formation ARPE-Québec | AB20: Validé | AC20: 0 | AD20: 100 | AE20: 03/11/2020 | AF20: Cybersécurité | AG20: Validé | AH20: 0 | AI20: 100 | AJ20: 03/11/2020 | AK20: Cybersécurité-Questionnaire | AL20: Validé | AM20: 100 | AN20: 100 | AO20: 03/11/2020 | AP20: Formation SST: La prévention du harcelement et de la violence au travail | AQ20: Pas commencé | AU20: Accueil 1 - Bienvenue chez Renaissance 2021 | AV20: Pas commencé | AZ20: Quiz d'integration | BA20: Terminé, non validé | BB20: 77.7 | BC20: 100 | BE20: Sondage d'intégration d'un nouvel employé | BF20: Pas commencé | BJ20: SST: Prévention de la Covid-19 en milieu de travail | BK20: Validé | BL20: 0 | BM20: 100 | BN20: 23/02/2021
A21: 22U6000004703 | B21: Samira | C21: AIT BENALI | E21: 44163 | F21: Oui | G21: GGC- Etiq Accessoires | H21: 22U6 | I21: 303 | J21: Mag. Verdun | L21: Accueil 3 - "La santé avant tout" | M21: Pas commencé | Q21: Accueil 4 - La riviere des dons à Renaissance (V2020) | R21: Pas commencé | V21: Accueil 2 "La vie chez Renaissance V2" | W21: Pas commencé | AA21: Formation ARPE-Québec | AB21: Pas commencé | AF21: Cybersécurité | AG21: Validé | AH21: 0 | AI21: 100 | AJ21: 25/02/2021 | AK21: Cybersécurité-Questionnaire | AL21: Terminé, non validé | AM21: 70 | AN21: 100 | AP21: Formation SST: La prévention du harcelement et de la violence au travail | AQ21: Pas commencé | AU21: Accueil 1 - Bienvenue chez Renaissance 2021 | AV21: Pas commencé | AZ21: Quiz d'integration | BA21: Pas commencé | BE21: Sondage d'intégration d'un nouvel employé | BF21: Pas commencé | BJ21: SST: Prévention de la Covid-19 en milieu de travail | BK21: Validé | BL21: 0 | BM21: 100 | BN21: 25/02/2021
A22: 22U5000007972 | B22: Hamid | C22: AIT HAMOUCHE | E22: 43514 | F22: Oui | G22: GGC Préposé entretiens ménager | H22: 22U6 | I22: 307 | J22: Mag. Saint-Jacques | K22: 43514 | L22: Accueil 3 - "La santé avant tout" | M22: Pas commencé | Q22: Accueil 4 - La riviere des dons à Renaissance (V2020) | R22: Pas commencé | V22: Accueil 2 "La vie chez Renaissance V2" | W22: Pas commencé | AA22: Formation ARPE-Québec | AB22: Pas commencé | AF22: Cybersécurité | AG22: Pas commencé | AK22: Cybersécurité-Questionnaire | AL22: Pas commencé | AP22: Formation SST: La prévention du harcelement et de la violence au travail | AQ22: Pas commencé | AU22: Accueil 1 - Bienvenue chez Renaissance 2021 | AV22: Pas commencé | AZ22: Quiz d'integration | BA22: Pas commencé | BE22: Sondage d'intégration d'un nouvel employé | BF22: Pas commencé | BJ22: SST: Prévention de la Covid-19 en milieu de travail | BK22: Pas commencé
A23: 22U6000004971 | B23: Malik | C23: AIT MOHAND | E23: 44286 | F23: Oui | G23: GGC-Etiq Livres | H23: 22U6 | I23: 311 | J23: Mag. Galeries Normandie | L23: Accueil 3 - "La santé avant tout" | M23: Pas commencé | Q23: Accueil 4 - La riviere des dons à Renaissance (V2020) | R23: Pas commencé | V23: Accueil 2 "La vie chez Renaissance V2" | W23: Pas commencé | AA23: Formation ARPE-Québec | AB23: Pas commencé | AF23: Cybersécurité | AG23: Pas commencé | AK23: Cybersécurité-Questionnaire | AL23: Pas commencé | AP23: Formation SST: La prévention du harcelement et de la violence au travail | AQ23: Pas commencé | AU23: Accueil 1 - Bienvenue chez Renaissance 2021 | AV23: Pas commencé | AZ23: Quiz d'integration | BA23: Pas commencé | BE23: Sondage d'intégration d'un nouvel employé | BF23: Pas commencé | BJ23: SST: Prévention de la Covid-19 en milieu de travail | BK23: Pas commencé
A24: 22U6000004836 | B24: Sikirat Titilopé | C24: AKADIRI | E24: 44256 | F24: Oui | G24: GGC-Commis plancher&Cabine | H24: 22U6 | I24: 309 | J24: Mag. Côte-des-Neiges | L24: Accueil 3 - "La santé avant tout" | M24: Validé | N24: 0 | O24: 100 | P24: 01/03/2021 | Q24: Accueil 4 - La riviere des dons à Renaissance (V2020) | R24: Validé | S24: 0 | T24: 100 | U24: 01/03/2021 | V24: Accueil 2 "La vie chez Renaissance V2" | W24: Validé | X24: 0 | Y24: 100 | Z24: 01/03/2021 | AA24: Formation ARPE-Québec | AB24: Pas commencé | AF24: Cybersécurité | AG24: Pas commencé | AK24: Cybersécurité-Questionnaire | AL24: Pas commencé | AP24: Formation SST: La prévention du harcelement et de la violence au travail | AQ24: Validé | AR24: 0 | AS24: 100 | AT24: 01/03/2021 | AU24: Accueil 1 - Bienvenue chez Renaissance 2021 | AV24: Validé | AW24: 0 | AX24: 100 | AY24: 01/03/2021 | AZ24: Quiz d'integration | BA24: Validé | BB24: 94.4 | BC24: 100 | BD24: 01/03/2021 | BE24: Sondage d'intégration d'un nouvel employé | BF24: Pas commencé | BJ24: SST: Prévention de la Covid-19 en milieu de travail | BK24: En cours | BL24: 0 | BM24: 50
A25: 22U6000003023 | B25: Bienheureuse Martine | C25: AKPOVO | E25: 43139 | F25: Oui | G25: GGC-Trieur | H25: 22U6 | I25: 313 | J25: Mag. Portobello | L25: Accueil 3 - "La santé avant tout" | M25: Validé | N25: 100 | O25: 100 | P25: 09/02/2018 | Q25: Accueil 4 - La riviere des dons à Renaissance (V2020) | R25: Pas commencé | V25: Accueil 2 "La vie chez Renaissance V2" | W25: Pas commencé | AA25: Formation ARPE-Québec | AB25: Pas commencé | AF25: Cybersécurité | AG25: Validé | AH25: 0 | AI25: 100 | AJ25: 26/02/2021 | AK25: Cybersécurité-Questionnaire | AL25: Terminé, non validé | AM25: 40 | AN25: 100 | AP25: Formation SST: La prévention du harcelement et de la violence au travail | AQ25: Pas commencé | AU25: Accueil 1 - Bienvenue chez Renaissance 2021 | AV25: Pas commencé | AZ25: Quiz d'integration | BA25: Pas commencé | BE25: Sondage d'intégration d'un nouvel employé | BF25: Pas commencé | BJ25: SST: Prévention de la Covid-19 en milieu de travail | BK25: Pas commencé
A26: 22U6000003998 | B26: Sayma | C26: AKTHER SUCHI | E26: 43794 | F26: Oui | G26: Technicien recrutement | H26: 22U6 | I26: 103 | J26: Direction des ressources humaines | L26: Accueil 3 - "La santé avant tout" | M26: Pas commencé | Q26: Accueil 4 - La riviere des dons à Renaissance (V2020) | R26: Pas commencé | V26: Accueil 2 "La vie chez Renaissance V2" | W26: Validé | X26: 0 | Y26: 100 | Z26: 22/05/2020 | AA26: Formation ARPE-Québec | AB26: Pas commencé | AF26: Cybersécurité | AG26: Validé | AH26: 0 | AI26: 100 | AJ26: 23/02/2021 | AK26: Cybersécurité-Questionnaire | AL26: Validé | AM26: 80 | AN26: 100 | AO26: 23/02/2021 | AP26: Formation SST: La prévention du harcelement et de la violence au travail | AQ26: Pas commencé | AU26: Accueil 1 - Bienvenue chez Renaissance 2021 | AV26: Validé | AW26: 0 | AX26: 100 | AY26: 01/06/2021 | AZ26: Quiz d'integration | BA26: Pas commencé | BE26: Sondage d'intégration d'un nouvel employé | BF26: Pas commencé | BJ26: SST: Prévention de la Covid-19 en milieu de travail | BK26: Validé | BL26: 0 | BM26: 100 | BN26: 26/02/2021
A27: 22U6000002943 | B27: Saeed | C27: AL HALLAKE | E27: 43059 | F27: Oui | G27: Camionneur déménageur C1 | H27: 22U6 | I27: 201 | J27: Transport | L27: Accueil 3 - "La santé avant tout" | M27: Pas commencé | Q27: Accueil 4 - La riviere des dons à Renaissance (V2020) | R27: Pas commencé | V27: Accueil 2 "La vie chez Renaissance V2" | W27: Pas commencé | AA27: Formation ARPE-Québec | AB27: Pas commencé | AF27: Cybersécurité | AG27: Pas commencé | AK27: Cybersécurité-Questionnaire | AL27: Pas commencé | AP27: Formation SST: La prévention du harcelement et de la violence au travail | AQ27: Pas commencé | AU27: Accueil 1 - Bienvenue chez Renaissance 2021 | AV27: Pas commencé | AZ27: Quiz d'integration | BA27: Pas commencé | BE27: Sondage d'intégration d'un nouvel employé | BF27: Pas commencé | BJ27: SST: Prévention de la Covid-19 en milieu de travail | BK27: Pas commencé
A28: 22U6000004886 | B28: Ghinwa | C28: AL MAJZOUB | E28: 44270 | F28: Oui | G28: GGC- Monteur | H28: 22U6 | I28: 312 | J28: Mag. Centre St-Martin | L28: Accueil 3 - "La santé avant tout" | M28: Pas commencé | Q28: Accueil 4 - La riviere des dons à Renaissance (V2020) | R28: Pas commencé | V28: Accueil 2 "La vie chez Renaissance V2" | W28: Pas commencé | AA28: Formation ARPE-Québec | AB28: Pas commencé | AF28: Cybersécurité | AG28: Pas commencé | AK28: Cybersécurité-Questionnaire | AL28: Pas commencé | AP28: Formation SST: La prévention du harcelement et de la violence au travail | AQ28: Pas commencé | AU28: Accueil 1 - Bienvenue chez Renaissance 2021 | AV28: Pas commencé | AZ28: Quiz d'integration | BA28: Pas commencé | BE28: Sondage d'intégration d'un nouvel employé | BF28: Pas commencé | BJ28: SST: Prévention de la Covid-19 en milieu de travail | BK28: Pas commencé
A29: 22U6000005200 | B29: Fatiha | C29: AL MOUHTADI | E29: 44347 | F29: Oui | G29: GGC- Etiq Accessoires | H29: 22U6 | I29: 301 | J29: Mag. Décarie | L29: Accueil 3 - "La santé avant tout" | M29: Validé | N29: 0 | O29: 100 | P29: 31/05/2021 | Q29: Accueil 4 - La riviere des dons à Renaissance (V2020) | R29: Validé | S29: 0 | T29: 100 | U29: 31/05/2021 | V29: Accueil 2 "La vie chez Renaissance V2" | W29: Validé | X29: 0 | Y29: 100 | Z29: 31/05/2021 | AA29: Formation ARPE-Québec | AB29: Pas commencé | AF29: Cybersécurité | AG29: Pas commencé | AK29: Cybersécurité-Questionnaire | AL29: Pas commencé | AP29: Formation SST: La prévention du harcelement et de la violence au travail | AQ29: Pas commencé | AU29: Accueil 1 - Bienvenue chez Renaissance 2021 | AV29: Validé | AW29: 0 | AX29: 100 | AY29: 31/05/2021 | AZ29: Quiz d'integration | BA29: Pas commencé | BE29: Sondage d'intégration d'un nouvel employé | BF29: Pas commencé | BJ29: SST: Prévention de la Covid-19 en milieu de travail | BK29: Pas commencé
A30: 22U6000004728 | B30: Kindah | C30: AL SHAREEF | E30: 44176 | F30: Oui | G30: GGC-Commis plancher&Cabine | H30: 22U6 | I30: 314 | J30: Mag. Galerie des sources | L30: Accueil 3 - "La santé avant tout" | M30: Validé | N30: 0 | O30: 100 | P30: 07/02/2021 | Q30: Accueil 4 - La riviere des dons à Renaissance (V2020) | R30: Validé | S30: 0 | T30: 100 | U30: 07/02/2021 | V30: Accueil 2 "La vie chez Renaissance V2" | W30: Validé | X30: 0 | Y30: 100 | Z30: 07/02/2021 | AA30: Formation ARPE-Québec | AB30: Validé | AC30: 0 | AD30: 100 | AE30: 07/02/2021 | AF30: Cybersécurité | AG30: Validé | AH30: 0 | AI30: 100 | AJ30: 07/02/2021 | AK30: Cybersécurité-Questionnaire | AL30: Validé | AM30: 80 | AN30: 100 | AO30: 07/02/2021 | AP30: Formation SST: La prévention du harcelement et de la violence au travail | AQ30: Pas commencé | AU30: Accueil 1 - Bienvenue chez Renaissance 2021 | AV30: Pas commencé | AZ30: Quiz d'integration | BA30: Validé | BB30: 88.8 | BC30: 100 | BD30: 07/02/2021 | BE30: Sondage d'intégration d'un nouvel employé | BF30: Pas commencé | BJ30: SST: Prévention de la Covid-19 en milieu de travail | BK30: Pas commencé
A31: 22U6000004010 | B31: Abdul Karim | C31: AL TAHRAWI | E31: 43815 | F31: Oui | G31: CDD- Conducteur chariot élévateur | H31: 22U6 | I31: 200 | J31: Centre de Distribution | L31: Accueil 3 - "La santé avant tout" | M31: Pas commencé | Q31: Accueil 4 - La riviere des dons à Renaissance (V2020) | R31: Pas commencé | V31: Accueil 2 "La vie chez Renaissance V2" | W31: Pas commencé | AA31: Formation ARPE-Québec | AB31: Pas commencé | AF31: Cybersécurité | AG31: Pas commencé | AK31: Cybersécurité-Questionnaire | AL31: Pas commencé | AP31: Formation SST: La prévention du harcelement et de la violence au travail | AQ31: Pas commencé | AU31: Accueil 1 - Bienvenue chez Renaissance 2021 | AV31: Pas commencé | AZ31: Quiz d'integration | BA31: Pas commencé | BE31: Sondage d'intégration d'un nouvel employé | BF31: Pas commencé | BJ31: SST: Prévention de la Covid-19 en milieu de travail | BK31: Pas commencé
A32: 22U6000004354 | B32: Ahmad Abdul Kareem Ahmad | C32: AL TAHRAWI | E32: 44029 | F32: Oui | G32: GGC- Préposé aux donateurs | H32: 22U6 | I32: 313 | J32: Mag. Portobello | L32: Accueil 3 - "La santé avant tout" | M32: Pas commencé | Q32: Accueil 4 - La riviere des dons à Renaissance (V2020) | R32: Validé | S32: 0 | T32: 100 | U32: 07/02/2021 | V32: Accueil 2 "La vie chez Renaissance V2" | W32: Pas commencé | AA32: Formation ARPE-Québec | AB32: Validé | AC32: 0 | AD32: 100 | AE32: 07/02/2021 | AF32: Cybersécurité | AG32: Validé | AH32: 0 | AI32: 100 | AJ32: 03/03/2021 | AK32: Cybersécurité-Questionnaire | AL32: Terminé, non validé | AM32: 60 | AN32: 100 | AP32: Formation SST: La prévention du harcelement et de la violence au travail | AQ32: Pas commencé | AU32: Accueil 1 - Bienvenue chez Renaissance 2021 | AV32: Pas commencé | AZ32: Quiz d'integration | BA32: Pas commencé | BE32: Sondage d'intégration d'un nouvel employé | BF32: Pas commencé | BJ32: SST: Prévention de la Covid-19 en milieu de travail | BK32: Pas commencé
A33: 22U6000004547 | B33: Ayman | C33: AL ZABADI | E33: 44104 | F33: Oui | G33: GGC- Préposé aux donateurs | H33: 22U6 | I33: 314 | J33: Mag. Galerie des sources | L33: Accueil 3 - "La santé avant tout" | M33: Pas commencé | Q33: Accueil 4 - La riviere des dons à Renaissance (V2020) | R33: Pas commencé | V33: Accueil 2 "La vie chez Renaissance V2" | W33: Pas commencé | AA33: Formation ARPE-Québec | AB33: Pas commencé | AF33: Cybersécurité | AG33: Validé | AH33: 0 | AI33: 100 | AJ33: 23/02/2021 | AK33: Cybersécurité-Questionnaire | AL33: Validé | AM33: 100 | AN33: 100 | AO33: 23/02/2021 | AP33: Formation SST: La prévention du harcelement et de la violence au travail | AQ33: Pas commencé | AU33: Accueil 1 - Bienvenue chez Renaissance 2021 | AV33: Pas commencé | AZ33: Quiz d'integration | BA33: Pas commencé | BE33: Sondage d'intégration d'un nouvel employé | BF33: Pas commencé | BJ33: SST: Prévention de la Covid-19 en milieu de travail | BK33: Pas commencé
A34: 22U6000003916 | B34: Yaser | C34: AL-SHAMMA | E34: 44241 | F34: Oui | G34: GGC- Préposé aux donateurs | H34: 22U6 | I34: 307 | J34: Mag. Saint-Jacques | K34: 44241 | L34: Accueil 3 - "La santé avant tout" | M34: Pas commencé | Q34: Accueil 4 - La riviere des dons à Renaissance (V2020) | R34: Pas commencé | V34: Accueil 2 "La vie chez Renaissance V2" | W34: Pas commencé | AA34: Formation ARPE-Québec | AB34: Pas commencé | AF34: Cybersécurité | AG34: Pas commencé | AK34: Cybersécurité-Questionnaire | AL34: Pas commencé | AP34: Formation SST: La prévention du harcelement et de la violence au travail | AQ34: Pas commencé | AU34: Accueil 1 - Bienvenue chez Renaissance 2021 | AV34: Pas commencé | AZ34: Quiz d'integration | BA34: Pas commencé | BE34: Sondage d'intégration d'un nouvel employé | BF34: Pas commencé | BJ34: SST: Prévention de la Covid-19 en milieu de travail | BK34: Pas commencé
A35: 22U6000035664 | B35: Ameer | C35: AL-SHAMMAA | E35: 43532 | F35: Oui | G35: GGC- Préposé aux donateurs | H35: 22U6 | I35: 313 | J35: Mag. Portobello | L35: Accueil 3 - "La santé avant tout" | M35: Pas commencé | Q35: Accueil 4 - La riviere des dons à Renaissance (V2020) | R35: Pas commencé | V35: Accueil 2 "La vie chez Renaissance V2" | W35: Pas commencé | AA35: Formation ARPE-Québec | AB35: Pas commencé | AF35: Cybersécurité | AG35: Pas commencé | AK35: Cybersécurité-Questionnaire | AL35: Pas commencé | AP35: Formation SST: La prévention du harcelement et de la violence au travail | AQ35: Pas commencé | AU35: Accueil 1 - Bienvenue chez Renaissance 2021 | AV35: Pas commencé | AZ35: Quiz d'integration | BA35: Pas commencé | BE35: Sondage d'intégration d'un nouvel employé | BF35: Pas commencé | BJ35: SST: Prévention de la Covid-19 en milieu de travail | BK35: Pas commencé
A36: 22U6000001635 | B36: Roko | C36: ALAIN ROLAND | E36: 41310 | F36: Oui | G36: ADC - Préposé aux donateurs | H36: 22U6 | I36: 503 | J36: Centre de don ADC Concorde | L36: Accueil 3 - "La santé avant tout" | M36: Validé | N36: 100 | O36: 100 | P36: 24/08/2017 | Q36: Accueil 4 - La riviere des dons à Renaissance (V2020) | R36: Validé | S36: 0 | T36: 100 | U36: 25/06/2021 | V36: Accueil 2 "La vie chez Renaissance V2" | W36: En cours | X36: 0 | Y36: 50 | AA36: Formation ARPE-Québec | AB36: Pas commencé | AF36: Cybersécurité | AG36: Validé | AH36: 0 | AI36: 100 | AJ36: 23/02/2021 | AK36: Cybersécurité-Questionnaire | AL36: Validé | AM36: 90 | AN36: 100 | AO36: 23/02/2021 | AP36: Formation SST: La prévention du harcelement et de la violence au travail | AQ36: Pas commencé | AU36: Accueil 1 - Bienvenue chez Renaissance 2021 | AV36: Validé | AW36: 0 | AX36: 100 | AY36: 23/02/2021 | AZ36: Quiz d'integration | BA36: Pas commencé | BE36: Sondage d'intégration d'un nouvel employé | BF36: Pas commencé | BJ36: SST: Prévention de la Covid-19 en milieu de travail | BK36: Validé | BL36: 0 | BM36: 100 | BN36: 23/02/2021
A37: 22U6000007641 | B37: Maria | C37: ALAYO VALDES | E37: 43185 | F37: Oui | G37: GGC-Trieur | H37: 22U6 | I37: 309 | J37: Mag. Côte-des-Neiges | K37: 43185 | L37: Accueil 3 - "La santé avant tout" | M37: Validé | N37: 100 | O37: 100 | P37: 04/04/2018 | Q37: Accueil 4 - La riviere des dons à Renaissance (V2020) | R37: Pas commencé | V37: Accueil 2 "La vie chez Renaissance V2" | W37: Validé | X37: 100 | Y37: 100 | Z37: 04/04/2018 | AA37: Formation ARPE-Québec | AB37: Pas commencé | AF37: Cybersécurité | AG37: Validé | AH37: 0 | AI37: 100 | AJ37: 23/02/2021 | AK37: Cybersécurité-Questionnaire | AL37: Validé | AM37: 100 | AN37: 100 | AO37: 26/02/2021 | AP37: Formation SST: La prévention du harcelement et de la violence au travail | AQ37: Pas commencé | AU37: Accueil 1 - Bienvenue chez Renaissance 2021 | AV37: Pas commencé | AZ37: Quiz d'integration | BA37: Pas commencé | BE37: Sondage d'intégration d'un nouvel employé | BF37: Pas commencé | BJ37: SST: Prévention de la Covid-19 en milieu de travail | BK37: Validé | BL37: 0 | BM37: 100 | BN37: 26/02/2021
A38: 22U6000004551 | B38: Grace | C38: ALEID | E38: 44107 | F38: Oui | G38: GGC- Monteur | H38: 22U6 | I38: 311 | J38: Mag. Galeries Normandie | L38: Accueil 3 - "La santé avant tout" | M38: Pas commencé | Q38: Accueil 4 - La riviere des dons à Renaissance (V2020) | R38: Pas commencé | V38: Accueil 2 "La vie chez Renaissance V2" | W38: Pas commencé | AA38: Formation ARPE-Québec | AB38: Pas commencé | AF38: Cybersécurité | AG38: Validé | AH38: 0 | AI38: 100 | AJ38: 27/02/2021 | AK38: Cybersécurité-Questionnaire | AL38: Terminé, non validé | AM38: 60 | AN38: 100 | AP38: Formation SST: La prévention du harcelement et de la violence au travail | AQ38: Pas commencé | AU38: Accueil 1 - Bienvenue chez Renaissance 2021 | AV38: Pas commencé | AZ38: Quiz d'integration | BA38: Pas commencé | BE38: Sondage d'intégration d'un nouvel employé | BF38: Pas commencé | BJ38: SST: Prévention de la Covid-19 en milieu de travail | BK38: Validé | BL38: 0 | BM38: 100 | BN38: 27/02/2021
A39: 22U6000004601 | B39: Mohammed Ameziane | C39: ALEM | E39: 44133 | F39: Oui | G39: CDL- Caissier | H39: 22U6 | I39: 400 | J39: Centre de Liquidation | L39: Accueil 3 - "La santé avant tout" | M39: Pas commencé | Q39: Accueil 4 - La riviere des dons à Renaissance (V2020) | R39: Pas commencé | V39: Accueil 2 "La vie chez Renaissance V2" | W39: Pas commencé | AA39: Formation ARPE-Québec | AB39: Pas commencé | AF39: Cybersécurité | AG39: Validé | AH39: 0 | AI39: 100 | AJ39: 26/02/2021 | AK39: Cybersécurité-Questionnaire | AL39: Validé | AM39: 80 | AN39: 100 | AO39: 26/02/2021 | AP39: Formation SST: La prévention du harcelement et de la violence au travail | AQ39: Pas commencé | AU39: Accueil 1 - Bienvenue chez Renaissance 2021 | AV39: Pas commencé | AZ39: Quiz d'integration | BA39: Pas commencé | BE39: Sondage d'intégration d'un nouvel employé | BF39: Pas commencé | BJ39: SST: Prévention de la Covid-19 en milieu de travail | BK39: Validé | BL39: 0 | BM39: 100 | BN39: 26/02/2021
A40: 22U6000003935 | B40: Shafaa | C40: ALHAYEK | E40: 43724 | F40: Oui | G40: GGC- Etiq Accessoires | H40: 22U6 | I40: 313 | J40: Mag. Portobello | L40: Accueil 3 - "La santé avant tout" | M40: Pas commencé | Q40: Accueil 4 - La riviere des dons à Renaissance (V2020) | R40: Pas commencé | V40: Accueil 2 "La vie chez Renaissance V2" | W40: Pas commencé | AA40: Formation ARPE-Québec | AB40: Pas commencé | AF40: Cybersécurité | AG40: Validé | AH40: 0 | AI40: 100 | AJ40: 23/02/2021 | AK40: Cybersécurité-Questionnaire | AL40: Terminé, non validé | AM40: 70 | AN40: 100 | AP40: Formation SST: La prévention du harcelement et de la violence au travail | AQ40: Pas commencé | AU40: Accueil 1 - Bienvenue chez Renaissance 2021 | AV40: Pas commencé | AZ40: Quiz d'integration | BA40: Pas commencé | BE40: Sondage d'intégration d'un nouvel employé | BF40: Pas commencé | BJ40: SST: Prévention de la Covid-19 en milieu de travail | BK40: Pas commencé
...

Sheet Feuil1
A5: J | B5: AU | C5: AV | G5: V | H5: W | J5: L | K5: M | N5: Q | O5: R | R5: BJ | S5: BK | V5: AP | W5: AQ | Z5: AA | AA5: AB | AD5: AF | AE5: AG | AH5: AK | AI5: AL | AL5: AZ | AM5: BA | AP5: BE | AQ5: BF
A7: Service d'attache | B7: Accueil 1 - Bienvenue chez Renaissance 2021 | F7: Accueil 2 "La vie chez Renaissance V2" | J7: Accueil 3 - "La santé avant tout" | N7: Accueil 4 - La riviere des dons à Renaissance (V2020) | R7: SST: Prévention de la Covid-19 en milieu de travail | V7: Formation SST: La prévention du harcelement et de la violence au travail | Z7: Formation ARPE-Québec | AD7: Cybersécurité | AH7: Cybersécurité-Questionnaire | AL7: Quiz d'integration | AP7: Sondage d'intégration d'un nouvel employé
B8: Pas commencé | C8: En cours | D8: Validé | E8: Terminé, non validé | F8: Pas commencé | G8: En cours | H8: Validé | I8: Terminé, non validé | J8: Pas commencé | K8: En cours | L8: Validé | M8: Terminé, non validé | N8: Pas commencé | O8: En cours | P8: Validé | Q8: Terminé, non validé | R8: Pas commencé | S8: En cours | T8: Validé | U8: Terminé, non validé | V8: Pas commencé | W8: En cours | X8: Validé | Y8: Terminé, non validé | Z8: Pas commencé | AA8: En cours | AB8: Validé | AC8: Terminé, non validé | AD8: Pas commencé | AE8: En cours | AF8: Validé | AG8: Terminé, non validé | AH8: Pas commencé | AI8: En cours | AJ8: Validé | AK8: Terminé, non validé | AL8: Pas commencé | AM8: En cours | AN8: Validé | AO8: Terminé, non validé | AP8: Pas commencé | AQ8: En cours | AR8: Validé | AS8: Terminé, non validé
A9: Libraire Bélanger-Lacordaire | B9: =COUNTIFS(données!$J:$J,A9,données!$AV:$AV,Feuil1!$B$8) -> 4 | C9: =COUNTIFS(données!$J:$J,A9,données!$AV:$AV,Feuil1!$C$8) -> 2 | D9: =COUNTIFS(données!$J:$J,A9,données!$AV:$AV,Feuil1!$D$8) -> 2 | E9: =COUNTIFS(données!$J:$J,A9,données!$AV:$AV,Feuil1!$E$8) -> 0 | F9: =COUNTIFS(données!$J:$J,Feuil1!$A9,données!$W:$W,Feuil1!$F$8) -> 5 | G9: =COUNTIFS(données!$J:$J,Feuil1!$A9,données!$W:$W,Feuil1!$G$8) -> 0 | H9: =COUNTIFS(données!$J:$J,Feuil1!$A9,données!$W:$W,Feuil1!$H$8) -> 3 | I9: =COUNTIFS(données!$J:$J,Feuil1!$A9,données!$W:$W,Feuil1!$I$8) -> 0 | J9: =COUNTIFS(données!$J:$J,Feuil1!$A9,données!$M:$M,Feuil1!$J$8) -> 3 | K9: =COUNTIFS(données!$J:$J,Feuil1!$A9,données!$M:$M,Feuil1!$K$8) -> 1 | L9: =COUNTIFS(données!$J:$J,Feuil1!$A9,données!$M:$M,Feuil1!$L$8) -> 4 | M9: =COUNTIFS(données!$J:$J,Feuil1!$A9,données!$M:$M,Feuil1!$M$8) -> 0 | N9: =COUNTIFS(données!$J:$J,Feuil1!$A9,données!$R:$R,Feuil1!$N$8) -> 5 | O9: =COUNTIFS(données!$J:$J,Feuil1!$A9,données!$R:$R,Feuil1!$O$8) -> 0 | P9: =COUNTIFS(données!$J:$J,Feuil1!$A9,données!$R:$R,Feuil1!$P$8) -> 3 | Q9: =COUNTIFS(données!$J:$J,Feuil1!$A9,données!$R:$R,Feuil1!$Q$8) -> 0 | R9: =COUNTIFS(données!$J:$J,Feuil1!$A9,données!$BK:$BK,Feuil1!$R$8) -> 2 | S9: =COUNTIFS(données!$J:$J,Feuil1!$A9,données!$BK:$BK,Feuil1!$S$8) -> 0 | T9: =COUNTIFS(données!$J:$J,Feuil1!$A9,données!$BK:$BK,Feuil1!$T$8) -> 6 | U9: =COUNTIFS(données!$J:$J,Feuil1!$A9,données!$BK:$BK,Feuil1!$U$8) -> 0 | V9: =COUNTIFS(données!$J:$J,Feuil1!$A9,données!$AQ:$AQ,Feuil1!$V$8) -> 4 | W9: =COUNTIFS(données!$J:$J,Feuil1!$A9,données!$AQ:$AQ,Feuil1!$W$8) -> 1 | X9: =COUNTIFS(données!$J:$J,Feuil1!$A9,données!$AQ:$AQ,Feuil1!$X$8) -> 3 | Y9: =COUNTIFS(données!$J:$J,Feuil1!$A9,données!$AQ:$AQ,Feuil1!$Y$8) -> 0 | Z9: =COUNTIFS(données!$J:$J,Feuil1!$A9,données!$AB:$AB,Feuil1!$Z$8) -> 2 | AA9: =COUNTIFS(données!$J:$J,Feuil1!$A9,données!$AB:$AB,Feuil1!$AA$8) -> 0 | AB9: =COUNTIFS(données!$J:$J,Feuil1!$A9,données!$AB:$AB,Feuil1!$AB$8) -> 6 | AC9: =COUNTIFS(données!$J:$J,Feuil1!$A9,données!$AB:$AB,Feuil1!$AC$8) -> 0 | AD9: =COUNTIFS(données!$J:$J,Feuil1!$A9,données!$AG:$AG,Feuil1!$AD$8) -> 3 | AE9: =COUNTIFS(données!$J:$J,Feuil1!$A9,données!$AG:$AG,Feuil1!$AE$8) -> 0 | AF9: =COUNTIFS(données!$J:$J,Feuil1!$A9,données!$AG:$AG,Feuil1!$AF$8) -> 5 | AG9: =COUNTIFS(données!$J:$J,Feuil1!$A9,données!$AG:$AG,Feuil1!$AG$8) -> 0 | AH9: =COUNTIFS(données!$J:$J,Feuil1!$A9,données!$AL:$AL,Feuil1!$AH$8) -> 3 | AI9: =COUNTIFS(données!$J:$J,Feuil1!$A9,données!$AL:$AL,Feuil1!$AI$8) -> 0 | AJ9: =COUNTIFS(données!$J:$J,Feuil1!$A9,données!$AL:$AL,Feuil1!$AJ$8) -> 5 | AK9: =COUNTIFS(données!$J:$J,Feuil1!$A9,données!$AL:$AL,Feuil1!$AK$8) -> 0 | AL9: =COUNTIFS(données!$J:$J,Feuil1!$A9,données!$BA:$BA,Feuil1!$AL$8) -> 6 | AM9: =COUNTIFS(données!$J:$J,Feuil1!$A9,données!$BA:$BA,Feuil1!$AM$8) -> 0 | AN9: =COUNTIFS(données!$J:$J,Feuil1!$A9,données!$BA:$BA,Feuil1!$AN$8) -> 0 | AO9: =COUNTIFS(données!$J:$J,Feuil1!$A9,données!$BA:$BA,Feuil1!$AO$8) -> 2 | AP9: =COUNTIFS(données!$J:$J,Feuil1!$A9,données!$BF:$BF,Feuil1!$AP$8) -> 8 | AQ9: =COUNTIFS(données!$J:$J,Feuil1!$A9,données!$BF:$BF,Feuil1!$AQ$8) -> 0 | AR9: =COUNTIFS(données!$J:$J,Feuil1!$A9,données!$BF:$BF,Feuil1!$AR$8) -> 0 | AS9: =COUNTIFS(données!$J:$J,Feuil1!$A9,données!$BF:$BF,Feuil1!$AS$8) -> 0
A10: Librairie Beaumont | B10: =COUNTIFS(données!$J:$J,A10,données!$AV:$AV,Feuil1!$B$8) -> 7 | C10: =COUNTIFS(données!$J:$J,A10,données!$AV:$AV,Feuil1!$C$8) -> 0 | D10: =COUNTIFS(données!$J:$J,A10,données!$AV:$AV,Feuil1!$D$8) -> 2 | E10: =COUNTIFS(données!$J:$J,A10,données!$AV:$AV,Feuil1!$E$8) -> 0 | F10: =COUNTIFS(données!$J:$J,Feuil1!A10,données!$W:$W,Feuil1!$F$8) -> 4 | G10: =COUNTIFS(données!$J:$J,Feuil1!$A10,données!$W:$W,Feuil1!$G$8) -> 1 | H10: =COUNTIFS(données!$J:$J,Feuil1!$A10,données!$W:$W,Feuil1!$H$8) -> 4 | I10: =COUNTIFS(données!$J:$J,Feuil1!$A10,données!$W:$W,Feuil1!$I$8) -> 0 | J10: =COUNTIFS(données!$J:$J,Feuil1!$A10,données!$M:$M,Feuil1!$J$8) -> 2 | K10: =COUNTIFS(données!$J:$J,Feuil1!$A10,données!$M:$M,Feuil1!$K$8) -> 1 | L10: =COUNTIFS(données!$J:$J,Feuil1!$A10,données!$M:$M,Feuil1!$L$8) -> 6 | M10: =COUNTIFS(données!$J:$J,Feuil1!$A10,données!$M:$M,Feuil1!$M$8) -> 0 | N10: =COUNTIFS(données!$J:$J,Feuil1!$A10,données!$R:$R,Feuil1!$N$8) -> 6 | O10: =COUNTIFS(données!$J:$J,Feuil1!$A10,données!$R:$R,Feuil1!$O$8) -> 0 | P10: =COUNTIFS(données!$J:$J,Feuil1!$A10,données!$R:$R,Feuil1!$P$8) -> 3 | Q10: =COUNTIFS(données!$J:$J,Feuil1!$A10,données!$R:$R,Feuil1!$Q$8) -> 0 | R10: =COUNTIFS(données!$J:$J,Feuil1!$A10,données!$BK:$BK,Feuil1!$R$8) -> 0 | S10: =COUNTIFS(données!$J:$J,Feuil1!$A10,données!$BK:$BK,Feuil1!$S$8) -> 0 | T10: =COUNTIFS(données!$J:$J,Feuil1!$A10,données!$BK:$BK,Feuil1!$T$8) -> 9 | U10: =COUNTIFS(données!$J:$J,Feuil1!$A10,données!$BK:$BK,Feuil1!$U$8) -> 0 | V10: =COUNTIFS(données!$J:$J,Feuil1!$A10,données!$AQ:$AQ,Feuil1!$V$8) -> 6 | W10: =COUNTIFS(données!$J:$J,Feuil1!$A10,données!$AQ:$AQ,Feuil1!$W$8) -> 0 | X10: =COUNTIFS(données!$J:$J,Feuil1!$A10,données!$AQ:$AQ,Feuil1!$X$8) -> 3 | Y10: =COUNTIFS(données!$J:$J,Feuil1!$A10,données!$AQ:$AQ,Feuil1!$Y$8) -> 0 | Z10: =COUNTIFS(données!$J:$J,Feuil1!$A10,données!$AB:$AB,Feuil1!$Z$8) -> 0 | AA10: =COUNTIFS(données!$J:$J,Feuil1!$A10,données!$AB:$AB,Feuil1!$AA$8) -> 0 | AB10: =COUNTIFS(données!$J:$J,Feuil1!$A10,données!$AB:$AB,Feuil1!$AB$8) -> 9 | AC10: =COUNTIFS(données!$J:$J,Feuil1!$A10,données!$AB:$AB,Feuil1!$AC$8) -> 0 | AD10: =COUNTIFS(données!$J:$J,Feuil1!$A10,données!$AG:$AG,Feuil1!$AD$8) -> 1 | AE10: =COUNTIFS(données!$J:$J,Feuil1!$A10,données!$AG:$AG,Feuil1!$AE$8) -> 0 | AF10: =COUNTIFS(données!$J:$J,Feuil1!$A10,données!$AG:$AG,Feuil1!$AF$8) -> 8 | AG10: =COUNTIFS(données!$J:$J,Feuil1!$A10,données!$AG:$AG,Feuil1!$AG$8) -> 0 | AH10: =COUNTIFS(données!$J:$J,Feuil1!$A10,données!$AL:$AL,Feuil1!$AH$8) -> 1 | AI10: =COUNTIFS(données!$J:$J,Feuil1!$A10,données!$AL:$AL,Feuil1!$AI$8) -> 1 | AJ10: =COUNTIFS(données!$J:$J,Feuil1!$A10,données!$AL:$AL,Feuil1!$AJ$8) -> 7 | AK10: =COUNTIFS(données!$J:$J,Feuil1!$A10,données!$AL:$AL,Feuil1!$AK$8) -> 0 | AL10: =COUNTIFS(données!$J:$J,Feuil1!$A10,données!$BA:$BA,Feuil1!$AL$8) -> 8 | AM10: =COUNTIFS(données!$J:$J,Feuil1!$A10,données!$BA:$BA,Feuil1!$AM$8) -> 0 | AN10: =COUNTIFS(données!$J:$J,Feuil1!$A10,données!$BA:$BA,Feuil1!$AN$8) -> 1 | AO10: =COUNTIFS(données!$J:$J,Feuil1!$A10,données!$BA:$BA,Feuil1!$AO$8) -> 0 | AP10: =COUNTIFS(données!$J:$J,Feuil1!$A10,données!$BF:$BF,Feuil1!$AP$8) -> 9 | AQ10: =COUNTIFS(données!$J:$J,Feuil1!$A10,données!$BF:$BF,Feuil1!$AQ$8) -> 0 | AR10: =COUNTIFS(données!$J:$J,Feuil1!$A10,données!$BF:$BF,Feuil1!$AR$8) -> 0 | AS10: =COUNTIFS(données!$J:$J,Feuil1!$A10,données!$BF:$BF,Feuil1!$AS$8) -> 0
A11: Librairie Fleury-Hamel | B11: =COUNTIFS(données!$J:$J,A11,données!$AV:$AV,Feuil1!$B$8) -> 6 | C11: =COUNTIFS(données!$J:$J,A11,données!$AV:$AV,Feuil1!$C$8) -> 0 | D11: =COUNTIFS(données!$J:$J,A11,données!$AV:$AV,Feuil1!$D$8) -> 2 | E11: =COUNTIFS(données!$J:$J,A11,données!$AV:$AV,Feuil1!$E$8) -> 0 | F11: =COUNTIFS(données!$J:$J,Feuil1!A11,données!$W:$W,Feuil1!$F$8) -> 4 | G11: =COUNTIFS(données!$J:$J,Feuil1!$A11,données!$W:$W,Feuil1!$G$8) -> 0 | H11: =COUNTIFS(données!$J:$J,Feuil1!$A11,données!$W:$W,Feuil1!$H$8) -> 4 | I11: =COUNTIFS(données!$J:$J,Feuil1!$A11,données!$W:$W,Feuil1!$I$8) -> 0 | J11: =COUNTIFS(données!$J:$J,Feuil1!$A11,données!$M:$M,Feuil1!$J$8) -> 5 | K11: =COUNTIFS(données!$J:$J,Feuil1!$A11,données!$M:$M,Feuil1!$K$8) -> 0 | L11: =COUNTIFS(données!$J:$J,Feuil1!$A11,données!$M:$M,Feuil1!$L$8) -> 3 | M11: =COUNTIFS(données!$J:$J,Feuil1!$A11,données!$M:$M,Feuil1!$M$8) -> 0 | N11: =COUNTIFS(données!$J:$J,Feuil1!$A11,données!$R:$R,Feuil1!$N$8) -> 5 | O11: =COUNTIFS(données!$J:$J,Feuil1!$A11,données!$R:$R,Feuil1!$O$8) -> 0 | P11: =COUNTIFS(données!$J:$J,Feuil1!$A11,données!$R:$R,Feuil1!$P$8) -> 3 | Q11: =COUNTIFS(données!$J:$J,Feuil1!$A11,données!$R:$R,Feuil1!$Q$8) -> 0 | R11: =COUNTIFS(données!$J:$J,Feuil1!$A11,données!$BK:$BK,Feuil1!$R$8) -> 3 | S11: =COUNTIFS(données!$J:$J,Feuil1!$A11,données!$BK:$BK,Feuil1!$S$8) -> 0 | T11: =COUNTIFS(données!$J:$J,Feuil1!$A11,données!$BK:$BK,Feuil1!$T$8) -> 5 | U11: =COUNTIFS(données!$J:$J,Feuil1!$A11,données!$BK:$BK,Feuil1!$U$8) -> 0 | V11: =COUNTIFS(données!$J:$J,Feuil1!$A11,données!$AQ:$AQ,Feuil1!$V$8) -> 8 | W11: =COUNTIFS(données!$J:$J,Feuil1!$A11,données!$AQ:$AQ,Feuil1!$W$8) -> 0 | X11: =COUNTIFS(données!$J:$J,Feuil1!$A11,données!$AQ:$AQ,Feuil1!$X$8) -> 0 | Y11: =COUNTIFS(données!$J:$J,Feuil1!$A11,données!$AQ:$AQ,Feuil1!$Y$8) -> 0 | Z11: =COUNTIFS(données!$J:$J,Feuil1!$A11,données!$AB:$AB,Feuil1!$Z$8) -> 4 | AA11: =COUNTIFS(données!$J:$J,Feuil1!$A11,données!$AB:$AB,Feuil1!$AA$8) -> 0 | AB11: =COUNTIFS(données!$J:$J,Feuil1!$A11,données!$AB:$AB,Feuil1!$AB$8) -> 4 | AC11: =COUNTIFS(données!$J:$J,Feuil1!$A11,données!$AB:$AB,Feuil1!$AC$8) -> 0 | AD11: =COUNTIFS(données!$J:$J,Feuil1!$A11,données!$AG:$AG,Feuil1!$AD$8) -> 3 | AE11: =COUNTIFS(données!$J:$J,Feuil1!$A11,données!$AG:$AG,Feuil1!$AE$8) -> 0 | AF11: =COUNTIFS(données!$J:$J,Feuil1!$A11,données!$AG:$AG,Feuil1!$AF$8) -> 5 | AG11: =COUNTIFS(données!$J:$J,Feuil1!$A11,données!$AG:$AG,Feuil1!$AG$8) -> 0 | AH11: =COUNTIFS(données!$J:$J,Feuil1!$A11,données!$AL:$AL,Feuil1!$AH$8) -> 3 | AI11: =COUNTIFS(données!$J:$J,Feuil1!$A11,données!$AL:$AL,Feuil1!$AI$8) -> 0 | AJ11: =COUNTIFS(données!$J:$J,Feuil1!$A11,données!$AL:$AL,Feuil1!$AJ$8) -> 5 | AK11: =COUNTIFS(données!$J:$J,Feuil1!$A11,données!$AL:$AL,Feuil1!$AK$8) -> 0 | AL11: =COUNTIFS(données!$J:$J,Feuil1!$A11,données!$BA:$BA,Feuil1!$AL$8) -> 8 | AM11: =COUNTIFS(données!$J:$J,Feuil1!$A11,données!$BA:$BA,Feuil1!$AM$8) -> 0 | AN11: =COUNTIFS(données!$J:$J,Feuil1!$A11,données!$BA:$BA,Feuil1!$AN$8) -> 0 | AO11: =COUNTIFS(données!$J:$J,Feuil1!$A11,données!$BA:$BA,Feuil1!$AO$8) -> 0 | AP11: =COUNTIFS(données!$J:$J,Feuil1!$A11,données!$BF:$BF,Feuil1!$AP$8) -> 8 | AQ11: =COUNTIFS(données!$J:$J,Feuil1!$A11,données!$BF:$BF,Feuil1!$AQ$8) -> 0 | AR11: =COUNTIFS(données!$J:$J,Feuil1!$A11,données!$BF:$BF,Feuil1!$AR$8) -> 0 | AS11: =COUNTIFS(données!$J:$J,Feuil1!$A11,données!$BF:$BF,Feuil1!$AS$8) -> 0
A12: Librairie Ile Perrot | B12: =COUNTIFS(données!$J:$J,A12,données!$AV:$AV,Feuil1!$B$8) -> 5 | C12: =COUNTIFS(données!$J:$J,A12,données!$AV:$AV,Feuil1!$C$8) -> 0 | D12: =COUNTIFS(données!$J:$J,A12,données!$AV:$AV,Feuil1!$D$8) -> 1 | E12: =COUNTIFS(données!$J:$J,A12,données!$AV:$AV,Feuil1!$E$8) -> 0 | F12: =COUNTIFS(données!$J:$J,Feuil1!A12,données!$W:$W,Feuil1!$F$8) -> 3 | G12: =COUNTIFS(données!$J:$J,Feuil1!$A12,données!$W:$W,Feuil1!$G$8) -> 0 | H12: =COUNTIFS(données!$J:$J,Feuil1!$A12,données!$W:$W,Feuil1!$H$8) -> 3 | I12: =COUNTIFS(données!$J:$J,Feuil1!$A12,données!$W:$W,Feuil1!$I$8) -> 0 | J12: =COUNTIFS(données!$J:$J,Feuil1!$A12,données!$M:$M,Feuil1!$J$8) -> 2 | K12: =COUNTIFS(données!$J:$J,Feuil1!$A12,données!$M:$M,Feuil1!$K$8) -> 0 | L12: =COUNTIFS(données!$J:$J,Feuil1!$A12,données!$M:$M,Feuil1!$L$8) -> 4 | M12: =COUNTIFS(données!$J:$J,Feuil1!$A12,données!$M:$M,Feuil1!$M$8) -> 0 | N12: =COUNTIFS(données!$J:$J,Feuil1!$A12,données!$R:$R,Feuil1!$N$8) -> 4 | O12: =COUNTIFS(données!$J:$J,Feuil1!$A12,données!$R:$R,Feuil1!$O$8) -> 0 | P12: =COUNTIFS(données!$J:$J,Feuil1!$A12,données!$R:$R,Feuil1!$P$8) -> 2 | Q12: =COUNTIFS(données!$J:$J,Feuil1!$A12,données!$R:$R,Feuil1!$Q$8) -> 0 | R12: =COUNTIFS(données!$J:$J,Feuil1!$A12,données!$BK:$BK,Feuil1!$R$8) -> 1 | S12: =COUNTIFS(données!$J:$J,Feuil1!$A12,données!$BK:$BK,Feuil1!$S$8) -> 0 | T12: =COUNTIFS(données!$J:$J,Feuil1!$A12,données!$BK:$BK,Feuil1!$T$8) -> 5 | U12: =COUNTIFS(données!$J:$J,Feuil1!$A12,données!$BK:$BK,Feuil1!$U$8) -> 0 | V12: =COUNTIFS(données!$J:$J,Feuil1!$A12,données!$AQ:$AQ,Feuil1!$V$8) -> 6 | W12: =COUNTIFS(données!$J:$J,Feuil1!$A12,données!$AQ:$AQ,Feuil1!$W$8) -> 0 | X12: =COUNTIFS(données!$J:$J,Feuil1!$A12,données!$AQ:$AQ,Feuil1!$X$8) -> 0 | Y12: =COUNTIFS(données!$J:$J,Feuil1!$A12,données!$AQ:$AQ,Feuil1!$Y$8) -> 0 | Z12: =COUNTIFS(données!$J:$J,Feuil1!$A12,données!$AB:$AB,Feuil1!$Z$8) -> 4 | AA12: =COUNTIFS(données!$J:$J,Feuil1!$A12,données!$AB:$AB,Feuil1!$AA$8) -> 2 | AB12: =COUNTIFS(données!$J:$J,Feuil1!$A12,données!$AB:$AB,Feuil1!$AB$8) -> 0 | AC12: =COUNTIFS(données!$J:$J,Feuil1!$A12,données!$AB:$AB,Feuil1!$AC$8) -> 0 | AD12: =COUNTIFS(données!$J:$J,Feuil1!$A12,données!$AG:$AG,Feuil1!$AD$8) -> 0 | AE12: =COUNTIFS(données!$J:$J,Feuil1!$A12,données!$AG:$AG,Feuil1!$AE$8) -> 0 | AF12: =COUNTIFS(données!$J:$J,Feuil1!$A12,données!$AG:$AG,Feuil1!$AF$8) -> 6 | AG12: =COUNTIFS(données!$J:$J,Feuil1!$A12,données!$AG:$AG,Feuil1!$AG$8) -> 0 | AH12: =COUNTIFS(données!$J:$J,Feuil1!$A12,données!$AL:$AL,Feuil1!$AH$8) -> 0 | AI12: =COUNTIFS(données!$J:$J,Feuil1!$A12,données!$AL:$AL,Feuil1!$AI$8) -> 0 | AJ12: =COUNTIFS(données!$J:$J,Feuil1!$A12,données!$AL:$AL,Feuil1!$AJ$8) -> 6 | AK12: =COUNTIFS(données!$J:$J,Feuil1!$A12,données!$AL:$AL,Feuil1!$AK$8) -> 0 | AL12: =COUNTIFS(données!$J:$J,Feuil1!$A12,données!$BA:$BA,Feuil1!$AL$8) -> 6 | AM12: =COUNTIFS(données!$J:$J,Feuil1!$A12,données!$BA:$BA,Feuil1!$AM$8) -> 0 | AN12: =COUNTIFS(données!$J:$J,Feuil1!$A12,données!$BA:$BA,Feuil1!$AN$8) -> 0 | AO12: =COUNTIFS(données!$J:$J,Feuil1!$A12,données!$BA:$BA,Feuil1!$AO$8) -> 0 | AP12: =COUNTIFS(données!$J:$J,Feuil1!$A12,données!$BF:$BF,Feuil1!$AP$8) -> 6 | AQ12: =COUNTIFS(données!$J:$J,Feuil1!$A12,données!$BF:$BF,Feuil1!$AQ$8) -> 0 | AR12: =COUNTIFS(données!$J:$J,Feuil1!$A12,données!$BF:$BF,Feuil1!$AR$8) -> 0 | AS12: =COUNTIFS(données!$J:$J,Feuil1!$A12,données!$BF:$BF,Feuil1!$AS$8) -> 0
