Workbook

Sheet TK76
B1: =[1]TK76!B1 -> 0 | C1: =[1]TK76!C1 -> 0 | D1: =[1]TK76!D1 -> 0 | E1: =[1]TK76!E1 -> 0 | F1: =[1]TK76!F1 -> 0
B2: =[1]TK76!B2 -> PV & FC du bâtiment LGV TK 76
B3: =[1]TK76!B3 -> 0 | C3: =[1]TK76!C3 -> 0 | D3: =[1]TK76!D3 -> 0 | E3: =[1]TK76!E3 -> 0 | F3: =[1]TK76!F3 -> 0
A4: Avancement | B4: =[1]TK76!B4 -> Tache | C4: =[1]TK76!C4 -> Contrôles réalisés | D4: =[1]TK76!D4 -> Contrôles réalisés | E4: =[1]TK76!E4 -> Entités réalisant les contrôles | F4: =[1]TK76!F4 -> PV ou FC
B6: =[1]TK76!B6 -> 0 | C6: =[1]TK76!C6 -> Mise a disposition plateforme 1 LGV TK 76 | D6: =[1]TK76!D6 -> 0 | E6: =[1]TK76!E6 -> 0 | F6: =[1]TK76!F6 -> LGV-BAT76-MISE A DISPOSITION 1
B7: =[1]TK76!B7 -> 0 | C7: =[1]TK76!C7 -> 0 | D7: =[1]TK76!D7 -> 0 | E7: =[1]TK76!E7 -> 0 | F7: =[1]TK76!F7 -> 0
B8: =[1]TK76!B8 -> 1 | C8: TERRASSEMENT | D8: =[1]TK76!D8 -> 0 | E8: =[1]TK76!E8 -> 0 | F8: =[1]TK76!F8 -> 0
B9: =[1]TK76!B9 -> 1,0,1 | C9: 1,0,1. Implantation du bâtiment | D9: =[1]TK76!D9 -> écarts d'implantation | E9: =[1]TK76!E9 -> ENTREPRISE GC + GEOMETRE + CR SIG | F9: =[1]TK76!F9 -> LGV-BAT76-PV101
A10: 0.01 | B10: =[1]TK76!B10 -> 1,0,2 | C10: 1,0,2. Fond de fouille | D10: =[1]TK76!D10 -> contrôle des dimensions | E10: =[1]TK76!E10 -> ENTREPRISE GC + LABORATOIRE SOL + BUREAU DE CONTROL | F10: =[1]TK76!F10 -> LGV-BAT76-PV102
A11: 0.01 | D11: =[1]TK76!D11 -> contrôle de la nature du sol | F11: =[1]TK76!F11 -> 0
A12: 0.7 | B12: =[1]TK76!B12 -> 1,0,3 | C12: 1,0,3. Compaction des sols | D12: =[1]TK76!D12 -> test de compaction | E12: =[1]TK76!E12 -> ENTREPRISE GC + CR/SIG + LABORATOIRE SOL | F12: =[1]TK76!F12 -> 0
A13: 0.026 | B13: =[1]TK76!B13 -> 1,0,4 | C13: 1,0,4. MALT fond de fouille | D13: =[1]TK76!D13 -> continuité de la boucle de terre | E13: =[1]TK76!E13 -> ENTREPRISE GC + CR/SIG | F13: =[1]TK76!F13 -> 0
A14: 0.026 | D14: =[1]TK76!D14 -> remontées du câble de fond de fouille | F14: =[1]TK76!F14 -> 0
B15: =[1]TK76!B15 -> 2 | C15: STRUCTURES | D15: =[1]TK76!D15 -> 0 | E15: =[1]TK76!E15 -> 0 | F15: =[1]TK76!F15 -> 0
B16: =[1]TK76!B16 -> 2.1 | C16: Semelles | D16: =[1]TK76!D16 -> 0 | E16: =[1]TK76!E16 -> 0 | F16: =[1]TK76!F16 -> 0
A17: 0.03 | B17: =[1]TK76!B17 -> 2,1,1 | C17: 2,1,1. Coffrages | D17: =[1]TK76!D17 -> dimension, verticalité et linéarité | E17: =[1]TK76!E17 -> ENTREPRISE GC | F17: =[1]TK76!F17 -> 0
A18: 0.03 | B18: =[1]TK76!B18 -> 2,1,2 | C18: 2,1,2. Ferraillages | D18: =[1]TK76!D18 -> contrôle des sections | E18: =[1]TK76!E18 -> ENTREPRISE GC + BUREAU DE CONTROL | F18: =[1]TK76!F18 -> LGV-BAT76PV212
A19: 0.04 | B19: =[1]TK76!B19 -> 2,1,3 | C19: 2,1,3. MALT fond de fouille / structure | D19: =[1]TK76!D19 -> continuité de la boucle de terre | E19: =[1]TK76!E19 -> ENTREPRISE GC + CR/SIG + BUREAU DE CONTROL | F19: =[1]TK76!F19 -> LGV-BAT76PV213
A20: 0.04 | D20: =[1]TK76!D20 -> mesure de la prise de terre | F20: =[1]TK76!F20 -> 0
A21: 0.04 | D21: =[1]TK76!D21 -> mise en œuvre des éléments de la MALT (voir remarque) | F21: =[1]TK76!F21 -> 0
A22: 0.04 | B22: =[1]TK76!B22 -> 2,1,4 | C22: 2,1,4. Essais sur béton frais | D22: =[1]TK76!D22 -> essai d'affaissement | E22: =[1]TK76!E22 -> ENTREPRISE GC + LABORATOIRE SOL | F22: =[1]TK76!F22 -> LGV-BAT76-PV214
A23: 0.44 | B23: =[1]TK76!B23 -> 2,1,5 | C23: 2,1,5. Essais sur béton durci | D23: =[1]TK76!D23 -> essai de résistances mécaniques | E23: =[1]TK76!E23 -> ENTREPRISE GC + LABORATOIRE SOL | F23: =[1]TK76!F23 -> 0
A24: 0.05 | B24: =[1]TK76!B24 -> 2,1,6 | C24: 2,1,6. Décoffrage/utilisation de l'ouvrage | D24: =[1]TK76!D24 -> séchage du béton | E24: =[1]TK76!E24 -> ENTREPRISE GC + CR/SIG | F24: =[1]TK76!F24 -> LGV-BAT76-PV216
A25: 0.05 | B25: =[1]TK76!B25 -> 2,1,7 | C25: 2,1,7. MALT fond de fouille / structure | D25: =[1]TK76!D25 -> mesure de la prise de terre | E25: =[1]TK76!E25 -> ENTREPRISE GC + CR/SIG | F25: =[1]TK76!F25 -> 0
B26: =[1]TK76!B26 -> 0 | D26: =[1]TK76!D26 -> 0 | E26: =[1]TK76!E26 -> 0 | F26: =[1]TK76!F26 -> 0
B27: =[1]TK76!B27 -> 2.2 | C27: Longrines | D27: =[1]TK76!D27 -> 0 | E27: =[1]TK76!E27 -> 0 | F27: =[1]TK76!F27 -> 0
B28: =[1]TK76!B28 -> 0 | C28: Longrines | D28: =[1]TK76!D28 -> 0 | E28: =[1]TK76!E28 -> 0 | F28: =[1]TK76!F28 -> 0
A29: 0.06 | B29: =[1]TK76!B29 -> 2,2,1 | C29: 2,2,1. Ferraillages | D29: =[1]TK76!D29 -> contrôle des sections | E29: =[1]TK76!E29 -> ENTREPRISE GC + BUREAU DE CONTROL | F29: =[1]TK76!F29 -> LGV-BAT76-PV221
A30: 0.03 | B30: =[1]TK76!B30 -> 2,2,2 | C30: 2,2,2. MALT fond de fouille / structure | D30: =[1]TK76!D30 -> continuité de la boucle de terre | E30: =[1]TK76!E30 -> ENTREPRISE GC + CR/SIG + BUREAU DE CONTROL | F30: =[1]TK76!F30 -> 0
A31: 0.03 | D31: =[1]TK76!D31 -> mesure de la prise de terre | F31: =[1]TK76!F31 -> 0
A32: 0.03 | D32: =[1]TK76!D32 -> mise en œuvre des éléments de la MALT (voir remarque) | F32: =[1]TK76!F32 -> 0
A33: 0.06 | B33: =[1]TK76!B33 -> 2,2,3 | C33: 2,2,3. Coffrages | D33: =[1]TK76!D33 -> dimension, verticalité et linéarité | E33: =[1]TK76!E33 -> ENTREPRISE GC | F33: =[1]TK76!F33 -> LGV-BAT76-PV223
A34: 0.06 | B34: =[1]TK76!B34 -> 2,2,4 | C34: 2,2,4. Essais sur béton frais | D34: =[1]TK76!D34 -> essai d'affaissement | E34: =[1]TK76!E34 -> ENTREPRISE GC + LABORATOIRE SOL | F34: =[1]TK76!F34 -> LGV-BAT76-PV224
A35: 0.52 | B35: =[1]TK76!B35 -> 2,2,5 | C35: 2,2,5. Essais sur béton durci | D35: =[1]TK76!D35 -> essai de résistances mécaniques | E35: =[1]TK76!E35 -> ENTREPRISE GC + LABORATOIRE SOL | F35: =[1]TK76!F35 -> 0
A36: 0.08 | B36: =[1]TK76!B36 -> 2,2,6 | C36: 2,2,6. Décoffrage/utilisation de l'ouvrage | D36: =[1]TK76!D36 -> séchage du béton | E36: =[1]TK76!E36 -> ENTREPRISE GC + CR/SIG | F36: =[1]TK76!F36 -> LGV-BAT76-PV226
A37: 0.08 | B37: =[1]TK76!B37 -> 2,2,7 | C37: 2,2,7. MALT fond de fouille / structure | D37: =[1]TK76!D37 -> mesure de la prise de terre | E37: =[1]TK76!E37 -> ENTREPRISE GC + CR/SIG | F37: =[1]TK76!F37 -> 0
B38: =[1]TK76!B38 -> 0 | D38: =[1]TK76!D38 -> 0 | E38: =[1]TK76!E38 -> 0 | F38: =[1]TK76!F38 -> 0
B39: =[1]TK76!B39 -> 2,3,0 | C39: Poteaux raidisseur | D39: =[1]TK76!D39 -> 0 | E39: =[1]TK76!E39 -> 0 | F39: =[1]TK76!F39 -> 0
A40: 0.09 | B40: =[1]TK76!B40 -> 2,3,1 | C40: 2,3,1. Ferraillages | D40: =[1]TK76!D40 -> contrôle des sections | E40: =[1]TK76!E40 -> ENTREPRISE GC + BUREAU DE CONTROL | F40: =[1]TK76!F40 -> 0
A41: 0.09 | B41: =[1]TK76!B41 -> 2,3,2 | C41: 2,3,2. MALT structure | D41: =[1]TK76!D41 -> continuité de la boucle de terre | E41: =[1]TK76!E41 -> ENTREPRISE GC + CR/SIG + BUREAU DE CONTROL | F41: =[1]TK76!F41 -> 0
A42: 0.09 | D42: =[1]TK76!D42 -> mesure de la prise de terre | F42: =[1]TK76!F42 -> 0
A43: 0.09 | D43: =[1]TK76!D43 -> mise en œuvre des éléments de la MALT (voir remarque) | F43: =[1]TK76!F43 -> 0
A44: 0.09 | B44: =[1]TK76!B44 -> 2,3,3 | C44: 2,3,3. Coffrages | D44: =[1]TK76!D44 -> dimension, verticalité et linéarité | E44: =[1]TK76!E44 -> ENTREPRISE GC | F44: =[1]TK76!F44 -> 0
A45: 0.1 | B45: =[1]TK76!B45 -> 2,3,4 | C45: 2,3,4. Essais sur béton frais | D45: =[1]TK76!D45 -> essai d'affaissement | E45: =[1]TK76!E45 -> ENTREPRISE GC + LABORATOIRE SOL | F45: =[1]TK76!F45 -> 0
A46: 0.57 | B46: =[1]TK76!B46 -> 2,3,5 | C46: 2,3,5. Essais sur béton durci | D46: =[1]TK76!D46 -> essai de résistances mécaniques | E46: =[1]TK76!E46 -> ENTREPRISE GC + LABORATOIRE SOL | F46: =[1]TK76!F46 -> 0
A47: 0.13 | B47: =[1]TK76!B47 -> 2,3,6 | C47: 2,3,6. Décoffrage/utilisation de l'ouvrage | D47: =[1]TK76!D47 -> séchage du béton | E47: =[1]TK76!E47 -> ENTREPRISE GC + CR/SIG | F47: =[1]TK76!F47 -> 0
A48: 0.13 | B48: =[1]TK76!B48 -> 2,3,7 | C48: 2,3,7. MALT structure | D48: =[1]TK76!D48 -> mesure de la prise de terre | E48: =[1]TK76!E48 -> ENTREPRISE GC + CR/SIG | F48: =[1]TK76!F48 -> 0
B49: =[1]TK76!B49 -> 0 | D49: =[1]TK76!D49 -> 0 | E49: =[1]TK76!E49 -> 0 | F49: =[1]TK76!F49 -> 0
B50: =[1]TK76!B50 -> 2,4,0 | C50: Chainages et linteaux | D50: =[1]TK76!D50 -> 0 | E50: =[1]TK76!E50 -> 0 | F50: =[1]TK76!F50 -> 0
A51: 0.22 | B51: =[1]TK76!B51 -> 2,4,1 | C51: 2,4,1. Ferraillages | D51: =[1]TK76!D51 -> contrôle des sections | E51: =[1]TK76!E51 -> ENTREPRISE GC + BUREAU DE CONTROL | F51: =[1]TK76!F51 -> LGV-BAT76PV241
A52: 0.22 | B52: =[1]TK76!B52 -> 2,4,2 | C52: 2,4,2. MALT structure | D52: =[1]TK76!D52 -> continuité de la boucle de terre | E52: =[1]TK76!E52 -> ENTREPRISE GC + CR/SIG + BUREAU DE CONTROL | F52: =[1]TK76!F52 -> 0
A53: 0.22 | D53: =[1]TK76!D53 -> mesure de la prise de terre | F53: =[1]TK76!F53 -> 0
A54: 0.22 | D54: =[1]TK76!D54 -> mise en œuvre des éléments de la MALT (voir remarque) | F54: =[1]TK76!F54 -> 0
A55: 0.22 | B55: =[1]TK76!B55 -> 2,4,3 | C55: 2,4,3. Coffrages | D55: =[1]TK76!D55 -> dimension, verticalité et linéarité | E55: =[1]TK76!E55 -> ENTREPRISE GC | F55: =[1]TK76!F55 -> 0
A56: 0.23 | B56: =[1]TK76!B56 -> 2,4,4 | C56: 2,4,4. Essais sur béton frais | D56: =[1]TK76!D56 -> essai d'affaissement | E56: =[1]TK76!E56 -> ENTREPRISE GC + LABORATOIRE SOL | F56: =[1]TK76!F56 -> 0
A57: 0.61 | B57: =[1]TK76!B57 -> 2,4,5 | C57: 2,4,5. Essais sur béton durci | D57: =[1]TK76!D57 -> essai de résistances mécaniques | E57: =[1]TK76!E57 -> ENTREPRISE GC + LABORATOIRE SOL | F57: =[1]TK76!F57 -> 0
A58: 0.32 | B58: =[1]TK76!B58 -> 2,4,6 | C58: 2,4,6. Décoffrage/utilisation de l'ouvrage | D58: =[1]TK76!D58 -> séchage du béton | E58: =[1]TK76!E58 -> ENTREPRISE GC + CR/SIG | F58: =[1]TK76!F58 -> 0
A59: 0.32 | B59: =[1]TK76!B59 -> 2,4,7 | C59: 2,4,7. MALT structure | D59: =[1]TK76!D59 -> mesure de la prise de terre | E59: =[1]TK76!E59 -> ENTREPRISE GC + CR/SIG | F59: =[1]TK76!F59 -> 0
B60: =[1]TK76!B60 -> 0 | D60: =[1]TK76!D60 -> 0 | E60: =[1]TK76!E60 -> 0 | F60: =[1]TK76!F60 -> 0
B61: =[1]TK76!B61 -> 2,5,0 | C61: Poutres | D61: =[1]TK76!D61 -> 0 | E61: =[1]TK76!E61 -> 0 | F61: =[1]TK76!F61 -> 0
A62: 0.33 | B62: =[1]TK76!B62 -> 2,5,1 | C62: 2,5,1. Ferraillages | D62: =[1]TK76!D62 -> contrôle des sections | E62: =[1]TK76!E62 -> ENTREPRISE GC + BUREAU DE CONTROL | F62: =[1]TK76!F62 -> 0
A63: 0.33 | B63: =[1]TK76!B63 -> 2,5,2 | C63: 2,5,2. MALT structure | D63: =[1]TK76!D63 -> continuité de la boucle de terre | E63: =[1]TK76!E63 -> ENTREPRISE GC + CR/SIG + BUREAU DE CONTROL | F63: =[1]TK76!F63 -> 0
A64: 0.33 | D64: =[1]TK76!D64 -> mesure de la prise de terre | F64: =[1]TK76!F64 -> 0
A65: 0.33 | D65: =[1]TK76!D65 -> mise en œuvre des éléments de la MALT (voir remarque) | F65: =[1]TK76!F65 -> 0
A66: 0.33 | B66: =[1]TK76!B66 -> 2,5,3 | C66: 2,5,3. Coffrages | D66: =[1]TK76!D66 -> dimension, verticalité et linéarité | E66: =[1]TK76!E66 -> ENTREPRISE GC | F66: =[1]TK76!F66 -> 0
A67: 0.35 | B67: =[1]TK76!B67 -> 2,5,4 | C67: 2,5,4. Essais sur béton frais | D67: =[1]TK76!D67 -> essai d'affaissement | E67: =[1]TK76!E67 -> ENTREPRISE GC + LABORATOIRE SOL | F67: =[1]TK76!F67 -> 0
A68: 0.61 | B68: =[1]TK76!B68 -> 2,5,5 | C68: 2,5,5. Essais sur béton durci | D68: =[1]TK76!D68 -> essai de résistances mécaniques | E68: =[1]TK76!E68 -> ENTREPRISE GC + LABORATOIRE SOL | F68: =[1]TK76!F68 -> 0
A69: 0.33 | B69: =[1]TK76!B69 -> 2,5,6 | C69: 2,5,6. Décoffrage/utilisation de l'ouvrage | D69: =[1]TK76!D69 -> séchage du béton | E69: =[1]TK76!E69 -> ENTREPRISE GC + CR/SIG | F69: =[1]TK76!F69 -> 0
A70: 0.34 | B70: =[1]TK76!B70 -> 2,5,7 | C70: 2,5,7. MALT structure | D70: =[1]TK76!D70 -> mesure de la prise de terre | E70: =[1]TK76!E70 -> ENTREPRISE GC + CR/SIG | F70: =[1]TK76!F70 -> 0
B71: =[1]TK76!B71 -> 0 | D71: =[1]TK76!D71 -> 0 | E71: =[1]TK76!E71 -> 0 | F71: =[1]TK76!F71 -> 0
B72: =[1]TK76!B72 -> 2,6,0 | C72: Acrotères | D72: =[1]TK76!D72 -> 0 | E72: =[1]TK76!E72 -> 0 | F72: =[1]TK76!F72 -> 0
A73: 0.44 | B73: =[1]TK76!B73 -> 2,6,1 | C73: 2,6,1. Ferraillages | D73: =[1]TK76!D73 -> contrôle des sections | E73: =[1]TK76!E73 -> ENTREPRISE GC + BUREAU DE CONTROL | F73: =[1]TK76!F73 -> 0
A74: 0.44 | B74: =[1]TK76!B74 -> 2,6,2 | C74: 2,6,2. MALT structure | D74: =[1]TK76!D74 -> continuité de la boucle de terre | E74: =[1]TK76!E74 -> ENTREPRISE GC + CR/SIG + BUREAU DE CONTROL | F74: =[1]TK76!F74 -> 0
A75: 0.44 | D75: =[1]TK76!D75 -> mesure de la prise de terre | F75: =[1]TK76!F75 -> 0
A76: 0.44 | D76: =[1]TK76!D76 -> mise en œuvre des éléments de la MALT (voir remarque) | F76: =[1]TK76!F76 -> 0
A77: 0.44 | B77: =[1]TK76!B77 -> 2,6,3 | C77: 2,6,3. Coffrages | D77: =[1]TK76!D77 -> dimention, verticalité et linéarité | E77: =[1]TK76!E77 -> ENTREPRISE GC | F77: =[1]TK76!F77 -> 0
A78: 0.45 | B78: =[1]TK76!B78 -> 2,6,4 | C78: 2,6,4. Essais sur béton frais | D78: =[1]TK76!D78 -> essai d'affaissement | E78: =[1]TK76!E78 -> ENTREPRISE GC + LABORATOIRE SOL | F78: =[1]TK76!F78 -> 0
A79: 0.74 | B79: =[1]TK76!B79 -> 2,6,5 | C79: 2,6,5. Essais sur béton durci | D79: =[1]TK76!D79 -> essai de résistances mécaniques | E79: =[1]TK76!E79 -> ENTREPRISE GC + LABORATOIRE SOL | F79: =[1]TK76!F79 -> 0
A80: 0.48 | B80: =[1]TK76!B80 -> 2,6,6 | C80: 2,6,6. Decofrage/utilisation de l'ouvrage | D80: =[1]TK76!D80 -> séchage du béton | E80: =[1]TK76!E80 -> ENTREPRISE GC + CR/SIG | F80: =[1]TK76!F80 -> 0
A81: 0.48 | B81: =[1]TK76!B81 -> 2,6,7 | C81: 2,6,7. MALT structure | D81: =[1]TK76!D81 -> mesure de la prise de terre | E81: =[1]TK76!E81 -> ENTREPRISE GC + CR/SIG | F81: =[1]TK76!F81 -> 0
B82: =[1]TK76!B82 -> 0 | D82: =[1]TK76!D82 -> 0 | E82: =[1]TK76!E82 -> 0 | F82: =[1]TK76!F82 -> 0
B83: =[1]TK76!B83 -> 3 | C83: DALLES | D83: =[1]TK76!D83 -> 0 | E83: =[1]TK76!E83 -> 0 | F83: =[1]TK76!F83 -> 0
A84: 0.09 | B84: =[1]TK76!B84 -> 3,0,1 | C84: 3,0,1. Réseaux sous dallage | D84: =[1]TK76!D84 -> positionement des reseaux sous dallage | E84: =[1]TK76!E84 -> ENTREPRISE GC | F84: =[1]TK76!F84 -> 0
A85: 0.65 | B85: =[1]TK76!B85 -> 3,0,2 | C85: 3,0,2. Compaction des sols | D85: =[1]TK76!D85 -> test de compaction | E85: =[1]TK76!E85 -> ENTREPRISE GC + LABORATOIRE SOL | F85: =[1]TK76!F85 -> 0
A86: 0.74 | B86: =[1]TK76!B86 -> 3,0,3 | C86: 3,0,3. Coffrages | D86: =[1]TK76!D86 -> dimention, verticalité et linéarité | E86: =[1]TK76!E86 -> ENTREPRISE GC | F86: =[1]TK76!F86 -> 0
A87: 0.74 | B87: =[1]TK76!B87 -> 3,0,4 | C87: 3,0,4. Ferraillages | D87: =[1]TK76!D87 -> contrôle des sections | E87: =[1]TK76!E87 -> ENTREPRISE GC + BUREAU DE CONTROL | F87: =[1]TK76!F87 -> 0
A88: 0.74 | B88: =[1]TK76!B88 -> 3,0,5 | C88: 3,0,5. MALT dalle sur radier | D88: =[1]TK76!D88 -> continuité de la boucle de terre | E88: =[1]TK76!E88 -> ENTREPRISE GC + CR/SIG + BUREAU DE CONTROL | F88: =[1]TK76!F88 -> 0
A89: 0.74 | D89: =[1]TK76!D89 -> mesure de la prise de terre | F89: =[1]TK76!F89 -> 0
A90: 0.74 | D90: =[1]TK76!D90 -> mise en œuvre des éléments de la MALT (voir remarque) | F90: =[1]TK76!F90 -> 0
A91: 0.74 | B91: =[1]TK76!B91 -> 3,0,6 | C91: 3,0,6.Essais sur béton frais | D91: =[1]TK76!D91 -> essai d'affaissement | E91: =[1]TK76!E91 -> ENTREPRISE GC + LABORATOIRE SOL | F91: =[1]TK76!F91 -> 0
A92: 0.83 | B92: =[1]TK76!B92 -> 3,0,7 | C92: 3,0,7.Essais sur béton durci | D92: =[1]TK76!D92 -> essai de résistances mécaniques | E92: =[1]TK76!E92 -> ENTREPRISE GC + LABORATOIRE SOL | F92: =[1]TK76!F92 -> 0
A93: 0.76 | B93: =[1]TK76!B93 -> 3,0,8 | C93: 3,0,8. Finition de la dalle | D93: =[1]TK76!D93 -> finition et planimétrie | E93: =[1]TK76!E93 -> ENTREPRISE GC + CR/SIG | F93: =[1]TK76!F93 -> 0
A94: 0.76 | B94: =[1]TK76!B94 -> 3,0,9 | C94: 3,0,9. Décoffrage/utilisation de l'ouvrage | D94: =[1]TK76!D94 -> séchage du béton | E94: =[1]TK76!E94 -> ENTREPRISE GC + CR/SIG | F94: =[1]TK76!F94 -> 0
A95: 0.76 | B95: =[1]TK76!B95 -> 3,0,10 | C95: 3,0,10. MALT dalle sur radier | D95: =[1]TK76!D95 -> mesure de la prise de terre | E95: =[1]TK76!E95 -> ENTREPRISE GC + CR/SIG | F95: =[1]TK76!F95 -> 0
B96: =[1]TK76!B96 -> 0 | D96: =[1]TK76!D96 -> 0 | E96: =[1]TK76!E96 -> 0 | F96: =[1]TK76!F96 -> 0
B97: =[1]TK76!B97 -> 0 | D97: =[1]TK76!D97 -> 0 | E97: =[1]TK76!E97 -> 0 | F97: =[1]TK76!F97 -> 0
B98: =[1]TK76!B98 -> 0 | D98: =[1]TK76!D98 -> 0 | E98: =[1]TK76!E98 -> 0 | F98: =[1]TK76!F98 -> 0
B99: =[1]TK76!B99 -> 0 | D99: =[1]TK76!D99 -> 0 | E99: =[1]TK76!E99 -> 0 | F99: =[1]TK76!F99 -> 0
B100: =[1]TK76!B100 -> 0 | D100: =[1]TK76!D100 -> 0 | E100: =[1]TK76!E100 -> 0 | F100: =[1]TK76!F100 -> 0
B101: =[1]TK76!B101 -> 4 | C101: PLANCHERS | D101: =[1]TK76!D101 -> 0 | E101: =[1]TK76!E101 -> 0 | F101: =[1]TK76!F101 -> 0
...

Sheet TK99
B1: =[2]TK99!B1 -> 0 | C1: =[2]TK99!C1 -> 0 | D1: =[2]TK99!D1 -> 0 | E1: =[2]TK99!E1 -> 0 | F1: =[2]TK99!F1 -> 0
B2: =[2]TK99!B2 -> PV & FC du bâtiment LGV TK 99
B3: =[2]TK99!B3 -> 0 | C3: =[2]TK99!C3 -> 0 | D3: =[2]TK99!D3 -> 0 | E3: =[2]TK99!E3 -> 0 | F3: =[2]TK99!F3 -> 0
A4: Avancement | B4: =[2]TK99!B4 -> Tache | C4: =[2]TK99!C4 -> Contrôles réalisés | D4: =[2]TK99!D4 -> Contrôles réalisés | E4: =[2]TK99!E4 -> Entités réalisant les contrôles | F4: =[2]TK99!F4 -> PV ou FC | G4: =87/100 -> 0.87
B6: =[2]TK99!B6 -> 0 | C6: =[2]TK99!C6 -> Mise a disposition plateforme 1 LGV TK 99 | D6: =[2]TK99!D6 -> 0 | E6: =[2]TK99!E6 -> 0 | F6: =[2]TK99!F6 -> LGV-BAT99-MISE A DISPOSITION 1
B7: =[2]TK99!B7 -> 0 | C7: =[2]TK99!C7 -> Mise a disposition plateforme 2 LGV TK 99 | D7: =[2]TK99!D7 -> 0 | E7: =[2]TK99!E7 -> 0 | F7: =[2]TK99!F7 -> LGV-BAT99-MISE A DISPOSITION 2
B8: =[2]TK99!B8 -> 1 | C8: =[3]TK111!C8 -> TERRASSEMENT | D8: =[2]TK99!D8 -> 0 | E8: =[2]TK99!E8 -> 0 | F8: =[2]TK99!F8 -> 0
B9: =[2]TK99!B9 -> 1,0,1 | C9: =[3]TK111!C9 -> 1,0,1. Implantation du bâtiment | D9: =[2]TK99!D9 -> écarts d'implantation | E9: =[2]TK99!E9 -> ENTREPRISE GC + GEOMETRE + CR SIG | F9: =[2]TK99!F9 -> LGV-BAT124-PV101
A10: 0.01 | B10: =[2]TK99!B10 -> 1,0,2 | C10: =[3]TK111!C10 -> 1,0,2. Fond de fouille | D10: =[2]TK99!D10 -> contrôle des dimensions | E10: =[2]TK99!E10 -> ENTREPRISE GC + LABORATOIRE SOL + BUREAU DE CONTROL | F10: =[2]TK99!F10 -> LGV-BAT124-PV102
A11: 0.01 | D11: =[2]TK99!D11 -> contrôle de la nature du sol | F11: =[2]TK99!F11 -> 0
A12: 0.7 | B12: =[2]TK99!B12 -> 1,0,3 | C12: =[3]TK111!C12 -> 1,0,3. Compaction des sols | D12: =[2]TK99!D12 -> test de compaction | E12: =[2]TK99!E12 -> ENTREPRISE GC + CR/SIG + LABORATOIRE SOL | F12: =[2]TK99!F12 -> LGV-BAT124-PV103
A13: 0.026 | B13: =[2]TK99!B13 -> 1,0,4 | C13: =[3]TK111!C13 -> 1,0,4. MALT fond de fouille | D13: =[2]TK99!D13 -> continuité de la boucle de terre | E13: =[2]TK99!E13 -> ENTREPRISE GC + CR/SIG | F13: =[2]TK99!F13 -> 0
A14: 0.026 | D14: =[2]TK99!D14 -> remontées du câble de fond de fouille | F14: =[2]TK99!F14 -> 0
B15: =[2]TK99!B15 -> 2 | C15: =[3]TK111!C15 -> STRUCTURES | D15: =[2]TK99!D15 -> 0 | E15: =[2]TK99!E15 -> 0 | F15: =[2]TK99!F15 -> 0
B16: =[2]TK99!B16 -> 2.1 | C16: =[3]TK111!C16 -> Semelles | D16: =[2]TK99!D16 -> 0 | E16: =[2]TK99!E16 -> 0 | F16: =[2]TK99!F16 -> 0
A17: 0.03 | B17: =[2]TK99!B17 -> 2,1,1 | C17: =[3]TK111!C17 -> 2,1,1. Coffrages | D17: =[2]TK99!D17 -> dimension, verticalité et linéarité | E17: =[2]TK99!E17 -> ENTREPRISE GC | F17: =[2]TK99!F17 -> LGV-BAT124PV211
A18: 0.03 | B18: =[2]TK99!B18 -> 2,1,2 | C18: =[3]TK111!C18 -> 2,1,2. Ferraillages | D18: =[2]TK99!D18 -> contrôle des sections | E18: =[2]TK99!E18 -> ENTREPRISE GC + BUREAU DE CONTROL | F18: =[2]TK99!F18 -> LGV-BAT124PV212
A19: 0.04 | B19: =[2]TK99!B19 -> 2,1,3 | C19: =[3]TK111!C19 -> 2,1,3. MALT fond de fouille / structure | D19: =[2]TK99!D19 -> continuité de la boucle de terre | E19: =[2]TK99!E19 -> ENTREPRISE GC + CR/SIG + BUREAU DE CONTROL | F19: =[2]TK99!F19 -> LGV-BAT124PV213
A20: 0.04 | D20: =[2]TK99!D20 -> mesure de la prise de terre | F20: =[2]TK99!F20 -> 0
A21: 0.04 | D21: =[2]TK99!D21 -> mise en œuvre des éléments de la MALT (voir remarque) | F21: =[2]TK99!F21 -> 0
A22: 0.04 | B22: =[2]TK99!B22 -> 2,1,4 | C22: =[3]TK111!C22 -> 2,1,4. Essais sur béton frais | D22: =[2]TK99!D22 -> essai d'affaissement | E22: =[2]TK99!E22 -> ENTREPRISE GC + LABORATOIRE SOL | F22: =[2]TK99!F22 -> LGV-BAT124-PV214
A23: 0.44 | B23: =[2]TK99!B23 -> 2,1,5 | C23: =[3]TK111!C23 -> 2,1,5. Essais sur béton durci | D23: =[2]TK99!D23 -> essai de résistances mécaniques | E23: =[2]TK99!E23 -> ENTREPRISE GC + LABORATOIRE SOL | F23: =[2]TK99!F23 -> 0
A24: 0.05 | B24: =[2]TK99!B24 -> 2,1,6 | C24: =[3]TK111!C24 -> 2,1,6. Décoffrage/utilisation de l'ouvrage | D24: =[2]TK99!D24 -> séchage du béton | E24: =[2]TK99!E24 -> ENTREPRISE GC + CR/SIG | F24: =[2]TK99!F24 -> LGV-BAT124-PV216
A25: 0.05 | B25: =[2]TK99!B25 -> 2,1,7 | C25: =[3]TK111!C25 -> 2,1,7. MALT fond de fouille / structure | D25: =[2]TK99!D25 -> mesure de la prise de terre | E25: =[2]TK99!E25 -> ENTREPRISE GC + CR/SIG | F25: =[2]TK99!F25 -> 0
B26: =[2]TK99!B26 -> 0 | C26: =[3]TK111!C26 -> 0 | D26: =[2]TK99!D26 -> 0 | E26: =[2]TK99!E26 -> 0 | F26: =[2]TK99!F26 -> 0
B27: =[2]TK99!B27 -> 2.2 | C27: =[3]TK111!C27 -> Longrines | D27: =[2]TK99!D27 -> 0 | E27: =[2]TK99!E27 -> 0 | F27: =[2]TK99!F27 -> 0
B28: =[2]TK99!B28 -> 0 | C28: =[3]TK111!C28 -> Longrines | D28: =[2]TK99!D28 -> 0 | E28: =[2]TK99!E28 -> 0 | F28: =[2]TK99!F28 -> 0
A29: 0.06 | B29: =[2]TK99!B29 -> 2,2,1 | C29: =[3]TK111!C29 -> 2,2,1. Ferraillages | D29: =[2]TK99!D29 -> contrôle des sections | E29: =[2]TK99!E29 -> ENTREPRISE GC + BUREAU DE CONTROL | F29: =[2]TK99!F29 -> LGV-BAT124-PV221
A30: 0.03 | B30: =[2]TK99!B30 -> 2,2,2 | C30: =[3]TK111!C30 -> 2,2,2. MALT fond de fouille / structure | D30: =[2]TK99!D30 -> continuité de la boucle de terre | E30: =[2]TK99!E30 -> ENTREPRISE GC + CR/SIG + BUREAU DE CONTROL | F30: =[2]TK99!F30 -> LGV-BAT124-PV222
A31: 0.03 | D31: =[2]TK99!D31 -> mesure de la prise de terre | F31: =[2]TK99!F31 -> 0
A32: 0.03 | D32: =[2]TK99!D32 -> mise en œuvre des éléments de la MALT (voir remarque) | F32: =[2]TK99!F32 -> 0
A33: 0.06 | B33: =[2]TK99!B33 -> 2,2,3 | C33: =[3]TK111!C33 -> 2,2,3. Coffrages | D33: =[2]TK99!D33 -> dimension, verticalité et linéarité | E33: =[2]TK99!E33 -> ENTREPRISE GC | F33: =[2]TK99!F33 -> 0
A34: 0.06 | B34: =[2]TK99!B34 -> 2,2,4 | C34: =[3]TK111!C34 -> 2,2,4. Essais sur béton frais | D34: =[2]TK99!D34 -> essai d'affaissement | E34: =[2]TK99!E34 -> ENTREPRISE GC + LABORATOIRE SOL | F34: =[2]TK99!F34 -> LGV-BAT124-PV224
A35: 0.52 | B35: =[2]TK99!B35 -> 2,2,5 | C35: =[3]TK111!C35 -> 2,2,5. Essais sur béton durci | D35: =[2]TK99!D35 -> essai de résistances mécaniques | E35: =[2]TK99!E35 -> ENTREPRISE GC + LABORATOIRE SOL | F35: =[2]TK99!F35 -> 0
A36: 0.08 | B36: =[2]TK99!B36 -> 2,2,6 | C36: =[3]TK111!C36 -> 2,2,6. Décoffrage/utilisation de l'ouvrage | D36: =[2]TK99!D36 -> séchage du béton | E36: =[2]TK99!E36 -> ENTREPRISE GC + CR/SIG | F36: =[2]TK99!F36 -> LGV-BAT124-PV226
A37: 0.08 | B37: =[2]TK99!B37 -> 2,2,7 | C37: =[3]TK111!C37 -> 2,2,7. MALT fond de fouille / structure | D37: =[2]TK99!D37 -> mesure de la prise de terre | E37: =[2]TK99!E37 -> ENTREPRISE GC + CR/SIG | F37: =[2]TK99!F37 -> 0
B38: =[2]TK99!B38 -> 0 | C38: =[3]TK111!C38 -> 0 | D38: =[2]TK99!D38 -> 0 | E38: =[2]TK99!E38 -> 0 | F38: =[2]TK99!F38 -> 0
B39: =[2]TK99!B39 -> 2,3,0 | C39: =[3]TK111!C39 -> Poteaux raidisseur | D39: =[2]TK99!D39 -> 0 | E39: =[2]TK99!E39 -> 0 | F39: =[2]TK99!F39 -> 0
A40: 0.09 | B40: =[2]TK99!B40 -> 2,3,1 | C40: =[3]TK111!C40 -> 2,3,1. Ferraillages | D40: =[2]TK99!D40 -> contrôle des sections | E40: =[2]TK99!E40 -> ENTREPRISE GC + BUREAU DE CONTROL | F40: =[2]TK99!F40 -> LGV-BAT124PV231
A41: 0.09 | B41: =[2]TK99!B41 -> 2,3,2 | C41: =[3]TK111!C41 -> 2,3,2. MALT structure | D41: =[2]TK99!D41 -> continuité de la boucle de terre | E41: =[2]TK99!E41 -> ENTREPRISE GC + CR/SIG + BUREAU DE CONTROL | F41: =[2]TK99!F41 -> LGV-BAT124PV232
A42: 0.09 | D42: =[2]TK99!D42 -> mesure de la prise de terre | F42: =[2]TK99!F42 -> 0
A43: 0.09 | D43: =[2]TK99!D43 -> mise en œuvre des éléments de la MALT (voir remarque) | F43: =[2]TK99!F43 -> 0
A44: 0.09 | B44: =[2]TK99!B44 -> 2,3,3 | C44: =[3]TK111!C44 -> 2,3,3. Coffrages | D44: =[2]TK99!D44 -> dimension, verticalité et linéarité | E44: =[2]TK99!E44 -> ENTREPRISE GC | F44: =[2]TK99!F44 -> LGV-BAT124PV233
A45: 0.1 | B45: =[2]TK99!B45 -> 2,3,4 | C45: =[3]TK111!C45 -> 2,3,4. Essais sur béton frais | D45: =[2]TK99!D45 -> essai d'affaissement | E45: =[2]TK99!E45 -> ENTREPRISE GC + LABORATOIRE SOL | F45: =[2]TK99!F45 -> LGV-BAT124PV234
A46: 0.57 | B46: =[2]TK99!B46 -> 2,3,5 | C46: =[3]TK111!C46 -> 2,3,5. Essais sur béton durci | D46: =[2]TK99!D46 -> essai de résistances mécaniques | E46: =[2]TK99!E46 -> ENTREPRISE GC + LABORATOIRE SOL | F46: =[2]TK99!F46 -> 0
A47: 0.13 | B47: =[2]TK99!B47 -> 2,3,6 | C47: =[3]TK111!C47 -> 2,3,6. Décoffrage/utilisation de l'ouvrage | D47: =[2]TK99!D47 -> séchage du béton | E47: =[2]TK99!E47 -> ENTREPRISE GC + CR/SIG | F47: =[2]TK99!F47 -> 0
A48: 0.13 | B48: =[2]TK99!B48 -> 2,3,7 | C48: =[3]TK111!C48 -> 2,3,7. MALT structure | D48: =[2]TK99!D48 -> mesure de la prise de terre | E48: =[2]TK99!E48 -> ENTREPRISE GC + CR/SIG | F48: =[2]TK99!F48 -> 0
B49: =[2]TK99!B49 -> 0 | C49: =[3]TK111!C49 -> 0 | D49: =[2]TK99!D49 -> 0 | E49: =[2]TK99!E49 -> 0 | F49: =[2]TK99!F49 -> 0
B50: =[2]TK99!B50 -> 2,4,0 | C50: =[3]TK111!C50 -> Chainages et linteaux | D50: =[2]TK99!D50 -> 0 | E50: =[2]TK99!E50 -> 0 | F50: =[2]TK99!F50 -> 0
A51: 0.22 | B51: =[2]TK99!B51 -> 2,4,1 | C51: =[3]TK111!C51 -> 2,4,1. Ferraillages | D51: =[2]TK99!D51 -> contrôle des sections | E51: =[2]TK99!E51 -> ENTREPRISE GC + BUREAU DE CONTROL | F51: =[2]TK99!F51 -> LGV-BAT124PV241
A52: 0.22 | B52: =[2]TK99!B52 -> 2,4,2 | C52: =[3]TK111!C52 -> 2,4,2. MALT structure | D52: =[2]TK99!D52 -> continuité de la boucle de terre | E52: =[2]TK99!E52 -> ENTREPRISE GC + CR/SIG + BUREAU DE CONTROL | F52: =[2]TK99!F52 -> LGV-BAT124PV242
A53: 0.22 | D53: =[2]TK99!D53 -> mesure de la prise de terre | F53: =[2]TK99!F53 -> 0
A54: 0.22 | D54: =[2]TK99!D54 -> mise en œuvre des éléments de la MALT (voir remarque) | F54: =[2]TK99!F54 -> 0
A55: 0.22 | B55: =[2]TK99!B55 -> 2,4,3 | C55: =[3]TK111!C55 -> 2,4,3. Coffrages | D55: =[2]TK99!D55 -> dimension, verticalité et linéarité | E55: =[2]TK99!E55 -> ENTREPRISE GC | F55: =[2]TK99!F55 -> LGV-BAT124PV243
A56: 0.23 | B56: =[2]TK99!B56 -> 2,4,4 | C56: =[3]TK111!C56 -> 2,4,4. Essais sur béton frais | D56: =[2]TK99!D56 -> essai d'affaissement | E56: =[2]TK99!E56 -> ENTREPRISE GC + LABORATOIRE SOL | F56: =[2]TK99!F56 -> LGV-BAT124PV244
A57: 0.61 | B57: =[2]TK99!B57 -> 2,4,5 | C57: =[3]TK111!C57 -> 2,4,5. Essais sur béton durci | D57: =[2]TK99!D57 -> essai de résistances mécaniques | E57: =[2]TK99!E57 -> ENTREPRISE GC + LABORATOIRE SOL | F57: =[2]TK99!F57 -> 0
A58: 0.32 | B58: =[2]TK99!B58 -> 2,4,6 | C58: =[3]TK111!C58 -> 2,4,6. Décoffrage/utilisation de l'ouvrage | D58: =[2]TK99!D58 -> séchage du béton | E58: =[2]TK99!E58 -> ENTREPRISE GC + CR/SIG | F58: =[2]TK99!F58 -> LGV-BAT124PV246
A59: 0.32 | B59: =[2]TK99!B59 -> 2,4,7 | C59: =[3]TK111!C59 -> 2,4,7. MALT structure | D59: =[2]TK99!D59 -> mesure de la prise de terre | E59: =[2]TK99!E59 -> ENTREPRISE GC + CR/SIG | F59: =[2]TK99!F59 -> 0
B60: =[2]TK99!B60 -> 0 | C60: =[3]TK111!C60 -> 0 | D60: =[2]TK99!D60 -> 0 | E60: =[2]TK99!E60 -> 0 | F60: =[2]TK99!F60 -> 0
B61: =[2]TK99!B61 -> 2,5,0 | C61: =[3]TK111!C61 -> Poutres | D61: =[2]TK99!D61 -> 0 | E61: =[2]TK99!E61 -> 0 | F61: =[2]TK99!F61 -> 0
A62: 0.33 | B62: =[2]TK99!B62 -> 2,5,1 | C62: =[3]TK111!C62 -> 2,5,1. Ferraillages | D62: =[2]TK99!D62 -> contrôle des sections | E62: =[2]TK99!E62 -> ENTREPRISE GC + BUREAU DE CONTROL | F62: =[2]TK99!F62 -> 0
A63: 0.33 | B63: =[2]TK99!B63 -> 2,5,2 | C63: =[3]TK111!C63 -> 2,5,2. MALT structure | D63: =[2]TK99!D63 -> continuité de la boucle de terre | E63: =[2]TK99!E63 -> ENTREPRISE GC + CR/SIG + BUREAU DE CONTROL | F63: =[2]TK99!F63 -> 0
A64: 0.33 | D64: =[2]TK99!D64 -> mesure de la prise de terre | F64: =[2]TK99!F64 -> 0
A65: 0.33 | D65: =[2]TK99!D65 -> mise en œuvre des éléments de la MALT (voir remarque) | F65: =[2]TK99!F65 -> 0
A66: 0.33 | B66: =[2]TK99!B66 -> 2,5,3 | C66: =[3]TK111!C66 -> 2,5,3. Coffrages | D66: =[2]TK99!D66 -> dimension, verticalité et linéarité | E66: =[2]TK99!E66 -> ENTREPRISE GC | F66: =[2]TK99!F66 -> 0
A67: 0.35 | B67: =[2]TK99!B67 -> 2,5,4 | C67: =[3]TK111!C67 -> 2,5,4. Essais sur béton frais | D67: =[2]TK99!D67 -> essai d'affaissement | E67: =[2]TK99!E67 -> ENTREPRISE GC + LABORATOIRE SOL | F67: =[2]TK99!F67 -> 0
A68: 0.61 | B68: =[2]TK99!B68 -> 2,5,5 | C68: =[3]TK111!C68 -> 2,5,5. Essais sur béton durci | D68: =[2]TK99!D68 -> essai de résistances mécaniques | E68: =[2]TK99!E68 -> ENTREPRISE GC + LABORATOIRE SOL | F68: =[2]TK99!F68 -> 0
A69: 0.33 | B69: =[2]TK99!B69 -> 2,5,6 | C69: =[3]TK111!C69 -> 2,5,6. Décoffrage/utilisation de l'ouvrage | D69: =[2]TK99!D69 -> séchage du béton | E69: =[2]TK99!E69 -> ENTREPRISE GC + CR/SIG | F69: =[2]TK99!F69 -> 0
A70: 0.34 | B70: =[2]TK99!B70 -> 2,5,7 | C70: =[3]TK111!C70 -> 2,5,7. MALT structure | D70: =[2]TK99!D70 -> mesure de la prise de terre | E70: =[2]TK99!E70 -> ENTREPRISE GC + CR/SIG | F70: =[2]TK99!F70 -> 0
B71: =[2]TK99!B71 -> 0 | C71: =[3]TK111!C71 -> 0 | D71: =[2]TK99!D71 -> 0 | E71: =[2]TK99!E71 -> 0 | F71: =[2]TK99!F71 -> 0
B72: =[2]TK99!B72 -> 2,6,0 | C72: =[3]TK111!C72 -> Acrotères | D72: =[2]TK99!D72 -> 0 | E72: =[2]TK99!E72 -> 0 | F72: =[2]TK99!F72 -> 0
A73: 0.44 | B73: =[2]TK99!B73 -> 2,6,1 | C73: =[3]TK111!C73 -> 2,6,1. Ferraillages | D73: =[2]TK99!D73 -> contrôle des sections | E73: =[2]TK99!E73 -> ENTREPRISE GC + BUREAU DE CONTROL | F73: =[2]TK99!F73 -> LGV-BAT124-PV261
A74: 0.44 | B74: =[2]TK99!B74 -> 2,6,2 | C74: =[3]TK111!C74 -> 2,6,2. MALT structure | D74: =[2]TK99!D74 -> continuité de la boucle de terre | E74: =[2]TK99!E74 -> ENTREPRISE GC + CR/SIG + BUREAU DE CONTROL | F74: =[2]TK99!F74 -> LGV-BAT124-PV262
A75: 0.44 | D75: =[2]TK99!D75 -> mesure de la prise de terre | F75: =[2]TK99!F75 -> 0
A76: 0.44 | D76: =[2]TK99!D76 -> mise en œuvre des éléments de la MALT (voir remarque) | F76: =[2]TK99!F76 -> 0
A77: 0.44 | B77: =[2]TK99!B77 -> 2,6,3 | C77: =[3]TK111!C77 -> 2,6,3. Coffrages | D77: =[2]TK99!D77 -> dimention, verticalité et linéarité | E77: =[2]TK99!E77 -> ENTREPRISE GC | F77: =[2]TK99!F77 -> LGV-BAT124-PV263
A78: 0.45 | B78: =[2]TK99!B78 -> 2,6,4 | C78: =[3]TK111!C78 -> 2,6,4. Essais sur béton frais | D78: =[2]TK99!D78 -> essai d'affaissement | E78: =[2]TK99!E78 -> ENTREPRISE GC + LABORATOIRE SOL | F78: =[2]TK99!F78 -> LGV-BAT124-PV264
A79: 0.74 | B79: =[2]TK99!B79 -> 2,6,5 | C79: =[3]TK111!C79 -> 2,6,5. Essais sur béton durci | D79: =[2]TK99!D79 -> essai de résistances mécaniques | E79: =[2]TK99!E79 -> ENTREPRISE GC + LABORATOIRE SOL | F79: =[2]TK99!F79 -> 0
A80: 0.48 | B80: =[2]TK99!B80 -> 2,6,6 | C80: =[3]TK111!C80 -> 2,6,6. Decofrage/utilisation de l'ouvrage | D80: =[2]TK99!D80 -> séchage du béton | E80: =[2]TK99!E80 -> ENTREPRISE GC + CR/SIG | F80: =[2]TK99!F80 -> 0
A81: 0.48 | B81: =[2]TK99!B81 -> 2,6,7 | C81: =[3]TK111!C81 -> 2,6,7. MALT structure | D81: =[2]TK99!D81 -> mesure de la prise de terre | E81: =[2]TK99!E81 -> ENTREPRISE GC + CR/SIG | F81: =[2]TK99!F81 -> 0
B82: =[2]TK99!B82 -> 0 | C82: =[3]TK111!C82 -> 0 | D82: =[2]TK99!D82 -> 0 | E82: =[2]TK99!E82 -> 0 | F82: =[2]TK99!F82 -> 0
B83: =[2]TK99!B83 -> 3 | C83: =[3]TK111!C83 -> DALLES | D83: =[2]TK99!D83 -> 0 | E83: =[2]TK99!E83 -> 0 | F83: =[2]TK99!F83 -> 0
A84: 0.09 | B84: =[2]TK99!B84 -> 3,0,1 | C84: =[3]TK111!C84 -> 3,0,1. Réseaux sous dallage | D84: =[2]TK99!D84 -> positionement des reseaux sous dallage | E84: =[2]TK99!E84 -> ENTREPRISE GC | F84: =[2]TK99!F84 -> LGV-BAT124-PV301
A85: 0.65 | B85: =[2]TK99!B85 -> 3,0,2 | C85: =[3]TK111!C85 -> 3,0,2. Compaction des sols | D85: =[2]TK99!D85 -> test de compaction | E85: =[2]TK99!E85 -> ENTREPRISE GC + LABORATOIRE SOL | F85: =[2]TK99!F85 -> 0
A86: 0.74 | B86: =[2]TK99!B86 -> 3,0,3 | C86: =[3]TK111!C86 -> 3,0,3. Coffrages | D86: =[2]TK99!D86 -> dimention, verticalité et linéarité | E86: =[2]TK99!E86 -> ENTREPRISE GC | F86: =[2]TK99!F86 -> 0
A87: 0.74 | B87: =[2]TK99!B87 -> 3,0,4 | C87: =[3]TK111!C87 -> 3,0,4. Ferraillages | D87: =[2]TK99!D87 -> contrôle des sections | E87: =[2]TK99!E87 -> ENTREPRISE GC + BUREAU DE CONTROL | F87: =[2]TK99!F87 -> 0
A88: 0.74 | B88: =[2]TK99!B88 -> 3,0,5 | C88: =[3]TK111!C88 -> 3,0,5. MALT dalle sur radier | D88: =[2]TK99!D88 -> continuité de la boucle de terre | E88: =[2]TK99!E88 -> ENTREPRISE GC + CR/SIG + BUREAU DE CONTROL | F88: =[2]TK99!F88 -> 0
A89: 0.74 | D89: =[2]TK99!D89 -> mesure de la prise de terre | F89: =[2]TK99!F89 -> 0
A90: 0.74 | D90: =[2]TK99!D90 -> mise en œuvre des éléments de la MALT (voir remarque) | F90: =[2]TK99!F90 -> 0
A91: 0.74 | B91: =[2]TK99!B91 -> 3,0,6 | C91: =[3]TK111!C91 -> 3,0,6.Essais sur béton frais | D91: =[2]TK99!D91 -> essai d'affaissement | E91: =[2]TK99!E91 -> ENTREPRISE GC + LABORATOIRE SOL | F91: =[2]TK99!F91 -> 0
A92: 0.83 | B92: =[2]TK99!B92 -> 3,0,7 | C92: =[3]TK111!C92 -> 3,0,7.Essais sur béton durci | D92: =[2]TK99!D92 -> essai de résistances mécaniques | E92: =[2]TK99!E92 -> ENTREPRISE GC + LABORATOIRE SOL | F92: =[2]TK99!F92 -> 0
A93: 0.76 | B93: =[2]TK99!B93 -> 3,0,8 | C93: =[3]TK111!C93 -> 3,0,8. Finition de la dalle | D93: =[2]TK99!D93 -> finition et planimétrie | E93: =[2]TK99!E93 -> ENTREPRISE GC + CR/SIG | F93: =[2]TK99!F93 -> 0
A94: 0.76 | B94: =[2]TK99!B94 -> 3,0,9 | C94: =[3]TK111!C94 -> 3,0,9. Décoffrage/utilisation de l'ouvrage | D94: =[2]TK99!D94 -> séchage du béton | E94: =[2]TK99!E94 -> ENTREPRISE GC + CR/SIG | F94: =[2]TK99!F94 -> 0
A95: 0.76 | B95: =[2]TK99!B95 -> 3,0,10 | C95: =[3]TK111!C95 -> 3,0,10. MALT dalle sur radier | D95: =[2]TK99!D95 -> mesure de la prise de terre | E95: =[2]TK99!E95 -> ENTREPRISE GC + CR/SIG | F95: =[2]TK99!F95 -> 0
B96: =[2]TK99!B96 -> 0 | C96: =[3]TK111!C96 -> 0 | D96: =[2]TK99!D96 -> 0 | E96: =[2]TK99!E96 -> 0 | F96: =[2]TK99!F96 -> 0
B97: =[2]TK99!B97 -> 0 | C97: =[3]TK111!C97 -> 0 | D97: =[2]TK99!D97 -> 0 | E97: =[2]TK99!E97 -> 0 | F97: =[2]TK99!F97 -> 0
B98: =[2]TK99!B98 -> 0 | C98: =[3]TK111!C98 -> 0 | D98: =[2]TK99!D98 -> 0 | E98: =[2]TK99!E98 -> 0 | F98: =[2]TK99!F98 -> 0
B99: =[2]TK99!B99 -> 0 | C99: =[3]TK111!C99 -> 0 | D99: =[2]TK99!D99 -> 0 | E99: =[2]TK99!E99 -> 0 | F99: =[2]TK99!F99 -> 0
B100: =[2]TK99!B100 -> 0 | C100: =[3]TK111!C100 -> 0 | D100: =[2]TK99!D100 -> 0 | E100: =[2]TK99!E100 -> 0 | F100: =[2]TK99!F100 -> 0
B101: =[2]TK99!B101 -> 4 | C101: =[3]TK111!C101 -> PLANCHERS | D101: =[2]TK99!D101 -> 0 | E101: =[2]TK99!E101 -> 0 | F101: =[2]TK99!F101 -> 0
...

Sheet TK111
B1: =[3]TK111!B1 -> 0 | C1: =[3]TK111!C1 -> 0 | D1: =[3]TK111!D1 -> 0 | E1: =[3]TK111!E1 -> 0 | F1: =[3]TK111!F1 -> 0
B2: =[3]TK111!B2 -> PV & FC du bâtiment LGV TK 111
B3: =[3]TK111!B3 -> 0 | C3: =[3]TK111!C3 -> 0 | D3: =[3]TK111!D3 -> 0 | E3: =[3]TK111!E3 -> 0 | F3: =[3]TK111!F3 -> 0
A4: Avancement | B4: =[3]TK111!B4 -> Tache | C4: =[3]TK111!C4 -> Contrôles réalisés | D4: =[3]TK111!D4 -> Contrôles réalisés | E4: =[3]TK111!E4 -> Entités réalisant les contrôles | F4: =[3]TK111!F4 -> PV ou FC
B6: =[3]TK111!B6 -> 0 | C6: =[3]TK111!C6 -> Mise a disposition plateforme 1 LGV TK 111 | D6: =[3]TK111!D6 -> 0 | E6: =[3]TK111!E6 -> 0 | F6: =[3]TK111!F6 -> LGV-BAT99-MISE A DISPOSITION 1
B7: =[3]TK111!B7 -> 0 | C7: =[3]TK111!C7 -> Mise a disposition plateforme 2 LGV TK 111 | D7: =[3]TK111!D7 -> 0 | E7: =[3]TK111!E7 -> 0 | F7: =[3]TK111!F7 -> LGV-BAT99-MISE A DISPOSITION 2
B8: =[3]TK111!B8 -> 1 | C8: =[3]TK111!C8 -> TERRASSEMENT | D8: =[3]TK111!D8 -> 0 | E8: =[3]TK111!E8 -> 0 | F8: =[3]TK111!F8 -> 0
B9: =[3]TK111!B9 -> 1,0,1 | C9: =[3]TK111!C9 -> 1,0,1. Implantation du bâtiment | D9: =[3]TK111!D9 -> écarts d'implantation | E9: =[3]TK111!E9 -> ENTREPRISE GC + GEOMETRE + CR SIG | F9: =[3]TK111!F9 -> LGV-BAT124-PV101
A10: 0.01 | B10: =[3]TK111!B10 -> 1,0,2 | C10: =[3]TK111!C10 -> 1,0,2. Fond de fouille | D10: =[3]TK111!D10 -> contrôle des dimensions | E10: =[3]TK111!E10 -> ENTREPRISE GC + LABORATOIRE SOL + BUREAU DE CONTROL | F10: =[3]TK111!F10 -> LGV-BAT124-PV102
A11: 0.01 | D11: =[3]TK111!D11 -> contrôle de la nature du sol
A12: 0.7 | B12: =[3]TK111!B12 -> 1,0,3 | C12: =[3]TK111!C12 -> 1,0,3. Compaction des sols | D12: =[3]TK111!D12 -> test de compaction | E12: =[3]TK111!E12 -> ENTREPRISE GC + CR/SIG + LABORATOIRE SOL | F12: =[3]TK111!F12 -> LGV-BAT124-PV103
A13: 0.026 | B13: =[3]TK111!B13 -> 1,0,4 | C13: =[3]TK111!C13 -> 1,0,4. MALT fond de fouille | D13: =[3]TK111!D13 -> continuité de la boucle de terre | E13: =[3]TK111!E13 -> ENTREPRISE GC + CR/SIG | F13: =[3]TK111!F13 -> 0
A14: 0.026 | D14: =[3]TK111!D14 -> remontées du câble de fond de fouille
B15: =[3]TK111!B15 -> 2 | C15: =[3]TK111!C15 -> STRUCTURES | D15: =[3]TK111!D15 -> 0 | E15: =[3]TK111!E15 -> 0 | F15: =[3]TK111!F15 -> 0
B16: =[3]TK111!B16 -> 2.1 | C16: =[3]TK111!C16 -> Semelles | D16: =[3]TK111!D16 -> 0 | E16: =[3]TK111!E16 -> 0 | F16: =[3]TK111!F16 -> 0
A17: 0.03 | B17: =[3]TK111!B17 -> 2,1,1 | C17: =[3]TK111!C17 -> 2,1,1. Coffrages | D17: =[3]TK111!D17 -> dimension, verticalité et linéarité | E17: =[3]TK111!E17 -> ENTREPRISE GC | F17: =[3]TK111!F17 -> LGV-BAT124PV211
A18: 0.03 | B18: =[3]TK111!B18 -> 2,1,2 | C18: =[3]TK111!C18 -> 2,1,2. Ferraillages | D18: =[3]TK111!D18 -> contrôle des sections | E18: =[3]TK111!E18 -> ENTREPRISE GC + BUREAU DE CONTROL | F18: =[3]TK111!F18 -> LGV-BAT124PV212
A19: 0.04 | B19: =[3]TK111!B19 -> 2,1,3 | C19: =[3]TK111!C19 -> 2,1,3. MALT fond de fouille / structure | D19: =[3]TK111!D19 -> continuité de la boucle de terre | E19: =[3]TK111!E19 -> ENTREPRISE GC + CR/SIG + BUREAU DE CONTROL | F19: =[3]TK111!F19 -> LGV-BAT124PV213
A20: 0.04 | D20: =[3]TK111!D20 -> mesure de la prise de terre
A21: 0.04 | D21: =[3]TK111!D21 -> mise en œuvre des éléments de la MALT (voir remarque)
A22: 0.04 | B22: =[3]TK111!B22 -> 2,1,4 | C22: =[3]TK111!C22 -> 2,1,4. Essais sur béton frais | D22: =[3]TK111!D22 -> essai d'affaissement | E22: =[3]TK111!E22 -> ENTREPRISE GC + LABORATOIRE SOL | F22: =[3]TK111!F22 -> LGV-BAT124-PV214
A23: 0.44 | B23: =[3]TK111!B23 -> 2,1,5 | C23: =[3]TK111!C23 -> 2,1,5. Essais sur béton durci | D23: =[3]TK111!D23 -> essai de résistances mécaniques | E23: =[3]TK111!E23 -> ENTREPRISE GC + LABORATOIRE SOL | F23: =[3]TK111!F23 -> 0
A24: 0.05 | B24: =[3]TK111!B24 -> 2,1,6 | C24: =[3]TK111!C24 -> 2,1,6. Décoffrage/utilisation de l'ouvrage | D24: =[3]TK111!D24 -> séchage du béton | E24: =[3]TK111!E24 -> ENTREPRISE GC + CR/SIG | F24: =[3]TK111!F24 -> LGV-BAT124-PV216
A25: 0.05 | B25: =[3]TK111!B25 -> 2,1,7 | C25: =[3]TK111!C25 -> 2,1,7. MALT fond de fouille / structure | D25: =[3]TK111!D25 -> mesure de la prise de terre | E25: =[3]TK111!E25 -> ENTREPRISE GC + CR/SIG | F25: =[3]TK111!F25 -> 0
B26: =[3]TK111!B26 -> 0 | C26: =[3]TK111!C26 -> 0 | D26: =[3]TK111!D26 -> 0 | E26: =[3]TK111!E26 -> 0 | F26: =[3]TK111!F26 -> 0
B27: =[3]TK111!B27 -> 2.2 | C27: =[3]TK111!C27 -> Longrines | D27: =[3]TK111!D27 -> 0 | E27: =[3]TK111!E27 -> 0 | F27: =[3]TK111!F27 -> 0
B28: =[3]TK111!B28 -> 0 | C28: =[3]TK111!C28 -> Longrines | D28: =[3]TK111!D28 -> 0 | E28: =[3]TK111!E28 -> 0 | F28: =[3]TK111!F28 -> 0
A29: 0.06 | B29: =[3]TK111!B29 -> 2,2,1 | C29: =[3]TK111!C29 -> 2,2,1. Ferraillages | D29: =[3]TK111!D29 -> contrôle des sections | E29: =[3]TK111!E29 -> ENTREPRISE GC + BUREAU DE CONTROL | F29: =[3]TK111!F29 -> LGV-BAT124-PV221
A30: 0.03 | B30: =[3]TK111!B30 -> 2,2,2 | C30: =[3]TK111!C30 -> 2,2,2. MALT fond de fouille / structure | D30: =[3]TK111!D30 -> continuité de la boucle de terre | E30: =[3]TK111!E30 -> ENTREPRISE GC + CR/SIG + BUREAU DE CONTROL | F30: =[3]TK111!F30 -> 0
A31: 0.03 | D31: =[3]TK111!D31 -> mesure de la prise de terre
A32: 0.03 | D32: =[3]TK111!D32 -> mise en œuvre des éléments de la MALT (voir remarque)
A33: 0.06 | B33: =[3]TK111!B33 -> 2,2,3 | C33: =[3]TK111!C33 -> 2,2,3. Coffrages | D33: =[3]TK111!D33 -> dimension, verticalité et linéarité | E33: =[3]TK111!E33 -> ENTREPRISE GC | F33: =[3]TK111!F33 -> LGV-BAT124-PV223
A34: 0.06 | B34: =[3]TK111!B34 -> 2,2,4 | C34: =[3]TK111!C34 -> 2,2,4. Essais sur béton frais | D34: =[3]TK111!D34 -> essai d'affaissement | E34: =[3]TK111!E34 -> ENTREPRISE GC + LABORATOIRE SOL | F34: =[3]TK111!F34 -> LGV-BAT124-PV224
A35: 0.52 | B35: =[3]TK111!B35 -> 2,2,5 | C35: =[3]TK111!C35 -> 2,2,5. Essais sur béton durci | D35: =[3]TK111!D35 -> essai de résistances mécaniques | E35: =[3]TK111!E35 -> ENTREPRISE GC + LABORATOIRE SOL | F35: =[3]TK111!F35 -> 0
A36: 0.08 | B36: =[3]TK111!B36 -> 2,2,6 | C36: =[3]TK111!C36 -> 2,2,6. Décoffrage/utilisation de l'ouvrage | D36: =[3]TK111!D36 -> séchage du béton | E36: =[3]TK111!E36 -> ENTREPRISE GC + CR/SIG | F36: =[3]TK111!F36 -> LGV-BAT124-PV226
A37: 0.08 | B37: =[3]TK111!B37 -> 2,2,7 | C37: =[3]TK111!C37 -> 2,2,7. MALT fond de fouille / structure | D37: =[3]TK111!D37 -> mesure de la prise de terre | E37: =[3]TK111!E37 -> ENTREPRISE GC + CR/SIG | F37: =[3]TK111!F37 -> 0
B38: =[3]TK111!B38 -> 0 | C38: =[3]TK111!C38 -> 0 | D38: =[3]TK111!D38 -> 0 | E38: =[3]TK111!E38 -> 0 | F38: =[3]TK111!F38 -> 0
B39: =[3]TK111!B39 -> 2,3,0 | C39: =[3]TK111!C39 -> Poteaux raidisseur | D39: =[3]TK111!D39 -> 0 | E39: =[3]TK111!E39 -> 0 | F39: =[3]TK111!F39 -> 0
A40: 0.09 | B40: =[3]TK111!B40 -> 2,3,1 | C40: =[3]TK111!C40 -> 2,3,1. Ferraillages | D40: =[3]TK111!D40 -> contrôle des sections | E40: =[3]TK111!E40 -> ENTREPRISE GC + BUREAU DE CONTROL | F40: =[3]TK111!F40 -> 0
A41: 0.09 | B41: =[3]TK111!B41 -> 2,3,2 | C41: =[3]TK111!C41 -> 2,3,2. MALT structure | D41: =[3]TK111!D41 -> continuité de la boucle de terre | E41: =[3]TK111!E41 -> ENTREPRISE GC + CR/SIG + BUREAU DE CONTROL | F41: =[3]TK111!F41 -> 0
A42: 0.09 | D42: =[3]TK111!D42 -> mesure de la prise de terre
A43: 0.09 | D43: =[3]TK111!D43 -> mise en œuvre des éléments de la MALT (voir remarque)
A44: 0.09 | B44: =[3]TK111!B44 -> 2,3,3 | C44: =[3]TK111!C44 -> 2,3,3. Coffrages | D44: =[3]TK111!D44 -> dimension, verticalité et linéarité | E44: =[3]TK111!E44 -> ENTREPRISE GC | F44: =[3]TK111!F44 -> 0
A45: 0.1 | B45: =[3]TK111!B45 -> 2,3,4 | C45: =[3]TK111!C45 -> 2,3,4. Essais sur béton frais | D45: =[3]TK111!D45 -> essai d'affaissement | E45: =[3]TK111!E45 -> ENTREPRISE GC + LABORATOIRE SOL | F45: =[3]TK111!F45 -> 0
A46: 0.57 | B46: =[3]TK111!B46 -> 2,3,5 | C46: =[3]TK111!C46 -> 2,3,5. Essais sur béton durci | D46: =[3]TK111!D46 -> essai de résistances mécaniques | E46: =[3]TK111!E46 -> ENTREPRISE GC + LABORATOIRE SOL | F46: =[3]TK111!F46 -> 0
A47: 0.13 | B47: =[3]TK111!B47 -> 2,3,6 | C47: =[3]TK111!C47 -> 2,3,6. Décoffrage/utilisation de l'ouvrage | D47: =[3]TK111!D47 -> séchage du béton | E47: =[3]TK111!E47 -> ENTREPRISE GC + CR/SIG | F47: =[3]TK111!F47 -> 0
A48: 0.13 | B48: =[3]TK111!B48 -> 2,3,7 | C48: =[3]TK111!C48 -> 2,3,7. MALT structure | D48: =[3]TK111!D48 -> mesure de la prise de terre | E48: =[3]TK111!E48 -> ENTREPRISE GC + CR/SIG | F48: =[3]TK111!F48 -> 0
B49: =[3]TK111!B49 -> 0 | C49: =[3]TK111!C49 -> 0 | D49: =[3]TK111!D49 -> 0 | E49: =[3]TK111!E49 -> 0 | F49: =[3]TK111!F49 -> 0
B50: =[3]TK111!B50 -> 2,4,0 | C50: =[3]TK111!C50 -> Chainages et linteaux | D50: =[3]TK111!D50 -> 0 | E50: =[3]TK111!E50 -> 0 | F50: =[3]TK111!F50 -> 0
A51: 0.22 | B51: =[3]TK111!B51 -> 2,4,1 | C51: =[3]TK111!C51 -> 2,4,1. Ferraillages | D51: =[3]TK111!D51 -> contrôle des sections | E51: =[3]TK111!E51 -> ENTREPRISE GC + BUREAU DE CONTROL | F51: =[3]TK111!F51 -> LGV-BAT124PV241
A52: 0.22 | B52: =[3]TK111!B52 -> 2,4,2 | C52: =[3]TK111!C52 -> 2,4,2. MALT structure | D52: =[3]TK111!D52 -> continuité de la boucle de terre | E52: =[3]TK111!E52 -> ENTREPRISE GC + CR/SIG + BUREAU DE CONTROL | F52: =[3]TK111!F52 -> 0
A53: 0.22 | D53: =[3]TK111!D53 -> mesure de la prise de terre
A54: 0.22 | D54: =[3]TK111!D54 -> mise en œuvre des éléments de la MALT (voir remarque)
A55: 0.22 | B55: =[3]TK111!B55 -> 2,4,3 | C55: =[3]TK111!C55 -> 2,4,3. Coffrages | D55: =[3]TK111!D55 -> dimension, verticalité et linéarité | E55: =[3]TK111!E55 -> ENTREPRISE GC | F55: =[3]TK111!F55 -> 0
A56: 0.23 | B56: =[3]TK111!B56 -> 2,4,4 | C56: =[3]TK111!C56 -> 2,4,4. Essais sur béton frais | D56: =[3]TK111!D56 -> essai d'affaissement | E56: =[3]TK111!E56 -> ENTREPRISE GC + LABORATOIRE SOL | F56: =[3]TK111!F56 -> 0
A57: 0.61 | B57: =[3]TK111!B57 -> 2,4,5 | C57: =[3]TK111!C57 -> 2,4,5. Essais sur béton durci | D57: =[3]TK111!D57 -> essai de résistances mécaniques | E57: =[3]TK111!E57 -> ENTREPRISE GC + LABORATOIRE SOL | F57: =[3]TK111!F57 -> 0
A58: 0.32 | B58: =[3]TK111!B58 -> 2,4,6 | C58: =[3]TK111!C58 -> 2,4,6. Décoffrage/utilisation de l'ouvrage | D58: =[3]TK111!D58 -> séchage du béton | E58: =[3]TK111!E58 -> ENTREPRISE GC + CR/SIG | F58: =[3]TK111!F58 -> 0
A59: 0.32 | B59: =[3]TK111!B59 -> 2,4,7 | C59: =[3]TK111!C59 -> 2,4,7. MALT structure | D59: =[3]TK111!D59 -> mesure de la prise de terre | E59: =[3]TK111!E59 -> ENTREPRISE GC + CR/SIG | F59: =[3]TK111!F59 -> 0
B60: =[3]TK111!B60 -> 0 | C60: =[3]TK111!C60 -> 0 | D60: =[3]TK111!D60 -> 0 | E60: =[3]TK111!E60 -> 0 | F60: =[3]TK111!F60 -> 0
B61: =[3]TK111!B61 -> 2,5,0 | C61: =[3]TK111!C61 -> Poutres | D61: =[3]TK111!D61 -> 0 | E61: =[3]TK111!E61 -> 0 | F61: =[3]TK111!F61 -> 0
A62: 0.33 | B62: =[3]TK111!B62 -> 2,5,1 | C62: =[3]TK111!C62 -> 2,5,1. Ferraillages | D62: =[3]TK111!D62 -> contrôle des sections | E62: =[3]TK111!E62 -> ENTREPRISE GC + BUREAU DE CONTROL | F62: =[3]TK111!F62 -> 0
A63: 0.33 | B63: =[3]TK111!B63 -> 2,5,2 | C63: =[3]TK111!C63 -> 2,5,2. MALT structure | D63: =[3]TK111!D63 -> continuité de la boucle de terre | E63: =[3]TK111!E63 -> ENTREPRISE GC + CR/SIG + BUREAU DE CONTROL | F63: =[3]TK111!F63 -> 0
A64: 0.33 | D64: =[3]TK111!D64 -> mesure de la prise de terre | F64: =[3]TK111!F64 -> 0
A65: 0.33 | D65: =[3]TK111!D65 -> mise en œuvre des éléments de la MALT (voir remarque) | F65: =[3]TK111!F65 -> 0
A66: 0.33 | B66: =[3]TK111!B66 -> 2,5,3 | C66: =[3]TK111!C66 -> 2,5,3. Coffrages | D66: =[3]TK111!D66 -> dimension, verticalité et linéarité | E66: =[3]TK111!E66 -> ENTREPRISE GC | F66: =[3]TK111!F66 -> 0
A67: 0.35 | B67: =[3]TK111!B67 -> 2,5,4 | C67: =[3]TK111!C67 -> 2,5,4. Essais sur béton frais | D67: =[3]TK111!D67 -> essai d'affaissement | E67: =[3]TK111!E67 -> ENTREPRISE GC + LABORATOIRE SOL | F67: =[3]TK111!F67 -> 0
A68: 0.61 | B68: =[3]TK111!B68 -> 2,5,5 | C68: =[3]TK111!C68 -> 2,5,5. Essais sur béton durci | D68: =[3]TK111!D68 -> essai de résistances mécaniques | E68: =[3]TK111!E68 -> ENTREPRISE GC + LABORATOIRE SOL | F68: =[3]TK111!F68 -> 0
A69: 0.33 | B69: =[3]TK111!B69 -> 2,5,6 | C69: =[3]TK111!C69 -> 2,5,6. Décoffrage/utilisation de l'ouvrage | D69: =[3]TK111!D69 -> séchage du béton | E69: =[3]TK111!E69 -> ENTREPRISE GC + CR/SIG | F69: =[3]TK111!F69 -> 0
A70: 0.34 | B70: =[3]TK111!B70 -> 2,5,7 | C70: =[3]TK111!C70 -> 2,5,7. MALT structure | D70: =[3]TK111!D70 -> mesure de la prise de terre | E70: =[3]TK111!E70 -> ENTREPRISE GC + CR/SIG | F70: =[3]TK111!F70 -> 0
B71: =[3]TK111!B71 -> 0 | C71: =[3]TK111!C71 -> 0 | D71: =[3]TK111!D71 -> 0 | E71: =[3]TK111!E71 -> 0 | F71: =[3]TK111!F71 -> 0
B72: =[3]TK111!B72 -> 2,6,0 | C72: =[3]TK111!C72 -> Acrotères | D72: =[3]TK111!D72 -> 0 | E72: =[3]TK111!E72 -> 0 | F72: =[3]TK111!F72 -> 0
A73: 0.44 | B73: =[3]TK111!B73 -> 2,6,1 | C73: =[3]TK111!C73 -> 2,6,1. Ferraillages | D73: =[3]TK111!D73 -> contrôle des sections | E73: =[3]TK111!E73 -> ENTREPRISE GC + BUREAU DE CONTROL | F73: =[3]TK111!F73 -> 0
A74: 0.44 | B74: =[3]TK111!B74 -> 2,6,2 | C74: =[3]TK111!C74 -> 2,6,2. MALT structure | D74: =[3]TK111!D74 -> continuité de la boucle de terre | E74: =[3]TK111!E74 -> ENTREPRISE GC + CR/SIG + BUREAU DE CONTROL | F74: =[3]TK111!F74 -> 0
A75: 0.44 | D75: =[3]TK111!D75 -> mesure de la prise de terre
A76: 0.44 | D76: =[3]TK111!D76 -> mise en œuvre des éléments de la MALT (voir remarque)
A77: 0.44 | B77: =[3]TK111!B77 -> 2,6,3 | C77: =[3]TK111!C77 -> 2,6,3. Coffrages | D77: =[3]TK111!D77 -> dimention, verticalité et linéarité | E77: =[3]TK111!E77 -> ENTREPRISE GC | F77: =[3]TK111!F77 -> 0
A78: 0.45 | B78: =[3]TK111!B78 -> 2,6,4 | C78: =[3]TK111!C78 -> 2,6,4. Essais sur béton frais | D78: =[3]TK111!D78 -> essai d'affaissement | E78: =[3]TK111!E78 -> ENTREPRISE GC + LABORATOIRE SOL | F78: =[3]TK111!F78 -> 0
A79: 0.74 | B79: =[3]TK111!B79 -> 2,6,5 | C79: =[3]TK111!C79 -> 2,6,5. Essais sur béton durci | D79: =[3]TK111!D79 -> essai de résistances mécaniques | E79: =[3]TK111!E79 -> ENTREPRISE GC + LABORATOIRE SOL | F79: =[3]TK111!F79 -> 0
A80: 0.48 | B80: =[3]TK111!B80 -> 2,6,6 | C80: =[3]TK111!C80 -> 2,6,6. Decofrage/utilisation de l'ouvrage | D80: =[3]TK111!D80 -> séchage du béton | E80: =[3]TK111!E80 -> ENTREPRISE GC + CR/SIG | F80: =[3]TK111!F80 -> 0
A81: 0.48 | B81: =[3]TK111!B81 -> 2,6,7 | C81: =[3]TK111!C81 -> 2,6,7. MALT structure | D81: =[3]TK111!D81 -> mesure de la prise de terre | E81: =[3]TK111!E81 -> ENTREPRISE GC + CR/SIG | F81: =[3]TK111!F81 -> 0
B82: =[3]TK111!B82 -> 0 | C82: =[3]TK111!C82 -> 0 | D82: =[3]TK111!D82 -> 0 | E82: =[3]TK111!E82 -> 0 | F82: =[3]TK111!F82 -> 0
B83: =[3]TK111!B83 -> 3 | C83: =[3]TK111!C83 -> DALLES | D83: =[3]TK111!D83 -> 0 | E83: =[3]TK111!E83 -> 0 | F83: =[3]TK111!F83 -> 0
A84: 0.09 | B84: =[3]TK111!B84 -> 3,0,1 | C84: =[3]TK111!C84 -> 3,0,1. Réseaux sous dallage | D84: =[3]TK111!D84 -> positionement des reseaux sous dallage | E84: =[3]TK111!E84 -> ENTREPRISE GC | F84: =[3]TK111!F84 -> LGV-BAT124-PV301
A85: 0.65 | B85: =[3]TK111!B85 -> 3,0,2 | C85: =[3]TK111!C85 -> 3,0,2. Compaction des sols | D85: =[3]TK111!D85 -> test de compaction | E85: =[3]TK111!E85 -> ENTREPRISE GC + LABORATOIRE SOL | F85: =[3]TK111!F85 -> 0
A86: 0.74 | B86: =[3]TK111!B86 -> 3,0,3 | C86: =[3]TK111!C86 -> 3,0,3. Coffrages | D86: =[3]TK111!D86 -> dimention, verticalité et linéarité | E86: =[3]TK111!E86 -> ENTREPRISE GC | F86: =[3]TK111!F86 -> 0
A87: 0.74 | B87: =[3]TK111!B87 -> 3,0,4 | C87: =[3]TK111!C87 -> 3,0,4. Ferraillages | D87: =[3]TK111!D87 -> contrôle des sections | E87: =[3]TK111!E87 -> ENTREPRISE GC + BUREAU DE CONTROL | F87: =[3]TK111!F87 -> 0
A88: 0.74 | B88: =[3]TK111!B88 -> 3,0,5 | C88: =[3]TK111!C88 -> 3,0,5. MALT dalle sur radier | D88: =[3]TK111!D88 -> continuité de la boucle de terre | E88: =[3]TK111!E88 -> ENTREPRISE GC + CR/SIG + BUREAU DE CONTROL | F88: =[3]TK111!F88 -> 0
A89: 0.74 | D89: =[3]TK111!D89 -> mesure de la prise de terre
A90: 0.74 | D90: =[3]TK111!D90 -> mise en œuvre des éléments de la MALT (voir remarque)
A91: 0.74 | B91: =[3]TK111!B91 -> 3,0,6 | C91: =[3]TK111!C91 -> 3,0,6.Essais sur béton frais | D91: =[3]TK111!D91 -> essai d'affaissement | E91: =[3]TK111!E91 -> ENTREPRISE GC + LABORATOIRE SOL | F91: =[3]TK111!F91 -> 0
A92: 0.83 | B92: =[3]TK111!B92 -> 3,0,7 | C92: =[3]TK111!C92 -> 3,0,7.Essais sur béton durci | D92: =[3]TK111!D92 -> essai de résistances mécaniques | E92: =[3]TK111!E92 -> ENTREPRISE GC + LABORATOIRE SOL | F92: =[3]TK111!F92 -> 0
A93: 0.76 | B93: =[3]TK111!B93 -> 3,0,8 | C93: =[3]TK111!C93 -> 3,0,8. Finition de la dalle | D93: =[3]TK111!D93 -> finition et planimétrie | E93: =[3]TK111!E93 -> ENTREPRISE GC + CR/SIG | F93: =[3]TK111!F93 -> 0
A94: 0.76 | B94: =[3]TK111!B94 -> 3,0,9 | C94: =[3]TK111!C94 -> 3,0,9. Décoffrage/utilisation de l'ouvrage | D94: =[3]TK111!D94 -> séchage du béton | E94: =[3]TK111!E94 -> ENTREPRISE GC + CR/SIG | F94: =[3]TK111!F94 -> 0
A95: 0.76 | B95: =[3]TK111!B95 -> 3,0,10 | C95: =[3]TK111!C95 -> 3,0,10. MALT dalle sur radier | D95: =[3]TK111!D95 -> mesure de la prise de terre | E95: =[3]TK111!E95 -> ENTREPRISE GC + CR/SIG | F95: =[3]TK111!F95 -> 0
B96: =[3]TK111!B96 -> 0 | C96: =[3]TK111!C96 -> 0 | D96: =[3]TK111!D96 -> 0 | E96: =[3]TK111!E96 -> 0 | F96: =[3]TK111!F96 -> 0
B97: =[3]TK111!B97 -> 0 | C97: =[3]TK111!C97 -> 0 | D97: =[3]TK111!D97 -> 0 | E97: =[3]TK111!E97 -> 0 | F97: =[3]TK111!F97 -> 0
B98: =[3]TK111!B98 -> 0 | C98: =[3]TK111!C98 -> 0 | D98: =[3]TK111!D98 -> 0 | E98: =[3]TK111!E98 -> 0 | F98: =[3]TK111!F98 -> 0
B99: =[3]TK111!B99 -> 0 | C99: =[3]TK111!C99 -> 0 | D99: =[3]TK111!D99 -> 0 | E99: =[3]TK111!E99 -> 0 | F99: =[3]TK111!F99 -> 0
B100: =[3]TK111!B100 -> 0 | C100: =[3]TK111!C100 -> 0 | D100: =[3]TK111!D100 -> 0 | E100: =[3]TK111!E100 -> 0 | F100: =[3]TK111!F100 -> 0
B101: =[3]TK111!B101 -> 4 | C101: =[3]TK111!C101 -> PLANCHERS | D101: =[3]TK111!D101 -> 0 | E101: =[3]TK111!E101 -> 0 | F101: =[3]TK111!F101 -> 0
...

Sheet TK124
B1: =[4]TK124!B1 -> 0 | C1: =[4]TK124!C1 -> 0 | D1: =[4]TK124!D1 -> 0 | E1: =[4]TK124!E1 -> 0 | F1: =[4]TK124!F1 -> 0
B2: =[4]TK124!B2 -> PV & FC du bâtiment LGV TK124
B3: =[4]TK124!B3 -> 0 | C3: =[4]TK124!C3 -> 0 | D3: =[4]TK124!D3 -> 0 | E3: =[4]TK124!E3 -> 0 | F3: =[4]TK124!F3 -> 0
A4: Avancement | B4: =[4]TK124!B4 -> Tache | C4: =[4]TK124!C4 -> Contrôles réalisés | D4: =[4]TK124!D4 -> Contrôles réalisés | E4: =[4]TK124!E4 -> Entités réalisant les contrôles | F4: =[4]TK124!F4 -> PV ou FC
B6: =[4]TK124!B6 -> 0 | C6: =[4]TK124!C6 -> Mise a disposition plateforme 1 LGV TK 124 | D6: =[4]TK124!D6 -> 0 | E6: =[4]TK124!E6 -> 0 | F6: =[4]TK124!F6 -> LGV-BAT124 MISE A DISPOSITION
B7: =[4]TK124!B7 -> 0 | C7: =[4]TK124!C7 -> Mise a disposition plateforme 2 LGV TK 124 | D7: =[4]TK124!D7 -> 0 | E7: =[4]TK124!E7 -> 0 | F7: =[4]TK124!F7 -> LGV-BAT124 MISE A DISPOSITION
B8: =[4]TK124!B8 -> 1 | C8: =[4]TK124!C8 -> TERRASSEMENT | D8: =[4]TK124!D8 -> 0 | E8: =[4]TK124!E8 -> 0 | F8: =[4]TK124!F8 -> 0
B9: =[4]TK124!B9 -> 1,0,1 | C9: =[4]TK124!C9 -> 1,0,1. Implantation du bâtiment | D9: =[4]TK124!D9 -> écarts d'implantation | E9: =[4]TK124!E9 -> ENTREPRISE GC + GEOMETRE + CR SIG | F9: =[4]TK124!F9 -> LGV-BAT124-PV101
A10: 0.01 | B10: =[4]TK124!B10 -> 1,0,2 | C10: =[4]TK124!C10 -> 1,0,2. Fond de fouille | D10: =[4]TK124!D10 -> contrôle des dimensions | E10: =[4]TK124!E10 -> ENTREPRISE GC + LABORATOIRE SOL + BUREAU DE CONTROL | F10: =[4]TK124!F10 -> LGV-BAT124-PV102
A11: 0.01 | D11: =[4]TK124!D11 -> contrôle de la nature du sol
A12: 0.7 | B12: =[4]TK124!B12 -> 1,0,3 | C12: =[4]TK124!C12 -> 1,0,3. Compaction des sols | D12: =[4]TK124!D12 -> test de compaction | E12: =[4]TK124!E12 -> ENTREPRISE GC + CR/SIG + LABORATOIRE SOL | F12: =[4]TK124!F12 -> LGV-BAT124-PV103
A13: 0.026 | B13: =[4]TK124!B13 -> 1,0,4 | C13: =[4]TK124!C13 -> 1,0,4. MALT fond de fouille | D13: =[4]TK124!D13 -> continuité de la boucle de terre | E13: =[4]TK124!E13 -> ENTREPRISE GC + CR/SIG | F13: =[4]TK124!F13 -> LGV-BAT124-PV104
A14: 0.026 | D14: =[4]TK124!D14 -> remontées du câble de fond de fouille
B15: =[4]TK124!B15 -> 2 | C15: =[4]TK124!C15 -> STRUCTURES | D15: =[4]TK124!D15 -> 0 | E15: =[4]TK124!E15 -> 0 | F15: =[4]TK124!F15 -> 0
B16: =[4]TK124!B16 -> 2.1 | C16: =[4]TK124!C16 -> Semelles | D16: =[4]TK124!D16 -> 0 | E16: =[4]TK124!E16 -> 0 | F16: =[4]TK124!F16 -> 0
A17: 0.03 | B17: =[4]TK124!B17 -> 2,1,1 | C17: =[4]TK124!C17 -> 2,1,1. Coffrages | D17: =[4]TK124!D17 -> dimension, verticalité et linéarité | E17: =[4]TK124!E17 -> ENTREPRISE GC | F17: =[4]TK124!F17 -> LGV-BAT124PV211
A18: 0.03 | B18: =[4]TK124!B18 -> 2,1,2 | C18: =[4]TK124!C18 -> 2,1,2. Ferraillages | D18: =[4]TK124!D18 -> contrôle des sections | E18: =[4]TK124!E18 -> ENTREPRISE GC + BUREAU DE CONTROL | F18: =[4]TK124!F18 -> LGV-BAT124PV212
A19: 0.04 | B19: =[4]TK124!B19 -> 2,1,3 | C19: =[4]TK124!C19 -> 2,1,3. MALT fond de fouille / structure | D19: =[4]TK124!D19 -> continuité de la boucle de terre | E19: =[4]TK124!E19 -> ENTREPRISE GC + CR/SIG + BUREAU DE CONTROL | F19: =[4]TK124!F19 -> LGV-BAT124PV213
A20: 0.04 | D20: =[4]TK124!D20 -> mesure de la prise de terre
A21: 0.04 | D21: =[4]TK124!D21 -> mise en œuvre des éléments de la MALT (voir remarque)
A22: 0.04 | B22: =[4]TK124!B22 -> 2,1,4 | C22: =[4]TK124!C22 -> 2,1,4. Essais sur béton frais | D22: =[4]TK124!D22 -> essai d'affaissement | E22: =[4]TK124!E22 -> ENTREPRISE GC + LABORATOIRE SOL | F22: =[4]TK124!F22 -> LGV-BAT124-PV214
A23: 0.44 | B23: =[4]TK124!B23 -> 2,1,5 | C23: =[4]TK124!C23 -> 2,1,5. Essais sur béton durci | D23: =[4]TK124!D23 -> essai de résistances mécaniques | E23: =[4]TK124!E23 -> ENTREPRISE GC + LABORATOIRE SOL | F23: =[4]TK124!F23 -> 0
A24: 0.05 | B24: =[4]TK124!B24 -> 2,1,6 | C24: =[4]TK124!C24 -> 2,1,6. Décoffrage/utilisation de l'ouvrage | D24: =[4]TK124!D24 -> séchage du béton | E24: =[4]TK124!E24 -> ENTREPRISE GC + CR/SIG | F24: =[4]TK124!F24 -> LGV-BAT124-PV216
A25: 0.05 | B25: =[4]TK124!B25 -> 2,1,7 | C25: =[4]TK124!C25 -> 2,1,7. MALT fond de fouille / structure | D25: =[4]TK124!D25 -> mesure de la prise de terre | E25: =[4]TK124!E25 -> ENTREPRISE GC + CR/SIG | F25: =[4]TK124!F25 -> 0
B26: =[4]TK124!B26 -> 0 | C26: =[4]TK124!C26 -> 0 | D26: =[4]TK124!D26 -> 0 | E26: =[4]TK124!E26 -> 0 | F26: =[4]TK124!F26 -> 0
B27: =[4]TK124!B27 -> 2.2 | C27: =[4]TK124!C27 -> Longrines | D27: =[4]TK124!D27 -> 0 | E27: =[4]TK124!E27 -> 0 | F27: =[4]TK124!F27 -> 0
B28: =[4]TK124!B28 -> 0 | C28: =[4]TK124!C28 -> Longrines | D28: =[4]TK124!D28 -> 0 | E28: =[4]TK124!E28 -> 0 | F28: =[4]TK124!F28 -> 0
A29: 0.06 | B29: =[4]TK124!B29 -> 2,2,1 | C29: =[4]TK124!C29 -> 2,2,1. Ferraillages | D29: =[4]TK124!D29 -> contrôle des sections | E29: =[4]TK124!E29 -> ENTREPRISE GC + BUREAU DE CONTROL | F29: =[4]TK124!F29 -> LGV-BAT124-PV221
A30: 0.03 | B30: =[4]TK124!B30 -> 2,2,2 | C30: =[4]TK124!C30 -> 2,2,2. MALT fond de fouille / structure | D30: =[4]TK124!D30 -> continuité de la boucle de terre | E30: =[4]TK124!E30 -> ENTREPRISE GC + CR/SIG + BUREAU DE CONTROL | F30: =[4]TK124!F30 -> LGV-BAT124-PV222
A31: 0.03 | D31: =[4]TK124!D31 -> mesure de la prise de terre
A32: 0.03 | D32: =[4]TK124!D32 -> mise en œuvre des éléments de la MALT (voir remarque)
A33: 0.06 | B33: =[4]TK124!B33 -> 2,2,3 | C33: =[4]TK124!C33 -> 2,2,3. Coffrages | D33: =[4]TK124!D33 -> dimension, verticalité et linéarité | E33: =[4]TK124!E33 -> ENTREPRISE GC | F33: =[4]TK124!F33 -> 0
A34: 0.06 | B34: =[4]TK124!B34 -> 2,2,4 | C34: =[4]TK124!C34 -> 2,2,4. Essais sur béton frais | D34: =[4]TK124!D34 -> essai d'affaissement | E34: =[4]TK124!E34 -> ENTREPRISE GC + LABORATOIRE SOL | F34: =[4]TK124!F34 -> LGV-BAT124-PV224
A35: 0.52 | B35: =[4]TK124!B35 -> 2,2,5 | C35: =[4]TK124!C35 -> 2,2,5. Essais sur béton durci | D35: =[4]TK124!D35 -> essai de résistances mécaniques | E35: =[4]TK124!E35 -> ENTREPRISE GC + LABORATOIRE SOL | F35: =[4]TK124!F35 -> 0
A36: 0.08 | B36: =[4]TK124!B36 -> 2,2,6 | C36: =[4]TK124!C36 -> 2,2,6. Décoffrage/utilisation de l'ouvrage | D36: =[4]TK124!D36 -> séchage du béton | E36: =[4]TK124!E36 -> ENTREPRISE GC + CR/SIG | F36: =[4]TK124!F36 -> LGV-BAT124-PV226
A37: 0.08 | B37: =[4]TK124!B37 -> 2,2,7 | C37: =[4]TK124!C37 -> 2,2,7. MALT fond de fouille / structure | D37: =[4]TK124!D37 -> mesure de la prise de terre | E37: =[4]TK124!E37 -> ENTREPRISE GC + CR/SIG | F37: =[4]TK124!F37 -> 0
B38: =[4]TK124!B38 -> 0 | C38: =[4]TK124!C38 -> 0 | D38: =[4]TK124!D38 -> 0 | E38: =[4]TK124!E38 -> 0 | F38: =[4]TK124!F38 -> 0
B39: =[4]TK124!B39 -> 2,3,0 | C39: =[4]TK124!C39 -> Poteaux raidisseur | D39: =[4]TK124!D39 -> 0 | E39: =[4]TK124!E39 -> 0 | F39: =[4]TK124!F39 -> 0
A40: 0.09 | B40: =[4]TK124!B40 -> 2,3,1 | C40: =[4]TK124!C40 -> 2,3,1. Ferraillages | D40: =[4]TK124!D40 -> contrôle des sections | E40: =[4]TK124!E40 -> ENTREPRISE GC + BUREAU DE CONTROL | F40: =[4]TK124!F40 -> LGV-BAT124PV231
A41: 0.09 | B41: =[4]TK124!B41 -> 2,3,2 | C41: =[4]TK124!C41 -> 2,3,2. MALT structure | D41: =[4]TK124!D41 -> continuité de la boucle de terre | E41: =[4]TK124!E41 -> ENTREPRISE GC + CR/SIG + BUREAU DE CONTROL | F41: =[4]TK124!F41 -> LGV-BAT124PV232
A42: 0.09 | D42: =[4]TK124!D42 -> mesure de la prise de terre
A43: 0.09 | D43: =[4]TK124!D43 -> mise en œuvre des éléments de la MALT (voir remarque)
A44: 0.09 | B44: =[4]TK124!B44 -> 2,3,3 | C44: =[4]TK124!C44 -> 2,3,3. Coffrages | D44: =[4]TK124!D44 -> dimension, verticalité et linéarité | E44: =[4]TK124!E44 -> ENTREPRISE GC | F44: =[4]TK124!F44 -> LGV-BAT124PV233
A45: 0.1 | B45: =[4]TK124!B45 -> 2,3,4 | C45: =[4]TK124!C45 -> 2,3,4. Essais sur béton frais | D45: =[4]TK124!D45 -> essai d'affaissement | E45: =[4]TK124!E45 -> ENTREPRISE GC + LABORATOIRE SOL | F45: =[4]TK124!F45 -> LGV-BAT124PV234
A46: 0.57 | B46: =[4]TK124!B46 -> 2,3,5 | C46: =[4]TK124!C46 -> 2,3,5. Essais sur béton durci | D46: =[4]TK124!D46 -> essai de résistances mécaniques | E46: =[4]TK124!E46 -> ENTREPRISE GC + LABORATOIRE SOL | F46: =[4]TK124!F46 -> 0
A47: 0.13 | B47: =[4]TK124!B47 -> 2,3,6 | C47: =[4]TK124!C47 -> 2,3,6. Décoffrage/utilisation de l'ouvrage | D47: =[4]TK124!D47 -> séchage du béton | E47: =[4]TK124!E47 -> ENTREPRISE GC + CR/SIG | F47: =[4]TK124!F47 -> 0
A48: 0.13 | B48: =[4]TK124!B48 -> 2,3,7 | C48: =[4]TK124!C48 -> 2,3,7. MALT structure | D48: =[4]TK124!D48 -> mesure de la prise de terre | E48: =[4]TK124!E48 -> ENTREPRISE GC + CR/SIG | F48: =[4]TK124!F48 -> 0
B49: =[4]TK124!B49 -> 0 | C49: =[4]TK124!C49 -> 0 | D49: =[4]TK124!D49 -> 0 | E49: =[4]TK124!E49 -> 0 | F49: =[4]TK124!F49 -> 0
B50: =[4]TK124!B50 -> 2,4,0 | C50: =[4]TK124!C50 -> Chainages et linteaux | D50: =[4]TK124!D50 -> 0 | E50: =[4]TK124!E50 -> 0 | F50: =[4]TK124!F50 -> 0
A51: 0.22 | B51: =[4]TK124!B51 -> 2,4,1 | C51: =[4]TK124!C51 -> 2,4,1. Ferraillages | D51: =[4]TK124!D51 -> contrôle des sections | E51: =[4]TK124!E51 -> ENTREPRISE GC + BUREAU DE CONTROL | F51: =[4]TK124!F51 -> LGV-BAT124PV241
A52: 0.22 | B52: =[4]TK124!B52 -> 2,4,2 | C52: =[4]TK124!C52 -> 2,4,2. MALT structure | D52: =[4]TK124!D52 -> continuité de la boucle de terre | E52: =[4]TK124!E52 -> ENTREPRISE GC + CR/SIG + BUREAU DE CONTROL | F52: =[4]TK124!F52 -> LGV-BAT124PV242
A53: 0.22 | D53: =[4]TK124!D53 -> mesure de la prise de terre
A54: 0.22 | D54: =[4]TK124!D54 -> mise en œuvre des éléments de la MALT (voir remarque)
A55: 0.22 | B55: =[4]TK124!B55 -> 2,4,3 | C55: =[4]TK124!C55 -> 2,4,3. Coffrages | D55: =[4]TK124!D55 -> dimension, verticalité et linéarité | E55: =[4]TK124!E55 -> ENTREPRISE GC | F55: =[4]TK124!F55 -> LGV-BAT124PV243
A56: 0.23 | B56: =[4]TK124!B56 -> 2,4,4 | C56: =[4]TK124!C56 -> 2,4,4. Essais sur béton frais | D56: =[4]TK124!D56 -> essai d'affaissement | E56: =[4]TK124!E56 -> ENTREPRISE GC + LABORATOIRE SOL | F56: =[4]TK124!F56 -> LGV-BAT124PV244
A57: 0.61 | B57: =[4]TK124!B57 -> 2,4,5 | C57: =[4]TK124!C57 -> 2,4,5. Essais sur béton durci | D57: =[4]TK124!D57 -> essai de résistances mécaniques | E57: =[4]TK124!E57 -> ENTREPRISE GC + LABORATOIRE SOL | F57: =[4]TK124!F57 -> 0
A58: 0.32 | B58: =[4]TK124!B58 -> 2,4,6 | C58: =[4]TK124!C58 -> 2,4,6. Décoffrage/utilisation de l'ouvrage | D58: =[4]TK124!D58 -> séchage du béton | E58: =[4]TK124!E58 -> ENTREPRISE GC + CR/SIG | F58: =[4]TK124!F58 -> LGV-BAT124PV246
A59: 0.32 | B59: =[4]TK124!B59 -> 2,4,7 | C59: =[4]TK124!C59 -> 2,4,7. MALT structure | D59: =[4]TK124!D59 -> mesure de la prise de terre | E59: =[4]TK124!E59 -> ENTREPRISE GC + CR/SIG | F59: =[4]TK124!F59 -> 0
B60: =[4]TK124!B60 -> 0 | C60: =[4]TK124!C60 -> 0 | D60: =[4]TK124!D60 -> 0 | E60: =[4]TK124!E60 -> 0 | F60: =[4]TK124!F60 -> 0
B61: =[4]TK124!B61 -> 2,5,0 | C61: =[4]TK124!C61 -> Poutres | D61: =[4]TK124!D61 -> 0 | E61: =[4]TK124!E61 -> 0 | F61: =[4]TK124!F61 -> 0
A62: 0.33 | B62: =[4]TK124!B62 -> 2,5,1 | C62: =[4]TK124!C62 -> 2,5,1. Ferraillages | D62: =[4]TK124!D62 -> contrôle des sections | E62: =[4]TK124!E62 -> ENTREPRISE GC + BUREAU DE CONTROL | F62: =[4]TK124!F62 -> 0
A63: 0.33 | B63: =[4]TK124!B63 -> 2,5,2 | C63: =[4]TK124!C63 -> 2,5,2. MALT structure | D63: =[4]TK124!D63 -> continuité de la boucle de terre | E63: =[4]TK124!E63 -> ENTREPRISE GC + CR/SIG + BUREAU DE CONTROL | F63: =[4]TK124!F63 -> 0
A64: 0.33 | D64: =[4]TK124!D64 -> mesure de la prise de terre | F64: =[4]TK124!F64 -> 0
A65: 0.33 | D65: =[4]TK124!D65 -> mise en œuvre des éléments de la MALT (voir remarque) | F65: =[4]TK124!F65 -> 0
A66: 0.33 | B66: =[4]TK124!B66 -> 2,5,3 | C66: =[4]TK124!C66 -> 2,5,3. Coffrages | D66: =[4]TK124!D66 -> dimension, verticalité et linéarité | E66: =[4]TK124!E66 -> ENTREPRISE GC | F66: =[4]TK124!F66 -> 0
A67: 0.35 | B67: =[4]TK124!B67 -> 2,5,4 | C67: =[4]TK124!C67 -> 2,5,4. Essais sur béton frais | D67: =[4]TK124!D67 -> essai d'affaissement | E67: =[4]TK124!E67 -> ENTREPRISE GC + LABORATOIRE SOL | F67: =[4]TK124!F67 -> 0
A68: 0.61 | B68: =[4]TK124!B68 -> 2,5,5 | C68: =[4]TK124!C68 -> 2,5,5. Essais sur béton durci | D68: =[4]TK124!D68 -> essai de résistances mécaniques | E68: =[4]TK124!E68 -> ENTREPRISE GC + LABORATOIRE SOL | F68: =[4]TK124!F68 -> 0
A69: 0.33 | B69: =[4]TK124!B69 -> 2,5,6 | C69: =[4]TK124!C69 -> 2,5,6. Décoffrage/utilisation de l'ouvrage | D69: =[4]TK124!D69 -> séchage du béton | E69: =[4]TK124!E69 -> ENTREPRISE GC + CR/SIG | F69: =[4]TK124!F69 -> 0
A70: 0.34 | B70: =[4]TK124!B70 -> 2,5,7 | C70: =[4]TK124!C70 -> 2,5,7. MALT structure | D70: =[4]TK124!D70 -> mesure de la prise de terre | E70: =[4]TK124!E70 -> ENTREPRISE GC + CR/SIG | F70: =[4]TK124!F70 -> 0
B71: =[4]TK124!B71 -> 0 | C71: =[4]TK124!C71 -> 0 | D71: =[4]TK124!D71 -> 0 | E71: =[4]TK124!E71 -> 0 | F71: =[4]TK124!F71 -> 0
B72: =[4]TK124!B72 -> 2,6,0 | C72: =[4]TK124!C72 -> Acrotères | D72: =[4]TK124!D72 -> 0 | E72: =[4]TK124!E72 -> 0 | F72: =[4]TK124!F72 -> 0
A73: 0.44 | B73: =[4]TK124!B73 -> 2,6,1 | C73: =[4]TK124!C73 -> 2,6,1. Ferraillages | D73: =[4]TK124!D73 -> contrôle des sections | E73: =[4]TK124!E73 -> ENTREPRISE GC + BUREAU DE CONTROL | F73: =[4]TK124!F73 -> LGV-BAT124-PV261
A74: 0.44 | B74: =[4]TK124!B74 -> 2,6,2 | C74: =[4]TK124!C74 -> 2,6,2. MALT structure | D74: =[4]TK124!D74 -> continuité de la boucle de terre | E74: =[4]TK124!E74 -> ENTREPRISE GC + CR/SIG + BUREAU DE CONTROL | F74: =[4]TK124!F74 -> LGV-BAT124-PV262
A75: 0.44 | D75: =[4]TK124!D75 -> mesure de la prise de terre
A76: 0.44 | D76: =[4]TK124!D76 -> mise en œuvre des éléments de la MALT (voir remarque)
A77: 0.44 | B77: =[4]TK124!B77 -> 2,6,3 | C77: =[4]TK124!C77 -> 2,6,3. Coffrages | D77: =[4]TK124!D77 -> dimention, verticalité et linéarité | E77: =[4]TK124!E77 -> ENTREPRISE GC | F77: =[4]TK124!F77 -> LGV-BAT124-PV263
A78: 0.45 | B78: =[4]TK124!B78 -> 2,6,4 | C78: =[4]TK124!C78 -> 2,6,4. Essais sur béton frais | D78: =[4]TK124!D78 -> essai d'affaissement | E78: =[4]TK124!E78 -> ENTREPRISE GC + LABORATOIRE SOL | F78: =[4]TK124!F78 -> LGV-BAT124-PV264
A79: 0.74 | B79: =[4]TK124!B79 -> 2,6,5 | C79: =[4]TK124!C79 -> 2,6,5. Essais sur béton durci | D79: =[4]TK124!D79 -> essai de résistances mécaniques | E79: =[4]TK124!E79 -> ENTREPRISE GC + LABORATOIRE SOL | F79: =[4]TK124!F79 -> 0
A80: 0.48 | B80: =[4]TK124!B80 -> 2,6,6 | C80: =[4]TK124!C80 -> 2,6,6. Decofrage/utilisation de l'ouvrage | D80: =[4]TK124!D80 -> séchage du béton | E80: =[4]TK124!E80 -> ENTREPRISE GC + CR/SIG | F80: =[4]TK124!F80 -> 0
A81: 0.48 | B81: =[4]TK124!B81 -> 2,6,7 | C81: =[4]TK124!C81 -> 2,6,7. MALT structure | D81: =[4]TK124!D81 -> mesure de la prise de terre | E81: =[4]TK124!E81 -> ENTREPRISE GC + CR/SIG | F81: =[4]TK124!F81 -> 0
B82: =[4]TK124!B82 -> 0 | C82: =[4]TK124!C82 -> 0 | D82: =[4]TK124!D82 -> 0 | E82: =[4]TK124!E82 -> 0 | F82: =[4]TK124!F82 -> 0
B83: =[4]TK124!B83 -> 3 | C83: =[4]TK124!C83 -> DALLES | D83: =[4]TK124!D83 -> 0 | E83: =[4]TK124!E83 -> 0 | F83: =[4]TK124!F83 -> 0
A84: 0.09 | B84: =[4]TK124!B84 -> 3,0,1 | C84: =[4]TK124!C84 -> 3,0,1. Réseaux sous dallage | D84: =[4]TK124!D84 -> positionement des reseaux sous dallage | E84: =[4]TK124!E84 -> ENTREPRISE GC | F84: =[4]TK124!F84 -> LGV-BAT124-PV301
A85: 0.65 | B85: =[4]TK124!B85 -> 3,0,2 | C85: =[4]TK124!C85 -> 3,0,2. Compaction des sols | D85: =[4]TK124!D85 -> test de compaction | E85: =[4]TK124!E85 -> ENTREPRISE GC + LABORATOIRE SOL | F85: =[4]TK124!F85 -> 0
A86: 0.74 | B86: =[4]TK124!B86 -> 3,0,3 | C86: =[4]TK124!C86 -> 3,0,3. Coffrages | D86: =[4]TK124!D86 -> dimention, verticalité et linéarité | E86: =[4]TK124!E86 -> ENTREPRISE GC | F86: =[4]TK124!F86 -> 0
A87: 0.74 | B87: =[4]TK124!B87 -> 3,0,4 | C87: =[4]TK124!C87 -> 3,0,4. Ferraillages | D87: =[4]TK124!D87 -> contrôle des sections | E87: =[4]TK124!E87 -> ENTREPRISE GC + BUREAU DE CONTROL | F87: =[4]TK124!F87 -> 0
A88: 0.74 | B88: =[4]TK124!B88 -> 3,0,5 | C88: =[4]TK124!C88 -> 3,0,5. MALT dalle sur radier | D88: =[4]TK124!D88 -> continuité de la boucle de terre | E88: =[4]TK124!E88 -> ENTREPRISE GC + CR/SIG + BUREAU DE CONTROL | F88: =[4]TK124!F88 -> 0
A89: 0.74 | D89: =[4]TK124!D89 -> mesure de la prise de terre
A90: 0.74 | D90: =[4]TK124!D90 -> mise en œuvre des éléments de la MALT (voir remarque)
A91: 0.74 | B91: =[4]TK124!B91 -> 3,0,6 | C91: =[4]TK124!C91 -> 3,0,6.Essais sur béton frais | D91: =[4]TK124!D91 -> essai d'affaissement | E91: =[4]TK124!E91 -> ENTREPRISE GC + LABORATOIRE SOL | F91: =[4]TK124!F91 -> 0
A92: 0.83 | B92: =[4]TK124!B92 -> 3,0,7 | C92: =[4]TK124!C92 -> 3,0,7.Essais sur béton durci | D92: =[4]TK124!D92 -> essai de résistances mécaniques | E92: =[4]TK124!E92 -> ENTREPRISE GC + LABORATOIRE SOL | F92: =[4]TK124!F92 -> 0
A93: 0.76 | B93: =[4]TK124!B93 -> 3,0,8 | C93: =[4]TK124!C93 -> 3,0,8. Finition de la dalle | D93: =[4]TK124!D93 -> finition et planimétrie | E93: =[4]TK124!E93 -> ENTREPRISE GC + CR/SIG | F93: =[4]TK124!F93 -> 0
A94: 0.76 | B94: =[4]TK124!B94 -> 3,0,9 | C94: =[4]TK124!C94 -> 3,0,9. Décoffrage/utilisation de l'ouvrage | D94: =[4]TK124!D94 -> séchage du béton | E94: =[4]TK124!E94 -> ENTREPRISE GC + CR/SIG | F94: =[4]TK124!F94 -> 0
A95: 0.76 | B95: =[4]TK124!B95 -> 3,0,10 | C95: =[4]TK124!C95 -> 3,0,10. MALT dalle sur radier | D95: =[4]TK124!D95 -> mesure de la prise de terre | E95: =[4]TK124!E95 -> ENTREPRISE GC + CR/SIG | F95: =[4]TK124!F95 -> 0
B96: =[4]TK124!B96 -> 0 | C96: =[4]TK124!C96 -> 0 | D96: =[4]TK124!D96 -> 0 | E96: =[4]TK124!E96 -> 0 | F96: =[4]TK124!F96 -> 0
B97: =[4]TK124!B97 -> 0 | C97: =[4]TK124!C97 -> 0 | D97: =[4]TK124!D97 -> 0 | E97: =[4]TK124!E97 -> 0 | F97: =[4]TK124!F97 -> 0
B98: =[4]TK124!B98 -> 0 | C98: =[4]TK124!C98 -> 0 | D98: =[4]TK124!D98 -> 0 | E98: =[4]TK124!E98 -> 0 | F98: =[4]TK124!F98 -> 0
B99: =[4]TK124!B99 -> 0 | C99: =[4]TK124!C99 -> 0 | D99: =[4]TK124!D99 -> 0 | E99: =[4]TK124!E99 -> 0 | F99: =[4]TK124!F99 -> 0
B100: =[4]TK124!B100 -> 0 | C100: =[4]TK124!C100 -> 0 | D100: =[4]TK124!D100 -> 0 | E100: =[4]TK124!E100 -> 0 | F100: =[4]TK124!F100 -> 0
B101: =[4]TK124!B101 -> 4 | C101: =[4]TK124!C101 -> PLANCHERS | D101: =[4]TK124!D101 -> 0 | E101: =[4]TK124!E101 -> 0 | F101: =[4]TK124!F101 -> 0
...

Sheet TK136
B1: =[5]TK136!B1 -> 0 | C1: =[5]TK136!C1 -> 0 | D1: =[5]TK136!D1 -> 0 | E1: =[5]TK136!E1 -> 0 | F1: =[5]TK136!F1 -> 0
B2: =[5]TK136!B2 -> PV & FC du bâtiment LGV TK136
B3: =[5]TK136!B3 -> 0 | C3: =[5]TK136!C3 -> 0 | D3: =[5]TK136!D3 -> 0 | E3: =[5]TK136!E3 -> 0 | F3: =[5]TK136!F3 -> 0
A4: Avancement | B4: =[5]TK136!B4 -> Tache | C4: =[5]TK136!C4 -> Contrôles réalisés | D4: =[5]TK136!D4 -> Contrôles réalisés | E4: =[5]TK136!E4 -> Entités réalisant les contrôles | F4: =[5]TK136!F4 -> PV ou FC
B6: =[5]TK136!B6 -> 0 | C6: =[5]TK136!C6 -> Mise a disposition plateforme LGV TK 136 | D6: =[5]TK136!D6 -> 0 | E6: =[5]TK136!E6 -> 0 | F6: =[5]TK136!F6 -> LGV-BAT136 MISE A DISPOSITION
B7: =[5]TK136!B7 -> 0 | C7: =[5]TK136!C7 -> Mise a disposition plateforme LGV TK 136 | D7: =[5]TK136!D7 -> 0 | E7: =[5]TK136!E7 -> 0 | F7: =[5]TK136!F7 -> LGV-BAT136 MISE A DISPOSITION
B8: =[5]TK136!B8 -> 1 | C8: =[5]TK136!C8 -> TERRASSEMENT | D8: =[5]TK136!D8 -> 0 | E8: =[5]TK136!E8 -> 0 | F8: =[5]TK136!F8 -> 0
B9: =[5]TK136!B9 -> 1,0,1 | C9: =[5]TK136!C9 -> 1,0,1. Implantation du bâtiment | D9: =[5]TK136!D9 -> écarts d'implantation | E9: =[5]TK136!E9 -> ENTREPRISE GC + GEOMETRE + CR SIG | F9: =[5]TK136!F9 -> LGV-BAT136-PV 101
A10: 0.01 | B10: =[5]TK136!B10 -> 1,0,2 | C10: =[5]TK136!C10 -> 1,0,2. Fond de fouille | D10: =[5]TK136!D10 -> contrôle des dimensions | E10: =[5]TK136!E10 -> ENTREPRISE GC + LABORATOIRE SOL + BUREAU DE CONTROL | F10: =[5]TK136!F10 -> LGV-BAT136-PV102
A11: 0.01 | D11: =[5]TK136!D11 -> contrôle de la nature du sol
A12: 0.7 | B12: =[5]TK136!B12 -> 1,0,3 | C12: =[5]TK136!C12 -> 1,0,3. Compaction des sols | D12: =[5]TK136!D12 -> test de compaction | E12: =[5]TK136!E12 -> ENTREPRISE GC + CR/SIG + LABORATOIRE SOL | F12: =[5]TK136!F12 -> LGV-BAT136-PV 103
A13: 0.026 | B13: =[5]TK136!B13 -> 1,0,4 | C13: =[5]TK136!C13 -> 1,0,4. MALT fond de fouille | D13: =[5]TK136!D13 -> continuité de la boucle de terre | E13: =[5]TK136!E13 -> ENTREPRISE GC + CR/SIG | F13: =[5]TK136!F13 -> LGV-BAT136-PV104
A14: 0.026 | D14: =[5]TK136!D14 -> remontées du câble de fond de fouille
B15: =[5]TK136!B15 -> 2 | C15: =[5]TK136!C15 -> STRUCTURES | D15: =[5]TK136!D15 -> 0 | E15: =[5]TK136!E15 -> 0 | F15: =[5]TK136!F15 -> 0
B16: =[5]TK136!B16 -> 2.1 | C16: =[5]TK136!C16 -> Semelles | D16: =[5]TK136!D16 -> 0 | E16: =[5]TK136!E16 -> 0 | F16: =[5]TK136!F16 -> 0
A17: 0.03 | B17: =[5]TK136!B17 -> 2,1,1 | C17: =[5]TK136!C17 -> 2,1,1. Coffrages | D17: =[5]TK136!D17 -> dimension, verticalité et linéarité | E17: =[5]TK136!E17 -> ENTREPRISE GC | F17: =[5]TK136!F17 -> LGV-BAT136-PV 211
A18: 0.03 | B18: =[5]TK136!B18 -> 2,1,2 | C18: =[5]TK136!C18 -> 2,1,2. Ferraillages | D18: =[5]TK136!D18 -> contrôle des sections | E18: =[5]TK136!E18 -> ENTREPRISE GC + BUREAU DE CONTROL | F18: =[5]TK136!F18 -> LGV-BAT136-PV212
A19: 0.04 | B19: =[5]TK136!B19 -> 2,1,3 | C19: =[5]TK136!C19 -> 2,1,3. MALT fond de fouille / structure | D19: =[5]TK136!D19 -> continuité de la boucle de terre | E19: =[5]TK136!E19 -> ENTREPRISE GC + CR/SIG + BUREAU DE CONTROL | F19: =[5]TK136!F19 -> LGV-BAT136-PV213
A20: 0.04 | D20: =[5]TK136!D20 -> mesure de la prise de terre
A21: 0.04 | D21: =[5]TK136!D21 -> mise en œuvre des éléments de la MALT (voir remarque)
A22: 0.04 | B22: =[5]TK136!B22 -> 2,1,4 | C22: =[5]TK136!C22 -> 2,1,4. Essais sur béton frais | D22: =[5]TK136!D22 -> essai d'affaissement | E22: =[5]TK136!E22 -> ENTREPRISE GC + LABORATOIRE SOL | F22: =[5]TK136!F22 -> LGV-BAT136-PV214
A23: 0.44 | B23: =[5]TK136!B23 -> 2,1,5 | C23: =[5]TK136!C23 -> 2,1,5. Essais sur béton durci | D23: =[5]TK136!D23 -> essai de résistances mécaniques | E23: =[5]TK136!E23 -> ENTREPRISE GC + LABORATOIRE SOL | F23: =[5]TK136!F23 -> 0
A24: 0.05 | B24: =[5]TK136!B24 -> 2,1,6 | C24: =[5]TK136!C24 -> 2,1,6. Décoffrage/utilisation de l'ouvrage | D24: =[5]TK136!D24 -> séchage du béton | E24: =[5]TK136!E24 -> ENTREPRISE GC + CR/SIG | F24: =[5]TK136!F24 -> LGV-BAT136-PV216
A25: 0.05 | B25: =[5]TK136!B25 -> 2,1,7 | C25: =[5]TK136!C25 -> 2,1,7. MALT fond de fouille / structure | D25: =[5]TK136!D25 -> mesure de la prise de terre | E25: =[5]TK136!E25 -> ENTREPRISE GC + CR/SIG | F25: =[5]TK136!F25 -> 0
B26: =[5]TK136!B26 -> 0 | C26: =[5]TK136!C26 -> 0 | D26: =[5]TK136!D26 -> 0 | E26: =[5]TK136!E26 -> 0 | F26: =[5]TK136!F26 -> 0
B27: =[5]TK136!B27 -> 2.2 | C27: =[5]TK136!C27 -> Longrines | D27: =[5]TK136!D27 -> 0 | E27: =[5]TK136!E27 -> 0 | F27: =[5]TK136!F27 -> 0
B28: =[5]TK136!B28 -> 0 | C28: =[5]TK136!C28 -> Longrines | D28: =[5]TK136!D28 -> 0 | E28: =[5]TK136!E28 -> 0 | F28: =[5]TK136!F28 -> 0
A29: 0.06 | B29: =[5]TK136!B29 -> 2,2,1 | C29: =[5]TK136!C29 -> 2,2,1. Ferraillages | D29: =[5]TK136!D29 -> contrôle des sections | E29: =[5]TK136!E29 -> ENTREPRISE GC + BUREAU DE CONTROL | F29: =[5]TK136!F29 -> LGV-BAT136-PV221
A30: 0.03 | B30: =[5]TK136!B30 -> 2,2,2 | C30: =[5]TK136!C30 -> 2,2,2. MALT fond de fouille / structure | D30: =[5]TK136!D30 -> continuité de la boucle de terre | E30: =[5]TK136!E30 -> ENTREPRISE GC + CR/SIG + BUREAU DE CONTROL | F30: =[5]TK136!F30 -> LGV-BAT136-PV222
A31: 0.03 | D31: =[5]TK136!D31 -> mesure de la prise de terre
A32: 0.03 | D32: =[5]TK136!D32 -> mise en œuvre des éléments de la MALT (voir remarque)
A33: 0.06 | B33: =[5]TK136!B33 -> 2,2,3 | C33: =[5]TK136!C33 -> 2,2,3. Coffrages | D33: =[5]TK136!D33 -> dimension, verticalité et linéarité | E33: =[5]TK136!E33 -> ENTREPRISE GC | F33: =[5]TK136!F33 -> LGV-BAT136-PV223
A34: 0.06 | B34: =[5]TK136!B34 -> 2,2,4 | C34: =[5]TK136!C34 -> 2,2,4. Essais sur béton frais | D34: =[5]TK136!D34 -> essai d'affaissement | E34: =[5]TK136!E34 -> ENTREPRISE GC + LABORATOIRE SOL | F34: =[5]TK136!F34 -> LGV-BAT136-PV224
A35: 0.52 | B35: =[5]TK136!B35 -> 2,2,5 | C35: =[5]TK136!C35 -> 2,2,5. Essais sur béton durci | D35: =[5]TK136!D35 -> essai de résistances mécaniques | E35: =[5]TK136!E35 -> ENTREPRISE GC + LABORATOIRE SOL | F35: =[5]TK136!F35 -> 0
A36: 0.08 | B36: =[5]TK136!B36 -> 2,2,6 | C36: =[5]TK136!C36 -> 2,2,6. Décoffrage/utilisation de l'ouvrage | D36: =[5]TK136!D36 -> séchage du béton | E36: =[5]TK136!E36 -> ENTREPRISE GC + CR/SIG | F36: =[5]TK136!F36 -> LGV-BAT136-PV226
A37: 0.08 | B37: =[5]TK136!B37 -> 2,2,7 | C37: =[5]TK136!C37 -> 2,2,7. MALT fond de fouille / structure | D37: =[5]TK136!D37 -> mesure de la prise de terre | E37: =[5]TK136!E37 -> ENTREPRISE GC + CR/SIG | F37: =[5]TK136!F37 -> 0
B38: =[5]TK136!B38 -> 0 | C38: =[5]TK136!C38 -> 0 | D38: =[5]TK136!D38 -> 0 | E38: =[5]TK136!E38 -> 0 | F38: =[5]TK136!F38 -> 0
B39: =[5]TK136!B39 -> 2,3,0 | C39: =[5]TK136!C39 -> Poteaux raidisseur | D39: =[5]TK136!D39 -> 0 | E39: =[5]TK136!E39 -> 0 | F39: =[5]TK136!F39 -> 0
A40: 0.09 | B40: =[5]TK136!B40 -> 2,3,1 | C40: =[5]TK136!C40 -> 2,3,1. Ferraillages | D40: =[5]TK136!D40 -> contrôle des sections | E40: =[5]TK136!E40 -> ENTREPRISE GC + BUREAU DE CONTROL | F40: =[5]TK136!F40 -> LGV-BAT136-PV331
A41: 0.09 | B41: =[5]TK136!B41 -> 2,3,2 | C41: =[5]TK136!C41 -> 2,3,2. MALT structure | D41: =[5]TK136!D41 -> continuité de la boucle de terre | E41: =[5]TK136!E41 -> ENTREPRISE GC + CR/SIG + BUREAU DE CONTROL | F41: =[5]TK136!F41 -> LGV-BAT136-PV332
A42: 0.09 | D42: =[5]TK136!D42 -> mesure de la prise de terre
A43: 0.09 | D43: =[5]TK136!D43 -> mise en œuvre des éléments de la MALT (voir remarque)
A44: 0.09 | B44: =[5]TK136!B44 -> 2,3,3 | C44: =[5]TK136!C44 -> 2,3,3. Coffrages | D44: =[5]TK136!D44 -> dimension, verticalité et linéarité | E44: =[5]TK136!E44 -> ENTREPRISE GC | F44: =[5]TK136!F44 -> LGV-BAT136-PV333
A45: 0.1 | B45: =[5]TK136!B45 -> 2,3,4 | C45: =[5]TK136!C45 -> 2,3,4. Essais sur béton frais | D45: =[5]TK136!D45 -> essai d'affaissement | E45: =[5]TK136!E45 -> ENTREPRISE GC + LABORATOIRE SOL | F45: =[5]TK136!F45 -> LGV-BAT136-PV334
A46: 0.57 | B46: =[5]TK136!B46 -> 2,3,5 | C46: =[5]TK136!C46 -> 2,3,5. Essais sur béton durci | D46: =[5]TK136!D46 -> essai de résistances mécaniques | E46: =[5]TK136!E46 -> ENTREPRISE GC + LABORATOIRE SOL | F46: =[5]TK136!F46 -> 0
A47: 0.13 | B47: =[5]TK136!B47 -> 2,3,6 | C47: =[5]TK136!C47 -> 2,3,6. Décoffrage/utilisation de l'ouvrage | D47: =[5]TK136!D47 -> séchage du béton | E47: =[5]TK136!E47 -> ENTREPRISE GC + CR/SIG | F47: =[5]TK136!F47 -> LGV-BAT136-PV336
A48: 0.13 | B48: =[5]TK136!B48 -> 2,3,7 | C48: =[5]TK136!C48 -> 2,3,7. MALT structure | D48: =[5]TK136!D48 -> mesure de la prise de terre | E48: =[5]TK136!E48 -> ENTREPRISE GC + CR/SIG | F48: =[5]TK136!F48 -> 0
B49: =[5]TK136!B49 -> 0 | C49: =[5]TK136!C49 -> 0 | D49: =[5]TK136!D49 -> 0 | E49: =[5]TK136!E49 -> 0 | F49: =[5]TK136!F49 -> 0
B50: =[5]TK136!B50 -> 2,4,0 | C50: =[5]TK136!C50 -> Chainages et linteaux | D50: =[5]TK136!D50 -> 0 | E50: =[5]TK136!E50 -> 0 | F50: =[5]TK136!F50 -> 0
A51: 0.22 | B51: =[5]TK136!B51 -> 2,4,1 | C51: =[5]TK136!C51 -> 2,4,1. Ferraillages | D51: =[5]TK136!D51 -> contrôle des sections | E51: =[5]TK136!E51 -> ENTREPRISE GC + BUREAU DE CONTROL | F51: =[5]TK136!F51 -> LGV-BAT136-PV241
A52: 0.22 | B52: =[5]TK136!B52 -> 2,4,2 | C52: =[5]TK136!C52 -> 2,4,2. MALT structure | D52: =[5]TK136!D52 -> continuité de la boucle de terre | E52: =[5]TK136!E52 -> ENTREPRISE GC + CR/SIG + BUREAU DE CONTROL | F52: =[5]TK136!F52 -> LGV-BAT136-PV242
A53: 0.22 | D53: =[5]TK136!D53 -> mesure de la prise de terre
A54: 0.22 | D54: =[5]TK136!D54 -> mise en œuvre des éléments de la MALT (voir remarque)
A55: 0.22 | B55: =[5]TK136!B55 -> 2,4,3 | C55: =[5]TK136!C55 -> 2,4,3. Coffrages | D55: =[5]TK136!D55 -> dimension, verticalité et linéarité | E55: =[5]TK136!E55 -> ENTREPRISE GC | F55: =[5]TK136!F55 -> LGV-BAT136-PV243
A56: 0.23 | B56: =[5]TK136!B56 -> 2,4,4 | C56: =[5]TK136!C56 -> 2,4,4. Essais sur béton frais | D56: =[5]TK136!D56 -> essai d'affaissement | E56: =[5]TK136!E56 -> ENTREPRISE GC + LABORATOIRE SOL | F56: =[5]TK136!F56 -> LGV-BAT136-PV244
A57: 0.61 | B57: =[5]TK136!B57 -> 2,4,5 | C57: =[5]TK136!C57 -> 2,4,5. Essais sur béton durci | D57: =[5]TK136!D57 -> essai de résistances mécaniques | E57: =[5]TK136!E57 -> ENTREPRISE GC + LABORATOIRE SOL | F57: =[5]TK136!F57 -> 0
A58: 0.32 | B58: =[5]TK136!B58 -> 2,4,6 | C58: =[5]TK136!C58 -> 2,4,6. Décoffrage/utilisation de l'ouvrage | D58: =[5]TK136!D58 -> séchage du béton | E58: =[5]TK136!E58 -> ENTREPRISE GC + CR/SIG | F58: =[5]TK136!F58 -> 0
A59: 0.32 | B59: =[5]TK136!B59 -> 2,4,7 | C59: =[5]TK136!C59 -> 2,4,7. MALT structure | D59: =[5]TK136!D59 -> mesure de la prise de terre | E59: =[5]TK136!E59 -> ENTREPRISE GC + CR/SIG | F59: =[5]TK136!F59 -> 0
B60: =[5]TK136!B60 -> 0 | C60: =[5]TK136!C60 -> 0 | D60: =[5]TK136!D60 -> 0 | E60: =[5]TK136!E60 -> 0 | F60: =[5]TK136!F60 -> 0
B61: =[5]TK136!B61 -> 2,5,0 | C61: =[5]TK136!C61 -> Poutres | D61: =[5]TK136!D61 -> 0 | E61: =[5]TK136!E61 -> 0 | F61: =[5]TK136!F61 -> 0
A62: 0.33 | B62: =[5]TK136!B62 -> 2,5,1 | C62: =[5]TK136!C62 -> 2,5,1. Ferraillages | D62: =[5]TK136!D62 -> contrôle des sections | E62: =[5]TK136!E62 -> ENTREPRISE GC + BUREAU DE CONTROL | F62: =[5]TK136!F62 -> 0
A63: 0.33 | B63: =[5]TK136!B63 -> 2,5,2 | C63: =[5]TK136!C63 -> 2,5,2. MALT structure | D63: =[5]TK136!D63 -> continuité de la boucle de terre | E63: =[5]TK136!E63 -> ENTREPRISE GC + CR/SIG + BUREAU DE CONTROL | F63: =[5]TK136!F63 -> 0
A64: 0.33 | D64: =[5]TK136!D64 -> mesure de la prise de terre
A65: 0.33 | D65: =[5]TK136!D65 -> mise en œuvre des éléments de la MALT (voir remarque)
A66: 0.33 | B66: =[5]TK136!B66 -> 2,5,3 | C66: =[5]TK136!C66 -> 2,5,3. Coffrages | D66: =[5]TK136!D66 -> dimension, verticalité et linéarité | E66: =[5]TK136!E66 -> ENTREPRISE GC | F66: =[5]TK136!F66 -> 0
A67: 0.35 | B67: =[5]TK136!B67 -> 2,5,4 | C67: =[5]TK136!C67 -> 2,5,4. Essais sur béton frais | D67: =[5]TK136!D67 -> essai d'affaissement | E67: =[5]TK136!E67 -> ENTREPRISE GC + LABORATOIRE SOL | F67: =[5]TK136!F67 -> 0
A68: 0.61 | B68: =[5]TK136!B68 -> 2,5,5 | C68: =[5]TK136!C68 -> 2,5,5. Essais sur béton durci | D68: =[5]TK136!D68 -> essai de résistances mécaniques | E68: =[5]TK136!E68 -> ENTREPRISE GC + LABORATOIRE SOL | F68: =[5]TK136!F68 -> 0
A69: 0.33 | B69: =[5]TK136!B69 -> 2,5,6 | C69: =[5]TK136!C69 -> 2,5,6. Décoffrage/utilisation de l'ouvrage | D69: =[5]TK136!D69 -> séchage du béton | E69: =[5]TK136!E69 -> ENTREPRISE GC + CR/SIG | F69: =[5]TK136!F69 -> 0
A70: 0.34 | B70: =[5]TK136!B70 -> 2,5,7 | C70: =[5]TK136!C70 -> 2,5,7. MALT structure | D70: =[5]TK136!D70 -> mesure de la prise de terre | E70: =[5]TK136!E70 -> ENTREPRISE GC + CR/SIG | F70: =[5]TK136!F70 -> 0
B71: =[5]TK136!B71 -> 0 | C71: =[5]TK136!C71 -> 0 | D71: =[5]TK136!D71 -> 0 | E71: =[5]TK136!E71 -> 0 | F71: =[5]TK136!F71 -> 0
B72: =[5]TK136!B72 -> 2,6,0 | C72: =[5]TK136!C72 -> Acrotères | D72: =[5]TK136!D72 -> 0 | E72: =[5]TK136!E72 -> 0 | F72: =[5]TK136!F72 -> 0
A73: 0.44 | B73: =[5]TK136!B73 -> 2,6,1 | C73: =[5]TK136!C73 -> 2,6,1. Ferraillages | D73: =[5]TK136!D73 -> contrôle des sections | E73: =[5]TK136!E73 -> ENTREPRISE GC + BUREAU DE CONTROL | F73: =[5]TK136!F73 -> LGV-BAT136-PV261
A74: 0.44 | B74: =[5]TK136!B74 -> 2,6,2 | C74: =[5]TK136!C74 -> 2,6,2. MALT structure | D74: =[5]TK136!D74 -> continuité de la boucle de terre | E74: =[5]TK136!E74 -> ENTREPRISE GC + CR/SIG + BUREAU DE CONTROL | F74: =[5]TK136!F74 -> LGV-BAT136-PV262
A75: 0.44 | D75: =[5]TK136!D75 -> mesure de la prise de terre
A76: 0.44 | D76: =[5]TK136!D76 -> mise en œuvre des éléments de la MALT (voir remarque)
A77: 0.44 | B77: =[5]TK136!B77 -> 2,6,3 | C77: =[5]TK136!C77 -> 2,6,3. Coffrages | D77: =[5]TK136!D77 -> dimention, verticalité et linéarité | E77: =[5]TK136!E77 -> ENTREPRISE GC | F77: =[5]TK136!F77 -> 0
A78: 0.45 | B78: =[5]TK136!B78 -> 2,6,4 | C78: =[5]TK136!C78 -> 2,6,4. Essais sur béton frais | D78: =[5]TK136!D78 -> essai d'affaissement | E78: =[5]TK136!E78 -> ENTREPRISE GC + LABORATOIRE SOL | F78: =[5]TK136!F78 -> LGV-BAT136-PV264
A79: 0.74 | B79: =[5]TK136!B79 -> 2,6,5 | C79: =[5]TK136!C79 -> 2,6,5. Essais sur béton durci | D79: =[5]TK136!D79 -> essai de résistances mécaniques | E79: =[5]TK136!E79 -> ENTREPRISE GC + LABORATOIRE SOL | F79: =[5]TK136!F79 -> 0
A80: 0.48 | B80: =[5]TK136!B80 -> 2,6,6 | C80: =[5]TK136!C80 -> 2,6,6. Decofrage/utilisation de l'ouvrage | D80: =[5]TK136!D80 -> séchage du béton | E80: =[5]TK136!E80 -> ENTREPRISE GC + CR/SIG | F80: =[5]TK136!F80 -> LGV-BAT136-PV266
A81: 0.48 | B81: =[5]TK136!B81 -> 2,6,7 | C81: =[5]TK136!C81 -> 2,6,7. MALT structure | D81: =[5]TK136!D81 -> mesure de la prise de terre | E81: =[5]TK136!E81 -> ENTREPRISE GC + CR/SIG | F81: =[5]TK136!F81 -> 0
B82: =[5]TK136!B82 -> 0 | C82: =[5]TK136!C82 -> 0 | D82: =[5]TK136!D82 -> 0 | E82: =[5]TK136!E82 -> 0 | F82: =[5]TK136!F82 -> 0
B83: =[5]TK136!B83 -> 3 | C83: =[5]TK136!C83 -> DALLES | D83: =[5]TK136!D83 -> 0 | E83: =[5]TK136!E83 -> 0 | F83: =[5]TK136!F83 -> 0
A84: 0.09 | B84: =[5]TK136!B84 -> 3,0,1 | C84: =[5]TK136!C84 -> 3,0,1. Réseaux sous dallage | D84: =[5]TK136!D84 -> positionement des reseaux sous dallage | E84: =[5]TK136!E84 -> ENTREPRISE GC | F84: =[5]TK136!F84 -> 0
A85: 0.65 | B85: =[5]TK136!B85 -> 3,0,2 | C85: =[5]TK136!C85 -> 3,0,2. Compaction des sols | D85: =[5]TK136!D85 -> test de compaction | E85: =[5]TK136!E85 -> ENTREPRISE GC + LABORATOIRE SOL | F85: =[5]TK136!F85 -> LGV-BAT136-PV302
A86: 0.74 | B86: =[5]TK136!B86 -> 3,0,3 | C86: =[5]TK136!C86 -> 3,0,3. Coffrages | D86: =[5]TK136!D86 -> dimention, verticalité et linéarité | E86: =[5]TK136!E86 -> ENTREPRISE GC | F86: =[5]TK136!F86 -> 0
A87: 0.74 | B87: =[5]TK136!B87 -> 3,0,4 | C87: =[5]TK136!C87 -> 3,0,4. Ferraillages | D87: =[5]TK136!D87 -> contrôle des sections | E87: =[5]TK136!E87 -> ENTREPRISE GC + BUREAU DE CONTROL | F87: =[5]TK136!F87 -> LGV-BAT136-PV304
A88: 0.74 | B88: =[5]TK136!B88 -> 3,0,5 | C88: =[5]TK136!C88 -> 3,0,5. MALT dalle sur radier | D88: =[5]TK136!D88 -> continuité de la boucle de terre | E88: =[5]TK136!E88 -> ENTREPRISE GC + CR/SIG + BUREAU DE CONTROL | F88: =[5]TK136!F88 -> LGV-BAT136-PV305
A89: 0.74 | D89: =[5]TK136!D89 -> mesure de la prise de terre
A90: 0.74 | D90: =[5]TK136!D90 -> mise en œuvre des éléments de la MALT (voir remarque)
A91: 0.74 | B91: =[5]TK136!B91 -> 3,0,6 | C91: =[5]TK136!C91 -> 3,0,6.Essais sur béton frais | D91: =[5]TK136!D91 -> essai d'affaissement | E91: =[5]TK136!E91 -> ENTREPRISE GC + LABORATOIRE SOL | F91: =[5]TK136!F91 -> 0
A92: 0.83 | B92: =[5]TK136!B92 -> 3,0,7 | C92: =[5]TK136!C92 -> 3,0,7.Essais sur béton durci | D92: =[5]TK136!D92 -> essai de résistances mécaniques | E92: =[5]TK136!E92 -> ENTREPRISE GC + LABORATOIRE SOL | F92: =[5]TK136!F92 -> 0
A93: 0.76 | B93: =[5]TK136!B93 -> 3,0,8 | C93: =[5]TK136!C93 -> 3,0,8. Finition de la dalle | D93: =[5]TK136!D93 -> finition et planimétrie | E93: =[5]TK136!E93 -> ENTREPRISE GC + CR/SIG | F93: =[5]TK136!F93 -> 0
A94: 0.76 | B94: =[5]TK136!B94 -> 3,0,9 | C94: =[5]TK136!C94 -> 3,0,9. Décoffrage/utilisation de l'ouvrage | D94: =[5]TK136!D94 -> séchage du béton | E94: =[5]TK136!E94 -> ENTREPRISE GC + CR/SIG | F94: =[5]TK136!F94 -> 0
A95: 0.76 | B95: =[5]TK136!B95 -> 3,0,10 | C95: =[5]TK136!C95 -> 3,0,10. MALT dalle sur radier | D95: =[5]TK136!D95 -> mesure de la prise de terre | E95: =[5]TK136!E95 -> ENTREPRISE GC + CR/SIG | F95: =[5]TK136!F95 -> 0
B96: =[5]TK136!B96 -> 0 | C96: =[5]TK136!C96 -> 0 | D96: =[5]TK136!D96 -> 0 | E96: =[5]TK136!E96 -> 0 | F96: =[5]TK136!F96 -> 0
B97: =[5]TK136!B97 -> 0 | C97: =[5]TK136!C97 -> 0 | D97: =[5]TK136!D97 -> 0 | E97: =[5]TK136!E97 -> 0 | F97: =[5]TK136!F97 -> 0
B98: =[5]TK136!B98 -> 0 | C98: =[5]TK136!C98 -> 0 | D98: =[5]TK136!D98 -> 0 | E98: =[5]TK136!E98 -> 0 | F98: =[5]TK136!F98 -> 0
B99: =[5]TK136!B99 -> 0 | C99: =[5]TK136!C99 -> 0 | D99: =[5]TK136!D99 -> 0 | E99: =[5]TK136!E99 -> 0 | F99: =[5]TK136!F99 -> 0
B100: =[5]TK136!B100 -> 0 | C100: =[5]TK136!C100 -> 0 | D100: =[5]TK136!D100 -> 0 | E100: =[5]TK136!E100 -> 0 | F100: =[5]TK136!F100 -> 0
B101: =[5]TK136!B101 -> 4 | C101: =[5]TK136!C101 -> PLANCHERS | D101: =[5]TK136!D101 -> 0 | E101: =[5]TK136!E101 -> 0 | F101: =[5]TK136!F101 -> 0
...

Sheet TK151
B1: =[6]TK151!B1 -> 0 | C1: =[6]TK151!C1 -> 0 | D1: =[6]TK151!D1 -> 0 | E1: =[6]TK151!E1 -> 0 | F1: =[6]TK151!F1 -> 0
B2: =[6]TK151!B2 -> PV & FC du bâtiment LGV TK151
B3: =[6]TK151!B3 -> 0 | C3: =[6]TK151!C3 -> 0 | D3: =[6]TK151!D3 -> 0 | E3: =[6]TK151!E3 -> 0 | F3: =[6]TK151!F3 -> 0
A4: Avancement | B4: =[6]TK151!B4 -> Tache | C4: =[6]TK151!C4 -> Contrôles réalisés | D4: =[6]TK151!D4 -> Contrôles réalisés | E4: =[6]TK151!E4 -> Entités réalisant les contrôles | F4: =[6]TK151!F4 -> PV ou FC
B6: =[6]TK151!B6 -> 0 | C6: =[6]TK151!C6 -> Mise a disposition plateforme LGV TK 151 | D6: =[6]TK151!D6 -> 0 | E6: =[6]TK151!E6 -> 0 | F6: =[6]TK151!F6 -> LGV-BAT151 MISE A DISPOSITION
B7: =[6]TK151!B7 -> 0 | C7: =[6]TK151!C7 -> 0 | D7: =[6]TK151!D7 -> 0 | E7: =[6]TK151!E7 -> 0 | F7: =[6]TK151!F7 -> 0
B8: =[6]TK151!B8 -> 1 | C8: =[6]TK151!C8 -> TERRASSEMENT | D8: =[6]TK151!D8 -> 0 | E8: =[6]TK151!E8 -> 0 | F8: =[6]TK151!F8 -> 0
B9: =[6]TK151!B9 -> 1,0,1 | C9: =[6]TK151!C9 -> 1,0,1. Implantation du bâtiment | D9: =[6]TK151!D9 -> écarts d'implantation | E9: =[6]TK151!E9 -> ENTREPRISE GC + GEOMETRE + CR SIG | F9: =[6]TK151!F9 -> LGV-BAT151-PV 101
A10: 0.01 | B10: =[6]TK151!B10 -> 1,0,2 | C10: =[6]TK151!C10 -> 1,0,2. Fond de fouille | D10: =[6]TK151!D10 -> contrôle des dimensions | E10: =[6]TK151!E10 -> ENTREPRISE GC + LABORATOIRE SOL + BUREAU DE CONTROL | F10: =[6]TK151!F10 -> LGV-BAT151-PV102
A11: 0.01 | D11: =[6]TK151!D11 -> contrôle de la nature du sol
A12: 0.7 | B12: =[6]TK151!B12 -> 1,0,3 | C12: =[6]TK151!C12 -> 1,0,3. Compaction des sols | D12: =[6]TK151!D12 -> test de compaction | E12: =[6]TK151!E12 -> ENTREPRISE GC + CR/SIG + LABORATOIRE SOL | F12: =[6]TK151!F12 -> LGV-BAT151-PV 103
A13: 0.026 | B13: =[6]TK151!B13 -> 1,0,4 | C13: =[6]TK151!C13 -> 1,0,4. MALT fond de fouille | D13: =[6]TK151!D13 -> continuité de la boucle de terre | E13: =[6]TK151!E13 -> ENTREPRISE GC + CR/SIG | F13: =[6]TK151!F13 -> LGV-BAT151-PV104
A14: 0.026 | D14: =[6]TK151!D14 -> remontées du câble de fond de fouille
B15: =[6]TK151!B15 -> 2 | C15: =[6]TK151!C15 -> STRUCTURES | D15: =[6]TK151!D15 -> 0 | E15: =[6]TK151!E15 -> 0 | F15: =[6]TK151!F15 -> 0
B16: =[6]TK151!B16 -> 2.1 | C16: =[6]TK151!C16 -> Semelles | D16: =[6]TK151!D16 -> 0 | E16: =[6]TK151!E16 -> 0 | F16: =[6]TK151!F16 -> 0
A17: 0.03 | B17: =[6]TK151!B17 -> 2,1,1 | C17: =[6]TK151!C17 -> 2,1,1. Coffrages | D17: =[6]TK151!D17 -> dimension, verticalité et linéarité | E17: =[6]TK151!E17 -> ENTREPRISE GC | F17: =[6]TK151!F17 -> LGV-BAT151-PV 211
A18: 0.03 | B18: =[6]TK151!B18 -> 2,1,2 | C18: =[6]TK151!C18 -> 2,1,2. Ferraillages | D18: =[6]TK151!D18 -> contrôle des sections | E18: =[6]TK151!E18 -> ENTREPRISE GC + BUREAU DE CONTROL | F18: =[6]TK151!F18 -> LGV-BAT151-PV212
A19: 0.04 | B19: =[6]TK151!B19 -> 2,1,3 | C19: =[6]TK151!C19 -> 2,1,3. MALT fond de fouille / structure | D19: =[6]TK151!D19 -> continuité de la boucle de terre | E19: =[6]TK151!E19 -> ENTREPRISE GC + CR/SIG + BUREAU DE CONTROL | F19: =[6]TK151!F19 -> LGV-BAT151-PV213
A20: 0.04 | D20: =[6]TK151!D20 -> mesure de la prise de terre
A21: 0.04 | D21: =[6]TK151!D21 -> mise en œuvre des éléments de la MALT (voir remarque)
A22: 0.04 | B22: =[6]TK151!B22 -> 2,1,4 | C22: =[6]TK151!C22 -> 2,1,4. Essais sur béton frais | D22: =[6]TK151!D22 -> essai d'affaissement | E22: =[6]TK151!E22 -> ENTREPRISE GC + LABORATOIRE SOL | F22: =[6]TK151!F22 -> LGV-BAT151-PV214
A23: 0.44 | B23: =[6]TK151!B23 -> 2,1,5 | C23: =[6]TK151!C23 -> 2,1,5. Essais sur béton durci | D23: =[6]TK151!D23 -> essai de résistances mécaniques | E23: =[6]TK151!E23 -> ENTREPRISE GC + LABORATOIRE SOL | F23: =[6]TK151!F23 -> 0
A24: 0.05 | B24: =[6]TK151!B24 -> 2,1,6 | C24: =[6]TK151!C24 -> 2,1,6. Décoffrage/utilisation de l'ouvrage | D24: =[6]TK151!D24 -> séchage du béton | E24: =[6]TK151!E24 -> ENTREPRISE GC + CR/SIG | F24: =[6]TK151!F24 -> LGV-BAT151-PV216
A25: 0.05 | B25: =[6]TK151!B25 -> 2,1,7 | C25: =[6]TK151!C25 -> 2,1,7. MALT fond de fouille / structure | D25: =[6]TK151!D25 -> mesure de la prise de terre | E25: =[6]TK151!E25 -> ENTREPRISE GC + CR/SIG | F25: =[6]TK151!F25 -> 0
B26: =[6]TK151!B26 -> 0 | C26: =[6]TK151!C26 -> 0 | D26: =[6]TK151!D26 -> 0 | E26: =[6]TK151!E26 -> 0 | F26: =[6]TK151!F26 -> 0
B27: =[6]TK151!B27 -> 2.2 | C27: =[6]TK151!C27 -> Longrines | D27: =[6]TK151!D27 -> 0 | E27: =[6]TK151!E27 -> 0 | F27: =[6]TK151!F27 -> 0
B28: =[6]TK151!B28 -> 0 | C28: =[6]TK151!C28 -> Longrines | D28: =[6]TK151!D28 -> 0 | E28: =[6]TK151!E28 -> 0 | F28: =[6]TK151!F28 -> 0
A29: 0.06 | B29: =[6]TK151!B29 -> 2,2,1 | C29: =[6]TK151!C29 -> 2,2,1. Ferraillages | D29: =[6]TK151!D29 -> contrôle des sections | E29: =[6]TK151!E29 -> ENTREPRISE GC + BUREAU DE CONTROL | F29: =[6]TK151!F29 -> LGV-BAT151-PV221
A30: 0.03 | B30: =[6]TK151!B30 -> 2,2,2 | C30: =[6]TK151!C30 -> 2,2,2. MALT fond de fouille / structure | D30: =[6]TK151!D30 -> continuité de la boucle de terre | E30: =[6]TK151!E30 -> ENTREPRISE GC + CR/SIG + BUREAU DE CONTROL | F30: =[6]TK151!F30 -> LGV-BAT151-PV222
A31: 0.03 | D31: =[6]TK151!D31 -> mesure de la prise de terre | E31: =[6]TK151!E31 -> 0
A32: 0.03 | D32: =[6]TK151!D32 -> mise en œuvre des éléments de la MALT (voir remarque) | E32: =[6]TK151!E32 -> 0
A33: 0.06 | B33: =[6]TK151!B33 -> 2,2,3 | C33: =[6]TK151!C33 -> 2,2,3. Coffrages | D33: =[6]TK151!D33 -> dimension, verticalité et linéarité | E33: =[6]TK151!E33 -> ENTREPRISE GC | F33: =[6]TK151!F33 -> 0
A34: 0.06 | B34: =[6]TK151!B34 -> 2,2,4 | C34: =[6]TK151!C34 -> 2,2,4. Essais sur béton frais | D34: =[6]TK151!D34 -> essai d'affaissement | E34: =[6]TK151!E34 -> ENTREPRISE GC + LABORATOIRE SOL | F34: =[6]TK151!F34 -> LGV-BAT151-PV224
A35: 0.52 | B35: =[6]TK151!B35 -> 2,2,5 | C35: =[6]TK151!C35 -> 2,2,5. Essais sur béton durci | D35: =[6]TK151!D35 -> essai de résistances mécaniques | E35: =[6]TK151!E35 -> ENTREPRISE GC + LABORATOIRE SOL | F35: =[6]TK151!F35 -> 0
A36: 0.08 | B36: =[6]TK151!B36 -> 2,2,6 | C36: =[6]TK151!C36 -> 2,2,6. Décoffrage/utilisation de l'ouvrage | D36: =[6]TK151!D36 -> séchage du béton | E36: =[6]TK151!E36 -> ENTREPRISE GC + CR/SIG | F36: =[6]TK151!F36 -> LGV-BAT151-PV226
A37: 0.08 | B37: =[6]TK151!B37 -> 2,2,7 | C37: =[6]TK151!C37 -> 2,2,7. MALT fond de fouille / structure | D37: =[6]TK151!D37 -> mesure de la prise de terre | E37: =[6]TK151!E37 -> ENTREPRISE GC + CR/SIG | F37: =[6]TK151!F37 -> 0
B38: =[6]TK151!B38 -> 0 | C38: =[6]TK151!C38 -> 0 | D38: =[6]TK151!D38 -> 0 | E38: =[6]TK151!E38 -> 0 | F38: =[6]TK151!F38 -> 0
B39: =[6]TK151!B39 -> 2,3,0 | C39: =[6]TK151!C39 -> Poteaux raidisseur | D39: =[6]TK151!D39 -> 0 | E39: =[6]TK151!E39 -> 0 | F39: =[6]TK151!F39 -> 0
A40: 0.09 | B40: =[6]TK151!B40 -> 2,3,1 | C40: =[6]TK151!C40 -> 2,3,1. Ferraillages | D40: =[6]TK151!D40 -> contrôle des sections | E40: =[6]TK151!E40 -> ENTREPRISE GC + BUREAU DE CONTROL | F40: =[6]TK151!F40 -> 0
A41: 0.09 | B41: =[6]TK151!B41 -> 2,3,2 | C41: =[6]TK151!C41 -> 2,3,2. MALT structure | D41: =[6]TK151!D41 -> continuité de la boucle de terre | E41: =[6]TK151!E41 -> ENTREPRISE GC + CR/SIG + BUREAU DE CONTROL | F41: =[6]TK151!F41 -> 0
A42: 0.09 | D42: =[6]TK151!D42 -> mesure de la prise de terre
A43: 0.09 | D43: =[6]TK151!D43 -> mise en œuvre des éléments de la MALT (voir remarque)
A44: 0.09 | B44: =[6]TK151!B44 -> 2,3,3 | C44: =[6]TK151!C44 -> 2,3,3. Coffrages | D44: =[6]TK151!D44 -> dimension, verticalité et linéarité | E44: =[6]TK151!E44 -> ENTREPRISE GC | F44: =[6]TK151!F44 -> 0
A45: 0.1 | B45: =[6]TK151!B45 -> 2,3,4 | C45: =[6]TK151!C45 -> 2,3,4. Essais sur béton frais | D45: =[6]TK151!D45 -> essai d'affaissement | E45: =[6]TK151!E45 -> ENTREPRISE GC + LABORATOIRE SOL | F45: =[6]TK151!F45 -> 0
A46: 0.57 | B46: =[6]TK151!B46 -> 2,3,5 | C46: =[6]TK151!C46 -> 2,3,5. Essais sur béton durci | D46: =[6]TK151!D46 -> essai de résistances mécaniques | E46: =[6]TK151!E46 -> ENTREPRISE GC + LABORATOIRE SOL | F46: =[6]TK151!F46 -> 0
A47: 0.13 | B47: =[6]TK151!B47 -> 2,3,6 | C47: =[6]TK151!C47 -> 2,3,6. Décoffrage/utilisation de l'ouvrage | D47: =[6]TK151!D47 -> séchage du béton | E47: =[6]TK151!E47 -> ENTREPRISE GC + CR/SIG | F47: =[6]TK151!F47 -> 0
A48: 0.13 | B48: =[6]TK151!B48 -> 2,3,7 | C48: =[6]TK151!C48 -> 2,3,7. MALT structure | D48: =[6]TK151!D48 -> mesure de la prise de terre | E48: =[6]TK151!E48 -> ENTREPRISE GC + CR/SIG | F48: =[6]TK151!F48 -> 0
B49: =[6]TK151!B49 -> 0 | C49: =[6]TK151!C49 -> 0 | D49: =[6]TK151!D49 -> 0 | E49: =[6]TK151!E49 -> 0 | F49: =[6]TK151!F49 -> 0
B50: =[6]TK151!B50 -> 2,4,0 | C50: =[6]TK151!C50 -> Chainages et linteaux | D50: =[6]TK151!D50 -> 0 | E50: =[6]TK151!E50 -> 0 | F50: =[6]TK151!F50 -> 0
A51: 0.22 | B51: =[6]TK151!B51 -> 2,4,1 | C51: =[6]TK151!C51 -> 2,4,1. Ferraillages | D51: =[6]TK151!D51 -> contrôle des sections | E51: =[6]TK151!E51 -> ENTREPRISE GC + BUREAU DE CONTROL | F51: =[6]TK151!F51 -> LGV-BAT151-PV241
A52: 0.22 | B52: =[6]TK151!B52 -> 2,4,2 | C52: =[6]TK151!C52 -> 2,4,2. MALT structure | D52: =[6]TK151!D52 -> continuité de la boucle de terre | E52: =[6]TK151!E52 -> ENTREPRISE GC + CR/SIG + BUREAU DE CONTROL | F52: =[6]TK151!F52 -> 0
A53: 0.22 | D53: =[6]TK151!D53 -> mesure de la prise de terre
A54: 0.22 | D54: =[6]TK151!D54 -> mise en œuvre des éléments de la MALT (voir remarque)
A55: 0.22 | B55: =[6]TK151!B55 -> 2,4,3 | C55: =[6]TK151!C55 -> 2,4,3. Coffrages | D55: =[6]TK151!D55 -> dimension, verticalité et linéarité | E55: =[6]TK151!E55 -> ENTREPRISE GC | F55: =[6]TK151!F55 -> 0
A56: 0.23 | B56: =[6]TK151!B56 -> 2,4,4 | C56: =[6]TK151!C56 -> 2,4,4. Essais sur béton frais | D56: =[6]TK151!D56 -> essai d'affaissement | E56: =[6]TK151!E56 -> ENTREPRISE GC + LABORATOIRE SOL | F56: =[6]TK151!F56 -> 0
A57: 0.61 | B57: =[6]TK151!B57 -> 2,4,5 | C57: =[6]TK151!C57 -> 2,4,5. Essais sur béton durci | D57: =[6]TK151!D57 -> essai de résistances mécaniques | E57: =[6]TK151!E57 -> ENTREPRISE GC + LABORATOIRE SOL | F57: =[6]TK151!F57 -> 0
A58: 0.32 | B58: =[6]TK151!B58 -> 2,4,6 | C58: =[6]TK151!C58 -> 2,4,6. Décoffrage/utilisation de l'ouvrage | D58: =[6]TK151!D58 -> séchage du béton | E58: =[6]TK151!E58 -> ENTREPRISE GC + CR/SIG | F58: =[6]TK151!F58 -> LGV-BAT151-PV246
A59: 0.32 | B59: =[6]TK151!B59 -> 2,4,7 | C59: =[6]TK151!C59 -> 2,4,7. MALT structure | D59: =[6]TK151!D59 -> mesure de la prise de terre | E59: =[6]TK151!E59 -> ENTREPRISE GC + CR/SIG | F59: =[6]TK151!F59 -> 0
B60: =[6]TK151!B60 -> 0 | C60: =[6]TK151!C60 -> 0 | D60: =[6]TK151!D60 -> 0 | E60: =[6]TK151!E60 -> 0 | F60: =[6]TK151!F60 -> 0
B61: =[6]TK151!B61 -> 2,5,0 | C61: =[6]TK151!C61 -> Poutres | D61: =[6]TK151!D61 -> 0 | E61: =[6]TK151!E61 -> 0 | F61: =[6]TK151!F61 -> 0
A62: 0.33 | B62: =[6]TK151!B62 -> 2,5,1 | C62: =[6]TK151!C62 -> 2,5,1. Ferraillages | D62: =[6]TK151!D62 -> contrôle des sections | E62: =[6]TK151!E62 -> ENTREPRISE GC + BUREAU DE CONTROL | F62: =[6]TK151!F62 -> 0
A63: 0.33 | B63: =[6]TK151!B63 -> 2,5,2 | C63: =[6]TK151!C63 -> 2,5,2. MALT structure | D63: =[6]TK151!D63 -> continuité de la boucle de terre | E63: =[6]TK151!E63 -> ENTREPRISE GC + CR/SIG + BUREAU DE CONTROL | F63: =[6]TK151!F63 -> 0
A64: 0.33 | D64: =[6]TK151!D64 -> mesure de la prise de terre
A65: 0.33 | D65: =[6]TK151!D65 -> mise en œuvre des éléments de la MALT (voir remarque)
A66: 0.33 | B66: =[6]TK151!B66 -> 2,5,3 | C66: =[6]TK151!C66 -> 2,5,3. Coffrages | D66: =[6]TK151!D66 -> dimension, verticalité et linéarité | E66: =[6]TK151!E66 -> ENTREPRISE GC | F66: =[6]TK151!F66 -> 0
A67: 0.35 | B67: =[6]TK151!B67 -> 2,5,4 | C67: =[6]TK151!C67 -> 2,5,4. Essais sur béton frais | D67: =[6]TK151!D67 -> essai d'affaissement | E67: =[6]TK151!E67 -> ENTREPRISE GC + LABORATOIRE SOL | F67: =[6]TK151!F67 -> 0
A68: 0.61 | B68: =[6]TK151!B68 -> 2,5,5 | C68: =[6]TK151!C68 -> 2,5,5. Essais sur béton durci | D68: =[6]TK151!D68 -> essai de résistances mécaniques | E68: =[6]TK151!E68 -> ENTREPRISE GC + LABORATOIRE SOL | F68: =[6]TK151!F68 -> 0
A69: 0.33 | B69: =[6]TK151!B69 -> 2,5,6 | C69: =[6]TK151!C69 -> 2,5,6. Décoffrage/utilisation de l'ouvrage | D69: =[6]TK151!D69 -> séchage du béton | E69: =[6]TK151!E69 -> ENTREPRISE GC + CR/SIG | F69: =[6]TK151!F69 -> 0
A70: 0.34 | B70: =[6]TK151!B70 -> 2,5,7 | C70: =[6]TK151!C70 -> 2,5,7. MALT structure | D70: =[6]TK151!D70 -> mesure de la prise de terre | E70: =[6]TK151!E70 -> ENTREPRISE GC + CR/SIG | F70: =[6]TK151!F70 -> 0
B71: =[6]TK151!B71 -> 0 | C71: =[6]TK151!C71 -> 0 | D71: =[6]TK151!D71 -> 0 | E71: =[6]TK151!E71 -> 0 | F71: =[6]TK151!F71 -> 0
B72: =[6]TK151!B72 -> 2,6,0 | C72: =[6]TK151!C72 -> Acrotères | D72: =[6]TK151!D72 -> 0 | E72: =[6]TK151!E72 -> 0 | F72: =[6]TK151!F72 -> 0
A73: 0.44 | B73: =[6]TK151!B73 -> 2,6,1 | C73: =[6]TK151!C73 -> 2,6,1. Ferraillages | D73: =[6]TK151!D73 -> contrôle des sections | E73: =[6]TK151!E73 -> ENTREPRISE GC + BUREAU DE CONTROL | F73: =[6]TK151!F73 -> LGV-BAT151-PV261
A74: 0.44 | B74: =[6]TK151!B74 -> 2,6,2 | C74: =[6]TK151!C74 -> 2,6,2. MALT structure | D74: =[6]TK151!D74 -> continuité de la boucle de terre | E74: =[6]TK151!E74 -> ENTREPRISE GC + CR/SIG + BUREAU DE CONTROL | F74: =[6]TK151!F74 -> LGV-BAT151-PV262
A75: 0.44 | D75: =[6]TK151!D75 -> mesure de la prise de terre
A76: 0.44 | D76: =[6]TK151!D76 -> mise en œuvre des éléments de la MALT (voir remarque)
A77: 0.44 | B77: =[6]TK151!B77 -> 2,6,3 | C77: =[6]TK151!C77 -> 2,6,3. Coffrages | D77: =[6]TK151!D77 -> dimention, verticalité et linéarité | E77: =[6]TK151!E77 -> ENTREPRISE GC | F77: =[6]TK151!F77 -> 0
A78: 0.45 | B78: =[6]TK151!B78 -> 2,6,4 | C78: =[6]TK151!C78 -> 2,6,4. Essais sur béton frais | D78: =[6]TK151!D78 -> essai d'affaissement | E78: =[6]TK151!E78 -> ENTREPRISE GC + LABORATOIRE SOL | F78: =[6]TK151!F78 -> LGV-BAT151-PV264
A79: 0.74 | B79: =[6]TK151!B79 -> 2,6,5 | C79: =[6]TK151!C79 -> 2,6,5. Essais sur béton durci | D79: =[6]TK151!D79 -> essai de résistances mécaniques | E79: =[6]TK151!E79 -> ENTREPRISE GC + LABORATOIRE SOL | F79: =[6]TK151!F79 -> 0
A80: 0.48 | B80: =[6]TK151!B80 -> 2,6,6 | C80: =[6]TK151!C80 -> 2,6,6. Decofrage/utilisation de l'ouvrage | D80: =[6]TK151!D80 -> séchage du béton | E80: =[6]TK151!E80 -> ENTREPRISE GC + CR/SIG | F80: =[6]TK151!F80 -> LGV-BAT151-PV266
A81: 0.48 | B81: =[6]TK151!B81 -> 2,6,7 | C81: =[6]TK151!C81 -> 2,6,7. MALT structure | D81: =[6]TK151!D81 -> mesure de la prise de terre | E81: =[6]TK151!E81 -> ENTREPRISE GC + CR/SIG | F81: =[6]TK151!F81 -> 0
B82: =[6]TK151!B82 -> 0 | C82: =[6]TK151!C82 -> 0 | D82: =[6]TK151!D82 -> 0 | E82: =[6]TK151!E82 -> 0 | F82: =[6]TK151!F82 -> 0
B83: =[6]TK151!B83 -> 3 | C83: =[6]TK151!C83 -> DALLES | D83: =[6]TK151!D83 -> 0 | E83: =[6]TK151!E83 -> 0 | F83: =[6]TK151!F83 -> 0
A84: 0.09 | B84: =[6]TK151!B84 -> 3,0,1 | C84: =[6]TK151!C84 -> 3,0,1. Réseaux sous dallage | D84: =[6]TK151!D84 -> positionement des reseaux sous dallage | E84: =[6]TK151!E84 -> ENTREPRISE GC | F84: =[6]TK151!F84 -> LGV-BAT151-PV301
A85: 0.65 | B85: =[6]TK151!B85 -> 3,0,2 | C85: =[6]TK151!C85 -> 3,0,2. Compaction des sols | D85: =[6]TK151!D85 -> test de compaction | E85: =[6]TK151!E85 -> ENTREPRISE GC + LABORATOIRE SOL | F85: =[6]TK151!F85 -> LGV-BAT151-PV302
A86: 0.74 | B86: =[6]TK151!B86 -> 3,0,3 | C86: =[6]TK151!C86 -> 3,0,3. Coffrages | D86: =[6]TK151!D86 -> dimention, verticalité et linéarité | E86: =[6]TK151!E86 -> ENTREPRISE GC | F86: =[6]TK151!F86 -> LGV-BAT151-PV303
A87: 0.74 | B87: =[6]TK151!B87 -> 3,0,4 | C87: =[6]TK151!C87 -> 3,0,4. Ferraillages | D87: =[6]TK151!D87 -> contrôle des sections | E87: =[6]TK151!E87 -> ENTREPRISE GC + BUREAU DE CONTROL | F87: =[6]TK151!F87 -> LGV-BAT151-PV304
A88: 0.74 | B88: =[6]TK151!B88 -> 3,0,5 | C88: =[6]TK151!C88 -> 3,0,5. MALT dalle sur radier | D88: =[6]TK151!D88 -> continuité de la boucle de terre | E88: =[6]TK151!E88 -> ENTREPRISE GC + CR/SIG + BUREAU DE CONTROL | F88: =[6]TK151!F88 -> 0
A89: 0.74 | D89: =[6]TK151!D89 -> mesure de la prise de terre
A90: 0.74 | D90: =[6]TK151!D90 -> mise en œuvre des éléments de la MALT (voir remarque)
A91: 0.74 | B91: =[6]TK151!B91 -> 3,0,6 | C91: =[6]TK151!C91 -> 3,0,6.Essais sur béton frais | D91: =[6]TK151!D91 -> essai d'affaissement | E91: =[6]TK151!E91 -> ENTREPRISE GC + LABORATOIRE SOL | F91: =[6]TK151!F91 -> LGV-BAT151-PV306
A92: 0.83 | B92: =[6]TK151!B92 -> 3,0,7 | C92: =[6]TK151!C92 -> 3,0,7.Essais sur béton durci | D92: =[6]TK151!D92 -> essai de résistances mécaniques | E92: =[6]TK151!E92 -> ENTREPRISE GC + LABORATOIRE SOL | F92: =[6]TK151!F92 -> 0
A93: 0.76 | B93: =[6]TK151!B93 -> 3,0,8 | C93: =[6]TK151!C93 -> 3,0,8. Finition de la dalle | D93: =[6]TK151!D93 -> finition et planimétrie | E93: =[6]TK151!E93 -> ENTREPRISE GC + CR/SIG | F93: =[6]TK151!F93 -> 0
A94: 0.76 | B94: =[6]TK151!B94 -> 3,0,9 | C94: =[6]TK151!C94 -> 3,0,9. Décoffrage/utilisation de l'ouvrage | D94: =[6]TK151!D94 -> séchage du béton | E94: =[6]TK151!E94 -> ENTREPRISE GC + CR/SIG | F94: =[6]TK151!F94 -> 0
A95: 0.76 | B95: =[6]TK151!B95 -> 3,0,10 | C95: =[6]TK151!C95 -> 3,0,10. MALT dalle sur radier | D95: =[6]TK151!D95 -> mesure de la prise de terre | E95: =[6]TK151!E95 -> ENTREPRISE GC + CR/SIG | F95: =[6]TK151!F95 -> 0
B96: =[6]TK151!B96 -> 0 | C96: =[6]TK151!C96 -> 0 | D96: =[6]TK151!D96 -> 0 | E96: =[6]TK151!E96 -> 0 | F96: =[6]TK151!F96 -> 0
B97: =[6]TK151!B97 -> 0 | C97: =[6]TK151!C97 -> 0 | D97: =[6]TK151!D97 -> 0 | E97: =[6]TK151!E97 -> 0 | F97: =[6]TK151!F97 -> 0
B98: =[6]TK151!B98 -> 0 | C98: =[6]TK151!C98 -> 0 | D98: =[6]TK151!D98 -> 0 | E98: =[6]TK151!E98 -> 0 | F98: =[6]TK151!F98 -> 0
B99: =[6]TK151!B99 -> 0 | C99: =[6]TK151!C99 -> 0 | D99: =[6]TK151!D99 -> 0 | E99: =[6]TK151!E99 -> 0 | F99: =[6]TK151!F99 -> 0
B100: =[6]TK151!B100 -> 0 | C100: =[6]TK151!C100 -> 0 | D100: =[6]TK151!D100 -> 0 | E100: =[6]TK151!E100 -> 0 | F100: =[6]TK151!F100 -> 0
B101: =[6]TK151!B101 -> 4 | C101: =[6]TK151!C101 -> PLANCHERS | D101: =[6]TK151!D101 -> 0 | E101: =[6]TK151!E101 -> 0 | F101: =[6]TK151!F101 -> 0
...

Sheet TK163
B1: =[7]TK163!B1 -> 0 | C1: =[7]TK163!C1 -> 0 | D1: =[7]TK163!D1 -> 0 | E1: =[7]TK163!E1 -> 0 | F1: =[7]TK163!F1 -> 0
B2: =[7]TK163!B2 -> PV & FC du bâtiment LGV TK163
B3: =[7]TK163!B3 -> 0 | C3: =[7]TK163!C3 -> 0 | D3: =[7]TK163!D3 -> 0 | E3: =[7]TK163!E3 -> 0 | F3: =[7]TK163!F3 -> 0
A4: Avancement | B4: =[7]TK163!B4 -> Tache | C4: =[7]TK163!C4 -> Contrôles réalisés | D4: =[7]TK163!D4 -> Contrôles réalisés | E4: =[7]TK163!E4 -> Entités réalisant les contrôles | F4: =[7]TK163!F4 -> PV ou FC
B6: =[7]TK163!B6 -> 0 | C6: =[7]TK163!C6 -> Mise a disposition plateforme LGV TK 163 | D6: =[7]TK163!D6 -> 0 | E6: =[7]TK163!E6 -> 0 | F6: =[7]TK163!F6 -> LGV-BAT136 MISE A DISPOSITION
B7: =[7]TK163!B7 -> 0 | C7: =[7]TK163!C7 -> 0 | D7: =[7]TK163!D7 -> 0 | E7: =[7]TK163!E7 -> 0 | F7: =[7]TK163!F7 -> 0
B8: =[7]TK163!B8 -> 1 | C8: =[7]TK163!C8 -> TERRASSEMENT | D8: =[7]TK163!D8 -> 0 | E8: =[7]TK163!E8 -> 0 | F8: =[7]TK163!F8 -> 0
B9: =[7]TK163!B9 -> 1,0,1 | C9: =[7]TK163!C9 -> 1,0,1. Implantation du bâtiment | D9: =[7]TK163!D9 -> écarts d'implantation | E9: =[7]TK163!E9 -> ENTREPRISE GC + GEOMETRE + CR SIG | F9: =[7]TK163!F9 -> LGV-BAT163-PV 101
A10: 0.01 | B10: =[7]TK163!B10 -> 1,0,2 | C10: =[7]TK163!C10 -> 1,0,2. Fond de fouille | D10: =[7]TK163!D10 -> contrôle des dimensions | E10: =[7]TK163!E10 -> ENTREPRISE GC + LABORATOIRE SOL + BUREAU DE CONTROL | F10: =[7]TK163!F10 -> LGV-BAT163-PV102
A11: 0.01 | D11: =[7]TK163!D11 -> contrôle de la nature du sol
A12: 0.7 | B12: =[7]TK163!B12 -> 1,0,3 | C12: =[7]TK163!C12 -> 1,0,3. Compaction des sols | D12: =[7]TK163!D12 -> test de compaction | E12: =[7]TK163!E12 -> ENTREPRISE GC + CR/SIG + LABORATOIRE SOL | F12: =[7]TK163!F12 -> LGV-BAT163-PV 103
A13: 0.026 | B13: =[7]TK163!B13 -> 1,0,4 | C13: =[7]TK163!C13 -> 1,0,4. MALT fond de fouille | D13: =[7]TK163!D13 -> continuité de la boucle de terre | E13: =[7]TK163!E13 -> ENTREPRISE GC + CR/SIG | F13: =[7]TK163!F13 -> LGV-BAT163-PV104
A14: 0.026 | D14: =[7]TK163!D14 -> remontées du câble de fond de fouille
B15: =[7]TK163!B15 -> 2 | C15: =[7]TK163!C15 -> STRUCTURES | D15: =[7]TK163!D15 -> 0 | E15: =[7]TK163!E15 -> 0 | F15: =[7]TK163!F15 -> 0
B16: =[7]TK163!B16 -> 2.1 | C16: =[7]TK163!C16 -> Semelles | D16: =[7]TK163!D16 -> 0 | E16: =[7]TK163!E16 -> 0 | F16: =[7]TK163!F16 -> 0
A17: 0.03 | B17: =[7]TK163!B17 -> 2,1,1 | C17: =[7]TK163!C17 -> 2,1,1. Coffrages | D17: =[7]TK163!D17 -> dimension, verticalité et linéarité | E17: =[7]TK163!E17 -> ENTREPRISE GC | F17: =[7]TK163!F17 -> LGV-BAT163-PV 211
A18: 0.03 | B18: =[7]TK163!B18 -> 2,1,2 | C18: =[7]TK163!C18 -> 2,1,2. Ferraillages | D18: =[7]TK163!D18 -> contrôle des sections | E18: =[7]TK163!E18 -> ENTREPRISE GC + BUREAU DE CONTROL | F18: =[7]TK163!F18 -> LGV-BAT163-PV212
A19: 0.04 | B19: =[7]TK163!B19 -> 2,1,3 | C19: =[7]TK163!C19 -> 2,1,3. MALT fond de fouille / structure | D19: =[7]TK163!D19 -> continuité de la boucle de terre | E19: =[7]TK163!E19 -> ENTREPRISE GC + CR/SIG + BUREAU DE CONTROL | F19: =[7]TK163!F19 -> LGV-BAT163-PV213
A20: 0.04 | D20: =[7]TK163!D20 -> mesure de la prise de terre
A21: 0.04 | D21: =[7]TK163!D21 -> mise en œuvre des éléments de la MALT (voir remarque)
A22: 0.04 | B22: =[7]TK163!B22 -> 2,1,4 | C22: =[7]TK163!C22 -> 2,1,4. Essais sur béton frais | D22: =[7]TK163!D22 -> essai d'affaissement | E22: =[7]TK163!E22 -> ENTREPRISE GC + LABORATOIRE SOL | F22: =[7]TK163!F22 -> LGV-BAT163-PV214
A23: 0.44 | B23: =[7]TK163!B23 -> 2,1,5 | C23: =[7]TK163!C23 -> 2,1,5. Essais sur béton durci | D23: =[7]TK163!D23 -> essai de résistances mécaniques | E23: =[7]TK163!E23 -> ENTREPRISE GC + LABORATOIRE SOL | F23: =[7]TK163!F23 -> LGV-BAT163-PV215
A24: 0.05 | B24: =[7]TK163!B24 -> 2,1,6 | C24: =[7]TK163!C24 -> 2,1,6. Décoffrage/utilisation de l'ouvrage | D24: =[7]TK163!D24 -> séchage du béton | E24: =[7]TK163!E24 -> ENTREPRISE GC + CR/SIG | F24: =[7]TK163!F24 -> LGV-BAT163-PV216
A25: 0.05 | B25: =[7]TK163!B25 -> 2,1,7 | C25: =[7]TK163!C25 -> 2,1,7. MALT fond de fouille / structure | D25: =[7]TK163!D25 -> mesure de la prise de terre | E25: =[7]TK163!E25 -> ENTREPRISE GC + CR/SIG | F25: =[7]TK163!F25 -> 0
B26: =[7]TK163!B26 -> 0 | C26: =[7]TK163!C26 -> 0 | D26: =[7]TK163!D26 -> 0 | E26: =[7]TK163!E26 -> 0 | F26: =[7]TK163!F26 -> 0
B27: =[7]TK163!B27 -> 2.2 | C27: =[7]TK163!C27 -> Longrines | D27: =[7]TK163!D27 -> 0 | E27: =[7]TK163!E27 -> 0 | F27: =[7]TK163!F27 -> 0
B28: =[7]TK163!B28 -> 0 | C28: =[7]TK163!C28 -> Longrines | D28: =[7]TK163!D28 -> 0 | E28: =[7]TK163!E28 -> 0 | F28: =[7]TK163!F28 -> 0
A29: 0.06 | B29: =[7]TK163!B29 -> 2,2,1 | C29: =[7]TK163!C29 -> 2,2,1. Ferraillages | D29: =[7]TK163!D29 -> contrôle des sections | E29: =[7]TK163!E29 -> ENTREPRISE GC + BUREAU DE CONTROL | F29: =[7]TK163!F29 -> LGV-BAT163-PV221
A30: 0.03 | B30: =[7]TK163!B30 -> 2,2,2 | C30: =[7]TK163!C30 -> 2,2,2. MALT fond de fouille / structure | D30: =[7]TK163!D30 -> continuité de la boucle de terre | E30: =[7]TK163!E30 -> ENTREPRISE GC + CR/SIG + BUREAU DE CONTROL | F30: =[7]TK163!F30 -> LGV-BAT163-PV222
A31: 0.03 | D31: =[7]TK163!D31 -> mesure de la prise de terre | E31: =[7]TK163!E31 -> 0
A32: 0.03 | D32: =[7]TK163!D32 -> mise en œuvre des éléments de la MALT (voir remarque) | E32: =[7]TK163!E32 -> 0
A33: 0.06 | B33: =[7]TK163!B33 -> 2,2,3 | C33: =[7]TK163!C33 -> 2,2,3. Coffrages | D33: =[7]TK163!D33 -> dimension, verticalité et linéarité | E33: =[7]TK163!E33 -> ENTREPRISE GC | F33: =[7]TK163!F33 -> 0
A34: 0.06 | B34: =[7]TK163!B34 -> 2,2,4 | C34: =[7]TK163!C34 -> 2,2,4. Essais sur béton frais | D34: =[7]TK163!D34 -> essai d'affaissement | E34: =[7]TK163!E34 -> ENTREPRISE GC + LABORATOIRE SOL | F34: =[7]TK163!F34 -> LGV-BAT163-PV224
A35: 0.52 | B35: =[7]TK163!B35 -> 2,2,5 | C35: =[7]TK163!C35 -> 2,2,5. Essais sur béton durci | D35: =[7]TK163!D35 -> essai de résistances mécaniques | E35: =[7]TK163!E35 -> ENTREPRISE GC + LABORATOIRE SOL | F35: =[7]TK163!F35 -> LGV-BAT163-PV225
A36: 0.08 | B36: =[7]TK163!B36 -> 2,2,6 | C36: =[7]TK163!C36 -> 2,2,6. Décoffrage/utilisation de l'ouvrage | D36: =[7]TK163!D36 -> séchage du béton | E36: =[7]TK163!E36 -> ENTREPRISE GC + CR/SIG | F36: =[7]TK163!F36 -> LGV-BAT163-PV226
A37: 0.08 | B37: =[7]TK163!B37 -> 2,2,7 | C37: =[7]TK163!C37 -> 2,2,7. MALT fond de fouille / structure | D37: =[7]TK163!D37 -> mesure de la prise de terre | E37: =[7]TK163!E37 -> ENTREPRISE GC + CR/SIG | F37: =[7]TK163!F37 -> 0
B38: =[7]TK163!B38 -> 0 | C38: =[7]TK163!C38 -> 0 | D38: =[7]TK163!D38 -> 0 | E38: =[7]TK163!E38 -> 0 | F38: =[7]TK163!F38 -> 0
B39: =[7]TK163!B39 -> 2,3,0 | C39: =[7]TK163!C39 -> Poteaux raidisseur | D39: =[7]TK163!D39 -> 0 | E39: =[7]TK163!E39 -> 0 | F39: =[7]TK163!F39 -> 0
A40: 0.09 | B40: =[7]TK163!B40 -> 2,3,1 | C40: =[7]TK163!C40 -> 2,3,1. Ferraillages | D40: =[7]TK163!D40 -> contrôle des sections | E40: =[7]TK163!E40 -> ENTREPRISE GC + BUREAU DE CONTROL | F40: =[7]TK163!F40 -> LGV-BAT163-PV331
A41: 0.09 | B41: =[7]TK163!B41 -> 2,3,2 | C41: =[7]TK163!C41 -> 2,3,2. MALT structure | D41: =[7]TK163!D41 -> continuité de la boucle de terre | E41: =[7]TK163!E41 -> ENTREPRISE GC + CR/SIG + BUREAU DE CONTROL | F41: =[7]TK163!F41 -> 0
A42: 0.09 | D42: =[7]TK163!D42 -> mesure de la prise de terre
A43: 0.09 | D43: =[7]TK163!D43 -> mise en œuvre des éléments de la MALT (voir remarque)
A44: 0.09 | B44: =[7]TK163!B44 -> 2,3,3 | C44: =[7]TK163!C44 -> 2,3,3. Coffrages | D44: =[7]TK163!D44 -> dimension, verticalité et linéarité | E44: =[7]TK163!E44 -> ENTREPRISE GC | F44: =[7]TK163!F44 -> LGV-BAT163-PV333
A45: 0.1 | B45: =[7]TK163!B45 -> 2,3,4 | C45: =[7]TK163!C45 -> 2,3,4. Essais sur béton frais | D45: =[7]TK163!D45 -> essai d'affaissement | E45: =[7]TK163!E45 -> ENTREPRISE GC + LABORATOIRE SOL | F45: =[7]TK163!F45 -> 0
A46: 0.57 | B46: =[7]TK163!B46 -> 2,3,5 | C46: =[7]TK163!C46 -> 2,3,5. Essais sur béton durci | D46: =[7]TK163!D46 -> essai de résistances mécaniques | E46: =[7]TK163!E46 -> ENTREPRISE GC + LABORATOIRE SOL | F46: =[7]TK163!F46 -> LGV-BAT163-PV335
A47: 0.13 | B47: =[7]TK163!B47 -> 2,3,6 | C47: =[7]TK163!C47 -> 2,3,6. Décoffrage/utilisation de l'ouvrage | D47: =[7]TK163!D47 -> séchage du béton | E47: =[7]TK163!E47 -> ENTREPRISE GC + CR/SIG | F47: =[7]TK163!F47 -> LGV-BAT163-PV336
A48: 0.13 | B48: =[7]TK163!B48 -> 2,3,7 | C48: =[7]TK163!C48 -> 2,3,7. MALT structure | D48: =[7]TK163!D48 -> mesure de la prise de terre | E48: =[7]TK163!E48 -> ENTREPRISE GC + CR/SIG | F48: =[7]TK163!F48 -> 0
B49: =[7]TK163!B49 -> 0 | C49: =[7]TK163!C49 -> 0 | D49: =[7]TK163!D49 -> 0 | E49: =[7]TK163!E49 -> 0 | F49: =[7]TK163!F49 -> 0
B50: =[7]TK163!B50 -> 2,4,0 | C50: =[7]TK163!C50 -> Chainages et linteaux | D50: =[7]TK163!D50 -> 0 | E50: =[7]TK163!E50 -> 0 | F50: =[7]TK163!F50 -> 0
A51: 0.22 | B51: =[7]TK163!B51 -> 2,4,1 | C51: =[7]TK163!C51 -> 2,4,1. Ferraillages | D51: =[7]TK163!D51 -> contrôle des sections | E51: =[7]TK163!E51 -> ENTREPRISE GC + BUREAU DE CONTROL | F51: =[7]TK163!F51 -> LGV-BAT163-PV241
A52: 0.22 | B52: =[7]TK163!B52 -> 2,4,2 | C52: =[7]TK163!C52 -> 2,4,2. MALT structure | D52: =[7]TK163!D52 -> continuité de la boucle de terre | E52: =[7]TK163!E52 -> ENTREPRISE GC + CR/SIG + BUREAU DE CONTROL | F52: =[7]TK163!F52 -> 0
A53: 0.22 | D53: =[7]TK163!D53 -> mesure de la prise de terre
A54: 0.22 | D54: =[7]TK163!D54 -> mise en œuvre des éléments de la MALT (voir remarque)
A55: 0.22 | B55: =[7]TK163!B55 -> 2,4,3 | C55: =[7]TK163!C55 -> 2,4,3. Coffrages | D55: =[7]TK163!D55 -> dimension, verticalité et linéarité | E55: =[7]TK163!E55 -> ENTREPRISE GC | F55: =[7]TK163!F55 -> LGV-BAT163-PV243
A56: 0.23 | B56: =[7]TK163!B56 -> 2,4,4 | C56: =[7]TK163!C56 -> 2,4,4. Essais sur béton frais | D56: =[7]TK163!D56 -> essai d'affaissement | E56: =[7]TK163!E56 -> ENTREPRISE GC + LABORATOIRE SOL | F56: =[7]TK163!F56 -> LGV-BAT163-PV244
A57: 0.61 | B57: =[7]TK163!B57 -> 2,4,5 | C57: =[7]TK163!C57 -> 2,4,5. Essais sur béton durci | D57: =[7]TK163!D57 -> essai de résistances mécaniques | E57: =[7]TK163!E57 -> ENTREPRISE GC + LABORATOIRE SOL | F57: =[7]TK163!F57 -> 0
A58: 0.32 | B58: =[7]TK163!B58 -> 2,4,6 | C58: =[7]TK163!C58 -> 2,4,6. Décoffrage/utilisation de l'ouvrage | D58: =[7]TK163!D58 -> séchage du béton | E58: =[7]TK163!E58 -> ENTREPRISE GC + CR/SIG | F58: =[7]TK163!F58 -> LGV-BAT163-PV246
A59: 0.32 | B59: =[7]TK163!B59 -> 2,4,7 | C59: =[7]TK163!C59 -> 2,4,7. MALT structure | D59: =[7]TK163!D59 -> mesure de la prise de terre | E59: =[7]TK163!E59 -> ENTREPRISE GC + CR/SIG | F59: =[7]TK163!F59 -> 0
B60: =[7]TK163!B60 -> 0 | C60: =[7]TK163!C60 -> 0 | D60: =[7]TK163!D60 -> 0 | E60: =[7]TK163!E60 -> 0 | F60: =[7]TK163!F60 -> 0
B61: =[7]TK163!B61 -> 2,5,0 | C61: =[7]TK163!C61 -> Poutres | D61: =[7]TK163!D61 -> 0 | E61: =[7]TK163!E61 -> 0 | F61: =[7]TK163!F61 -> 0
A62: 0.33 | B62: =[7]TK163!B62 -> 2,5,1 | C62: =[7]TK163!C62 -> 2,5,1. Ferraillages | D62: =[7]TK163!D62 -> contrôle des sections | E62: =[7]TK163!E62 -> ENTREPRISE GC + BUREAU DE CONTROL | F62: =[7]TK163!F62 -> 0
A63: 0.33 | B63: =[7]TK163!B63 -> 2,5,2 | C63: =[7]TK163!C63 -> 2,5,2. MALT structure | D63: =[7]TK163!D63 -> continuité de la boucle de terre | E63: =[7]TK163!E63 -> ENTREPRISE GC + CR/SIG + BUREAU DE CONTROL | F63: =[7]TK163!F63 -> 0
A64: 0.33 | D64: =[7]TK163!D64 -> mesure de la prise de terre
A65: 0.33 | D65: =[7]TK163!D65 -> mise en œuvre des éléments de la MALT (voir remarque)
A66: 0.33 | B66: =[7]TK163!B66 -> 2,5,3 | C66: =[7]TK163!C66 -> 2,5,3. Coffrages | D66: =[7]TK163!D66 -> dimension, verticalité et linéarité | E66: =[7]TK163!E66 -> ENTREPRISE GC | F66: =[7]TK163!F66 -> 0
A67: 0.35 | B67: =[7]TK163!B67 -> 2,5,4 | C67: =[7]TK163!C67 -> 2,5,4. Essais sur béton frais | D67: =[7]TK163!D67 -> essai d'affaissement | E67: =[7]TK163!E67 -> ENTREPRISE GC + LABORATOIRE SOL | F67: =[7]TK163!F67 -> 0
A68: 0.61 | B68: =[7]TK163!B68 -> 2,5,5 | C68: =[7]TK163!C68 -> 2,5,5. Essais sur béton durci | D68: =[7]TK163!D68 -> essai de résistances mécaniques | E68: =[7]TK163!E68 -> ENTREPRISE GC + LABORATOIRE SOL | F68: =[7]TK163!F68 -> 0
A69: 0.33 | B69: =[7]TK163!B69 -> 2,5,6 | C69: =[7]TK163!C69 -> 2,5,6. Décoffrage/utilisation de l'ouvrage | D69: =[7]TK163!D69 -> séchage du béton | E69: =[7]TK163!E69 -> ENTREPRISE GC + CR/SIG | F69: =[7]TK163!F69 -> 0
A70: 0.34 | B70: =[7]TK163!B70 -> 2,5,7 | C70: =[7]TK163!C70 -> 2,5,7. MALT structure | D70: =[7]TK163!D70 -> mesure de la prise de terre | E70: =[7]TK163!E70 -> ENTREPRISE GC + CR/SIG | F70: =[7]TK163!F70 -> 0
B71: =[7]TK163!B71 -> 0 | C71: =[7]TK163!C71 -> 0 | D71: =[7]TK163!D71 -> 0 | E71: =[7]TK163!E71 -> 0 | F71: =[7]TK163!F71 -> 0
B72: =[7]TK163!B72 -> 2,6,0 | C72: =[7]TK163!C72 -> Acrotères | D72: =[7]TK163!D72 -> 0 | E72: =[7]TK163!E72 -> 0 | F72: =[7]TK163!F72 -> 0
A73: 0.44 | B73: =[7]TK163!B73 -> 2,6,1 | C73: =[7]TK163!C73 -> 2,6,1. Ferraillages | D73: =[7]TK163!D73 -> contrôle des sections | E73: =[7]TK163!E73 -> ENTREPRISE GC + BUREAU DE CONTROL | F73: =[7]TK163!F73 -> LGV-BAT163-PV261
A74: 0.44 | B74: =[7]TK163!B74 -> 2,6,2 | C74: =[7]TK163!C74 -> 2,6,2. MALT structure | D74: =[7]TK163!D74 -> continuité de la boucle de terre | E74: =[7]TK163!E74 -> ENTREPRISE GC + CR/SIG + BUREAU DE CONTROL | F74: =[7]TK163!F74 -> LGV-BAT163-PV262
A75: 0.44 | D75: =[7]TK163!D75 -> mesure de la prise de terre
A76: 0.44 | D76: =[7]TK163!D76 -> mise en œuvre des éléments de la MALT (voir remarque)
A77: 0.44 | B77: =[7]TK163!B77 -> 2,6,3 | C77: =[7]TK163!C77 -> 2,6,3. Coffrages | D77: =[7]TK163!D77 -> dimention, verticalité et linéarité | E77: =[7]TK163!E77 -> ENTREPRISE GC | F77: =[7]TK163!F77 -> LGV-BAT163-PV263
A78: 0.45 | B78: =[7]TK163!B78 -> 2,6,4 | C78: =[7]TK163!C78 -> 2,6,4. Essais sur béton frais | D78: =[7]TK163!D78 -> essai d'affaissement | E78: =[7]TK163!E78 -> ENTREPRISE GC + LABORATOIRE SOL | F78: =[7]TK163!F78 -> LGV-BAT163-PV264
A79: 0.74 | B79: =[7]TK163!B79 -> 2,6,5 | C79: =[7]TK163!C79 -> 2,6,5. Essais sur béton durci | D79: =[7]TK163!D79 -> essai de résistances mécaniques | E79: =[7]TK163!E79 -> ENTREPRISE GC + LABORATOIRE SOL | F79: =[7]TK163!F79 -> 0
A80: 0.48 | B80: =[7]TK163!B80 -> 2,6,6 | C80: =[7]TK163!C80 -> 2,6,6. Decofrage/utilisation de l'ouvrage | D80: =[7]TK163!D80 -> séchage du béton | E80: =[7]TK163!E80 -> ENTREPRISE GC + CR/SIG | F80: =[7]TK163!F80 -> LGV-BAT163-PV266
A81: 0.48 | B81: =[7]TK163!B81 -> 2,6,7 | C81: =[7]TK163!C81 -> 2,6,7. MALT structure | D81: =[7]TK163!D81 -> mesure de la prise de terre | E81: =[7]TK163!E81 -> ENTREPRISE GC + CR/SIG | F81: =[7]TK163!F81 -> 0
B82: =[7]TK163!B82 -> 0 | C82: =[7]TK163!C82 -> 0 | D82: =[7]TK163!D82 -> 0 | E82: =[7]TK163!E82 -> 0 | F82: =[7]TK163!F82 -> 0
B83: =[7]TK163!B83 -> 3 | C83: =[7]TK163!C83 -> DALLES | D83: =[7]TK163!D83 -> 0 | E83: =[7]TK163!E83 -> 0 | F83: =[7]TK163!F83 -> 0
A84: 0.09 | B84: =[7]TK163!B84 -> 3,0,1 | C84: =[7]TK163!C84 -> 3,0,1. Réseaux sous dallage | D84: =[7]TK163!D84 -> positionement des reseaux sous dallage | E84: =[7]TK163!E84 -> ENTREPRISE GC | F84: =[7]TK163!F84 -> LGV-BAT163-PV301
A85: 0.65 | B85: =[7]TK163!B85 -> 3,0,2 | C85: =[7]TK163!C85 -> 3,0,2. Compaction des sols | D85: =[7]TK163!D85 -> test de compaction | E85: =[7]TK163!E85 -> ENTREPRISE GC + LABORATOIRE SOL | F85: =[7]TK163!F85 -> 0
A86: 0.74 | B86: =[7]TK163!B86 -> 3,0,3 | C86: =[7]TK163!C86 -> 3,0,3. Coffrages | D86: =[7]TK163!D86 -> dimention, verticalité et linéarité | E86: =[7]TK163!E86 -> ENTREPRISE GC | F86: =[7]TK163!F86 -> LGV-BAT163-PV303
A87: 0.74 | B87: =[7]TK163!B87 -> 3,0,4 | C87: =[7]TK163!C87 -> 3,0,4. Ferraillages | D87: =[7]TK163!D87 -> contrôle des sections | E87: =[7]TK163!E87 -> ENTREPRISE GC + BUREAU DE CONTROL | F87: =[7]TK163!F87 -> 0
A88: 0.74 | B88: =[7]TK163!B88 -> 3,0,5 | C88: =[7]TK163!C88 -> 3,0,5. MALT dalle sur radier | D88: =[7]TK163!D88 -> continuité de la boucle de terre | E88: =[7]TK163!E88 -> ENTREPRISE GC + CR/SIG + BUREAU DE CONTROL | F88: =[7]TK163!F88 -> LGV-BAT163-PV305
A89: 0.74 | D89: =[7]TK163!D89 -> mesure de la prise de terre
A90: 0.74 | D90: =[7]TK163!D90 -> mise en œuvre des éléments de la MALT (voir remarque)
A91: 0.74 | B91: =[7]TK163!B91 -> 3,0,6 | C91: =[7]TK163!C91 -> 3,0,6.Essais sur béton frais | D91: =[7]TK163!D91 -> essai d'affaissement | E91: =[7]TK163!E91 -> ENTREPRISE GC + LABORATOIRE SOL | F91: =[7]TK163!F91 -> LGV-BAT163-PV306
A92: 0.83 | B92: =[7]TK163!B92 -> 3,0,7 | C92: =[7]TK163!C92 -> 3,0,7.Essais sur béton durci | D92: =[7]TK163!D92 -> essai de résistances mécaniques | E92: =[7]TK163!E92 -> ENTREPRISE GC + LABORATOIRE SOL | F92: =[7]TK163!F92 -> 0
A93: 0.76 | B93: =[7]TK163!B93 -> 3,0,8 | C93: =[7]TK163!C93 -> 3,0,8. Finition de la dalle | D93: =[7]TK163!D93 -> finition et planimétrie | E93: =[7]TK163!E93 -> ENTREPRISE GC + CR/SIG | F93: =[7]TK163!F93 -> 0
A94: 0.76 | B94: =[7]TK163!B94 -> 3,0,9 | C94: =[7]TK163!C94 -> 3,0,9. Décoffrage/utilisation de l'ouvrage | D94: =[7]TK163!D94 -> séchage du béton | E94: =[7]TK163!E94 -> ENTREPRISE GC + CR/SIG | F94: =[7]TK163!F94 -> 0
A95: 0.76 | B95: =[7]TK163!B95 -> 3,0,10 | C95: =[7]TK163!C95 -> 3,0,10. MALT dalle sur radier | D95: =[7]TK163!D95 -> mesure de la prise de terre | E95: =[7]TK163!E95 -> ENTREPRISE GC + CR/SIG | F95: =[7]TK163!F95 -> 0
B96: =[7]TK163!B96 -> 0 | C96: =[7]TK163!C96 -> 0 | D96: =[7]TK163!D96 -> 0 | E96: =[7]TK163!E96 -> 0 | F96: =[7]TK163!F96 -> 0
B97: =[7]TK163!B97 -> 0 | C97: =[7]TK163!C97 -> 0 | D97: =[7]TK163!D97 -> 0 | E97: =[7]TK163!E97 -> 0 | F97: =[7]TK163!F97 -> 0
B98: =[7]TK163!B98 -> 0 | C98: =[7]TK163!C98 -> 0 | D98: =[7]TK163!D98 -> 0 | E98: =[7]TK163!E98 -> 0 | F98: =[7]TK163!F98 -> 0
B99: =[7]TK163!B99 -> 0 | C99: =[7]TK163!C99 -> 0 | D99: =[7]TK163!D99 -> 0 | E99: =[7]TK163!E99 -> 0 | F99: =[7]TK163!F99 -> 0
B100: =[7]TK163!B100 -> 0 | C100: =[7]TK163!C100 -> 0 | D100: =[7]TK163!D100 -> 0 | E100: =[7]TK163!E100 -> 0 | F100: =[7]TK163!F100 -> 0
B101: =[7]TK163!B101 -> 4 | C101: =[7]TK163!C101 -> PLANCHERS | D101: =[7]TK163!D101 -> 0 | E101: =[7]TK163!E101 -> 0 | F101: =[7]TK163!F101 -> 0
...

Sheet C2
B1: =[8]C2!B1 -> 0 | C1: =[8]C2!C1 -> 0 | D1: =[8]C2!D1 -> 0 | E1: =[8]C2!E1 -> 0 | F1: =[8]C2!F1 -> 0
B2: =[8]C2!B2 -> PV & FC du bâtiment LGV TK C2
B3: =[8]C2!B3 -> 0 | C3: =[8]C2!C3 -> 0 | D3: =[8]C2!D3 -> 0 | E3: =[8]C2!E3 -> 0 | F3: =[8]C2!F3 -> 0
A4: Avancement | B4: =[8]C2!B4 -> Tache | C4: =[8]C2!C4 -> Contrôles réalisés | D4: =[8]C2!D4 -> Contrôles réalisés | E4: =[8]C2!E4 -> Entités réalisant les contrôles | F4: =[8]C2!F4 -> PV ou FC
B6: =[8]C2!B6 -> 0 | C6: =[8]C2!C6 -> Mise a disposition plateforme 1 LGV TK C2 | D6: =[8]C2!D6 -> 0 | E6: =[8]C2!E6 -> 0 | F6: =[8]C2!F6 -> LGV-BAT,C2-MISE A DISPOSITION 1
B7: =[8]C2!B7 -> 0 | C7: =[8]C2!C7 -> Compte rendu d'ispection commune | D7: =[8]C2!D7 -> 0 | E7: =[8]C2!E7 -> 0 | F7: =[8]C2!F7 -> LGV-BAT,C2-Compte rendu d'inspection
B8: =[8]C2!B8 -> 1 | C8: =[7]TK163!C8 -> TERRASSEMENT | D8: =[8]C2!D8 -> 0 | E8: =[8]C2!E8 -> 0 | F8: =[8]C2!F8 -> 0
B9: =[8]C2!B9 -> 1,0,1 | C9: =[7]TK163!C9 -> 1,0,1. Implantation du bâtiment | D9: =[8]C2!D9 -> écarts d'implantation | E9: =[8]C2!E9 -> ENTREPRISE GC + GEOMETRE + CR SIG | F9: =[8]C2!F9 -> LGV-BAT,C2-PV101
A10: 0.01 | B10: =[8]C2!B10 -> 1,0,2 | C10: =[7]TK163!C10 -> 1,0,2. Fond de fouille | D10: =[8]C2!D10 -> contrôle des dimensions | E10: =[8]C2!E10 -> ENTREPRISE GC + LABORATOIRE SOL + BUREAU DE CONTROL | F10: =[8]C2!F10 -> LGV-BAT,C2-PV102
A11: 0.01 | D11: =[8]C2!D11 -> contrôle de la nature du sol
A12: 0.7 | B12: =[8]C2!B12 -> 1,0,3 | C12: =[7]TK163!C12 -> 1,0,3. Compaction des sols | D12: =[8]C2!D12 -> test de compaction | E12: =[8]C2!E12 -> ENTREPRISE GC + CR/SIG + LABORATOIRE SOL | F12: =[8]C2!F12 -> LGV-BAT,C2-PV103
A13: 0.026 | B13: =[8]C2!B13 -> 1,0,4 | C13: =[7]TK163!C13 -> 1,0,4. MALT fond de fouille | D13: =[8]C2!D13 -> continuité de la boucle de terre | E13: =[8]C2!E13 -> ENTREPRISE GC + CR/SIG | F13: =[8]C2!F13 -> LGV-BAT,C2PV214
A14: 0.026 | D14: =[8]C2!D14 -> remontées du câble de fond de fouille
B15: =[8]C2!B15 -> 2 | C15: =[7]TK163!C15 -> STRUCTURES | D15: =[8]C2!D15 -> 0 | E15: =[8]C2!E15 -> 0 | F15: =[8]C2!F15 -> 0
B16: =[8]C2!B16 -> 2.1 | C16: =[7]TK163!C16 -> Semelles | D16: =[8]C2!D16 -> 0 | E16: =[8]C2!E16 -> 0 | F16: =[8]C2!F16 -> 0
A17: 0.03 | B17: =[8]C2!B17 -> 2,1,1 | C17: =[7]TK163!C17 -> 2,1,1. Coffrages | D17: =[8]C2!D17 -> dimension, verticalité et linéarité | E17: =[8]C2!E17 -> ENTREPRISE GC | F17: =[8]C2!F17 -> LGV-BAT,C2PV211
A18: 0.03 | B18: =[8]C2!B18 -> 2,1,2 | C18: =[7]TK163!C18 -> 2,1,2. Ferraillages | D18: =[8]C2!D18 -> contrôle des sections | E18: =[8]C2!E18 -> ENTREPRISE GC + BUREAU DE CONTROL | F18: =[8]C2!F18 -> LGV-BAT,C2PV212
A19: 0.04 | B19: =[8]C2!B19 -> 2,1,3 | C19: =[7]TK163!C19 -> 2,1,3. MALT fond de fouille / structure | D19: =[8]C2!D19 -> continuité de la boucle de terre | E19: =[8]C2!E19 -> ENTREPRISE GC + CR/SIG + BUREAU DE CONTROL | F19: =[8]C2!F19 -> LGV-BAT,C2PV213
A20: 0.04 | D20: =[8]C2!D20 -> mesure de la prise de terre
A21: 0.04 | D21: =[8]C2!D21 -> mise en œuvre des éléments de la MALT (voir remarque)
A22: 0.04 | B22: =[8]C2!B22 -> 2,1,4 | C22: =[7]TK163!C22 -> 2,1,4. Essais sur béton frais | D22: =[8]C2!D22 -> essai d'affaissement | E22: =[8]C2!E22 -> ENTREPRISE GC + LABORATOIRE SOL | F22: =[8]C2!F22 -> LGV-BAT,C2-PV214
A23: 0.44 | B23: =[8]C2!B23 -> 2,1,5 | C23: =[7]TK163!C23 -> 2,1,5. Essais sur béton durci | D23: =[8]C2!D23 -> essai de résistances mécaniques | E23: =[8]C2!E23 -> ENTREPRISE GC + LABORATOIRE SOL | F23: =[8]C2!F23 -> 0
A24: 0.05 | B24: =[8]C2!B24 -> 2,1,6 | C24: =[7]TK163!C24 -> 2,1,6. Décoffrage/utilisation de l'ouvrage | D24: =[8]C2!D24 -> séchage du béton | E24: =[8]C2!E24 -> ENTREPRISE GC + CR/SIG | F24: =[8]C2!F24 -> LGV-BAT,C2-PV216
A25: 0.05 | B25: =[8]C2!B25 -> 2,1,7 | C25: =[7]TK163!C25 -> 2,1,7. MALT fond de fouille / structure | D25: =[8]C2!D25 -> mesure de la prise de terre | E25: =[8]C2!E25 -> ENTREPRISE GC + CR/SIG | F25: =[8]C2!F25 -> 0
B26: =[8]C2!B26 -> 0 | C26: =[7]TK163!C26 -> 0 | D26: =[8]C2!D26 -> 0 | E26: =[8]C2!E26 -> 0 | F26: =[8]C2!F26 -> 0
B27: =[8]C2!B27 -> 2.2 | C27: =[7]TK163!C27 -> Longrines | D27: =[8]C2!D27 -> 0 | E27: =[8]C2!E27 -> 0 | F27: =[8]C2!F27 -> 0
B28: =[8]C2!B28 -> 0 | C28: =[7]TK163!C28 -> Longrines | D28: =[8]C2!D28 -> 0 | E28: =[8]C2!E28 -> 0 | F28: =[8]C2!F28 -> 0
A29: 0.06 | B29: =[8]C2!B29 -> 2,2,1 | C29: =[7]TK163!C29 -> 2,2,1. Ferraillages | D29: =[8]C2!D29 -> contrôle des sections | E29: =[8]C2!E29 -> ENTREPRISE GC + BUREAU DE CONTROL | F29: =[8]C2!F29 -> LGV-BAT,C2-PV221
A30: 0.03 | B30: =[8]C2!B30 -> 2,2,2 | C30: =[7]TK163!C30 -> 2,2,2. MALT fond de fouille / structure | D30: =[8]C2!D30 -> continuité de la boucle de terre | E30: =[8]C2!E30 -> ENTREPRISE GC + CR/SIG + BUREAU DE CONTROL | F30: =[8]C2!F30 -> LGV-BAT,C2-PV222
A31: 0.03 | D31: =[8]C2!D31 -> mesure de la prise de terre
A32: 0.03 | D32: =[8]C2!D32 -> mise en œuvre des éléments de la MALT (voir remarque)
A33: 0.06 | B33: =[8]C2!B33 -> 2,2,3 | C33: =[7]TK163!C33 -> 2,2,3. Coffrages | D33: =[8]C2!D33 -> dimension, verticalité et linéarité | E33: =[8]C2!E33 -> ENTREPRISE GC | F33: =[8]C2!F33 -> LGV-BAT,C2-PV223
A34: 0.06 | B34: =[8]C2!B34 -> 2,2,4 | C34: =[7]TK163!C34 -> 2,2,4. Essais sur béton frais | D34: =[8]C2!D34 -> essai d'affaissement | E34: =[8]C2!E34 -> ENTREPRISE GC + LABORATOIRE SOL | F34: =[8]C2!F34 -> LGV-BAT,C2-PV224
A35: 0.52 | B35: =[8]C2!B35 -> 2,2,5 | C35: =[7]TK163!C35 -> 2,2,5. Essais sur béton durci | D35: =[8]C2!D35 -> essai de résistances mécaniques | E35: =[8]C2!E35 -> ENTREPRISE GC + LABORATOIRE SOL | F35: =[8]C2!F35 -> 0
A36: 0.08 | B36: =[8]C2!B36 -> 2,2,6 | C36: =[7]TK163!C36 -> 2,2,6. Décoffrage/utilisation de l'ouvrage | D36: =[8]C2!D36 -> séchage du béton | E36: =[8]C2!E36 -> ENTREPRISE GC + CR/SIG | F36: =[8]C2!F36 -> LGV-BAT,C2-PV226
A37: 0.08 | B37: =[8]C2!B37 -> 2,2,7 | C37: =[7]TK163!C37 -> 2,2,7. MALT fond de fouille / structure | D37: =[8]C2!D37 -> mesure de la prise de terre | E37: =[8]C2!E37 -> ENTREPRISE GC + CR/SIG | F37: =[8]C2!F37 -> 0
B38: =[8]C2!B38 -> 0 | C38: =[7]TK163!C38 -> 0 | D38: =[8]C2!D38 -> 0 | E38: =[8]C2!E38 -> 0 | F38: =[8]C2!F38 -> 0
B39: =[8]C2!B39 -> 2,3,0 | C39: =[7]TK163!C39 -> Poteaux raidisseur | D39: =[8]C2!D39 -> 0 | E39: =[8]C2!E39 -> 0 | F39: =[8]C2!F39 -> 0
A40: 0.09 | B40: =[8]C2!B40 -> 2,3,1 | C40: =[7]TK163!C40 -> 2,3,1. Ferraillages | D40: =[8]C2!D40 -> contrôle des sections | E40: =[8]C2!E40 -> ENTREPRISE GC + BUREAU DE CONTROL | F40: =[8]C2!F40 -> LGV-BAT,C2-PV231
A41: 0.09 | B41: =[8]C2!B41 -> 2,3,2 | C41: =[7]TK163!C41 -> 2,3,2. MALT structure | D41: =[8]C2!D41 -> continuité de la boucle de terre | E41: =[8]C2!E41 -> ENTREPRISE GC + CR/SIG + BUREAU DE CONTROL | F41: =[8]C2!F41 -> 0
A42: 0.09 | D42: =[8]C2!D42 -> mesure de la prise de terre
A43: 0.09 | D43: =[8]C2!D43 -> mise en œuvre des éléments de la MALT (voir remarque)
A44: 0.09 | B44: =[8]C2!B44 -> 2,3,3 | C44: =[7]TK163!C44 -> 2,3,3. Coffrages | D44: =[8]C2!D44 -> dimension, verticalité et linéarité | E44: =[8]C2!E44 -> ENTREPRISE GC | F44: =[8]C2!F44 -> 0
A45: 0.1 | B45: =[8]C2!B45 -> 2,3,4 | C45: =[7]TK163!C45 -> 2,3,4. Essais sur béton frais | D45: =[8]C2!D45 -> essai d'affaissement | E45: =[8]C2!E45 -> ENTREPRISE GC + LABORATOIRE SOL | F45: =[8]C2!F45 -> 0
A46: 0.57 | B46: =[8]C2!B46 -> 2,3,5 | C46: =[7]TK163!C46 -> 2,3,5. Essais sur béton durci | D46: =[8]C2!D46 -> essai de résistances mécaniques | E46: =[8]C2!E46 -> ENTREPRISE GC + LABORATOIRE SOL | F46: =[8]C2!F46 -> 0
A47: 0.13 | B47: =[8]C2!B47 -> 2,3,6 | C47: =[7]TK163!C47 -> 2,3,6. Décoffrage/utilisation de l'ouvrage | D47: =[8]C2!D47 -> séchage du béton | E47: =[8]C2!E47 -> ENTREPRISE GC + CR/SIG | F47: =[8]C2!F47 -> 0
A48: 0.13 | B48: =[8]C2!B48 -> 2,3,7 | C48: =[7]TK163!C48 -> 2,3,7. MALT structure | D48: =[8]C2!D48 -> mesure de la prise de terre | E48: =[8]C2!E48 -> ENTREPRISE GC + CR/SIG | F48: =[8]C2!F48 -> 0
B49: =[8]C2!B49 -> 0 | C49: =[7]TK163!C49 -> 0 | D49: =[8]C2!D49 -> 0 | E49: =[8]C2!E49 -> 0 | F49: =[8]C2!F49 -> 0
B50: =[8]C2!B50 -> 2,4,0 | C50: =[7]TK163!C50 -> Chainages et linteaux | D50: =[8]C2!D50 -> 0 | E50: =[8]C2!E50 -> 0 | F50: =[8]C2!F50 -> 0
A51: 0.22 | B51: =[8]C2!B51 -> 2,4,1 | C51: =[7]TK163!C51 -> 2,4,1. Ferraillages | D51: =[8]C2!D51 -> contrôle des sections | E51: =[8]C2!E51 -> ENTREPRISE GC + BUREAU DE CONTROL | F51: =[8]C2!F51 -> LGV-BAT,C2PV241
A52: 0.22 | B52: =[8]C2!B52 -> 2,4,2 | C52: =[7]TK163!C52 -> 2,4,2. MALT structure | D52: =[8]C2!D52 -> continuité de la boucle de terre | E52: =[8]C2!E52 -> ENTREPRISE GC + CR/SIG + BUREAU DE CONTROL | F52: =[8]C2!F52 -> 0
A53: 0.22 | D53: =[8]C2!D53 -> mesure de la prise de terre
A54: 0.22 | D54: =[8]C2!D54 -> mise en œuvre des éléments de la MALT (voir remarque)
A55: 0.22 | B55: =[8]C2!B55 -> 2,4,3 | C55: =[7]TK163!C55 -> 2,4,3. Coffrages | D55: =[8]C2!D55 -> dimension, verticalité et linéarité | E55: =[8]C2!E55 -> ENTREPRISE GC | F55: =[8]C2!F55 -> 0
A56: 0.23 | B56: =[8]C2!B56 -> 2,4,4 | C56: =[7]TK163!C56 -> 2,4,4. Essais sur béton frais | D56: =[8]C2!D56 -> essai d'affaissement | E56: =[8]C2!E56 -> ENTREPRISE GC + LABORATOIRE SOL | F56: =[8]C2!F56 -> 0
A57: 0.61 | B57: =[8]C2!B57 -> 2,4,5 | C57: =[7]TK163!C57 -> 2,4,5. Essais sur béton durci | D57: =[8]C2!D57 -> essai de résistances mécaniques | E57: =[8]C2!E57 -> ENTREPRISE GC + LABORATOIRE SOL | F57: =[8]C2!F57 -> 0
A58: 0.32 | B58: =[8]C2!B58 -> 2,4,6 | C58: =[7]TK163!C58 -> 2,4,6. Décoffrage/utilisation de l'ouvrage | D58: =[8]C2!D58 -> séchage du béton | E58: =[8]C2!E58 -> ENTREPRISE GC + CR/SIG | F58: =[8]C2!F58 -> 0
A59: 0.32 | B59: =[8]C2!B59 -> 2,4,7 | C59: =[7]TK163!C59 -> 2,4,7. MALT structure | D59: =[8]C2!D59 -> mesure de la prise de terre | E59: =[8]C2!E59 -> ENTREPRISE GC + CR/SIG | F59: =[8]C2!F59 -> 0
B60: =[8]C2!B60 -> 0 | C60: =[7]TK163!C60 -> 0 | D60: =[8]C2!D60 -> 0 | E60: =[8]C2!E60 -> 0 | F60: =[8]C2!F60 -> 0
B61: =[8]C2!B61 -> 2,5,0 | C61: =[7]TK163!C61 -> Poutres | D61: =[8]C2!D61 -> 0 | E61: =[8]C2!E61 -> 0 | F61: =[8]C2!F61 -> 0
A62: 0.33 | B62: =[8]C2!B62 -> 2,5,1 | C62: =[7]TK163!C62 -> 2,5,1. Ferraillages | D62: =[8]C2!D62 -> contrôle des sections | E62: =[8]C2!E62 -> ENTREPRISE GC + BUREAU DE CONTROL | F62: =[8]C2!F62 -> 0
A63: 0.33 | B63: =[8]C2!B63 -> 2,5,2 | C63: =[7]TK163!C63 -> 2,5,2. MALT structure | D63: =[8]C2!D63 -> continuité de la boucle de terre | E63: =[8]C2!E63 -> ENTREPRISE GC + CR/SIG + BUREAU DE CONTROL | F63: =[8]C2!F63 -> 0
A64: 0.33 | D64: =[8]C2!D64 -> mesure de la prise de terre
A65: 0.33 | D65: =[8]C2!D65 -> mise en œuvre des éléments de la MALT (voir remarque)
A66: 0.33 | B66: =[8]C2!B66 -> 2,5,3 | C66: =[7]TK163!C66 -> 2,5,3. Coffrages | D66: =[8]C2!D66 -> dimension, verticalité et linéarité | E66: =[8]C2!E66 -> ENTREPRISE GC | F66: =[8]C2!F66 -> 0
A67: 0.35 | B67: =[8]C2!B67 -> 2,5,4 | C67: =[7]TK163!C67 -> 2,5,4. Essais sur béton frais | D67: =[8]C2!D67 -> essai d'affaissement | E67: =[8]C2!E67 -> ENTREPRISE GC + LABORATOIRE SOL | F67: =[8]C2!F67 -> 0
A68: 0.61 | B68: =[8]C2!B68 -> 2,5,5 | C68: =[7]TK163!C68 -> 2,5,5. Essais sur béton durci | D68: =[8]C2!D68 -> essai de résistances mécaniques | E68: =[8]C2!E68 -> ENTREPRISE GC + LABORATOIRE SOL | F68: =[8]C2!F68 -> 0
A69: 0.33 | B69: =[8]C2!B69 -> 2,5,6 | C69: =[7]TK163!C69 -> 2,5,6. Décoffrage/utilisation de l'ouvrage | D69: =[8]C2!D69 -> séchage du béton | E69: =[8]C2!E69 -> ENTREPRISE GC + CR/SIG | F69: =[8]C2!F69 -> 0
A70: 0.34 | B70: =[8]C2!B70 -> 2,5,7 | C70: =[7]TK163!C70 -> 2,5,7. MALT structure | D70: =[8]C2!D70 -> mesure de la prise de terre | E70: =[8]C2!E70 -> ENTREPRISE GC + CR/SIG | F70: =[8]C2!F70 -> 0
B71: =[8]C2!B71 -> 0 | C71: =[7]TK163!C71 -> 0 | D71: =[8]C2!D71 -> 0 | E71: =[8]C2!E71 -> 0 | F71: =[8]C2!F71 -> 0
B72: =[8]C2!B72 -> 2,6,0 | C72: =[7]TK163!C72 -> Acrotères | D72: =[8]C2!D72 -> 0 | E72: =[8]C2!E72 -> 0 | F72: =[8]C2!F72 -> 0
A73: 0.44 | B73: =[8]C2!B73 -> 2,6,1 | C73: =[7]TK163!C73 -> 2,6,1. Ferraillages | D73: =[8]C2!D73 -> contrôle des sections | E73: =[8]C2!E73 -> ENTREPRISE GC + BUREAU DE CONTROL | F73: =[8]C2!F73 -> 0
A74: 0.44 | B74: =[8]C2!B74 -> 2,6,2 | C74: =[7]TK163!C74 -> 2,6,2. MALT structure | D74: =[8]C2!D74 -> continuité de la boucle de terre | E74: =[8]C2!E74 -> ENTREPRISE GC + CR/SIG + BUREAU DE CONTROL | F74: =[8]C2!F74 -> 0
A75: 0.44 | D75: =[8]C2!D75 -> mesure de la prise de terre
A76: 0.44 | D76: =[8]C2!D76 -> mise en œuvre des éléments de la MALT (voir remarque)
A77: 0.44 | B77: =[8]C2!B77 -> 2,6,3 | C77: =[7]TK163!C77 -> 2,6,3. Coffrages | D77: =[8]C2!D77 -> dimention, verticalité et linéarité | E77: =[8]C2!E77 -> ENTREPRISE GC | F77: =[8]C2!F77 -> 0
A78: 0.45 | B78: =[8]C2!B78 -> 2,6,4 | C78: =[7]TK163!C78 -> 2,6,4. Essais sur béton frais | D78: =[8]C2!D78 -> essai d'affaissement | E78: =[8]C2!E78 -> ENTREPRISE GC + LABORATOIRE SOL | F78: =[8]C2!F78 -> 0
A79: 0.74 | B79: =[8]C2!B79 -> 2,6,5 | C79: =[7]TK163!C79 -> 2,6,5. Essais sur béton durci | D79: =[8]C2!D79 -> essai de résistances mécaniques | E79: =[8]C2!E79 -> ENTREPRISE GC + LABORATOIRE SOL | F79: =[8]C2!F79 -> 0
A80: 0.48 | B80: =[8]C2!B80 -> 2,6,6 | C80: =[7]TK163!C80 -> 2,6,6. Decofrage/utilisation de l'ouvrage | D80: =[8]C2!D80 -> séchage du béton | E80: =[8]C2!E80 -> ENTREPRISE GC + CR/SIG | F80: =[8]C2!F80 -> 0
A81: 0.48 | B81: =[8]C2!B81 -> 2,6,7 | C81: =[7]TK163!C81 -> 2,6,7. MALT structure | D81: =[8]C2!D81 -> mesure de la prise de terre | E81: =[8]C2!E81 -> ENTREPRISE GC + CR/SIG | F81: =[8]C2!F81 -> 0
B82: =[8]C2!B82 -> 0 | C82: =[7]TK163!C82 -> 0 | D82: =[8]C2!D82 -> 0 | E82: =[8]C2!E82 -> 0 | F82: =[8]C2!F82 -> 0
B83: =[8]C2!B83 -> 3 | C83: =[7]TK163!C83 -> DALLES | D83: =[8]C2!D83 -> 0 | E83: =[8]C2!E83 -> 0 | F83: =[8]C2!F83 -> 0
A84: 0.09 | B84: =[8]C2!B84 -> 3,0,1 | C84: =[7]TK163!C84 -> 3,0,1. Réseaux sous dallage | D84: =[8]C2!D84 -> positionement des reseaux sous dallage | E84: =[8]C2!E84 -> ENTREPRISE GC | F84: =[8]C2!F84 -> 0
A85: 0.65 | B85: =[8]C2!B85 -> 3,0,2 | C85: =[7]TK163!C85 -> 3,0,2. Compaction des sols | D85: =[8]C2!D85 -> test de compaction | E85: =[8]C2!E85 -> ENTREPRISE GC + LABORATOIRE SOL | F85: =[8]C2!F85 -> 0
A86: 0.74 | B86: =[8]C2!B86 -> 3,0,3 | C86: =[7]TK163!C86 -> 3,0,3. Coffrages | D86: =[8]C2!D86 -> dimention, verticalité et linéarité | E86: =[8]C2!E86 -> ENTREPRISE GC | F86: =[8]C2!F86 -> 0
A87: 0.74 | B87: =[8]C2!B87 -> 3,0,4 | C87: =[7]TK163!C87 -> 3,0,4. Ferraillages | D87: =[8]C2!D87 -> contrôle des sections | E87: =[8]C2!E87 -> ENTREPRISE GC + BUREAU DE CONTROL | F87: =[8]C2!F87 -> 0
A88: 0.74 | B88: =[8]C2!B88 -> 3,0,5 | C88: =[7]TK163!C88 -> 3,0,5. MALT dalle sur radier | D88: =[8]C2!D88 -> continuité de la boucle de terre | E88: =[8]C2!E88 -> ENTREPRISE GC + CR/SIG + BUREAU DE CONTROL | F88: =[8]C2!F88 -> 0
A89: 0.74 | D89: =[8]C2!D89 -> mesure de la prise de terre
A90: 0.74 | D90: =[8]C2!D90 -> mise en œuvre des éléments de la MALT (voir remarque)
A91: 0.74 | B91: =[8]C2!B91 -> 3,0,6 | C91: =[7]TK163!C91 -> 3,0,6.Essais sur béton frais | D91: =[8]C2!D91 -> essai d'affaissement | E91: =[8]C2!E91 -> ENTREPRISE GC + LABORATOIRE SOL | F91: =[8]C2!F91 -> 0
A92: 0.83 | B92: =[8]C2!B92 -> 3,0,7 | C92: =[7]TK163!C92 -> 3,0,7.Essais sur béton durci | D92: =[8]C2!D92 -> essai de résistances mécaniques | E92: =[8]C2!E92 -> ENTREPRISE GC + LABORATOIRE SOL | F92: =[8]C2!F92 -> 0
A93: 0.76 | B93: =[8]C2!B93 -> 3,0,8 | C93: =[7]TK163!C93 -> 3,0,8. Finition de la dalle | D93: =[8]C2!D93 -> finition et planimétrie | E93: =[8]C2!E93 -> ENTREPRISE GC + CR/SIG | F93: =[8]C2!F93 -> 0
A94: 0.76 | B94: =[8]C2!B94 -> 3,0,9 | C94: =[7]TK163!C94 -> 3,0,9. Décoffrage/utilisation de l'ouvrage | D94: =[8]C2!D94 -> séchage du béton | E94: =[8]C2!E94 -> ENTREPRISE GC + CR/SIG | F94: =[8]C2!F94 -> 0
A95: 0.76 | B95: =[8]C2!B95 -> 3,0,10 | C95: =[7]TK163!C95 -> 3,0,10. MALT dalle sur radier | D95: =[8]C2!D95 -> mesure de la prise de terre | E95: =[8]C2!E95 -> ENTREPRISE GC + CR/SIG | F95: =[8]C2!F95 -> 0
B96: =[8]C2!B96 -> 0 | C96: =[7]TK163!C96 -> 0 | D96: =[8]C2!D96 -> 0 | E96: =[8]C2!E96 -> 0 | F96: =[8]C2!F96 -> 0
B97: =[8]C2!B97 -> 0 | C97: =[7]TK163!C97 -> 0 | D97: =[8]C2!D97 -> 0 | E97: =[8]C2!E97 -> 0 | F97: =[8]C2!F97 -> 0
B98: =[8]C2!B98 -> 0 | C98: =[7]TK163!C98 -> 0 | D98: =[8]C2!D98 -> 0 | E98: =[8]C2!E98 -> 0 | F98: =[8]C2!F98 -> 0
B99: =[8]C2!B99 -> 0 | C99: =[7]TK163!C99 -> 0 | D99: =[8]C2!D99 -> 0 | E99: =[8]C2!E99 -> 0 | F99: =[8]C2!F99 -> 0
B100: =[8]C2!B100 -> 0 | C100: =[7]TK163!C100 -> 0 | D100: =[8]C2!D100 -> 0 | E100: =[8]C2!E100 -> 0 | F100: =[8]C2!F100 -> 0
B101: =[8]C2!B101 -> 4 | C101: =[7]TK163!C101 -> PLANCHERS | D101: =[8]C2!D101 -> 0 | E101: =[8]C2!E101 -> 0 | F101: =[8]C2!F101 -> 0
...

Sheet Suivi Qualité PV
A3: Calcul du nombre de PV inscrit | B3: PV non inscrit | C3: Contrainte avancement | D3: Indice PV | E3: Ref PV non inscrit | H3: Ref PV manquant réel | P3: Nombre de PV Réel | Q3: Nombre de PV théorique
A4: =IF(F4,1,0) -> 0 | B4: =IF(F4,0,1) -> 1 | C4: =IF(INDIRECT($K$12&"!A8")<='Suivi Qualité PV'!$L$12,1,0) -> 1 | D4: =IF(AND(B4=1,C4=1),1,0) -> 1 | E4: =IF(F4,0,G4) -> 1 | F4: =ISTEXT(INDIRECT($K$12&"!F8")) -> FALSE | G4: 1 | H4: =IF(AND(D4<>0,E4<>0),G4,"") -> 1 | P4: =A179 -> 17 | Q4: =VLOOKUP(L12,P16:Q116,2) -> 96
A5: =IF(F5,1,0) -> 1 | B5: =IF(F5,0,1) -> 0 | C5: =IF(INDIRECT($K$12&"!A9")<='Suivi Qualité PV'!$L$12,1,0) -> 1 | D5: =IF(AND(B5=1,C5=1),1,0) -> 0 | E5: =IF(F5,0,G5) -> 0 | F5: =ISTEXT(INDIRECT($K$12&"!F9")) -> TRUE | G5: 1,0,1 | H5: =IF(AND(D5<>0,E5<>0),G5,"")
A6: =IF(F6,1,0) -> 1 | B6: =IF(F6,0,1) -> 0 | C6: =IF(INDIRECT($K$12&"!A10")<='Suivi Qualité PV'!$L$12,1,0) -> 1 | D6: =IF(AND(B6=1,C6=1),1,0) -> 0 | E6: =IF(F6,0,G6) -> 0 | F6: =ISTEXT(INDIRECT($K$12&"!F10")) -> TRUE | G6: 1,0,2 | H6: =IF(AND(D6<>0,E6<>0),G6,"")
A7: =IF(F7,1,0) -> 0 | B7: =IF(F7,0,1) -> 1 | C7: =IF(INDIRECT($K$12&"!A11")<='Suivi Qualité PV'!$L$12,1,0) -> 1 | D7: =IF(AND(B7=1,C7=1),1,0) -> 1 | E7: =IF(F7,0,G7) -> 0 | F7: =ISTEXT(INDIRECT($K$12&"!F11")) -> FALSE | H7: =IF(AND(D7<>0,E7<>0),G7,"")
A8: =IF(F8,1,0) -> 1 | B8: =IF(F8,0,1) -> 0 | C8: =IF(INDIRECT($K$12&"!A12")<='Suivi Qualité PV'!$L$12,1,0) -> 1 | D8: =IF(AND(B8=1,C8=1),1,0) -> 0 | E8: =IF(F8,0,G8) -> 0 | F8: =ISTEXT(INDIRECT($K$12&"!F12")) -> TRUE | G8: 1,0,3 | H8: =IF(AND(D8<>0,E8<>0),G8,"") | P8: =COUNTA(N12:N187) -> 176
A9: =IF(F9,1,0) -> 1 | B9: =IF(F9,0,1) -> 0 | C9: =IF(INDIRECT($K$12&"!A13")<='Suivi Qualité PV'!$L$12,1,0) -> 1 | D9: =IF(AND(B9=1,C9=1),1,0) -> 0 | E9: =IF(F9,0,G9) -> 0 | F9: =ISTEXT(INDIRECT($K$12&"!F13")) -> TRUE | G9: 1,0,4 | H9: =IF(AND(D9<>0,E9<>0),G9,"") | P9: =COUNTBLANK(N12:N187) -> 75
A10: =IF(F10,1,0) -> 0 | B10: =IF(F10,0,1) -> 1 | C10: =IF(INDIRECT($K$12&"!A14")<='Suivi Qualité PV'!$L$12,1,0) -> 1 | D10: =IF(AND(B10=1,C10=1),1,0) -> 1 | E10: =IF(F10,0,G10) -> 0 | F10: =ISTEXT(INDIRECT($K$12&"!F14")) -> FALSE | H10: =IF(AND(D10<>0,E10<>0),G10,"") | P10: =P8-P9 -> 101
A11: =IF(F11,1,0) -> 0 | B11: =IF(F11,0,1) -> 1 | C11: =IF(INDIRECT($K$12&"!A15")<='Suivi Qualité PV'!$L$12,1,0) -> 1 | D11: =IF(AND(B11=1,C11=1),1,0) -> 1 | E11: =IF(F11,0,G11) -> 2 | F11: =ISTEXT(INDIRECT($K$12&"!F15")) -> FALSE | G11: 2 | H11: =IF(AND(D11<>0,E11<>0),G11,"") -> 2 | K11: Reference Batiment TK | L11: Avancement | M11: Nb de PV manquant | N11: Reference PV manquant | P11: =P10-22 -> 79
A12: =IF(F12,1,0) -> 0 | B12: =IF(F12,0,1) -> 1 | C12: =IF(INDIRECT($K$12&"!A16")<='Suivi Qualité PV'!$L$12,1,0) -> 1 | D12: =IF(AND(B12=1,C12=1),1,0) -> 1 | E12: =IF(F12,0,G12) -> 2.1 | F12: =ISTEXT(INDIRECT($K$12&"!F16")) -> FALSE | G12: 2.1 | H12: =IF(AND(D12<>0,E12<>0),G12,"") -> 2.1 | K12: C2 | L12: 1 | M12: =P11 -> 79 | N12: {=IFERROR(INDEX(INDIRECT($K$12&"!$C:$C"),SMALL(IF($H$4:$H$178<>"",ROW(INDIRECT($K$12&"!$C$8"):INDIRECT($K$12&"!$C$182"))),ROW(A1))),"")} -> TERRASSEMENT
A13: =IF(F13,1,0) -> 1 | B13: =IF(F13,0,1) -> 0 | C13: =IF(INDIRECT($K$12&"!A17")<='Suivi Qualité PV'!$L$12,1,0) -> 1 | D13: =IF(AND(B13=1,C13=1),1,0) -> 0 | E13: =IF(F13,0,G13) -> 0 | F13: =ISTEXT(INDIRECT($K$12&"!F17")) -> TRUE | G13: 2,1,1 | H13: =IF(AND(D13<>0,E13<>0),G13,"") | N13: {=IFERROR(INDEX(INDIRECT($K$12&"!$C:$C"),SMALL(IF($H$4:$H$178<>"",ROW(INDIRECT($K$12&"!$C$8"):INDIRECT($K$12&"!$C$182"))),ROW(A2))),"")} -> STRUCTURES
A14: =IF(F14,1,0) -> 1 | B14: =IF(F14,0,1) -> 0 | C14: =IF(INDIRECT($K$12&"!A18")<='Suivi Qualité PV'!$L$12,1,0) -> 1 | D14: =IF(AND(B14=1,C14=1),1,0) -> 0 | E14: =IF(F14,0,G14) -> 0 | F14: =ISTEXT(INDIRECT($K$12&"!F18")) -> TRUE | G14: 2,1,2 | H14: =IF(AND(D14<>0,E14<>0),G14,"") | N14: {=IFERROR(INDEX(INDIRECT($K$12&"!$C:$C"),SMALL(IF($H$4:$H$178<>"",ROW(INDIRECT($K$12&"!$C$8"):INDIRECT($K$12&"!$C$182"))),ROW(A3))),"")} -> Semelles
A15: =IF(F15,1,0) -> 1 | B15: =IF(F15,0,1) -> 0 | C15: =IF(INDIRECT($K$12&"!A19")<='Suivi Qualité PV'!$L$12,1,0) -> 1 | D15: =IF(AND(B15=1,C15=1),1,0) -> 0 | E15: =IF(F15,0,G15) -> 0 | F15: =ISTEXT(INDIRECT($K$12&"!F19")) -> TRUE | G15: 2,1,3 | H15: =IF(AND(D15<>0,E15<>0),G15,"") | N15: {=IFERROR(INDEX(INDIRECT($K$12&"!$C:$C"),SMALL(IF($H$4:$H$178<>"",ROW(INDIRECT($K$12&"!$C$8"):INDIRECT($K$12&"!$C$182"))),ROW(A4))),"")} -> 2,1,5. Essais sur béton durci
A16: =IF(F16,1,0) -> 0 | B16: =IF(F16,0,1) -> 1 | C16: =IF(INDIRECT($K$12&"!A20")<='Suivi Qualité PV'!$L$12,1,0) -> 1 | D16: =IF(AND(B16=1,C16=1),1,0) -> 1 | E16: =IF(F16,0,G16) -> 0 | F16: =ISTEXT(INDIRECT($K$12&"!F20")) -> FALSE | H16: =IF(AND(D16<>0,E16<>0),G16,"") | N16: {=IFERROR(INDEX(INDIRECT($K$12&"!$C:$C"),SMALL(IF($H$4:$H$178<>"",ROW(INDIRECT($K$12&"!$C$8"):INDIRECT($K$12&"!$C$182"))),ROW(A5))),"")} -> 2,1,7. MALT fond de fouille / structure | P16: Avancement | Q16: Nombre de PV Théorique
A17: =IF(F17,1,0) -> 0 | B17: =IF(F17,0,1) -> 1 | C17: =IF(INDIRECT($K$12&"!A21")<='Suivi Qualité PV'!$L$12,1,0) -> 1 | D17: =IF(AND(B17=1,C17=1),1,0) -> 1 | E17: =IF(F17,0,G17) -> 0 | F17: =ISTEXT(INDIRECT($K$12&"!F21")) -> FALSE | H17: =IF(AND(D17<>0,E17<>0),G17,"") | N17: {=IFERROR(INDEX(INDIRECT($K$12&"!$C:$C"),SMALL(IF($H$4:$H$178<>"",ROW(INDIRECT($K$12&"!$C$8"):INDIRECT($K$12&"!$C$182"))),ROW(A6))),"")} -> Longrines | P17: 0.01 | Q17: =2 -> 2
A18: =IF(F18,1,0) -> 1 | B18: =IF(F18,0,1) -> 0 | C18: =IF(INDIRECT($K$12&"!A22")<='Suivi Qualité PV'!$L$12,1,0) -> 1 | D18: =IF(AND(B18=1,C18=1),1,0) -> 0 | E18: =IF(F18,0,G18) -> 0 | F18: =ISTEXT(INDIRECT($K$12&"!F22")) -> TRUE | G18: 2,1,4 | H18: =IF(AND(D18<>0,E18<>0),G18,"") | N18: {=IFERROR(INDEX(INDIRECT($K$12&"!$C:$C"),SMALL(IF($H$4:$H$178<>"",ROW(INDIRECT($K$12&"!$C$8"):INDIRECT($K$12&"!$C$182"))),ROW(A7))),"")} -> 2,2,5. Essais sur béton durci | P18: 0.02 | Q18: =2 -> 2
A19: =IF(F19,1,0) -> 0 | B19: =IF(F19,0,1) -> 1 | C19: =IF(INDIRECT($K$12&"!A23")<='Suivi Qualité PV'!$L$12,1,0) -> 1 | D19: =IF(AND(B19=1,C19=1),1,0) -> 1 | E19: =IF(F19,0,G19) -> 2,1,5 | F19: =ISTEXT(INDIRECT($K$12&"!F23")) -> FALSE | G19: 2,1,5 | H19: =IF(AND(D19<>0,E19<>0),G19,"") -> 2,1,5 | N19: {=IFERROR(INDEX(INDIRECT($K$12&"!$C:$C"),SMALL(IF($H$4:$H$178<>"",ROW(INDIRECT($K$12&"!$C$8"):INDIRECT($K$12&"!$C$182"))),ROW(A8))),"")} -> 2,2,7. MALT fond de fouille / structure | P19: 0.03 | Q19: =3 -> 3
A20: =IF(F20,1,0) -> 1 | B20: =IF(F20,0,1) -> 0 | C20: =IF(INDIRECT($K$12&"!A24")<='Suivi Qualité PV'!$L$12,1,0) -> 1 | D20: =IF(AND(B20=1,C20=1),1,0) -> 0 | E20: =IF(F20,0,G20) -> 0 | F20: =ISTEXT(INDIRECT($K$12&"!F24")) -> TRUE | G20: 2,1,6 | H20: =IF(AND(D20<>0,E20<>0),G20,"") | N20: {=IFERROR(INDEX(INDIRECT($K$12&"!$C:$C"),SMALL(IF($H$4:$H$178<>"",ROW(INDIRECT($K$12&"!$C$8"):INDIRECT($K$12&"!$C$182"))),ROW(A9))),"")} -> Poteaux raidisseur | P20: 0.04 | Q20: =6 -> 6
A21: =IF(F21,1,0) -> 0 | B21: =IF(F21,0,1) -> 1 | C21: =IF(INDIRECT($K$12&"!A25")<='Suivi Qualité PV'!$L$12,1,0) -> 1 | D21: =IF(AND(B21=1,C21=1),1,0) -> 1 | E21: =IF(F21,0,G21) -> 2,1,7 | F21: =ISTEXT(INDIRECT($K$12&"!F25")) -> FALSE | G21: 2,1,7 | H21: =IF(AND(D21<>0,E21<>0),G21,"") -> 2,1,7 | N21: {=IFERROR(INDEX(INDIRECT($K$12&"!$C:$C"),SMALL(IF($H$4:$H$178<>"",ROW(INDIRECT($K$12&"!$C$8"):INDIRECT($K$12&"!$C$182"))),ROW(A10))),"")} -> 2,3,2. MALT structure | P21: 0.05 | Q21: =8 -> 8
A22: =IF(F22,1,0) -> 0 | B22: =IF(F22,0,1) -> 1 | C22: =IF(INDIRECT($K$12&"!A26")<='Suivi Qualité PV'!$L$12,1,0) -> 1 | D22: =IF(AND(B22=1,C22=1),1,0) -> 1 | E22: =IF(F22,0,G22) -> 0 | F22: =ISTEXT(INDIRECT($K$12&"!F26")) -> FALSE | H22: =IF(AND(D22<>0,E22<>0),G22,"") | N22: {=IFERROR(INDEX(INDIRECT($K$12&"!$C:$C"),SMALL(IF($H$4:$H$178<>"",ROW(INDIRECT($K$12&"!$C$8"):INDIRECT($K$12&"!$C$182"))),ROW(A11))),"")} -> 2,3,3. Coffrages | P22: 0.06 | Q22: =10 -> 10
A23: =IF(F23,1,0) -> 0 | B23: =IF(F23,0,1) -> 1 | C23: =IF(INDIRECT($K$12&"!A27")<='Suivi Qualité PV'!$L$12,1,0) -> 1 | D23: =IF(AND(B23=1,C23=1),1,0) -> 1 | E23: =IF(F23,0,G23) -> 2.2 | F23: =ISTEXT(INDIRECT($K$12&"!F27")) -> FALSE | G23: 2.2 | H23: =IF(AND(D23<>0,E23<>0),G23,"") -> 2.2 | N23: {=IFERROR(INDEX(INDIRECT($K$12&"!$C:$C"),SMALL(IF($H$4:$H$178<>"",ROW(INDIRECT($K$12&"!$C$8"):INDIRECT($K$12&"!$C$182"))),ROW(A12))),"")} -> 2,3,4. Essais sur béton frais | P23: 0.07 | Q23: =13 -> 13
A24: =IF(F24,1,0) -> 0 | B24: =IF(F24,0,1) -> 1 | C24: =IF(INDIRECT($K$12&"!A28")<='Suivi Qualité PV'!$L$12,1,0) -> 1 | D24: =IF(AND(B24=1,C24=1),1,0) -> 1 | E24: =IF(F24,0,G24) -> 0 | F24: =ISTEXT(INDIRECT($K$12&"!F28")) -> FALSE | H24: =IF(AND(D24<>0,E24<>0),G24,"") | N24: {=IFERROR(INDEX(INDIRECT($K$12&"!$C:$C"),SMALL(IF($H$4:$H$178<>"",ROW(INDIRECT($K$12&"!$C$8"):INDIRECT($K$12&"!$C$182"))),ROW(A13))),"")} -> 2,3,5. Essais sur béton durci | P24: 0.08 | Q24: =13 -> 13
A25: =IF(F25,1,0) -> 1 | B25: =IF(F25,0,1) -> 0 | C25: =IF(INDIRECT($K$12&"!A29")<='Suivi Qualité PV'!$L$12,1,0) -> 1 | D25: =IF(AND(B25=1,C25=1),1,0) -> 0 | E25: =IF(F25,0,G25) -> 0 | F25: =ISTEXT(INDIRECT($K$12&"!F29")) -> TRUE | G25: 2,2,1 | H25: =IF(AND(D25<>0,E25<>0),G25,"") | N25: {=IFERROR(INDEX(INDIRECT($K$12&"!$C:$C"),SMALL(IF($H$4:$H$178<>"",ROW(INDIRECT($K$12&"!$C$8"):INDIRECT($K$12&"!$C$182"))),ROW(A14))),"")} -> 2,3,6. Décoffrage/utilisation de l'ouvrage | P25: 0.09 | Q25: 15
A26: =IF(F26,1,0) -> 1 | B26: =IF(F26,0,1) -> 0 | C26: =IF(INDIRECT($K$12&"!A30")<='Suivi Qualité PV'!$L$12,1,0) -> 1 | D26: =IF(AND(B26=1,C26=1),1,0) -> 0 | E26: =IF(F26,0,G26) -> 0 | F26: =ISTEXT(INDIRECT($K$12&"!F30")) -> TRUE | G26: 2,2,2 | H26: =IF(AND(D26<>0,E26<>0),G26,"") | N26: {=IFERROR(INDEX(INDIRECT($K$12&"!$C:$C"),SMALL(IF($H$4:$H$178<>"",ROW(INDIRECT($K$12&"!$C$8"):INDIRECT($K$12&"!$C$182"))),ROW(A15))),"")} -> 2,3,7. MALT structure | P26: 0.1 | Q26: 19
A27: =IF(F27,1,0) -> 0 | B27: =IF(F27,0,1) -> 1 | C27: =IF(INDIRECT($K$12&"!A31")<='Suivi Qualité PV'!$L$12,1,0) -> 1 | D27: =IF(AND(B27=1,C27=1),1,0) -> 1 | E27: =IF(F27,0,G27) -> 0 | F27: =ISTEXT(INDIRECT($K$12&"!F31")) -> FALSE | H27: =IF(AND(D27<>0,E27<>0),G27,"") | N27: {=IFERROR(INDEX(INDIRECT($K$12&"!$C:$C"),SMALL(IF($H$4:$H$178<>"",ROW(INDIRECT($K$12&"!$C$8"):INDIRECT($K$12&"!$C$182"))),ROW(A16))),"")} -> Chainages et linteaux | P27: 0.11 | Q27: 19
A28: =IF(F28,1,0) -> 0 | B28: =IF(F28,0,1) -> 1 | C28: =IF(INDIRECT($K$12&"!A32")<='Suivi Qualité PV'!$L$12,1,0) -> 1 | D28: =IF(AND(B28=1,C28=1),1,0) -> 1 | E28: =IF(F28,0,G28) -> 0 | F28: =ISTEXT(INDIRECT($K$12&"!F32")) -> FALSE | H28: =IF(AND(D28<>0,E28<>0),G28,"") | N28: {=IFERROR(INDEX(INDIRECT($K$12&"!$C:$C"),SMALL(IF($H$4:$H$178<>"",ROW(INDIRECT($K$12&"!$C$8"):INDIRECT($K$12&"!$C$182"))),ROW(A17))),"")} -> 2,4,2. MALT structure | P28: 0.12 | Q28: 23
A29: =IF(F29,1,0) -> 1 | B29: =IF(F29,0,1) -> 0 | C29: =IF(INDIRECT($K$12&"!A33")<='Suivi Qualité PV'!$L$12,1,0) -> 1 | D29: =IF(AND(B29=1,C29=1),1,0) -> 0 | E29: =IF(F29,0,G29) -> 0 | F29: =ISTEXT(INDIRECT($K$12&"!F33")) -> TRUE | G29: 2,2,3 | H29: =IF(AND(D29<>0,E29<>0),G29,"") | N29: {=IFERROR(INDEX(INDIRECT($K$12&"!$C:$C"),SMALL(IF($H$4:$H$178<>"",ROW(INDIRECT($K$12&"!$C$8"):INDIRECT($K$12&"!$C$182"))),ROW(A18))),"")} -> 2,4,3. Coffrages | P29: 0.13 | Q29: 23
A30: =IF(F30,1,0) -> 1 | B30: =IF(F30,0,1) -> 0 | C30: =IF(INDIRECT($K$12&"!A34")<='Suivi Qualité PV'!$L$12,1,0) -> 1 | D30: =IF(AND(B30=1,C30=1),1,0) -> 0 | E30: =IF(F30,0,G30) -> 0 | F30: =ISTEXT(INDIRECT($K$12&"!F34")) -> TRUE | G30: 2,2,4 | H30: =IF(AND(D30<>0,E30<>0),G30,"") | N30: {=IFERROR(INDEX(INDIRECT($K$12&"!$C:$C"),SMALL(IF($H$4:$H$178<>"",ROW(INDIRECT($K$12&"!$C$8"):INDIRECT($K$12&"!$C$182"))),ROW(A19))),"")} -> 2,4,4. Essais sur béton frais | P30: 0.14 | Q30: 23
A31: =IF(F31,1,0) -> 0 | B31: =IF(F31,0,1) -> 1 | C31: =IF(INDIRECT($K$12&"!A35")<='Suivi Qualité PV'!$L$12,1,0) -> 1 | D31: =IF(AND(B31=1,C31=1),1,0) -> 1 | E31: =IF(F31,0,G31) -> 2,2,5 | F31: =ISTEXT(INDIRECT($K$12&"!F35")) -> FALSE | G31: 2,2,5 | H31: =IF(AND(D31<>0,E31<>0),G31,"") -> 2,2,5 | J31: =COUNTA(N12:N186) -> 175 | K31: =COUNTBLANK(N12:N186) -> 74 | L31: =J31-K31 -> 101 | N31: {=IFERROR(INDEX(INDIRECT($K$12&"!$C:$C"),SMALL(IF($H$4:$H$178<>"",ROW(INDIRECT($K$12&"!$C$8"):INDIRECT($K$12&"!$C$182"))),ROW(A20))),"")} -> 2,4,5. Essais sur béton durci | P31: 0.15 | Q31: 25
A32: =IF(F32,1,0) -> 1 | B32: =IF(F32,0,1) -> 0 | C32: =IF(INDIRECT($K$12&"!A36")<='Suivi Qualité PV'!$L$12,1,0) -> 1 | D32: =IF(AND(B32=1,C32=1),1,0) -> 0 | E32: =IF(F32,0,G32) -> 0 | F32: =ISTEXT(INDIRECT($K$12&"!F36")) -> TRUE | G32: 2,2,6 | H32: =IF(AND(D32<>0,E32<>0),G32,"") | J32: =COUNTA(H4:H178) -> 175 | K32: =COUNTBLANK(H4:H178) -> 74 | L32: =J32-K32 -> 101 | N32: {=IFERROR(INDEX(INDIRECT($K$12&"!$C:$C"),SMALL(IF($H$4:$H$178<>"",ROW(INDIRECT($K$12&"!$C$8"):INDIRECT($K$12&"!$C$182"))),ROW(A21))),"")} -> 2,4,6. Décoffrage/utilisation de l'ouvrage | P32: 0.16 | Q32: 25
A33: =IF(F33,1,0) -> 0 | B33: =IF(F33,0,1) -> 1 | C33: =IF(INDIRECT($K$12&"!A37")<='Suivi Qualité PV'!$L$12,1,0) -> 1 | D33: =IF(AND(B33=1,C33=1),1,0) -> 1 | E33: =IF(F33,0,G33) -> 2,2,7 | F33: =ISTEXT(INDIRECT($K$12&"!F37")) -> FALSE | G33: 2,2,7 | H33: =IF(AND(D33<>0,E33<>0),G33,"") -> 2,2,7 | N33: {=IFERROR(INDEX(INDIRECT($K$12&"!$C:$C"),SMALL(IF($H$4:$H$178<>"",ROW(INDIRECT($K$12&"!$C$8"):INDIRECT($K$12&"!$C$182"))),ROW(A22))),"")} -> 2,4,7. MALT structure | P33: 0.17 | Q33: 25
A34: =IF(F34,1,0) -> 0 | B34: =IF(F34,0,1) -> 1 | C34: =IF(INDIRECT($K$12&"!A38")<='Suivi Qualité PV'!$L$12,1,0) -> 1 | D34: =IF(AND(B34=1,C34=1),1,0) -> 1 | E34: =IF(F34,0,G34) -> 0 | F34: =ISTEXT(INDIRECT($K$12&"!F38")) -> FALSE | H34: =IF(AND(D34<>0,E34<>0),G34,"") | N34: {=IFERROR(INDEX(INDIRECT($K$12&"!$C:$C"),SMALL(IF($H$4:$H$178<>"",ROW(INDIRECT($K$12&"!$C$8"):INDIRECT($K$12&"!$C$182"))),ROW(A23))),"")} -> Poutres | P34: 0.18 | Q34: 25
A35: =IF(F35,1,0) -> 0 | B35: =IF(F35,0,1) -> 1 | C35: =IF(INDIRECT($K$12&"!A39")<='Suivi Qualité PV'!$L$12,1,0) -> 1 | D35: =IF(AND(B35=1,C35=1),1,0) -> 1 | E35: =IF(F35,0,G35) -> 2,3,0 | F35: =ISTEXT(INDIRECT($K$12&"!F39")) -> FALSE | G35: 2,3,0 | H35: =IF(AND(D35<>0,E35<>0),G35,"") -> 2,3,0 | N35: {=IFERROR(INDEX(INDIRECT($K$12&"!$C:$C"),SMALL(IF($H$4:$H$178<>"",ROW(INDIRECT($K$12&"!$C$8"):INDIRECT($K$12&"!$C$182"))),ROW(A24))),"")} -> 2,5,1. Ferraillages | P35: 0.19 | Q35: 25
A36: =IF(F36,1,0) -> 1 | B36: =IF(F36,0,1) -> 0 | C36: =IF(INDIRECT($K$12&"!A40")<='Suivi Qualité PV'!$L$12,1,0) -> 1 | D36: =IF(AND(B36=1,C36=1),1,0) -> 0 | E36: =IF(F36,0,G36) -> 0 | F36: =ISTEXT(INDIRECT($K$12&"!F40")) -> TRUE | G36: 2,3,1 | H36: =IF(AND(D36<>0,E36<>0),G36,"") | N36: {=IFERROR(INDEX(INDIRECT($K$12&"!$C:$C"),SMALL(IF($H$4:$H$178<>"",ROW(INDIRECT($K$12&"!$C$8"):INDIRECT($K$12&"!$C$182"))),ROW(A25))),"")} -> 2,5,2. MALT structure | P36: 0.2 | Q36: 25
A37: =IF(F37,1,0) -> 0 | B37: =IF(F37,0,1) -> 1 | C37: =IF(INDIRECT($K$12&"!A41")<='Suivi Qualité PV'!$L$12,1,0) -> 1 | D37: =IF(AND(B37=1,C37=1),1,0) -> 1 | E37: =IF(F37,0,G37) -> 2,3,2 | F37: =ISTEXT(INDIRECT($K$12&"!F41")) -> FALSE | G37: 2,3,2 | H37: =IF(AND(D37<>0,E37<>0),G37,"") -> 2,3,2 | N37: {=IFERROR(INDEX(INDIRECT($K$12&"!$C:$C"),SMALL(IF($H$4:$H$178<>"",ROW(INDIRECT($K$12&"!$C$8"):INDIRECT($K$12&"!$C$182"))),ROW(A26))),"")} -> 2,5,3. Coffrages | P37: 0.21 | Q37: 25
A38: =IF(F38,1,0) -> 0 | B38: =IF(F38,0,1) -> 1 | C38: =IF(INDIRECT($K$12&"!A42")<='Suivi Qualité PV'!$L$12,1,0) -> 1 | D38: =IF(AND(B38=1,C38=1),1,0) -> 1 | E38: =IF(F38,0,G38) -> 0 | F38: =ISTEXT(INDIRECT($K$12&"!F42")) -> FALSE | H38: =IF(AND(D38<>0,E38<>0),G38,"") | N38: {=IFERROR(INDEX(INDIRECT($K$12&"!$C:$C"),SMALL(IF($H$4:$H$178<>"",ROW(INDIRECT($K$12&"!$C$8"):INDIRECT($K$12&"!$C$182"))),ROW(A27))),"")} -> 2,5,4. Essais sur béton frais | P38: 0.22 | Q38: 25
A39: =IF(F39,1,0) -> 0 | B39: =IF(F39,0,1) -> 1 | C39: =IF(INDIRECT($K$12&"!A43")<='Suivi Qualité PV'!$L$12,1,0) -> 1 | D39: =IF(AND(B39=1,C39=1),1,0) -> 1 | E39: =IF(F39,0,G39) -> 0 | F39: =ISTEXT(INDIRECT($K$12&"!F43")) -> FALSE | H39: =IF(AND(D39<>0,E39<>0),G39,"") | N39: {=IFERROR(INDEX(INDIRECT($K$12&"!$C:$C"),SMALL(IF($H$4:$H$178<>"",ROW(INDIRECT($K$12&"!$C$8"):INDIRECT($K$12&"!$C$182"))),ROW(A28))),"")} -> 2,5,5. Essais sur béton durci | P39: 0.23 | Q39: 25
A40: =IF(F40,1,0) -> 0 | B40: =IF(F40,0,1) -> 1 | C40: =IF(INDIRECT($K$12&"!A44")<='Suivi Qualité PV'!$L$12,1,0) -> 1 | D40: =IF(AND(B40=1,C40=1),1,0) -> 1 | E40: =IF(F40,0,G40) -> 2,3,3 | F40: =ISTEXT(INDIRECT($K$12&"!F44")) -> FALSE | G40: 2,3,3 | H40: =IF(AND(D40<>0,E40<>0),G40,"") -> 2,3,3 | N40: {=IFERROR(INDEX(INDIRECT($K$12&"!$C:$C"),SMALL(IF($H$4:$H$178<>"",ROW(INDIRECT($K$12&"!$C$8"):INDIRECT($K$12&"!$C$182"))),ROW(A29))),"")} -> 2,5,6. Décoffrage/utilisation de l'ouvrage | P40: 0.24 | Q40: 25
A41: =IF(F41,1,0) -> 0 | B41: =IF(F41,0,1) -> 1 | C41: =IF(INDIRECT($K$12&"!A45")<='Suivi Qualité PV'!$L$12,1,0) -> 1 | D41: =IF(AND(B41=1,C41=1),1,0) -> 1 | E41: =IF(F41,0,G41) -> 2,3,4 | F41: =ISTEXT(INDIRECT($K$12&"!F45")) -> FALSE | G41: 2,3,4 | H41: =IF(AND(D41<>0,E41<>0),G41,"") -> 2,3,4 | N41: {=IFERROR(INDEX(INDIRECT($K$12&"!$C:$C"),SMALL(IF($H$4:$H$178<>"",ROW(INDIRECT($K$12&"!$C$8"):INDIRECT($K$12&"!$C$182"))),ROW(A30))),"")} -> 2,5,7. MALT structure | P41: 0.25 | Q41: 28
A42: =IF(F42,1,0) -> 0 | B42: =IF(F42,0,1) -> 1 | C42: =IF(INDIRECT($K$12&"!A46")<='Suivi Qualité PV'!$L$12,1,0) -> 1 | D42: =IF(AND(B42=1,C42=1),1,0) -> 1 | E42: =IF(F42,0,G42) -> 2,3,5 | F42: =ISTEXT(INDIRECT($K$12&"!F46")) -> FALSE | G42: 2,3,5 | H42: =IF(AND(D42<>0,E42<>0),G42,"") -> 2,3,5 | N42: {=IFERROR(INDEX(INDIRECT($K$12&"!$C:$C"),SMALL(IF($H$4:$H$178<>"",ROW(INDIRECT($K$12&"!$C$8"):INDIRECT($K$12&"!$C$182"))),ROW(A31))),"")} -> Acrotères | P42: 0.26 | Q42: 28
A43: =IF(F43,1,0) -> 0 | B43: =IF(F43,0,1) -> 1 | C43: =IF(INDIRECT($K$12&"!A47")<='Suivi Qualité PV'!$L$12,1,0) -> 1 | D43: =IF(AND(B43=1,C43=1),1,0) -> 1 | E43: =IF(F43,0,G43) -> 2,3,6 | F43: =ISTEXT(INDIRECT($K$12&"!F47")) -> FALSE | G43: 2,3,6 | H43: =IF(AND(D43<>0,E43<>0),G43,"") -> 2,3,6 | N43: {=IFERROR(INDEX(INDIRECT($K$12&"!$C:$C"),SMALL(IF($H$4:$H$178<>"",ROW(INDIRECT($K$12&"!$C$8"):INDIRECT($K$12&"!$C$182"))),ROW(A32))),"")} -> 2,6,1. Ferraillages | P43: 0.27 | Q43: 29
A44: =IF(F44,1,0) -> 0 | B44: =IF(F44,0,1) -> 1 | C44: =IF(INDIRECT($K$12&"!A48")<='Suivi Qualité PV'!$L$12,1,0) -> 1 | D44: =IF(AND(B44=1,C44=1),1,0) -> 1 | E44: =IF(F44,0,G44) -> 2,3,7 | F44: =ISTEXT(INDIRECT($K$12&"!F48")) -> FALSE | G44: 2,3,7 | H44: =IF(AND(D44<>0,E44<>0),G44,"") -> 2,3,7 | N44: {=IFERROR(INDEX(INDIRECT($K$12&"!$C:$C"),SMALL(IF($H$4:$H$178<>"",ROW(INDIRECT($K$12&"!$C$8"):INDIRECT($K$12&"!$C$182"))),ROW(A33))),"")} -> 2,6,2. MALT structure | P44: 0.28 | Q44: 29
A45: =IF(F45,1,0) -> 0 | B45: =IF(F45,0,1) -> 1 | C45: =IF(INDIRECT($K$12&"!A49")<='Suivi Qualité PV'!$L$12,1,0) -> 1 | D45: =IF(AND(B45=1,C45=1),1,0) -> 1 | E45: =IF(F45,0,G45) -> 0 | F45: =ISTEXT(INDIRECT($K$12&"!F49")) -> FALSE | H45: =IF(AND(D45<>0,E45<>0),G45,"") | N45: {=IFERROR(INDEX(INDIRECT($K$12&"!$C:$C"),SMALL(IF($H$4:$H$178<>"",ROW(INDIRECT($K$12&"!$C$8"):INDIRECT($K$12&"!$C$182"))),ROW(A34))),"")} -> 2,6,3. Coffrages | P45: 0.29 | Q45: 29
A46: =IF(F46,1,0) -> 0 | B46: =IF(F46,0,1) -> 1 | C46: =IF(INDIRECT($K$12&"!A50")<='Suivi Qualité PV'!$L$12,1,0) -> 1 | D46: =IF(AND(B46=1,C46=1),1,0) -> 1 | E46: =IF(F46,0,G46) -> 2,4,0 | F46: =ISTEXT(INDIRECT($K$12&"!F50")) -> FALSE | G46: 2,4,0 | H46: =IF(AND(D46<>0,E46<>0),G46,"") -> 2,4,0 | N46: {=IFERROR(INDEX(INDIRECT($K$12&"!$C:$C"),SMALL(IF($H$4:$H$178<>"",ROW(INDIRECT($K$12&"!$C$8"):INDIRECT($K$12&"!$C$182"))),ROW(A35))),"")} -> 2,6,4. Essais sur béton frais | P46: 0.3 | Q46: 29
A47: =IF(F47,1,0) -> 1 | B47: =IF(F47,0,1) -> 0 | C47: =IF(INDIRECT($K$12&"!A51")<='Suivi Qualité PV'!$L$12,1,0) -> 1 | D47: =IF(AND(B47=1,C47=1),1,0) -> 0 | E47: =IF(F47,0,G47) -> 0 | F47: =ISTEXT(INDIRECT($K$12&"!F51")) -> TRUE | G47: 2,4,1 | H47: =IF(AND(D47<>0,E47<>0),G47,"") | N47: {=IFERROR(INDEX(INDIRECT($K$12&"!$C:$C"),SMALL(IF($H$4:$H$178<>"",ROW(INDIRECT($K$12&"!$C$8"):INDIRECT($K$12&"!$C$182"))),ROW(A36))),"")} -> 2,6,5. Essais sur béton durci | P47: 0.31 | Q47: 29
A48: =IF(F48,1,0) -> 0 | B48: =IF(F48,0,1) -> 1 | C48: =IF(INDIRECT($K$12&"!A52")<='Suivi Qualité PV'!$L$12,1,0) -> 1 | D48: =IF(AND(B48=1,C48=1),1,0) -> 1 | E48: =IF(F48,0,G48) -> 2,4,2 | F48: =ISTEXT(INDIRECT($K$12&"!F52")) -> FALSE | G48: 2,4,2 | H48: =IF(AND(D48<>0,E48<>0),G48,"") -> 2,4,2 | N48: {=IFERROR(INDEX(INDIRECT($K$12&"!$C:$C"),SMALL(IF($H$4:$H$178<>"",ROW(INDIRECT($K$12&"!$C$8"):INDIRECT($K$12&"!$C$182"))),ROW(A37))),"")} -> 2,6,6. Decofrage/utilisation de l'ouvrage | P48: 0.32 | Q48: 29
A49: =IF(F49,1,0) -> 0 | B49: =IF(F49,0,1) -> 1 | C49: =IF(INDIRECT($K$12&"!A53")<='Suivi Qualité PV'!$L$12,1,0) -> 1 | D49: =IF(AND(B49=1,C49=1),1,0) -> 1 | E49: =IF(F49,0,G49) -> 0 | F49: =ISTEXT(INDIRECT($K$12&"!F53")) -> FALSE | H49: =IF(AND(D49<>0,E49<>0),G49,"") | N49: {=IFERROR(INDEX(INDIRECT($K$12&"!$C:$C"),SMALL(IF($H$4:$H$178<>"",ROW(INDIRECT($K$12&"!$C$8"):INDIRECT($K$12&"!$C$182"))),ROW(A38))),"")} -> 2,6,7. MALT structure | P49: 0.33 | Q49: 29
A50: =IF(F50,1,0) -> 0 | B50: =IF(F50,0,1) -> 1 | C50: =IF(INDIRECT($K$12&"!A54")<='Suivi Qualité PV'!$L$12,1,0) -> 1 | D50: =IF(AND(B50=1,C50=1),1,0) -> 1 | E50: =IF(F50,0,G50) -> 0 | F50: =ISTEXT(INDIRECT($K$12&"!F54")) -> FALSE | H50: =IF(AND(D50<>0,E50<>0),G50,"") | N50: {=IFERROR(INDEX(INDIRECT($K$12&"!$C:$C"),SMALL(IF($H$4:$H$178<>"",ROW(INDIRECT($K$12&"!$C$8"):INDIRECT($K$12&"!$C$182"))),ROW(A39))),"")} -> DALLES | P50: 0.34 | Q50: 29
A51: =IF(F51,1,0) -> 0 | B51: =IF(F51,0,1) -> 1 | C51: =IF(INDIRECT($K$12&"!A55")<='Suivi Qualité PV'!$L$12,1,0) -> 1 | D51: =IF(AND(B51=1,C51=1),1,0) -> 1 | E51: =IF(F51,0,G51) -> 2,4,3 | F51: =ISTEXT(INDIRECT($K$12&"!F55")) -> FALSE | G51: 2,4,3 | H51: =IF(AND(D51<>0,E51<>0),G51,"") -> 2,4,3 | N51: {=IFERROR(INDEX(INDIRECT($K$12&"!$C:$C"),SMALL(IF($H$4:$H$178<>"",ROW(INDIRECT($K$12&"!$C$8"):INDIRECT($K$12&"!$C$182"))),ROW(A40))),"")} -> 3,0,1. Réseaux sous dallage | P51: 0.35 | Q51: 29
A52: =IF(F52,1,0) -> 0 | B52: =IF(F52,0,1) -> 1 | C52: =IF(INDIRECT($K$12&"!A56")<='Suivi Qualité PV'!$L$12,1,0) -> 1 | D52: =IF(AND(B52=1,C52=1),1,0) -> 1 | E52: =IF(F52,0,G52) -> 2,4,4 | F52: =ISTEXT(INDIRECT($K$12&"!F56")) -> FALSE | G52: 2,4,4 | H52: =IF(AND(D52<>0,E52<>0),G52,"") -> 2,4,4 | N52: {=IFERROR(INDEX(INDIRECT($K$12&"!$C:$C"),SMALL(IF($H$4:$H$178<>"",ROW(INDIRECT($K$12&"!$C$8"):INDIRECT($K$12&"!$C$182"))),ROW(A41))),"")} -> 3,0,2. Compaction des sols | P52: 0.36 | Q52: 29
A53: =IF(F53,1,0) -> 0 | B53: =IF(F53,0,1) -> 1 | C53: =IF(INDIRECT($K$12&"!A57")<='Suivi Qualité PV'!$L$12,1,0) -> 1 | D53: =IF(AND(B53=1,C53=1),1,0) -> 1 | E53: =IF(F53,0,G53) -> 2,4,5 | F53: =ISTEXT(INDIRECT($K$12&"!F57")) -> FALSE | G53: 2,4,5 | H53: =IF(AND(D53<>0,E53<>0),G53,"") -> 2,4,5 | N53: {=IFERROR(INDEX(INDIRECT($K$12&"!$C:$C"),SMALL(IF($H$4:$H$178<>"",ROW(INDIRECT($K$12&"!$C$8"):INDIRECT($K$12&"!$C$182"))),ROW(A42))),"")} -> 3,0,3. Coffrages | P53: 0.37 | Q53: 31
A54: =IF(F54,1,0) -> 0 | B54: =IF(F54,0,1) -> 1 | C54: =IF(INDIRECT($K$12&"!A58")<='Suivi Qualité PV'!$L$12,1,0) -> 1 | D54: =IF(AND(B54=1,C54=1),1,0) -> 1 | E54: =IF(F54,0,G54) -> 2,4,6 | F54: =ISTEXT(INDIRECT($K$12&"!F58")) -> FALSE | G54: 2,4,6 | H54: =IF(AND(D54<>0,E54<>0),G54,"") -> 2,4,6 | N54: {=IFERROR(INDEX(INDIRECT($K$12&"!$C:$C"),SMALL(IF($H$4:$H$178<>"",ROW(INDIRECT($K$12&"!$C$8"):INDIRECT($K$12&"!$C$182"))),ROW(A43))),"")} -> 3,0,4. Ferraillages | P54: 0.38 | Q54: 35
A55: =IF(F55,1,0) -> 0 | B55: =IF(F55,0,1) -> 1 | C55: =IF(INDIRECT($K$12&"!A59")<='Suivi Qualité PV'!$L$12,1,0) -> 1 | D55: =IF(AND(B55=1,C55=1),1,0) -> 1 | E55: =IF(F55,0,G55) -> 2,4,7 | F55: =ISTEXT(INDIRECT($K$12&"!F59")) -> FALSE | G55: 2,4,7 | H55: =IF(AND(D55<>0,E55<>0),G55,"") -> 2,4,7 | N55: {=IFERROR(INDEX(INDIRECT($K$12&"!$C:$C"),SMALL(IF($H$4:$H$178<>"",ROW(INDIRECT($K$12&"!$C$8"):INDIRECT($K$12&"!$C$182"))),ROW(A44))),"")} -> 3,0,5. MALT dalle sur radier | P55: 0.39 | Q55: 36
A56: =IF(F56,1,0) -> 0 | B56: =IF(F56,0,1) -> 1 | C56: =IF(INDIRECT($K$12&"!A60")<='Suivi Qualité PV'!$L$12,1,0) -> 1 | D56: =IF(AND(B56=1,C56=1),1,0) -> 1 | E56: =IF(F56,0,G56) -> 0 | F56: =ISTEXT(INDIRECT($K$12&"!F60")) -> FALSE | H56: =IF(AND(D56<>0,E56<>0),G56,"") | N56: {=IFERROR(INDEX(INDIRECT($K$12&"!$C:$C"),SMALL(IF($H$4:$H$178<>"",ROW(INDIRECT($K$12&"!$C$8"):INDIRECT($K$12&"!$C$182"))),ROW(A45))),"")} -> 3,0,6.Essais sur béton frais | P56: 0.4 | Q56: 41
A57: =IF(F57,1,0) -> 0 | B57: =IF(F57,0,1) -> 1 | C57: =IF(INDIRECT($K$12&"!A61")<='Suivi Qualité PV'!$L$12,1,0) -> 1 | D57: =IF(AND(B57=1,C57=1),1,0) -> 1 | E57: =IF(F57,0,G57) -> 2,5,0 | F57: =ISTEXT(INDIRECT($K$12&"!F61")) -> FALSE | G57: 2,5,0 | H57: =IF(AND(D57<>0,E57<>0),G57,"") -> 2,5,0 | N57: {=IFERROR(INDEX(INDIRECT($K$12&"!$C:$C"),SMALL(IF($H$4:$H$178<>"",ROW(INDIRECT($K$12&"!$C$8"):INDIRECT($K$12&"!$C$182"))),ROW(A46))),"")} -> 3,0,7.Essais sur béton durci | P57: 0.41 | Q57: 41
A58: =IF(F58,1,0) -> 0 | B58: =IF(F58,0,1) -> 1 | C58: =IF(INDIRECT($K$12&"!A62")<='Suivi Qualité PV'!$L$12,1,0) -> 1 | D58: =IF(AND(B58=1,C58=1),1,0) -> 1 | E58: =IF(F58,0,G58) -> 2,5,1 | F58: =ISTEXT(INDIRECT($K$12&"!F62")) -> FALSE | G58: 2,5,1 | H58: =IF(AND(D58<>0,E58<>0),G58,"") -> 2,5,1 | N58: {=IFERROR(INDEX(INDIRECT($K$12&"!$C:$C"),SMALL(IF($H$4:$H$178<>"",ROW(INDIRECT($K$12&"!$C$8"):INDIRECT($K$12&"!$C$182"))),ROW(A47))),"")} -> 3,0,8. Finition de la dalle | P58: 0.42 | Q58: 41
A59: =IF(F59,1,0) -> 0 | B59: =IF(F59,0,1) -> 1 | C59: =IF(INDIRECT($K$12&"!A63")<='Suivi Qualité PV'!$L$12,1,0) -> 1 | D59: =IF(AND(B59=1,C59=1),1,0) -> 1 | E59: =IF(F59,0,G59) -> 2,5,2 | F59: =ISTEXT(INDIRECT($K$12&"!F63")) -> FALSE | G59: 2,5,2 | H59: =IF(AND(D59<>0,E59<>0),G59,"") -> 2,5,2 | N59: {=IFERROR(INDEX(INDIRECT($K$12&"!$C:$C"),SMALL(IF($H$4:$H$178<>"",ROW(INDIRECT($K$12&"!$C$8"):INDIRECT($K$12&"!$C$182"))),ROW(A48))),"")} -> 3,0,9. Décoffrage/utilisation de l'ouvrage | P59: 0.43 | Q59: 41
A60: =IF(F60,1,0) -> 0 | B60: =IF(F60,0,1) -> 1 | C60: =IF(INDIRECT($K$12&"!A64")<='Suivi Qualité PV'!$L$12,1,0) -> 1 | D60: =IF(AND(B60=1,C60=1),1,0) -> 1 | E60: =IF(F60,0,G60) -> 0 | F60: =ISTEXT(INDIRECT($K$12&"!F64")) -> FALSE | H60: =IF(AND(D60<>0,E60<>0),G60,"") | N60: {=IFERROR(INDEX(INDIRECT($K$12&"!$C:$C"),SMALL(IF($H$4:$H$178<>"",ROW(INDIRECT($K$12&"!$C$8"):INDIRECT($K$12&"!$C$182"))),ROW(A49))),"")} -> 3,0,10. MALT dalle sur radier | P60: 0.44 | Q60: 41
A61: =IF(F61,1,0) -> 0 | B61: =IF(F61,0,1) -> 1 | C61: =IF(INDIRECT($K$12&"!A65")<='Suivi Qualité PV'!$L$12,1,0) -> 1 | D61: =IF(AND(B61=1,C61=1),1,0) -> 1 | E61: =IF(F61,0,G61) -> 0 | F61: =ISTEXT(INDIRECT($K$12&"!F65")) -> FALSE | H61: =IF(AND(D61<>0,E61<>0),G61,"") | N61: {=IFERROR(INDEX(INDIRECT($K$12&"!$C:$C"),SMALL(IF($H$4:$H$178<>"",ROW(INDIRECT($K$12&"!$C$8"):INDIRECT($K$12&"!$C$182"))),ROW(A50))),"")} -> PLANCHERS | P61: 0.45 | Q61: 44
A62: =IF(F62,1,0) -> 0 | B62: =IF(F62,0,1) -> 1 | C62: =IF(INDIRECT($K$12&"!A66")<='Suivi Qualité PV'!$L$12,1,0) -> 1 | D62: =IF(AND(B62=1,C62=1),1,0) -> 1 | E62: =IF(F62,0,G62) -> 2,5,3 | F62: =ISTEXT(INDIRECT($K$12&"!F66")) -> FALSE | G62: 2,5,3 | H62: =IF(AND(D62<>0,E62<>0),G62,"") -> 2,5,3 | N62: {=IFERROR(INDEX(INDIRECT($K$12&"!$C:$C"),SMALL(IF($H$4:$H$178<>"",ROW(INDIRECT($K$12&"!$C$8"):INDIRECT($K$12&"!$C$182"))),ROW(A51))),"")} -> 4,0,1. Coffrages | P62: 0.46 | Q62: 47
A63: =IF(F63,1,0) -> 0 | B63: =IF(F63,0,1) -> 1 | C63: =IF(INDIRECT($K$12&"!A67")<='Suivi Qualité PV'!$L$12,1,0) -> 1 | D63: =IF(AND(B63=1,C63=1),1,0) -> 1 | E63: =IF(F63,0,G63) -> 2,5,4 | F63: =ISTEXT(INDIRECT($K$12&"!F67")) -> FALSE | G63: 2,5,4 | H63: =IF(AND(D63<>0,E63<>0),G63,"") -> 2,5,4 | N63: {=IFERROR(INDEX(INDIRECT($K$12&"!$C:$C"),SMALL(IF($H$4:$H$178<>"",ROW(INDIRECT($K$12&"!$C$8"):INDIRECT($K$12&"!$C$182"))),ROW(A52))),"")} -> 4,0,2. Ferraillages | P63: 0.47 | Q63: 47
A64: =IF(F64,1,0) -> 0 | B64: =IF(F64,0,1) -> 1 | C64: =IF(INDIRECT($K$12&"!A68")<='Suivi Qualité PV'!$L$12,1,0) -> 1 | D64: =IF(AND(B64=1,C64=1),1,0) -> 1 | E64: =IF(F64,0,G64) -> 2,5,5 | F64: =ISTEXT(INDIRECT($K$12&"!F68")) -> FALSE | G64: 2,5,5 | H64: =IF(AND(D64<>0,E64<>0),G64,"") -> 2,5,5 | N64: {=IFERROR(INDEX(INDIRECT($K$12&"!$C:$C"),SMALL(IF($H$4:$H$178<>"",ROW(INDIRECT($K$12&"!$C$8"):INDIRECT($K$12&"!$C$182"))),ROW(A53))),"")} -> 4,0,3. MALT plancher haut | P64: 0.48 | Q64: 48
A65: =IF(F65,1,0) -> 0 | B65: =IF(F65,0,1) -> 1 | C65: =IF(INDIRECT($K$12&"!A69")<='Suivi Qualité PV'!$L$12,1,0) -> 1 | D65: =IF(AND(B65=1,C65=1),1,0) -> 1 | E65: =IF(F65,0,G65) -> 2,5,6 | F65: =ISTEXT(INDIRECT($K$12&"!F69")) -> FALSE | G65: 2,5,6 | H65: =IF(AND(D65<>0,E65<>0),G65,"") -> 2,5,6 | N65: {=IFERROR(INDEX(INDIRECT($K$12&"!$C:$C"),SMALL(IF($H$4:$H$178<>"",ROW(INDIRECT($K$12&"!$C$8"):INDIRECT($K$12&"!$C$182"))),ROW(A54))),"")} -> 4,0,4. Essais sur béton frais | P65: 0.49 | Q65: 48
A66: =IF(F66,1,0) -> 0 | B66: =IF(F66,0,1) -> 1 | C66: =IF(INDIRECT($K$12&"!A70")<='Suivi Qualité PV'!$L$12,1,0) -> 1 | D66: =IF(AND(B66=1,C66=1),1,0) -> 1 | E66: =IF(F66,0,G66) -> 2,5,7 | F66: =ISTEXT(INDIRECT($K$12&"!F70")) -> FALSE | G66: 2,5,7 | H66: =IF(AND(D66<>0,E66<>0),G66,"") -> 2,5,7 | N66: {=IFERROR(INDEX(INDIRECT($K$12&"!$C:$C"),SMALL(IF($H$4:$H$178<>"",ROW(INDIRECT($K$12&"!$C$8"):INDIRECT($K$12&"!$C$182"))),ROW(A55))),"")} -> 4,0,5. Essais sur béton durci | P66: 0.5 | Q66: 54
A67: =IF(F67,1,0) -> 0 | B67: =IF(F67,0,1) -> 1 | C67: =IF(INDIRECT($K$12&"!A71")<='Suivi Qualité PV'!$L$12,1,0) -> 1 | D67: =IF(AND(B67=1,C67=1),1,0) -> 1 | E67: =IF(F67,0,G67) -> 0 | F67: =ISTEXT(INDIRECT($K$12&"!F71")) -> FALSE | H67: =IF(AND(D67<>0,E67<>0),G67,"") | N67: {=IFERROR(INDEX(INDIRECT($K$12&"!$C:$C"),SMALL(IF($H$4:$H$178<>"",ROW(INDIRECT($K$12&"!$C$8"):INDIRECT($K$12&"!$C$182"))),ROW(A56))),"")} -> 4,0,6. Décoffrage/utilisation de l'ouvrage | P67: 0.51 | Q67: 54
A68: =IF(F68,1,0) -> 0 | B68: =IF(F68,0,1) -> 1 | C68: =IF(INDIRECT($K$12&"!A72")<='Suivi Qualité PV'!$L$12,1,0) -> 1 | D68: =IF(AND(B68=1,C68=1),1,0) -> 1 | E68: =IF(F68,0,G68) -> 2,6,0 | F68: =ISTEXT(INDIRECT($K$12&"!F72")) -> FALSE | G68: 2,6,0 | H68: =IF(AND(D68<>0,E68<>0),G68,"") -> 2,6,0 | N68: {=IFERROR(INDEX(INDIRECT($K$12&"!$C:$C"),SMALL(IF($H$4:$H$178<>"",ROW(INDIRECT($K$12&"!$C$8"):INDIRECT($K$12&"!$C$182"))),ROW(A57))),"")} -> 4,0,7. MALT plancher haut | P68: 0.52 | Q68: 55
A69: =IF(F69,1,0) -> 0 | B69: =IF(F69,0,1) -> 1 | C69: =IF(INDIRECT($K$12&"!A73")<='Suivi Qualité PV'!$L$12,1,0) -> 1 | D69: =IF(AND(B69=1,C69=1),1,0) -> 1 | E69: =IF(F69,0,G69) -> 2,6,1 | F69: =ISTEXT(INDIRECT($K$12&"!F73")) -> FALSE | G69: 2,6,1 | H69: =IF(AND(D69<>0,E69<>0),G69,"") -> 2,6,1 | N69: {=IFERROR(INDEX(INDIRECT($K$12&"!$C:$C"),SMALL(IF($H$4:$H$178<>"",ROW(INDIRECT($K$12&"!$C$8"):INDIRECT($K$12&"!$C$182"))),ROW(A58))),"")} -> VOILES | P69: 0.53 | Q69: 55
A70: =IF(F70,1,0) -> 0 | B70: =IF(F70,0,1) -> 1 | C70: =IF(INDIRECT($K$12&"!A74")<='Suivi Qualité PV'!$L$12,1,0) -> 1 | D70: =IF(AND(B70=1,C70=1),1,0) -> 1 | E70: =IF(F70,0,G70) -> 2,6,2 | F70: =ISTEXT(INDIRECT($K$12&"!F74")) -> FALSE | G70: 2,6,2 | H70: =IF(AND(D70<>0,E70<>0),G70,"") -> 2,6,2 | N70: {=IFERROR(INDEX(INDIRECT($K$12&"!$C:$C"),SMALL(IF($H$4:$H$178<>"",ROW(INDIRECT($K$12&"!$C$8"):INDIRECT($K$12&"!$C$182"))),ROW(A59))),"")} -> Corps creux Agglo/Brique | P70: 0.54 | Q70: 55
A71: =IF(F71,1,0) -> 0 | B71: =IF(F71,0,1) -> 1 | C71: =IF(INDIRECT($K$12&"!A75")<='Suivi Qualité PV'!$L$12,1,0) -> 1 | D71: =IF(AND(B71=1,C71=1),1,0) -> 1 | E71: =IF(F71,0,G71) -> 0 | F71: =ISTEXT(INDIRECT($K$12&"!F75")) -> FALSE | H71: =IF(AND(D71<>0,E71<>0),G71,"") | N71: {=IFERROR(INDEX(INDIRECT($K$12&"!$C:$C"),SMALL(IF($H$4:$H$178<>"",ROW(INDIRECT($K$12&"!$C$8"):INDIRECT($K$12&"!$C$182"))),ROW(A60))),"")} -> 5,1,1. Implantation des murs | P71: 0.55 | Q71: 57
A72: =IF(F72,1,0) -> 0 | B72: =IF(F72,0,1) -> 1 | C72: =IF(INDIRECT($K$12&"!A76")<='Suivi Qualité PV'!$L$12,1,0) -> 1 | D72: =IF(AND(B72=1,C72=1),1,0) -> 1 | E72: =IF(F72,0,G72) -> 0 | F72: =ISTEXT(INDIRECT($K$12&"!F76")) -> FALSE | H72: =IF(AND(D72<>0,E72<>0),G72,"") | N72: {=IFERROR(INDEX(INDIRECT($K$12&"!$C:$C"),SMALL(IF($H$4:$H$178<>"",ROW(INDIRECT($K$12&"!$C$8"):INDIRECT($K$12&"!$C$182"))),ROW(A61))),"")} -> 5,1,2. Verticalité et mesures des murs | P72: 0.56 | Q72: 57
A73: =IF(F73,1,0) -> 0 | B73: =IF(F73,0,1) -> 1 | C73: =IF(INDIRECT($K$12&"!A77")<='Suivi Qualité PV'!$L$12,1,0) -> 1 | D73: =IF(AND(B73=1,C73=1),1,0) -> 1 | E73: =IF(F73,0,G73) -> 2,6,3 | F73: =ISTEXT(INDIRECT($K$12&"!F77")) -> FALSE | G73: 2,6,3 | H73: =IF(AND(D73<>0,E73<>0),G73,"") -> 2,6,3 | N73: {=IFERROR(INDEX(INDIRECT($K$12&"!$C:$C"),SMALL(IF($H$4:$H$178<>"",ROW(INDIRECT($K$12&"!$C$8"):INDIRECT($K$12&"!$C$182"))),ROW(A62))),"")} -> Corps plein BA | P73: 0.57 | Q73: 57
A74: =IF(F74,1,0) -> 0 | B74: =IF(F74,0,1) -> 1 | C74: =IF(INDIRECT($K$12&"!A78")<='Suivi Qualité PV'!$L$12,1,0) -> 1 | D74: =IF(AND(B74=1,C74=1),1,0) -> 1 | E74: =IF(F74,0,G74) -> 2,6,4 | F74: =ISTEXT(INDIRECT($K$12&"!F78")) -> FALSE | G74: 2,6,4 | H74: =IF(AND(D74<>0,E74<>0),G74,"") -> 2,6,4 | N74: {=IFERROR(INDEX(INDIRECT($K$12&"!$C:$C"),SMALL(IF($H$4:$H$178<>"",ROW(INDIRECT($K$12&"!$C$8"):INDIRECT($K$12&"!$C$182"))),ROW(A63))),"")} -> 5,2,2. Ferraillages | P74: 0.58 | Q74: 57
A75: =IF(F75,1,0) -> 0 | B75: =IF(F75,0,1) -> 1 | C75: =IF(INDIRECT($K$12&"!A79")<='Suivi Qualité PV'!$L$12,1,0) -> 1 | D75: =IF(AND(B75=1,C75=1),1,0) -> 1 | E75: =IF(F75,0,G75) -> 2,6,5 | F75: =ISTEXT(INDIRECT($K$12&"!F79")) -> FALSE | G75: 2,6,5 | H75: =IF(AND(D75<>0,E75<>0),G75,"") -> 2,6,5 | N75: {=IFERROR(INDEX(INDIRECT($K$12&"!$C:$C"),SMALL(IF($H$4:$H$178<>"",ROW(INDIRECT($K$12&"!$C$8"):INDIRECT($K$12&"!$C$182"))),ROW(A64))),"")} -> 5,2,3. MALT murs | P75: 0.59 | Q75: 57
A76: =IF(F76,1,0) -> 0 | B76: =IF(F76,0,1) -> 1 | C76: =IF(INDIRECT($K$12&"!A80")<='Suivi Qualité PV'!$L$12,1,0) -> 1 | D76: =IF(AND(B76=1,C76=1),1,0) -> 1 | E76: =IF(F76,0,G76) -> 2,6,6 | F76: =ISTEXT(INDIRECT($K$12&"!F80")) -> FALSE | G76: 2,6,6 | H76: =IF(AND(D76<>0,E76<>0),G76,"") -> 2,6,6 | N76: {=IFERROR(INDEX(INDIRECT($K$12&"!$C:$C"),SMALL(IF($H$4:$H$178<>"",ROW(INDIRECT($K$12&"!$C$8"):INDIRECT($K$12&"!$C$182"))),ROW(A65))),"")} -> 5,2,4. Verticalité et mesure des murs | P76: 0.6 | Q76: 60
A77: =IF(F77,1,0) -> 0 | B77: =IF(F77,0,1) -> 1 | C77: =IF(INDIRECT($K$12&"!A81")<='Suivi Qualité PV'!$L$12,1,0) -> 1 | D77: =IF(AND(B77=1,C77=1),1,0) -> 1 | E77: =IF(F77,0,G77) -> 2,6,7 | F77: =ISTEXT(INDIRECT($K$12&"!F81")) -> FALSE | G77: 2,6,7 | H77: =IF(AND(D77<>0,E77<>0),G77,"") -> 2,6,7 | N77: {=IFERROR(INDEX(INDIRECT($K$12&"!$C:$C"),SMALL(IF($H$4:$H$178<>"",ROW(INDIRECT($K$12&"!$C$8"):INDIRECT($K$12&"!$C$182"))),ROW(A66))),"")} -> 5,2,5. Essais sur béton frais | P77: 0.61 | Q77: 60
A78: =IF(F78,1,0) -> 0 | B78: =IF(F78,0,1) -> 1 | C78: =IF(INDIRECT($K$12&"!A82")<='Suivi Qualité PV'!$L$12,1,0) -> 1 | D78: =IF(AND(B78=1,C78=1),1,0) -> 1 | E78: =IF(F78,0,G78) -> 0 | F78: =ISTEXT(INDIRECT($K$12&"!F82")) -> FALSE | H78: =IF(AND(D78<>0,E78<>0),G78,"") | N78: {=IFERROR(INDEX(INDIRECT($K$12&"!$C:$C"),SMALL(IF($H$4:$H$178<>"",ROW(INDIRECT($K$12&"!$C$8"):INDIRECT($K$12&"!$C$182"))),ROW(A67))),"")} -> 5,2,6. Essais sur béton durci | P78: 0.62 | Q78: 63
A79: =IF(F79,1,0) -> 0 | B79: =IF(F79,0,1) -> 1 | C79: =IF(INDIRECT($K$12&"!A83")<='Suivi Qualité PV'!$L$12,1,0) -> 1 | D79: =IF(AND(B79=1,C79=1),1,0) -> 1 | E79: =IF(F79,0,G79) -> 3 | F79: =ISTEXT(INDIRECT($K$12&"!F83")) -> FALSE | G79: 3 | H79: =IF(AND(D79<>0,E79<>0),G79,"") -> 3 | N79: {=IFERROR(INDEX(INDIRECT($K$12&"!$C:$C"),SMALL(IF($H$4:$H$178<>"",ROW(INDIRECT($K$12&"!$C$8"):INDIRECT($K$12&"!$C$182"))),ROW(A68))),"")} -> 5,2,7. Décoffrage/utilisation de l'ouvrage | P79: 0.63 | Q79: 63
A80: =IF(F80,1,0) -> 0 | B80: =IF(F80,0,1) -> 1 | C80: =IF(INDIRECT($K$12&"!A84")<='Suivi Qualité PV'!$L$12,1,0) -> 1 | D80: =IF(AND(B80=1,C80=1),1,0) -> 1 | E80: =IF(F80,0,G80) -> 3,0,1 | F80: =ISTEXT(INDIRECT($K$12&"!F84")) -> FALSE | G80: 3,0,1 | H80: =IF(AND(D80<>0,E80<>0),G80,"") -> 3,0,1 | N80: {=IFERROR(INDEX(INDIRECT($K$12&"!$C:$C"),SMALL(IF($H$4:$H$178<>"",ROW(INDIRECT($K$12&"!$C$8"):INDIRECT($K$12&"!$C$182"))),ROW(A69))),"")} -> 5,2,8. MALT murs | P80: 0.64 | Q80: 63
A81: =IF(F81,1,0) -> 0 | B81: =IF(F81,0,1) -> 1 | C81: =IF(INDIRECT($K$12&"!A85")<='Suivi Qualité PV'!$L$12,1,0) -> 1 | D81: =IF(AND(B81=1,C81=1),1,0) -> 1 | E81: =IF(F81,0,G81) -> 3,0,2 | F81: =ISTEXT(INDIRECT($K$12&"!F85")) -> FALSE | G81: 3,0,2 | H81: =IF(AND(D81<>0,E81<>0),G81,"") -> 3,0,2 | N81: {=IFERROR(INDEX(INDIRECT($K$12&"!$C:$C"),SMALL(IF($H$4:$H$178<>"",ROW(INDIRECT($K$12&"!$C$8"):INDIRECT($K$12&"!$C$182"))),ROW(A70))),"")} -> 5,2,9. Parement des murs | P81: 0.65 | Q81: 64
A82: =IF(F82,1,0) -> 0 | B82: =IF(F82,0,1) -> 1 | C82: =IF(INDIRECT($K$12&"!A86")<='Suivi Qualité PV'!$L$12,1,0) -> 1 | D82: =IF(AND(B82=1,C82=1),1,0) -> 1 | E82: =IF(F82,0,G82) -> 3,0,3 | F82: =ISTEXT(INDIRECT($K$12&"!F86")) -> FALSE | G82: 3,0,3 | H82: =IF(AND(D82<>0,E82<>0),G82,"") -> 3,0,3 | N82: {=IFERROR(INDEX(INDIRECT($K$12&"!$C:$C"),SMALL(IF($H$4:$H$178<>"",ROW(INDIRECT($K$12&"!$C$8"):INDIRECT($K$12&"!$C$182"))),ROW(A71))),"")} -> ETANCHEITE ET ISOLATION | P82: 0.66 | Q82: 64
A83: =IF(F83,1,0) -> 0 | B83: =IF(F83,0,1) -> 1 | C83: =IF(INDIRECT($K$12&"!A87")<='Suivi Qualité PV'!$L$12,1,0) -> 1 | D83: =IF(AND(B83=1,C83=1),1,0) -> 1 | E83: =IF(F83,0,G83) -> 3,0,4 | F83: =ISTEXT(INDIRECT($K$12&"!F87")) -> FALSE | G83: 3,0,4 | H83: =IF(AND(D83<>0,E83<>0),G83,"") -> 3,0,4 | N83: {=IFERROR(INDEX(INDIRECT($K$12&"!$C:$C"),SMALL(IF($H$4:$H$178<>"",ROW(INDIRECT($K$12&"!$C$8"):INDIRECT($K$12&"!$C$182"))),ROW(A72))),"")} -> 6,0,1. Forme et utilisation de l'ouvrage | P83: 0.67 | Q83: 64
A84: =IF(F84,1,0) -> 0 | B84: =IF(F84,0,1) -> 1 | C84: =IF(INDIRECT($K$12&"!A88")<='Suivi Qualité PV'!$L$12,1,0) -> 1 | D84: =IF(AND(B84=1,C84=1),1,0) -> 1 | E84: =IF(F84,0,G84) -> 3,0,5 | F84: =ISTEXT(INDIRECT($K$12&"!F88")) -> FALSE | G84: 3,0,5 | H84: =IF(AND(D84<>0,E84<>0),G84,"") -> 3,0,5 | N84: {=IFERROR(INDEX(INDIRECT($K$12&"!$C:$C"),SMALL(IF($H$4:$H$178<>"",ROW(INDIRECT($K$12&"!$C$8"):INDIRECT($K$12&"!$C$182"))),ROW(A73))),"")} -> 6,0,2. Isolation | P84: 0.68 | Q84: 64
A85: =IF(F85,1,0) -> 0 | B85: =IF(F85,0,1) -> 1 | C85: =IF(INDIRECT($K$12&"!A89")<='Suivi Qualité PV'!$L$12,1,0) -> 1 | D85: =IF(AND(B85=1,C85=1),1,0) -> 1 | E85: =IF(F85,0,G85) -> 0 | F85: =ISTEXT(INDIRECT($K$12&"!F89")) -> FALSE | H85: =IF(AND(D85<>0,E85<>0),G85,"") | N85: {=IFERROR(INDEX(INDIRECT($K$12&"!$C:$C"),SMALL(IF($H$4:$H$178<>"",ROW(INDIRECT($K$12&"!$C$8"):INDIRECT($K$12&"!$C$182"))),ROW(A74))),"")} -> 6,0,3. Etanchéité | P85: 0.69 | Q85: 64
A86: =IF(F86,1,0) -> 0 | B86: =IF(F86,0,1) -> 1 | C86: =IF(INDIRECT($K$12&"!A90")<='Suivi Qualité PV'!$L$12,1,0) -> 1 | D86: =IF(AND(B86=1,C86=1),1,0) -> 1 | E86: =IF(F86,0,G86) -> 0 | F86: =ISTEXT(INDIRECT($K$12&"!F90")) -> FALSE | H86: =IF(AND(D86<>0,E86<>0),G86,"") | N86: {=IFERROR(INDEX(INDIRECT($K$12&"!$C:$C"),SMALL(IF($H$4:$H$178<>"",ROW(INDIRECT($K$12&"!$C$8"):INDIRECT($K$12&"!$C$182"))),ROW(A75))),"")} -> MENUISERIE | P86: 0.7 | Q86: 67
A87: =IF(F87,1,0) -> 0 | B87: =IF(F87,0,1) -> 1 | C87: =IF(INDIRECT($K$12&"!A91")<='Suivi Qualité PV'!$L$12,1,0) -> 1 | D87: =IF(AND(B87=1,C87=1),1,0) -> 1 | E87: =IF(F87,0,G87) -> 3,0,6 | F87: =ISTEXT(INDIRECT($K$12&"!F91")) -> FALSE | G87: 3,0,6 | H87: =IF(AND(D87<>0,E87<>0),G87,"") -> 3,0,6 | N87: {=IFERROR(INDEX(INDIRECT($K$12&"!$C:$C"),SMALL(IF($H$4:$H$178<>"",ROW(INDIRECT($K$12&"!$C$8"):INDIRECT($K$12&"!$C$182"))),ROW(A76))),"")} -> 7,0,1. Bâti dormant et menuiserie | P87: 0.71 | Q87: 67
A88: =IF(F88,1,0) -> 0 | B88: =IF(F88,0,1) -> 1 | C88: =IF(INDIRECT($K$12&"!A92")<='Suivi Qualité PV'!$L$12,1,0) -> 1 | D88: =IF(AND(B88=1,C88=1),1,0) -> 1 | E88: =IF(F88,0,G88) -> 3,0,7 | F88: =ISTEXT(INDIRECT($K$12&"!F92")) -> FALSE | G88: 3,0,7 | H88: =IF(AND(D88<>0,E88<>0),G88,"") -> 3,0,7 | N88: {=IFERROR(INDEX(INDIRECT($K$12&"!$C:$C"),SMALL(IF($H$4:$H$178<>"",ROW(INDIRECT($K$12&"!$C$8"):INDIRECT($K$12&"!$C$182"))),ROW(A77))),"")} -> 7,0,2. MALT des menuiseries | P88: 0.72 | Q88: 69
A89: =IF(F89,1,0) -> 0 | B89: =IF(F89,0,1) -> 1 | C89: =IF(INDIRECT($K$12&"!A93")<='Suivi Qualité PV'!$L$12,1,0) -> 1 | D89: =IF(AND(B89=1,C89=1),1,0) -> 1 | E89: =IF(F89,0,G89) -> 3,0,8 | F89: =ISTEXT(INDIRECT($K$12&"!F93")) -> FALSE | G89: 3,0,8 | H89: =IF(AND(D89<>0,E89<>0),G89,"") -> 3,0,8 | N89: {=IFERROR(INDEX(INDIRECT($K$12&"!$C:$C"),SMALL(IF($H$4:$H$178<>"",ROW(INDIRECT($K$12&"!$C$8"):INDIRECT($K$12&"!$C$182"))),ROW(A78))),"")} -> 7,0,3. Etanchéité | P89: 0.73 | Q89: 69
A90: =IF(F90,1,0) -> 0 | B90: =IF(F90,0,1) -> 1 | C90: =IF(INDIRECT($K$12&"!A94")<='Suivi Qualité PV'!$L$12,1,0) -> 1 | D90: =IF(AND(B90=1,C90=1),1,0) -> 1 | E90: =IF(F90,0,G90) -> 3,0,9 | F90: =ISTEXT(INDIRECT($K$12&"!F94")) -> FALSE | G90: 3,0,9 | H90: =IF(AND(D90<>0,E90<>0),G90,"") -> 3,0,9 | N90: {=IFERROR(INDEX(INDIRECT($K$12&"!$C:$C"),SMALL(IF($H$4:$H$178<>"",ROW(INDIRECT($K$12&"!$C$8"):INDIRECT($K$12&"!$C$182"))),ROW(A79))),"")} -> REVETEMENT | P90: 0.74 | Q90: 69
A91: =IF(F91,1,0) -> 0 | B91: =IF(F91,0,1) -> 1 | C91: =IF(INDIRECT($K$12&"!A95")<='Suivi Qualité PV'!$L$12,1,0) -> 1 | D91: =IF(AND(B91=1,C91=1),1,0) -> 1 | E91: =IF(F91,0,G91) -> 3,0,10 | F91: =ISTEXT(INDIRECT($K$12&"!F95")) -> FALSE | G91: 3,0,10 | H91: =IF(AND(D91<>0,E91<>0),G91,"") -> 3,0,10 | N91: {=IFERROR(INDEX(INDIRECT($K$12&"!$C:$C"),SMALL(IF($H$4:$H$178<>"",ROW(INDIRECT($K$12&"!$C$8"):INDIRECT($K$12&"!$C$182"))),ROW(A80))),"")} -> Enduits Int/Ext | P91: 0.75 | Q91: 70
A92: =IF(F92,1,0) -> 0 | B92: =IF(F92,0,1) -> 1 | C92: =IF(INDIRECT($K$12&"!A96")<='Suivi Qualité PV'!$L$12,1,0) -> 1 | D92: =IF(AND(B92=1,C92=1),1,0) -> 1 | E92: =IF(F92,0,G92) -> 0 | F92: =ISTEXT(INDIRECT($K$12&"!F96")) -> FALSE | H92: =IF(AND(D92<>0,E92<>0),G92,"") | N92: {=IFERROR(INDEX(INDIRECT($K$12&"!$C:$C"),SMALL(IF($H$4:$H$178<>"",ROW(INDIRECT($K$12&"!$C$8"):INDIRECT($K$12&"!$C$182"))),ROW(A81))),"")} -> 8,1,1. Première couche | P92: 0.76 | Q92: 70
A93: =IF(F93,1,0) -> 0 | B93: =IF(F93,0,1) -> 1 | C93: =IF(INDIRECT($K$12&"!A97")<='Suivi Qualité PV'!$L$12,1,0) -> 1 | D93: =IF(AND(B93=1,C93=1),1,0) -> 1 | E93: =IF(F93,0,G93) -> 0 | F93: =ISTEXT(INDIRECT($K$12&"!F97")) -> FALSE | H93: =IF(AND(D93<>0,E93<>0),G93,"") | N93: {=IFERROR(INDEX(INDIRECT($K$12&"!$C:$C"),SMALL(IF($H$4:$H$178<>"",ROW(INDIRECT($K$12&"!$C$8"):INDIRECT($K$12&"!$C$182"))),ROW(A82))),"")} -> 8,1,2. Deuxième couche | P93: 0.77 | Q93: 70
A94: =IF(F94,1,0) -> 0 | B94: =IF(F94,0,1) -> 1 | C94: =IF(INDIRECT($K$12&"!A98")<='Suivi Qualité PV'!$L$12,1,0) -> 1 | D94: =IF(AND(B94=1,C94=1),1,0) -> 1 | E94: =IF(F94,0,G94) -> 0 | F94: =ISTEXT(INDIRECT($K$12&"!F98")) -> FALSE | H94: =IF(AND(D94<>0,E94<>0),G94,"") | N94: {=IFERROR(INDEX(INDIRECT($K$12&"!$C:$C"),SMALL(IF($H$4:$H$178<>"",ROW(INDIRECT($K$12&"!$C$8"):INDIRECT($K$12&"!$C$182"))),ROW(A83))),"")} -> Peintures Int/Ext | P94: 0.78 | Q94: 70
A95: =IF(F95,1,0) -> 0 | B95: =IF(F95,0,1) -> 1 | C95: =IF(INDIRECT($K$12&"!A99")<='Suivi Qualité PV'!$L$12,1,0) -> 1 | D95: =IF(AND(B95=1,C95=1),1,0) -> 1 | E95: =IF(F95,0,G95) -> 0 | F95: =ISTEXT(INDIRECT($K$12&"!F99")) -> FALSE | H95: =IF(AND(D95<>0,E95<>0),G95,"") | N95: {=IFERROR(INDEX(INDIRECT($K$12&"!$C:$C"),SMALL(IF($H$4:$H$178<>"",ROW(INDIRECT($K$12&"!$C$8"):INDIRECT($K$12&"!$C$182"))),ROW(A84))),"")} -> 8,2,1. Première couche | P95: 0.79 | Q95: 70
A96: =IF(F96,1,0) -> 0 | B96: =IF(F96,0,1) -> 1 | C96: =IF(INDIRECT($K$12&"!A100")<='Suivi Qualité PV'!$L$12,1,0) -> 1 | D96: =IF(AND(B96=1,C96=1),1,0) -> 1 | E96: =IF(F96,0,G96) -> 0 | F96: =ISTEXT(INDIRECT($K$12&"!F100")) -> FALSE | H96: =IF(AND(D96<>0,E96<>0),G96,"") | N96: {=IFERROR(INDEX(INDIRECT($K$12&"!$C:$C"),SMALL(IF($H$4:$H$178<>"",ROW(INDIRECT($K$12&"!$C$8"):INDIRECT($K$12&"!$C$182"))),ROW(A85))),"")} -> 8,2,2. Deuxième couche | P96: 0.8 | Q96: 74
A97: =IF(F97,1,0) -> 0 | B97: =IF(F97,0,1) -> 1 | C97: =IF(INDIRECT($K$12&"!A101")<='Suivi Qualité PV'!$L$12,1,0) -> 1 | D97: =IF(AND(B97=1,C97=1),1,0) -> 1 | E97: =IF(F97,0,G97) -> 4 | F97: =ISTEXT(INDIRECT($K$12&"!F101")) -> FALSE | G97: 4 | H97: =IF(AND(D97<>0,E97<>0),G97,"") -> 4 | N97: {=IFERROR(INDEX(INDIRECT($K$12&"!$C:$C"),SMALL(IF($H$4:$H$178<>"",ROW(INDIRECT($K$12&"!$C$8"):INDIRECT($K$12&"!$C$182"))),ROW(A86))),"")} -> 8,2,3. Troisième couche | P97: 0.81 | Q97: 74
A98: =IF(F98,1,0) -> 0 | B98: =IF(F98,0,1) -> 1 | C98: =IF(INDIRECT($K$12&"!A102")<='Suivi Qualité PV'!$L$12,1,0) -> 1 | D98: =IF(AND(B98=1,C98=1),1,0) -> 1 | E98: =IF(F98,0,G98) -> 4,0,1 | F98: =ISTEXT(INDIRECT($K$12&"!F102")) -> FALSE | G98: 4,0,1 | H98: =IF(AND(D98<>0,E98<>0),G98,"") -> 4,0,1 | N98: {=IFERROR(INDEX(INDIRECT($K$12&"!$C:$C"),SMALL(IF($H$4:$H$178<>"",ROW(INDIRECT($K$12&"!$C$8"):INDIRECT($K$12&"!$C$182"))),ROW(A87))),"")} -> EVACUATION EAUX PLUVIALE | P98: 0.82 | Q98: 74
A99: =IF(F99,1,0) -> 0 | B99: =IF(F99,0,1) -> 1 | C99: =IF(INDIRECT($K$12&"!A103")<='Suivi Qualité PV'!$L$12,1,0) -> 1 | D99: =IF(AND(B99=1,C99=1),1,0) -> 1 | E99: =IF(F99,0,G99) -> 4,0,2 | F99: =ISTEXT(INDIRECT($K$12&"!F103")) -> FALSE | G99: 4,0,2 | H99: =IF(AND(D99<>0,E99<>0),G99,"") -> 4,0,2 | N99: {=IFERROR(INDEX(INDIRECT($K$12&"!$C:$C"),SMALL(IF($H$4:$H$178<>"",ROW(INDIRECT($K$12&"!$C$8"):INDIRECT($K$12&"!$C$182"))),ROW(A88))),"")} -> 9,0,1. Zinguerie et évacuation des eaux pluviales vers drain | P99: 0.83 | Q99: 74
A100: =IF(F100,1,0) -> 0 | B100: =IF(F100,0,1) -> 1 | C100: =IF(INDIRECT($K$12&"!A104")<='Suivi Qualité PV'!$L$12,1,0) -> 1 | D100: =IF(AND(B100=1,C100=1),1,0) -> 1 | E100: =IF(F100,0,G100) -> 4,0,3 | F100: =ISTEXT(INDIRECT($K$12&"!F104")) -> FALSE | G100: 4,0,3 | H100: =IF(AND(D100<>0,E100<>0),G100,"") -> 4,0,3 | N100: {=IFERROR(INDEX(INDIRECT($K$12&"!$C:$C"),SMALL(IF($H$4:$H$178<>"",ROW(INDIRECT($K$12&"!$C$8"):INDIRECT($K$12&"!$C$182"))),ROW(A89))),"")} -> ELECTRICITE | P100: 0.84 | Q100: 74
A101: =IF(F101,1,0) -> 0 | B101: =IF(F101,0,1) -> 1 | C101: =IF(INDIRECT($K$12&"!A105")<='Suivi Qualité PV'!$L$12,1,0) -> 1 | D101: =IF(AND(B101=1,C101=1),1,0) -> 1 | E101: =IF(F101,0,G101) -> 0 | F101: =ISTEXT(INDIRECT($K$12&"!F105")) -> FALSE | H101: =IF(AND(D101<>0,E101<>0),G101,"") | N101: {=IFERROR(INDEX(INDIRECT($K$12&"!$C:$C"),SMALL(IF($H$4:$H$178<>"",ROW(INDIRECT($K$12&"!$C$8"):INDIRECT($K$12&"!$C$182"))),ROW(A90))),"")} -> 10,0,1. Eclairage normal | P101: 0.85 | Q101: 81
A102: =IF(F102,1,0) -> 0 | B102: =IF(F102,0,1) -> 1 | C102: =IF(INDIRECT($K$12&"!A106")<='Suivi Qualité PV'!$L$12,1,0) -> 1 | D102: =IF(AND(B102=1,C102=1),1,0) -> 1 | E102: =IF(F102,0,G102) -> 0 | F102: =ISTEXT(INDIRECT($K$12&"!F106")) -> FALSE | H102: =IF(AND(D102<>0,E102<>0),G102,"") | N102: {=IFERROR(INDEX(INDIRECT($K$12&"!$C:$C"),SMALL(IF($H$4:$H$178<>"",ROW(INDIRECT($K$12&"!$C$8"):INDIRECT($K$12&"!$C$182"))),ROW(A91))),"")} -> 10,0,2. Eclairage de sécurité | P102: 0.86 | Q102: 81
...
