Workbook

Sheet TK76
B1: =[1]TK76!B1 -> 0 | C1: =[1]TK76!C1 -> 0 | D1: =[1]TK76!D1 -> 0 | E1: =[1]TK76!E1 -> 0 | F1: =[1]TK76!F1 -> 0
B2: =[1]TK76!B2 -> PV & FC du bâtiment LGV TK 76
B3: =[1]TK76!B3 -> 0 | C3: =[1]TK76!C3 -> 0 | D3: =[1]TK76!D3 -> 0 | E3: =[1]TK76!E3 -> 0 | F3: =[1]TK76!F3 -> 0
A4: Avancement | B4: =[1]TK76!B4 -> Tache | C4: =[1]TK76!C4 -> Contrôles réalisés | D4: =[1]TK76!D4 -> Contrôles réalisés | E4: =[1]TK76!E4 -> Entités réalisant les contrôles | F4: =[1]TK76!F4 -> PV ou FC
B6: =[1]TK76!B6 -> 0 | C6: =[1]TK76!C6 -> Mise a disposition plateforme 1 LGV TK 76 | D6: =[1]TK76!D6 -> 0 | E6: =[1]TK76!E6 -> 0 | F6: =[1]TK76!F6 -> LGV-BAT76-MISE A DISPOSITION 1
B7: =[1]TK76!B7 -> 0 | C7: =[1]TK76!C7 -> 0 | D7: =[1]TK76!D7 -> 0 | E7: =[1]TK76!E7 -> 0 | F7: =[1]TK76!F7 -> 0
B8: =[1]TK76!B8 -> 1 | C8: TERRASSEMENT | D8: =[1]TK76!D8 -> 0 | E8: =[1]TK76!E8 -> 0 | F8: =[1]TK76!F8 -> 0
B9: =[1]TK76!B9 -> 1,0,1 | C9: 1,0,1. Implantation du bâtiment | D9: =[1]TK76!D9 -> écarts d'implantation | E9: =[1]TK76!E9 -> ENTREPRISE GC + GEOMETRE + CR SIG | F9: =[1]TK76!F9 -> LGV-BAT76-PV101
A10: 0.01 | B10: =[1]TK76!B10 -> 1,0,2 | C10: 1,0,2. Fond de fouille | D10: =[1]TK76!D10 -> contrôle des dimensions | E10: =[1]TK76!E10 -> ENTREPRISE GC + LABORATOIRE SOL + BUREAU DE CONTROL | F10: =[1]TK76!F10 -> LGV-BAT76-PV102
A11: 0.01 | D11: =[1]TK76!D11 -> contrôle de la nature du sol | F11: =[1]TK76!F11 -> 0
A12: 0.7 | B12: =[1]TK76!B12 -> 1,0,3 | C12: 1,0,3. Compaction des sols | D12: =[1]TK76!D12 -> test de compaction | E12: =[1]TK76!E12 -> ENTREPRISE GC + CR/SIG + LABORATOIRE SOL | F12: =[1]TK76!F12 -> 0
A13: 0.026 | B13: =[1]TK76!B13 -> 1,0,4 | C13: 1,0,4. MALT fond de fouille | D13: =[1]TK76!D13 -> continuité de la boucle de terre | E13: =[1]TK76!E13 -> ENTREPRISE GC + CR/SIG | F13: =[1]TK76!F13 -> 0
A14: 0.026 | D14: =[1]TK76!D14 -> remontées du câble de fond de fouille | F14: =[1]TK76!F14 -> 0
B15: =[1]TK76!B15 -> 2 | C15: STRUCTURES | D15: =[1]TK76!D15 -> 0 | E15: =[1]TK76!E15 -> 0 | F15: =[1]TK76!F15 -> 0
B16: =[1]TK76!B16 -> 2.1 | C16: Semelles | D16: =[1]TK76!D16 -> 0 | E16: =[1]TK76!E16 -> 0 | F16: =[1]TK76!F16 -> 0
A17: 0.03 | B17: =[1]TK76!B17 -> 2,1,1 | C17: 2,1,1. Coffrages | D17: =[1]TK76!D17 -> dimension, verticalité et linéarité | E17: =[1]TK76!E17 -> ENTREPRISE GC | F17: =[1]TK76!F17 -> 0
A18: 0.03 | B18: =[1]TK76!B18 -> 2,1,2 | C18: 2,1,2. Ferraillages | D18: =[1]TK76!D18 -> contrôle des sections | E18: =[1]TK76!E18 -> ENTREPRISE GC + BUREAU DE CONTROL | F18: =[1]TK76!F18 -> LGV-BAT76PV212
A19: 0.04 | B19: =[1]TK76!B19 -> 2,1,3 | C19: 2,1,3. MALT fond de fouille / structure | D19: =[1]TK76!D19 -> continuité de la boucle de terre | E19: =[1]TK76!E19 -> ENTREPRISE GC + CR/SIG + BUREAU DE CONTROL | F19: =[1]TK76!F19 -> LGV-BAT76PV213
A20: 0.04 | D20: =[1]TK76!D20 -> mesure de la prise de terre | F20: =[1]TK76!F20 -> 0
A21: 0.04 | D21: =[1]TK76!D21 -> mise en œuvre des éléments de la MALT (voir remarque) | F21: =[1]TK76!F21 -> 0
A22: 0.04 | B22: =[1]TK76!B22 -> 2,1,4 | C22: 2,1,4. Essais sur béton frais | D22: =[1]TK76!D22 -> essai d'affaissement | E22: =[1]TK76!E22 -> ENTREPRISE GC + LABORATOIRE SOL | F22: =[1]TK76!F22 -> LGV-BAT76-PV214
A23: 0.44 | B23: =[1]TK76!B23 -> 2,1,5 | C23: 2,1,5. Essais sur béton durci | D23: =[1]TK76!D23 -> essai de résistances mécaniques | E23: =[1]TK76!E23 -> ENTREPRISE GC + LABORATOIRE SOL | F23: =[1]TK76!F23 -> 0
A24: 0.05 | B24: =[1]TK76!B24 -> 2,1,6 | C24: 2,1,6. Décoffrage/utilisation de l'ouvrage | D24: =[1]TK76!D24 -> séchage du béton | E24: =[1]TK76!E24 -> ENTREPRISE GC + CR/SIG | F24: =[1]TK76!F24 -> LGV-BAT76-PV216
A25: 0.05 | B25: =[1]TK76!B25 -> 2,1,7 | C25: 2,1,7. MALT fond de fouille / structure | D25: =[1]TK76!D25 -> mesure de la prise de terre | E25: =[1]TK76!E25 -> ENTREPRISE GC + CR/SIG | F25: =[1]TK76!F25 -> 0
B26: =[1]TK76!B26 -> 0 | D26: =[1]TK76!D26 -> 0 | E26: =[1]TK76!E26 -> 0 | F26: =[1]TK76!F26 -> 0
B27: =[1]TK76!B27 -> 2.2 | C27: Longrines | D27: =[1]TK76!D27 -> 0 | E27: =[1]TK76!E27 -> 0 | F27: =[1]TK76!F27 -> 0
B28: =[1]TK76!B28 -> 0 | C28: Longrines | D28: =[1]TK76!D28 -> 0 | E28: =[1]TK76!E28 -> 0 | F28: =[1]TK76!F28 -> 0
A29: 0.06 | B29: =[1]TK76!B29 -> 2,2,1 | C29: 2,2,1. Ferraillages | D29: =[1]TK76!D29 -> contrôle des sections | E29: =[1]TK76!E29 -> ENTREPRISE GC + BUREAU DE CONTROL | F29: =[1]TK76!F29 -> LGV-BAT76-PV221
A30: 0.03 | B30: =[1]TK76!B30 -> 2,2,2 | C30: 2,2,2. MALT fond de fouille / structure | D30: =[1]TK76!D30 -> continuité de la boucle de terre | E30: =[1]TK76!E30 -> ENTREPRISE GC + CR/SIG + BUREAU DE CONTROL | F30: =[1]TK76!F30 -> 0
A31: 0.03 | D31: =[1]TK76!D31 -> mesure de la prise de terre | F31: =[1]TK76!F31 -> 0
A32: 0.03 | D32: =[1]TK76!D32 -> mise en œuvre des éléments de la MALT (voir remarque) | F32: =[1]TK76!F32 -> 0
A33: 0.06 | B33: =[1]TK76!B33 -> 2,2,3 | C33: 2,2,3. Coffrages | D33: =[1]TK76!D33 -> dimension, verticalité et linéarité | E33: =[1]TK76!E33 -> ENTREPRISE GC | F33: =[1]TK76!F33 -> LGV-BAT76-PV223
A34: 0.06 | B34: =[1]TK76!B34 -> 2,2,4 | C34: 2,2,4. Essais sur béton frais | D34: =[1]TK76!D34 -> essai d'affaissement | E34: =[1]TK76!E34 -> ENTREPRISE GC + LABORATOIRE SOL | F34: =[1]TK76!F34 -> LGV-BAT76-PV224
A35: 0.52 | B35: =[1]TK76!B35 -> 2,2,5 | C35: 2,2,5. Essais sur béton durci | D35: =[1]TK76!D35 -> essai de résistances mécaniques | E35: =[1]TK76!E35 -> ENTREPRISE GC + LABORATOIRE SOL | F35: =[1]TK76!F35 -> 0
A36: 0.08 | B36: =[1]TK76!B36 -> 2,2,6 | C36: 2,2,6. Décoffrage/utilisation de l'ouvrage | D36: =[1]TK76!D36 -> séchage du béton | E36: =[1]TK76!E36 -> ENTREPRISE GC + CR/SIG | F36: =[1]TK76!F36 -> LGV-BAT76-PV226
A37: 0.08 | B37: =[1]TK76!B37 -> 2,2,7 | C37: 2,2,7. MALT fond de fouille / structure | D37: =[1]TK76!D37 -> mesure de la prise de terre | E37: =[1]TK76!E37 -> ENTREPRISE GC + CR/SIG | F37: =[1]TK76!F37 -> 0
B38: =[1]TK76!B38 -> 0 | D38: =[1]TK76!D38 -> 0 | E38: =[1]TK76!E38 -> 0 | F38: =[1]TK76!F38 -> 0
B39: =[1]TK76!B39 -> 2,3,0 | C39: Poteaux raidisseur | D39: =[1]TK76!D39 -> 0 | E39: =[1]TK76!E39 -> 0 | F39: =[1]TK76!F39 -> 0
A40: 0.09 | B40: =[1]TK76!B40 -> 2,3,1 | C40: 2,3,1. Ferraillages | D40: =[1]TK76!D40 -> contrôle des sections | E40: =[1]TK76!E40 -> ENTREPRISE GC + BUREAU DE CONTROL | F40: =[1]TK76!F40 -> 0
A41: 0.09 | B41: =[1]TK76!B41 -> 2,3,2 | C41: 2,3,2. MALT structure | D41: =[1]TK76!D41 -> continuité de la boucle de terre | E41: =[1]TK76!E41 -> ENTREPRISE GC + CR/SIG + BUREAU DE CONTROL | F41: =[1]TK76!F41 -> 0
...

Sheet TK99
B1: =[2]TK99!B1 -> 0 | C1: =[2]TK99!C1 -> 0 | D1: =[2]TK99!D1 -> 0 | E1: =[2]TK99!E1 -> 0 | F1: =[2]TK99!F1 -> 0
B2: =[2]TK99!B2 -> PV & FC du bâtiment LGV TK 99
B3: =[2]TK99!B3 -> 0 | C3: =[2]TK99!C3 -> 0 | D3: =[2]TK99!D3 -> 0 | E3: =[2]TK99!E3 -> 0 | F3: =[2]TK99!F3 -> 0
A4: Avancement | B4: =[2]TK99!B4 -> Tache | C4: =[2]TK99!C4 -> Contrôles réalisés | D4: =[2]TK99!D4 -> Contrôles réalisés | E4: =[2]TK99!E4 -> Entités réalisant les contrôles | F4: =[2]TK99!F4 -> PV ou FC | G4: =87/100 -> 0.87
B6: =[2]TK99!B6 -> 0 | C6: =[2]TK99!C6 -> Mise a disposition plateforme 1 LGV TK 99 | D6: =[2]TK99!D6 -> 0 | E6: =[2]TK99!E6 -> 0 | F6: =[2]TK99!F6 -> LGV-BAT99-MISE A DISPOSITION 1
B7: =[2]TK99!B7 -> 0 | C7: =[2]TK99!C7 -> Mise a disposition plateforme 2 LGV TK 99 | D7: =[2]TK99!D7 -> 0 | E7: =[2]TK99!E7 -> 0 | F7: =[2]TK99!F7 -> LGV-BAT99-MISE A DISPOSITION 2
B8: =[2]TK99!B8 -> 1 | C8: =[3]TK111!C8 -> TERRASSEMENT | D8: =[2]TK99!D8 -> 0 | E8: =[2]TK99!E8 -> 0 | F8: =[2]TK99!F8 -> 0
B9: =[2]TK99!B9 -> 1,0,1 | C9: =[3]TK111!C9 -> 1,0,1. Implantation du bâtiment | D9: =[2]TK99!D9 -> écarts d'implantation | E9: =[2]TK99!E9 -> ENTREPRISE GC + GEOMETRE + CR SIG | F9: =[2]TK99!F9 -> LGV-BAT124-PV101
A10: 0.01 | B10: =[2]TK99!B10 -> 1,0,2 | C10: =[3]TK111!C10 -> 1,0,2. Fond de fouille | D10: =[2]TK99!D10 -> contrôle des dimensions | E10: =[2]TK99!E10 -> ENTREPRISE GC + LABORATOIRE SOL + BUREAU DE CONTROL | F10: =[2]TK99!F10 -> LGV-BAT124-PV102
A11: 0.01 | D11: =[2]TK99!D11 -> contrôle de la nature du sol | F11: =[2]TK99!F11 -> 0
A12: 0.7 | B12: =[2]TK99!B12 -> 1,0,3 | C12: =[3]TK111!C12 -> 1,0,3. Compaction des sols | D12: =[2]TK99!D12 -> test de compaction | E12: =[2]TK99!E12 -> ENTREPRISE GC + CR/SIG + LABORATOIRE SOL | F12: =[2]TK99!F12 -> LGV-BAT124-PV103
A13: 0.026 | B13: =[2]TK99!B13 -> 1,0,4 | C13: =[3]TK111!C13 -> 1,0,4. MALT fond de fouille | D13: =[2]TK99!D13 -> continuité de la boucle de terre | E13: =[2]TK99!E13 -> ENTREPRISE GC + CR/SIG | F13: =[2]TK99!F13 -> 0
A14: 0.026 | D14: =[2]TK99!D14 -> remontées du câble de fond de fouille | F14: =[2]TK99!F14 -> 0
B15: =[2]TK99!B15 -> 2 | C15: =[3]TK111!C15 -> STRUCTURES | D15: =[2]TK99!D15 -> 0 | E15: =[2]TK99!E15 -> 0 | F15: =[2]TK99!F15 -> 0
B16: =[2]TK99!B16 -> 2.1 | C16: =[3]TK111!C16 -> Semelles | D16: =[2]TK99!D16 -> 0 | E16: =[2]TK99!E16 -> 0 | F16: =[2]TK99!F16 -> 0
A17: 0.03 | B17: =[2]TK99!B17 -> 2,1,1 | C17: =[3]TK111!C17 -> 2,1,1. Coffrages | D17: =[2]TK99!D17 -> dimension, verticalité et linéarité | E17: =[2]TK99!E17 -> ENTREPRISE GC | F17: =[2]TK99!F17 -> LGV-BAT124PV211
A18: 0.03 | B18: =[2]TK99!B18 -> 2,1,2 | C18: =[3]TK111!C18 -> 2,1,2. Ferraillages | D18: =[2]TK99!D18 -> contrôle des sections | E18: =[2]TK99!E18 -> ENTREPRISE GC + BUREAU DE CONTROL | F18: =[2]TK99!F18 -> LGV-BAT124PV212
A19: 0.04 | B19: =[2]TK99!B19 -> 2,1,3 | C19: =[3]TK111!C19 -> 2,1,3. MALT fond de fouille / structure | D19: =[2]TK99!D19 -> continuité de la boucle de terre | E19: =[2]TK99!E19 -> ENTREPRISE GC + CR/SIG + BUREAU DE CONTROL | F19: =[2]TK99!F19 -> LGV-BAT124PV213
A20: 0.04 | D20: =[2]TK99!D20 -> mesure de la prise de terre | F20: =[2]TK99!F20 -> 0
A21: 0.04 | D21: =[2]TK99!D21 -> mise en œuvre des éléments de la MALT (voir remarque) | F21: =[2]TK99!F21 -> 0
A22: 0.04 | B22: =[2]TK99!B22 -> 2,1,4 | C22: =[3]TK111!C22 -> 2,1,4. Essais sur béton frais | D22: =[2]TK99!D22 -> essai d'affaissement | E22: =[2]TK99!E22 -> ENTREPRISE GC + LABORATOIRE SOL | F22: =[2]TK99!F22 -> LGV-BAT124-PV214
A23: 0.44 | B23: =[2]TK99!B23 -> 2,1,5 | C23: =[3]TK111!C23 -> 2,1,5. Essais sur béton durci | D23: =[2]TK99!D23 -> essai de résistances mécaniques | E23: =[2]TK99!E23 -> ENTREPRISE GC + LABORATOIRE SOL | F23: =[2]TK99!F23 -> 0
A24: 0.05 | B24: =[2]TK99!B24 -> 2,1,6 | C24: =[3]TK111!C24 -> 2,1,6. Décoffrage/utilisation de l'ouvrage | D24: =[2]TK99!D24 -> séchage du béton | E24: =[2]TK99!E24 -> ENTREPRISE GC + CR/SIG | F24: =[2]TK99!F24 -> LGV-BAT124-PV216
A25: 0.05 | B25: =[2]TK99!B25 -> 2,1,7 | C25: =[3]TK111!C25 -> 2,1,7. MALT fond de fouille / structure | D25: =[2]TK99!D25 -> mesure de la prise de terre | E25: =[2]TK99!E25 -> ENTREPRISE GC + CR/SIG | F25: =[2]TK99!F25 -> 0
B26: =[2]TK99!B26 -> 0 | C26: =[3]TK111!C26 -> 0 | D26: =[2]TK99!D26 -> 0 | E26: =[2]TK99!E26 -> 0 | F26: =[2]TK99!F26 -> 0
B27: =[2]TK99!B27 -> 2.2 | C27: =[3]TK111!C27 -> Longrines | D27: =[2]TK99!D27 -> 0 | E27: =[2]TK99!E27 -> 0 | F27: =[2]TK99!F27 -> 0
B28: =[2]TK99!B28 -> 0 | C28: =[3]TK111!C28 -> Longrines | D28: =[2]TK99!D28 -> 0 | E28: =[2]TK99!E28 -> 0 | F28: =[2]TK99!F28 -> 0
A29: 0.06 | B29: =[2]TK99!B29 -> 2,2,1 | C29: =[3]TK111!C29 -> 2,2,1. Ferraillages | D29: =[2]TK99!D29 -> contrôle des sections | E29: =[2]TK99!E29 -> ENTREPRISE GC + BUREAU DE CONTROL | F29: =[2]TK99!F29 -> LGV-BAT124-PV221
A30: 0.03 | B30: =[2]TK99!B30 -> 2,2,2 | C30: =[3]TK111!C30 -> 2,2,2. MALT fond de fouille / structure | D30: =[2]TK99!D30 -> continuité de la boucle de terre | E30: =[2]TK99!E30 -> ENTREPRISE GC + CR/SIG + BUREAU DE CONTROL | F30: =[2]TK99!F30 -> LGV-BAT124-PV222
A31: 0.03 | D31: =[2]TK99!D31 -> mesure de la prise de terre | F31: =[2]TK99!F31 -> 0
A32: 0.03 | D32: =[2]TK99!D32 -> mise en œuvre des éléments de la MALT (voir remarque) | F32: =[2]TK99!F32 -> 0
A33: 0.06 | B33: =[2]TK99!B33 -> 2,2,3 | C33: =[3]TK111!C33 -> 2,2,3. Coffrages | D33: =[2]TK99!D33 -> dimension, verticalité et linéarité | E33: =[2]TK99!E33 -> ENTREPRISE GC | F33: =[2]TK99!F33 -> 0
A34: 0.06 | B34: =[2]TK99!B34 -> 2,2,4 | C34: =[3]TK111!C34 -> 2,2,4. Essais sur béton frais | D34: =[2]TK99!D34 -> essai d'affaissement | E34: =[2]TK99!E34 -> ENTREPRISE GC + LABORATOIRE SOL | F34: =[2]TK99!F34 -> LGV-BAT124-PV224
A35: 0.52 | B35: =[2]TK99!B35 -> 2,2,5 | C35: =[3]TK111!C35 -> 2,2,5. Essais sur béton durci | D35: =[2]TK99!D35 -> essai de résistances mécaniques | E35: =[2]TK99!E35 -> ENTREPRISE GC + LABORATOIRE SOL | F35: =[2]TK99!F35 -> 0
A36: 0.08 | B36: =[2]TK99!B36 -> 2,2,6 | C36: =[3]TK111!C36 -> 2,2,6. Décoffrage/utilisation de l'ouvrage | D36: =[2]TK99!D36 -> séchage du béton | E36: =[2]TK99!E36 -> ENTREPRISE GC + CR/SIG | F36: =[2]TK99!F36 -> LGV-BAT124-PV226
A37: 0.08 | B37: =[2]TK99!B37 -> 2,2,7 | C37: =[3]TK111!C37 -> 2,2,7. MALT fond de fouille / structure | D37: =[2]TK99!D37 -> mesure de la prise de terre | E37: =[2]TK99!E37 -> ENTREPRISE GC + CR/SIG | F37: =[2]TK99!F37 -> 0
B38: =[2]TK99!B38 -> 0 | C38: =[3]TK111!C38 -> 0 | D38: =[2]TK99!D38 -> 0 | E38: =[2]TK99!E38 -> 0 | F38: =[2]TK99!F38 -> 0
B39: =[2]TK99!B39 -> 2,3,0 | C39: =[3]TK111!C39 -> Poteaux raidisseur | D39: =[2]TK99!D39 -> 0 | E39: =[2]TK99!E39 -> 0 | F39: =[2]TK99!F39 -> 0
A40: 0.09 | B40: =[2]TK99!B40 -> 2,3,1 | C40: =[3]TK111!C40 -> 2,3,1. Ferraillages | D40: =[2]TK99!D40 -> contrôle des sections | E40: =[2]TK99!E40 -> ENTREPRISE GC + BUREAU DE CONTROL | F40: =[2]TK99!F40 -> LGV-BAT124PV231
A41: 0.09 | B41: =[2]TK99!B41 -> 2,3,2 | C41: =[3]TK111!C41 -> 2,3,2. MALT structure | D41: =[2]TK99!D41 -> continuité de la boucle de terre | E41: =[2]TK99!E41 -> ENTREPRISE GC + CR/SIG + BUREAU DE CONTROL | F41: =[2]TK99!F41 -> LGV-BAT124PV232
...

Sheet TK111
B1: =[3]TK111!B1 -> 0 | C1: =[3]TK111!C1 -> 0 | D1: =[3]TK111!D1 -> 0 | E1: =[3]TK111!E1 -> 0 | F1: =[3]TK111!F1 -> 0
B2: =[3]TK111!B2 -> PV & FC du bâtiment LGV TK 111
B3: =[3]TK111!B3 -> 0 | C3: =[3]TK111!C3 -> 0 | D3: =[3]TK111!D3 -> 0 | E3: =[3]TK111!E3 -> 0 | F3: =[3]TK111!F3 -> 0
A4: Avancement | B4: =[3]TK111!B4 -> Tache | C4: =[3]TK111!C4 -> Contrôles réalisés | D4: =[3]TK111!D4 -> Contrôles réalisés | E4: =[3]TK111!E4 -> Entités réalisant les contrôles | F4: =[3]TK111!F4 -> PV ou FC
B6: =[3]TK111!B6 -> 0 | C6: =[3]TK111!C6 -> Mise a disposition plateforme 1 LGV TK 111 | D6: =[3]TK111!D6 -> 0 | E6: =[3]TK111!E6 -> 0 | F6: =[3]TK111!F6 -> LGV-BAT99-MISE A DISPOSITION 1
B7: =[3]TK111!B7 -> 0 | C7: =[3]TK111!C7 -> Mise a disposition plateforme 2 LGV TK 111 | D7: =[3]TK111!D7 -> 0 | E7: =[3]TK111!E7 -> 0 | F7: =[3]TK111!F7 -> LGV-BAT99-MISE A DISPOSITION 2
B8: =[3]TK111!B8 -> 1 | C8: =[3]TK111!C8 -> TERRASSEMENT | D8: =[3]TK111!D8 -> 0 | E8: =[3]TK111!E8 -> 0 | F8: =[3]TK111!F8 -> 0
B9: =[3]TK111!B9 -> 1,0,1 | C9: =[3]TK111!C9 -> 1,0,1. Implantation du bâtiment | D9: =[3]TK111!D9 -> écarts d'implantation | E9: =[3]TK111!E9 -> ENTREPRISE GC + GEOMETRE + CR SIG | F9: =[3]TK111!F9 -> LGV-BAT124-PV101
A10: 0.01 | B10: =[3]TK111!B10 -> 1,0,2 | C10: =[3]TK111!C10 -> 1,0,2. Fond de fouille | D10: =[3]TK111!D10 -> contrôle des dimensions | E10: =[3]TK111!E10 -> ENTREPRISE GC + LABORATOIRE SOL + BUREAU DE CONTROL | F10: =[3]TK111!F10 -> LGV-BAT124-PV102
A11: 0.01 | D11: =[3]TK111!D11 -> contrôle de la nature du sol
A12: 0.7 | B12: =[3]TK111!B12 -> 1,0,3 | C12: =[3]TK111!C12 -> 1,0,3. Compaction des sols | D12: =[3]TK111!D12 -> test de compaction | E12: =[3]TK111!E12 -> ENTREPRISE GC + CR/SIG + LABORATOIRE SOL | F12: =[3]TK111!F12 -> LGV-BAT124-PV103
A13: 0.026 | B13: =[3]TK111!B13 -> 1,0,4 | C13: =[3]TK111!C13 -> 1,0,4. MALT fond de fouille | D13: =[3]TK111!D13 -> continuité de la boucle de terre | E13: =[3]TK111!E13 -> ENTREPRISE GC + CR/SIG | F13: =[3]TK111!F13 -> 0
A14: 0.026 | D14: =[3]TK111!D14 -> remontées du câble de fond de fouille
B15: =[3]TK111!B15 -> 2 | C15: =[3]TK111!C15 -> STRUCTURES | D15: =[3]TK111!D15 -> 0 | E15: =[3]TK111!E15 -> 0 | F15: =[3]TK111!F15 -> 0
B16: =[3]TK111!B16 -> 2.1 | C16: =[3]TK111!C16 -> Semelles | D16: =[3]TK111!D16 -> 0 | E16: =[3]TK111!E16 -> 0 | F16: =[3]TK111!F16 -> 0
A17: 0.03 | B17: =[3]TK111!B17 -> 2,1,1 | C17: =[3]TK111!C17 -> 2,1,1. Coffrages | D17: =[3]TK111!D17 -> dimension, verticalité et linéarité | E17: =[3]TK111!E17 -> ENTREPRISE GC | F17: =[3]TK111!F17 -> LGV-BAT124PV211
A18: 0.03 | B18: =[3]TK111!B18 -> 2,1,2 | C18: =[3]TK111!C18 -> 2,1,2. Ferraillages | D18: =[3]TK111!D18 -> contrôle des sections | E18: =[3]TK111!E18 -> ENTREPRISE GC + BUREAU DE CONTROL | F18: =[3]TK111!F18 -> LGV-BAT124PV212
A19: 0.04 | B19: =[3]TK111!B19 -> 2,1,3 | C19: =[3]TK111!C19 -> 2,1,3. MALT fond de fouille / structure | D19: =[3]TK111!D19 -> continuité de la boucle de terre | E19: =[3]TK111!E19 -> ENTREPRISE GC + CR/SIG + BUREAU DE CONTROL | F19: =[3]TK111!F19 -> LGV-BAT124PV213
A20: 0.04 | D20: =[3]TK111!D20 -> mesure de la prise de terre
A21: 0.04 | D21: =[3]TK111!D21 -> mise en œuvre des éléments de la MALT (voir remarque)
A22: 0.04 | B22: =[3]TK111!B22 -> 2,1,4 | C22: =[3]TK111!C22 -> 2,1,4. Essais sur béton frais | D22: =[3]TK111!D22 -> essai d'affaissement | E22: =[3]TK111!E22 -> ENTREPRISE GC + LABORATOIRE SOL | F22: =[3]TK111!F22 -> LGV-BAT124-PV214
A23: 0.44 | B23: =[3]TK111!B23 -> 2,1,5 | C23: =[3]TK111!C23 -> 2,1,5. Essais sur béton durci | D23: =[3]TK111!D23 -> essai de résistances mécaniques | E23: =[3]TK111!E23 -> ENTREPRISE GC + LABORATOIRE SOL | F23: =[3]TK111!F23 -> 0
A24: 0.05 | B24: =[3]TK111!B24 -> 2,1,6 | C24: =[3]TK111!C24 -> 2,1,6. Décoffrage/utilisation de l'ouvrage | D24: =[3]TK111!D24 -> séchage du béton | E24: =[3]TK111!E24 -> ENTREPRISE GC + CR/SIG | F24: =[3]TK111!F24 -> LGV-BAT124-PV216
A25: 0.05 | B25: =[3]TK111!B25 -> 2,1,7 | C25: =[3]TK111!C25 -> 2,1,7. MALT fond de fouille / structure | D25: =[3]TK111!D25 -> mesure de la prise de terre | E25: =[3]TK111!E25 -> ENTREPRISE GC + CR/SIG | F25: =[3]TK111!F25 -> 0
B26: =[3]TK111!B26 -> 0 | C26: =[3]TK111!C26 -> 0 | D26: =[3]TK111!D26 -> 0 | E26: =[3]TK111!E26 -> 0 | F26: =[3]TK111!F26 -> 0
B27: =[3]TK111!B27 -> 2.2 | C27: =[3]TK111!C27 -> Longrines | D27: =[3]TK111!D27 -> 0 | E27: =[3]TK111!E27 -> 0 | F27: =[3]TK111!F27 -> 0
B28: =[3]TK111!B28 -> 0 | C28: =[3]TK111!C28 -> Longrines | D28: =[3]TK111!D28 -> 0 | E28: =[3]TK111!E28 -> 0 | F28: =[3]TK111!F28 -> 0
A29: 0.06 | B29: =[3]TK111!B29 -> 2,2,1 | C29: =[3]TK111!C29 -> 2,2,1. Ferraillages | D29: =[3]TK111!D29 -> contrôle des sections | E29: =[3]TK111!E29 -> ENTREPRISE GC + BUREAU DE CONTROL | F29: =[3]TK111!F29 -> LGV-BAT124-PV221
A30: 0.03 | B30: =[3]TK111!B30 -> 2,2,2 | C30: =[3]TK111!C30 -> 2,2,2. MALT fond de fouille / structure | D30: =[3]TK111!D30 -> continuité de la boucle de terre | E30: =[3]TK111!E30 -> ENTREPRISE GC + CR/SIG + BUREAU DE CONTROL | F30: =[3]TK111!F30 -> 0
A31: 0.03 | D31: =[3]TK111!D31 -> mesure de la prise de terre
A32: 0.03 | D32: =[3]TK111!D32 -> mise en œuvre des éléments de la MALT (voir remarque)
A33: 0.06 | B33: =[3]TK111!B33 -> 2,2,3 | C33: =[3]TK111!C33 -> 2,2,3. Coffrages | D33: =[3]TK111!D33 -> dimension, verticalité et linéarité | E33: =[3]TK111!E33 -> ENTREPRISE GC | F33: =[3]TK111!F33 -> LGV-BAT124-PV223
A34: 0.06 | B34: =[3]TK111!B34 -> 2,2,4 | C34: =[3]TK111!C34 -> 2,2,4. Essais sur béton frais | D34: =[3]TK111!D34 -> essai d'affaissement | E34: =[3]TK111!E34 -> ENTREPRISE GC + LABORATOIRE SOL | F34: =[3]TK111!F34 -> LGV-BAT124-PV224
A35: 0.52 | B35: =[3]TK111!B35 -> 2,2,5 | C35: =[3]TK111!C35 -> 2,2,5. Essais sur béton durci | D35: =[3]TK111!D35 -> essai de résistances mécaniques | E35: =[3]TK111!E35 -> ENTREPRISE GC + LABORATOIRE SOL | F35: =[3]TK111!F35 -> 0
A36: 0.08 | B36: =[3]TK111!B36 -> 2,2,6 | C36: =[3]TK111!C36 -> 2,2,6. Décoffrage/utilisation de l'ouvrage | D36: =[3]TK111!D36 -> séchage du béton | E36: =[3]TK111!E36 -> ENTREPRISE GC + CR/SIG | F36: =[3]TK111!F36 -> LGV-BAT124-PV226
A37: 0.08 | B37: =[3]TK111!B37 -> 2,2,7 | C37: =[3]TK111!C37 -> 2,2,7. MALT fond de fouille / structure | D37: =[3]TK111!D37 -> mesure de la prise de terre | E37: =[3]TK111!E37 -> ENTREPRISE GC + CR/SIG | F37: =[3]TK111!F37 -> 0
B38: =[3]TK111!B38 -> 0 | C38: =[3]TK111!C38 -> 0 | D38: =[3]TK111!D38 -> 0 | E38: =[3]TK111!E38 -> 0 | F38: =[3]TK111!F38 -> 0
B39: =[3]TK111!B39 -> 2,3,0 | C39: =[3]TK111!C39 -> Poteaux raidisseur | D39: =[3]TK111!D39 -> 0 | E39: =[3]TK111!E39 -> 0 | F39: =[3]TK111!F39 -> 0
A40: 0.09 | B40: =[3]TK111!B40 -> 2,3,1 | C40: =[3]TK111!C40 -> 2,3,1. Ferraillages | D40: =[3]TK111!D40 -> contrôle des sections | E40: =[3]TK111!E40 -> ENTREPRISE GC + BUREAU DE CONTROL | F40: =[3]TK111!F40 -> 0
A41: 0.09 | B41: =[3]TK111!B41 -> 2,3,2 | C41: =[3]TK111!C41 -> 2,3,2. MALT structure | D41: =[3]TK111!D41 -> continuité de la boucle de terre | E41: =[3]TK111!E41 -> ENTREPRISE GC + CR/SIG + BUREAU DE CONTROL | F41: =[3]TK111!F41 -> 0
...

Sheet TK124
B1: =[4]TK124!B1 -> 0 | C1: =[4]TK124!C1 -> 0 | D1: =[4]TK124!D1 -> 0 | E1: =[4]TK124!E1 -> 0 | F1: =[4]TK124!F1 -> 0
B2: =[4]TK124!B2 -> PV & FC du bâtiment LGV TK124
B3: =[4]TK124!B3 -> 0 | C3: =[4]TK124!C3 -> 0 | D3: =[4]TK124!D3 -> 0 | E3: =[4]TK124!E3 -> 0 | F3: =[4]TK124!F3 -> 0
A4: Avancement | B4: =[4]TK124!B4 -> Tache | C4: =[4]TK124!C4 -> Contrôles réalisés | D4: =[4]TK124!D4 -> Contrôles réalisés | E4: =[4]TK124!E4 -> Entités réalisant les contrôles | F4: =[4]TK124!F4 -> PV ou FC
B6: =[4]TK124!B6 -> 0 | C6: =[4]TK124!C6 -> Mise a disposition plateforme 1 LGV TK 124 | D6: =[4]TK124!D6 -> 0 | E6: =[4]TK124!E6 -> 0 | F6: =[4]TK124!F6 -> LGV-BAT124 MISE A DISPOSITION
B7: =[4]TK124!B7 -> 0 | C7: =[4]TK124!C7 -> Mise a disposition plateforme 2 LGV TK 124 | D7: =[4]TK124!D7 -> 0 | E7: =[4]TK124!E7 -> 0 | F7: =[4]TK124!F7 -> LGV-BAT124 MISE A DISPOSITION
B8: =[4]TK124!B8 -> 1 | C8: =[4]TK124!C8 -> TERRASSEMENT | D8: =[4]TK124!D8 -> 0 | E8: =[4]TK124!E8 -> 0 | F8: =[4]TK124!F8 -> 0
B9: =[4]TK124!B9 -> 1,0,1 | C9: =[4]TK124!C9 -> 1,0,1. Implantation du bâtiment | D9: =[4]TK124!D9 -> écarts d'implantation | E9: =[4]TK124!E9 -> ENTREPRISE GC + GEOMETRE + CR SIG | F9: =[4]TK124!F9 -> LGV-BAT124-PV101
A10: 0.01 | B10: =[4]TK124!B10 -> 1,0,2 | C10: =[4]TK124!C10 -> 1,0,2. Fond de fouille | D10: =[4]TK124!D10 -> contrôle des dimensions | E10: =[4]TK124!E10 -> ENTREPRISE GC + LABORATOIRE SOL + BUREAU DE CONTROL | F10: =[4]TK124!F10 -> LGV-BAT124-PV102
A11: 0.01 | D11: =[4]TK124!D11 -> contrôle de la nature du sol
A12: 0.7 | B12: =[4]TK124!B12 -> 1,0,3 | C12: =[4]TK124!C12 -> 1,0,3. Compaction des sols | D12: =[4]TK124!D12 -> test de compaction | E12: =[4]TK124!E12 -> ENTREPRISE GC + CR/SIG + LABORATOIRE SOL | F12: =[4]TK124!F12 -> LGV-BAT124-PV103
A13: 0.026 | B13: =[4]TK124!B13 -> 1,0,4 | C13: =[4]TK124!C13 -> 1,0,4. MALT fond de fouille | D13: =[4]TK124!D13 -> continuité de la boucle de terre | E13: =[4]TK124!E13 -> ENTREPRISE GC + CR/SIG | F13: =[4]TK124!F13 -> LGV-BAT124-PV104
A14: 0.026 | D14: =[4]TK124!D14 -> remontées du câble de fond de fouille
B15: =[4]TK124!B15 -> 2 | C15: =[4]TK124!C15 -> STRUCTURES | D15: =[4]TK124!D15 -> 0 | E15: =[4]TK124!E15 -> 0 | F15: =[4]TK124!F15 -> 0
B16: =[4]TK124!B16 -> 2.1 | C16: =[4]TK124!C16 -> Semelles | D16: =[4]TK124!D16 -> 0 | E16: =[4]TK124!E16 -> 0 | F16: =[4]TK124!F16 -> 0
A17: 0.03 | B17: =[4]TK124!B17 -> 2,1,1 | C17: =[4]TK124!C17 -> 2,1,1. Coffrages | D17: =[4]TK124!D17 -> dimension, verticalité et linéarité | E17: =[4]TK124!E17 -> ENTREPRISE GC | F17: =[4]TK124!F17 -> LGV-BAT124PV211
A18: 0.03 | B18: =[4]TK124!B18 -> 2,1,2 | C18: =[4]TK124!C18 -> 2,1,2. Ferraillages | D18: =[4]TK124!D18 -> contrôle des sections | E18: =[4]TK124!E18 -> ENTREPRISE GC + BUREAU DE CONTROL | F18: =[4]TK124!F18 -> LGV-BAT124PV212
A19: 0.04 | B19: =[4]TK124!B19 -> 2,1,3 | C19: =[4]TK124!C19 -> 2,1,3. MALT fond de fouille / structure | D19: =[4]TK124!D19 -> continuité de la boucle de terre | E19: =[4]TK124!E19 -> ENTREPRISE GC + CR/SIG + BUREAU DE CONTROL | F19: =[4]TK124!F19 -> LGV-BAT124PV213
A20: 0.04 | D20: =[4]TK124!D20 -> mesure de la prise de terre
A21: 0.04 | D21: =[4]TK124!D21 -> mise en œuvre des éléments de la MALT (voir remarque)
A22: 0.04 | B22: =[4]TK124!B22 -> 2,1,4 | C22: =[4]TK124!C22 -> 2,1,4. Essais sur béton frais | D22: =[4]TK124!D22 -> essai d'affaissement | E22: =[4]TK124!E22 -> ENTREPRISE GC + LABORATOIRE SOL | F22: =[4]TK124!F22 -> LGV-BAT124-PV214
A23: 0.44 | B23: =[4]TK124!B23 -> 2,1,5 | C23: =[4]TK124!C23 -> 2,1,5. Essais sur béton durci | D23: =[4]TK124!D23 -> essai de résistances mécaniques | E23: =[4]TK124!E23 -> ENTREPRISE GC + LABORATOIRE SOL | F23: =[4]TK124!F23 -> 0
A24: 0.05 | B24: =[4]TK124!B24 -> 2,1,6 | C24: =[4]TK124!C24 -> 2,1,6. Décoffrage/utilisation de l'ouvrage | D24: =[4]TK124!D24 -> séchage du béton | E24: =[4]TK124!E24 -> ENTREPRISE GC + CR/SIG | F24: =[4]TK124!F24 -> LGV-BAT124-PV216
A25: 0.05 | B25: =[4]TK124!B25 -> 2,1,7 | C25: =[4]TK124!C25 -> 2,1,7. MALT fond de fouille / structure | D25: =[4]TK124!D25 -> mesure de la prise de terre | E25: =[4]TK124!E25 -> ENTREPRISE GC + CR/SIG | F25: =[4]TK124!F25 -> 0
B26: =[4]TK124!B26 -> 0 | C26: =[4]TK124!C26 -> 0 | D26: =[4]TK124!D26 -> 0 | E26: =[4]TK124!E26 -> 0 | F26: =[4]TK124!F26 -> 0
B27: =[4]TK124!B27 -> 2.2 | C27: =[4]TK124!C27 -> Longrines | D27: =[4]TK124!D27 -> 0 | E27: =[4]TK124!E27 -> 0 | F27: =[4]TK124!F27 -> 0
B28: =[4]TK124!B28 -> 0 | C28: =[4]TK124!C28 -> Longrines | D28: =[4]TK124!D28 -> 0 | E28: =[4]TK124!E28 -> 0 | F28: =[4]TK124!F28 -> 0
A29: 0.06 | B29: =[4]TK124!B29 -> 2,2,1 | C29: =[4]TK124!C29 -> 2,2,1. Ferraillages | D29: =[4]TK124!D29 -> contrôle des sections | E29: =[4]TK124!E29 -> ENTREPRISE GC + BUREAU DE CONTROL | F29: =[4]TK124!F29 -> LGV-BAT124-PV221
A30: 0.03 | B30: =[4]TK124!B30 -> 2,2,2 | C30: =[4]TK124!C30 -> 2,2,2. MALT fond de fouille / structure | D30: =[4]TK124!D30 -> continuité de la boucle de terre | E30: =[4]TK124!E30 -> ENTREPRISE GC + CR/SIG + BUREAU DE CONTROL | F30: =[4]TK124!F30 -> LGV-BAT124-PV222
A31: 0.03 | D31: =[4]TK124!D31 -> mesure de la prise de terre
A32: 0.03 | D32: =[4]TK124!D32 -> mise en œuvre des éléments de la MALT (voir remarque)
A33: 0.06 | B33: =[4]TK124!B33 -> 2,2,3 | C33: =[4]TK124!C33 -> 2,2,3. Coffrages | D33: =[4]TK124!D33 -> dimension, verticalité et linéarité | E33: =[4]TK124!E33 -> ENTREPRISE GC | F33: =[4]TK124!F33 -> 0
A34: 0.06 | B34: =[4]TK124!B34 -> 2,2,4 | C34: =[4]TK124!C34 -> 2,2,4. Essais sur béton frais | D34: =[4]TK124!D34 -> essai d'affaissement | E34: =[4]TK124!E34 -> ENTREPRISE GC + LABORATOIRE SOL | F34: =[4]TK124!F34 -> LGV-BAT124-PV224
A35: 0.52 | B35: =[4]TK124!B35 -> 2,2,5 | C35: =[4]TK124!C35 -> 2,2,5. Essais sur béton durci | D35: =[4]TK124!D35 -> essai de résistances mécaniques | E35: =[4]TK124!E35 -> ENTREPRISE GC + LABORATOIRE SOL | F35: =[4]TK124!F35 -> 0
A36: 0.08 | B36: =[4]TK124!B36 -> 2,2,6 | C36: =[4]TK124!C36 -> 2,2,6. Décoffrage/utilisation de l'ouvrage | D36: =[4]TK124!D36 -> séchage du béton | E36: =[4]TK124!E36 -> ENTREPRISE GC + CR/SIG | F36: =[4]TK124!F36 -> LGV-BAT124-PV226
A37: 0.08 | B37: =[4]TK124!B37 -> 2,2,7 | C37: =[4]TK124!C37 -> 2,2,7. MALT fond de fouille / structure | D37: =[4]TK124!D37 -> mesure de la prise de terre | E37: =[4]TK124!E37 -> ENTREPRISE GC + CR/SIG | F37: =[4]TK124!F37 -> 0
B38: =[4]TK124!B38 -> 0 | C38: =[4]TK124!C38 -> 0 | D38: =[4]TK124!D38 -> 0 | E38: =[4]TK124!E38 -> 0 | F38: =[4]TK124!F38 -> 0
B39: =[4]TK124!B39 -> 2,3,0 | C39: =[4]TK124!C39 -> Poteaux raidisseur | D39: =[4]TK124!D39 -> 0 | E39: =[4]TK124!E39 -> 0 | F39: =[4]TK124!F39 -> 0
A40: 0.09 | B40: =[4]TK124!B40 -> 2,3,1 | C40: =[4]TK124!C40 -> 2,3,1. Ferraillages | D40: =[4]TK124!D40 -> contrôle des sections | E40: =[4]TK124!E40 -> ENTREPRISE GC + BUREAU DE CONTROL | F40: =[4]TK124!F40 -> LGV-BAT124PV231
A41: 0.09 | B41: =[4]TK124!B41 -> 2,3,2 | C41: =[4]TK124!C41 -> 2,3,2. MALT structure | D41: =[4]TK124!D41 -> continuité de la boucle de terre | E41: =[4]TK124!E41 -> ENTREPRISE GC + CR/SIG + BUREAU DE CONTROL | F41: =[4]TK124!F41 -> LGV-BAT124PV232
...

Sheet TK136
B1: =[5]TK136!B1 -> 0 | C1: =[5]TK136!C1 -> 0 | D1: =[5]TK136!D1 -> 0 | E1: =[5]TK136!E1 -> 0 | F1: =[5]TK136!F1 -> 0
B2: =[5]TK136!B2 -> PV & FC du bâtiment LGV TK136
B3: =[5]TK136!B3 -> 0 | C3: =[5]TK136!C3 -> 0 | D3: =[5]TK136!D3 -> 0 | E3: =[5]TK136!E3 -> 0 | F3: =[5]TK136!F3 -> 0
A4: Avancement | B4: =[5]TK136!B4 -> Tache | C4: =[5]TK136!C4 -> Contrôles réalisés | D4: =[5]TK136!D4 -> Contrôles réalisés | E4: =[5]TK136!E4 -> Entités réalisant les contrôles | F4: =[5]TK136!F4 -> PV ou FC
B6: =[5]TK136!B6 -> 0 | C6: =[5]TK136!C6 -> Mise a disposition plateforme LGV TK 136 | D6: =[5]TK136!D6 -> 0 | E6: =[5]TK136!E6 -> 0 | F6: =[5]TK136!F6 -> LGV-BAT136 MISE A DISPOSITION
B7: =[5]TK136!B7 -> 0 | C7: =[5]TK136!C7 -> Mise a disposition plateforme LGV TK 136 | D7: =[5]TK136!D7 -> 0 | E7: =[5]TK136!E7 -> 0 | F7: =[5]TK136!F7 -> LGV-BAT136 MISE A DISPOSITION
B8: =[5]TK136!B8 -> 1 | C8: =[5]TK136!C8 -> TERRASSEMENT | D8: =[5]TK136!D8 -> 0 | E8: =[5]TK136!E8 -> 0 | F8: =[5]TK136!F8 -> 0
B9: =[5]TK136!B9 -> 1,0,1 | C9: =[5]TK136!C9 -> 1,0,1. Implantation du bâtiment | D9: =[5]TK136!D9 -> écarts d'implantation | E9: =[5]TK136!E9 -> ENTREPRISE GC + GEOMETRE + CR SIG | F9: =[5]TK136!F9 -> LGV-BAT136-PV 101
A10: 0.01 | B10: =[5]TK136!B10 -> 1,0,2 | C10: =[5]TK136!C10 -> 1,0,2. Fond de fouille | D10: =[5]TK136!D10 -> contrôle des dimensions | E10: =[5]TK136!E10 -> ENTREPRISE GC + LABORATOIRE SOL + BUREAU DE CONTROL | F10: =[5]TK136!F10 -> LGV-BAT136-PV102
A11: 0.01 | D11: =[5]TK136!D11 -> contrôle de la nature du sol
A12: 0.7 | B12: =[5]TK136!B12 -> 1,0,3 | C12: =[5]TK136!C12 -> 1,0,3. Compaction des sols | D12: =[5]TK136!D12 -> test de compaction | E12: =[5]TK136!E12 -> ENTREPRISE GC + CR/SIG + LABORATOIRE SOL | F12: =[5]TK136!F12 -> LGV-BAT136-PV 103
A13: 0.026 | B13: =[5]TK136!B13 -> 1,0,4 | C13: =[5]TK136!C13 -> 1,0,4. MALT fond de fouille | D13: =[5]TK136!D13 -> continuité de la boucle de terre | E13: =[5]TK136!E13 -> ENTREPRISE GC + CR/SIG | F13: =[5]TK136!F13 -> LGV-BAT136-PV104
A14: 0.026 | D14: =[5]TK136!D14 -> remontées du câble de fond de fouille
B15: =[5]TK136!B15 -> 2 | C15: =[5]TK136!C15 -> STRUCTURES | D15: =[5]TK136!D15 -> 0 | E15: =[5]TK136!E15 -> 0 | F15: =[5]TK136!F15 -> 0
B16: =[5]TK136!B16 -> 2.1 | C16: =[5]TK136!C16 -> Semelles | D16: =[5]TK136!D16 -> 0 | E16: =[5]TK136!E16 -> 0 | F16: =[5]TK136!F16 -> 0
A17: 0.03 | B17: =[5]TK136!B17 -> 2,1,1 | C17: =[5]TK136!C17 -> 2,1,1. Coffrages | D17: =[5]TK136!D17 -> dimension, verticalité et linéarité | E17: =[5]TK136!E17 -> ENTREPRISE GC | F17: =[5]TK136!F17 -> LGV-BAT136-PV 211
A18: 0.03 | B18: =[5]TK136!B18 -> 2,1,2 | C18: =[5]TK136!C18 -> 2,1,2. Ferraillages | D18: =[5]TK136!D18 -> contrôle des sections | E18: =[5]TK136!E18 -> ENTREPRISE GC + BUREAU DE CONTROL | F18: =[5]TK136!F18 -> LGV-BAT136-PV212
A19: 0.04 | B19: =[5]TK136!B19 -> 2,1,3 | C19: =[5]TK136!C19 -> 2,1,3. MALT fond de fouille / structure | D19: =[5]TK136!D19 -> continuité de la boucle de terre | E19: =[5]TK136!E19 -> ENTREPRISE GC + CR/SIG + BUREAU DE CONTROL | F19: =[5]TK136!F19 -> LGV-BAT136-PV213
A20: 0.04 | D20: =[5]TK136!D20 -> mesure de la prise de terre
A21: 0.04 | D21: =[5]TK136!D21 -> mise en œuvre des éléments de la MALT (voir remarque)
A22: 0.04 | B22: =[5]TK136!B22 -> 2,1,4 | C22: =[5]TK136!C22 -> 2,1,4. Essais sur béton frais | D22: =[5]TK136!D22 -> essai d'affaissement | E22: =[5]TK136!E22 -> ENTREPRISE GC + LABORATOIRE SOL | F22: =[5]TK136!F22 -> LGV-BAT136-PV214
A23: 0.44 | B23: =[5]TK136!B23 -> 2,1,5 | C23: =[5]TK136!C23 -> 2,1,5. Essais sur béton durci | D23: =[5]TK136!D23 -> essai de résistances mécaniques | E23: =[5]TK136!E23 -> ENTREPRISE GC + LABORATOIRE SOL | F23: =[5]TK136!F23 -> 0
A24: 0.05 | B24: =[5]TK136!B24 -> 2,1,6 | C24: =[5]TK136!C24 -> 2,1,6. Décoffrage/utilisation de l'ouvrage | D24: =[5]TK136!D24 -> séchage du béton | E24: =[5]TK136!E24 -> ENTREPRISE GC + CR/SIG | F24: =[5]TK136!F24 -> LGV-BAT136-PV216
A25: 0.05 | B25: =[5]TK136!B25 -> 2,1,7 | C25: =[5]TK136!C25 -> 2,1,7. MALT fond de fouille / structure | D25: =[5]TK136!D25 -> mesure de la prise de terre | E25: =[5]TK136!E25 -> ENTREPRISE GC + CR/SIG | F25: =[5]TK136!F25 -> 0
B26: =[5]TK136!B26 -> 0 | C26: =[5]TK136!C26 -> 0 | D26: =[5]TK136!D26 -> 0 | E26: =[5]TK136!E26 -> 0 | F26: =[5]TK136!F26 -> 0
B27: =[5]TK136!B27 -> 2.2 | C27: =[5]TK136!C27 -> Longrines | D27: =[5]TK136!D27 -> 0 | E27: =[5]TK136!E27 -> 0 | F27: =[5]TK136!F27 -> 0
B28: =[5]TK136!B28 -> 0 | C28: =[5]TK136!C28 -> Longrines | D28: =[5]TK136!D28 -> 0 | E28: =[5]TK136!E28 -> 0 | F28: =[5]TK136!F28 -> 0
A29: 0.06 | B29: =[5]TK136!B29 -> 2,2,1 | C29: =[5]TK136!C29 -> 2,2,1. Ferraillages | D29: =[5]TK136!D29 -> contrôle des sections | E29: =[5]TK136!E29 -> ENTREPRISE GC + BUREAU DE CONTROL | F29: =[5]TK136!F29 -> LGV-BAT136-PV221
A30: 0.03 | B30: =[5]TK136!B30 -> 2,2,2 | C30: =[5]TK136!C30 -> 2,2,2. MALT fond de fouille / structure | D30: =[5]TK136!D30 -> continuité de la boucle de terre | E30: =[5]TK136!E30 -> ENTREPRISE GC + CR/SIG + BUREAU DE CONTROL | F30: =[5]TK136!F30 -> LGV-BAT136-PV222
A31: 0.03 | D31: =[5]TK136!D31 -> mesure de la prise de terre
A32: 0.03 | D32: =[5]TK136!D32 -> mise en œuvre des éléments de la MALT (voir remarque)
A33: 0.06 | B33: =[5]TK136!B33 -> 2,2,3 | C33: =[5]TK136!C33 -> 2,2,3. Coffrages | D33: =[5]TK136!D33 -> dimension, verticalité et linéarité | E33: =[5]TK136!E33 -> ENTREPRISE GC | F33: =[5]TK136!F33 -> LGV-BAT136-PV223
A34: 0.06 | B34: =[5]TK136!B34 -> 2,2,4 | C34: =[5]TK136!C34 -> 2,2,4. Essais sur béton frais | D34: =[5]TK136!D34 -> essai d'affaissement | E34: =[5]TK136!E34 -> ENTREPRISE GC + LABORATOIRE SOL | F34: =[5]TK136!F34 -> LGV-BAT136-PV224
A35: 0.52 | B35: =[5]TK136!B35 -> 2,2,5 | C35: =[5]TK136!C35 -> 2,2,5. Essais sur béton durci | D35: =[5]TK136!D35 -> essai de résistances mécaniques | E35: =[5]TK136!E35 -> ENTREPRISE GC + LABORATOIRE SOL | F35: =[5]TK136!F35 -> 0
A36: 0.08 | B36: =[5]TK136!B36 -> 2,2,6 | C36: =[5]TK136!C36 -> 2,2,6. Décoffrage/utilisation de l'ouvrage | D36: =[5]TK136!D36 -> séchage du béton | E36: =[5]TK136!E36 -> ENTREPRISE GC + CR/SIG | F36: =[5]TK136!F36 -> LGV-BAT136-PV226
A37: 0.08 | B37: =[5]TK136!B37 -> 2,2,7 | C37: =[5]TK136!C37 -> 2,2,7. MALT fond de fouille / structure | D37: =[5]TK136!D37 -> mesure de la prise de terre | E37: =[5]TK136!E37 -> ENTREPRISE GC + CR/SIG | F37: =[5]TK136!F37 -> 0
B38: =[5]TK136!B38 -> 0 | C38: =[5]TK136!C38 -> 0 | D38: =[5]TK136!D38 -> 0 | E38: =[5]TK136!E38 -> 0 | F38: =[5]TK136!F38 -> 0
B39: =[5]TK136!B39 -> 2,3,0 | C39: =[5]TK136!C39 -> Poteaux raidisseur | D39: =[5]TK136!D39 -> 0 | E39: =[5]TK136!E39 -> 0 | F39: =[5]TK136!F39 -> 0
A40: 0.09 | B40: =[5]TK136!B40 -> 2,3,1 | C40: =[5]TK136!C40 -> 2,3,1. Ferraillages | D40: =[5]TK136!D40 -> contrôle des sections | E40: =[5]TK136!E40 -> ENTREPRISE GC + BUREAU DE CONTROL | F40: =[5]TK136!F40 -> LGV-BAT136-PV331
A41: 0.09 | B41: =[5]TK136!B41 -> 2,3,2 | C41: =[5]TK136!C41 -> 2,3,2. MALT structure | D41: =[5]TK136!D41 -> continuité de la boucle de terre | E41: =[5]TK136!E41 -> ENTREPRISE GC + CR/SIG + BUREAU DE CONTROL | F41: =[5]TK136!F41 -> LGV-BAT136-PV332
...

Sheet TK151
B1: =[6]TK151!B1 -> 0 | C1: =[6]TK151!C1 -> 0 | D1: =[6]TK151!D1 -> 0 | E1: =[6]TK151!E1 -> 0 | F1: =[6]TK151!F1 -> 0
B2: =[6]TK151!B2 -> PV & FC du bâtiment LGV TK151
B3: =[6]TK151!B3 -> 0 | C3: =[6]TK151!C3 -> 0 | D3: =[6]TK151!D3 -> 0 | E3: =[6]TK151!E3 -> 0 | F3: =[6]TK151!F3 -> 0
A4: Avancement | B4: =[6]TK151!B4 -> Tache | C4: =[6]TK151!C4 -> Contrôles réalisés | D4: =[6]TK151!D4 -> Contrôles réalisés | E4: =[6]TK151!E4 -> Entités réalisant les contrôles | F4: =[6]TK151!F4 -> PV ou FC
B6: =[6]TK151!B6 -> 0 | C6: =[6]TK151!C6 -> Mise a disposition plateforme LGV TK 151 | D6: =[6]TK151!D6 -> 0 | E6: =[6]TK151!E6 -> 0 | F6: =[6]TK151!F6 -> LGV-BAT151 MISE A DISPOSITION
B7: =[6]TK151!B7 -> 0 | C7: =[6]TK151!C7 -> 0 | D7: =[6]TK151!D7 -> 0 | E7: =[6]TK151!E7 -> 0 | F7: =[6]TK151!F7 -> 0
B8: =[6]TK151!B8 -> 1 | C8: =[6]TK151!C8 -> TERRASSEMENT | D8: =[6]TK151!D8 -> 0 | E8: =[6]TK151!E8 -> 0 | F8: =[6]TK151!F8 -> 0
B9: =[6]TK151!B9 -> 1,0,1 | C9: =[6]TK151!C9 -> 1,0,1. Implantation du bâtiment | D9: =[6]TK151!D9 -> écarts d'implantation | E9: =[6]TK151!E9 -> ENTREPRISE GC + GEOMETRE + CR SIG | F9: =[6]TK151!F9 -> LGV-BAT151-PV 101
A10: 0.01 | B10: =[6]TK151!B10 -> 1,0,2 | C10: =[6]TK151!C10 -> 1,0,2. Fond de fouille | D10: =[6]TK151!D10 -> contrôle des dimensions | E10: =[6]TK151!E10 -> ENTREPRISE GC + LABORATOIRE SOL + BUREAU DE CONTROL | F10: =[6]TK151!F10 -> LGV-BAT151-PV102
A11: 0.01 | D11: =[6]TK151!D11 -> contrôle de la nature du sol
A12: 0.7 | B12: =[6]TK151!B12 -> 1,0,3 | C12: =[6]TK151!C12 -> 1,0,3. Compaction des sols | D12: =[6]TK151!D12 -> test de compaction | E12: =[6]TK151!E12 -> ENTREPRISE GC + CR/SIG + LABORATOIRE SOL | F12: =[6]TK151!F12 -> LGV-BAT151-PV 103
A13: 0.026 | B13: =[6]TK151!B13 -> 1,0,4 | C13: =[6]TK151!C13 -> 1,0,4. MALT fond de fouille | D13: =[6]TK151!D13 -> continuité de la boucle de terre | E13: =[6]TK151!E13 -> ENTREPRISE GC + CR/SIG | F13: =[6]TK151!F13 -> LGV-BAT151-PV104
A14: 0.026 | D14: =[6]TK151!D14 -> remontées du câble de fond de fouille
B15: =[6]TK151!B15 -> 2 | C15: =[6]TK151!C15 -> STRUCTURES | D15: =[6]TK151!D15 -> 0 | E15: =[6]TK151!E15 -> 0 | F15: =[6]TK151!F15 -> 0
B16: =[6]TK151!B16 -> 2.1 | C16: =[6]TK151!C16 -> Semelles | D16: =[6]TK151!D16 -> 0 | E16: =[6]TK151!E16 -> 0 | F16: =[6]TK151!F16 -> 0
A17: 0.03 | B17: =[6]TK151!B17 -> 2,1,1 | C17: =[6]TK151!C17 -> 2,1,1. Coffrages | D17: =[6]TK151!D17 -> dimension, verticalité et linéarité | E17: =[6]TK151!E17 -> ENTREPRISE GC | F17: =[6]TK151!F17 -> LGV-BAT151-PV 211
A18: 0.03 | B18: =[6]TK151!B18 -> 2,1,2 | C18: =[6]TK151!C18 -> 2,1,2. Ferraillages | D18: =[6]TK151!D18 -> contrôle des sections | E18: =[6]TK151!E18 -> ENTREPRISE GC + BUREAU DE CONTROL | F18: =[6]TK151!F18 -> LGV-BAT151-PV212
A19: 0.04 | B19: =[6]TK151!B19 -> 2,1,3 | C19: =[6]TK151!C19 -> 2,1,3. MALT fond de fouille / structure | D19: =[6]TK151!D19 -> continuité de la boucle de terre | E19: =[6]TK151!E19 -> ENTREPRISE GC + CR/SIG + BUREAU DE CONTROL | F19: =[6]TK151!F19 -> LGV-BAT151-PV213
A20: 0.04 | D20: =[6]TK151!D20 -> mesure de la prise de terre
A21: 0.04 | D21: =[6]TK151!D21 -> mise en œuvre des éléments de la MALT (voir remarque)
A22: 0.04 | B22: =[6]TK151!B22 -> 2,1,4 | C22: =[6]TK151!C22 -> 2,1,4. Essais sur béton frais | D22: =[6]TK151!D22 -> essai d'affaissement | E22: =[6]TK151!E22 -> ENTREPRISE GC + LABORATOIRE SOL | F22: =[6]TK151!F22 -> LGV-BAT151-PV214
A23: 0.44 | B23: =[6]TK151!B23 -> 2,1,5 | C23: =[6]TK151!C23 -> 2,1,5. Essais sur béton durci | D23: =[6]TK151!D23 -> essai de résistances mécaniques | E23: =[6]TK151!E23 -> ENTREPRISE GC + LABORATOIRE SOL | F23: =[6]TK151!F23 -> 0
A24: 0.05 | B24: =[6]TK151!B24 -> 2,1,6 | C24: =[6]TK151!C24 -> 2,1,6. Décoffrage/utilisation de l'ouvrage | D24: =[6]TK151!D24 -> séchage du béton | E24: =[6]TK151!E24 -> ENTREPRISE GC + CR/SIG | F24: =[6]TK151!F24 -> LGV-BAT151-PV216
A25: 0.05 | B25: =[6]TK151!B25 -> 2,1,7 | C25: =[6]TK151!C25 -> 2,1,7. MALT fond de fouille / structure | D25: =[6]TK151!D25 -> mesure de la prise de terre | E25: =[6]TK151!E25 -> ENTREPRISE GC + CR/SIG | F25: =[6]TK151!F25 -> 0
B26: =[6]TK151!B26 -> 0 | C26: =[6]TK151!C26 -> 0 | D26: =[6]TK151!D26 -> 0 | E26: =[6]TK151!E26 -> 0 | F26: =[6]TK151!F26 -> 0
B27: =[6]TK151!B27 -> 2.2 | C27: =[6]TK151!C27 -> Longrines | D27: =[6]TK151!D27 -> 0 | E27: =[6]TK151!E27 -> 0 | F27: =[6]TK151!F27 -> 0
B28: =[6]TK151!B28 -> 0 | C28: =[6]TK151!C28 -> Longrines | D28: =[6]TK151!D28 -> 0 | E28: =[6]TK151!E28 -> 0 | F28: =[6]TK151!F28 -> 0
A29: 0.06 | B29: =[6]TK151!B29 -> 2,2,1 | C29: =[6]TK151!C29 -> 2,2,1. Ferraillages | D29: =[6]TK151!D29 -> contrôle des sections | E29: =[6]TK151!E29 -> ENTREPRISE GC + BUREAU DE CONTROL | F29: =[6]TK151!F29 -> LGV-BAT151-PV221
A30: 0.03 | B30: =[6]TK151!B30 -> 2,2,2 | C30: =[6]TK151!C30 -> 2,2,2. MALT fond de fouille / structure | D30: =[6]TK151!D30 -> continuité de la boucle de terre | E30: =[6]TK151!E30 -> ENTREPRISE GC + CR/SIG + BUREAU DE CONTROL | F30: =[6]TK151!F30 -> LGV-BAT151-PV222
A31: 0.03 | D31: =[6]TK151!D31 -> mesure de la prise de terre | E31: =[6]TK151!E31 -> 0
A32: 0.03 | D32: =[6]TK151!D32 -> mise en œuvre des éléments de la MALT (voir remarque) | E32: =[6]TK151!E32 -> 0
A33: 0.06 | B33: =[6]TK151!B33 -> 2,2,3 | C33: =[6]TK151!C33 -> 2,2,3. Coffrages | D33: =[6]TK151!D33 -> dimension, verticalité et linéarité | E33: =[6]TK151!E33 -> ENTREPRISE GC | F33: =[6]TK151!F33 -> 0
A34: 0.06 | B34: =[6]TK151!B34 -> 2,2,4 | C34: =[6]TK151!C34 -> 2,2,4. Essais sur béton frais | D34: =[6]TK151!D34 -> essai d'affaissement | E34: =[6]TK151!E34 -> ENTREPRISE GC + LABORATOIRE SOL | F34: =[6]TK151!F34 -> LGV-BAT151-PV224
A35: 0.52 | B35: =[6]TK151!B35 -> 2,2,5 | C35: =[6]TK151!C35 -> 2,2,5. Essais sur béton durci | D35: =[6]TK151!D35 -> essai de résistances mécaniques | E35: =[6]TK151!E35 -> ENTREPRISE GC + LABORATOIRE SOL | F35: =[6]TK151!F35 -> 0
A36: 0.08 | B36: =[6]TK151!B36 -> 2,2,6 | C36: =[6]TK151!C36 -> 2,2,6. Décoffrage/utilisation de l'ouvrage | D36: =[6]TK151!D36 -> séchage du béton | E36: =[6]TK151!E36 -> ENTREPRISE GC + CR/SIG | F36: =[6]TK151!F36 -> LGV-BAT151-PV226
A37: 0.08 | B37: =[6]TK151!B37 -> 2,2,7 | C37: =[6]TK151!C37 -> 2,2,7. MALT fond de fouille / structure | D37: =[6]TK151!D37 -> mesure de la prise de terre | E37: =[6]TK151!E37 -> ENTREPRISE GC + CR/SIG | F37: =[6]TK151!F37 -> 0
B38: =[6]TK151!B38 -> 0 | C38: =[6]TK151!C38 -> 0 | D38: =[6]TK151!D38 -> 0 | E38: =[6]TK151!E38 -> 0 | F38: =[6]TK151!F38 -> 0
B39: =[6]TK151!B39 -> 2,3,0 | C39: =[6]TK151!C39 -> Poteaux raidisseur | D39: =[6]TK151!D39 -> 0 | E39: =[6]TK151!E39 -> 0 | F39: =[6]TK151!F39 -> 0
A40: 0.09 | B40: =[6]TK151!B40 -> 2,3,1 | C40: =[6]TK151!C40 -> 2,3,1. Ferraillages | D40: =[6]TK151!D40 -> contrôle des sections | E40: =[6]TK151!E40 -> ENTREPRISE GC + BUREAU DE CONTROL | F40: =[6]TK151!F40 -> 0
A41: 0.09 | B41: =[6]TK151!B41 -> 2,3,2 | C41: =[6]TK151!C41 -> 2,3,2. MALT structure | D41: =[6]TK151!D41 -> continuité de la boucle de terre | E41: =[6]TK151!E41 -> ENTREPRISE GC + CR/SIG + BUREAU DE CONTROL | F41: =[6]TK151!F41 -> 0
...

Sheet TK163
B1: =[7]TK163!B1 -> 0 | C1: =[7]TK163!C1 -> 0 | D1: =[7]TK163!D1 -> 0 | E1: =[7]TK163!E1 -> 0 | F1: =[7]TK163!F1 -> 0
B2: =[7]TK163!B2 -> PV & FC du bâtiment LGV TK163
B3: =[7]TK163!B3 -> 0 | C3: =[7]TK163!C3 -> 0 | D3: =[7]TK163!D3 -> 0 | E3: =[7]TK163!E3 -> 0 | F3: =[7]TK163!F3 -> 0
A4: Avancement | B4: =[7]TK163!B4 -> Tache | C4: =[7]TK163!C4 -> Contrôles réalisés | D4: =[7]TK163!D4 -> Contrôles réalisés | E4: =[7]TK163!E4 -> Entités réalisant les contrôles | F4: =[7]TK163!F4 -> PV ou FC
B6: =[7]TK163!B6 -> 0 | C6: =[7]TK163!C6 -> Mise a disposition plateforme LGV TK 163 | D6: =[7]TK163!D6 -> 0 | E6: =[7]TK163!E6 -> 0 | F6: =[7]TK163!F6 -> LGV-BAT136 MISE A DISPOSITION
B7: =[7]TK163!B7 -> 0 | C7: =[7]TK163!C7 -> 0 | D7: =[7]TK163!D7 -> 0 | E7: =[7]TK163!E7 -> 0 | F7: =[7]TK163!F7 -> 0
B8: =[7]TK163!B8 -> 1 | C8: =[7]TK163!C8 -> TERRASSEMENT | D8: =[7]TK163!D8 -> 0 | E8: =[7]TK163!E8 -> 0 | F8: =[7]TK163!F8 -> 0
B9: =[7]TK163!B9 -> 1,0,1 | C9: =[7]TK163!C9 -> 1,0,1. Implantation du bâtiment | D9: =[7]TK163!D9 -> écarts d'implantation | E9: =[7]TK163!E9 -> ENTREPRISE GC + GEOMETRE + CR SIG | F9: =[7]TK163!F9 -> LGV-BAT163-PV 101
A10: 0.01 | B10: =[7]TK163!B10 -> 1,0,2 | C10: =[7]TK163!C10 -> 1,0,2. Fond de fouille | D10: =[7]TK163!D10 -> contrôle des dimensions | E10: =[7]TK163!E10 -> ENTREPRISE GC + LABORATOIRE SOL + BUREAU DE CONTROL | F10: =[7]TK163!F10 -> LGV-BAT163-PV102
A11: 0.01 | D11: =[7]TK163!D11 -> contrôle de la nature du sol
A12: 0.7 | B12: =[7]TK163!B12 -> 1,0,3 | C12: =[7]TK163!C12 -> 1,0,3. Compaction des sols | D12: =[7]TK163!D12 -> test de compaction | E12: =[7]TK163!E12 -> ENTREPRISE GC + CR/SIG + LABORATOIRE SOL | F12: =[7]TK163!F12 -> LGV-BAT163-PV 103
A13: 0.026 | B13: =[7]TK163!B13 -> 1,0,4 | C13: =[7]TK163!C13 -> 1,0,4. MALT fond de fouille | D13: =[7]TK163!D13 -> continuité de la boucle de terre | E13: =[7]TK163!E13 -> ENTREPRISE GC + CR/SIG | F13: =[7]TK163!F13 -> LGV-BAT163-PV104
A14: 0.026 | D14: =[7]TK163!D14 -> remontées du câble de fond de fouille
B15: =[7]TK163!B15 -> 2 | C15: =[7]TK163!C15 -> STRUCTURES | D15: =[7]TK163!D15 -> 0 | E15: =[7]TK163!E15 -> 0 | F15: =[7]TK163!F15 -> 0
B16: =[7]TK163!B16 -> 2.1 | C16: =[7]TK163!C16 -> Semelles | D16: =[7]TK163!D16 -> 0 | E16: =[7]TK163!E16 -> 0 | F16: =[7]TK163!F16 -> 0
A17: 0.03 | B17: =[7]TK163!B17 -> 2,1,1 | C17: =[7]TK163!C17 -> 2,1,1. Coffrages | D17: =[7]TK163!D17 -> dimension, verticalité et linéarité | E17: =[7]TK163!E17 -> ENTREPRISE GC | F17: =[7]TK163!F17 -> LGV-BAT163-PV 211
A18: 0.03 | B18: =[7]TK163!B18 -> 2,1,2 | C18: =[7]TK163!C18 -> 2,1,2. Ferraillages | D18: =[7]TK163!D18 -> contrôle des sections | E18: =[7]TK163!E18 -> ENTREPRISE GC + BUREAU DE CONTROL | F18: =[7]TK163!F18 -> LGV-BAT163-PV212
A19: 0.04 | B19: =[7]TK163!B19 -> 2,1,3 | C19: =[7]TK163!C19 -> 2,1,3. MALT fond de fouille / structure | D19: =[7]TK163!D19 -> continuité de la boucle de terre | E19: =[7]TK163!E19 -> ENTREPRISE GC + CR/SIG + BUREAU DE CONTROL | F19: =[7]TK163!F19 -> LGV-BAT163-PV213
A20: 0.04 | D20: =[7]TK163!D20 -> mesure de la prise de terre
A21: 0.04 | D21: =[7]TK163!D21 -> mise en œuvre des éléments de la MALT (voir remarque)
A22: 0.04 | B22: =[7]TK163!B22 -> 2,1,4 | C22: =[7]TK163!C22 -> 2,1,4. Essais sur béton frais | D22: =[7]TK163!D22 -> essai d'affaissement | E22: =[7]TK163!E22 -> ENTREPRISE GC + LABORATOIRE SOL | F22: =[7]TK163!F22 -> LGV-BAT163-PV214
A23: 0.44 | B23: =[7]TK163!B23 -> 2,1,5 | C23: =[7]TK163!C23 -> 2,1,5. Essais sur béton durci | D23: =[7]TK163!D23 -> essai de résistances mécaniques | E23: =[7]TK163!E23 -> ENTREPRISE GC + LABORATOIRE SOL | F23: =[7]TK163!F23 -> LGV-BAT163-PV215
A24: 0.05 | B24: =[7]TK163!B24 -> 2,1,6 | C24: =[7]TK163!C24 -> 2,1,6. Décoffrage/utilisation de l'ouvrage | D24: =[7]TK163!D24 -> séchage du béton | E24: =[7]TK163!E24 -> ENTREPRISE GC + CR/SIG | F24: =[7]TK163!F24 -> LGV-BAT163-PV216
A25: 0.05 | B25: =[7]TK163!B25 -> 2,1,7 | C25: =[7]TK163!C25 -> 2,1,7. MALT fond de fouille / structure | D25: =[7]TK163!D25 -> mesure de la prise de terre | E25: =[7]TK163!E25 -> ENTREPRISE GC + CR/SIG | F25: =[7]TK163!F25 -> 0
B26: =[7]TK163!B26 -> 0 | C26: =[7]TK163!C26 -> 0 | D26: =[7]TK163!D26 -> 0 | E26: =[7]TK163!E26 -> 0 | F26: =[7]TK163!F26 -> 0
B27: =[7]TK163!B27 -> 2.2 | C27: =[7]TK163!C27 -> Longrines | D27: =[7]TK163!D27 -> 0 | E27: =[7]TK163!E27 -> 0 | F27: =[7]TK163!F27 -> 0
B28: =[7]TK163!B28 -> 0 | C28: =[7]TK163!C28 -> Longrines | D28: =[7]TK163!D28 -> 0 | E28: =[7]TK163!E28 -> 0 | F28: =[7]TK163!F28 -> 0
A29: 0.06 | B29: =[7]TK163!B29 -> 2,2,1 | C29: =[7]TK163!C29 -> 2,2,1. Ferraillages | D29: =[7]TK163!D29 -> contrôle des sections | E29: =[7]TK163!E29 -> ENTREPRISE GC + BUREAU DE CONTROL | F29: =[7]TK163!F29 -> LGV-BAT163-PV221
A30: 0.03 | B30: =[7]TK163!B30 -> 2,2,2 | C30: =[7]TK163!C30 -> 2,2,2. MALT fond de fouille / structure | D30: =[7]TK163!D30 -> continuité de la boucle de terre | E30: =[7]TK163!E30 -> ENTREPRISE GC + CR/SIG + BUREAU DE CONTROL | F30: =[7]TK163!F30 -> LGV-BAT163-PV222
A31: 0.03 | D31: =[7]TK163!D31 -> mesure de la prise de terre | E31: =[7]TK163!E31 -> 0
A32: 0.03 | D32: =[7]TK163!D32 -> mise en œuvre des éléments de la MALT (voir remarque) | E32: =[7]TK163!E32 -> 0
A33: 0.06 | B33: =[7]TK163!B33 -> 2,2,3 | C33: =[7]TK163!C33 -> 2,2,3. Coffrages | D33: =[7]TK163!D33 -> dimension, verticalité et linéarité | E33: =[7]TK163!E33 -> ENTREPRISE GC | F33: =[7]TK163!F33 -> 0
A34: 0.06 | B34: =[7]TK163!B34 -> 2,2,4 | C34: =[7]TK163!C34 -> 2,2,4. Essais sur béton frais | D34: =[7]TK163!D34 -> essai d'affaissement | E34: =[7]TK163!E34 -> ENTREPRISE GC + LABORATOIRE SOL | F34: =[7]TK163!F34 -> LGV-BAT163-PV224
A35: 0.52 | B35: =[7]TK163!B35 -> 2,2,5 | C35: =[7]TK163!C35 -> 2,2,5. Essais sur béton durci | D35: =[7]TK163!D35 -> essai de résistances mécaniques | E35: =[7]TK163!E35 -> ENTREPRISE GC + LABORATOIRE SOL | F35: =[7]TK163!F35 -> LGV-BAT163-PV225
A36: 0.08 | B36: =[7]TK163!B36 -> 2,2,6 | C36: =[7]TK163!C36 -> 2,2,6. Décoffrage/utilisation de l'ouvrage | D36: =[7]TK163!D36 -> séchage du béton | E36: =[7]TK163!E36 -> ENTREPRISE GC + CR/SIG | F36: =[7]TK163!F36 -> LGV-BAT163-PV226
A37: 0.08 | B37: =[7]TK163!B37 -> 2,2,7 | C37: =[7]TK163!C37 -> 2,2,7. MALT fond de fouille / structure | D37: =[7]TK163!D37 -> mesure de la prise de terre | E37: =[7]TK163!E37 -> ENTREPRISE GC + CR/SIG | F37: =[7]TK163!F37 -> 0
B38: =[7]TK163!B38 -> 0 | C38: =[7]TK163!C38 -> 0 | D38: =[7]TK163!D38 -> 0 | E38: =[7]TK163!E38 -> 0 | F38: =[7]TK163!F38 -> 0
B39: =[7]TK163!B39 -> 2,3,0 | C39: =[7]TK163!C39 -> Poteaux raidisseur | D39: =[7]TK163!D39 -> 0 | E39: =[7]TK163!E39 -> 0 | F39: =[7]TK163!F39 -> 0
A40: 0.09 | B40: =[7]TK163!B40 -> 2,3,1 | C40: =[7]TK163!C40 -> 2,3,1. Ferraillages | D40: =[7]TK163!D40 -> contrôle des sections | E40: =[7]TK163!E40 -> ENTREPRISE GC + BUREAU DE CONTROL | F40: =[7]TK163!F40 -> LGV-BAT163-PV331
A41: 0.09 | B41: =[7]TK163!B41 -> 2,3,2 | C41: =[7]TK163!C41 -> 2,3,2. MALT structure | D41: =[7]TK163!D41 -> continuité de la boucle de terre | E41: =[7]TK163!E41 -> ENTREPRISE GC + CR/SIG + BUREAU DE CONTROL | F41: =[7]TK163!F41 -> 0
...

Sheet C2
B1: =[8]C2!B1 -> 0 | C1: =[8]C2!C1 -> 0 | D1: =[8]C2!D1 -> 0 | E1: =[8]C2!E1 -> 0 | F1: =[8]C2!F1 -> 0
B2: =[8]C2!B2 -> PV & FC du bâtiment LGV TK C2
B3: =[8]C2!B3 -> 0 | C3: =[8]C2!C3 -> 0 | D3: =[8]C2!D3 -> 0 | E3: =[8]C2!E3 -> 0 | F3: =[8]C2!F3 -> 0
A4: Avancement | B4: =[8]C2!B4 -> Tache | C4: =[8]C2!C4 -> Contrôles réalisés | D4: =[8]C2!D4 -> Contrôles réalisés | E4: =[8]C2!E4 -> Entités réalisant les contrôles | F4: =[8]C2!F4 -> PV ou FC
B6: =[8]C2!B6 -> 0 | C6: =[8]C2!C6 -> Mise a disposition plateforme 1 LGV TK C2 | D6: =[8]C2!D6 -> 0 | E6: =[8]C2!E6 -> 0 | F6: =[8]C2!F6 -> LGV-BAT,C2-MISE A DISPOSITION 1
B7: =[8]C2!B7 -> 0 | C7: =[8]C2!C7 -> Compte rendu d'ispection commune | D7: =[8]C2!D7 -> 0 | E7: =[8]C2!E7 -> 0 | F7: =[8]C2!F7 -> LGV-BAT,C2-Compte rendu d'inspection
B8: =[8]C2!B8 -> 1 | C8: =[7]TK163!C8 -> TERRASSEMENT | D8: =[8]C2!D8 -> 0 | E8: =[8]C2!E8 -> 0 | F8: =[8]C2!F8 -> 0
B9: =[8]C2!B9 -> 1,0,1 | C9: =[7]TK163!C9 -> 1,0,1. Implantation du bâtiment | D9: =[8]C2!D9 -> écarts d'implantation | E9: =[8]C2!E9 -> ENTREPRISE GC + GEOMETRE + CR SIG | F9: =[8]C2!F9 -> LGV-BAT,C2-PV101
A10: 0.01 | B10: =[8]C2!B10 -> 1,0,2 | C10: =[7]TK163!C10 -> 1,0,2. Fond de fouille | D10: =[8]C2!D10 -> contrôle des dimensions | E10: =[8]C2!E10 -> ENTREPRISE GC + LABORATOIRE SOL + BUREAU DE CONTROL | F10: =[8]C2!F10 -> LGV-BAT,C2-PV102
A11: 0.01 | D11: =[8]C2!D11 -> contrôle de la nature du sol
A12: 0.7 | B12: =[8]C2!B12 -> 1,0,3 | C12: =[7]TK163!C12 -> 1,0,3. Compaction des sols | D12: =[8]C2!D12 -> test de compaction | E12: =[8]C2!E12 -> ENTREPRISE GC + CR/SIG + LABORATOIRE SOL | F12: =[8]C2!F12 -> LGV-BAT,C2-PV103
A13: 0.026 | B13: =[8]C2!B13 -> 1,0,4 | C13: =[7]TK163!C13 -> 1,0,4. MALT fond de fouille | D13: =[8]C2!D13 -> continuité de la boucle de terre | E13: =[8]C2!E13 -> ENTREPRISE GC + CR/SIG | F13: =[8]C2!F13 -> LGV-BAT,C2PV214
A14: 0.026 | D14: =[8]C2!D14 -> remontées du câble de fond de fouille
B15: =[8]C2!B15 -> 2 | C15: =[7]TK163!C15 -> STRUCTURES | D15: =[8]C2!D15 -> 0 | E15: =[8]C2!E15 -> 0 | F15: =[8]C2!F15 -> 0
B16: =[8]C2!B16 -> 2.1 | C16: =[7]TK163!C16 -> Semelles | D16: =[8]C2!D16 -> 0 | E16: =[8]C2!E16 -> 0 | F16: =[8]C2!F16 -> 0
A17: 0.03 | B17: =[8]C2!B17 -> 2,1,1 | C17: =[7]TK163!C17 -> 2,1,1. Coffrages | D17: =[8]C2!D17 -> dimension, verticalité et linéarité | E17: =[8]C2!E17 -> ENTREPRISE GC | F17: =[8]C2!F17 -> LGV-BAT,C2PV211
A18: 0.03 | B18: =[8]C2!B18 -> 2,1,2 | C18: =[7]TK163!C18 -> 2,1,2. Ferraillages | D18: =[8]C2!D18 -> contrôle des sections | E18: =[8]C2!E18 -> ENTREPRISE GC + BUREAU DE CONTROL | F18: =[8]C2!F18 -> LGV-BAT,C2PV212
A19: 0.04 | B19: =[8]C2!B19 -> 2,1,3 | C19: =[7]TK163!C19 -> 2,1,3. MALT fond de fouille / structure | D19: =[8]C2!D19 -> continuité de la boucle de terre | E19: =[8]C2!E19 -> ENTREPRISE GC + CR/SIG + BUREAU DE CONTROL | F19: =[8]C2!F19 -> LGV-BAT,C2PV213
A20: 0.04 | D20: =[8]C2!D20 -> mesure de la prise de terre
A21: 0.04 | D21: =[8]C2!D21 -> mise en œuvre des éléments de la MALT (voir remarque)
A22: 0.04 | B22: =[8]C2!B22 -> 2,1,4 | C22: =[7]TK163!C22 -> 2,1,4. Essais sur béton frais | D22: =[8]C2!D22 -> essai d'affaissement | E22: =[8]C2!E22 -> ENTREPRISE GC + LABORATOIRE SOL | F22: =[8]C2!F22 -> LGV-BAT,C2-PV214
A23: 0.44 | B23: =[8]C2!B23 -> 2,1,5 | C23: =[7]TK163!C23 -> 2,1,5. Essais sur béton durci | D23: =[8]C2!D23 -> essai de résistances mécaniques | E23: =[8]C2!E23 -> ENTREPRISE GC + LABORATOIRE SOL | F23: =[8]C2!F23 -> 0
A24: 0.05 | B24: =[8]C2!B24 -> 2,1,6 | C24: =[7]TK163!C24 -> 2,1,6. Décoffrage/utilisation de l'ouvrage | D24: =[8]C2!D24 -> séchage du béton | E24: =[8]C2!E24 -> ENTREPRISE GC + CR/SIG | F24: =[8]C2!F24 -> LGV-BAT,C2-PV216
A25: 0.05 | B25: =[8]C2!B25 -> 2,1,7 | C25: =[7]TK163!C25 -> 2,1,7. MALT fond de fouille / structure | D25: =[8]C2!D25 -> mesure de la prise de terre | E25: =[8]C2!E25 -> ENTREPRISE GC + CR/SIG | F25: =[8]C2!F25 -> 0
B26: =[8]C2!B26 -> 0 | C26: =[7]TK163!C26 -> 0 | D26: =[8]C2!D26 -> 0 | E26: =[8]C2!E26 -> 0 | F26: =[8]C2!F26 -> 0
B27: =[8]C2!B27 -> 2.2 | C27: =[7]TK163!C27 -> Longrines | D27: =[8]C2!D27 -> 0 | E27: =[8]C2!E27 -> 0 | F27: =[8]C2!F27 -> 0
B28: =[8]C2!B28 -> 0 | C28: =[7]TK163!C28 -> Longrines | D28: =[8]C2!D28 -> 0 | E28: =[8]C2!E28 -> 0 | F28: =[8]C2!F28 -> 0
A29: 0.06 | B29: =[8]C2!B29 -> 2,2,1 | C29: =[7]TK163!C29 -> 2,2,1. Ferraillages | D29: =[8]C2!D29 -> contrôle des sections | E29: =[8]C2!E29 -> ENTREPRISE GC + BUREAU DE CONTROL | F29: =[8]C2!F29 -> LGV-BAT,C2-PV221
A30: 0.03 | B30: =[8]C2!B30 -> 2,2,2 | C30: =[7]TK163!C30 -> 2,2,2. MALT fond de fouille / structure | D30: =[8]C2!D30 -> continuité de la boucle de terre | E30: =[8]C2!E30 -> ENTREPRISE GC + CR/SIG + BUREAU DE CONTROL | F30: =[8]C2!F30 -> LGV-BAT,C2-PV222
A31: 0.03 | D31: =[8]C2!D31 -> mesure de la prise de terre
A32: 0.03 | D32: =[8]C2!D32 -> mise en œuvre des éléments de la MALT (voir remarque)
A33: 0.06 | B33: =[8]C2!B33 -> 2,2,3 | C33: =[7]TK163!C33 -> 2,2,3. Coffrages | D33: =[8]C2!D33 -> dimension, verticalité et linéarité | E33: =[8]C2!E33 -> ENTREPRISE GC | F33: =[8]C2!F33 -> LGV-BAT,C2-PV223
A34: 0.06 | B34: =[8]C2!B34 -> 2,2,4 | C34: =[7]TK163!C34 -> 2,2,4. Essais sur béton frais | D34: =[8]C2!D34 -> essai d'affaissement | E34: =[8]C2!E34 -> ENTREPRISE GC + LABORATOIRE SOL | F34: =[8]C2!F34 -> LGV-BAT,C2-PV224
A35: 0.52 | B35: =[8]C2!B35 -> 2,2,5 | C35: =[7]TK163!C35 -> 2,2,5. Essais sur béton durci | D35: =[8]C2!D35 -> essai de résistances mécaniques | E35: =[8]C2!E35 -> ENTREPRISE GC + LABORATOIRE SOL | F35: =[8]C2!F35 -> 0
A36: 0.08 | B36: =[8]C2!B36 -> 2,2,6 | C36: =[7]TK163!C36 -> 2,2,6. Décoffrage/utilisation de l'ouvrage | D36: =[8]C2!D36 -> séchage du béton | E36: =[8]C2!E36 -> ENTREPRISE GC + CR/SIG | F36: =[8]C2!F36 -> LGV-BAT,C2-PV226
A37: 0.08 | B37: =[8]C2!B37 -> 2,2,7 | C37: =[7]TK163!C37 -> 2,2,7. MALT fond de fouille / structure | D37: =[8]C2!D37 -> mesure de la prise de terre | E37: =[8]C2!E37 -> ENTREPRISE GC + CR/SIG | F37: =[8]C2!F37 -> 0
B38: =[8]C2!B38 -> 0 | C38: =[7]TK163!C38 -> 0 | D38: =[8]C2!D38 -> 0 | E38: =[8]C2!E38 -> 0 | F38: =[8]C2!F38 -> 0
B39: =[8]C2!B39 -> 2,3,0 | C39: =[7]TK163!C39 -> Poteaux raidisseur | D39: =[8]C2!D39 -> 0 | E39: =[8]C2!E39 -> 0 | F39: =[8]C2!F39 -> 0
A40: 0.09 | B40: =[8]C2!B40 -> 2,3,1 | C40: =[7]TK163!C40 -> 2,3,1. Ferraillages | D40: =[8]C2!D40 -> contrôle des sections | E40: =[8]C2!E40 -> ENTREPRISE GC + BUREAU DE CONTROL | F40: =[8]C2!F40 -> LGV-BAT,C2-PV231
A41: 0.09 | B41: =[8]C2!B41 -> 2,3,2 | C41: =[7]TK163!C41 -> 2,3,2. MALT structure | D41: =[8]C2!D41 -> continuité de la boucle de terre | E41: =[8]C2!E41 -> ENTREPRISE GC + CR/SIG + BUREAU DE CONTROL | F41: =[8]C2!F41 -> 0
...

Sheet Suivi Qualité PV
A3: Calcul du nombre de PV inscrit | B3: PV non inscrit | C3: Contrainte avancement | D3: Indice PV | E3: Ref PV non inscrit | H3: Ref PV manquant réel | P3: Nombre de PV Réel | Q3: Nombre de PV théorique
A4: =IF(F4,1,0) -> 0 | B4: =IF(F4,0,1) -> 1 | C4: =IF(INDIRECT($K$12&"!A8")<='Suivi Qualité PV'!$L$12,1,0) -> 1 | D4: =IF(AND(B4=1,C4=1),1,0) -> 1 | E4: =IF(F4,0,G4) -> 1 | F4: =ISTEXT(INDIRECT($K$12&"!F8")) -> FALSE | G4: 1 | H4: =IF(AND(D4<>0,E4<>0),G4,"") -> 1 | P4: =A179 -> 17 | Q4: =VLOOKUP(L12,P16:Q116,2) -> 96
A5: =IF(F5,1,0) -> 1 | B5: =IF(F5,0,1) -> 0 | C5: =IF(INDIRECT($K$12&"!A9")<='Suivi Qualité PV'!$L$12,1,0) -> 1 | D5: =IF(AND(B5=1,C5=1),1,0) -> 0 | E5: =IF(F5,0,G5) -> 0 | F5: =ISTEXT(INDIRECT($K$12&"!F9")) -> TRUE | G5: 1,0,1 | H5: =IF(AND(D5<>0,E5<>0),G5,"")
A6: =IF(F6,1,0) -> 1 | B6: =IF(F6,0,1) -> 0 | C6: =IF(INDIRECT($K$12&"!A10")<='Suivi Qualité PV'!$L$12,1,0) -> 1 | D6: =IF(AND(B6=1,C6=1),1,0) -> 0 | E6: =IF(F6,0,G6) -> 0 | F6: =ISTEXT(INDIRECT($K$12&"!F10")) -> TRUE | G6: 1,0,2 | H6: =IF(AND(D6<>0,E6<>0),G6,"")
A7: =IF(F7,1,0) -> 0 | B7: =IF(F7,0,1) -> 1 | C7: =IF(INDIRECT($K$12&"!A11")<='Suivi Qualité PV'!$L$12,1,0) -> 1 | D7: =IF(AND(B7=1,C7=1),1,0) -> 1 | E7: =IF(F7,0,G7) -> 0 | F7: =ISTEXT(INDIRECT($K$12&"!F11")) -> FALSE | H7: =IF(AND(D7<>0,E7<>0),G7,"")
A8: =IF(F8,1,0) -> 1 | B8: =IF(F8,0,1) -> 0 | C8: =IF(INDIRECT($K$12&"!A12")<='Suivi Qualité PV'!$L$12,1,0) -> 1 | D8: =IF(AND(B8=1,C8=1),1,0) -> 0 | E8: =IF(F8,0,G8) -> 0 | F8: =ISTEXT(INDIRECT($K$12&"!F12")) -> TRUE | G8: 1,0,3 | H8: =IF(AND(D8<>0,E8<>0),G8,"") | P8: =COUNTA(N12:N187) -> 176
A9: =IF(F9,1,0) -> 1 | B9: =IF(F9,0,1) -> 0 | C9: =IF(INDIRECT($K$12&"!A13")<='Suivi Qualité PV'!$L$12,1,0) -> 1 | D9: =IF(AND(B9=1,C9=1),1,0) -> 0 | E9: =IF(F9,0,G9) -> 0 | F9: =ISTEXT(INDIRECT($K$12&"!F13")) -> TRUE | G9: 1,0,4 | H9: =IF(AND(D9<>0,E9<>0),G9,"") | P9: =COUNTBLANK(N12:N187) -> 75
A10: =IF(F10,1,0) -> 0 | B10: =IF(F10,0,1) -> 1 | C10: =IF(INDIRECT($K$12&"!A14")<='Suivi Qualité PV'!$L$12,1,0) -> 1 | D10: =IF(AND(B10=1,C10=1),1,0) -> 1 | E10: =IF(F10,0,G10) -> 0 | F10: =ISTEXT(INDIRECT($K$12&"!F14")) -> FALSE | H10: =IF(AND(D10<>0,E10<>0),G10,"") | P10: =P8-P9 -> 101
A11: =IF(F11,1,0) -> 0 | B11: =IF(F11,0,1) -> 1 | C11: =IF(INDIRECT($K$12&"!A15")<='Suivi Qualité PV'!$L$12,1,0) -> 1 | D11: =IF(AND(B11=1,C11=1),1,0) -> 1 | E11: =IF(F11,0,G11) -> 2 | F11: =ISTEXT(INDIRECT($K$12&"!F15")) -> FALSE | G11: 2 | H11: =IF(AND(D11<>0,E11<>0),G11,"") -> 2 | K11: Reference Batiment TK | L11: Avancement | M11: Nb de PV manquant | N11: Reference PV manquant | P11: =P10-22 -> 79
A12: =IF(F12,1,0) -> 0 | B12: =IF(F12,0,1) -> 1 | C12: =IF(INDIRECT($K$12&"!A16")<='Suivi Qualité PV'!$L$12,1,0) -> 1 | D12: =IF(AND(B12=1,C12=1),1,0) -> 1 | E12: =IF(F12,0,G12) -> 2.1 | F12: =ISTEXT(INDIRECT($K$12&"!F16")) -> FALSE | G12: 2.1 | H12: =IF(AND(D12<>0,E12<>0),G12,"") -> 2.1 | K12: C2 | L12: 1 | M12: =P11 -> 79 | N12: {=IFERROR(INDEX(INDIRECT($K$12&"!$C:$C"),SMALL(IF($H$4:$H$178<>"",ROW(INDIRECT($K$12&"!$C$8"):INDIRECT($K$12&"!$C$182"))),ROW(A1))),"")} -> TERRASSEMENT
A13: =IF(F13,1,0) -> 1 | B13: =IF(F13,0,1) -> 0 | C13: =IF(INDIRECT($K$12&"!A17")<='Suivi Qualité PV'!$L$12,1,0) -> 1 | D13: =IF(AND(B13=1,C13=1),1,0) -> 0 | E13: =IF(F13,0,G13) -> 0 | F13: =ISTEXT(INDIRECT($K$12&"!F17")) -> TRUE | G13: 2,1,1 | H13: =IF(AND(D13<>0,E13<>0),G13,"") | N13: {=IFERROR(INDEX(INDIRECT($K$12&"!$C:$C"),SMALL(IF($H$4:$H$178<>"",ROW(INDIRECT($K$12&"!$C$8"):INDIRECT($K$12&"!$C$182"))),ROW(A2))),"")} -> STRUCTURES
A14: =IF(F14,1,0) -> 1 | B14: =IF(F14,0,1) -> 0 | C14: =IF(INDIRECT($K$12&"!A18")<='Suivi Qualité PV'!$L$12,1,0) -> 1 | D14: =IF(AND(B14=1,C14=1),1,0) -> 0 | E14: =IF(F14,0,G14) -> 0 | F14: =ISTEXT(INDIRECT($K$12&"!F18")) -> TRUE | G14: 2,1,2 | H14: =IF(AND(D14<>0,E14<>0),G14,"") | N14: {=IFERROR(INDEX(INDIRECT($K$12&"!$C:$C"),SMALL(IF($H$4:$H$178<>"",ROW(INDIRECT($K$12&"!$C$8"):INDIRECT($K$12&"!$C$182"))),ROW(A3))),"")} -> Semelles
