Workbook
Name Réf: [1]Articles!$A$2:$A$296

Sheet Références Prix
A1: REF PRIX 3I
A3: Type | B3: Marque | C3: Ref | D3: Designation | E3: Nbr Modules | F3: P3i | G3: Qté | H3: Total | J3: P PROG
C4: Y953ICONFIGB | D4: CONFIG. D'UN PRODUIT 3I VALEUR B | F4: 5 | G4: =SUM(G17:G85,G87:G88,G92,G94:G98,G100:G105,G107:G108,G110:G120,G122,G124,G126:G131,G133:G138,G140,G142:G143,G145:G150,G154,G156:G161,G163:G168,G170:G176,G194:G223,G227:G234,G250:G257,G266,G284:G289,G296) -> #REF! | H4: =G4*F4 -> #REF!
C5: Y953ICONFIGC | D5: CONFIG. D'UN PRODUIT 3I VALEUR C | F5: 15 | G5: =SUM(G245:G247,G260:G265,G267:G281,G292:G295,G299:G301,G333) -> #REF! | H5: =G5*F5 -> #REF!
C6: Y953ICONFIGD | D6: CONFIG. D'UN PRODUIT 3I VALEUR D | F6: 45 | G6: =SUM(G237:G238,G271:G272) -> #REF! | H6: =G6*F6 -> #REF!
C7: Y953ICONFIGE | D7: CONFIG. D'UN PRODUIT 3I VALEUR E | F7: 75 | G7: =SUM(G241:G242) -> #REF! | H7: =G7*F7 -> #REF!
A8: Produits Tableau
A9: Alim 640mA
B10: Hager | C10: R3IHAGTXA112 | D10: Alimentation KNX TP1 30V 640 mA | E10: 4 | F10: 199.2997 | G10: 0 | H10: =G10*F10 -> 0 | J10: 0
A11: MTN684064 | B11: Schneider Electric | C11: R3ISCHMTN684064 | D11: Alimentation KNX TP1 30V 640 mA | E11: 4 | F11: 198.7199 | G11: 0 | H11: =G11*F11 -> 0 | J11: 0
A12: SV/S 30.640.3.1 | B12: ABB | C12: R3IABB588435 | D12: Alimentation KNX TP1 30V 640 mA avec sortie auxilliaire 640 mA | E12: 6 | F12: 249.1352 | G12: 0 | H12: =G12*F12 -> 0 | J12: 0
A13: 5WG1 125-1AB22 | B13: Siemens | C13: R3ISBA5WG11251AB22 | D13: Alimentation KNX TP1 30V 640 mA avec sortie auxiliaire 640 mA | E13: 4 | F13: 247.6165 | G13: 0 | H13: =G13*F13 -> 0 | J13: 0
A14: ZN1PS160MPA | B14: Zennio | C14: ZNNZN1PS-160MPA | D14: Alimentation KNX TP1 30V 160 mA avec sortie auxiliaire 250 mA | E14: 4 | F14: 201.93 | G14: 0 | H14: =G14*F14 -> 0 | J14: 0
A16: Coupleur
B17: Hager | C17: R3IHAGTYF130 | D17: Répéteur / coupleur de lignes | E17: 2 | F17: 193.8393 | G17: =#REF!+#REF!+#REF! -> #REF! | H17: =G17*F17 -> #REF! | J17: 5
A18: MTN680204 | B18: Schneider Electric | C18: R3ISCHMTN680204 | D18: Répéteur / coupleur de lignes | E18: 2 | F18: 229.5246 | G18: =#REF!+#REF! -> #REF! | H18: =G18*F18 -> #REF! | J18: 5
A19: 5WG1 140-1AB13 | B19: Siemens | C19: R3ISBA5WG11401AB13 | D19: Répéteur / coupleur de lignes | E19: 4 | F19: 268.2512 | G19: =#REF! -> #REF! | H19: =G19*F19 -> #REF! | J19: 5
A21: 2 Sorties 10 A
A22: MTN649202 | B22: Schneider Electric | C22: R3ISCHMTN649202 | D22: Module 2 sorties commutation 10A / 230V~ | E22: 2.5 | F22: 133.3488 | G22: =#REF! -> #REF! | H22: =F22*G22 -> #REF! | J22: 5
A23: SA/S 2.10.2.1 | B23: ABB | C23: R3IABB588406 | D23: Module 2 sorties commutation / chauffage 10A, MRD | E23: 2 | F23: 124.9987 | G23: =#REF! -> #REF! | H23: =F23*G23 -> #REF! | J23: 5
A25: 4 Sorties 10A
B26: Hager | C26: R3IHAGTXA604D | D26: Module 4 sorties commutation ou 2 sorties stores/volets roulants charges capacitives 16A / 230V~ | E26: 4 | F26: 130.5541 | G26: =#REF! -> #REF! | H26: =F26*G26 -> #REF! | J26: 5
A27: MTN649204 | B27: Schneider Electric | C27: R3ISCHMTN649204 | D27: Module 4 sorties commutation 10A / 230V~ | E27: 4 | F27: 162.1028 | G27: =#REF! -> #REF! | H27: =F27*G27 -> #REF! | J27: 5
A28: SA/S 4.10.2.1 | B28: ABB | C28: R3IABB588407 | D28: Module 4 sorties commutation / chauffage 10A, MRD | E28: 4 | F28: 147.2207 | G28: =#REF! -> #REF! | H28: =F28*G28 -> #REF! | J28: 5
A29: ACTinBOX Quatro | B29: Zennio | C29: R3IZNNIOAB40 | D29: Module 4 sorties commutation / 2 sorties volets roulants 16A | E29: 2 | F29: 158.4587 | G29: =#REF! -> #REF! | H29: =G29*F29 -> #REF! | J29: 5
A31: 6 Sorties 10A
B32: Hager | C32: R3IHAGTXA606B | D32: Module 6 sorties commutation ou 3 sorties stores/volets roulants 10A / 230V~ | E32: 4 | F32: 156.5221 | G32: =#REF! -> #REF! | H32: =F32*G32 -> #REF! | J32: 5
A33: ACTinBOX MAX6 | B33: Zennio | C33: R3IZNNIOAB60 | D33: Module 6 sorties commutation / 3 sorties volets roulants 10A | E33: 2 | F33: 211.6328 | G33: =#REF! -> #REF! | H33: =G33*F33 -> #REF! | J33: 5
A35: 8 Sorties 10A
A36: MTN649208 | B36: Schneider Electric | C36: R3ISCHMTN649208 | D36: Module 8 sorties commutation 10A / 230V~ | E36: 4 | F36: 261.7488 | G36: =#REF! -> #REF! | H36: =F36*G36 -> #REF! | J36: 5
A37: SA/S 8.10.2.1 | B37: ABB | C37: R3IABB588408 | D37: Module 8 sorties commutation / chauffage 10A, MRD | E37: 8 | F37: 224.4422 | G37: =#REF! -> #REF! | H37: =F37*G37 -> #REF! | J37: 5
A39: 8 Sorties 16A
B40: Theben | C40: R3ITHBRMG8S | D40: ACTIONNEUR 8 CONTACTS TOUT OU RIEN RMG8S KNX | E40: 4 | F40: 325.8935 | G40: =#REF! -> #REF! | H40: =G40*F40 -> #REF! | J40: 5
B41: Theben | C41: R3ITHBRME8S | D41: MODULE EXTENSION 8 CONTACTS TOUT OU RIEN POUR RMG 8S KNX | E41: 4 | F41: 259.2743 | G41: =#REF! -> #REF! | H41: =G41*F41 -> #REF! | J41: 5
A42: 5WG1 511-1AB02 | B42: Siemens | C42: R3ISBA5WG15111AB02 | D42: Module 8 sorties commutation 16A | E42: 8 | F42: 317.4571 | G42: =#REF! -> #REF! | H42: =G42*F42 -> #REF! | J42: 5
A44: 10 Sorties 10A
B45: Hager | C45: R3IHAGTXA610B | D45: Module 10 sorties commutation ou 5 sorties stores/volets roulants 10A / 230V~ | E45: 4 | F45: 210.3948 | G45: =#REF! -> #REF! | H45: =F45*G45 -> #REF! | J45: 5
A47: 16 Sorties 10A
A48: 5WG1 567-1AB22 | B48: Siemens | C48: R3ISBA5WG15671AB22 | D48: Module 16 sorties commutation 10A | E48: 8 | F48: 380.9485 | G48: =#REF! -> #REF! | H48: =G48*F48 -> #REF! | J48: 5
A50: 12 Sorties 10 A
...

Sheet Devis
C2: Estimation de Devis
G7: Le : | H7: =TODAY() -> 42515
E11: Client :
A20: Marque | B20: Ref | C20: Designation | D20: Nbr Modules | E20: P3i | F20: Qté | G20: Total
C21: =IF(ISBLANK(B21),"",INDEX('Références Prix'!$D$10:$D$216,MATCH(B21,'Références Prix'!$C$10:$C$216,0))) | D21: =IF(ISBLANK(B21),"",INDEX('Références Prix'!$E$10:$E$216,MATCH(B21,'Références Prix'!$C$10:$C$216,0))) | E21: =IF(ISBLANK(B21),"",INDEX('Références Prix'!$F$10:$F$216,MATCH(B21,'Références Prix'!$C$10:$C$216,0))) | F21: =IF(ISBLANK(B21),"",INDEX('Références Prix'!$G$10:$G$216,MATCH(B21,'Références Prix'!$C$10:$C$216,0))) | G21: =IF(ISBLANK(B21),"",INDEX('Références Prix'!$H$10:$H$216,MATCH(B21,'Références Prix'!$C$10:$C$216,0)))
A22: =IF(ISBLANK(B22),"",INDEX('Références Prix'!$B$10:$B$216,MATCH(B22,'Références Prix'!$C$10:$C$216,0))) | C22: =IF(ISBLANK(B22),"",INDEX('Références Prix'!$D$10:$D$216,MATCH(B22,'Références Prix'!$C$10:$C$216,0))) | D22: =IF(ISBLANK(B22),"",INDEX('Références Prix'!$E$10:$E$216,MATCH(B22,'Références Prix'!$C$10:$C$216,0))) | E22: =IF(ISBLANK(B22),"",INDEX('Références Prix'!$F$10:$F$216,MATCH(B22,'Références Prix'!$C$10:$C$216,0))) | F22: =IF(ISBLANK(B22),"",INDEX('Références Prix'!$G$10:$G$216,MATCH(B22,'Références Prix'!$C$10:$C$216,0))) | G22: =IF(ISBLANK(B22),"",INDEX('Références Prix'!$H$10:$H$216,MATCH(B22,'Références Prix'!$C$10:$C$216,0)))
A23: =IF(ISBLANK(B23),"",INDEX('Références Prix'!$B$10:$B$216,MATCH(B23,'Références Prix'!$C$10:$C$216,0))) | C23: =IF(ISBLANK(B23),"",INDEX('Références Prix'!$D$10:$D$216,MATCH(B23,'Références Prix'!$C$10:$C$216,0))) | D23: =IF(ISBLANK(B23),"",INDEX('Références Prix'!$E$10:$E$216,MATCH(B23,'Références Prix'!$C$10:$C$216,0))) | E23: =IF(ISBLANK(B23),"",INDEX('Références Prix'!$F$10:$F$216,MATCH(B23,'Références Prix'!$C$10:$C$216,0))) | F23: =IF(ISBLANK(B23),"",INDEX('Références Prix'!$G$10:$G$216,MATCH(B23,'Références Prix'!$C$10:$C$216,0))) | G23: =IF(ISBLANK(B23),"",INDEX('Références Prix'!$H$10:$H$216,MATCH(B23,'Références Prix'!$C$10:$C$216,0)))
A24: =IF(ISBLANK(B24),"",INDEX('Références Prix'!$B$10:$B$216,MATCH(B24,'Références Prix'!$C$10:$C$216,0))) | C24: =IF(ISBLANK(B24),"",INDEX('Références Prix'!$D$10:$D$216,MATCH(B24,'Références Prix'!$C$10:$C$216,0))) | D24: =IF(ISBLANK(B24),"",INDEX('Références Prix'!$E$10:$E$216,MATCH(B24,'Références Prix'!$C$10:$C$216,0))) | E24: =IF(ISBLANK(B24),"",INDEX('Références Prix'!$F$10:$F$216,MATCH(B24,'Références Prix'!$C$10:$C$216,0))) | F24: =IF(ISBLANK(B24),"",INDEX('Références Prix'!$G$10:$G$216,MATCH(B24,'Références Prix'!$C$10:$C$216,0))) | G24: =IF(ISBLANK(B24),"",INDEX('Références Prix'!$H$10:$H$216,MATCH(B24,'Références Prix'!$C$10:$C$216,0)))
A25: =IF(ISBLANK(B25),"",INDEX('Références Prix'!$B$10:$B$216,MATCH(B25,'Références Prix'!$C$10:$C$216,0))) | C25: =IF(ISBLANK(B25),"",INDEX('Références Prix'!$D$10:$D$216,MATCH(B25,'Références Prix'!$C$10:$C$216,0))) | D25: =IF(ISBLANK(B25),"",INDEX('Références Prix'!$E$10:$E$216,MATCH(B25,'Références Prix'!$C$10:$C$216,0))) | E25: =IF(ISBLANK(B25),"",INDEX('Références Prix'!$F$10:$F$216,MATCH(B25,'Références Prix'!$C$10:$C$216,0))) | F25: =IF(ISBLANK(B25),"",INDEX('Références Prix'!$G$10:$G$216,MATCH(B25,'Références Prix'!$C$10:$C$216,0))) | G25: =IF(ISBLANK(B25),"",INDEX('Références Prix'!$H$10:$H$216,MATCH(B25,'Références Prix'!$C$10:$C$216,0)))
A26: =IF(ISBLANK(B26),"",INDEX('Références Prix'!$B$10:$B$216,MATCH(B26,'Références Prix'!$C$10:$C$216,0))) | C26: =IF(ISBLANK(B26),"",INDEX('Références Prix'!$D$10:$D$216,MATCH(B26,'Références Prix'!$C$10:$C$216,0))) | D26: =IF(ISBLANK(B26),"",INDEX('Références Prix'!$E$10:$E$216,MATCH(B26,'Références Prix'!$C$10:$C$216,0))) | E26: =IF(ISBLANK(B26),"",INDEX('Références Prix'!$F$10:$F$216,MATCH(B26,'Références Prix'!$C$10:$C$216,0))) | F26: =IF(ISBLANK(B26),"",INDEX('Références Prix'!$G$10:$G$216,MATCH(B26,'Références Prix'!$C$10:$C$216,0))) | G26: =IF(ISBLANK(B26),"",INDEX('Références Prix'!$H$10:$H$216,MATCH(B26,'Références Prix'!$C$10:$C$216,0)))
A27: =IF(ISBLANK(B27),"",INDEX('Références Prix'!$B$10:$B$216,MATCH(B27,'Références Prix'!$C$10:$C$216,0))) | C27: =IF(ISBLANK(B27),"",INDEX('Références Prix'!$D$10:$D$216,MATCH(B27,'Références Prix'!$C$10:$C$216,0))) | D27: =IF(ISBLANK(B27),"",INDEX('Références Prix'!$E$10:$E$216,MATCH(B27,'Références Prix'!$C$10:$C$216,0))) | E27: =IF(ISBLANK(B27),"",INDEX('Références Prix'!$F$10:$F$216,MATCH(B27,'Références Prix'!$C$10:$C$216,0))) | F27: =IF(ISBLANK(B27),"",INDEX('Références Prix'!$G$10:$G$216,MATCH(B27,'Références Prix'!$C$10:$C$216,0))) | G27: =IF(ISBLANK(B27),"",INDEX('Références Prix'!$H$10:$H$216,MATCH(B27,'Références Prix'!$C$10:$C$216,0)))
A28: =IF(ISBLANK(B28),"",INDEX('Références Prix'!$B$10:$B$216,MATCH(B28,'Références Prix'!$C$10:$C$216,0))) | C28: =IF(ISBLANK(B28),"",INDEX('Références Prix'!$D$10:$D$216,MATCH(B28,'Références Prix'!$C$10:$C$216,0))) | D28: =IF(ISBLANK(B28),"",INDEX('Références Prix'!$E$10:$E$216,MATCH(B28,'Références Prix'!$C$10:$C$216,0))) | E28: =IF(ISBLANK(B28),"",INDEX('Références Prix'!$F$10:$F$216,MATCH(B28,'Références Prix'!$C$10:$C$216,0))) | F28: =IF(ISBLANK(B28),"",INDEX('Références Prix'!$G$10:$G$216,MATCH(B28,'Références Prix'!$C$10:$C$216,0))) | G28: =IF(ISBLANK(B28),"",INDEX('Références Prix'!$H$10:$H$216,MATCH(B28,'Références Prix'!$C$10:$C$216,0)))
A29: =IF(ISBLANK(B29),"",INDEX('Références Prix'!$B$10:$B$216,MATCH(B29,'Références Prix'!$C$10:$C$216,0))) | C29: =IF(ISBLANK(B29),"",INDEX('Références Prix'!$D$10:$D$216,MATCH(B29,'Références Prix'!$C$10:$C$216,0))) | D29: =IF(ISBLANK(B29),"",INDEX('Références Prix'!$E$10:$E$216,MATCH(B29,'Références Prix'!$C$10:$C$216,0))) | E29: =IF(ISBLANK(B29),"",INDEX('Références Prix'!$F$10:$F$216,MATCH(B29,'Références Prix'!$C$10:$C$216,0))) | F29: =IF(ISBLANK(B29),"",INDEX('Références Prix'!$G$10:$G$216,MATCH(B29,'Références Prix'!$C$10:$C$216,0))) | G29: =IF(ISBLANK(B29),"",INDEX('Références Prix'!$H$10:$H$216,MATCH(B29,'Références Prix'!$C$10:$C$216,0)))
A30: =IF(ISBLANK(B30),"",INDEX('Références Prix'!$B$10:$B$216,MATCH(B30,'Références Prix'!$C$10:$C$216,0))) | C30: =IF(ISBLANK(B30),"",INDEX('Références Prix'!$D$10:$D$216,MATCH(B30,'Références Prix'!$C$10:$C$216,0))) | D30: =IF(ISBLANK(B30),"",INDEX('Références Prix'!$E$10:$E$216,MATCH(B30,'Références Prix'!$C$10:$C$216,0))) | E30: =IF(ISBLANK(B30),"",INDEX('Références Prix'!$F$10:$F$216,MATCH(B30,'Références Prix'!$C$10:$C$216,0))) | F30: =IF(ISBLANK(B30),"",INDEX('Références Prix'!$G$10:$G$216,MATCH(B30,'Références Prix'!$C$10:$C$216,0))) | G30: =IF(ISBLANK(B30),"",INDEX('Références Prix'!$H$10:$H$216,MATCH(B30,'Références Prix'!$C$10:$C$216,0)))
A31: =IF(ISBLANK(B31),"",INDEX('Références Prix'!$B$10:$B$216,MATCH(B31,'Références Prix'!$C$10:$C$216,0))) | C31: =IF(ISBLANK(B31),"",INDEX('Références Prix'!$D$10:$D$216,MATCH(B31,'Références Prix'!$C$10:$C$216,0))) | D31: =IF(ISBLANK(B31),"",INDEX('Références Prix'!$E$10:$E$216,MATCH(B31,'Références Prix'!$C$10:$C$216,0))) | E31: =IF(ISBLANK(B31),"",INDEX('Références Prix'!$F$10:$F$216,MATCH(B31,'Références Prix'!$C$10:$C$216,0))) | F31: =IF(ISBLANK(B31),"",INDEX('Références Prix'!$G$10:$G$216,MATCH(B31,'Références Prix'!$C$10:$C$216,0))) | G31: =IF(ISBLANK(B31),"",INDEX('Références Prix'!$H$10:$H$216,MATCH(B31,'Références Prix'!$C$10:$C$216,0)))
A32: =IF(ISBLANK(B32),"",INDEX('Références Prix'!$B$10:$B$216,MATCH(B32,'Références Prix'!$C$10:$C$216,0))) | C32: =IF(ISBLANK(B32),"",INDEX('Références Prix'!$D$10:$D$216,MATCH(B32,'Références Prix'!$C$10:$C$216,0))) | D32: =IF(ISBLANK(B32),"",INDEX('Références Prix'!$E$10:$E$216,MATCH(B32,'Références Prix'!$C$10:$C$216,0))) | E32: =IF(ISBLANK(B32),"",INDEX('Références Prix'!$F$10:$F$216,MATCH(B32,'Références Prix'!$C$10:$C$216,0))) | F32: =IF(ISBLANK(B32),"",INDEX('Références Prix'!$G$10:$G$216,MATCH(B32,'Références Prix'!$C$10:$C$216,0))) | G32: =IF(ISBLANK(B32),"",INDEX('Références Prix'!$H$10:$H$216,MATCH(B32,'Références Prix'!$C$10:$C$216,0)))
A33: =IF(ISBLANK(B33),"",INDEX('Références Prix'!$B$10:$B$216,MATCH(B33,'Références Prix'!$C$10:$C$216,0))) | C33: =IF(ISBLANK(B33),"",INDEX('Références Prix'!$D$10:$D$216,MATCH(B33,'Références Prix'!$C$10:$C$216,0))) | D33: =IF(ISBLANK(B33),"",INDEX('Références Prix'!$E$10:$E$216,MATCH(B33,'Références Prix'!$C$10:$C$216,0))) | E33: =IF(ISBLANK(B33),"",INDEX('Références Prix'!$F$10:$F$216,MATCH(B33,'Références Prix'!$C$10:$C$216,0))) | F33: =IF(ISBLANK(B33),"",INDEX('Références Prix'!$G$10:$G$216,MATCH(B33,'Références Prix'!$C$10:$C$216,0))) | G33: =IF(ISBLANK(B33),"",INDEX('Références Prix'!$H$10:$H$216,MATCH(B33,'Références Prix'!$C$10:$C$216,0)))
... A42: =IF(ISBLANK(B42),"",INDEX('Références Prix'!$B$10:$B$216,MATCH(B42,'Références Prix'!$C$10:$C$216,0))) | C42: =IF(ISBLANK(B42),"",INDEX('Références Prix'!$D$10:$D$216,MATCH(B42,'Références Prix'!$C$10:$C$216,0))) | D42: =IF(ISBLANK(B42),"",INDEX('Références Prix'!$E$10:$E$216,MATCH(B42,'Références Prix'!$C$10:$C$216,0))) | E42: =IF(ISBLANK(B42),"",INDEX('Références Prix'!$F$10:$F$216,MATCH(B42,'Références Prix'!$C$10:$C$216,0))) | F42: =IF(ISBLANK(B42),"",INDEX('Références Prix'!$G$10:$G$216,MATCH(B42,'Références Prix'!$C$10:$C$216,0))) | G42: =IF(ISBLANK(B42),"",INDEX('Références Prix'!$H$10:$H$216,MATCH(B42,'Références Prix'!$C$10:$C$216,0)))
A43: =IF(ISBLANK(B43),"",INDEX('Références Prix'!$B$10:$B$216,MATCH(B43,'Références Prix'!$C$10:$C$216,0))) | C43: =IF(ISBLANK(B43),"",INDEX('Références Prix'!$D$10:$D$216,MATCH(B43,'Références Prix'!$C$10:$C$216,0))) | D43: =IF(ISBLANK(B43),"",INDEX('Références Prix'!$E$10:$E$216,MATCH(B43,'Références Prix'!$C$10:$C$216,0))) | E43: TOTAL : | G43: =SUM(G21:G40) -> 0
A44: =IF(ISBLANK(B44),"",INDEX('Références Prix'!$B$10:$B$216,MATCH(B44,'Références Prix'!$C$10:$C$216,0))) | C44: =IF(ISBLANK(B44),"",INDEX('Références Prix'!$D$10:$D$216,MATCH(B44,'Références Prix'!$C$10:$C$216,0))) | D44: =IF(ISBLANK(B44),"",INDEX('Références Prix'!$E$10:$E$216,MATCH(B44,'Références Prix'!$C$10:$C$216,0))) | E44: =IF(ISBLANK(B44),"",INDEX('Références Prix'!$F$10:$F$216,MATCH(B44,'Références Prix'!$C$10:$C$216,0))) | F44: =IF(ISBLANK(B44),"",INDEX('Références Prix'!$G$10:$G$216,MATCH(B44,'Références Prix'!$C$10:$C$216,0))) | G44: =IF(ISBLANK(B44),"",INDEX('Références Prix'!$H$10:$H$216,MATCH(B44,'Références Prix'!$C$10:$C$216,0)))
A45: =IF(ISBLANK(B45),"",INDEX('Références Prix'!$B$10:$B$216,MATCH(B45,'Références Prix'!$C$10:$C$216,0))) | C45: =IF(ISBLANK(B45),"",INDEX('Références Prix'!$D$10:$D$216,MATCH(B45,'Références Prix'!$C$10:$C$216,0))) | D45: =IF(ISBLANK(B45),"",INDEX('Références Prix'!$E$10:$E$216,MATCH(B45,'Références Prix'!$C$10:$C$216,0))) | E45: =IF(ISBLANK(B45),"",INDEX('Références Prix'!$F$10:$F$216,MATCH(B45,'Références Prix'!$C$10:$C$216,0))) | F45: =IF(ISBLANK(B45),"",INDEX('Références Prix'!$G$10:$G$216,MATCH(B45,'Références Prix'!$C$10:$C$216,0))) | G45: =IF(ISBLANK(B45),"",INDEX('Références Prix'!$H$10:$H$216,MATCH(B45,'Références Prix'!$C$10:$C$216,0)))
A46: =IF(ISBLANK(B46),"",INDEX('Références Prix'!$B$10:$B$216,MATCH(B46,'Références Prix'!$C$10:$C$216,0))) | C46: =IF(ISBLANK(B46),"",INDEX('Références Prix'!$D$10:$D$216,MATCH(B46,'Références Prix'!$C$10:$C$216,0))) | D46: =IF(ISBLANK(B46),"",INDEX('Références Prix'!$E$10:$E$216,MATCH(B46,'Références Prix'!$C$10:$C$216,0))) | E46: =IF(ISBLANK(B46),"",INDEX('Références Prix'!$F$10:$F$216,MATCH(B46,'Références Prix'!$C$10:$C$216,0))) | F46: =IF(ISBLANK(B46),"",INDEX('Références Prix'!$G$10:$G$216,MATCH(B46,'Références Prix'!$C$10:$C$216,0))) | G46: =IF(ISBLANK(B46),"",INDEX('Références Prix'!$H$10:$H$216,MATCH(B46,'Références Prix'!$C$10:$C$216,0)))
