Workbook
Name Réf: [1]Articles!$A$2:$A$296

Sheet Références Prix
A1: REF PRIX 3I
A3: Type | B3: Marque | C3: Ref | D3: Designation | E3: Nbr Modules | F3: P3i | G3: Qté | H3: Total | J3: P PROG
C4: Y953ICONFIGB | D4: CONFIG. D'UN PRODUIT 3I VALEUR B | F4: 5 | G4: =SUM(G17:G85,G87:G88,G92,G94:G98,G100:G105,G107:G108,G110:G120,G122,G124,G126:G131,G133:G138,G140,G142:G143,G145:G150,G154,G156:G161,G163:G168,G170:G176,G194:G223,G227:G234,G250:G257,G266,G284:G289,G296) -> #REF! | H4: =G4*F4 -> #REF!
C5: Y953ICONFIGC | D5: CONFIG. D'UN PRODUIT 3I VALEUR C | F5: 15 | G5: =SUM(G245:G247,G260:G265,G267:G281,G292:G295,G299:G301,G333) -> #REF! | H5: =G5*F5 -> #REF!
C6: Y953ICONFIGD | D6: CONFIG. D'UN PRODUIT 3I VALEUR D | F6: 45 | G6: =SUM(G237:G238,G271:G272) -> #REF! | H6: =G6*F6 -> #REF!
C7: Y953ICONFIGE | D7: CONFIG. D'UN PRODUIT 3I VALEUR E | F7: 75 | G7: =SUM(G241:G242) -> #REF! | H7: =G7*F7 -> #REF!
A8: Produits Tableau
A9: Alim 640mA
B10: Hager | C10: R3IHAGTXA112 | D10: Alimentation KNX TP1 30V 640 mA | E10: 4 | F10: 199.2997 | G10: 0 | H10: =G10*F10 -> 0 | J10: 0
A11: MTN684064 | B11: Schneider Electric | C11: R3ISCHMTN684064 | D11: Alimentation KNX TP1 30V 640 mA | E11: 4 | F11: 198.7199 | G11: 0 | H11: =G11*F11 -> 0 | J11: 0
A12: SV/S 30.640.3.1 | B12: ABB | C12: R3IABB588435 | D12: Alimentation KNX TP1 30V 640 mA avec sortie auxilliaire 640 mA | E12: 6 | F12: 249.1352 | G12: 0 | H12: =G12*F12 -> 0 | J12: 0
A13: 5WG1 125-1AB22 | B13: Siemens | C13: R3ISBA5WG11251AB22 | D13: Alimentation KNX TP1 30V 640 mA avec sortie auxiliaire 640 mA | E13: 4 | F13: 247.6165 | G13: 0 | H13: =G13*F13 -> 0 | J13: 0
A14: ZN1PS160MPA | B14: Zennio | C14: ZNNZN1PS-160MPA | D14: Alimentation KNX TP1 30V 160 mA avec sortie auxiliaire 250 mA | E14: 4 | F14: 201.93 | G14: 0 | H14: =G14*F14 -> 0 | J14: 0
A16: Coupleur
B17: Hager | C17: R3IHAGTYF130 | D17: Répéteur / coupleur de lignes | E17: 2 | F17: 193.8393 | G17: =#REF!+#REF!+#REF! -> #REF! | H17: =G17*F17 -> #REF! | J17: 5
A18: MTN680204 | B18: Schneider Electric | C18: R3ISCHMTN680204 | D18: Répéteur / coupleur de lignes | E18: 2 | F18: 229.5246 | G18: =#REF!+#REF! -> #REF! | H18: =G18*F18 -> #REF! | J18: 5
A19: 5WG1 140-1AB13 | B19: Siemens | C19: R3ISBA5WG11401AB13 | D19: Répéteur / coupleur de lignes | E19: 4 | F19: 268.2512 | G19: =#REF! -> #REF! | H19: =G19*F19 -> #REF! | J19: 5
A21: 2 Sorties 10 A
A22: MTN649202 | B22: Schneider Electric | C22: R3ISCHMTN649202 | D22: Module 2 sorties commutation 10A / 230V~ | E22: 2.5 | F22: 133.3488 | G22: =#REF! -> #REF! | H22: =F22*G22 -> #REF! | J22: 5
A23: SA/S 2.10.2.1 | B23: ABB | C23: R3IABB588406 | D23: Module 2 sorties commutation / chauffage 10A, MRD | E23: 2 | F23: 124.9987 | G23: =#REF! -> #REF! | H23: =F23*G23 -> #REF! | J23: 5
A25: 4 Sorties 10A
B26: Hager | C26: R3IHAGTXA604D | D26: Module 4 sorties commutation ou 2 sorties stores/volets roulants charges capacitives 16A / 230V~ | E26: 4 | F26: 130.5541 | G26: =#REF! -> #REF! | H26: =F26*G26 -> #REF! | J26: 5
A27: MTN649204 | B27: Schneider Electric | C27: R3ISCHMTN649204 | D27: Module 4 sorties commutation 10A / 230V~ | E27: 4 | F27: 162.1028 | G27: =#REF! -> #REF! | H27: =F27*G27 -> #REF! | J27: 5
A28: SA/S 4.10.2.1 | B28: ABB | C28: R3IABB588407 | D28: Module 4 sorties commutation / chauffage 10A, MRD | E28: 4 | F28: 147.2207 | G28: =#REF! -> #REF! | H28: =F28*G28 -> #REF! | J28: 5
A29: ACTinBOX Quatro | B29: Zennio | C29: R3IZNNIOAB40 | D29: Module 4 sorties commutation / 2 sorties volets roulants 16A | E29: 2 | F29: 158.4587 | G29: =#REF! -> #REF! | H29: =G29*F29 -> #REF! | J29: 5
A31: 6 Sorties 10A
B32: Hager | C32: R3IHAGTXA606B | D32: Module 6 sorties commutation ou 3 sorties stores/volets roulants 10A / 230V~ | E32: 4 | F32: 156.5221 | G32: =#REF! -> #REF! | H32: =F32*G32 -> #REF! | J32: 5
A33: ACTinBOX MAX6 | B33: Zennio | C33: R3IZNNIOAB60 | D33: Module 6 sorties commutation / 3 sorties volets roulants 10A | E33: 2 | F33: 211.6328 | G33: =#REF! -> #REF! | H33: =G33*F33 -> #REF! | J33: 5
A35: 8 Sorties 10A
A36: MTN649208 | B36: Schneider Electric | C36: R3ISCHMTN649208 | D36: Module 8 sorties commutation 10A / 230V~ | E36: 4 | F36: 261.7488 | G36: =#REF! -> #REF! | H36: =F36*G36 -> #REF! | J36: 5
A37: SA/S 8.10.2.1 | B37: ABB | C37: R3IABB588408 | D37: Module 8 sorties commutation / chauffage 10A, MRD | E37: 8 | F37: 224.4422 | G37: =#REF! -> #REF! | H37: =F37*G37 -> #REF! | J37: 5
A39: 8 Sorties 16A
B40: Theben | C40: R3ITHBRMG8S | D40: ACTIONNEUR 8 CONTACTS TOUT OU RIEN RMG8S KNX | E40: 4 | F40: 325.8935 | G40: =#REF! -> #REF! | H40: =G40*F40 -> #REF! | J40: 5
B41: Theben | C41: R3ITHBRME8S | D41: MODULE EXTENSION 8 CONTACTS TOUT OU RIEN POUR RMG 8S KNX | E41: 4 | F41: 259.2743 | G41: =#REF! -> #REF! | H41: =G41*F41 -> #REF! | J41: 5
A42: 5WG1 511-1AB02 | B42: Siemens | C42: R3ISBA5WG15111AB02 | D42: Module 8 sorties commutation 16A | E42: 8 | F42: 317.4571 | G42: =#REF! -> #REF! | H42: =G42*F42 -> #REF! | J42: 5
A44: 10 Sorties 10A
B45: Hager | C45: R3IHAGTXA610B | D45: Module 10 sorties commutation ou 5 sorties stores/volets roulants 10A / 230V~ | E45: 4 | F45: 210.3948 | G45: =#REF! -> #REF! | H45: =F45*G45 -> #REF! | J45: 5
A47: 16 Sorties 10A
A48: 5WG1 567-1AB22 | B48: Siemens | C48: R3ISBA5WG15671AB22 | D48: Module 16 sorties commutation 10A | E48: 8 | F48: 380.9485 | G48: =#REF! -> #REF! | H48: =G48*F48 -> #REF! | J48: 5
A50: 12 Sorties 10 A
A51: MTN649212 | B51: Schneider Electric | C51: R3ISCHMTN649212 | D51: Module 12 sorties commutation 10A / 230V~ | E51: 6 | F51: 302.4134 | G51: =#REF! -> #REF! | H51: =F51*G51 -> #REF! | J51: 5
A52: SA/S 12.10.2.1 | B52: ABB | C52: R3IABB588409 | D52: Module 12 sorties commutation / chauffage 10A, MRD | E52: 12 | F52: 288.5114 | G52: =#REF! -> #REF! | H52: =F52*G52 -> #REF! | J52: 5
A54: 2 Stores
A55: MTN649802 | B55: Schneider Electric | C55: R3ISCHMTN649802 | D55: Module 2 sorties stores/volets roulants 230V~ 10A | E55: 4 | F55: 120.6772 | G55: =#REF! -> #REF! | H55: =G55*F55 -> #REF! | J55: 5
A56: JRA/S 2.230.2.1 | B56: ABB | C56: R3IABB588375 | D56: Module 2 sorties stores/volets roulants 230V AC, MRD | E56: 4 | F56: 123.5759 | G56: =#REF! -> #REF! | H56: =G56*F56 -> #REF! | J56: 5
A58: 4 Stores
A59: MTN649804 | B59: Schneider Electric | C59: R3ISCHMTN649804 | D59: Module 4 sorties stores/volets roulants 230V~ 10A | E59: 4 | F59: 158.8593 | G59: =#REF! -> #REF! | H59: =G59*F59 -> #REF! | J59: 5
A60: JRA/S 4.230.2.1 | B60: ABB | C60: R3IABB588376 | D60: Module 4 sorties stores/volets roulants 230V AC, MRD | E60: 4 | F60: 187.9473 | G60: =#REF! -> #REF! | H60: =G60*F60 -> #REF! | J60: 5
A61: JMG 4 S | B61: Theben | C61: R3ITHBJMG4S | D61: Module 4 sorties stores/volets roulants | E61: 4 | F61: 235.9912 | G61: =#REF! -> #REF! | H61: =G61*F61 -> #REF! | J61: 5
A62: JME 4 S | B62: Theben | C62: R3ITHBJME4S | D62: Module d'extension 4 sorties volets roulants | E62: 4 | F62: 169.7038 | G62: =#REF! -> #REF! | H62: =G62*F62 -> #REF! | J62: 5
A63: 5WG1 522-1AB03 | B63: Siemens | C63: R3ISBA5WG15221AB03 | D63: Module 4 sorties stores/volets roulants 230V~ 8A | E63: 4 | F63: 285.7114 | G63: =#REF! -> #REF! | H63: =G63*F63 -> #REF! | J63: 5
A65: 8 Stores
A66: MTN649808 | B66: Schneider Electric | C66: R3ISCHMTN649808 | D66: Module 8 sorties stores/volets roulants 230V~ 10A | E66: 8 | F66: 284.3774 | G66: =#REF! -> #REF! | H66: =G66*F66 -> #REF! | J66: 5
A67: JRA/S 8.230.2.1 | B67: ABB | C67: R3IABB588377 | D67: Module 8 sorties stores/volets roulants 230V AC, MRD | E67: 8 | F67: 281.0606 | G67: =#REF! -> #REF! | H67: =G67*F67 -> #REF! | J67: 5
A68: 5WG1 523-1AB11 | B68: Siemens | C68: R3ISBA5WG15231AB11 | D68: Module 8 sorties stores/volets roulants 230V~ 6A | E68: 4 | F68: 388.885 | G68: =#REF! -> #REF! | H68: =G68*F68 -> #REF! | J68: 5
A70: 8 Sorties / 4 Stores 16A
A71: MAXinBOX 8 | B71: Zennio | C71: R3IZNNZN1IOMB8 | D71: Module 8 sorties commutation / 4 sorties volets roulants 16A | E71: 4.5 | F71: 208.5696 | G71: =#REF! -> #REF! | H71: =G71*F71 -> #REF! | J71: 5
A73: 16 Sorties / 8 Stores 10A
B74: Hager | C74: R3IHAGTXM616D | D74: Module 16 sorties commutation ou 8 sorties stores/volets roulants 16A / 230V~ | E74: 8 | F74: 398.0912 | G74: =#REF! -> #REF! | H74: =G74*F74 -> #REF! | J74: 5
A75: MTN649908 | B75: Schneider Electric | C75: R3ISCHMTN649908 | D75: Module 8 sorties stores/volets roulants ou 16 sorties TOR 230V~ 10A | E75: 8 | F75: 405.8695 | G75: =#REF! -> #REF! | H75: =G75*F75 -> #REF! | J75: 5
A77: 20 Sorties / 10 Stores 10A
B78: Hager | C78: R3IHAGTXM620D | D78: Module 20 sorties commutation ou 10 sorties stores/volets roulants 16A / 230V~ | E78: 10 | F78: 489.0428 | G78: =#REF! -> #REF! | H78: =G78*F78 -> #REF! | J78: 5
A80: 24 Sorties / 10 Stores 10A
A81: MTN649912 | B81: Schneider Electric | C81: R3ISCHMTN649912 | D81: Module 12 sorties stores/volets roulants ou 24 sorties TOR 230V~ 10A | E81: 12 | F81: 555.6354 | G81: =#REF! -> #REF! | H81: =G81*F81 -> #REF! | J81: 5
A83: Produits d'ambiance
A84: 2 touches
B85: Hager | C85: R3IHAGWKT302 | D85: BP 2 touches | F85: 34.8726 | G85: =#REF! -> #REF! | H85: =F85*G85 -> #REF! | J85: 5
B86: Hager | C86: HAGWKT902B | D86: Manette 2 touches | F86: 6.4625 | G86: =G85 -> #REF! | H86: =F86*G86 -> #REF!
A87: WST 302 | B87: Hager | C87: R3IHAGWST302 | D87: BP 2 touches | F87: 38.962 | G87: =#REF! -> #REF! | H87: =F87*G87 -> #REF! | J87: 5
A88: 6125/98-509 | B88: ABB | C88: R3IABB612598509 | D88: BP 2 touches | F88: 34.8726 | G88: =#REF! -> #REF! | H88: =G88*F88 -> #REF! | J88: 5
A89: N 2221.2 | B89: ABB | C89: ABBN22212BL | D89: ZENIT KNX ENJO. 2 POUSSOIRS BLAN | F89: 10.9873 | G89: =G88 -> #REF! | H89: =G89*F89 -> #REF!
A91: 4 Touches
B92: Hager | C92: R3IHAGWKT304 | D92: BP 4 touches | F92: 37.8408 | G92: =#REF! -> #REF! | H92: =F92*G92 -> #REF! | J92: 5
B93: Hager | C93: HAGWKT904B | D93: Manette 4 touches | F93: 9.3555 | G93: =G92 -> #REF! | H93: =F93*G93 -> #REF!
A94: WST 304 | B94: Hager | C94: R3IHAGWST304 | D94: BP 4 touches | F94: 46.5355 | G94: =#REF! -> #REF! | H94: =F94*G94 -> #REF! | J94: 5
A95: LEG067571 | B95: Legrand | C95: R3ILEG067571 | D95: BP 4 touches CELIANE carré | F95: 50.02 | G95: =#REF! -> #REF! | H95: =G95*F95 -> #REF! | J95: 5
A96: LEG067570 | B96: Legrand | C96: R3ILEG067570 | D96: BP 4 touches - blanc CELIANE rond | F96: 64.6253 | G96: =#REF! -> #REF! | H96: =G96*F96 -> #REF! | J96: 5
A97: LEG067579 | B97: Legrand | C97: R3ILEG067579 | D97: BP 4 touches - titane CELIANE rond | F97: 71.0881 | G97: =#REF! -> #REF! | H97: =G97*F97 -> #REF! | J97: 5
A98: 6126/98-509 | B98: ABB | C98: R3IABB612698509 | D98: BP 4 touches | F98: 37.8408 | G98: =#REF! -> #REF! | H98: =G98*F98 -> #REF! | J98: 5
A99: N 2221.4 | B99: ABB | C99: ABBN22214BL | D99: ZENIT KNX ENJO. 4 POUSSOIRS BLAN | F99: 11.5296 | G99: =G98 -> #REF! | H99: =G99*F99 -> #REF!
A100: TouchMyDesign Plus 4 | B100: Zennio | C100: R3IZNNZVITMDP4PA | D100: BP 4 touches tactiles, 2 entrées | F100: 118.0939 | G100: =#REF! -> #REF! | H100: =G100*F100 -> #REF! | J100: 5
A101: TouchMyDesign Plus 4 | B101: Zennio | C101: R3IZNNZVITMDP4P | D101: BP 4 touches tactiles, 2 entrées personnalisé | F101: 122.8559 | G101: =#REF! -> #REF! | H101: =G101*F101 -> #REF! | J101: 5
A102: TouchMyDesign Plus 4 | B102: Zennio | C102: R3IZNNZVITMDP4 | D102: BP 4 touches tactiles, 2 entrées cadre alu personnamisé | F102: 154.2048 | G102: =#REF! -> #REF! | H102: =G102*F102 -> #REF! | J102: 5
A104: 6 Touches
B105: Hager | C105: R3IHAGWKT306 | D105: BP 6 touches | F105: 42.8884 | G105: =#REF! -> #REF! | H105: =F105*G105 -> #REF! | J105: 5
B106: Hager | C106: HAGWKT906B | D106: Manette 6 touches | F106: 11.671 | G106: =+G105 -> #REF! | H106: =F106*G106 -> #REF!
A107: WST 306 | B107: Hager | C107: R3IHAGWST306 | D107: BP 6 touches | F107: 58.4375 | G107: =#REF! -> #REF! | H107: =F107*G107 -> #REF! | J107: 5
A108: 6129/96-509 | B108: ABB | C108: R3IABB612996509 | D108: BP 6 touches | F108: 42.8884 | G108: =#REF! -> #REF! | H108: =G108*F108 -> #REF! | J108: 5
A109: N 2221.6 | B109: ABB | C109: ABBN22216BL | D109: ZENIT KNX ENJO. 6 POUSSOIRS BLAN | F109: 12.1073 | G109: =G108 -> #REF! | H109: =G109*F109 -> #REF!
A110: TouchMyDesign Plus 6 | B110: Zennio | C110: R3IZNNZVITMDP6 | D110: BP 6 touches tactiles, 2 entrées | F110: 132.3793 | G110: =#REF! -> #REF! | H110: =G110*F110 -> #REF! | J110: 5
A111: TouchMyDesign Plus 6 | B111: Zennio | C111: R3IZNNZVITMDP6P | D111: BP 6 touches tactiles, 2 entrées personnalisé | F111: 141.9033 | G111: =#REF! -> #REF! | H111: =G111*F111 -> #REF! | J111: 5
A112: TouchMyDesign Plus 6 | B112: Zennio | C112: R3IZNNZVITMDP6 | D112: BP 6 touches tactiles, 2 entrées cadre alu personnamisé | F112: 175.4744 | G112: =#REF! -> #REF! | H112: =G112*F112 -> #REF! | J112: 5
A114: 8 Touches
A115: TouchMyDesign Plus 8 | B115: Zennio | C115: R3IZNNZVITMDP8 | D115: BP 8 touches tactiles, 2 entrées | F115: 151.4267 | G115: =#REF! -> #REF! | H115: =G115*F115 -> #REF! | J115: 5
A116: TouchMyDesign Plus 8 | B116: Zennio | C116: R3IZNNZVITMDP8P | D116: BP 8 touches tactiles, 2 entrées personnalisé | F116: 160.9507 | G116: =#REF! -> #REF! | H116: =G116*F116 -> #REF! | J116: 5
A117: TouchMyDesign Plus 8 | B117: Zennio | C117: R3IZNNZVITMDP8 | D117: BP 8 touches tactiles, 2 entrées cadre alu personnamisé | F117: 196.744 | G117: =#REF! -> #REF! | H117: =G117*F117 -> #REF! | J117: 5
A119: 1 Touches à Voyant
A120: 4071.01LED | B120: Jung | C120: R3IIUN407101LED | D120: BP 1 touche lumineux | F120: 69.8405 | G120: =#REF! -> #REF! | H120: =G120*F120 -> #REF! | J120: 5
A121: AS 590 WW | B121: Jung | C121: IUNAS590WW | D121: AS590WW CD+EJ. SD AS500 BLC | F121: 7.6762 | G121: =G120+G137 -> #REF! | H121: =G121*F121 -> #REF!
A122: 4071TSM | B122: Jung | C122: R3IIUN4071TSM | D122: BP 1 touches lumineux | F122: 119.0464 | G122: =#REF! -> #REF! | H122: =G122*F122 -> #REF! | J122: 5
...

Sheet Devis
C2: Estimation de Devis
G7: Le : | H7: =TODAY() -> 42515
E11: Client :
A20: Marque | B20: Ref | C20: Designation | D20: Nbr Modules | E20: P3i | F20: Qté | G20: Total
C21: =IF(ISBLANK(B21),"",INDEX('Références Prix'!$D$10:$D$216,MATCH(B21,'Références Prix'!$C$10:$C$216,0))) | D21: =IF(ISBLANK(B21),"",INDEX('Références Prix'!$E$10:$E$216,MATCH(B21,'Références Prix'!$C$10:$C$216,0))) | E21: =IF(ISBLANK(B21),"",INDEX('Références Prix'!$F$10:$F$216,MATCH(B21,'Références Prix'!$C$10:$C$216,0))) | F21: =IF(ISBLANK(B21),"",INDEX('Références Prix'!$G$10:$G$216,MATCH(B21,'Références Prix'!$C$10:$C$216,0))) | G21: =IF(ISBLANK(B21),"",INDEX('Références Prix'!$H$10:$H$216,MATCH(B21,'Références Prix'!$C$10:$C$216,0)))
A22: =IF(ISBLANK(B22),"",INDEX('Références Prix'!$B$10:$B$216,MATCH(B22,'Références Prix'!$C$10:$C$216,0))) | C22: =IF(ISBLANK(B22),"",INDEX('Références Prix'!$D$10:$D$216,MATCH(B22,'Références Prix'!$C$10:$C$216,0))) | D22: =IF(ISBLANK(B22),"",INDEX('Références Prix'!$E$10:$E$216,MATCH(B22,'Références Prix'!$C$10:$C$216,0))) | E22: =IF(ISBLANK(B22),"",INDEX('Références Prix'!$F$10:$F$216,MATCH(B22,'Références Prix'!$C$10:$C$216,0))) | F22: =IF(ISBLANK(B22),"",INDEX('Références Prix'!$G$10:$G$216,MATCH(B22,'Références Prix'!$C$10:$C$216,0))) | G22: =IF(ISBLANK(B22),"",INDEX('Références Prix'!$H$10:$H$216,MATCH(B22,'Références Prix'!$C$10:$C$216,0)))
A23: =IF(ISBLANK(B23),"",INDEX('Références Prix'!$B$10:$B$216,MATCH(B23,'Références Prix'!$C$10:$C$216,0))) | C23: =IF(ISBLANK(B23),"",INDEX('Références Prix'!$D$10:$D$216,MATCH(B23,'Références Prix'!$C$10:$C$216,0))) | D23: =IF(ISBLANK(B23),"",INDEX('Références Prix'!$E$10:$E$216,MATCH(B23,'Références Prix'!$C$10:$C$216,0))) | E23: =IF(ISBLANK(B23),"",INDEX('Références Prix'!$F$10:$F$216,MATCH(B23,'Références Prix'!$C$10:$C$216,0))) | F23: =IF(ISBLANK(B23),"",INDEX('Références Prix'!$G$10:$G$216,MATCH(B23,'Références Prix'!$C$10:$C$216,0))) | G23: =IF(ISBLANK(B23),"",INDEX('Références Prix'!$H$10:$H$216,MATCH(B23,'Références Prix'!$C$10:$C$216,0)))
A24: =IF(ISBLANK(B24),"",INDEX('Références Prix'!$B$10:$B$216,MATCH(B24,'Références Prix'!$C$10:$C$216,0))) | C24: =IF(ISBLANK(B24),"",INDEX('Références Prix'!$D$10:$D$216,MATCH(B24,'Références Prix'!$C$10:$C$216,0))) | D24: =IF(ISBLANK(B24),"",INDEX('Références Prix'!$E$10:$E$216,MATCH(B24,'Références Prix'!$C$10:$C$216,0))) | E24: =IF(ISBLANK(B24),"",INDEX('Références Prix'!$F$10:$F$216,MATCH(B24,'Références Prix'!$C$10:$C$216,0))) | F24: =IF(ISBLANK(B24),"",INDEX('Références Prix'!$G$10:$G$216,MATCH(B24,'Références Prix'!$C$10:$C$216,0))) | G24: =IF(ISBLANK(B24),"",INDEX('Références Prix'!$H$10:$H$216,MATCH(B24,'Références Prix'!$C$10:$C$216,0)))
A25: =IF(ISBLANK(B25),"",INDEX('Références Prix'!$B$10:$B$216,MATCH(B25,'Références Prix'!$C$10:$C$216,0))) | C25: =IF(ISBLANK(B25),"",INDEX('Références Prix'!$D$10:$D$216,MATCH(B25,'Références Prix'!$C$10:$C$216,0))) | D25: =IF(ISBLANK(B25),"",INDEX('Références Prix'!$E$10:$E$216,MATCH(B25,'Références Prix'!$C$10:$C$216,0))) | E25: =IF(ISBLANK(B25),"",INDEX('Références Prix'!$F$10:$F$216,MATCH(B25,'Références Prix'!$C$10:$C$216,0))) | F25: =IF(ISBLANK(B25),"",INDEX('Références Prix'!$G$10:$G$216,MATCH(B25,'Références Prix'!$C$10:$C$216,0))) | G25: =IF(ISBLANK(B25),"",INDEX('Références Prix'!$H$10:$H$216,MATCH(B25,'Références Prix'!$C$10:$C$216,0)))
A26: =IF(ISBLANK(B26),"",INDEX('Références Prix'!$B$10:$B$216,MATCH(B26,'Références Prix'!$C$10:$C$216,0))) | C26: =IF(ISBLANK(B26),"",INDEX('Références Prix'!$D$10:$D$216,MATCH(B26,'Références Prix'!$C$10:$C$216,0))) | D26: =IF(ISBLANK(B26),"",INDEX('Références Prix'!$E$10:$E$216,MATCH(B26,'Références Prix'!$C$10:$C$216,0))) | E26: =IF(ISBLANK(B26),"",INDEX('Références Prix'!$F$10:$F$216,MATCH(B26,'Références Prix'!$C$10:$C$216,0))) | F26: =IF(ISBLANK(B26),"",INDEX('Références Prix'!$G$10:$G$216,MATCH(B26,'Références Prix'!$C$10:$C$216,0))) | G26: =IF(ISBLANK(B26),"",INDEX('Références Prix'!$H$10:$H$216,MATCH(B26,'Références Prix'!$C$10:$C$216,0)))
A27: =IF(ISBLANK(B27),"",INDEX('Références Prix'!$B$10:$B$216,MATCH(B27,'Références Prix'!$C$10:$C$216,0))) | C27: =IF(ISBLANK(B27),"",INDEX('Références Prix'!$D$10:$D$216,MATCH(B27,'Références Prix'!$C$10:$C$216,0))) | D27: =IF(ISBLANK(B27),"",INDEX('Références Prix'!$E$10:$E$216,MATCH(B27,'Références Prix'!$C$10:$C$216,0))) | E27: =IF(ISBLANK(B27),"",INDEX('Références Prix'!$F$10:$F$216,MATCH(B27,'Références Prix'!$C$10:$C$216,0))) | F27: =IF(ISBLANK(B27),"",INDEX('Références Prix'!$G$10:$G$216,MATCH(B27,'Références Prix'!$C$10:$C$216,0))) | G27: =IF(ISBLANK(B27),"",INDEX('Références Prix'!$H$10:$H$216,MATCH(B27,'Références Prix'!$C$10:$C$216,0)))
A28: =IF(ISBLANK(B28),"",INDEX('Références Prix'!$B$10:$B$216,MATCH(B28,'Références Prix'!$C$10:$C$216,0))) | C28: =IF(ISBLANK(B28),"",INDEX('Références Prix'!$D$10:$D$216,MATCH(B28,'Références Prix'!$C$10:$C$216,0))) | D28: =IF(ISBLANK(B28),"",INDEX('Références Prix'!$E$10:$E$216,MATCH(B28,'Références Prix'!$C$10:$C$216,0))) | E28: =IF(ISBLANK(B28),"",INDEX('Références Prix'!$F$10:$F$216,MATCH(B28,'Références Prix'!$C$10:$C$216,0))) | F28: =IF(ISBLANK(B28),"",INDEX('Références Prix'!$G$10:$G$216,MATCH(B28,'Références Prix'!$C$10:$C$216,0))) | G28: =IF(ISBLANK(B28),"",INDEX('Références Prix'!$H$10:$H$216,MATCH(B28,'Références Prix'!$C$10:$C$216,0)))
A29: =IF(ISBLANK(B29),"",INDEX('Références Prix'!$B$10:$B$216,MATCH(B29,'Références Prix'!$C$10:$C$216,0))) | C29: =IF(ISBLANK(B29),"",INDEX('Références Prix'!$D$10:$D$216,MATCH(B29,'Références Prix'!$C$10:$C$216,0))) | D29: =IF(ISBLANK(B29),"",INDEX('Références Prix'!$E$10:$E$216,MATCH(B29,'Références Prix'!$C$10:$C$216,0))) | E29: =IF(ISBLANK(B29),"",INDEX('Références Prix'!$F$10:$F$216,MATCH(B29,'Références Prix'!$C$10:$C$216,0))) | F29: =IF(ISBLANK(B29),"",INDEX('Références Prix'!$G$10:$G$216,MATCH(B29,'Références Prix'!$C$10:$C$216,0))) | G29: =IF(ISBLANK(B29),"",INDEX('Références Prix'!$H$10:$H$216,MATCH(B29,'Références Prix'!$C$10:$C$216,0)))
A30: =IF(ISBLANK(B30),"",INDEX('Références Prix'!$B$10:$B$216,MATCH(B30,'Références Prix'!$C$10:$C$216,0))) | C30: =IF(ISBLANK(B30),"",INDEX('Références Prix'!$D$10:$D$216,MATCH(B30,'Références Prix'!$C$10:$C$216,0))) | D30: =IF(ISBLANK(B30),"",INDEX('Références Prix'!$E$10:$E$216,MATCH(B30,'Références Prix'!$C$10:$C$216,0))) | E30: =IF(ISBLANK(B30),"",INDEX('Références Prix'!$F$10:$F$216,MATCH(B30,'Références Prix'!$C$10:$C$216,0))) | F30: =IF(ISBLANK(B30),"",INDEX('Références Prix'!$G$10:$G$216,MATCH(B30,'Références Prix'!$C$10:$C$216,0))) | G30: =IF(ISBLANK(B30),"",INDEX('Références Prix'!$H$10:$H$216,MATCH(B30,'Références Prix'!$C$10:$C$216,0)))
A31: =IF(ISBLANK(B31),"",INDEX('Références Prix'!$B$10:$B$216,MATCH(B31,'Références Prix'!$C$10:$C$216,0))) | C31: =IF(ISBLANK(B31),"",INDEX('Références Prix'!$D$10:$D$216,MATCH(B31,'Références Prix'!$C$10:$C$216,0))) | D31: =IF(ISBLANK(B31),"",INDEX('Références Prix'!$E$10:$E$216,MATCH(B31,'Références Prix'!$C$10:$C$216,0))) | E31: =IF(ISBLANK(B31),"",INDEX('Références Prix'!$F$10:$F$216,MATCH(B31,'Références Prix'!$C$10:$C$216,0))) | F31: =IF(ISBLANK(B31),"",INDEX('Références Prix'!$G$10:$G$216,MATCH(B31,'Références Prix'!$C$10:$C$216,0))) | G31: =IF(ISBLANK(B31),"",INDEX('Références Prix'!$H$10:$H$216,MATCH(B31,'Références Prix'!$C$10:$C$216,0)))
A32: =IF(ISBLANK(B32),"",INDEX('Références Prix'!$B$10:$B$216,MATCH(B32,'Références Prix'!$C$10:$C$216,0))) | C32: =IF(ISBLANK(B32),"",INDEX('Références Prix'!$D$10:$D$216,MATCH(B32,'Références Prix'!$C$10:$C$216,0))) | D32: =IF(ISBLANK(B32),"",INDEX('Références Prix'!$E$10:$E$216,MATCH(B32,'Références Prix'!$C$10:$C$216,0))) | E32: =IF(ISBLANK(B32),"",INDEX('Références Prix'!$F$10:$F$216,MATCH(B32,'Références Prix'!$C$10:$C$216,0))) | F32: =IF(ISBLANK(B32),"",INDEX('Références Prix'!$G$10:$G$216,MATCH(B32,'Références Prix'!$C$10:$C$216,0))) | G32: =IF(ISBLANK(B32),"",INDEX('Références Prix'!$H$10:$H$216,MATCH(B32,'Références Prix'!$C$10:$C$216,0)))
A33: =IF(ISBLANK(B33),"",INDEX('Références Prix'!$B$10:$B$216,MATCH(B33,'Références Prix'!$C$10:$C$216,0))) | C33: =IF(ISBLANK(B33),"",INDEX('Références Prix'!$D$10:$D$216,MATCH(B33,'Références Prix'!$C$10:$C$216,0))) | D33: =IF(ISBLANK(B33),"",INDEX('Références Prix'!$E$10:$E$216,MATCH(B33,'Références Prix'!$C$10:$C$216,0))) | E33: =IF(ISBLANK(B33),"",INDEX('Références Prix'!$F$10:$F$216,MATCH(B33,'Références Prix'!$C$10:$C$216,0))) | F33: =IF(ISBLANK(B33),"",INDEX('Références Prix'!$G$10:$G$216,MATCH(B33,'Références Prix'!$C$10:$C$216,0))) | G33: =IF(ISBLANK(B33),"",INDEX('Références Prix'!$H$10:$H$216,MATCH(B33,'Références Prix'!$C$10:$C$216,0)))
... A42: =IF(ISBLANK(B42),"",INDEX('Références Prix'!$B$10:$B$216,MATCH(B42,'Références Prix'!$C$10:$C$216,0))) | C42: =IF(ISBLANK(B42),"",INDEX('Références Prix'!$D$10:$D$216,MATCH(B42,'Références Prix'!$C$10:$C$216,0))) | D42: =IF(ISBLANK(B42),"",INDEX('Références Prix'!$E$10:$E$216,MATCH(B42,'Références Prix'!$C$10:$C$216,0))) | E42: =IF(ISBLANK(B42),"",INDEX('Références Prix'!$F$10:$F$216,MATCH(B42,'Références Prix'!$C$10:$C$216,0))) | F42: =IF(ISBLANK(B42),"",INDEX('Références Prix'!$G$10:$G$216,MATCH(B42,'Références Prix'!$C$10:$C$216,0))) | G42: =IF(ISBLANK(B42),"",INDEX('Références Prix'!$H$10:$H$216,MATCH(B42,'Références Prix'!$C$10:$C$216,0)))
A43: =IF(ISBLANK(B43),"",INDEX('Références Prix'!$B$10:$B$216,MATCH(B43,'Références Prix'!$C$10:$C$216,0))) | C43: =IF(ISBLANK(B43),"",INDEX('Références Prix'!$D$10:$D$216,MATCH(B43,'Références Prix'!$C$10:$C$216,0))) | D43: =IF(ISBLANK(B43),"",INDEX('Références Prix'!$E$10:$E$216,MATCH(B43,'Références Prix'!$C$10:$C$216,0))) | E43: TOTAL : | G43: =SUM(G21:G40) -> 0
A44: =IF(ISBLANK(B44),"",INDEX('Références Prix'!$B$10:$B$216,MATCH(B44,'Références Prix'!$C$10:$C$216,0))) | C44: =IF(ISBLANK(B44),"",INDEX('Références Prix'!$D$10:$D$216,MATCH(B44,'Références Prix'!$C$10:$C$216,0))) | D44: =IF(ISBLANK(B44),"",INDEX('Références Prix'!$E$10:$E$216,MATCH(B44,'Références Prix'!$C$10:$C$216,0))) | E44: =IF(ISBLANK(B44),"",INDEX('Références Prix'!$F$10:$F$216,MATCH(B44,'Références Prix'!$C$10:$C$216,0))) | F44: =IF(ISBLANK(B44),"",INDEX('Références Prix'!$G$10:$G$216,MATCH(B44,'Références Prix'!$C$10:$C$216,0))) | G44: =IF(ISBLANK(B44),"",INDEX('Références Prix'!$H$10:$H$216,MATCH(B44,'Références Prix'!$C$10:$C$216,0)))
A45: =IF(ISBLANK(B45),"",INDEX('Références Prix'!$B$10:$B$216,MATCH(B45,'Références Prix'!$C$10:$C$216,0))) | C45: =IF(ISBLANK(B45),"",INDEX('Références Prix'!$D$10:$D$216,MATCH(B45,'Références Prix'!$C$10:$C$216,0))) | D45: =IF(ISBLANK(B45),"",INDEX('Références Prix'!$E$10:$E$216,MATCH(B45,'Références Prix'!$C$10:$C$216,0))) | E45: =IF(ISBLANK(B45),"",INDEX('Références Prix'!$F$10:$F$216,MATCH(B45,'Références Prix'!$C$10:$C$216,0))) | F45: =IF(ISBLANK(B45),"",INDEX('Références Prix'!$G$10:$G$216,MATCH(B45,'Références Prix'!$C$10:$C$216,0))) | G45: =IF(ISBLANK(B45),"",INDEX('Références Prix'!$H$10:$H$216,MATCH(B45,'Références Prix'!$C$10:$C$216,0)))
A46: =IF(ISBLANK(B46),"",INDEX('Références Prix'!$B$10:$B$216,MATCH(B46,'Références Prix'!$C$10:$C$216,0))) | C46: =IF(ISBLANK(B46),"",INDEX('Références Prix'!$D$10:$D$216,MATCH(B46,'Références Prix'!$C$10:$C$216,0))) | D46: =IF(ISBLANK(B46),"",INDEX('Références Prix'!$E$10:$E$216,MATCH(B46,'Références Prix'!$C$10:$C$216,0))) | E46: =IF(ISBLANK(B46),"",INDEX('Références Prix'!$F$10:$F$216,MATCH(B46,'Références Prix'!$C$10:$C$216,0))) | F46: =IF(ISBLANK(B46),"",INDEX('Références Prix'!$G$10:$G$216,MATCH(B46,'Références Prix'!$C$10:$C$216,0))) | G46: =IF(ISBLANK(B46),"",INDEX('Références Prix'!$H$10:$H$216,MATCH(B46,'Références Prix'!$C$10:$C$216,0)))
