Workbook

Sheet TK99
B2: PV & FC du bâtiment LGV TK 99
A4: Avancement | B4: Tache | C4: Contrôles réalisés | D4: Contrôles réalisés | E4: Entités réalisant les contrôles | F4: PV ou FC
C6: Mise a disposition plateforme 1 LGV TK 99 | F6: LGV-BAT99-MISE A DISPOSITION 1
C7: Mise a disposition plateforme 2 LGV TK 99 | F7: LGV-BAT99-MISE A DISPOSITION 2 | Q7: Calcul du nombre de PV inscrit
B8: 1 | C8: TERRASSEMENT | G8: Avancement | H8: PV manquant | I8: Contrainte avancement | J8: Indice PV | L8: Ref PV non inscrit | N8: PV manquant réel | Q8: =IF(ISTEXT(F8),1,0) -> 0
B9: 1,0,1 | C9: 1,0,1. Implantation du bâtiment | D9: écarts d'implantation | E9: ENTREPRISE GC + GEOMETRE + CR SIG | F9: LGV-BAT124-PV101 | G9: 0.1 | H9: =IF(ISTEXT(F9),0,1) -> 0 | I9: =IF(G9<'Suivi Qualité PV'!B$4,1,0) -> 1 | J9: =IF(AND(H9=1,I9=1),1,0) -> 0 | L9: =IF(ISTEXT(F9),0,B9) -> 0 | N9: =IF(AND(J9<>0,L9<>0),B9,"") | Q9: =IF(ISTEXT(F9),1,0) -> 1
B10: 1,0,2 | C10: 1,0,2. Fond de fouille | D10: contrôle des dimensions | E10: ENTREPRISE GC + LABORATOIRE SOL + BUREAU DE CONTROL | F10: LGV-BAT124-PV102 | G10: 0.1 | H10: =IF(ISTEXT(F10),0,1) -> 0 | I10: =IF(G10<'Suivi Qualité PV'!B$4,1,0) -> 1 | J10: =IF(AND(H10=1,I10=1),1,0) -> 0 | L10: =IF(ISTEXT(F10),0,B10) -> 0 | N10: =IF(AND(J10<>0,L10<>0),B10,"") | Q10: =IF(ISTEXT(F10),1,0) -> 1
D11: contrôle de la nature du sol | F11: LGV-BAT124-PV102 | G11: 0.1 | H11: =IF(ISTEXT(F11),0,1) -> 0 | I11: =IF(G11<'Suivi Qualité PV'!B$4,1,0) -> 1 | J11: =IF(AND(H11=1,I11=1),1,0) -> 0 | L11: =IF(ISTEXT(F11),0,B11) -> 0 | N11: =IF(AND(J11<>0,L11<>0),B11,"") | Q11: =IF(ISTEXT(F11),1,0) -> 1
B12: 1,0,3 | C12: 1,0,3. Compaction des sols | D12: test de compaction | E12: ENTREPRISE GC + CR/SIG + LABORATOIRE SOL | F12: LGV-BAT124-PV103 | G12: 0.1 | H12: =IF(ISTEXT(F12),0,1) -> 0 | I12: =IF(G12<'Suivi Qualité PV'!B$4,1,0) -> 1 | J12: =IF(AND(H12=1,I12=1),1,0) -> 0 | L12: =IF(ISTEXT(F12),0,B12) -> 0 | N12: =IF(AND(J12<>0,L12<>0),B12,"") | Q12: =IF(ISTEXT(F12),1,0) -> 1
B13: 1,0,4 | C13: 1,0,4. MALT fond de fouille | D13: continuité de la boucle de terre | E13: ENTREPRISE GC + CR/SIG | G13: 0.5 | H13: =IF(ISTEXT(F13),0,1) -> 1 | I13: =IF(G13<'Suivi Qualité PV'!B$4,1,0) -> 1 | J13: =IF(AND(H13=1,I13=1),1,0) -> 1 | L13: =IF(ISTEXT(F13),0,B13) -> 1,0,4 | N13: =IF(AND(J13<>0,L13<>0),B13,"") -> 1,0,4 | Q13: =IF(ISTEXT(F13),1,0) -> 0
D14: remontées du câble de fond de fouille | G14: 0.5 | H14: =IF(ISTEXT(F14),0,1) -> 1 | I14: =IF(G14<'Suivi Qualité PV'!B$4,1,0) -> 1 | J14: =IF(AND(H14=1,I14=1),1,0) -> 1 | L14: =IF(ISTEXT(F14),0,B14) -> 0 | N14: =IF(AND(J14<>0,L14<>0),B14,"") | Q14: =IF(ISTEXT(F14),1,0) -> 0
A15: 0.2 | B15: 2 | C15: STRUCTURES | H15: =IF(ISTEXT(F15),0,1) -> 1 | I15: =IF(G15<'Suivi Qualité PV'!B$4,1,0) -> 1 | J15: =IF(AND(H15=1,I15=1),1,0) -> 1 | L15: =IF(ISTEXT(F15),0,B15) -> 2 | N15: =IF(AND(J15<>0,L15<>0),B15,"") -> 2 | Q15: =IF(ISTEXT(F15),1,0) -> 0
B16: 2.1 | C16: Semelles | H16: =IF(ISTEXT(F16),0,1) -> 1 | I16: =IF(G16<'Suivi Qualité PV'!B$4,1,0) -> 1 | J16: =IF(AND(H16=1,I16=1),1,0) -> 1 | L16: =IF(ISTEXT(F16),0,B16) -> 2.1 | N16: =IF(AND(J16<>0,L16<>0),B16,"") -> 2.1 | Q16: =IF(ISTEXT(F16),1,0) -> 0
B17: 2,1,1 | C17: 2,1,1. Coffrages | D17: dimension, verticalité et linéarité | E17: ENTREPRISE GC | F17: LGV-BAT124PV211 | G17: 0.1 | H17: =IF(ISTEXT(F17),0,1) -> 0 | I17: =IF(G17<'Suivi Qualité PV'!B$4,1,0) -> 1 | J17: =IF(AND(H17=1,I17=1),1,0) -> 0 | L17: =IF(ISTEXT(F17),0,B17) -> 0 | N17: =IF(AND(J17<>0,L17<>0),B17,"") | Q17: =IF(ISTEXT(F17),1,0) -> 1
B18: 2,1,2 | C18: 2,1,2. Ferraillages | D18: contrôle des sections | E18: ENTREPRISE GC + BUREAU DE CONTROL | G18: 0.1 | H18: =IF(ISTEXT(F18),0,1) -> 1 | I18: =IF(G18<'Suivi Qualité PV'!B$4,1,0) -> 1 | J18: =IF(AND(H18=1,I18=1),1,0) -> 1 | L18: =IF(ISTEXT(F18),0,B18) -> 2,1,2 | N18: =IF(AND(J18<>0,L18<>0),B18,"") -> 2,1,2 | Q18: =IF(ISTEXT(F18),1,0) -> 0
B19: 2,1,3 | C19: 2,1,3. MALT fond de fouille / structure | D19: continuité de la boucle de terre | E19: ENTREPRISE GC + CR/SIG + BUREAU DE CONTROL | F19: LGV-BAT124PV213 | G19: 0.1 | H19: =IF(ISTEXT(F19),0,1) -> 0 | I19: =IF(G19<'Suivi Qualité PV'!B$4,1,0) -> 1 | J19: =IF(AND(H19=1,I19=1),1,0) -> 0 | L19: =IF(ISTEXT(F19),0,B19) -> 0 | N19: =IF(AND(J19<>0,L19<>0),B19,"") | Q19: =IF(ISTEXT(F19),1,0) -> 1
D20: mesure de la prise de terre | F20: LGV-BAT124PV213 | G20: 0.1 | H20: =IF(ISTEXT(F20),0,1) -> 0 | I20: =IF(G20<'Suivi Qualité PV'!B$4,1,0) -> 1 | J20: =IF(AND(H20=1,I20=1),1,0) -> 0 | L20: =IF(ISTEXT(F20),0,B20) -> 0 | N20: =IF(AND(J20<>0,L20<>0),B20,"") | Q20: =IF(ISTEXT(F20),1,0) -> 1
D21: mise en œuvre des éléments de la MALT (voir remarque) | F21: LGV-BAT124PV213 | G21: 0.1 | H21: =IF(ISTEXT(F21),0,1) -> 0 | I21: =IF(G21<'Suivi Qualité PV'!B$4,1,0) -> 1 | J21: =IF(AND(H21=1,I21=1),1,0) -> 0 | L21: =IF(ISTEXT(F21),0,B21) -> 0 | N21: =IF(AND(J21<>0,L21<>0),B21,"") | Q21: =IF(ISTEXT(F21),1,0) -> 1
B22: 2,1,4 | C22: 2,1,4. Essais sur béton frais | D22: essai d'affaissement | E22: ENTREPRISE GC + LABORATOIRE SOL | F22: LGV-BAT124-PV214 | G22: 0.1 | H22: =IF(ISTEXT(F22),0,1) -> 0 | I22: =IF(G22<'Suivi Qualité PV'!B$4,1,0) -> 1 | J22: =IF(AND(H22=1,I22=1),1,0) -> 0 | L22: =IF(ISTEXT(F22),0,B22) -> 0 | N22: =IF(AND(J22<>0,L22<>0),B22,"") | Q22: =IF(ISTEXT(F22),1,0) -> 1
B23: 2,1,5 | C23: 2,1,5. Essais sur béton durci | D23: essai de résistances mécaniques | E23: ENTREPRISE GC + LABORATOIRE SOL | G23: 0.5 | H23: =IF(ISTEXT(F23),0,1) -> 1 | I23: =IF(G23<'Suivi Qualité PV'!B$4,1,0) -> 1 | J23: =IF(AND(H23=1,I23=1),1,0) -> 1 | L23: =IF(ISTEXT(F23),0,B23) -> 2,1,5 | N23: =IF(AND(J23<>0,L23<>0),B23,"") -> 2,1,5 | Q23: =IF(ISTEXT(F23),1,0) -> 0
B24: 2,1,6 | C24: 2,1,6. Décoffrage/utilisation de l'ouvrage | D24: séchage du béton | E24: ENTREPRISE GC + CR/SIG | G24: 0.5 | H24: =IF(ISTEXT(F24),0,1) -> 1 | I24: =IF(G24<'Suivi Qualité PV'!B$4,1,0) -> 1 | J24: =IF(AND(H24=1,I24=1),1,0) -> 1 | L24: =IF(ISTEXT(F24),0,B24) -> 2,1,6 | N24: =IF(AND(J24<>0,L24<>0),B24,"") -> 2,1,6 | Q24: =IF(ISTEXT(F24),1,0) -> 0
B25: 2,1,7 | C25: 2,1,7. MALT fond de fouille / structure | D25: mesure de la prise de terre | E25: ENTREPRISE GC + CR/SIG | G25: 0.5 | H25: =IF(ISTEXT(F25),0,1) -> 1 | I25: =IF(G25<'Suivi Qualité PV'!B$4,1,0) -> 1 | J25: =IF(AND(H25=1,I25=1),1,0) -> 1 | L25: =IF(ISTEXT(F25),0,B25) -> 2,1,7 | N25: =IF(AND(J25<>0,L25<>0),B25,"") -> 2,1,7 | Q25: =IF(ISTEXT(F25),1,0) -> 0
H26: =IF(ISTEXT(F26),0,1) -> 1 | I26: =IF(G26<'Suivi Qualité PV'!B$4,1,0) -> 1 | J26: =IF(AND(H26=1,I26=1),1,0) -> 1 | L26: =IF(ISTEXT(F26),0,B26) -> 0 | N26: =IF(AND(J26<>0,L26<>0),B26,"") | Q26: =IF(ISTEXT(F26),1,0) -> 0
A27: 0.3 | B27: 2.2 | C27: Longrines | H27: =IF(ISTEXT(F27),0,1) -> 1 | I27: =IF(G27<'Suivi Qualité PV'!B$4,1,0) -> 1 | J27: =IF(AND(H27=1,I27=1),1,0) -> 1 | L27: =IF(ISTEXT(F27),0,B27) -> 2.2 | N27: =IF(AND(J27<>0,L27<>0),B27,"") -> 2.2 | Q27: =IF(ISTEXT(F27),1,0) -> 0
C28: Longrines | H28: =IF(ISTEXT(F28),0,1) -> 1 | I28: =IF(G28<'Suivi Qualité PV'!B$4,1,0) -> 1 | J28: =IF(AND(H28=1,I28=1),1,0) -> 1 | L28: =IF(ISTEXT(F28),0,B28) -> 0 | N28: =IF(AND(J28<>0,L28<>0),B28,"") | Q28: =IF(ISTEXT(F28),1,0) -> 0
B29: 2,2,1 | C29: 2,2,1. Ferraillages | D29: contrôle des sections | E29: ENTREPRISE GC + BUREAU DE CONTROL | F29: LGV-BAT124-PV221 | G29: 0.2 | H29: =IF(ISTEXT(F29),0,1) -> 0 | I29: =IF(G29<'Suivi Qualité PV'!B$4,1,0) -> 1 | J29: =IF(AND(H29=1,I29=1),1,0) -> 0 | L29: =IF(ISTEXT(F29),0,B29) -> 0 | N29: =IF(AND(J29<>0,L29<>0),B29,"") | Q29: =IF(ISTEXT(F29),1,0) -> 1
B30: 2,2,2 | C30: 2,2,2. MALT fond de fouille / structure | D30: continuité de la boucle de terre | E30: ENTREPRISE GC + CR/SIG + BUREAU DE CONTROL | F30: LGV-BAT124-PV222 | G30: 0.2 | H30: =IF(ISTEXT(F30),0,1) -> 0 | I30: =IF(G30<'Suivi Qualité PV'!B$4,1,0) -> 1 | J30: =IF(AND(H30=1,I30=1),1,0) -> 0 | L30: =IF(ISTEXT(F30),0,B30) -> 0 | N30: =IF(AND(J30<>0,L30<>0),B30,"") | Q30: =IF(ISTEXT(F30),1,0) -> 1
D31: mesure de la prise de terre | F31: LGV-BAT124-PV222 | G31: 0.2 | H31: =IF(ISTEXT(F31),0,1) -> 0 | I31: =IF(G31<'Suivi Qualité PV'!B$4,1,0) -> 1 | J31: =IF(AND(H31=1,I31=1),1,0) -> 0 | L31: =IF(ISTEXT(F31),0,B31) -> 0 | N31: =IF(AND(J31<>0,L31<>0),B31,"") | Q31: =IF(ISTEXT(F31),1,0) -> 1
D32: mise en œuvre des éléments de la MALT (voir remarque) | F32: LGV-BAT124-PV222 | G32: 0.2 | H32: =IF(ISTEXT(F32),0,1) -> 0 | I32: =IF(G32<'Suivi Qualité PV'!B$4,1,0) -> 1 | J32: =IF(AND(H32=1,I32=1),1,0) -> 0 | L32: =IF(ISTEXT(F32),0,B32) -> 0 | N32: =IF(AND(J32<>0,L32<>0),B32,"") | Q32: =IF(ISTEXT(F32),1,0) -> 1
B33: 2,2,3 | C33: 2,2,3. Coffrages | D33: dimension, verticalité et linéarité | E33: ENTREPRISE GC | G33: 0.2 | H33: =IF(ISTEXT(F33),0,1) -> 1 | I33: =IF(G33<'Suivi Qualité PV'!B$4,1,0) -> 1 | J33: =IF(AND(H33=1,I33=1),1,0) -> 1 | L33: =IF(ISTEXT(F33),0,B33) -> 2,2,3 | N33: =IF(AND(J33<>0,L33<>0),B33,"") -> 2,2,3 | Q33: =IF(ISTEXT(F33),1,0) -> 0
B34: 2,2,4 | C34: 2,2,4. Essais sur béton frais | D34: essai d'affaissement | E34: ENTREPRISE GC + LABORATOIRE SOL | F34: LGV-BAT124-PV224 | G34: 0.2 | H34: =IF(ISTEXT(F34),0,1) -> 0 | I34: =IF(G34<'Suivi Qualité PV'!B$4,1,0) -> 1 | J34: =IF(AND(H34=1,I34=1),1,0) -> 0 | L34: =IF(ISTEXT(F34),0,B34) -> 0 | N34: =IF(AND(J34<>0,L34<>0),B34,"") | Q34: =IF(ISTEXT(F34),1,0) -> 1
B35: 2,2,5 | C35: 2,2,5. Essais sur béton durci | D35: essai de résistances mécaniques | E35: ENTREPRISE GC + LABORATOIRE SOL | G35: 0.2 | H35: =IF(ISTEXT(F35),0,1) -> 1 | I35: =IF(G35<'Suivi Qualité PV'!B$4,1,0) -> 1 | J35: =IF(AND(H35=1,I35=1),1,0) -> 1 | L35: =IF(ISTEXT(F35),0,B35) -> 2,2,5 | N35: =IF(AND(J35<>0,L35<>0),B35,"") -> 2,2,5 | Q35: =IF(ISTEXT(F35),1,0) -> 0
B36: 2,2,6 | C36: 2,2,6. Décoffrage/utilisation de l'ouvrage | D36: séchage du béton | E36: ENTREPRISE GC + CR/SIG | F36: LGV-BAT124-PV226 | G36: 0.2 | H36: =IF(ISTEXT(F36),0,1) -> 0 | I36: =IF(G36<'Suivi Qualité PV'!B$4,1,0) -> 1 | J36: =IF(AND(H36=1,I36=1),1,0) -> 0 | L36: =IF(ISTEXT(F36),0,B36) -> 0 | N36: =IF(AND(J36<>0,L36<>0),B36,"") | Q36: =IF(ISTEXT(F36),1,0) -> 1
B37: 2,2,7 | C37: 2,2,7. MALT fond de fouille / structure | D37: mesure de la prise de terre | E37: ENTREPRISE GC + CR/SIG | H37: =IF(ISTEXT(F37),0,1) -> 1 | I37: =IF(G37<'Suivi Qualité PV'!B$4,1,0) -> 1 | J37: =IF(AND(H37=1,I37=1),1,0) -> 1 | L37: =IF(ISTEXT(F37),0,B37) -> 2,2,7 | N37: =IF(AND(J37<>0,L37<>0),B37,"") -> 2,2,7 | Q37: =IF(ISTEXT(F37),1,0) -> 0
H38: =IF(ISTEXT(F38),0,1) -> 1 | I38: =IF(G38<'Suivi Qualité PV'!B$4,1,0) -> 1 | J38: =IF(AND(H38=1,I38=1),1,0) -> 1 | L38: =IF(ISTEXT(F38),0,B38) -> 0 | N38: =IF(AND(J38<>0,L38<>0),B38,"") | Q38: =IF(ISTEXT(F38),1,0) -> 0
A39: 0.4 | B39: 2,3,0 | C39: Poteaux raidisseur | H39: =IF(ISTEXT(F39),0,1) -> 1 | I39: =IF(G39<'Suivi Qualité PV'!B$4,1,0) -> 1 | J39: =IF(AND(H39=1,I39=1),1,0) -> 1 | L39: =IF(ISTEXT(F39),0,B39) -> 2,3,0 | N39: =IF(AND(J39<>0,L39<>0),B39,"") -> 2,3,0 | Q39: =IF(ISTEXT(F39),1,0) -> 0
B40: 2,3,1 | C40: 2,3,1. Ferraillages | D40: contrôle des sections | E40: ENTREPRISE GC + BUREAU DE CONTROL | H40: =IF(ISTEXT(F40),0,1) -> 1 | I40: =IF(G40<'Suivi Qualité PV'!B$4,1,0) -> 1 | J40: =IF(AND(H40=1,I40=1),1,0) -> 1 | L40: =IF(ISTEXT(F40),0,B40) -> 2,3,1 | N40: =IF(AND(J40<>0,L40<>0),B40,"") -> 2,3,1 | Q40: =IF(ISTEXT(F40),1,0) -> 0
B41: 2,3,2 | C41: 2,3,2. MALT structure | D41: continuité de la boucle de terre | E41: ENTREPRISE GC + CR/SIG + BUREAU DE CONTROL | H41: =IF(ISTEXT(F41),0,1) -> 1 | I41: =IF(G41<'Suivi Qualité PV'!B$4,1,0) -> 1 | J41: =IF(AND(H41=1,I41=1),1,0) -> 1 | L41: =IF(ISTEXT(F41),0,B41) -> 2,3,2 | N41: =IF(AND(J41<>0,L41<>0),B41,"") -> 2,3,2 | Q41: =IF(ISTEXT(F41),1,0) -> 0
D42: mesure de la prise de terre | H42: =IF(ISTEXT(F42),0,1) -> 1 | I42: =IF(G42<'Suivi Qualité PV'!B$4,1,0) -> 1 | J42: =IF(AND(H42=1,I42=1),1,0) -> 1 | L42: =IF(ISTEXT(F42),0,B42) -> 0 | N42: =IF(AND(J42<>0,L42<>0),B42,"") | Q42: =IF(ISTEXT(F42),1,0) -> 0
D43: mise en œuvre des éléments de la MALT (voir remarque) | H43: =IF(ISTEXT(F43),0,1) -> 1 | I43: =IF(G43<'Suivi Qualité PV'!B$4,1,0) -> 1 | J43: =IF(AND(H43=1,I43=1),1,0) -> 1 | L43: =IF(ISTEXT(F43),0,B43) -> 0 | N43: =IF(AND(J43<>0,L43<>0),B43,"") | Q43: =IF(ISTEXT(F43),1,0) -> 0
...

Sheet Suivi Qualité PV
A3: Reference Batiment TK | B3: avancement | C3: Nombre de PV Réel | D3: Nombre de PV théorique | E3: Nb de Pv manquant | F3: Reference PV manquant
B4: 0.6 | C4: ='TK99'!Q183 -> 46 | D4: =VLOOKUP(B4,A11:B17,2) -> 60 | E4: =D4-C4 -> 14 | F4: {=IFERROR(INDEX('TK99'!$C:$C,SMALL(IF('TK99'!N9:N182<>"",ROW('TK99'!N9:N182)),ROW(A1))),"")} -> 1,0,4. MALT fond de fouille
F5: {=IFERROR(INDEX('TK99'!$C:$C,SMALL(IF('TK99'!N10:N183<>"",ROW('TK99'!N10:N183)),ROW(A2))),"")} -> STRUCTURES
F6: {=IFERROR(INDEX('TK99'!$C:$C,SMALL(IF('TK99'!N11:N184<>"",ROW('TK99'!N11:N184)),ROW(A3))),"")} -> Semelles
F7: {=IFERROR(INDEX('TK99'!$C:$C,SMALL(IF('TK99'!N12:N185<>"",ROW('TK99'!N12:N185)),ROW(A4))),"")} -> 2,1,2. Ferraillages
F8: {=IFERROR(INDEX('TK99'!$C:$C,SMALL(IF('TK99'!N13:N186<>"",ROW('TK99'!N13:N186)),ROW(A5))),"")} -> 2,1,5. Essais sur béton durci
E9: =IF('TK99'!G17>'Suivi Qualité PV'!B4,'TK99'!F17,"") | F9: {=IFERROR(INDEX('TK99'!$C:$C,SMALL(IF('TK99'!N14:N187<>"",ROW('TK99'!N14:N187)),ROW(A6))),"")} -> 2,1,7. MALT fond de fouille / structure
F10: {=IFERROR(INDEX('TK99'!$C:$C,SMALL(IF('TK99'!N15:N188<>"",ROW('TK99'!N15:N188)),ROW(A7))),"")} -> Longrines
A11: Avancement | B11: Nombre de PV Théorique | F11: {=IFERROR(INDEX('TK99'!$C:$C,SMALL(IF('TK99'!N16:N189<>"",ROW('TK99'!N16:N189)),ROW(A8))),"")} -> 2,2,5. Essais sur béton durci
A12: 0.1 | B12: 15 | F12: {=IFERROR(INDEX('TK99'!$C:$C,SMALL(IF('TK99'!N17:N190<>"",ROW('TK99'!N17:N190)),ROW(A9))),"")} -> Poteaux raidisseur
A13: 0.3 | B13: 30 | F13: {=IFERROR(INDEX('TK99'!$C:$C,SMALL(IF('TK99'!N18:N191<>"",ROW('TK99'!N18:N191)),ROW(A10))),"")} -> 2,3,1. Ferraillages
A14: 0.5 | B14: 50 | F14: {=IFERROR(INDEX('TK99'!$C:$C,SMALL(IF('TK99'!N19:N192<>"",ROW('TK99'!N19:N192)),ROW(A11))),"")} -> 2,3,3. Coffrages
A15: 0.6 | B15: 60 | F15: {=IFERROR(INDEX('TK99'!$C:$C,SMALL(IF('TK99'!N20:N193<>"",ROW('TK99'!N20:N193)),ROW(A12))),"")} -> 2,3,4. Essais sur béton frais
A16: 0.8 | B16: 75 | F16: {=IFERROR(INDEX('TK99'!$C:$C,SMALL(IF('TK99'!N21:N194<>"",ROW('TK99'!N21:N194)),ROW(A13))),"")} -> 2,3,5. Essais sur béton durci
A17: 1 | B17: 96 | F17: {=IFERROR(INDEX('TK99'!$C:$C,SMALL(IF('TK99'!N22:N195<>"",ROW('TK99'!N22:N195)),ROW(A14))),"")} -> 2,3,6. Décoffrage/utilisation de l'ouvrage
F18: {=IFERROR(INDEX('TK99'!$C:$C,SMALL(IF('TK99'!N23:N196<>"",ROW('TK99'!N23:N196)),ROW(A15))),"")} -> 2,3,7. MALT structure
F19: {=IFERROR(INDEX('TK99'!$C:$C,SMALL(IF('TK99'!N24:N197<>"",ROW('TK99'!N24:N197)),ROW(A16))),"")} -> 2,4,5. Essais sur béton durci
F20: {=IFERROR(INDEX('TK99'!$C:$C,SMALL(IF('TK99'!N25:N198<>"",ROW('TK99'!N25:N198)),ROW(A17))),"")} -> Poutres
F21: {=IFERROR(INDEX('TK99'!$C:$C,SMALL(IF('TK99'!N26:N199<>"",ROW('TK99'!N26:N199)),ROW(A18))),"")} -> 2,5,2. MALT structure
F22: {=IFERROR(INDEX('TK99'!$C:$C,SMALL(IF('TK99'!N27:N200<>"",ROW('TK99'!N27:N200)),ROW(A19))),"")} -> 2,5,3. Coffrages
F23: {=IFERROR(INDEX('TK99'!$C:$C,SMALL(IF('TK99'!N28:N201<>"",ROW('TK99'!N28:N201)),ROW(A20))),"")} -> 2,5,5. Essais sur béton durci
F24: {=IFERROR(INDEX('TK99'!$C:$C,SMALL(IF('TK99'!N29:N202<>"",ROW('TK99'!N29:N202)),ROW(A21))),"")} -> 2,5,6. Décoffrage/utilisation de l'ouvrage
F25: {=IFERROR(INDEX('TK99'!$C:$C,SMALL(IF('TK99'!N30:N203<>"",ROW('TK99'!N30:N203)),ROW(A22))),"")} -> 2,5,7. MALT structure
F26: {=IFERROR(INDEX('TK99'!$C:$C,SMALL(IF('TK99'!N31:N204<>"",ROW('TK99'!N31:N204)),ROW(A23))),"")} -> Acrotères
F27: {=IFERROR(INDEX('TK99'!$C:$C,SMALL(IF('TK99'!N32:N205<>"",ROW('TK99'!N32:N205)),ROW(A24))),"")} -> 2,6,5. Essais sur béton durci
F28: {=IFERROR(INDEX('TK99'!$C:$C,SMALL(IF('TK99'!N33:N206<>"",ROW('TK99'!N33:N206)),ROW(A25))),"")} -> 2,6,6. Decofrage/utilisation de l'ouvrage
F29: {=IFERROR(INDEX('TK99'!$C:$C,SMALL(IF('TK99'!N34:N207<>"",ROW('TK99'!N34:N207)),ROW(A26))),"")} -> DALLES
... F179: {=IFERROR(INDEX('TK99'!$C:$C,SMALL(IF('TK99'!N184:N357<>"",ROW('TK99'!N184:N357)),ROW(A176))),"")}
