Workbook

Sheet TK99
B2: PV & FC du bâtiment LGV TK 99
A4: Avancement | B4: Tache | C4: Contrôles réalisés | D4: Contrôles réalisés | E4: Entités réalisant les contrôles | F4: PV ou FC
C6: Mise a disposition plateforme 1 LGV TK 99 | F6: LGV-BAT99-MISE A DISPOSITION 1
C7: Mise a disposition plateforme 2 LGV TK 99 | F7: LGV-BAT99-MISE A DISPOSITION 2 | Q7: Calcul du nombre de PV inscrit
B8: 1 | C8: TERRASSEMENT | G8: Avancement | H8: PV manquant | I8: Contrainte avancement | J8: Indice PV | L8: Ref PV non inscrit | N8: PV manquant réel | Q8: =IF(ISTEXT(F8),1,0) -> 0
B9: 1,0,1 | C9: 1,0,1. Implantation du bâtiment | D9: écarts d'implantation | E9: ENTREPRISE GC + GEOMETRE + CR SIG | F9: LGV-BAT124-PV101 | G9: 0.1 | H9: =IF(ISTEXT(F9),0,1) -> 0 | I9: =IF(G9<'Suivi Qualité PV'!B$4,1,0) -> 1 | J9: =IF(AND(H9=1,I9=1),1,0) -> 0 | L9: =IF(ISTEXT(F9),0,B9) -> 0 | N9: =IF(AND(J9<>0,L9<>0),B9,"") | Q9: =IF(ISTEXT(F9),1,0) -> 1
B10: 1,0,2 | C10: 1,0,2. Fond de fouille | D10: contrôle des dimensions | E10: ENTREPRISE GC + LABORATOIRE SOL + BUREAU DE CONTROL | F10: LGV-BAT124-PV102 | G10: 0.1 | H10: =IF(ISTEXT(F10),0,1) -> 0 | I10: =IF(G10<'Suivi Qualité PV'!B$4,1,0) -> 1 | J10: =IF(AND(H10=1,I10=1),1,0) -> 0 | L10: =IF(ISTEXT(F10),0,B10) -> 0 | N10: =IF(AND(J10<>0,L10<>0),B10,"") | Q10: =IF(ISTEXT(F10),1,0) -> 1
D11: contrôle de la nature du sol | F11: LGV-BAT124-PV102 | G11: 0.1 | H11: =IF(ISTEXT(F11),0,1) -> 0 | I11: =IF(G11<'Suivi Qualité PV'!B$4,1,0) -> 1 | J11: =IF(AND(H11=1,I11=1),1,0) -> 0 | L11: =IF(ISTEXT(F11),0,B11) -> 0 | N11: =IF(AND(J11<>0,L11<>0),B11,"") | Q11: =IF(ISTEXT(F11),1,0) -> 1
B12: 1,0,3 | C12: 1,0,3. Compaction des sols | D12: test de compaction | E12: ENTREPRISE GC + CR/SIG + LABORATOIRE SOL | F12: LGV-BAT124-PV103 | G12: 0.1 | H12: =IF(ISTEXT(F12),0,1) -> 0 | I12: =IF(G12<'Suivi Qualité PV'!B$4,1,0) -> 1 | J12: =IF(AND(H12=1,I12=1),1,0) -> 0 | L12: =IF(ISTEXT(F12),0,B12) -> 0 | N12: =IF(AND(J12<>0,L12<>0),B12,"") | Q12: =IF(ISTEXT(F12),1,0) -> 1
B13: 1,0,4 | C13: 1,0,4. MALT fond de fouille | D13: continuité de la boucle de terre | E13: ENTREPRISE GC + CR/SIG | G13: 0.5 | H13: =IF(ISTEXT(F13),0,1) -> 1 | I13: =IF(G13<'Suivi Qualité PV'!B$4,1,0) -> 1 | J13: =IF(AND(H13=1,I13=1),1,0) -> 1 | L13: =IF(ISTEXT(F13),0,B13) -> 1,0,4 | N13: =IF(AND(J13<>0,L13<>0),B13,"") -> 1,0,4 | Q13: =IF(ISTEXT(F13),1,0) -> 0
D14: remontées du câble de fond de fouille | G14: 0.5 | H14: =IF(ISTEXT(F14),0,1) -> 1 | I14: =IF(G14<'Suivi Qualité PV'!B$4,1,0) -> 1 | J14: =IF(AND(H14=1,I14=1),1,0) -> 1 | L14: =IF(ISTEXT(F14),0,B14) -> 0 | N14: =IF(AND(J14<>0,L14<>0),B14,"") | Q14: =IF(ISTEXT(F14),1,0) -> 0
A15: 0.2 | B15: 2 | C15: STRUCTURES | H15: =IF(ISTEXT(F15),0,1) -> 1 | I15: =IF(G15<'Suivi Qualité PV'!B$4,1,0) -> 1 | J15: =IF(AND(H15=1,I15=1),1,0) -> 1 | L15: =IF(ISTEXT(F15),0,B15) -> 2 | N15: =IF(AND(J15<>0,L15<>0),B15,"") -> 2 | Q15: =IF(ISTEXT(F15),1,0) -> 0
B16: 2.1 | C16: Semelles | H16: =IF(ISTEXT(F16),0,1) -> 1 | I16: =IF(G16<'Suivi Qualité PV'!B$4,1,0) -> 1 | J16: =IF(AND(H16=1,I16=1),1,0) -> 1 | L16: =IF(ISTEXT(F16),0,B16) -> 2.1 | N16: =IF(AND(J16<>0,L16<>0),B16,"") -> 2.1 | Q16: =IF(ISTEXT(F16),1,0) -> 0
B17: 2,1,1 | C17: 2,1,1. Coffrages | D17: dimension, verticalité et linéarité | E17: ENTREPRISE GC | F17: LGV-BAT124PV211 | G17: 0.1 | H17: =IF(ISTEXT(F17),0,1) -> 0 | I17: =IF(G17<'Suivi Qualité PV'!B$4,1,0) -> 1 | J17: =IF(AND(H17=1,I17=1),1,0) -> 0 | L17: =IF(ISTEXT(F17),0,B17) -> 0 | N17: =IF(AND(J17<>0,L17<>0),B17,"") | Q17: =IF(ISTEXT(F17),1,0) -> 1
B18: 2,1,2 | C18: 2,1,2. Ferraillages | D18: contrôle des sections | E18: ENTREPRISE GC + BUREAU DE CONTROL | G18: 0.1 | H18: =IF(ISTEXT(F18),0,1) -> 1 | I18: =IF(G18<'Suivi Qualité PV'!B$4,1,0) -> 1 | J18: =IF(AND(H18=1,I18=1),1,0) -> 1 | L18: =IF(ISTEXT(F18),0,B18) -> 2,1,2 | N18: =IF(AND(J18<>0,L18<>0),B18,"") -> 2,1,2 | Q18: =IF(ISTEXT(F18),1,0) -> 0
B19: 2,1,3 | C19: 2,1,3. MALT fond de fouille / structure | D19: continuité de la boucle de terre | E19: ENTREPRISE GC + CR/SIG + BUREAU DE CONTROL | F19: LGV-BAT124PV213 | G19: 0.1 | H19: =IF(ISTEXT(F19),0,1) -> 0 | I19: =IF(G19<'Suivi Qualité PV'!B$4,1,0) -> 1 | J19: =IF(AND(H19=1,I19=1),1,0) -> 0 | L19: =IF(ISTEXT(F19),0,B19) -> 0 | N19: =IF(AND(J19<>0,L19<>0),B19,"") | Q19: =IF(ISTEXT(F19),1,0) -> 1
D20: mesure de la prise de terre | F20: LGV-BAT124PV213 | G20: 0.1 | H20: =IF(ISTEXT(F20),0,1) -> 0 | I20: =IF(G20<'Suivi Qualité PV'!B$4,1,0) -> 1 | J20: =IF(AND(H20=1,I20=1),1,0) -> 0 | L20: =IF(ISTEXT(F20),0,B20) -> 0 | N20: =IF(AND(J20<>0,L20<>0),B20,"") | Q20: =IF(ISTEXT(F20),1,0) -> 1
D21: mise en œuvre des éléments de la MALT (voir remarque) | F21: LGV-BAT124PV213 | G21: 0.1 | H21: =IF(ISTEXT(F21),0,1) -> 0 | I21: =IF(G21<'Suivi Qualité PV'!B$4,1,0) -> 1 | J21: =IF(AND(H21=1,I21=1),1,0) -> 0 | L21: =IF(ISTEXT(F21),0,B21) -> 0 | N21: =IF(AND(J21<>0,L21<>0),B21,"") | Q21: =IF(ISTEXT(F21),1,0) -> 1
B22: 2,1,4 | C22: 2,1,4. Essais sur béton frais | D22: essai d'affaissement | E22: ENTREPRISE GC + LABORATOIRE SOL | F22: LGV-BAT124-PV214 | G22: 0.1 | H22: =IF(ISTEXT(F22),0,1) -> 0 | I22: =IF(G22<'Suivi Qualité PV'!B$4,1,0) -> 1 | J22: =IF(AND(H22=1,I22=1),1,0) -> 0 | L22: =IF(ISTEXT(F22),0,B22) -> 0 | N22: =IF(AND(J22<>0,L22<>0),B22,"") | Q22: =IF(ISTEXT(F22),1,0) -> 1
B23: 2,1,5 | C23: 2,1,5. Essais sur béton durci | D23: essai de résistances mécaniques | E23: ENTREPRISE GC + LABORATOIRE SOL | G23: 0.5 | H23: =IF(ISTEXT(F23),0,1) -> 1 | I23: =IF(G23<'Suivi Qualité PV'!B$4,1,0) -> 1 | J23: =IF(AND(H23=1,I23=1),1,0) -> 1 | L23: =IF(ISTEXT(F23),0,B23) -> 2,1,5 | N23: =IF(AND(J23<>0,L23<>0),B23,"") -> 2,1,5 | Q23: =IF(ISTEXT(F23),1,0) -> 0
B24: 2,1,6 | C24: 2,1,6. Décoffrage/utilisation de l'ouvrage | D24: séchage du béton | E24: ENTREPRISE GC + CR/SIG | G24: 0.5 | H24: =IF(ISTEXT(F24),0,1) -> 1 | I24: =IF(G24<'Suivi Qualité PV'!B$4,1,0) -> 1 | J24: =IF(AND(H24=1,I24=1),1,0) -> 1 | L24: =IF(ISTEXT(F24),0,B24) -> 2,1,6 | N24: =IF(AND(J24<>0,L24<>0),B24,"") -> 2,1,6 | Q24: =IF(ISTEXT(F24),1,0) -> 0
B25: 2,1,7 | C25: 2,1,7. MALT fond de fouille / structure | D25: mesure de la prise de terre | E25: ENTREPRISE GC + CR/SIG | G25: 0.5 | H25: =IF(ISTEXT(F25),0,1) -> 1 | I25: =IF(G25<'Suivi Qualité PV'!B$4,1,0) -> 1 | J25: =IF(AND(H25=1,I25=1),1,0) -> 1 | L25: =IF(ISTEXT(F25),0,B25) -> 2,1,7 | N25: =IF(AND(J25<>0,L25<>0),B25,"") -> 2,1,7 | Q25: =IF(ISTEXT(F25),1,0) -> 0
H26: =IF(ISTEXT(F26),0,1) -> 1 | I26: =IF(G26<'Suivi Qualité PV'!B$4,1,0) -> 1 | J26: =IF(AND(H26=1,I26=1),1,0) -> 1 | L26: =IF(ISTEXT(F26),0,B26) -> 0 | N26: =IF(AND(J26<>0,L26<>0),B26,"") | Q26: =IF(ISTEXT(F26),1,0) -> 0
A27: 0.3 | B27: 2.2 | C27: Longrines | H27: =IF(ISTEXT(F27),0,1) -> 1 | I27: =IF(G27<'Suivi Qualité PV'!B$4,1,0) -> 1 | J27: =IF(AND(H27=1,I27=1),1,0) -> 1 | L27: =IF(ISTEXT(F27),0,B27) -> 2.2 | N27: =IF(AND(J27<>0,L27<>0),B27,"") -> 2.2 | Q27: =IF(ISTEXT(F27),1,0) -> 0
C28: Longrines | H28: =IF(ISTEXT(F28),0,1) -> 1 | I28: =IF(G28<'Suivi Qualité PV'!B$4,1,0) -> 1 | J28: =IF(AND(H28=1,I28=1),1,0) -> 1 | L28: =IF(ISTEXT(F28),0,B28) -> 0 | N28: =IF(AND(J28<>0,L28<>0),B28,"") | Q28: =IF(ISTEXT(F28),1,0) -> 0
B29: 2,2,1 | C29: 2,2,1. Ferraillages | D29: contrôle des sections | E29: ENTREPRISE GC + BUREAU DE CONTROL | F29: LGV-BAT124-PV221 | G29: 0.2 | H29: =IF(ISTEXT(F29),0,1) -> 0 | I29: =IF(G29<'Suivi Qualité PV'!B$4,1,0) -> 1 | J29: =IF(AND(H29=1,I29=1),1,0) -> 0 | L29: =IF(ISTEXT(F29),0,B29) -> 0 | N29: =IF(AND(J29<>0,L29<>0),B29,"") | Q29: =IF(ISTEXT(F29),1,0) -> 1
B30: 2,2,2 | C30: 2,2,2. MALT fond de fouille / structure | D30: continuité de la boucle de terre | E30: ENTREPRISE GC + CR/SIG + BUREAU DE CONTROL | F30: LGV-BAT124-PV222 | G30: 0.2 | H30: =IF(ISTEXT(F30),0,1) -> 0 | I30: =IF(G30<'Suivi Qualité PV'!B$4,1,0) -> 1 | J30: =IF(AND(H30=1,I30=1),1,0) -> 0 | L30: =IF(ISTEXT(F30),0,B30) -> 0 | N30: =IF(AND(J30<>0,L30<>0),B30,"") | Q30: =IF(ISTEXT(F30),1,0) -> 1
D31: mesure de la prise de terre | F31: LGV-BAT124-PV222 | G31: 0.2 | H31: =IF(ISTEXT(F31),0,1) -> 0 | I31: =IF(G31<'Suivi Qualité PV'!B$4,1,0) -> 1 | J31: =IF(AND(H31=1,I31=1),1,0) -> 0 | L31: =IF(ISTEXT(F31),0,B31) -> 0 | N31: =IF(AND(J31<>0,L31<>0),B31,"") | Q31: =IF(ISTEXT(F31),1,0) -> 1
D32: mise en œuvre des éléments de la MALT (voir remarque) | F32: LGV-BAT124-PV222 | G32: 0.2 | H32: =IF(ISTEXT(F32),0,1) -> 0 | I32: =IF(G32<'Suivi Qualité PV'!B$4,1,0) -> 1 | J32: =IF(AND(H32=1,I32=1),1,0) -> 0 | L32: =IF(ISTEXT(F32),0,B32) -> 0 | N32: =IF(AND(J32<>0,L32<>0),B32,"") | Q32: =IF(ISTEXT(F32),1,0) -> 1
B33: 2,2,3 | C33: 2,2,3. Coffrages | D33: dimension, verticalité et linéarité | E33: ENTREPRISE GC | G33: 0.2 | H33: =IF(ISTEXT(F33),0,1) -> 1 | I33: =IF(G33<'Suivi Qualité PV'!B$4,1,0) -> 1 | J33: =IF(AND(H33=1,I33=1),1,0) -> 1 | L33: =IF(ISTEXT(F33),0,B33) -> 2,2,3 | N33: =IF(AND(J33<>0,L33<>0),B33,"") -> 2,2,3 | Q33: =IF(ISTEXT(F33),1,0) -> 0
B34: 2,2,4 | C34: 2,2,4. Essais sur béton frais | D34: essai d'affaissement | E34: ENTREPRISE GC + LABORATOIRE SOL | F34: LGV-BAT124-PV224 | G34: 0.2 | H34: =IF(ISTEXT(F34),0,1) -> 0 | I34: =IF(G34<'Suivi Qualité PV'!B$4,1,0) -> 1 | J34: =IF(AND(H34=1,I34=1),1,0) -> 0 | L34: =IF(ISTEXT(F34),0,B34) -> 0 | N34: =IF(AND(J34<>0,L34<>0),B34,"") | Q34: =IF(ISTEXT(F34),1,0) -> 1
B35: 2,2,5 | C35: 2,2,5. Essais sur béton durci | D35: essai de résistances mécaniques | E35: ENTREPRISE GC + LABORATOIRE SOL | G35: 0.2 | H35: =IF(ISTEXT(F35),0,1) -> 1 | I35: =IF(G35<'Suivi Qualité PV'!B$4,1,0) -> 1 | J35: =IF(AND(H35=1,I35=1),1,0) -> 1 | L35: =IF(ISTEXT(F35),0,B35) -> 2,2,5 | N35: =IF(AND(J35<>0,L35<>0),B35,"") -> 2,2,5 | Q35: =IF(ISTEXT(F35),1,0) -> 0
B36: 2,2,6 | C36: 2,2,6. Décoffrage/utilisation de l'ouvrage | D36: séchage du béton | E36: ENTREPRISE GC + CR/SIG | F36: LGV-BAT124-PV226 | G36: 0.2 | H36: =IF(ISTEXT(F36),0,1) -> 0 | I36: =IF(G36<'Suivi Qualité PV'!B$4,1,0) -> 1 | J36: =IF(AND(H36=1,I36=1),1,0) -> 0 | L36: =IF(ISTEXT(F36),0,B36) -> 0 | N36: =IF(AND(J36<>0,L36<>0),B36,"") | Q36: =IF(ISTEXT(F36),1,0) -> 1
B37: 2,2,7 | C37: 2,2,7. MALT fond de fouille / structure | D37: mesure de la prise de terre | E37: ENTREPRISE GC + CR/SIG | H37: =IF(ISTEXT(F37),0,1) -> 1 | I37: =IF(G37<'Suivi Qualité PV'!B$4,1,0) -> 1 | J37: =IF(AND(H37=1,I37=1),1,0) -> 1 | L37: =IF(ISTEXT(F37),0,B37) -> 2,2,7 | N37: =IF(AND(J37<>0,L37<>0),B37,"") -> 2,2,7 | Q37: =IF(ISTEXT(F37),1,0) -> 0
H38: =IF(ISTEXT(F38),0,1) -> 1 | I38: =IF(G38<'Suivi Qualité PV'!B$4,1,0) -> 1 | J38: =IF(AND(H38=1,I38=1),1,0) -> 1 | L38: =IF(ISTEXT(F38),0,B38) -> 0 | N38: =IF(AND(J38<>0,L38<>0),B38,"") | Q38: =IF(ISTEXT(F38),1,0) -> 0
A39: 0.4 | B39: 2,3,0 | C39: Poteaux raidisseur | H39: =IF(ISTEXT(F39),0,1) -> 1 | I39: =IF(G39<'Suivi Qualité PV'!B$4,1,0) -> 1 | J39: =IF(AND(H39=1,I39=1),1,0) -> 1 | L39: =IF(ISTEXT(F39),0,B39) -> 2,3,0 | N39: =IF(AND(J39<>0,L39<>0),B39,"") -> 2,3,0 | Q39: =IF(ISTEXT(F39),1,0) -> 0
B40: 2,3,1 | C40: 2,3,1. Ferraillages | D40: contrôle des sections | E40: ENTREPRISE GC + BUREAU DE CONTROL | H40: =IF(ISTEXT(F40),0,1) -> 1 | I40: =IF(G40<'Suivi Qualité PV'!B$4,1,0) -> 1 | J40: =IF(AND(H40=1,I40=1),1,0) -> 1 | L40: =IF(ISTEXT(F40),0,B40) -> 2,3,1 | N40: =IF(AND(J40<>0,L40<>0),B40,"") -> 2,3,1 | Q40: =IF(ISTEXT(F40),1,0) -> 0
B41: 2,3,2 | C41: 2,3,2. MALT structure | D41: continuité de la boucle de terre | E41: ENTREPRISE GC + CR/SIG + BUREAU DE CONTROL | H41: =IF(ISTEXT(F41),0,1) -> 1 | I41: =IF(G41<'Suivi Qualité PV'!B$4,1,0) -> 1 | J41: =IF(AND(H41=1,I41=1),1,0) -> 1 | L41: =IF(ISTEXT(F41),0,B41) -> 2,3,2 | N41: =IF(AND(J41<>0,L41<>0),B41,"") -> 2,3,2 | Q41: =IF(ISTEXT(F41),1,0) -> 0
D42: mesure de la prise de terre | H42: =IF(ISTEXT(F42),0,1) -> 1 | I42: =IF(G42<'Suivi Qualité PV'!B$4,1,0) -> 1 | J42: =IF(AND(H42=1,I42=1),1,0) -> 1 | L42: =IF(ISTEXT(F42),0,B42) -> 0 | N42: =IF(AND(J42<>0,L42<>0),B42,"") | Q42: =IF(ISTEXT(F42),1,0) -> 0
D43: mise en œuvre des éléments de la MALT (voir remarque) | H43: =IF(ISTEXT(F43),0,1) -> 1 | I43: =IF(G43<'Suivi Qualité PV'!B$4,1,0) -> 1 | J43: =IF(AND(H43=1,I43=1),1,0) -> 1 | L43: =IF(ISTEXT(F43),0,B43) -> 0 | N43: =IF(AND(J43<>0,L43<>0),B43,"") | Q43: =IF(ISTEXT(F43),1,0) -> 0
B44: 2,3,3 | C44: 2,3,3. Coffrages | D44: dimension, verticalité et linéarité | E44: ENTREPRISE GC | H44: =IF(ISTEXT(F44),0,1) -> 1 | I44: =IF(G44<'Suivi Qualité PV'!B$4,1,0) -> 1 | J44: =IF(AND(H44=1,I44=1),1,0) -> 1 | L44: =IF(ISTEXT(F44),0,B44) -> 2,3,3 | N44: =IF(AND(J44<>0,L44<>0),B44,"") -> 2,3,3 | Q44: =IF(ISTEXT(F44),1,0) -> 0
B45: 2,3,4 | C45: 2,3,4. Essais sur béton frais | D45: essai d'affaissement | E45: ENTREPRISE GC + LABORATOIRE SOL | H45: =IF(ISTEXT(F45),0,1) -> 1 | I45: =IF(G45<'Suivi Qualité PV'!B$4,1,0) -> 1 | J45: =IF(AND(H45=1,I45=1),1,0) -> 1 | L45: =IF(ISTEXT(F45),0,B45) -> 2,3,4 | N45: =IF(AND(J45<>0,L45<>0),B45,"") -> 2,3,4 | Q45: =IF(ISTEXT(F45),1,0) -> 0
B46: 2,3,5 | C46: 2,3,5. Essais sur béton durci | D46: essai de résistances mécaniques | E46: ENTREPRISE GC + LABORATOIRE SOL | H46: =IF(ISTEXT(F46),0,1) -> 1 | I46: =IF(G46<'Suivi Qualité PV'!B$4,1,0) -> 1 | J46: =IF(AND(H46=1,I46=1),1,0) -> 1 | L46: =IF(ISTEXT(F46),0,B46) -> 2,3,5 | N46: =IF(AND(J46<>0,L46<>0),B46,"") -> 2,3,5 | Q46: =IF(ISTEXT(F46),1,0) -> 0
B47: 2,3,6 | C47: 2,3,6. Décoffrage/utilisation de l'ouvrage | D47: séchage du béton | E47: ENTREPRISE GC + CR/SIG | H47: =IF(ISTEXT(F47),0,1) -> 1 | I47: =IF(G47<'Suivi Qualité PV'!B$4,1,0) -> 1 | J47: =IF(AND(H47=1,I47=1),1,0) -> 1 | L47: =IF(ISTEXT(F47),0,B47) -> 2,3,6 | N47: =IF(AND(J47<>0,L47<>0),B47,"") -> 2,3,6 | Q47: =IF(ISTEXT(F47),1,0) -> 0
B48: 2,3,7 | C48: 2,3,7. MALT structure | D48: mesure de la prise de terre | E48: ENTREPRISE GC + CR/SIG | H48: =IF(ISTEXT(F48),0,1) -> 1 | I48: =IF(G48<'Suivi Qualité PV'!B$4,1,0) -> 1 | J48: =IF(AND(H48=1,I48=1),1,0) -> 1 | L48: =IF(ISTEXT(F48),0,B48) -> 2,3,7 | N48: =IF(AND(J48<>0,L48<>0),B48,"") -> 2,3,7 | Q48: =IF(ISTEXT(F48),1,0) -> 0
H49: =IF(ISTEXT(F49),0,1) -> 1 | I49: =IF(G49<'Suivi Qualité PV'!B$4,1,0) -> 1 | J49: =IF(AND(H49=1,I49=1),1,0) -> 1 | L49: =IF(ISTEXT(F49),0,B49) -> 0 | N49: =IF(AND(J49<>0,L49<>0),B49,"") | Q49: =IF(ISTEXT(F49),1,0) -> 0
A50: 0.5 | B50: 2,4,0 | C50: Chainages et linteaux | H50: =IF(ISTEXT(F50),0,1) -> 1 | I50: =IF(G50<'Suivi Qualité PV'!B$4,1,0) -> 1 | J50: =IF(AND(H50=1,I50=1),1,0) -> 1 | L50: =IF(ISTEXT(F50),0,B50) -> 2,4,0 | N50: =IF(AND(J50<>0,L50<>0),B50,"") -> 2,4,0 | Q50: =IF(ISTEXT(F50),1,0) -> 0
B51: 2,4,1 | C51: 2,4,1. Ferraillages | D51: contrôle des sections | E51: ENTREPRISE GC + BUREAU DE CONTROL | F51: LGV-BAT124PV241 | G51: 0.2 | H51: =IF(ISTEXT(F51),0,1) -> 0 | I51: =IF(G51<'Suivi Qualité PV'!B$4,1,0) -> 1 | J51: =IF(AND(H51=1,I51=1),1,0) -> 0 | L51: =IF(ISTEXT(F51),0,B51) -> 0 | N51: =IF(AND(J51<>0,L51<>0),B51,"") | Q51: =IF(ISTEXT(F51),1,0) -> 1
B52: 2,4,2 | C52: 2,4,2. MALT structure | D52: continuité de la boucle de terre | E52: ENTREPRISE GC + CR/SIG + BUREAU DE CONTROL | F52: LGV-BAT124PV242 | G52: 0.2 | H52: =IF(ISTEXT(F52),0,1) -> 0 | I52: =IF(G52<'Suivi Qualité PV'!B$4,1,0) -> 1 | J52: =IF(AND(H52=1,I52=1),1,0) -> 0 | L52: =IF(ISTEXT(F52),0,B52) -> 0 | N52: =IF(AND(J52<>0,L52<>0),B52,"") | Q52: =IF(ISTEXT(F52),1,0) -> 1
D53: mesure de la prise de terre | F53: LGV-BAT124PV242 | G53: 0.2 | H53: =IF(ISTEXT(F53),0,1) -> 0 | I53: =IF(G53<'Suivi Qualité PV'!B$4,1,0) -> 1 | J53: =IF(AND(H53=1,I53=1),1,0) -> 0 | L53: =IF(ISTEXT(F53),0,B53) -> 0 | N53: =IF(AND(J53<>0,L53<>0),B53,"") | Q53: =IF(ISTEXT(F53),1,0) -> 1
D54: mise en œuvre des éléments de la MALT (voir remarque) | F54: LGV-BAT124PV242 | G54: 0.2 | H54: =IF(ISTEXT(F54),0,1) -> 0 | I54: =IF(G54<'Suivi Qualité PV'!B$4,1,0) -> 1 | J54: =IF(AND(H54=1,I54=1),1,0) -> 0 | L54: =IF(ISTEXT(F54),0,B54) -> 0 | N54: =IF(AND(J54<>0,L54<>0),B54,"") | Q54: =IF(ISTEXT(F54),1,0) -> 1
B55: 2,4,3 | C55: 2,4,3. Coffrages | D55: dimension, verticalité et linéarité | E55: ENTREPRISE GC | F55: LGV-BAT124PV243 | G55: 0.2 | H55: =IF(ISTEXT(F55),0,1) -> 0 | I55: =IF(G55<'Suivi Qualité PV'!B$4,1,0) -> 1 | J55: =IF(AND(H55=1,I55=1),1,0) -> 0 | L55: =IF(ISTEXT(F55),0,B55) -> 0 | N55: =IF(AND(J55<>0,L55<>0),B55,"") | Q55: =IF(ISTEXT(F55),1,0) -> 1
B56: 2,4,4 | C56: 2,4,4. Essais sur béton frais | D56: essai d'affaissement | E56: ENTREPRISE GC + LABORATOIRE SOL | F56: LGV-BAT124PV244 | G56: 0.2 | H56: =IF(ISTEXT(F56),0,1) -> 0 | I56: =IF(G56<'Suivi Qualité PV'!B$4,1,0) -> 1 | J56: =IF(AND(H56=1,I56=1),1,0) -> 0 | L56: =IF(ISTEXT(F56),0,B56) -> 0 | N56: =IF(AND(J56<>0,L56<>0),B56,"") | Q56: =IF(ISTEXT(F56),1,0) -> 1
B57: 2,4,5 | C57: 2,4,5. Essais sur béton durci | D57: essai de résistances mécaniques | E57: ENTREPRISE GC + LABORATOIRE SOL | G57: 0.4 | H57: =IF(ISTEXT(F57),0,1) -> 1 | I57: =IF(G57<'Suivi Qualité PV'!B$4,1,0) -> 1 | J57: =IF(AND(H57=1,I57=1),1,0) -> 1 | L57: =IF(ISTEXT(F57),0,B57) -> 2,4,5 | N57: =IF(AND(J57<>0,L57<>0),B57,"") -> 2,4,5 | Q57: =IF(ISTEXT(F57),1,0) -> 0
B58: 2,4,6 | C58: 2,4,6. Décoffrage/utilisation de l'ouvrage | D58: séchage du béton | E58: ENTREPRISE GC + CR/SIG | F58: LGV-BAT124PV246 | G58: 0.4 | H58: =IF(ISTEXT(F58),0,1) -> 0 | I58: =IF(G58<'Suivi Qualité PV'!B$4,1,0) -> 1 | J58: =IF(AND(H58=1,I58=1),1,0) -> 0 | L58: =IF(ISTEXT(F58),0,B58) -> 0 | N58: =IF(AND(J58<>0,L58<>0),B58,"") | Q58: =IF(ISTEXT(F58),1,0) -> 1
B59: 2,4,7 | C59: 2,4,7. MALT structure | D59: mesure de la prise de terre | E59: ENTREPRISE GC + CR/SIG | G59: 0.4 | H59: =IF(ISTEXT(F59),0,1) -> 1 | I59: =IF(G59<'Suivi Qualité PV'!B$4,1,0) -> 1 | J59: =IF(AND(H59=1,I59=1),1,0) -> 1 | L59: =IF(ISTEXT(F59),0,B59) -> 2,4,7 | N59: =IF(AND(J59<>0,L59<>0),B59,"") -> 2,4,7 | Q59: =IF(ISTEXT(F59),1,0) -> 0
H60: =IF(ISTEXT(F60),0,1) -> 1 | I60: =IF(G60<'Suivi Qualité PV'!B$4,1,0) -> 1 | J60: =IF(AND(H60=1,I60=1),1,0) -> 1 | L60: =IF(ISTEXT(F60),0,B60) -> 0 | N60: =IF(AND(J60<>0,L60<>0),B60,"") | Q60: =IF(ISTEXT(F60),1,0) -> 0
A61: 0.6 | B61: 2,5,0 | C61: Poutres | H61: =IF(ISTEXT(F61),0,1) -> 1 | I61: =IF(G61<'Suivi Qualité PV'!B$4,1,0) -> 1 | J61: =IF(AND(H61=1,I61=1),1,0) -> 1 | L61: =IF(ISTEXT(F61),0,B61) -> 2,5,0 | N61: =IF(AND(J61<>0,L61<>0),B61,"") -> 2,5,0 | Q61: =IF(ISTEXT(F61),1,0) -> 0
B62: 2,5,1 | C62: 2,5,1. Ferraillages | D62: contrôle des sections | E62: ENTREPRISE GC + BUREAU DE CONTROL | G62: 0.5 | H62: =IF(ISTEXT(F62),0,1) -> 1 | I62: =IF(G62<'Suivi Qualité PV'!B$4,1,0) -> 1 | J62: =IF(AND(H62=1,I62=1),1,0) -> 1 | L62: =IF(ISTEXT(F62),0,B62) -> 2,5,1 | N62: =IF(AND(J62<>0,L62<>0),B62,"") -> 2,5,1 | Q62: =IF(ISTEXT(F62),1,0) -> 0
B63: 2,5,2 | C63: 2,5,2. MALT structure | D63: continuité de la boucle de terre | E63: ENTREPRISE GC + CR/SIG + BUREAU DE CONTROL | G63: 0.5 | H63: =IF(ISTEXT(F63),0,1) -> 1 | I63: =IF(G63<'Suivi Qualité PV'!B$4,1,0) -> 1 | J63: =IF(AND(H63=1,I63=1),1,0) -> 1 | L63: =IF(ISTEXT(F63),0,B63) -> 2,5,2 | N63: =IF(AND(J63<>0,L63<>0),B63,"") -> 2,5,2 | Q63: =IF(ISTEXT(F63),1,0) -> 0
D64: mesure de la prise de terre | G64: 0.5 | H64: =IF(ISTEXT(F64),0,1) -> 1 | I64: =IF(G64<'Suivi Qualité PV'!B$4,1,0) -> 1 | J64: =IF(AND(H64=1,I64=1),1,0) -> 1 | L64: =IF(ISTEXT(F64),0,B64) -> 0 | N64: =IF(AND(J64<>0,L64<>0),B64,"") | Q64: =IF(ISTEXT(F64),1,0) -> 0
D65: mise en œuvre des éléments de la MALT (voir remarque) | G65: 0.5 | H65: =IF(ISTEXT(F65),0,1) -> 1 | I65: =IF(G65<'Suivi Qualité PV'!B$4,1,0) -> 1 | J65: =IF(AND(H65=1,I65=1),1,0) -> 1 | L65: =IF(ISTEXT(F65),0,B65) -> 0 | N65: =IF(AND(J65<>0,L65<>0),B65,"") | Q65: =IF(ISTEXT(F65),1,0) -> 0
B66: 2,5,3 | C66: 2,5,3. Coffrages | D66: dimension, verticalité et linéarité | E66: ENTREPRISE GC | G66: 0.5 | H66: =IF(ISTEXT(F66),0,1) -> 1 | I66: =IF(G66<'Suivi Qualité PV'!B$4,1,0) -> 1 | J66: =IF(AND(H66=1,I66=1),1,0) -> 1 | L66: =IF(ISTEXT(F66),0,B66) -> 2,5,3 | N66: =IF(AND(J66<>0,L66<>0),B66,"") -> 2,5,3 | Q66: =IF(ISTEXT(F66),1,0) -> 0
B67: 2,5,4 | C67: 2,5,4. Essais sur béton frais | D67: essai d'affaissement | E67: ENTREPRISE GC + LABORATOIRE SOL | G67: 0.5 | H67: =IF(ISTEXT(F67),0,1) -> 1 | I67: =IF(G67<'Suivi Qualité PV'!B$4,1,0) -> 1 | J67: =IF(AND(H67=1,I67=1),1,0) -> 1 | L67: =IF(ISTEXT(F67),0,B67) -> 2,5,4 | N67: =IF(AND(J67<>0,L67<>0),B67,"") -> 2,5,4 | Q67: =IF(ISTEXT(F67),1,0) -> 0
B68: 2,5,5 | C68: 2,5,5. Essais sur béton durci | D68: essai de résistances mécaniques | E68: ENTREPRISE GC + LABORATOIRE SOL | G68: 0.5 | H68: =IF(ISTEXT(F68),0,1) -> 1 | I68: =IF(G68<'Suivi Qualité PV'!B$4,1,0) -> 1 | J68: =IF(AND(H68=1,I68=1),1,0) -> 1 | L68: =IF(ISTEXT(F68),0,B68) -> 2,5,5 | N68: =IF(AND(J68<>0,L68<>0),B68,"") -> 2,5,5 | Q68: =IF(ISTEXT(F68),1,0) -> 0
B69: 2,5,6 | C69: 2,5,6. Décoffrage/utilisation de l'ouvrage | D69: séchage du béton | E69: ENTREPRISE GC + CR/SIG | G69: 0.5 | H69: =IF(ISTEXT(F69),0,1) -> 1 | I69: =IF(G69<'Suivi Qualité PV'!B$4,1,0) -> 1 | J69: =IF(AND(H69=1,I69=1),1,0) -> 1 | L69: =IF(ISTEXT(F69),0,B69) -> 2,5,6 | N69: =IF(AND(J69<>0,L69<>0),B69,"") -> 2,5,6 | Q69: =IF(ISTEXT(F69),1,0) -> 0
B70: 2,5,7 | C70: 2,5,7. MALT structure | D70: mesure de la prise de terre | E70: ENTREPRISE GC + CR/SIG | G70: 0.5 | H70: =IF(ISTEXT(F70),0,1) -> 1 | I70: =IF(G70<'Suivi Qualité PV'!B$4,1,0) -> 1 | J70: =IF(AND(H70=1,I70=1),1,0) -> 1 | L70: =IF(ISTEXT(F70),0,B70) -> 2,5,7 | N70: =IF(AND(J70<>0,L70<>0),B70,"") -> 2,5,7 | Q70: =IF(ISTEXT(F70),1,0) -> 0
H71: =IF(ISTEXT(F71),0,1) -> 1 | I71: =IF(G71<'Suivi Qualité PV'!B$4,1,0) -> 1 | J71: =IF(AND(H71=1,I71=1),1,0) -> 1 | L71: =IF(ISTEXT(F71),0,B71) -> 0 | N71: =IF(AND(J71<>0,L71<>0),B71,"") | Q71: =IF(ISTEXT(F71),1,0) -> 0
B72: 2,6,0 | C72: Acrotères | H72: =IF(ISTEXT(F72),0,1) -> 1 | I72: =IF(G72<'Suivi Qualité PV'!B$4,1,0) -> 1 | J72: =IF(AND(H72=1,I72=1),1,0) -> 1 | L72: =IF(ISTEXT(F72),0,B72) -> 2,6,0 | N72: =IF(AND(J72<>0,L72<>0),B72,"") -> 2,6,0 | Q72: =IF(ISTEXT(F72),1,0) -> 0
B73: 2,6,1 | C73: 2,6,1. Ferraillages | D73: contrôle des sections | E73: ENTREPRISE GC + BUREAU DE CONTROL | F73: LGV-BAT124-PV261 | G73: 0.3 | H73: =IF(ISTEXT(F73),0,1) -> 0 | I73: =IF(G73<'Suivi Qualité PV'!B$4,1,0) -> 1 | J73: =IF(AND(H73=1,I73=1),1,0) -> 0 | L73: =IF(ISTEXT(F73),0,B73) -> 0 | N73: =IF(AND(J73<>0,L73<>0),B73,"") | Q73: =IF(ISTEXT(F73),1,0) -> 1
B74: 2,6,2 | C74: 2,6,2. MALT structure | D74: continuité de la boucle de terre | E74: ENTREPRISE GC + CR/SIG + BUREAU DE CONTROL | F74: LGV-BAT124-PV262 | G74: 0.3 | H74: =IF(ISTEXT(F74),0,1) -> 0 | I74: =IF(G74<'Suivi Qualité PV'!B$4,1,0) -> 1 | J74: =IF(AND(H74=1,I74=1),1,0) -> 0 | L74: =IF(ISTEXT(F74),0,B74) -> 0 | N74: =IF(AND(J74<>0,L74<>0),B74,"") | Q74: =IF(ISTEXT(F74),1,0) -> 1
D75: mesure de la prise de terre | F75: LGV-BAT124-PV262 | G75: 0.3 | H75: =IF(ISTEXT(F75),0,1) -> 0 | I75: =IF(G75<'Suivi Qualité PV'!B$4,1,0) -> 1 | J75: =IF(AND(H75=1,I75=1),1,0) -> 0 | L75: =IF(ISTEXT(F75),0,B75) -> 0 | N75: =IF(AND(J75<>0,L75<>0),B75,"") | Q75: =IF(ISTEXT(F75),1,0) -> 1
D76: mise en œuvre des éléments de la MALT (voir remarque) | F76: LGV-BAT124-PV262 | G76: 0.3 | H76: =IF(ISTEXT(F76),0,1) -> 0 | I76: =IF(G76<'Suivi Qualité PV'!B$4,1,0) -> 1 | J76: =IF(AND(H76=1,I76=1),1,0) -> 0 | L76: =IF(ISTEXT(F76),0,B76) -> 0 | N76: =IF(AND(J76<>0,L76<>0),B76,"") | Q76: =IF(ISTEXT(F76),1,0) -> 1
B77: 2,6,3 | C77: 2,6,3. Coffrages | D77: dimention, verticalité et linéarité | E77: ENTREPRISE GC | F77: LGV-BAT124-PV263 | G77: 0.3 | H77: =IF(ISTEXT(F77),0,1) -> 0 | I77: =IF(G77<'Suivi Qualité PV'!B$4,1,0) -> 1 | J77: =IF(AND(H77=1,I77=1),1,0) -> 0 | L77: =IF(ISTEXT(F77),0,B77) -> 0 | N77: =IF(AND(J77<>0,L77<>0),B77,"") | Q77: =IF(ISTEXT(F77),1,0) -> 1
B78: 2,6,4 | C78: 2,6,4. Essais sur béton frais | D78: essai d'affaissement | E78: ENTREPRISE GC + LABORATOIRE SOL | F78: LGV-BAT124-PV264 | G78: 0.3 | H78: =IF(ISTEXT(F78),0,1) -> 0 | I78: =IF(G78<'Suivi Qualité PV'!B$4,1,0) -> 1 | J78: =IF(AND(H78=1,I78=1),1,0) -> 0 | L78: =IF(ISTEXT(F78),0,B78) -> 0 | N78: =IF(AND(J78<>0,L78<>0),B78,"") | Q78: =IF(ISTEXT(F78),1,0) -> 1
B79: 2,6,5 | C79: 2,6,5. Essais sur béton durci | D79: essai de résistances mécaniques | E79: ENTREPRISE GC + LABORATOIRE SOL | G79: 0.5 | H79: =IF(ISTEXT(F79),0,1) -> 1 | I79: =IF(G79<'Suivi Qualité PV'!B$4,1,0) -> 1 | J79: =IF(AND(H79=1,I79=1),1,0) -> 1 | L79: =IF(ISTEXT(F79),0,B79) -> 2,6,5 | N79: =IF(AND(J79<>0,L79<>0),B79,"") -> 2,6,5 | Q79: =IF(ISTEXT(F79),1,0) -> 0
B80: 2,6,6 | C80: 2,6,6. Decofrage/utilisation de l'ouvrage | D80: séchage du béton | E80: ENTREPRISE GC + CR/SIG | G80: 0.5 | H80: =IF(ISTEXT(F80),0,1) -> 1 | I80: =IF(G80<'Suivi Qualité PV'!B$4,1,0) -> 1 | J80: =IF(AND(H80=1,I80=1),1,0) -> 1 | L80: =IF(ISTEXT(F80),0,B80) -> 2,6,6 | N80: =IF(AND(J80<>0,L80<>0),B80,"") -> 2,6,6 | Q80: =IF(ISTEXT(F80),1,0) -> 0
B81: 2,6,7 | C81: 2,6,7. MALT structure | D81: mesure de la prise de terre | E81: ENTREPRISE GC + CR/SIG | G81: 0.5 | H81: =IF(ISTEXT(F81),0,1) -> 1 | I81: =IF(G81<'Suivi Qualité PV'!B$4,1,0) -> 1 | J81: =IF(AND(H81=1,I81=1),1,0) -> 1 | L81: =IF(ISTEXT(F81),0,B81) -> 2,6,7 | N81: =IF(AND(J81<>0,L81<>0),B81,"") -> 2,6,7 | Q81: =IF(ISTEXT(F81),1,0) -> 0
H82: =IF(ISTEXT(F82),0,1) -> 1 | I82: =IF(G82<'Suivi Qualité PV'!B$4,1,0) -> 1 | J82: =IF(AND(H82=1,I82=1),1,0) -> 1 | L82: =IF(ISTEXT(F82),0,B82) -> 0 | N82: =IF(AND(J82<>0,L82<>0),B82,"") | Q82: =IF(ISTEXT(F82),1,0) -> 0
B83: 3 | C83: DALLES | H83: =IF(ISTEXT(F83),0,1) -> 1 | I83: =IF(G83<'Suivi Qualité PV'!B$4,1,0) -> 1 | J83: =IF(AND(H83=1,I83=1),1,0) -> 1 | L83: =IF(ISTEXT(F83),0,B83) -> 3 | N83: =IF(AND(J83<>0,L83<>0),B83,"") -> 3 | Q83: =IF(ISTEXT(F83),1,0) -> 0
B84: 3,0,1 | C84: 3,0,1. Réseaux sous dallage | D84: positionement des reseaux sous dallage | E84: ENTREPRISE GC | F84: LGV-BAT124-PV301 | G84: 0.3 | H84: =IF(ISTEXT(F84),0,1) -> 0 | I84: =IF(G84<'Suivi Qualité PV'!B$4,1,0) -> 1 | J84: =IF(AND(H84=1,I84=1),1,0) -> 0 | L84: =IF(ISTEXT(F84),0,B84) -> 0 | N84: =IF(AND(J84<>0,L84<>0),B84,"") | Q84: =IF(ISTEXT(F84),1,0) -> 1
B85: 3,0,2 | C85: 3,0,2. Compaction des sols | D85: test de compaction | E85: ENTREPRISE GC + LABORATOIRE SOL | G85: 0.5 | H85: =IF(ISTEXT(F85),0,1) -> 1 | I85: =IF(G85<'Suivi Qualité PV'!B$4,1,0) -> 1 | J85: =IF(AND(H85=1,I85=1),1,0) -> 1 | L85: =IF(ISTEXT(F85),0,B85) -> 3,0,2 | N85: =IF(AND(J85<>0,L85<>0),B85,"") -> 3,0,2 | Q85: =IF(ISTEXT(F85),1,0) -> 0
B86: 3,0,3 | C86: 3,0,3. Coffrages | D86: dimention, verticalité et linéarité | E86: ENTREPRISE GC | G86: 0.5 | H86: =IF(ISTEXT(F86),0,1) -> 1 | I86: =IF(G86<'Suivi Qualité PV'!B$4,1,0) -> 1 | J86: =IF(AND(H86=1,I86=1),1,0) -> 1 | L86: =IF(ISTEXT(F86),0,B86) -> 3,0,3 | N86: =IF(AND(J86<>0,L86<>0),B86,"") -> 3,0,3 | Q86: =IF(ISTEXT(F86),1,0) -> 0
B87: 3,0,4 | C87: 3,0,4. Ferraillages | D87: contrôle des sections | E87: ENTREPRISE GC + BUREAU DE CONTROL | G87: 0.5 | H87: =IF(ISTEXT(F87),0,1) -> 1 | I87: =IF(G87<'Suivi Qualité PV'!B$4,1,0) -> 1 | J87: =IF(AND(H87=1,I87=1),1,0) -> 1 | L87: =IF(ISTEXT(F87),0,B87) -> 3,0,4 | N87: =IF(AND(J87<>0,L87<>0),B87,"") -> 3,0,4 | Q87: =IF(ISTEXT(F87),1,0) -> 0
B88: 3,0,5 | C88: 3,0,5. MALT dalle sur radier | D88: continuité de la boucle de terre | E88: ENTREPRISE GC + CR/SIG + BUREAU DE CONTROL | G88: 0.5 | H88: =IF(ISTEXT(F88),0,1) -> 1 | I88: =IF(G88<'Suivi Qualité PV'!B$4,1,0) -> 1 | J88: =IF(AND(H88=1,I88=1),1,0) -> 1 | L88: =IF(ISTEXT(F88),0,B88) -> 3,0,5 | N88: =IF(AND(J88<>0,L88<>0),B88,"") -> 3,0,5 | Q88: =IF(ISTEXT(F88),1,0) -> 0
D89: mesure de la prise de terre | G89: 0.5 | H89: =IF(ISTEXT(F89),0,1) -> 1 | I89: =IF(G89<'Suivi Qualité PV'!B$4,1,0) -> 1 | J89: =IF(AND(H89=1,I89=1),1,0) -> 1 | L89: =IF(ISTEXT(F89),0,B89) -> 0 | N89: =IF(AND(J89<>0,L89<>0),B89,"") | Q89: =IF(ISTEXT(F89),1,0) -> 0
D90: mise en œuvre des éléments de la MALT (voir remarque) | G90: 0.5 | H90: =IF(ISTEXT(F90),0,1) -> 1 | I90: =IF(G90<'Suivi Qualité PV'!B$4,1,0) -> 1 | J90: =IF(AND(H90=1,I90=1),1,0) -> 1 | L90: =IF(ISTEXT(F90),0,B90) -> 0 | N90: =IF(AND(J90<>0,L90<>0),B90,"") | Q90: =IF(ISTEXT(F90),1,0) -> 0
B91: 3,0,6 | C91: 3,0,6.Essais sur béton frais | D91: essai d'affaissement | E91: ENTREPRISE GC + LABORATOIRE SOL | G91: 0.5 | H91: =IF(ISTEXT(F91),0,1) -> 1 | I91: =IF(G91<'Suivi Qualité PV'!B$4,1,0) -> 1 | J91: =IF(AND(H91=1,I91=1),1,0) -> 1 | L91: =IF(ISTEXT(F91),0,B91) -> 3,0,6 | N91: =IF(AND(J91<>0,L91<>0),B91,"") -> 3,0,6 | Q91: =IF(ISTEXT(F91),1,0) -> 0
B92: 3,0,7 | C92: 3,0,7.Essais sur béton durci | D92: essai de résistances mécaniques | E92: ENTREPRISE GC + LABORATOIRE SOL | G92: 0.5 | H92: =IF(ISTEXT(F92),0,1) -> 1 | I92: =IF(G92<'Suivi Qualité PV'!B$4,1,0) -> 1 | J92: =IF(AND(H92=1,I92=1),1,0) -> 1 | L92: =IF(ISTEXT(F92),0,B92) -> 3,0,7 | N92: =IF(AND(J92<>0,L92<>0),B92,"") -> 3,0,7 | Q92: =IF(ISTEXT(F92),1,0) -> 0
B93: 3,0,8 | C93: 3,0,8. Finition de la dalle | D93: finition et planimétrie | E93: ENTREPRISE GC + CR/SIG | G93: 0.5 | H93: =IF(ISTEXT(F93),0,1) -> 1 | I93: =IF(G93<'Suivi Qualité PV'!B$4,1,0) -> 1 | J93: =IF(AND(H93=1,I93=1),1,0) -> 1 | L93: =IF(ISTEXT(F93),0,B93) -> 3,0,8 | N93: =IF(AND(J93<>0,L93<>0),B93,"") -> 3,0,8 | Q93: =IF(ISTEXT(F93),1,0) -> 0
B94: 3,0,9 | C94: 3,0,9. Décoffrage/utilisation de l'ouvrage | D94: séchage du béton | E94: ENTREPRISE GC + CR/SIG | G94: 0.5 | H94: =IF(ISTEXT(F94),0,1) -> 1 | I94: =IF(G94<'Suivi Qualité PV'!B$4,1,0) -> 1 | J94: =IF(AND(H94=1,I94=1),1,0) -> 1 | L94: =IF(ISTEXT(F94),0,B94) -> 3,0,9 | N94: =IF(AND(J94<>0,L94<>0),B94,"") -> 3,0,9 | Q94: =IF(ISTEXT(F94),1,0) -> 0
B95: 3,0,10 | C95: 3,0,10. MALT dalle sur radier | D95: mesure de la prise de terre | E95: ENTREPRISE GC + CR/SIG | G95: 0.5 | H95: =IF(ISTEXT(F95),0,1) -> 1 | I95: =IF(G95<'Suivi Qualité PV'!B$4,1,0) -> 1 | J95: =IF(AND(H95=1,I95=1),1,0) -> 1 | L95: =IF(ISTEXT(F95),0,B95) -> 3,0,10 | N95: =IF(AND(J95<>0,L95<>0),B95,"") -> 3,0,10 | Q95: =IF(ISTEXT(F95),1,0) -> 0
H96: =IF(ISTEXT(F96),0,1) -> 1 | I96: =IF(G96<'Suivi Qualité PV'!B$4,1,0) -> 1 | J96: =IF(AND(H96=1,I96=1),1,0) -> 1 | L96: =IF(ISTEXT(F96),0,B96) -> 0 | N96: =IF(AND(J96<>0,L96<>0),B96,"") | Q96: =IF(ISTEXT(F96),1,0) -> 0
H97: =IF(ISTEXT(F97),0,1) -> 1 | I97: =IF(G97<'Suivi Qualité PV'!B$4,1,0) -> 1 | J97: =IF(AND(H97=1,I97=1),1,0) -> 1 | L97: =IF(ISTEXT(F97),0,B97) -> 0 | N97: =IF(AND(J97<>0,L97<>0),B97,"") | Q97: =IF(ISTEXT(F97),1,0) -> 0
H98: =IF(ISTEXT(F98),0,1) -> 1 | I98: =IF(G98<'Suivi Qualité PV'!B$4,1,0) -> 1 | J98: =IF(AND(H98=1,I98=1),1,0) -> 1 | L98: =IF(ISTEXT(F98),0,B98) -> 0 | N98: =IF(AND(J98<>0,L98<>0),B98,"") | Q98: =IF(ISTEXT(F98),1,0) -> 0
H99: =IF(ISTEXT(F99),0,1) -> 1 | I99: =IF(G99<'Suivi Qualité PV'!B$4,1,0) -> 1 | J99: =IF(AND(H99=1,I99=1),1,0) -> 1 | L99: =IF(ISTEXT(F99),0,B99) -> 0 | N99: =IF(AND(J99<>0,L99<>0),B99,"") | Q99: =IF(ISTEXT(F99),1,0) -> 0
H100: =IF(ISTEXT(F100),0,1) -> 1 | I100: =IF(G100<'Suivi Qualité PV'!B$4,1,0) -> 1 | J100: =IF(AND(H100=1,I100=1),1,0) -> 1 | L100: =IF(ISTEXT(F100),0,B100) -> 0 | N100: =IF(AND(J100<>0,L100<>0),B100,"") | Q100: =IF(ISTEXT(F100),1,0) -> 0
B101: 4 | C101: PLANCHERS | H101: =IF(ISTEXT(F101),0,1) -> 1 | I101: =IF(G101<'Suivi Qualité PV'!B$4,1,0) -> 1 | J101: =IF(AND(H101=1,I101=1),1,0) -> 1 | L101: =IF(ISTEXT(F101),0,B101) -> 4 | N101: =IF(AND(J101<>0,L101<>0),B101,"") -> 4 | Q101: =IF(ISTEXT(F101),1,0) -> 0
B102: 4,0,1 | C102: 4,0,1. Coffrages | D102: verticalité et mesures | E102: ENTREPRISE GC | F102: LGV-BAT124-PV401 | G102: 0.3 | H102: =IF(ISTEXT(F102),0,1) -> 0 | I102: =IF(G102<'Suivi Qualité PV'!B$4,1,0) -> 1 | J102: =IF(AND(H102=1,I102=1),1,0) -> 0 | L102: =IF(ISTEXT(F102),0,B102) -> 0 | N102: =IF(AND(J102<>0,L102<>0),B102,"") | Q102: =IF(ISTEXT(F102),1,0) -> 1
B103: 4,0,2 | C103: 4,0,2. Ferraillages | D103: contrôle des sections | E103: ENTREPRISE GC + BUREAU DE CONTROL | F103: LGV-BAT124-PV402 | G103: 0.3 | H103: =IF(ISTEXT(F103),0,1) -> 0 | I103: =IF(G103<'Suivi Qualité PV'!B$4,1,0) -> 1 | J103: =IF(AND(H103=1,I103=1),1,0) -> 0 | L103: =IF(ISTEXT(F103),0,B103) -> 0 | N103: =IF(AND(J103<>0,L103<>0),B103,"") | Q103: =IF(ISTEXT(F103),1,0) -> 1
...

Sheet Suivi Qualité PV
A3: Reference Batiment TK | B3: avancement | C3: Nombre de PV Réel | D3: Nombre de PV théorique | E3: Nb de Pv manquant | F3: Reference PV manquant
B4: 0.6 | C4: ='TK99'!Q183 -> 46 | D4: =VLOOKUP(B4,A11:B17,2) -> 60 | E4: =D4-C4 -> 14 | F4: {=IFERROR(INDEX('TK99'!$C:$C,SMALL(IF('TK99'!N9:N182<>"",ROW('TK99'!N9:N182)),ROW(A1))),"")} -> 1,0,4. MALT fond de fouille
F5: {=IFERROR(INDEX('TK99'!$C:$C,SMALL(IF('TK99'!N10:N183<>"",ROW('TK99'!N10:N183)),ROW(A2))),"")} -> STRUCTURES
F6: {=IFERROR(INDEX('TK99'!$C:$C,SMALL(IF('TK99'!N11:N184<>"",ROW('TK99'!N11:N184)),ROW(A3))),"")} -> Semelles
F7: {=IFERROR(INDEX('TK99'!$C:$C,SMALL(IF('TK99'!N12:N185<>"",ROW('TK99'!N12:N185)),ROW(A4))),"")} -> 2,1,2. Ferraillages
F8: {=IFERROR(INDEX('TK99'!$C:$C,SMALL(IF('TK99'!N13:N186<>"",ROW('TK99'!N13:N186)),ROW(A5))),"")} -> 2,1,5. Essais sur béton durci
E9: =IF('TK99'!G17>'Suivi Qualité PV'!B4,'TK99'!F17,"") | F9: {=IFERROR(INDEX('TK99'!$C:$C,SMALL(IF('TK99'!N14:N187<>"",ROW('TK99'!N14:N187)),ROW(A6))),"")} -> 2,1,7. MALT fond de fouille / structure
F10: {=IFERROR(INDEX('TK99'!$C:$C,SMALL(IF('TK99'!N15:N188<>"",ROW('TK99'!N15:N188)),ROW(A7))),"")} -> Longrines
A11: Avancement | B11: Nombre de PV Théorique | F11: {=IFERROR(INDEX('TK99'!$C:$C,SMALL(IF('TK99'!N16:N189<>"",ROW('TK99'!N16:N189)),ROW(A8))),"")} -> 2,2,5. Essais sur béton durci
A12: 0.1 | B12: 15 | F12: {=IFERROR(INDEX('TK99'!$C:$C,SMALL(IF('TK99'!N17:N190<>"",ROW('TK99'!N17:N190)),ROW(A9))),"")} -> Poteaux raidisseur
A13: 0.3 | B13: 30 | F13: {=IFERROR(INDEX('TK99'!$C:$C,SMALL(IF('TK99'!N18:N191<>"",ROW('TK99'!N18:N191)),ROW(A10))),"")} -> 2,3,1. Ferraillages
A14: 0.5 | B14: 50 | F14: {=IFERROR(INDEX('TK99'!$C:$C,SMALL(IF('TK99'!N19:N192<>"",ROW('TK99'!N19:N192)),ROW(A11))),"")} -> 2,3,3. Coffrages
A15: 0.6 | B15: 60 | F15: {=IFERROR(INDEX('TK99'!$C:$C,SMALL(IF('TK99'!N20:N193<>"",ROW('TK99'!N20:N193)),ROW(A12))),"")} -> 2,3,4. Essais sur béton frais
A16: 0.8 | B16: 75 | F16: {=IFERROR(INDEX('TK99'!$C:$C,SMALL(IF('TK99'!N21:N194<>"",ROW('TK99'!N21:N194)),ROW(A13))),"")} -> 2,3,5. Essais sur béton durci
A17: 1 | B17: 96 | F17: {=IFERROR(INDEX('TK99'!$C:$C,SMALL(IF('TK99'!N22:N195<>"",ROW('TK99'!N22:N195)),ROW(A14))),"")} -> 2,3,6. Décoffrage/utilisation de l'ouvrage
F18: {=IFERROR(INDEX('TK99'!$C:$C,SMALL(IF('TK99'!N23:N196<>"",ROW('TK99'!N23:N196)),ROW(A15))),"")} -> 2,3,7. MALT structure
F19: {=IFERROR(INDEX('TK99'!$C:$C,SMALL(IF('TK99'!N24:N197<>"",ROW('TK99'!N24:N197)),ROW(A16))),"")} -> 2,4,5. Essais sur béton durci
F20: {=IFERROR(INDEX('TK99'!$C:$C,SMALL(IF('TK99'!N25:N198<>"",ROW('TK99'!N25:N198)),ROW(A17))),"")} -> Poutres
F21: {=IFERROR(INDEX('TK99'!$C:$C,SMALL(IF('TK99'!N26:N199<>"",ROW('TK99'!N26:N199)),ROW(A18))),"")} -> 2,5,2. MALT structure
F22: {=IFERROR(INDEX('TK99'!$C:$C,SMALL(IF('TK99'!N27:N200<>"",ROW('TK99'!N27:N200)),ROW(A19))),"")} -> 2,5,3. Coffrages
F23: {=IFERROR(INDEX('TK99'!$C:$C,SMALL(IF('TK99'!N28:N201<>"",ROW('TK99'!N28:N201)),ROW(A20))),"")} -> 2,5,5. Essais sur béton durci
F24: {=IFERROR(INDEX('TK99'!$C:$C,SMALL(IF('TK99'!N29:N202<>"",ROW('TK99'!N29:N202)),ROW(A21))),"")} -> 2,5,6. Décoffrage/utilisation de l'ouvrage
F25: {=IFERROR(INDEX('TK99'!$C:$C,SMALL(IF('TK99'!N30:N203<>"",ROW('TK99'!N30:N203)),ROW(A22))),"")} -> 2,5,7. MALT structure
F26: {=IFERROR(INDEX('TK99'!$C:$C,SMALL(IF('TK99'!N31:N204<>"",ROW('TK99'!N31:N204)),ROW(A23))),"")} -> Acrotères
F27: {=IFERROR(INDEX('TK99'!$C:$C,SMALL(IF('TK99'!N32:N205<>"",ROW('TK99'!N32:N205)),ROW(A24))),"")} -> 2,6,5. Essais sur béton durci
F28: {=IFERROR(INDEX('TK99'!$C:$C,SMALL(IF('TK99'!N33:N206<>"",ROW('TK99'!N33:N206)),ROW(A25))),"")} -> 2,6,6. Decofrage/utilisation de l'ouvrage
F29: {=IFERROR(INDEX('TK99'!$C:$C,SMALL(IF('TK99'!N34:N207<>"",ROW('TK99'!N34:N207)),ROW(A26))),"")} -> DALLES
... F179: {=IFERROR(INDEX('TK99'!$C:$C,SMALL(IF('TK99'!N184:N357<>"",ROW('TK99'!N184:N357)),ROW(A176))),"")}
