Workbook

Sheet donnée source
A1: num | B1: nom | C1: prénom | D1: matricule
A2: 0000000000 | B2: a | C2: 1 | D2: aa
A3: 1111111111 | B3: b | C3: 2 | D3: bb
A4: 2222222222 | B4: c | C4: 3 | D4: cc
A5: 3333333333 | B5: d | C5: 4 | D5: dd

Sheet Feuil2
A1: nom | B1: prénom | C1: matricule | D1: num
A2: =OFFSET('donnée source'!$A$1,ROW()-1,MATCH(Feuil2!A$1,'donnée source'!$1:$1,0)-1) -> a | B2: =OFFSET('donnée source'!$A$1,ROW()-1,MATCH(Feuil2!B$1,'donnée source'!$1:$1,0)-1) -> 1 | C2: =OFFSET('donnée source'!$A$1,ROW()-1,MATCH(Feuil2!C$1,'donnée source'!$1:$1,0)-1) -> aa | D2: =OFFSET('donnée source'!$A$1,ROW()-1,MATCH(Feuil2!D$1,'donnée source'!$1:$1,0)-1) -> 0000000000
A3: =OFFSET('donnée source'!$A$1,ROW()-1,MATCH(Feuil2!A$1,'donnée source'!$1:$1,0)-1) -> b | B3: =OFFSET('donnée source'!$A$1,ROW()-1,MATCH(Feuil2!B$1,'donnée source'!$1:$1,0)-1) -> 2 | C3: =OFFSET('donnée source'!$A$1,ROW()-1,MATCH(Feuil2!C$1,'donnée source'!$1:$1,0)-1) -> bb | D3: =OFFSET('donnée source'!$A$1,ROW()-1,MATCH(Feuil2!D$1,'donnée source'!$1:$1,0)-1) -> 1111111111
A4: =OFFSET('donnée source'!$A$1,ROW()-1,MATCH(Feuil2!A$1,'donnée source'!$1:$1,0)-1) -> c | B4: =OFFSET('donnée source'!$A$1,ROW()-1,MATCH(Feuil2!B$1,'donnée source'!$1:$1,0)-1) -> 3 | C4: =OFFSET('donnée source'!$A$1,ROW()-1,MATCH(Feuil2!C$1,'donnée source'!$1:$1,0)-1) -> cc | D4: =OFFSET('donnée source'!$A$1,ROW()-1,MATCH(Feuil2!D$1,'donnée source'!$1:$1,0)-1) -> 2222222222
A5: =OFFSET('donnée source'!$A$1,ROW()-1,MATCH(Feuil2!A$1,'donnée source'!$1:$1,0)-1) -> d | B5: =OFFSET('donnée source'!$A$1,ROW()-1,MATCH(Feuil2!B$1,'donnée source'!$1:$1,0)-1) -> 4 | C5: =OFFSET('donnée source'!$A$1,ROW()-1,MATCH(Feuil2!C$1,'donnée source'!$1:$1,0)-1) -> dd | D5: =OFFSET('donnée source'!$A$1,ROW()-1,MATCH(Feuil2!D$1,'donnée source'!$1:$1,0)-1) -> 3333333333
A6: =OFFSET('donnée source'!$A$1,ROW()-1,MATCH(Feuil2!A$1,'donnée source'!$1:$1,0)-1) -> 0 | B6: =OFFSET('donnée source'!$A$1,ROW()-1,MATCH(Feuil2!B$1,'donnée source'!$1:$1,0)-1) -> 0 | C6: =OFFSET('donnée source'!$A$1,ROW()-1,MATCH(Feuil2!C$1,'donnée source'!$1:$1,0)-1) -> 0 | D6: =OFFSET('donnée source'!$A$1,ROW()-1,MATCH(Feuil2!D$1,'donnée source'!$1:$1,0)-1) -> 0
A7: =OFFSET('donnée source'!$A$1,ROW()-1,MATCH(Feuil2!A$1,'donnée source'!$1:$1,0)-1) -> 0 | B7: =OFFSET('donnée source'!$A$1,ROW()-1,MATCH(Feuil2!B$1,'donnée source'!$1:$1,0)-1) -> 0 | C7: =OFFSET('donnée source'!$A$1,ROW()-1,MATCH(Feuil2!C$1,'donnée source'!$1:$1,0)-1) -> 0 | D7: =OFFSET('donnée source'!$A$1,ROW()-1,MATCH(Feuil2!D$1,'donnée source'!$1:$1,0)-1) -> 0
A8: =OFFSET('donnée source'!$A$1,ROW()-1,MATCH(Feuil2!A$1,'donnée source'!$1:$1,0)-1) -> 0 | B8: =OFFSET('donnée source'!$A$1,ROW()-1,MATCH(Feuil2!B$1,'donnée source'!$1:$1,0)-1) -> 0 | C8: =OFFSET('donnée source'!$A$1,ROW()-1,MATCH(Feuil2!C$1,'donnée source'!$1:$1,0)-1) -> 0 | D8: =OFFSET('donnée source'!$A$1,ROW()-1,MATCH(Feuil2!D$1,'donnée source'!$1:$1,0)-1) -> 0
A9: =OFFSET('donnée source'!$A$1,ROW()-1,MATCH(Feuil2!A$1,'donnée source'!$1:$1,0)-1) -> 0 | B9: =OFFSET('donnée source'!$A$1,ROW()-1,MATCH(Feuil2!B$1,'donnée source'!$1:$1,0)-1) -> 0 | C9: =OFFSET('donnée source'!$A$1,ROW()-1,MATCH(Feuil2!C$1,'donnée source'!$1:$1,0)-1) -> 0 | D9: =OFFSET('donnée source'!$A$1,ROW()-1,MATCH(Feuil2!D$1,'donnée source'!$1:$1,0)-1) -> 0
A10: =OFFSET('donnée source'!$A$1,ROW()-1,MATCH(Feuil2!A$1,'donnée source'!$1:$1,0)-1) -> 0 | B10: =OFFSET('donnée source'!$A$1,ROW()-1,MATCH(Feuil2!B$1,'donnée source'!$1:$1,0)-1) -> 0 | C10: =OFFSET('donnée source'!$A$1,ROW()-1,MATCH(Feuil2!C$1,'donnée source'!$1:$1,0)-1) -> 0 | D10: =OFFSET('donnée source'!$A$1,ROW()-1,MATCH(Feuil2!D$1,'donnée source'!$1:$1,0)-1) -> 0
A11: =OFFSET('donnée source'!$A$1,ROW()-1,MATCH(Feuil2!A$1,'donnée source'!$1:$1,0)-1) -> 0 | B11: =OFFSET('donnée source'!$A$1,ROW()-1,MATCH(Feuil2!B$1,'donnée source'!$1:$1,0)-1) -> 0 | C11: =OFFSET('donnée source'!$A$1,ROW()-1,MATCH(Feuil2!C$1,'donnée source'!$1:$1,0)-1) -> 0 | D11: =OFFSET('donnée source'!$A$1,ROW()-1,MATCH(Feuil2!D$1,'donnée source'!$1:$1,0)-1) -> 0
