Workbook
Name liste: OFFSET(Feuil2!$A$2,0,0,COUNTA(Feuil2!$A:$A)-1,1)
Name reference: OFFSET(Feuil2!$A$2,0,0,COUNTA(Feuil2!$A:$A)-1,2)

Sheet Feuil1
A1: Référence | B1: Désignation | C1: Qté Inventaire
A2: C15048983 | B2: MONITEUR 22 PACKARD DVI | C2: 10
A3: C15062609 | B3: MONITEUR 17 | C3: 9
A4: C15063021 | B4: PACKARD BELL 19" VGA 191W | C4: 0
A5: C15063204 | B5: HANNS.G 15" VGA | C5: 1
A6: C15063736 | B6: SAMSUNG 22" WIDE VGA/DVI 226BW | C6: 1
A7: C15063831 | B7: PACKARD BELLE 22" VGA/DVI | C7: 1
A8: C15063939 | B8: ACER LCD 22" P221W | C8: 1
A9: C15074668 | B9: ACER 23" VGA X233H | C9: 1
A10: C15074885 | B10: ACER 22" VGA X223W | C10: 1
A11: C15075159 | B11: HP 21" VGA 2159V | C11: 1
A12: C15075165 | B12: PACKARD BELL 22" VGA X2 MAESTRO 220W | C12: 1
A13: C15075783 | B13: PACKARD 19" WIDE DVI/VGA | C13: 1
... A72: C16041181 | B72: VIEWSONIC 19" ECRAN VGA | C72: 1

Sheet Feuil2
A1: REFERENCE | B1: Quantités totales
A2: =Feuil1!A2 -> C15048983 | B2: =SUMIF(Feuil1!A:A,Feuil2!A2,Feuil1!C:C) -> 10
A3: =Feuil1!A3 -> C15062609 | B3: =SUMIF(Feuil1!A:A,Feuil2!A3,Feuil1!C:C) -> 9
A4: =Feuil1!A4 -> C15063021 | B4: =SUMIF(Feuil1!A:A,Feuil2!A4,Feuil1!C:C) -> 0
A5: =Feuil1!A5 -> C15063204 | B5: =SUMIF(Feuil1!A:A,Feuil2!A5,Feuil1!C:C) -> 1
A6: =Feuil1!A6 -> C15063736 | B6: =SUMIF(Feuil1!A:A,Feuil2!A6,Feuil1!C:C) -> 1
A7: =Feuil1!A7 -> C15063831 | B7: =SUMIF(Feuil1!A:A,Feuil2!A7,Feuil1!C:C) -> 1
A8: =Feuil1!A8 -> C15063939 | B8: =SUMIF(Feuil1!A:A,Feuil2!A8,Feuil1!C:C) -> 1
A9: =Feuil1!A9 -> C15074668 | B9: =SUMIF(Feuil1!A:A,Feuil2!A9,Feuil1!C:C) -> 1
A10: =Feuil1!A10 -> C15074885 | B10: =SUMIF(Feuil1!A:A,Feuil2!A10,Feuil1!C:C) -> 1
A11: =Feuil1!A11 -> C15075159 | B11: =SUMIF(Feuil1!A:A,Feuil2!A11,Feuil1!C:C) -> 1
A12: =Feuil1!A12 -> C15075165 | B12: =SUMIF(Feuil1!A:A,Feuil2!A12,Feuil1!C:C) -> 1
A13: =Feuil1!A13 -> C15075783 | B13: =SUMIF(Feuil1!A:A,Feuil2!A13,Feuil1!C:C) -> 1
... A1000: =Feuil1!A1000 -> 0 | B1000: =SUMIF(Feuil1!A:A,Feuil2!A1000,Feuil1!C:C) -> 0

Sheet Feuil3
A1: REFERENCE
A2: =Feuil2!A2 -> C15048983
A3: =IF(COUNTIF(OFFSET($A$2,0,0,ROW(A2)-1,1),A2)<VLOOKUP(A2,reference,2,FALSE),Feuil3!A2,INDEX(liste,MATCH(Feuil3!A2,liste,0)+1,1)) -> C15048983
A4: =IF(COUNTIF(OFFSET($A$2,0,0,ROW(A3)-1,1),A3)<VLOOKUP(A3,reference,2,FALSE),Feuil3!A3,INDEX(liste,MATCH(Feuil3!A3,liste,0)+1,1)) -> C15048983
A5: =IF(COUNTIF(OFFSET($A$2,0,0,ROW(A4)-1,1),A4)<VLOOKUP(A4,reference,2,FALSE),Feuil3!A4,INDEX(liste,MATCH(Feuil3!A4,liste,0)+1,1)) -> C15048983
A6: =IF(COUNTIF(OFFSET($A$2,0,0,ROW(A5)-1,1),A5)<VLOOKUP(A5,reference,2,FALSE),Feuil3!A5,INDEX(liste,MATCH(Feuil3!A5,liste,0)+1,1)) -> C15048983
A7: =IF(COUNTIF(OFFSET($A$2,0,0,ROW(A6)-1,1),A6)<VLOOKUP(A6,reference,2,FALSE),Feuil3!A6,INDEX(liste,MATCH(Feuil3!A6,liste,0)+1,1)) -> C15048983
A8: =IF(COUNTIF(OFFSET($A$2,0,0,ROW(A7)-1,1),A7)<VLOOKUP(A7,reference,2,FALSE),Feuil3!A7,INDEX(liste,MATCH(Feuil3!A7,liste,0)+1,1)) -> C15048983
A9: =IF(COUNTIF(OFFSET($A$2,0,0,ROW(A8)-1,1),A8)<VLOOKUP(A8,reference,2,FALSE),Feuil3!A8,INDEX(liste,MATCH(Feuil3!A8,liste,0)+1,1)) -> C15048983
A10: =IF(COUNTIF(OFFSET($A$2,0,0,ROW(A9)-1,1),A9)<VLOOKUP(A9,reference,2,FALSE),Feuil3!A9,INDEX(liste,MATCH(Feuil3!A9,liste,0)+1,1)) -> C15048983
A11: =IF(COUNTIF(OFFSET($A$2,0,0,ROW(A10)-1,1),A10)<VLOOKUP(A10,reference,2,FALSE),Feuil3!A10,INDEX(liste,MATCH(Feuil3!A10,liste,0)+1,1)) -> C15048983
A12: =IF(COUNTIF(OFFSET($A$2,0,0,ROW(A11)-1,1),A11)<VLOOKUP(A11,reference,2,FALSE),Feuil3!A11,INDEX(liste,MATCH(Feuil3!A11,liste,0)+1,1)) -> C15062609
A13: =IF(COUNTIF(OFFSET($A$2,0,0,ROW(A12)-1,1),A12)<VLOOKUP(A12,reference,2,FALSE),Feuil3!A12,INDEX(liste,MATCH(Feuil3!A12,liste,0)+1,1)) -> C15062609
A14: =IF(COUNTIF(OFFSET($A$2,0,0,ROW(A13)-1,1),A13)<VLOOKUP(A13,reference,2,FALSE),Feuil3!A13,INDEX(liste,MATCH(Feuil3!A13,liste,0)+1,1)) -> C15062609
... A1000: =IF(COUNTIF(OFFSET($A$2,0,0,ROW(A999)-1,1),A999)<VLOOKUP(A999,reference,2,FALSE),Feuil3!A999,INDEX(liste,MATCH(Feuil3!A999,liste,0)+1,1)) -> 0

Sheet Feuil4
A1: 3303260055016
A2: 3303260055016
A3: 3303260055016
A4: 3303260055016
A5: 3303260055016
A6: 3303260055016
A7: 3303260055016
A8: 3303260055016
A9: 3303260055016
A10: 3303260055016
A11: 3303260055016
A12: 3303260055016
... A27: 6013
