Workbook

Sheet données
A1: 0 | B1: 01/01/2015
A2: 2160390.6 | B2: 42006
A3: 0 | B3: 42007
A4: 0 | B4: 42008
A5: 1728575.7 | B5: 42009
A6: 1080256.9 | B6: 42010
A7: 1365012.2 | B7: 42011
A8: 784384.06 | B8: 42012
A9: 1351329.4 | B9: 42013
A10: 0 | B10: 42014
A11: 0 | B11: 42015
A12: 1084347.7 | B12: 42016
A13: 923547.76 | B13: 42017
... A254: 1625958.1 | B254: 42258

Sheet recherche date
C4: =IFERROR(VLOOKUP(D4,données!A1:B254,2,FALSE),0) -> 42010 | D4: 1080256.9
C5: =IFERROR(VLOOKUP(D5,données!A2:B255,2,FALSE),0) -> 42011 | D5: 1365012.2
C6: =IFERROR(VLOOKUP(D6,données!A3:B256,2,FALSE),0) -> 42012 | D6: 784384.06
C7: =IFERROR(VLOOKUP(D7,données!A4:B257,2,FALSE),0) -> 42013 | D7: 1351329.4
C8: =IFERROR(VLOOKUP(D8,données!A5:B258,2,FALSE),0) -> 42016 | D8: 1084347.7
C9: =IFERROR(VLOOKUP(D9,données!A6:B259,2,FALSE),0) -> 42017 | D9: 923547.76
C10: =IFERROR(VLOOKUP(D10,données!A7:B260,2,FALSE),0) -> 42018 | D10: 522585.07
C11: =IFERROR(VLOOKUP(D11,données!A8:B261,2,FALSE),0) -> 42019 | D11: 2398209
C12: =IFERROR(VLOOKUP(D12,données!A9:B262,2,FALSE),0) -> 42020 | D12: 2756536.8
C13: =IFERROR(VLOOKUP(D13,données!A10:B263,2,FALSE),0) -> 42023 | D13: 836218.38
C14: =IFERROR(VLOOKUP(D14,données!A11:B264,2,FALSE),0) -> 42024 | D14: 958905.09
C15: =IFERROR(VLOOKUP(D15,données!A12:B265,2,FALSE),0) -> 42025 | D15: 839782.5
... C29: =IFERROR(VLOOKUP(D29,données!A26:B279,2,FALSE),0) -> 42061 | D29: 860831.06

Sheet Feuil3
