Workbook

Sheet Feuil1
A1: REFERENCE | B1: DESIGNATION | C1: QUANTITE
A2: 3303260055016 | B2: CORDON ALIMENTATION 1.8 M | C2: 5
A3: 3700372702843 | B3: HAUTS PARLEURS 2X4 WATTS | C3: 2
A4: 5420047125927 | B4: ADAPTATEUR UNIVERSEL AC-DC 120W POUR PC PORTABLE AVEC USB | C4: 8
A5: 6013 | B5: UC SECTEUR PROXI | C5: 4
A6: 3303260055016 | B6: CORDON ALIMENTATION 1.8 M | C6: 8

Sheet Feuil2
A1: REFERENCE
A2: 3303260055016 | B2: =SUMIF(Feuil1!A2:A6,Feuil2!A2,Feuil1!C2:C6) -> 13
A3: 3700372702843 | B3: =SUMIF(Feuil1!A3:A7,Feuil2!A3,Feuil1!C3:C7) -> 2
A4: 5420047125927 | B4: =SUMIF(Feuil1!A4:A8,Feuil2!A4,Feuil1!C4:C8) -> 8
A5: 6013 | B5: =SUMIF(Feuil1!A5:A9,Feuil2!A5,Feuil1!C5:C9) -> 4

Sheet Feuil3
A1: REFERENCE
A2: =Feuil2!A2 -> 3303260055016
A3: =IF(COUNTIF(OFFSET($A$2,0,0,ROW(A2)-1,1),A2)<VLOOKUP(A2,Feuil2!$A$2:$B$5,2,FALSE),Feuil3!A2,0) -> 3303260055016
A4: =IF(COUNTIF(OFFSET($A$2,0,0,ROW(A3)-1,1),A3)<VLOOKUP(A3,Feuil2!$A$2:$B$5,2,FALSE),Feuil3!A3,INDEX(Feuil2!$A$2:$A$5,MATCH(Feuil3!A3,Feuil2!$A$2:$A$5,0)+1,1)) -> 3303260055016
A5: =IF(COUNTIF(OFFSET($A$2,0,0,ROW(A4)-1,1),A4)<VLOOKUP(A4,Feuil2!$A$2:$B$5,2,FALSE),Feuil3!A4,INDEX(Feuil2!$A$2:$A$5,MATCH(Feuil3!A4,Feuil2!$A$2:$A$5,0)+1,1)) -> 3303260055016
A6: =IF(COUNTIF(OFFSET($A$2,0,0,ROW(A5)-1,1),A5)<VLOOKUP(A5,Feuil2!$A$2:$B$5,2,FALSE),Feuil3!A5,INDEX(Feuil2!$A$2:$A$5,MATCH(Feuil3!A5,Feuil2!$A$2:$A$5,0)+1,1)) -> 3303260055016
A7: =IF(COUNTIF(OFFSET($A$2,0,0,ROW(A6)-1,1),A6)<VLOOKUP(A6,Feuil2!$A$2:$B$5,2,FALSE),Feuil3!A6,INDEX(Feuil2!$A$2:$A$5,MATCH(Feuil3!A6,Feuil2!$A$2:$A$5,0)+1,1)) -> 3303260055016
A8: =IF(COUNTIF(OFFSET($A$2,0,0,ROW(A7)-1,1),A7)<VLOOKUP(A7,Feuil2!$A$2:$B$5,2,FALSE),Feuil3!A7,INDEX(Feuil2!$A$2:$A$5,MATCH(Feuil3!A7,Feuil2!$A$2:$A$5,0)+1,1)) -> 3303260055016
A9: =IF(COUNTIF(OFFSET($A$2,0,0,ROW(A8)-1,1),A8)<VLOOKUP(A8,Feuil2!$A$2:$B$5,2,FALSE),Feuil3!A8,INDEX(Feuil2!$A$2:$A$5,MATCH(Feuil3!A8,Feuil2!$A$2:$A$5,0)+1,1)) -> 3303260055016
A10: =IF(COUNTIF(OFFSET($A$2,0,0,ROW(A9)-1,1),A9)<VLOOKUP(A9,Feuil2!$A$2:$B$5,2,FALSE),Feuil3!A9,INDEX(Feuil2!$A$2:$A$5,MATCH(Feuil3!A9,Feuil2!$A$2:$A$5,0)+1,1)) -> 3303260055016
A11: =IF(COUNTIF(OFFSET($A$2,0,0,ROW(A10)-1,1),A10)<VLOOKUP(A10,Feuil2!$A$2:$B$5,2,FALSE),Feuil3!A10,INDEX(Feuil2!$A$2:$A$5,MATCH(Feuil3!A10,Feuil2!$A$2:$A$5,0)+1,1)) -> 3303260055016
A12: =IF(COUNTIF(OFFSET($A$2,0,0,ROW(A11)-1,1),A11)<VLOOKUP(A11,Feuil2!$A$2:$B$5,2,FALSE),Feuil3!A11,INDEX(Feuil2!$A$2:$A$5,MATCH(Feuil3!A11,Feuil2!$A$2:$A$5,0)+1,1)) -> 3303260055016
A13: =IF(COUNTIF(OFFSET($A$2,0,0,ROW(A12)-1,1),A12)<VLOOKUP(A12,Feuil2!$A$2:$B$5,2,FALSE),Feuil3!A12,INDEX(Feuil2!$A$2:$A$5,MATCH(Feuil3!A12,Feuil2!$A$2:$A$5,0)+1,1)) -> 3303260055016
A14: =IF(COUNTIF(OFFSET($A$2,0,0,ROW(A13)-1,1),A13)<VLOOKUP(A13,Feuil2!$A$2:$B$5,2,FALSE),Feuil3!A13,INDEX(Feuil2!$A$2:$A$5,MATCH(Feuil3!A13,Feuil2!$A$2:$A$5,0)+1,1)) -> 3303260055016
A15: =IF(COUNTIF(OFFSET($A$2,0,0,ROW(A14)-1,1),A14)<VLOOKUP(A14,Feuil2!$A$2:$B$5,2,FALSE),Feuil3!A14,INDEX(Feuil2!$A$2:$A$5,MATCH(Feuil3!A14,Feuil2!$A$2:$A$5,0)+1,1)) -> 3700372702843
... A29: =IF(COUNTIF(OFFSET($A$2,0,0,ROW(A28)-1,1),A28)<VLOOKUP(A28,Feuil2!$A$2:$B$5,2,FALSE),Feuil3!A28,INDEX(Feuil2!$A$2:$A$5,MATCH(Feuil3!A28,Feuil2!$A$2:$A$5,0)+1,1)) -> #REF!

Sheet Feuil4
A1: 3303260055016
A2: 3303260055016
A3: 3303260055016
A4: 3303260055016
A5: 3303260055016
A6: 3303260055016
A7: 3303260055016
A8: 3303260055016
A9: 3303260055016
A10: 3303260055016
A11: 3303260055016
A12: 3303260055016
... A27: 6013
