Workbook

Sheet copier-coller
B1: 725 rue Valiquette | D1: 0
B2: Montreal | D2: =MATCH(411,B1:B19,0) -> 19
B3: 1945 1 2 | D3: =D2+MATCH(411,OFFSET($B$1,D2,0,50,1),0) -> 38
B4: Proprietaire(s) | D4: =D3+MATCH(411,OFFSET($B$1,D3,0,50,1),0) -> 57
B5: H4H2E1 | D5: =D4+MATCH(411,OFFSET($B$1,D4,0,50,1),0) -> 76
B6: Détaché | D6: =D5+MATCH(411,OFFSET($B$1,D5,0,50,1),0) -> 80
B7: Unifamilial | D7: =D6+MATCH(411,OFFSET($B$1,D6,0,50,1),0) -> 99
B8: Logements Etages | D8: =D7+MATCH(411,OFFSET($B$1,D7,0,50,1),0) -> 118
B9: Derniere Transaction | D9: =D8+MATCH(411,OFFSET($B$1,D8,0,50,1),0) -> 122
B10: Vente | D10: =D9+MATCH(411,OFFSET($B$1,D9,0,50,1),0) -> 148
B11: Contrepartie : | D11: =D10+MATCH(411,OFFSET($B$1,D10,0,50,1),0) -> 152
B12: Evaluation : $665,700 | D12: =D11+MATCH(411,OFFSET($B$1,D11,0,50,1),0) -> 171
B13: $552,000 | D13: =D12+MATCH(411,OFFSET($B$1,D12,0,50,1),0) -> 190
B14: 41774 | D14: =D13+MATCH(411,OFFSET($B$1,D13,0,50,1),0) -> 194
B15: Immeuble | D15: =D14+MATCH(411,OFFSET($B$1,D14,0,50,1),0) -> 211
B16: Construction : 725 Rue Valiquette | D16: =D15+MATCH(411,OFFSET($B$1,D15,0,50,1),0) -> 230
B17: Karim Andre Bassal | D17: =D16+MATCH(411,OFFSET($B$1,D16,0,50,1),0) -> 249
B18: Montreal | D18: =D17+MATCH(411,OFFSET($B$1,D17,0,50,1),0) -> 275
B19: 411 | D19: =D18+MATCH(411,OFFSET($B$1,D18,0,50,1),0) -> 279
B20: 731-735 rue Valiquette | D20: =D19+MATCH(411,OFFSET($B$1,D19,0,50,1),0) -> 283
B21: Montreal | D21: =D20+MATCH(411,OFFSET($B$1,D20,0,50,1),0) -> 302
B22: 1946 2 2 | D22: =D21+MATCH(411,OFFSET($B$1,D21,0,50,1),0) -> 321
B23: Proprietaire(s) | D23: =D22+MATCH(411,OFFSET($B$1,D22,0,50,1),0) -> 325
B24: H4H2E1 | D24: =D23+MATCH(411,OFFSET($B$1,D23,0,50,1),0) -> 344
B25: Attaché | D25: =D24+MATCH(411,OFFSET($B$1,D24,0,50,1),0) -> 363
B26: Duplex | D26: =D25+MATCH(411,OFFSET($B$1,D25,0,50,1),0) -> 367
B27: Logements Etages | D27: =D26+MATCH(411,OFFSET($B$1,D26,0,50,1),0) -> 393
B28: Derniere Transaction | D28: =D27+MATCH(411,OFFSET($B$1,D27,0,50,1),0) -> 397
B29: Hypotheque | D29: =D28+MATCH(411,OFFSET($B$1,D28,0,50,1),0) -> 416
B30: Contrepartie : | D30: =D29+MATCH(411,OFFSET($B$1,D29,0,50,1),0) -> 435
B31: Evaluation : $433,900 | D31: =D30+MATCH(411,OFFSET($B$1,D30,0,50,1),0) -> 454
B32: $412,000 | D32: =D31+MATCH(411,OFFSET($B$1,D31,0,50,1),0) -> 471
B33: 41661 | D33: =D32+MATCH(411,OFFSET($B$1,D32,0,50,1),0) -> 475
B34: Immeuble | D34: =D33+MATCH(411,OFFSET($B$1,D33,0,50,1),0) -> 492
B35: Construction : 731 Rue Valiquette | D35: =D34+MATCH(411,OFFSET($B$1,D34,0,50,1),0) -> 518
B36: Claude Paquette | D36: =D35+MATCH(411,OFFSET($B$1,D35,0,50,1),0) -> 537
B37: Montreal | D37: =D36+MATCH(411,OFFSET($B$1,D36,0,50,1),0) -> 541
B38: 411 | D38: =D37+MATCH(411,OFFSET($B$1,D37,0,50,1),0) -> 560
B39: 753-759 rue Valiquette | D39: =D38+MATCH(411,OFFSET($B$1,D38,0,50,1),0) -> 579
B40: Montreal | D40: =D39+MATCH(411,OFFSET($B$1,D39,0,50,1),0) -> 598
B41: 1948 3 2 | D41: =D40+MATCH(411,OFFSET($B$1,D40,0,50,1),0) -> 617
B42: Proprietaire(s) | D42: =D41+MATCH(411,OFFSET($B$1,D41,0,50,1),0) -> 636
B43: H4H2E1 | D43: =D42+MATCH(411,OFFSET($B$1,D42,0,50,1),0) -> 660
B44: Semi-détaché | D44: =D43+MATCH(411,OFFSET($B$1,D43,0,50,1),0) -> 664
B45: Triplex | D45: =D44+MATCH(411,OFFSET($B$1,D44,0,50,1),0) -> 683
B46: Logements Etages | D46: =D45+MATCH(411,OFFSET($B$1,D45,0,50,1),0) -> 700
B47: Derniere Transaction | D47: =D46+MATCH(411,OFFSET($B$1,D46,0,50,1),0) -> 719
B48: Vente | D48: =D47+MATCH(411,OFFSET($B$1,D47,0,50,1),0) -> 723
B49: Contrepartie : | D49: =D48+MATCH(411,OFFSET($B$1,D48,0,50,1),0) -> 742
B50: Evaluation : $575,100 | D50: =D49+MATCH(411,OFFSET($B$1,D49,0,50,1),0) -> 759
B51: $427,500 | D51: =D50+MATCH(411,OFFSET($B$1,D50,0,50,1),0) -> 785
B52: 39693 | D52: =D51+MATCH(411,OFFSET($B$1,D51,0,50,1),0) -> 789
B53: Immeuble | D53: =D52+MATCH(411,OFFSET($B$1,D52,0,50,1),0) -> 806
B54: Construction : 755 Rue Valiquette | D54: =D53+MATCH(411,OFFSET($B$1,D53,0,50,1),0) -> 810
B55: Brigitte Cloutier | D55: =D54+MATCH(411,OFFSET($B$1,D54,0,50,1),0) -> 829
B56: Montreal | D56: =D55+MATCH(411,OFFSET($B$1,D55,0,50,1),0) -> 848
B57: 411 | D57: =D56+MATCH(411,OFFSET($B$1,D56,0,50,1),0) -> 867
B58: 760-762 rue Valiquette | D58: =D57+MATCH(411,OFFSET($B$1,D57,0,50,1),0) -> 871
B59: Montreal | D59: =D58+MATCH(411,OFFSET($B$1,D58,0,50,1),0) -> 890
B60: 1944 2 2 | D60: =D59+MATCH(411,OFFSET($B$1,D59,0,50,1),0) -> 914
B61: Proprietaire(s) | D61: =D60+MATCH(411,OFFSET($B$1,D60,0,50,1),0) -> 918
B62: H4H2E2 | D62: =D61+MATCH(411,OFFSET($B$1,D61,0,50,1),0) -> 937
B63: Détaché | D63: =D62+MATCH(411,OFFSET($B$1,D62,0,50,1),0) -> 956
B64: Duplex | D64: =D63+MATCH(411,OFFSET($B$1,D63,0,50,1),0) -> 975
B65: Logements Etages | D65: =D64+MATCH(411,OFFSET($B$1,D64,0,50,1),0) -> 979
B66: Derniere Transaction | D66: =D65+MATCH(411,OFFSET($B$1,D65,0,50,1),0) -> 998
B67: Vente | D67: =D66+MATCH(411,OFFSET($B$1,D66,0,50,1),0) -> 1017
B68: Contrepartie : | D68: =D67+MATCH(411,OFFSET($B$1,D67,0,50,1),0) -> 1043
B69: Evaluation : $655,400 | D69: =D68+MATCH(411,OFFSET($B$1,D68,0,50,1),0) -> 1047
B70: $700,000 | D70: =D69+MATCH(411,OFFSET($B$1,D69,0,50,1),0) -> 1066
B71: 42118 | D71: =D70+MATCH(411,OFFSET($B$1,D70,0,50,1),0) -> 1070
B72: Immeuble | D72: =D71+MATCH(411,OFFSET($B$1,D71,0,50,1),0) -> 1089
B73: Construction : 760 Rue Valiquette | D73: =D72+MATCH(411,OFFSET($B$1,D72,0,50,1),0) -> 1093
B74: Audrey Vachon-Audit | D74: =D73+MATCH(411,OFFSET($B$1,D73,0,50,1),0) -> 1112
B75: Montreal | D75: =D74+MATCH(411,OFFSET($B$1,D74,0,50,1),0) -> 1131
B76: 411 | D76: =D75+MATCH(411,OFFSET($B$1,D75,0,50,1),0) -> 1150
B77: 760 Rue Valiquette | D77: =D76+MATCH(411,OFFSET($B$1,D76,0,50,1),0) -> 1174
B78: Daniel Coyle | D78: =D77+MATCH(411,OFFSET($B$1,D77,0,50,1),0) -> 1178
B79: Montreal | D79: =D78+MATCH(411,OFFSET($B$1,D78,0,50,1),0) -> 1197
B80: 411 | D80: =D79+MATCH(411,OFFSET($B$1,D79,0,50,1),0) -> 1201
B81: 761-767 rue Valiquette | D81: =D80+MATCH(411,OFFSET($B$1,D80,0,50,1),0) -> 1220
B82: Montreal | D82: =D81+MATCH(411,OFFSET($B$1,D81,0,50,1),0) -> 1224
B83: 1945 4 2 | D83: =D82+MATCH(411,OFFSET($B$1,D82,0,50,1),0) -> 1243
B84: Proprietaire(s) | D84: =D83+MATCH(411,OFFSET($B$1,D83,0,50,1),0) -> 1262
B85: H4H2E1 | D85: =D84+MATCH(411,OFFSET($B$1,D84,0,50,1),0) -> 1266
B86: Attaché | D86: =D85+MATCH(411,OFFSET($B$1,D85,0,50,1),0) -> 1285
B87: 4 à 11 logements | D87: =D86+MATCH(411,OFFSET($B$1,D86,0,50,1),0) -> 1311
B88: Logements Etages | D88: =D87+MATCH(411,OFFSET($B$1,D87,0,50,1),0) -> 1330
B89: Derniere Transaction | D89: =D88+MATCH(411,OFFSET($B$1,D88,0,50,1),0) -> 1334
B90: Vente | D90: =D89+MATCH(411,OFFSET($B$1,D89,0,50,1),0) -> 1353
B91: Contrepartie : | D91: =D90+MATCH(411,OFFSET($B$1,D90,0,50,1),0) -> 1372
B92: Evaluation : $614,800 | D92: =D91+MATCH(411,OFFSET($B$1,D91,0,50,1),0) -> 1391
B93: $298,500 | D93: =D92+MATCH(411,OFFSET($B$1,D92,0,50,1),0) -> 1410
B94: 37972 | D94: =D93+MATCH(411,OFFSET($B$1,D93,0,50,1),0) -> 1414
B95: Immeuble | D95: =D94+MATCH(411,OFFSET($B$1,D94,0,50,1),0) -> 1440
B96: Construction : 767 Valiquette | D96: =D95+MATCH(411,OFFSET($B$1,D95,0,50,1),0) -> 1459
B97: Leslie Macdonald | D97: =D96+MATCH(411,OFFSET($B$1,D96,0,50,1),0) -> 1478
B98: Verdun | D98: =D97+MATCH(411,OFFSET($B$1,D97,0,50,1),0) -> 1497
B99: 411 | D99: =D98+MATCH(411,OFFSET($B$1,D98,0,50,1),0) -> 1514
B100: 776-782 rue Valiquette | D100: =D99+MATCH(411,OFFSET($B$1,D99,0,50,1),0) -> 1518
...

Sheet resultat
D3: Info sur la PROPRIÉTÉ | I3: Coordonnées du PROPRIÉTAIRE
B4: Date | C4: Nom | D4: Adresse | E4: App. | F4: Code Postal | G4: Type de Propriété | H4: Dernière vente | I4: Adresse P | J4: App.-P | K4: Ville-P | L4: Code Postal-P | M4: Téléphone-P | N4: Autres informations | O4: Statut | P4: Type | Q4: Notes
A5: 1 | B5: 02/05/2016 | C5: =OFFSET('copier-coller'!$B$1,'copier-coller'!D2-3,0,1,1) -> Karim Andre Bassal | D5: =IF('copier-coller'!D2-'copier-coller'!D1>21,OFFSET('copier-coller'!$B$1,'copier-coller'!D1+7,0,1,1),IF('copier-coller'!D2-'copier-coller'!D1>10,OFFSET('copier-coller'!$B$1,'copier-coller'!D1,0,1,1),D4)) -> 725 rue Valiquette | F5: =IF(LEN(OFFSET('copier-coller'!$B$1,'copier-coller'!D1+4,0,1,1))=6,OFFSET('copier-coller'!$B$1,'copier-coller'!D1+4,0,1,1),F4) -> H4H2E1 | G5: =IF(OR(ISNUMBER(RIGHT(OFFSET('copier-coller'!$B$1,'copier-coller'!D1+6,0,1,1),1)*1),OFFSET('copier-coller'!$B$1,'copier-coller'!D1+6,0,1,1)="Liste Prospection"),G4,IF(OFFSET('copier-coller'!$B$1,'copier-coller'!D1+6,0,1,1)="L'information recueillie sur JLR.ca est publiée exclusivement à l'usage de son membre utilisateur.",OFFSET('copier-coller'!$B$1,'copier-coller'!D1+13,0,1,1),OFFSET('copier-coller'!$B$1,'copier-coller'!D1+6,0,1,1))) -> Unifamilial | H5: =IF(LEFT(OFFSET('copier-coller'!$B$1,'copier-coller'!D2-6,0,1,1),1)="$","pas de dat de vente",IF(ISTEXT(OFFSET('copier-coller'!$B$1,'copier-coller'!D2-6,0,1,1)),H4,OFFSET('copier-coller'!$B$1,'copier-coller'!D2-6,0,1,1))) -> 41774 | I5: =IF(ISERROR(FIND("Construction",OFFSET('copier-coller'!$B$1,'copier-coller'!D2-4,0,1,1),1)),OFFSET('copier-coller'!$B$1,'copier-coller'!D2-4,0,1,1),RIGHT(OFFSET('copier-coller'!$B$1,'copier-coller'!D2-4,0,1,1),LEN(OFFSET('copier-coller'!$B$1,'copier-coller'!D2-4,0,1,1))-15)) -> 725 Rue Valiquette | K5: =OFFSET('copier-coller'!$B$1,'copier-coller'!D2-2,0,1,1) -> Montreal
A6: 2 | C6: =OFFSET('copier-coller'!$B$1,'copier-coller'!D3-3,0,1,1) -> Claude Paquette | D6: =IF('copier-coller'!D3-'copier-coller'!D2>21,OFFSET('copier-coller'!$B$1,'copier-coller'!D2+7,0,1,1),IF('copier-coller'!D3-'copier-coller'!D2>10,OFFSET('copier-coller'!$B$1,'copier-coller'!D2,0,1,1),D5)) -> 731-735 rue Valiquette | F6: =IF(LEN(OFFSET('copier-coller'!$B$1,'copier-coller'!D2+4,0,1,1))=6,OFFSET('copier-coller'!$B$1,'copier-coller'!D2+4,0,1,1),F5) -> H4H2E1 | G6: =IF(OR(ISNUMBER(RIGHT(OFFSET('copier-coller'!$B$1,'copier-coller'!D2+6,0,1,1),1)*1),OFFSET('copier-coller'!$B$1,'copier-coller'!D2+6,0,1,1)="Liste Prospection"),G5,IF(OFFSET('copier-coller'!$B$1,'copier-coller'!D2+6,0,1,1)="L'information recueillie sur JLR.ca est publiée exclusivement à l'usage de son membre utilisateur.",OFFSET('copier-coller'!$B$1,'copier-coller'!D2+13,0,1,1),OFFSET('copier-coller'!$B$1,'copier-coller'!D2+6,0,1,1))) -> Duplex | H6: =IF(LEFT(OFFSET('copier-coller'!$B$1,'copier-coller'!D3-6,0,1,1),1)="$","pas de dat de vente",IF(ISTEXT(OFFSET('copier-coller'!$B$1,'copier-coller'!D3-6,0,1,1)),H5,OFFSET('copier-coller'!$B$1,'copier-coller'!D3-6,0,1,1))) -> 41661 | I6: =IF(ISERROR(FIND("Construction",OFFSET('copier-coller'!$B$1,'copier-coller'!D3-4,0,1,1),1)),OFFSET('copier-coller'!$B$1,'copier-coller'!D3-4,0,1,1),RIGHT(OFFSET('copier-coller'!$B$1,'copier-coller'!D3-4,0,1,1),LEN(OFFSET('copier-coller'!$B$1,'copier-coller'!D3-4,0,1,1))-15)) -> 731 Rue Valiquette | K6: =OFFSET('copier-coller'!$B$1,'copier-coller'!D3-2,0,1,1) -> Montreal
A7: 3 | C7: =OFFSET('copier-coller'!$B$1,'copier-coller'!D4-3,0,1,1) -> Brigitte Cloutier | D7: =IF('copier-coller'!D4-'copier-coller'!D3>21,OFFSET('copier-coller'!$B$1,'copier-coller'!D3+7,0,1,1),IF('copier-coller'!D4-'copier-coller'!D3>10,OFFSET('copier-coller'!$B$1,'copier-coller'!D3,0,1,1),D6)) -> 753-759 rue Valiquette | F7: =IF(LEN(OFFSET('copier-coller'!$B$1,'copier-coller'!D3+4,0,1,1))=6,OFFSET('copier-coller'!$B$1,'copier-coller'!D3+4,0,1,1),F6) -> H4H2E1 | G7: =IF(OR(ISNUMBER(RIGHT(OFFSET('copier-coller'!$B$1,'copier-coller'!D3+6,0,1,1),1)*1),OFFSET('copier-coller'!$B$1,'copier-coller'!D3+6,0,1,1)="Liste Prospection"),G6,IF(OFFSET('copier-coller'!$B$1,'copier-coller'!D3+6,0,1,1)="L'information recueillie sur JLR.ca est publiée exclusivement à l'usage de son membre utilisateur.",OFFSET('copier-coller'!$B$1,'copier-coller'!D3+13,0,1,1),OFFSET('copier-coller'!$B$1,'copier-coller'!D3+6,0,1,1))) -> Triplex | H7: =IF(LEFT(OFFSET('copier-coller'!$B$1,'copier-coller'!D4-6,0,1,1),1)="$","pas de dat de vente",IF(ISTEXT(OFFSET('copier-coller'!$B$1,'copier-coller'!D4-6,0,1,1)),H6,OFFSET('copier-coller'!$B$1,'copier-coller'!D4-6,0,1,1))) -> 39693 | I7: =IF(ISERROR(FIND("Construction",OFFSET('copier-coller'!$B$1,'copier-coller'!D4-4,0,1,1),1)),OFFSET('copier-coller'!$B$1,'copier-coller'!D4-4,0,1,1),RIGHT(OFFSET('copier-coller'!$B$1,'copier-coller'!D4-4,0,1,1),LEN(OFFSET('copier-coller'!$B$1,'copier-coller'!D4-4,0,1,1))-15)) -> 755 Rue Valiquette | K7: =OFFSET('copier-coller'!$B$1,'copier-coller'!D4-2,0,1,1) -> Montreal
A8: 4 | C8: =OFFSET('copier-coller'!$B$1,'copier-coller'!D5-3,0,1,1) -> Audrey Vachon-Audit | D8: =IF('copier-coller'!D5-'copier-coller'!D4>21,OFFSET('copier-coller'!$B$1,'copier-coller'!D4+7,0,1,1),IF('copier-coller'!D5-'copier-coller'!D4>10,OFFSET('copier-coller'!$B$1,'copier-coller'!D4,0,1,1),D7)) -> 760-762 rue Valiquette | F8: =IF(LEN(OFFSET('copier-coller'!$B$1,'copier-coller'!D4+4,0,1,1))=6,OFFSET('copier-coller'!$B$1,'copier-coller'!D4+4,0,1,1),F7) -> H4H2E2 | G8: =IF(OR(ISNUMBER(RIGHT(OFFSET('copier-coller'!$B$1,'copier-coller'!D4+6,0,1,1),1)*1),OFFSET('copier-coller'!$B$1,'copier-coller'!D4+6,0,1,1)="Liste Prospection"),G7,IF(OFFSET('copier-coller'!$B$1,'copier-coller'!D4+6,0,1,1)="L'information recueillie sur JLR.ca est publiée exclusivement à l'usage de son membre utilisateur.",OFFSET('copier-coller'!$B$1,'copier-coller'!D4+13,0,1,1),OFFSET('copier-coller'!$B$1,'copier-coller'!D4+6,0,1,1))) -> Duplex | H8: =IF(LEFT(OFFSET('copier-coller'!$B$1,'copier-coller'!D5-6,0,1,1),1)="$","pas de dat de vente",IF(ISTEXT(OFFSET('copier-coller'!$B$1,'copier-coller'!D5-6,0,1,1)),H7,OFFSET('copier-coller'!$B$1,'copier-coller'!D5-6,0,1,1))) -> 42118 | I8: =IF(ISERROR(FIND("Construction",OFFSET('copier-coller'!$B$1,'copier-coller'!D5-4,0,1,1),1)),OFFSET('copier-coller'!$B$1,'copier-coller'!D5-4,0,1,1),RIGHT(OFFSET('copier-coller'!$B$1,'copier-coller'!D5-4,0,1,1),LEN(OFFSET('copier-coller'!$B$1,'copier-coller'!D5-4,0,1,1))-15)) -> 760 Rue Valiquette | K8: =OFFSET('copier-coller'!$B$1,'copier-coller'!D5-2,0,1,1) -> Montreal
A9: 5 | C9: =OFFSET('copier-coller'!$B$1,'copier-coller'!D6-3,0,1,1) -> Daniel Coyle | D9: =IF('copier-coller'!D6-'copier-coller'!D5>21,OFFSET('copier-coller'!$B$1,'copier-coller'!D5+7,0,1,1),IF('copier-coller'!D6-'copier-coller'!D5>10,OFFSET('copier-coller'!$B$1,'copier-coller'!D5,0,1,1),D8)) -> 760-762 rue Valiquette | F9: =IF(LEN(OFFSET('copier-coller'!$B$1,'copier-coller'!D5+4,0,1,1))=6,OFFSET('copier-coller'!$B$1,'copier-coller'!D5+4,0,1,1),F8) -> H4H2E2 | G9: =IF(OR(ISNUMBER(RIGHT(OFFSET('copier-coller'!$B$1,'copier-coller'!D5+6,0,1,1),1)*1),OFFSET('copier-coller'!$B$1,'copier-coller'!D5+6,0,1,1)="Liste Prospection"),G8,IF(OFFSET('copier-coller'!$B$1,'copier-coller'!D5+6,0,1,1)="L'information recueillie sur JLR.ca est publiée exclusivement à l'usage de son membre utilisateur.",OFFSET('copier-coller'!$B$1,'copier-coller'!D5+13,0,1,1),OFFSET('copier-coller'!$B$1,'copier-coller'!D5+6,0,1,1))) -> Duplex | H9: =IF(LEFT(OFFSET('copier-coller'!$B$1,'copier-coller'!D6-6,0,1,1),1)="$","pas de dat de vente",IF(ISTEXT(OFFSET('copier-coller'!$B$1,'copier-coller'!D6-6,0,1,1)),H8,OFFSET('copier-coller'!$B$1,'copier-coller'!D6-6,0,1,1))) -> 42118 | I9: =IF(ISERROR(FIND("Construction",OFFSET('copier-coller'!$B$1,'copier-coller'!D6-4,0,1,1),1)),OFFSET('copier-coller'!$B$1,'copier-coller'!D6-4,0,1,1),RIGHT(OFFSET('copier-coller'!$B$1,'copier-coller'!D6-4,0,1,1),LEN(OFFSET('copier-coller'!$B$1,'copier-coller'!D6-4,0,1,1))-15)) -> 760 Rue Valiquette | K9: =OFFSET('copier-coller'!$B$1,'copier-coller'!D6-2,0,1,1) -> Montreal
A10: 6 | C10: =OFFSET('copier-coller'!$B$1,'copier-coller'!D7-3,0,1,1) -> Leslie Macdonald | D10: =IF('copier-coller'!D7-'copier-coller'!D6>21,OFFSET('copier-coller'!$B$1,'copier-coller'!D6+7,0,1,1),IF('copier-coller'!D7-'copier-coller'!D6>10,OFFSET('copier-coller'!$B$1,'copier-coller'!D6,0,1,1),D9)) -> 761-767 rue Valiquette | F10: =IF(LEN(OFFSET('copier-coller'!$B$1,'copier-coller'!D6+4,0,1,1))=6,OFFSET('copier-coller'!$B$1,'copier-coller'!D6+4,0,1,1),F9) -> H4H2E1 | G10: =IF(OR(ISNUMBER(RIGHT(OFFSET('copier-coller'!$B$1,'copier-coller'!D6+6,0,1,1),1)*1),OFFSET('copier-coller'!$B$1,'copier-coller'!D6+6,0,1,1)="Liste Prospection"),G9,IF(OFFSET('copier-coller'!$B$1,'copier-coller'!D6+6,0,1,1)="L'information recueillie sur JLR.ca est publiée exclusivement à l'usage de son membre utilisateur.",OFFSET('copier-coller'!$B$1,'copier-coller'!D6+13,0,1,1),OFFSET('copier-coller'!$B$1,'copier-coller'!D6+6,0,1,1))) -> 4 à 11 logements | H10: =IF(LEFT(OFFSET('copier-coller'!$B$1,'copier-coller'!D7-6,0,1,1),1)="$","pas de dat de vente",IF(ISTEXT(OFFSET('copier-coller'!$B$1,'copier-coller'!D7-6,0,1,1)),H9,OFFSET('copier-coller'!$B$1,'copier-coller'!D7-6,0,1,1))) -> 37972 | I10: =IF(ISERROR(FIND("Construction",OFFSET('copier-coller'!$B$1,'copier-coller'!D7-4,0,1,1),1)),OFFSET('copier-coller'!$B$1,'copier-coller'!D7-4,0,1,1),RIGHT(OFFSET('copier-coller'!$B$1,'copier-coller'!D7-4,0,1,1),LEN(OFFSET('copier-coller'!$B$1,'copier-coller'!D7-4,0,1,1))-15)) -> 767 Valiquette | K10: =OFFSET('copier-coller'!$B$1,'copier-coller'!D7-2,0,1,1) -> Verdun
A11: 7 | C11: =OFFSET('copier-coller'!$B$1,'copier-coller'!D8-3,0,1,1) -> Jean-Pierre Serra | D11: =IF('copier-coller'!D8-'copier-coller'!D7>21,OFFSET('copier-coller'!$B$1,'copier-coller'!D7+7,0,1,1),IF('copier-coller'!D8-'copier-coller'!D7>10,OFFSET('copier-coller'!$B$1,'copier-coller'!D7,0,1,1),D10)) -> 776-782 rue Valiquette | F11: =IF(LEN(OFFSET('copier-coller'!$B$1,'copier-coller'!D7+4,0,1,1))=6,OFFSET('copier-coller'!$B$1,'copier-coller'!D7+4,0,1,1),F10) -> H4H2E2 | G11: =IF(OR(ISNUMBER(RIGHT(OFFSET('copier-coller'!$B$1,'copier-coller'!D7+6,0,1,1),1)*1),OFFSET('copier-coller'!$B$1,'copier-coller'!D7+6,0,1,1)="Liste Prospection"),G10,IF(OFFSET('copier-coller'!$B$1,'copier-coller'!D7+6,0,1,1)="L'information recueillie sur JLR.ca est publiée exclusivement à l'usage de son membre utilisateur.",OFFSET('copier-coller'!$B$1,'copier-coller'!D7+13,0,1,1),OFFSET('copier-coller'!$B$1,'copier-coller'!D7+6,0,1,1))) -> Triplex | H11: =IF(LEFT(OFFSET('copier-coller'!$B$1,'copier-coller'!D8-6,0,1,1),1)="$","pas de dat de vente",IF(ISTEXT(OFFSET('copier-coller'!$B$1,'copier-coller'!D8-6,0,1,1)),H10,OFFSET('copier-coller'!$B$1,'copier-coller'!D8-6,0,1,1))) -> 40808 | I11: =IF(ISERROR(FIND("Construction",OFFSET('copier-coller'!$B$1,'copier-coller'!D8-4,0,1,1),1)),OFFSET('copier-coller'!$B$1,'copier-coller'!D8-4,0,1,1),RIGHT(OFFSET('copier-coller'!$B$1,'copier-coller'!D8-4,0,1,1),LEN(OFFSET('copier-coller'!$B$1,'copier-coller'!D8-4,0,1,1))-15)) -> 776 Rue Valiquette | K11: =OFFSET('copier-coller'!$B$1,'copier-coller'!D8-2,0,1,1) -> Montreal
A12: 8 | C12: =OFFSET('copier-coller'!$B$1,'copier-coller'!D9-3,0,1,1) -> Sylvia Otvos | D12: =IF('copier-coller'!D9-'copier-coller'!D8>21,OFFSET('copier-coller'!$B$1,'copier-coller'!D8+7,0,1,1),IF('copier-coller'!D9-'copier-coller'!D8>10,OFFSET('copier-coller'!$B$1,'copier-coller'!D8,0,1,1),D11)) -> 776-782 rue Valiquette | F12: =IF(LEN(OFFSET('copier-coller'!$B$1,'copier-coller'!D8+4,0,1,1))=6,OFFSET('copier-coller'!$B$1,'copier-coller'!D8+4,0,1,1),F11) -> H4H2E2 | G12: =IF(OR(ISNUMBER(RIGHT(OFFSET('copier-coller'!$B$1,'copier-coller'!D8+6,0,1,1),1)*1),OFFSET('copier-coller'!$B$1,'copier-coller'!D8+6,0,1,1)="Liste Prospection"),G11,IF(OFFSET('copier-coller'!$B$1,'copier-coller'!D8+6,0,1,1)="L'information recueillie sur JLR.ca est publiée exclusivement à l'usage de son membre utilisateur.",OFFSET('copier-coller'!$B$1,'copier-coller'!D8+13,0,1,1),OFFSET('copier-coller'!$B$1,'copier-coller'!D8+6,0,1,1))) -> Triplex | H12: =IF(LEFT(OFFSET('copier-coller'!$B$1,'copier-coller'!D9-6,0,1,1),1)="$","pas de dat de vente",IF(ISTEXT(OFFSET('copier-coller'!$B$1,'copier-coller'!D9-6,0,1,1)),H11,OFFSET('copier-coller'!$B$1,'copier-coller'!D9-6,0,1,1))) -> 40808 | I12: =IF(ISERROR(FIND("Construction",OFFSET('copier-coller'!$B$1,'copier-coller'!D9-4,0,1,1),1)),OFFSET('copier-coller'!$B$1,'copier-coller'!D9-4,0,1,1),RIGHT(OFFSET('copier-coller'!$B$1,'copier-coller'!D9-4,0,1,1),LEN(OFFSET('copier-coller'!$B$1,'copier-coller'!D9-4,0,1,1))-15)) -> 776 Rue Valiquette | K12: =OFFSET('copier-coller'!$B$1,'copier-coller'!D9-2,0,1,1) -> Montreal
A13: 9 | C13: =OFFSET('copier-coller'!$B$1,'copier-coller'!D10-3,0,1,1) -> Annick Campeau | D13: =IF('copier-coller'!D10-'copier-coller'!D9>21,OFFSET('copier-coller'!$B$1,'copier-coller'!D9+7,0,1,1),IF('copier-coller'!D10-'copier-coller'!D9>10,OFFSET('copier-coller'!$B$1,'copier-coller'!D9,0,1,1),D12)) -> 791-797 rue Valiquette | F13: =IF(LEN(OFFSET('copier-coller'!$B$1,'copier-coller'!D9+4,0,1,1))=6,OFFSET('copier-coller'!$B$1,'copier-coller'!D9+4,0,1,1),F12) -> H4H2E2 | G13: =IF(OR(ISNUMBER(RIGHT(OFFSET('copier-coller'!$B$1,'copier-coller'!D9+6,0,1,1),1)*1),OFFSET('copier-coller'!$B$1,'copier-coller'!D9+6,0,1,1)="Liste Prospection"),G12,IF(OFFSET('copier-coller'!$B$1,'copier-coller'!D9+6,0,1,1)="L'information recueillie sur JLR.ca est publiée exclusivement à l'usage de son membre utilisateur.",OFFSET('copier-coller'!$B$1,'copier-coller'!D9+13,0,1,1),OFFSET('copier-coller'!$B$1,'copier-coller'!D9+6,0,1,1))) -> 4 à 11 logements | H13: =IF(LEFT(OFFSET('copier-coller'!$B$1,'copier-coller'!D10-6,0,1,1),1)="$","pas de dat de vente",IF(ISTEXT(OFFSET('copier-coller'!$B$1,'copier-coller'!D10-6,0,1,1)),H12,OFFSET('copier-coller'!$B$1,'copier-coller'!D10-6,0,1,1))) -> 41281 | I13: =IF(ISERROR(FIND("Construction",OFFSET('copier-coller'!$B$1,'copier-coller'!D10-4,0,1,1),1)),OFFSET('copier-coller'!$B$1,'copier-coller'!D10-4,0,1,1),RIGHT(OFFSET('copier-coller'!$B$1,'copier-coller'!D10-4,0,1,1),LEN(OFFSET('copier-coller'!$B$1,'copier-coller'!D10-4,0,1,1))-15)) -> 791 Rue Valiquette | K13: =OFFSET('copier-coller'!$B$1,'copier-coller'!D10-2,0,1,1) -> Verdun
A14: 10 | C14: =OFFSET('copier-coller'!$B$1,'copier-coller'!D11-3,0,1,1) -> Alexis Hamel | D14: =IF('copier-coller'!D11-'copier-coller'!D10>21,OFFSET('copier-coller'!$B$1,'copier-coller'!D10+7,0,1,1),IF('copier-coller'!D11-'copier-coller'!D10>10,OFFSET('copier-coller'!$B$1,'copier-coller'!D10,0,1,1),D13)) -> 791-797 rue Valiquette | F14: =IF(LEN(OFFSET('copier-coller'!$B$1,'copier-coller'!D10+4,0,1,1))=6,OFFSET('copier-coller'!$B$1,'copier-coller'!D10+4,0,1,1),F13) -> H4H2E2 | G14: =IF(OR(ISNUMBER(RIGHT(OFFSET('copier-coller'!$B$1,'copier-coller'!D10+6,0,1,1),1)*1),OFFSET('copier-coller'!$B$1,'copier-coller'!D10+6,0,1,1)="Liste Prospection"),G13,IF(OFFSET('copier-coller'!$B$1,'copier-coller'!D10+6,0,1,1)="L'information recueillie sur JLR.ca est publiée exclusivement à l'usage de son membre utilisateur.",OFFSET('copier-coller'!$B$1,'copier-coller'!D10+13,0,1,1),OFFSET('copier-coller'!$B$1,'copier-coller'!D10+6,0,1,1))) -> 4 à 11 logements | H14: =IF(LEFT(OFFSET('copier-coller'!$B$1,'copier-coller'!D11-6,0,1,1),1)="$","pas de dat de vente",IF(ISTEXT(OFFSET('copier-coller'!$B$1,'copier-coller'!D11-6,0,1,1)),H13,OFFSET('copier-coller'!$B$1,'copier-coller'!D11-6,0,1,1))) -> 41281 | I14: =IF(ISERROR(FIND("Construction",OFFSET('copier-coller'!$B$1,'copier-coller'!D11-4,0,1,1),1)),OFFSET('copier-coller'!$B$1,'copier-coller'!D11-4,0,1,1),RIGHT(OFFSET('copier-coller'!$B$1,'copier-coller'!D11-4,0,1,1),LEN(OFFSET('copier-coller'!$B$1,'copier-coller'!D11-4,0,1,1))-15)) -> 791 Rue Valiquette | K14: =OFFSET('copier-coller'!$B$1,'copier-coller'!D11-2,0,1,1) -> Verdun
A15: 11 | C15: =OFFSET('copier-coller'!$B$1,'copier-coller'!D12-3,0,1,1) -> Jean Lataille | D15: =IF('copier-coller'!D12-'copier-coller'!D11>21,OFFSET('copier-coller'!$B$1,'copier-coller'!D11+7,0,1,1),IF('copier-coller'!D12-'copier-coller'!D11>10,OFFSET('copier-coller'!$B$1,'copier-coller'!D11,0,1,1),D14)) -> 798-802 rue Valiquette | F15: =IF(LEN(OFFSET('copier-coller'!$B$1,'copier-coller'!D11+4,0,1,1))=6,OFFSET('copier-coller'!$B$1,'copier-coller'!D11+4,0,1,1),F14) -> H4H2E2 | G15: =IF(OR(ISNUMBER(RIGHT(OFFSET('copier-coller'!$B$1,'copier-coller'!D11+6,0,1,1),1)*1),OFFSET('copier-coller'!$B$1,'copier-coller'!D11+6,0,1,1)="Liste Prospection"),G14,IF(OFFSET('copier-coller'!$B$1,'copier-coller'!D11+6,0,1,1)="L'information recueillie sur JLR.ca est publiée exclusivement à l'usage de son membre utilisateur.",OFFSET('copier-coller'!$B$1,'copier-coller'!D11+13,0,1,1),OFFSET('copier-coller'!$B$1,'copier-coller'!D11+6,0,1,1))) -> Triplex | H15: =IF(LEFT(OFFSET('copier-coller'!$B$1,'copier-coller'!D12-6,0,1,1),1)="$","pas de dat de vente",IF(ISTEXT(OFFSET('copier-coller'!$B$1,'copier-coller'!D12-6,0,1,1)),H14,OFFSET('copier-coller'!$B$1,'copier-coller'!D12-6,0,1,1))) -> 37028 | I15: =IF(ISERROR(FIND("Construction",OFFSET('copier-coller'!$B$1,'copier-coller'!D12-4,0,1,1),1)),OFFSET('copier-coller'!$B$1,'copier-coller'!D12-4,0,1,1),RIGHT(OFFSET('copier-coller'!$B$1,'copier-coller'!D12-4,0,1,1),LEN(OFFSET('copier-coller'!$B$1,'copier-coller'!D12-4,0,1,1))-15)) -> 798 Rue Valiquette | K15: =OFFSET('copier-coller'!$B$1,'copier-coller'!D12-2,0,1,1) -> Montreal
A16: 12 | C16: =OFFSET('copier-coller'!$B$1,'copier-coller'!D13-3,0,1,1) -> Jayarajah Moorugesu | D16: =IF('copier-coller'!D13-'copier-coller'!D12>21,OFFSET('copier-coller'!$B$1,'copier-coller'!D12+7,0,1,1),IF('copier-coller'!D13-'copier-coller'!D12>10,OFFSET('copier-coller'!$B$1,'copier-coller'!D12,0,1,1),D15)) -> 799-805 rue Valiquette | F16: =IF(LEN(OFFSET('copier-coller'!$B$1,'copier-coller'!D12+4,0,1,1))=6,OFFSET('copier-coller'!$B$1,'copier-coller'!D12+4,0,1,1),F15) -> H4H2E1 | G16: =IF(OR(ISNUMBER(RIGHT(OFFSET('copier-coller'!$B$1,'copier-coller'!D12+6,0,1,1),1)*1),OFFSET('copier-coller'!$B$1,'copier-coller'!D12+6,0,1,1)="Liste Prospection"),G15,IF(OFFSET('copier-coller'!$B$1,'copier-coller'!D12+6,0,1,1)="L'information recueillie sur JLR.ca est publiée exclusivement à l'usage de son membre utilisateur.",OFFSET('copier-coller'!$B$1,'copier-coller'!D12+13,0,1,1),OFFSET('copier-coller'!$B$1,'copier-coller'!D12+6,0,1,1))) -> 4 à 11 logements | H16: =IF(LEFT(OFFSET('copier-coller'!$B$1,'copier-coller'!D13-6,0,1,1),1)="$","pas de dat de vente",IF(ISTEXT(OFFSET('copier-coller'!$B$1,'copier-coller'!D13-6,0,1,1)),H15,OFFSET('copier-coller'!$B$1,'copier-coller'!D13-6,0,1,1))) -> 40338 | I16: =IF(ISERROR(FIND("Construction",OFFSET('copier-coller'!$B$1,'copier-coller'!D13-4,0,1,1),1)),OFFSET('copier-coller'!$B$1,'copier-coller'!D13-4,0,1,1),RIGHT(OFFSET('copier-coller'!$B$1,'copier-coller'!D13-4,0,1,1),LEN(OFFSET('copier-coller'!$B$1,'copier-coller'!D13-4,0,1,1))-15)) -> 805 Rue Valiquette | K16: =OFFSET('copier-coller'!$B$1,'copier-coller'!D13-2,0,1,1) -> Verdun
A17: 13 | C17: =OFFSET('copier-coller'!$B$1,'copier-coller'!D14-3,0,1,1) -> Rangini Thamotharampillai | D17: =IF('copier-coller'!D14-'copier-coller'!D13>21,OFFSET('copier-coller'!$B$1,'copier-coller'!D13+7,0,1,1),IF('copier-coller'!D14-'copier-coller'!D13>10,OFFSET('copier-coller'!$B$1,'copier-coller'!D13,0,1,1),D16)) -> 799-805 rue Valiquette | F17: =IF(LEN(OFFSET('copier-coller'!$B$1,'copier-coller'!D13+4,0,1,1))=6,OFFSET('copier-coller'!$B$1,'copier-coller'!D13+4,0,1,1),F16) -> H4H2E1 | G17: =IF(OR(ISNUMBER(RIGHT(OFFSET('copier-coller'!$B$1,'copier-coller'!D13+6,0,1,1),1)*1),OFFSET('copier-coller'!$B$1,'copier-coller'!D13+6,0,1,1)="Liste Prospection"),G16,IF(OFFSET('copier-coller'!$B$1,'copier-coller'!D13+6,0,1,1)="L'information recueillie sur JLR.ca est publiée exclusivement à l'usage de son membre utilisateur.",OFFSET('copier-coller'!$B$1,'copier-coller'!D13+13,0,1,1),OFFSET('copier-coller'!$B$1,'copier-coller'!D13+6,0,1,1))) -> 4 à 11 logements | H17: =IF(LEFT(OFFSET('copier-coller'!$B$1,'copier-coller'!D14-6,0,1,1),1)="$","pas de dat de vente",IF(ISTEXT(OFFSET('copier-coller'!$B$1,'copier-coller'!D14-6,0,1,1)),H16,OFFSET('copier-coller'!$B$1,'copier-coller'!D14-6,0,1,1))) -> 40338 | I17: =IF(ISERROR(FIND("Construction",OFFSET('copier-coller'!$B$1,'copier-coller'!D14-4,0,1,1),1)),OFFSET('copier-coller'!$B$1,'copier-coller'!D14-4,0,1,1),RIGHT(OFFSET('copier-coller'!$B$1,'copier-coller'!D14-4,0,1,1),LEN(OFFSET('copier-coller'!$B$1,'copier-coller'!D14-4,0,1,1))-15)) -> 805 Rue Valiquette | K17: =OFFSET('copier-coller'!$B$1,'copier-coller'!D14-2,0,1,1) -> Verdun
... A72: 68 | C72: =OFFSET('copier-coller'!$B$1,'copier-coller'!D69-3,0,1,1) -> Pierre Belleau | D72: =IF('copier-coller'!D69-'copier-coller'!D68>21,OFFSET('copier-coller'!$B$1,'copier-coller'!D68+7,0,1,1),IF('copier-coller'!D69-'copier-coller'!D68>10,OFFSET('copier-coller'!$B$1,'copier-coller'!D68,0,1,1),D71)) -> 1049-1051 rue Valiquette | F72: =IF(LEN(OFFSET('copier-coller'!$B$1,'copier-coller'!D68+4,0,1,1))=6,OFFSET('copier-coller'!$B$1,'copier-coller'!D68+4,0,1,1),F71) -> H4H2E3 | G72: =IF(OR(ISNUMBER(RIGHT(OFFSET('copier-coller'!$B$1,'copier-coller'!D68+6,0,1,1),1)*1),OFFSET('copier-coller'!$B$1,'copier-coller'!D68+6,0,1,1)="Liste Prospection"),G71,IF(OFFSET('copier-coller'!$B$1,'copier-coller'!D68+6,0,1,1)="L'information recueillie sur JLR.ca est publiée exclusivement à l'usage de son membre utilisateur.",OFFSET('copier-coller'!$B$1,'copier-coller'!D68+13,0,1,1),OFFSET('copier-coller'!$B$1,'copier-coller'!D68+6,0,1,1))) -> Duplex | H72: =IF(LEFT(OFFSET('copier-coller'!$B$1,'copier-coller'!D69-6,0,1,1),1)="$","pas de dat de vente",IF(ISTEXT(OFFSET('copier-coller'!$B$1,'copier-coller'!D69-6,0,1,1)),H71,OFFSET('copier-coller'!$B$1,'copier-coller'!D69-6,0,1,1))) -> 38337 | I72: =IF(ISERROR(FIND("Construction",OFFSET('copier-coller'!$B$1,'copier-coller'!D69-4,0,1,1),1)),OFFSET('copier-coller'!$B$1,'copier-coller'!D69-4,0,1,1),RIGHT(OFFSET('copier-coller'!$B$1,'copier-coller'!D69-4,0,1,1),LEN(OFFSET('copier-coller'!$B$1,'copier-coller'!D69-4,0,1,1))-15)) -> 1049 Valiquette | K72: =OFFSET('copier-coller'!$B$1,'copier-coller'!D69-2,0,1,1) -> Verdun
A73: 69
A74: 70
A75: 71
A76: 72
A77: 73
A78: 74
A79: 75
A80: 76
A81: 77
A82: 78
A83: 79
A84: 80
... A150: 146
