Workbook

Sheet GRILLE
A2: GRILLE INDICIAIRE ANCIEN ET NOUVEAU (Revalorisé)
A4: Grade | B4: Grade | C4: Indice (A) | D4: Indice revalorisé pour les autres Ministères sectoriels (=A*1,10) | E4: Indice revalorisé : B=A*1,25 | F4: Indice revalorisé : C=B arrondi | G4: Prochain av simple | H4: Grade 5 | I4: Grade 8 | J4: Grade11 | K4: Grade 12
A5: A101 | B5: A1-1 | C5: 425 | D5: 467.5 | E5: 531.25 | F5: 531.25 | G5: 2 | H5: 7 | I5: 12 | J5: 17 | K5: 18
A6: A102 | B6: A1-2 | C6: 490 | D6: 539 | E6: 612.5 | F6: 612.5 | G6: 2 | H6: 5 | I6: 10 | J6: 15 | K6: 16
A7: A103 | B7: A1-3 | C7: 555 | D7: 610.5 | E7: 693.75 | F7: 693.75 | G7: 2 | H7: 3 | I7: 8 | J7: 13 | K7: 14
A8: A104 | B8: A1-4 | C8: 620 | D8: 682 | E8: 775 | F8: 775 | G8: 3 | H8: 1 | I8: 6 | J8: 11 | K8: 12
A9: A105 | B9: A1-5 | C9: 730 | D9: 803 | E9: 912.5 | F9: 912.5 | G9: 2 | I9: 5 | J9: 10 | K9: 11
A10: A106 | B10: A1-6 | C10: 815 | D10: 896.5 | E10: 1018.75 | F10: 1018.75 | G10: 2 | I10: 3 | J10: 8 | K10: 9
A11: A107 | B11: A1-7 | C11: 880 | D11: 968 | E11: 1100 | F11: 1100 | G11: 3 | I11: 1 | J11: 6 | K11: 7
A12: A108 | B12: A1-8 | C12: 1020 | D12: 1122 | E12: 1275 | F12: 1275 | G12: 2 | J12: 5 | K12: 4
A13: A109 | B13: A1-9 | C13: 1090 | D13: 1199 | E13: 1362.5 | F13: 1362.5 | G13: 2 | J13: 3 | K13: 2
A14: A110 | B14: A1-10 | C14: 1165 | D14: 1281.5 | E14: 1456.25 | F14: 1456.25 | J14: 1 | K14: 2
A15: A111 | B15: A1-11 | C15: 1250 | D15: 1375 | E15: 1562.5 | F15: 1562.5 | K15: 1
A16: A112 | B16: A1-12 | C16: 1300 | D16: 1430 | E16: 1625 | F16: 1625
A17: A201 | B17: A2-1 | C17: 375 | D17: 412.5 | E17: 468.75 | F17: 468.75 | G17: 2 | H17: 7 | I17: 12 | J17: 17 | K17: 18
A18: A202 | B18: A2-2 | C18: 425 | D18: 467.5 | E18: 531.25 | F18: 531.25 | G18: 2 | H18: 5 | I18: 10 | J18: 15 | K18: 16
A19: A203 | B19: A2-3 | C19: 475 | D19: 522.5 | E19: 593.75 | F19: 593.75 | G19: 2 | H19: 3 | I19: 8 | J19: 13 | K19: 14
A20: A204 | B20: A2-4 | C20: 525 | D20: 577.5 | E20: 656.25 | F20: 656.25 | G20: 3 | H20: 1 | I20: 6 | J20: 11 | K20: 12
A21: A205 | B21: A2-5 | C21: 625 | D21: 687.5 | E21: 781.25 | F21: 781.25 | G21: 2 | I21: 5 | J21: 10 | K21: 11
A22: A206 | B22: A2-6 | C22: 675 | D22: 742.5 | E22: 843.75 | F22: 843.75 | G22: 2 | I22: 3 | J22: 8 | K22: 9
A23: A207 | B23: A2-7 | C23: 725 | D23: 797.5 | E23: 906.25 | F23: 906.25 | G23: 3 | I23: 1 | J23: 6 | K23: 7
A24: A208 | B24: A2-8 | C24: 850 | D24: 935 | E24: 1062.5 | F24: 1062.5 | G24: 2 | J24: 5 | K24: 4
A25: A209 | B25: A2-9 | C25: 900 | D25: 990 | E25: 1125 | F25: 1125 | G25: 2 | J25: 3 | K25: 2
A26: A210 | B26: A2-10 | C26: 950 | D26: 1045 | E26: 1187.5 | F26: 1187.5 | J26: 1 | K26: 2
A27: A211 | B27: A2-11 | C27: 1000 | D27: 1100 | E27: 1250 | F27: 1250 | K27: 1
A28: A212 | B28: A2-12 | C28: 1100 | D28: 1210 | E28: 1375 | F28: 1375
A29: A301 | B29: A3-1 | C29: 340 | D29: 374 | E29: 425 | F29: 425 | G29: 2 | H29: 7 | I29: 12 | J29: 17 | K29: 18
A30: A302 | B30: A3-2 | C30: 380 | D30: 418 | E30: 475 | F30: 475 | G30: 2 | H30: 5 | I30: 10 | J30: 15 | K30: 16
A31: A303 | B31: A3-3 | C31: 420 | D31: 462 | E31: 525 | F31: 525 | G31: 2 | H31: 3 | I31: 8 | J31: 13 | K31: 14
A32: A304 | B32: A3-4 | C32: 460 | D32: 506 | E32: 575 | F32: 575 | G32: 3 | H32: 1 | I32: 6 | J32: 11 | K32: 12
A33: A305 | B33: A3-5 | C33: 520 | D33: 572 | E33: 650 | F33: 650 | G33: 2 | I33: 5 | J33: 10 | K33: 11
A34: A306 | B34: A3-6 | C34: 560 | D34: 616 | E34: 700 | F34: 700 | G34: 2 | I34: 3 | J34: 8 | K34: 9
A35: A307 | B35: A3-7 | C35: 600 | D35: 660 | E35: 750 | F35: 750 | G35: 3 | I35: 1 | J35: 6 | K35: 7
A36: A308 | B36: A3-8 | C36: 625 | D36: 687.5 | E36: 781.25 | F36: 781.25 | G36: 2 | J36: 5 | K36: 4
A37: A309 | B37: A3-9 | C37: 725 | D37: 797.5 | E37: 906.25 | F37: 906.25 | G37: 2 | J37: 3 | K37: 2
A38: A310 | B38: A3-10 | C38: 775 | D38: 852.5 | E38: 968.75 | F38: 968.75 | J38: 1 | K38: 2
A39: A311 | B39: A3-11 | C39: 850 | D39: 935 | E39: 1062.5 | F39: 1062.5 | K39: 1
A40: A312 | B40: A3-12 | C40: 925 | D40: 1017.5 | E40: 1156.25 | F40: 1156.25
A41: B101 | B41: B1-1 | C41: 300 | D41: 330 | E41: 375 | F41: 375 | G41: 2 | H41: 7 | I41: 12 | J41: 17 | K41: 18
A42: B102 | B42: B1-2 | C42: 335 | D42: 368.5 | E42: 418.75 | F42: 418.75 | G42: 2 | H42: 5 | I42: 10 | J42: 15 | K42: 16
...

Sheet Base
A2: Liste servant de base
A5: Nom | B5: Prénom | C5: Grade Actuel | D5: Indice actuel | E5: Date d'effet du Grade Actuel | F5: Date d'avancement simple Immédiat | G5: Date d'avancement de Grade 5è éch. | H5: Date d'avancement de Grade 8è éch. | I5: Date d'avancement de Grade 11è éch. | J5: Date d'avancement de Grade 12è éch. | K5: ALERTE : 1 Mois avant l'Avancement simple | L5: ALERTE : 1 Mois avant l'Avancement de Grade
A7: Bureau des Affaires Administratives
A9: CODJOVI | B9: Claude | C9: A1-3 | D9: =VLOOKUP(C9,GRILLE!$B$5:$F$160,5,FALSE) -> 693.75 | E9: 41845 | F9: =IF(VLOOKUP($C9,GRILLE!$B$5:$K$160,6,FALSE)="","",DATE(YEAR($E9)+VLOOKUP($C9,GRILLE!$B$5:$K$160,6,FALSE),MONTH($E9),DAY($E9))) -> 42576 | G9: =IF(VLOOKUP($C9,GRILLE!$B$5:$K$160,7,FALSE)="","",DATE(YEAR($E9)+VLOOKUP($C9,GRILLE!$B$5:$K$160,7,FALSE),MONTH($E9),DAY($E9))) -> 42941 | H9: =IF(VLOOKUP($C9,GRILLE!$B$5:$K$160,8,FALSE)="","",DATE(YEAR($E9)+VLOOKUP($C9,GRILLE!$B$5:$K$160,8,FALSE),MONTH($E9),DAY($E9))) -> 44767 | I9: =IF(VLOOKUP($C9,GRILLE!$B$5:$K$160,9,FALSE)="","",DATE(YEAR($E9)+VLOOKUP($C9,GRILLE!$B$5:$K$160,9,FALSE),MONTH($E9),DAY($E9))) -> 46593 | J9: =IF(VLOOKUP($C9,GRILLE!$B$5:$K$160,10,FALSE)="","",DATE(YEAR($E9)+VLOOKUP($C9,GRILLE!$B$5:$K$160,10,FALSE),MONTH($E9),DAY($E9))) -> 46959 | K9: =IF(F9="","",IF(F9-TODAY()<=30,"ALERTE","")) -> ALERTE | L9: =IF(E9="","",IF(MIN(G9:J9)-TODAY()<=60,"ALERTE",""))
A10: N'DAH | B10: Pierrette | C10: B2-8 | D10: =VLOOKUP(C10,GRILLE!$B$5:$F$160,5,FALSE) -> 662.5 | E10: 40241 | F10: =IF(VLOOKUP($C10,GRILLE!$B$5:$K$160,6,FALSE)="","",DATE(YEAR($E10)+VLOOKUP($C10,GRILLE!$B$5:$K$160,6,FALSE),MONTH($E10),DAY($E10))) -> 40972 | G10: =IF(VLOOKUP($C10,GRILLE!$B$5:$K$160,7,FALSE)="","",DATE(YEAR($E10)+VLOOKUP($C10,GRILLE!$B$5:$K$160,7,FALSE),MONTH($E10),DAY($E10))) | H10: =IF(VLOOKUP($C10,GRILLE!$B$5:$K$160,8,FALSE)="","",DATE(YEAR($E10)+VLOOKUP($C10,GRILLE!$B$5:$K$160,8,FALSE),MONTH($E10),DAY($E10))) | I10: =IF(VLOOKUP($C10,GRILLE!$B$5:$K$160,9,FALSE)="","",DATE(YEAR($E10)+VLOOKUP($C10,GRILLE!$B$5:$K$160,9,FALSE),MONTH($E10),DAY($E10))) -> 42067 | J10: =IF(VLOOKUP($C10,GRILLE!$B$5:$K$160,10,FALSE)="","",DATE(YEAR($E10)+VLOOKUP($C10,GRILLE!$B$5:$K$160,10,FALSE),MONTH($E10),DAY($E10))) -> 41702 | K10: =IF(F10="","",IF(F10-TODAY()<=30,"ALERTE","")) -> ALERTE | L10: =IF(E10="","",IF(MIN(G10:J10)-TODAY()<=60,"ALERTE","")) -> ALERTE
A11: ADANDEDJAN | B11: Johannes | C11: B1-9 | D11: =VLOOKUP(C11,GRILLE!$B$5:$F$160,5,FALSE) -> 850 | E11: 40210 | F11: =IF(VLOOKUP($C11,GRILLE!$B$5:$K$160,6,FALSE)="","",DATE(YEAR($E11)+VLOOKUP($C11,GRILLE!$B$5:$K$160,6,FALSE),MONTH($E11),DAY($E11))) -> 40940 | G11: =IF(VLOOKUP($C11,GRILLE!$B$5:$K$160,7,FALSE)="","",DATE(YEAR($E11)+VLOOKUP($C11,GRILLE!$B$5:$K$160,7,FALSE),MONTH($E11),DAY($E11))) | H11: =IF(VLOOKUP($C11,GRILLE!$B$5:$K$160,8,FALSE)="","",DATE(YEAR($E11)+VLOOKUP($C11,GRILLE!$B$5:$K$160,8,FALSE),MONTH($E11),DAY($E11))) | I11: =IF(VLOOKUP($C11,GRILLE!$B$5:$K$160,9,FALSE)="","",DATE(YEAR($E11)+VLOOKUP($C11,GRILLE!$B$5:$K$160,9,FALSE),MONTH($E11),DAY($E11))) -> 41306 | J11: =IF(VLOOKUP($C11,GRILLE!$B$5:$K$160,10,FALSE)="","",DATE(YEAR($E11)+VLOOKUP($C11,GRILLE!$B$5:$K$160,10,FALSE),MONTH($E11),DAY($E11))) -> 40940 | K11: =IF(F11="","",IF(F11-TODAY()<=30,"ALERTE","")) -> ALERTE | L11: =IF(E11="","",IF(MIN(G11:J11)-TODAY()<=60,"ALERTE","")) -> ALERTE
A12: ADANDEDJAN | B12: Johannes | C12: B1-10 | D12: =VLOOKUP(C12,GRILLE!$B$5:$F$160,5,FALSE) -> 893.75 | E12: 40210 | F12: =IF(VLOOKUP($C12,GRILLE!$B$5:$K$160,6,FALSE)="","",DATE(YEAR($E12)+VLOOKUP($C12,GRILLE!$B$5:$K$160,6,FALSE),MONTH($E12),DAY($E12))) | G12: =IF(VLOOKUP($C12,GRILLE!$B$5:$K$160,7,FALSE)="","",DATE(YEAR($E12)+VLOOKUP($C12,GRILLE!$B$5:$K$160,7,FALSE),MONTH($E12),DAY($E12))) | H12: =IF(VLOOKUP($C12,GRILLE!$B$5:$K$160,8,FALSE)="","",DATE(YEAR($E12)+VLOOKUP($C12,GRILLE!$B$5:$K$160,8,FALSE),MONTH($E12),DAY($E12))) | I12: =IF(VLOOKUP($C12,GRILLE!$B$5:$K$160,9,FALSE)="","",DATE(YEAR($E12)+VLOOKUP($C12,GRILLE!$B$5:$K$160,9,FALSE),MONTH($E12),DAY($E12))) -> 40575 | J12: =IF(VLOOKUP($C12,GRILLE!$B$5:$K$160,10,FALSE)="","",DATE(YEAR($E12)+VLOOKUP($C12,GRILLE!$B$5:$K$160,10,FALSE),MONTH($E12),DAY($E12))) -> 40940 | K12: =IF(F12="","",IF(F12-TODAY()<=30,"ALERTE","")) | L12: =IF(E12="","",IF(MIN(G12:J12)-TODAY()<=60,"ALERTE","")) -> ALERTE
A13: ADANDEDJAN | B13: Johannes | C13: B1-11 | D13: =VLOOKUP(C13,GRILLE!$B$5:$F$160,5,FALSE) -> 937.5 | E13: 42370 | F13: =IF(VLOOKUP($C13,GRILLE!$B$5:$K$160,6,FALSE)="","",DATE(YEAR($E13)+VLOOKUP($C13,GRILLE!$B$5:$K$160,6,FALSE),MONTH($E13),DAY($E13))) | G13: =IF(VLOOKUP($C13,GRILLE!$B$5:$K$160,7,FALSE)="","",DATE(YEAR($E13)+VLOOKUP($C13,GRILLE!$B$5:$K$160,7,FALSE),MONTH($E13),DAY($E13))) | H13: =IF(VLOOKUP($C13,GRILLE!$B$5:$K$160,8,FALSE)="","",DATE(YEAR($E13)+VLOOKUP($C13,GRILLE!$B$5:$K$160,8,FALSE),MONTH($E13),DAY($E13))) | I13: =IF(VLOOKUP($C13,GRILLE!$B$5:$K$160,9,FALSE)="","",DATE(YEAR($E13)+VLOOKUP($C13,GRILLE!$B$5:$K$160,9,FALSE),MONTH($E13),DAY($E13))) | J13: =IF(VLOOKUP($C13,GRILLE!$B$5:$K$160,10,FALSE)="","",DATE(YEAR($E13)+VLOOKUP($C13,GRILLE!$B$5:$K$160,10,FALSE),MONTH($E13),DAY($E13))) -> 42736 | K13: =IF(F13="","",IF(F13-TODAY()<=30,"ALERTE","")) | L13: =IF(E13="","",IF(MIN(G13:J13)-TODAY()<=60,"ALERTE",""))
A14: ADANDEDJAN | B14: Johannes | C14: B1-12 | D14: =VLOOKUP(C14,GRILLE!$B$5:$F$160,5,FALSE) -> 1031.25 | F14: =IF(VLOOKUP($C14,GRILLE!$B$5:$K$160,6,FALSE)="","",DATE(YEAR($E14)+VLOOKUP($C14,GRILLE!$B$5:$K$160,6,FALSE),MONTH($E14),DAY($E14))) | G14: =IF(VLOOKUP($C14,GRILLE!$B$5:$K$160,7,FALSE)="","",DATE(YEAR($E14)+VLOOKUP($C14,GRILLE!$B$5:$K$160,7,FALSE),MONTH($E14),DAY($E14))) | H14: =IF(VLOOKUP($C14,GRILLE!$B$5:$K$160,8,FALSE)="","",DATE(YEAR($E14)+VLOOKUP($C14,GRILLE!$B$5:$K$160,8,FALSE),MONTH($E14),DAY($E14))) | I14: =IF(VLOOKUP($C14,GRILLE!$B$5:$K$160,9,FALSE)="","",DATE(YEAR($E14)+VLOOKUP($C14,GRILLE!$B$5:$K$160,9,FALSE),MONTH($E14),DAY($E14))) | J14: =IF(VLOOKUP($C14,GRILLE!$B$5:$K$160,10,FALSE)="","",DATE(YEAR($E14)+VLOOKUP($C14,GRILLE!$B$5:$K$160,10,FALSE),MONTH($E14),DAY($E14))) | K14: =IF(F14="","",IF(F14-TODAY()<=30,"ALERTE","")) | L14: =IF(E14="","",IF(MIN(G14:J14)-TODAY()<=60,"ALERTE",""))
