Workbook

Sheet GRILLE
A2: GRILLE INDICIAIRE ANCIEN ET NOUVEAU (Revalorisé)
A4: Grade | B4: Grade | C4: Indice (A) | D4: Indice revalorisé pour les autres Ministères sectoriels (=A*1,10) | E4: Indice revalorisé : B=A*1,25 | F4: Indice revalorisé : C=B arrondi | G4: Prochain av simple | H4: Grade 5 | I4: Grade 8 | J4: Grade11 | K4: Grade 12
A5: A101 | B5: A1-1 | C5: 425 | D5: 467.5 | E5: 531.25 | F5: 531.25 | G5: 2 | H5: 7 | I5: 12 | J5: 17 | K5: 18
A6: A102 | B6: A1-2 | C6: 490 | D6: 539 | E6: 612.5 | F6: 612.5 | G6: 2 | H6: 5 | I6: 10 | J6: 15 | K6: 16
A7: A103 | B7: A1-3 | C7: 555 | D7: 610.5 | E7: 693.75 | F7: 693.75 | G7: 2 | H7: 3 | I7: 8 | J7: 13 | K7: 14
A8: A104 | B8: A1-4 | C8: 620 | D8: 682 | E8: 775 | F8: 775 | G8: 3 | H8: 1 | I8: 6 | J8: 11 | K8: 12
A9: A105 | B9: A1-5 | C9: 730 | D9: 803 | E9: 912.5 | F9: 912.5 | G9: 2 | I9: 5 | J9: 10 | K9: 11
A10: A106 | B10: A1-6 | C10: 815 | D10: 896.5 | E10: 1018.75 | F10: 1018.75 | G10: 2 | I10: 3 | J10: 8 | K10: 9
A11: A107 | B11: A1-7 | C11: 880 | D11: 968 | E11: 1100 | F11: 1100 | G11: 3 | I11: 1 | J11: 6 | K11: 7
A12: A108 | B12: A1-8 | C12: 1020 | D12: 1122 | E12: 1275 | F12: 1275 | G12: 2 | J12: 5 | K12: 4
A13: A109 | B13: A1-9 | C13: 1090 | D13: 1199 | E13: 1362.5 | F13: 1362.5 | G13: 2 | J13: 3 | K13: 2
A14: A110 | B14: A1-10 | C14: 1165 | D14: 1281.5 | E14: 1456.25 | F14: 1456.25 | J14: 1 | K14: 2
A15: A111 | B15: A1-11 | C15: 1250 | D15: 1375 | E15: 1562.5 | F15: 1562.5 | K15: 1
A16: A112 | B16: A1-12 | C16: 1300 | D16: 1430 | E16: 1625 | F16: 1625
A17: A201 | B17: A2-1 | C17: 375 | D17: 412.5 | E17: 468.75 | F17: 468.75 | G17: 2 | H17: 7 | I17: 12 | J17: 17 | K17: 18
A18: A202 | B18: A2-2 | C18: 425 | D18: 467.5 | E18: 531.25 | F18: 531.25 | G18: 2 | H18: 5 | I18: 10 | J18: 15 | K18: 16
A19: A203 | B19: A2-3 | C19: 475 | D19: 522.5 | E19: 593.75 | F19: 593.75 | G19: 2 | H19: 3 | I19: 8 | J19: 13 | K19: 14
A20: A204 | B20: A2-4 | C20: 525 | D20: 577.5 | E20: 656.25 | F20: 656.25 | G20: 3 | H20: 1 | I20: 6 | J20: 11 | K20: 12
A21: A205 | B21: A2-5 | C21: 625 | D21: 687.5 | E21: 781.25 | F21: 781.25 | G21: 2 | I21: 5 | J21: 10 | K21: 11
A22: A206 | B22: A2-6 | C22: 675 | D22: 742.5 | E22: 843.75 | F22: 843.75 | G22: 2 | I22: 3 | J22: 8 | K22: 9
A23: A207 | B23: A2-7 | C23: 725 | D23: 797.5 | E23: 906.25 | F23: 906.25 | G23: 3 | I23: 1 | J23: 6 | K23: 7
A24: A208 | B24: A2-8 | C24: 850 | D24: 935 | E24: 1062.5 | F24: 1062.5 | G24: 2 | J24: 5 | K24: 4
A25: A209 | B25: A2-9 | C25: 900 | D25: 990 | E25: 1125 | F25: 1125 | G25: 2 | J25: 3 | K25: 2
A26: A210 | B26: A2-10 | C26: 950 | D26: 1045 | E26: 1187.5 | F26: 1187.5 | J26: 1 | K26: 2
A27: A211 | B27: A2-11 | C27: 1000 | D27: 1100 | E27: 1250 | F27: 1250 | K27: 1
A28: A212 | B28: A2-12 | C28: 1100 | D28: 1210 | E28: 1375 | F28: 1375
A29: A301 | B29: A3-1 | C29: 340 | D29: 374 | E29: 425 | F29: 425 | G29: 2 | H29: 7 | I29: 12 | J29: 17 | K29: 18
A30: A302 | B30: A3-2 | C30: 380 | D30: 418 | E30: 475 | F30: 475 | G30: 2 | H30: 5 | I30: 10 | J30: 15 | K30: 16
A31: A303 | B31: A3-3 | C31: 420 | D31: 462 | E31: 525 | F31: 525 | G31: 2 | H31: 3 | I31: 8 | J31: 13 | K31: 14
A32: A304 | B32: A3-4 | C32: 460 | D32: 506 | E32: 575 | F32: 575 | G32: 3 | H32: 1 | I32: 6 | J32: 11 | K32: 12
A33: A305 | B33: A3-5 | C33: 520 | D33: 572 | E33: 650 | F33: 650 | G33: 2 | I33: 5 | J33: 10 | K33: 11
A34: A306 | B34: A3-6 | C34: 560 | D34: 616 | E34: 700 | F34: 700 | G34: 2 | I34: 3 | J34: 8 | K34: 9
A35: A307 | B35: A3-7 | C35: 600 | D35: 660 | E35: 750 | F35: 750 | G35: 3 | I35: 1 | J35: 6 | K35: 7
A36: A308 | B36: A3-8 | C36: 625 | D36: 687.5 | E36: 781.25 | F36: 781.25 | G36: 2 | J36: 5 | K36: 4
A37: A309 | B37: A3-9 | C37: 725 | D37: 797.5 | E37: 906.25 | F37: 906.25 | G37: 2 | J37: 3 | K37: 2
A38: A310 | B38: A3-10 | C38: 775 | D38: 852.5 | E38: 968.75 | F38: 968.75 | J38: 1 | K38: 2
A39: A311 | B39: A3-11 | C39: 850 | D39: 935 | E39: 1062.5 | F39: 1062.5 | K39: 1
A40: A312 | B40: A3-12 | C40: 925 | D40: 1017.5 | E40: 1156.25 | F40: 1156.25
A41: B101 | B41: B1-1 | C41: 300 | D41: 330 | E41: 375 | F41: 375 | G41: 2 | H41: 7 | I41: 12 | J41: 17 | K41: 18
A42: B102 | B42: B1-2 | C42: 335 | D42: 368.5 | E42: 418.75 | F42: 418.75 | G42: 2 | H42: 5 | I42: 10 | J42: 15 | K42: 16
A43: B103 | B43: B1-3 | C43: 370 | D43: 407 | E43: 462.5 | F43: 462.5 | G43: 2 | H43: 3 | I43: 8 | J43: 13 | K43: 14
A44: B104 | B44: B1-4 | C44: 405 | D44: 445.5 | E44: 506.25 | F44: 506.25 | G44: 3 | H44: 1 | I44: 6 | J44: 11 | K44: 12
A45: B105 | B45: B1-5 | C45: 490 | D45: 539 | E45: 612.5 | F45: 612.5 | G45: 2 | I45: 5 | J45: 10 | K45: 11
A46: B106 | B46: B1-6 | C46: 525 | D46: 577.5 | E46: 656.25 | F46: 656.25 | G46: 2 | I46: 3 | J46: 8 | K46: 9
A47: B107 | B47: B1-7 | C47: 560 | D47: 616 | E47: 700 | F47: 700 | G47: 3 | I47: 1 | J47: 6 | K47: 7
A48: B108 | B48: B1-8 | C48: 645 | D48: 709.5 | E48: 806.25 | F48: 806.25 | G48: 2 | J48: 5 | K48: 4
A49: B109 | B49: B1-9 | C49: 680 | D49: 748 | E49: 850 | F49: 850 | G49: 2 | J49: 3 | K49: 2
A50: B110 | B50: B1-10 | C50: 715 | D50: 786.5 | E50: 893.75 | F50: 893.75 | J50: 1 | K50: 2
A51: B111 | B51: B1-11 | C51: 750 | D51: 825 | E51: 937.5 | F51: 937.5 | K51: 1
A52: B112 | B52: B1-12 | C52: 825 | D52: 907.5 | E52: 1031.25 | F52: 1031.25
A53: B201 | B53: B2-1 | C53: 280 | D53: 308 | E53: 350 | F53: 350 | G53: 2 | H53: 7 | I53: 12 | J53: 17 | K53: 18
A54: B202 | B54: B2-2 | C54: 310 | D54: 341 | E54: 387.5 | F54: 387.5 | G54: 2 | H54: 5 | I54: 10 | J54: 15 | K54: 16
A55: B203 | B55: B2-3 | C55: 340 | D55: 374 | E55: 425 | F55: 425 | G55: 2 | H55: 3 | I55: 8 | J55: 13 | K55: 14
A56: B204 | B56: B2-4 | C56: 370 | D56: 407 | E56: 462.5 | F56: 462.5 | G56: 3 | H56: 1 | I56: 6 | J56: 11 | K56: 12
A57: B205 | B57: B2-5 | C57: 420 | D57: 462 | E57: 525 | F57: 525 | G57: 2 | I57: 5 | J57: 10 | K57: 11
A58: B206 | B58: B2-6 | C58: 450 | D58: 495 | E58: 562.5 | F58: 562.5 | G58: 2 | I58: 3 | J58: 8 | K58: 9
A59: B207 | B59: B2-7 | C59: 480 | D59: 528 | E59: 600 | F59: 600 | G59: 3 | I59: 1 | J59: 6 | K59: 7
A60: B208 | B60: B2-8 | C60: 530 | D60: 583 | E60: 662.5 | F60: 662.5 | G60: 2 | J60: 5 | K60: 4
A61: B209 | B61: B2-9 | C61: 560 | D61: 616 | E61: 700 | F61: 700 | G61: 2 | J61: 3 | K61: 2
A62: B210 | B62: B2-10 | C62: 590 | D62: 649 | E62: 737.5 | F62: 737.5 | J62: 1 | K62: 2
A63: B211 | B63: B2-11 | C63: 640 | D63: 704 | E63: 800 | F63: 800 | K63: 1
A64: B212 | B64: B2-12 | C64: 725 | D64: 797.5 | E64: 906.25 | F64: 906.25
A65: B301 | B65: B3-1 | C65: 250 | D65: 275 | E65: 312.5 | F65: 312.5 | G65: 2 | H65: 7 | I65: 12 | J65: 17 | K65: 18
A66: B302 | B66: B3-2 | C66: 270 | D66: 297 | E66: 337.5 | F66: 337.5 | G66: 2 | H66: 5 | I66: 10 | J66: 15 | K66: 16
A67: B303 | B67: B3-3 | C67: 290 | D67: 319 | E67: 362.5 | F67: 362.5 | G67: 2 | H67: 3 | I67: 8 | J67: 13 | K67: 14
A68: B304 | B68: B3-4 | C68: 310 | D68: 341 | E68: 387.5 | F68: 387.5 | G68: 3 | H68: 1 | I68: 6 | J68: 11 | K68: 12
A69: B305 | B69: B3-5 | C69: 360 | D69: 396 | E69: 450 | F69: 450 | G69: 2 | I69: 5 | J69: 10 | K69: 11
A70: B306 | B70: B3-6 | C70: 380 | D70: 418 | E70: 475 | F70: 475 | G70: 2 | I70: 3 | J70: 8 | K70: 9
A71: B307 | B71: B3-7 | C71: 400 | D71: 440 | E71: 500 | F71: 500 | G71: 3 | I71: 1 | J71: 6 | K71: 7
A72: B308 | B72: B3-8 | C72: 460 | D72: 506 | E72: 575 | F72: 575 | G72: 2 | J72: 5 | K72: 4
A73: B309 | B73: B3-9 | C73: 480 | D73: 528 | E73: 600 | F73: 600 | G73: 2 | J73: 3 | K73: 2
A74: B310 | B74: B3-10 | C74: 500 | D74: 550 | E74: 625 | F74: 625 | J74: 1 | K74: 2
A75: B311 | B75: B3-11 | C75: 520 | D75: 572 | E75: 650 | F75: 650 | K75: 1
A76: B312 | B76: B3-12 | C76: 590 | D76: 649 | E76: 737.5 | F76: 737.5
A77: C101 | B77: C1-1 | C77: 220 | D77: 242 | E77: 275 | F77: 275 | G77: 2 | H77: 7 | I77: 12 | J77: 17 | K77: 18
A78: C102 | B78: C1-2 | C78: 240 | D78: 264 | E78: 300 | F78: 300 | G78: 2 | H78: 5 | I78: 10 | J78: 15 | K78: 16
A79: C103 | B79: C1-3 | C79: 260 | D79: 286 | E79: 325 | F79: 325 | G79: 2 | H79: 3 | I79: 8 | J79: 13 | K79: 14
A80: C104 | B80: C1-4 | C80: 280 | D80: 308 | E80: 350 | F80: 350 | G80: 3 | H80: 1 | I80: 6 | J80: 11 | K80: 12
A81: C105 | B81: C1-5 | C81: 320 | D81: 352 | E81: 400 | F81: 400 | G81: 2 | I81: 5 | J81: 10 | K81: 11
A82: C106 | B82: C1-6 | C82: 340 | D82: 374 | E82: 425 | F82: 425 | G82: 2 | I82: 3 | J82: 8 | K82: 9
A83: C107 | B83: C1-7 | C83: 360 | D83: 396 | E83: 450 | F83: 450 | G83: 3 | I83: 1 | J83: 6 | K83: 7
A84: C108 | B84: C1-8 | C84: 400 | D84: 440 | E84: 500 | F84: 500 | G84: 2 | J84: 5 | K84: 4
A85: C109 | B85: C1-9 | C85: 420 | D85: 462 | E85: 525 | F85: 525 | G85: 2 | J85: 3 | K85: 2
A86: C110 | B86: C1-10 | C86: 440 | D86: 484 | E86: 550 | F86: 550 | J86: 1 | K86: 2
A87: C111 | B87: C1-11 | C87: 460 | D87: 506 | E87: 575 | F87: 575 | K87: 1
A88: C112 | B88: C1-12 | C88: 510 | D88: 561 | E88: 637.5 | F88: 637.5
A89: C201 | B89: C2-1 | C89: 200 | D89: 220 | E89: 250 | F89: 250 | G89: 2 | H89: 7 | I89: 12 | J89: 17 | K89: 18
A90: C202 | B90: C2-2 | C90: 215 | D90: 236.5 | E90: 268.75 | F90: 268.75 | G90: 2 | H90: 5 | I90: 10 | J90: 15 | K90: 16
A91: C203 | B91: C2-3 | C91: 230 | D91: 253 | E91: 287.5 | F91: 287.5 | G91: 2 | H91: 3 | I91: 8 | J91: 13 | K91: 14
A92: C204 | B92: C2-4 | C92: 245 | D92: 269.5 | E92: 306.25 | F92: 306.25 | G92: 3 | H92: 1 | I92: 6 | J92: 11 | K92: 12
A93: C205 | B93: C2-5 | C93: 280 | D93: 308 | E93: 350 | F93: 350 | G93: 2 | I93: 5 | J93: 10 | K93: 11
A94: C206 | B94: C2-6 | C94: 295 | D94: 324.5 | E94: 368.75 | F94: 368.75 | G94: 2 | I94: 3 | J94: 8 | K94: 9
A95: C207 | B95: C2-7 | C95: 310 | D95: 341 | E95: 387.5 | F95: 387.5 | G95: 3 | I95: 1 | J95: 6 | K95: 7
A96: C208 | B96: C2-8 | C96: 345 | D96: 379.5 | E96: 431.25 | F96: 431.25 | G96: 2 | J96: 5 | K96: 4
A97: C209 | B97: C2-9 | C97: 365 | D97: 401.5 | E97: 456.25 | F97: 456.25 | G97: 2 | J97: 3 | K97: 2
A98: C210 | B98: C2-10 | C98: 380 | D98: 418 | E98: 475 | F98: 475 | J98: 1 | K98: 2
A99: C211 | B99: C2-11 | C99: 400 | D99: 440 | E99: 500 | F99: 500 | K99: 1
A100: C212 | B100: C2-12 | C100: 450 | D100: 495 | E100: 562.5 | F100: 562.5
A101: C301 | B101: C3-01 | C101: 180 | D101: 198 | E101: 225 | F101: 225 | G101: 2 | H101: 7 | I101: 12 | J101: 17 | K101: 18
A102: C302 | B102: C3-2 | C102: 200 | D102: 220 | E102: 250 | F102: 250 | G102: 2 | H102: 5 | I102: 10 | J102: 15 | K102: 16
...

Sheet Base
A2: Liste servant de base
A5: Nom | B5: Prénom | C5: Grade Actuel | D5: Indice actuel | E5: Date d'effet du Grade Actuel | F5: Date d'avancement simple Immédiat | G5: Date d'avancement de Grade 5è éch. | H5: Date d'avancement de Grade 8è éch. | I5: Date d'avancement de Grade 11è éch. | J5: Date d'avancement de Grade 12è éch. | K5: ALERTE : 1 Mois avant l'Avancement simple | L5: ALERTE : 1 Mois avant l'Avancement de Grade
A7: Bureau des Affaires Administratives
A9: CODJOVI | B9: Claude | C9: A1-3 | D9: =VLOOKUP(C9,GRILLE!$B$5:$F$160,5,FALSE) -> 693.75 | E9: 41845 | F9: =IF(VLOOKUP($C9,GRILLE!$B$5:$K$160,6,FALSE)="","",DATE(YEAR($E9)+VLOOKUP($C9,GRILLE!$B$5:$K$160,6,FALSE),MONTH($E9),DAY($E9))) -> 42576 | G9: =IF(VLOOKUP($C9,GRILLE!$B$5:$K$160,7,FALSE)="","",DATE(YEAR($E9)+VLOOKUP($C9,GRILLE!$B$5:$K$160,7,FALSE),MONTH($E9),DAY($E9))) -> 42941 | H9: =IF(VLOOKUP($C9,GRILLE!$B$5:$K$160,8,FALSE)="","",DATE(YEAR($E9)+VLOOKUP($C9,GRILLE!$B$5:$K$160,8,FALSE),MONTH($E9),DAY($E9))) -> 44767 | I9: =IF(VLOOKUP($C9,GRILLE!$B$5:$K$160,9,FALSE)="","",DATE(YEAR($E9)+VLOOKUP($C9,GRILLE!$B$5:$K$160,9,FALSE),MONTH($E9),DAY($E9))) -> 46593 | J9: =IF(VLOOKUP($C9,GRILLE!$B$5:$K$160,10,FALSE)="","",DATE(YEAR($E9)+VLOOKUP($C9,GRILLE!$B$5:$K$160,10,FALSE),MONTH($E9),DAY($E9))) -> 46959 | K9: =IF(F9="","",IF(F9-TODAY()<=30,"ALERTE","")) -> ALERTE | L9: =IF(E9="","",IF(MIN(G9:J9)-TODAY()<=60,"ALERTE",""))
A10: N'DAH | B10: Pierrette | C10: B2-8 | D10: =VLOOKUP(C10,GRILLE!$B$5:$F$160,5,FALSE) -> 662.5 | E10: 40241 | F10: =IF(VLOOKUP($C10,GRILLE!$B$5:$K$160,6,FALSE)="","",DATE(YEAR($E10)+VLOOKUP($C10,GRILLE!$B$5:$K$160,6,FALSE),MONTH($E10),DAY($E10))) -> 40972 | G10: =IF(VLOOKUP($C10,GRILLE!$B$5:$K$160,7,FALSE)="","",DATE(YEAR($E10)+VLOOKUP($C10,GRILLE!$B$5:$K$160,7,FALSE),MONTH($E10),DAY($E10))) | H10: =IF(VLOOKUP($C10,GRILLE!$B$5:$K$160,8,FALSE)="","",DATE(YEAR($E10)+VLOOKUP($C10,GRILLE!$B$5:$K$160,8,FALSE),MONTH($E10),DAY($E10))) | I10: =IF(VLOOKUP($C10,GRILLE!$B$5:$K$160,9,FALSE)="","",DATE(YEAR($E10)+VLOOKUP($C10,GRILLE!$B$5:$K$160,9,FALSE),MONTH($E10),DAY($E10))) -> 42067 | J10: =IF(VLOOKUP($C10,GRILLE!$B$5:$K$160,10,FALSE)="","",DATE(YEAR($E10)+VLOOKUP($C10,GRILLE!$B$5:$K$160,10,FALSE),MONTH($E10),DAY($E10))) -> 41702 | K10: =IF(F10="","",IF(F10-TODAY()<=30,"ALERTE","")) -> ALERTE | L10: =IF(E10="","",IF(MIN(G10:J10)-TODAY()<=60,"ALERTE","")) -> ALERTE
A11: ADANDEDJAN | B11: Johannes | C11: B1-9 | D11: =VLOOKUP(C11,GRILLE!$B$5:$F$160,5,FALSE) -> 850 | E11: 40210 | F11: =IF(VLOOKUP($C11,GRILLE!$B$5:$K$160,6,FALSE)="","",DATE(YEAR($E11)+VLOOKUP($C11,GRILLE!$B$5:$K$160,6,FALSE),MONTH($E11),DAY($E11))) -> 40940 | G11: =IF(VLOOKUP($C11,GRILLE!$B$5:$K$160,7,FALSE)="","",DATE(YEAR($E11)+VLOOKUP($C11,GRILLE!$B$5:$K$160,7,FALSE),MONTH($E11),DAY($E11))) | H11: =IF(VLOOKUP($C11,GRILLE!$B$5:$K$160,8,FALSE)="","",DATE(YEAR($E11)+VLOOKUP($C11,GRILLE!$B$5:$K$160,8,FALSE),MONTH($E11),DAY($E11))) | I11: =IF(VLOOKUP($C11,GRILLE!$B$5:$K$160,9,FALSE)="","",DATE(YEAR($E11)+VLOOKUP($C11,GRILLE!$B$5:$K$160,9,FALSE),MONTH($E11),DAY($E11))) -> 41306 | J11: =IF(VLOOKUP($C11,GRILLE!$B$5:$K$160,10,FALSE)="","",DATE(YEAR($E11)+VLOOKUP($C11,GRILLE!$B$5:$K$160,10,FALSE),MONTH($E11),DAY($E11))) -> 40940 | K11: =IF(F11="","",IF(F11-TODAY()<=30,"ALERTE","")) -> ALERTE | L11: =IF(E11="","",IF(MIN(G11:J11)-TODAY()<=60,"ALERTE","")) -> ALERTE
A12: ADANDEDJAN | B12: Johannes | C12: B1-10 | D12: =VLOOKUP(C12,GRILLE!$B$5:$F$160,5,FALSE) -> 893.75 | E12: 40210 | F12: =IF(VLOOKUP($C12,GRILLE!$B$5:$K$160,6,FALSE)="","",DATE(YEAR($E12)+VLOOKUP($C12,GRILLE!$B$5:$K$160,6,FALSE),MONTH($E12),DAY($E12))) | G12: =IF(VLOOKUP($C12,GRILLE!$B$5:$K$160,7,FALSE)="","",DATE(YEAR($E12)+VLOOKUP($C12,GRILLE!$B$5:$K$160,7,FALSE),MONTH($E12),DAY($E12))) | H12: =IF(VLOOKUP($C12,GRILLE!$B$5:$K$160,8,FALSE)="","",DATE(YEAR($E12)+VLOOKUP($C12,GRILLE!$B$5:$K$160,8,FALSE),MONTH($E12),DAY($E12))) | I12: =IF(VLOOKUP($C12,GRILLE!$B$5:$K$160,9,FALSE)="","",DATE(YEAR($E12)+VLOOKUP($C12,GRILLE!$B$5:$K$160,9,FALSE),MONTH($E12),DAY($E12))) -> 40575 | J12: =IF(VLOOKUP($C12,GRILLE!$B$5:$K$160,10,FALSE)="","",DATE(YEAR($E12)+VLOOKUP($C12,GRILLE!$B$5:$K$160,10,FALSE),MONTH($E12),DAY($E12))) -> 40940 | K12: =IF(F12="","",IF(F12-TODAY()<=30,"ALERTE","")) | L12: =IF(E12="","",IF(MIN(G12:J12)-TODAY()<=60,"ALERTE","")) -> ALERTE
A13: ADANDEDJAN | B13: Johannes | C13: B1-11 | D13: =VLOOKUP(C13,GRILLE!$B$5:$F$160,5,FALSE) -> 937.5 | E13: 42370 | F13: =IF(VLOOKUP($C13,GRILLE!$B$5:$K$160,6,FALSE)="","",DATE(YEAR($E13)+VLOOKUP($C13,GRILLE!$B$5:$K$160,6,FALSE),MONTH($E13),DAY($E13))) | G13: =IF(VLOOKUP($C13,GRILLE!$B$5:$K$160,7,FALSE)="","",DATE(YEAR($E13)+VLOOKUP($C13,GRILLE!$B$5:$K$160,7,FALSE),MONTH($E13),DAY($E13))) | H13: =IF(VLOOKUP($C13,GRILLE!$B$5:$K$160,8,FALSE)="","",DATE(YEAR($E13)+VLOOKUP($C13,GRILLE!$B$5:$K$160,8,FALSE),MONTH($E13),DAY($E13))) | I13: =IF(VLOOKUP($C13,GRILLE!$B$5:$K$160,9,FALSE)="","",DATE(YEAR($E13)+VLOOKUP($C13,GRILLE!$B$5:$K$160,9,FALSE),MONTH($E13),DAY($E13))) | J13: =IF(VLOOKUP($C13,GRILLE!$B$5:$K$160,10,FALSE)="","",DATE(YEAR($E13)+VLOOKUP($C13,GRILLE!$B$5:$K$160,10,FALSE),MONTH($E13),DAY($E13))) -> 42736 | K13: =IF(F13="","",IF(F13-TODAY()<=30,"ALERTE","")) | L13: =IF(E13="","",IF(MIN(G13:J13)-TODAY()<=60,"ALERTE",""))
A14: ADANDEDJAN | B14: Johannes | C14: B1-12 | D14: =VLOOKUP(C14,GRILLE!$B$5:$F$160,5,FALSE) -> 1031.25 | F14: =IF(VLOOKUP($C14,GRILLE!$B$5:$K$160,6,FALSE)="","",DATE(YEAR($E14)+VLOOKUP($C14,GRILLE!$B$5:$K$160,6,FALSE),MONTH($E14),DAY($E14))) | G14: =IF(VLOOKUP($C14,GRILLE!$B$5:$K$160,7,FALSE)="","",DATE(YEAR($E14)+VLOOKUP($C14,GRILLE!$B$5:$K$160,7,FALSE),MONTH($E14),DAY($E14))) | H14: =IF(VLOOKUP($C14,GRILLE!$B$5:$K$160,8,FALSE)="","",DATE(YEAR($E14)+VLOOKUP($C14,GRILLE!$B$5:$K$160,8,FALSE),MONTH($E14),DAY($E14))) | I14: =IF(VLOOKUP($C14,GRILLE!$B$5:$K$160,9,FALSE)="","",DATE(YEAR($E14)+VLOOKUP($C14,GRILLE!$B$5:$K$160,9,FALSE),MONTH($E14),DAY($E14))) | J14: =IF(VLOOKUP($C14,GRILLE!$B$5:$K$160,10,FALSE)="","",DATE(YEAR($E14)+VLOOKUP($C14,GRILLE!$B$5:$K$160,10,FALSE),MONTH($E14),DAY($E14))) | K14: =IF(F14="","",IF(F14-TODAY()<=30,"ALERTE","")) | L14: =IF(E14="","",IF(MIN(G14:J14)-TODAY()<=60,"ALERTE",""))
