Workbook

Sheet GRILLE
A2: GRILLE INDICIAIRE ANCIEN ET NOUVEAU (Revalorisé)
A4: Grade | B4: Grade | C4: Indice (A) | E4: Indice revalorisé pour les autres Ministères sectoriels (=A*1,10) | G4: Indice revalorisé : B=A*1,25 | I4: Indice revalorisé : C=B arrondi
A5: A101 | B5: A1-1 | C5: 425 | E5: 467.5 | G5: 531.25 | I5: 531.25
A6: A102 | B6: A1-2 | C6: 490 | E6: 539 | G6: 612.5 | I6: 612.5
A7: A103 | B7: A1-3 | C7: 555 | E7: 610.5 | G7: 693.75 | I7: 693.75
A8: A104 | B8: A1-4 | C8: 620 | E8: 682 | G8: 775 | I8: 775
A9: A105 | B9: A1-5 | C9: 730 | E9: 803 | G9: 912.5 | I9: 912.5
A10: A106 | B10: A1-6 | C10: 815 | E10: 896.5 | G10: 1018.75 | I10: 1018.75
A11: A107 | B11: A1-7 | C11: 880 | E11: 968 | G11: 1100 | I11: 1100
A12: A108 | B12: A1-8 | C12: 1020 | E12: 1122 | G12: 1275 | I12: 1275
A13: A109 | B13: A1-9 | C13: 1090 | E13: 1199 | G13: 1362.5 | I13: 1362.5
A14: A110 | B14: A1-10 | C14: 1165 | E14: 1281.5 | G14: 1456.25 | I14: 1456.25
A15: A111 | B15: A1-11 | C15: 1250 | E15: 1375 | G15: 1562.5 | I15: 1562.5
A16: A112 | B16: A1-12 | C16: 1300 | E16: 1430 | G16: 1625 | I16: 1625
... A160: E112 | B160: E1-12 | C160: 235 | E160: 258.5 | G160: 293.75 | I160: 293.75

Sheet Base
A2: LISTE SERVANT DE BASE
A5: Numéro d'ordre | B5: Mle | C5: Nom | D5: Prénom | E5: Dernier Grade | F5: Indice actuel | G5: Date d'effet du Dernier Grade | H5: Date d'avancement simple | I5: Date d'avancement de Grade | J5: ALERTE : 1 Mois avant l'Avancement simple | K5: ALERTE : 1 Mois avant l'Avancement de Grade
A7: Service des Affaires Administratives
A9: 1 | B9: 52650 | C9: CODJOVI | D9: Claude | E9: A3-1 | F9: =VLOOKUP(E9,GRILLE!$B$5:$I$160,8,FALSE) -> 425 | G9: 39849 | H9: =IF(OR(RIGHT($E9,1)="4",RIGHT($E9,1)="7",RIGHT($E9,2)="10",RIGHT($E9,2)="11"),"",DATE(YEAR($G9)+2,MONTH($G9),DAY($G9))) -> 40579 | I9: =IF(OR(RIGHT($E9,1)="4",RIGHT($E9,1)="7",RIGHT($E9,2)="10",RIGHT($E9,2)="11"),DATE(YEAR($G9)+1,MONTH($G9),DAY($G9)),"") | J9: =IF(H9="","",IF(TODAY()-$H9<=30,"ALERTE","")) | K9: =IF(I9="","",IF(TODAY()-$I9<=60,"ALERTE",""))
A10: 2 | B10: 85045 | C10: N'DAH | D10: Pierrette | E10: B3-4 | F10: =VLOOKUP(E10,GRILLE!$B$5:$I$160,8,FALSE) -> 387.5 | G10: 39511 | H10: =IF(OR(RIGHT($E10,1)="4",RIGHT($E10,1)="7",RIGHT($E10,2)="10",RIGHT($E10,2)="11"),"",DATE(YEAR($G10)+2,MONTH($G10),DAY($G10))) | I10: =IF(OR(RIGHT($E10,1)="4",RIGHT($E10,1)="7",RIGHT($E10,2)="10",RIGHT($E10,2)="11"),DATE(YEAR($G10)+1,MONTH($G10),DAY($G10)),"") -> 39876 | J10: =IF(H10="","",IF(TODAY()-$H10<=30,"ALERTE","")) | K10: =IF(I10="","",IF(TODAY()-$I10<=60,"ALERTE",""))
A11: 3 | B11: 88683 | C11: ADANDEDJAN | D11: Johannes | E11: C1-1 | F11: =VLOOKUP(E11,GRILLE!$B$5:$I$160,8,FALSE) -> 275 | G11: 36557 | H11: =IF(OR(RIGHT($E11,1)="4",RIGHT($E11,1)="7",RIGHT($E11,2)="10",RIGHT($E11,2)="11"),"",DATE(YEAR($G11)+2,MONTH($G11),DAY($G11))) -> 37288 | I11: =IF(OR(RIGHT($E11,1)="4",RIGHT($E11,1)="7",RIGHT($E11,2)="10",RIGHT($E11,2)="11"),DATE(YEAR($G11)+1,MONTH($G11),DAY($G11)),"") | J11: =IF(H11="","",IF(TODAY()-$H11<=30,"ALERTE","")) | K11: =IF(I11="","",IF(TODAY()-$I11<=60,"ALERTE",""))
A12: 4 | B12: 88683 | C12: ADANDEDJAN | D12: Johannes | E12: C1-1 | F12: =VLOOKUP(E12,GRILLE!$B$5:$I$160,8,FALSE) -> 275 | G12: 42522 | H12: =IF(OR(RIGHT($E12,1)="4",RIGHT($E12,1)="7",RIGHT($E12,2)="10",RIGHT($E12,2)="11"),"",DATE(YEAR($G12)+2,MONTH($G12),DAY($G12))) -> 43252 | I12: =IF(OR(RIGHT($E12,1)="4",RIGHT($E12,1)="7",RIGHT($E12,2)="10",RIGHT($E12,2)="11"),DATE(YEAR($G12)+1,MONTH($G12),DAY($G12)),"") | J12: =IF(H12="","",IF(TODAY()-$H12<=30,"ALERTE","")) -> ALERTE | K12: =IF(I12="","",IF(TODAY()-$I12<=60,"ALERTE",""))
A13: 5 | B13: 88683 | C13: ADANDEDJAN | D13: Johannes | E13: C1-4 | F13: =VLOOKUP(E13,GRILLE!$B$5:$I$160,8,FALSE) -> 350 | G13: 42522 | H13: =IF(OR(RIGHT($E13,1)="4",RIGHT($E13,1)="7",RIGHT($E13,2)="10",RIGHT($E13,2)="11"),"",DATE(YEAR($G13)+2,MONTH($G13),DAY($G13))) | I13: =IF(OR(RIGHT($E13,1)="4",RIGHT($E13,1)="7",RIGHT($E13,2)="10",RIGHT($E13,2)="11"),DATE(YEAR($G13)+1,MONTH($G13),DAY($G13)),"") -> 42887 | J13: =IF(H13="","",IF(TODAY()-$H13<=30,"ALERTE","")) | K13: =IF(I13="","",IF(TODAY()-$I13<=60,"ALERTE","")) -> ALERTE
