Workbook

Sheet 2017
A1: Mois | B1: Janvier | C1: Février | D1: Mars | E1: Avril | F1: Mai | G1: Juin | H1: Juillet | I1: Août | J1: Septembre | K1: Octobre | L1: Novembre | M1: Décembre
A2: Nombre de contrat | B2: 0 | C2: 0 | D2: 0 | E2: 1 | F2: 0 | G2: 0 | H2: 0 | I2: 1 | J2: 0 | K2: 0 | L2: 0 | M2: 0
A3: Nombre d'utilisateurs | B3: 0 | C3: 0 | D3: 0 | E3: 25 | F3: 25 | G3: 25 | H3: 25 | I3: =25+75 -> 100 | J3: =25+75 -> 100 | K3: =25+75 -> 100 | L3: =25+75 -> 100 | M3: =25+75 -> 100

Sheet 2018
A1: Mois | B1: Janvier | C1: Février | D1: Mars | E1: Avril | F1: Mai | G1: Juin | H1: Juillet | I1: Août | J1: Septembre | K1: Octobre | L1: Novembre | M1: Décembre
A2: Nombre de contrat | B2: 0 | C2: 0 | D2: 0 | E2: 0 | F2: 0 | G2: 0 | H2: 0 | I2: 0 | J2: 1 | K2: 0 | L2: 0 | M2: 0
A3: Nombre d'utilisateurs | B3: =25+75 -> 100 | C3: =25+75 -> 100 | D3: =25+75 -> 100 | E3: =25+75 -> 100 | F3: 75 | G3: 75 | H3: 75 | I3: 75 | J3: 50 | K3: 50 | L3: 50 | M3: 50

Sheet Contrats
A1: Date | B1: Nombre contrats | C1: Nombre utilisateurs
A2: 42491 | B2: 1 | C2: 25
A3: 42592 | B3: 1 | C3: 100
A4: 42799 | B4: 1 | C4: 50

Sheet Suivi
A1: date calcul | B1: Mois | C1: Nombre d'utilisateurs
A2: 42401 | B2: 42370 | C2: =SUMIFS(Contrats!C:C,Contrats!A:A,"<="&Suivi!A2,Contrats!A:A,">"&Suivi!A2-365) -> 0
A3: 42430 | B3: 42401 | C3: =SUMIFS(Contrats!C:C,Contrats!A:A,"<="&Suivi!A3,Contrats!A:A,">"&Suivi!A3-365) -> 0
A4: 42461 | B4: 42430 | C4: =SUMIFS(Contrats!C:C,Contrats!A:A,"<="&Suivi!A4,Contrats!A:A,">"&Suivi!A4-365) -> 0
A5: 42491 | B5: 42461 | C5: =SUMIFS(Contrats!C:C,Contrats!A:A,"<="&Suivi!A5,Contrats!A:A,">"&Suivi!A5-365) -> 25
A6: 42522 | B6: 42491 | C6: =SUMIFS(Contrats!C:C,Contrats!A:A,"<="&Suivi!A6,Contrats!A:A,">"&Suivi!A6-365) -> 25
A7: 42552 | B7: 42522 | C7: =SUMIFS(Contrats!C:C,Contrats!A:A,"<="&Suivi!A7,Contrats!A:A,">"&Suivi!A7-365) -> 25
A8: 42583 | B8: 42552 | C8: =SUMIFS(Contrats!C:C,Contrats!A:A,"<="&Suivi!A8,Contrats!A:A,">"&Suivi!A8-365) -> 25
A9: 42614 | B9: 42583 | C9: =SUMIFS(Contrats!C:C,Contrats!A:A,"<="&Suivi!A9,Contrats!A:A,">"&Suivi!A9-365) -> 125
A10: 42644 | B10: 42614 | C10: =SUMIFS(Contrats!C:C,Contrats!A:A,"<="&Suivi!A10,Contrats!A:A,">"&Suivi!A10-365) -> 125
A11: 42675 | B11: 42644 | C11: =SUMIFS(Contrats!C:C,Contrats!A:A,"<="&Suivi!A11,Contrats!A:A,">"&Suivi!A11-365) -> 125
A12: 42705 | B12: 42675 | C12: =SUMIFS(Contrats!C:C,Contrats!A:A,"<="&Suivi!A12,Contrats!A:A,">"&Suivi!A12-365) -> 125
A13: 42736 | B13: 42705 | C13: =SUMIFS(Contrats!C:C,Contrats!A:A,"<="&Suivi!A13,Contrats!A:A,">"&Suivi!A13-365) -> 125
... A36: 43435 | B36: 43405 | C36: =SUMIFS(Contrats!C:C,Contrats!A:A,"<="&Suivi!A36,Contrats!A:A,">"&Suivi!A36-365) -> 0
