Workbook

Sheet Synthese 2015
B2: CARNET | C2: ENCOURS
B3: CARNET A | C3: =SUMIF(A:A,"*A*",C:C) -> 4504.1
B4: CARNET B | C4: =SUMIF(A:A,"*B*",C:C) -> 4385.28
B5: CARNET C
B6: CARNET D
B7: CARNET E
B8: CARNET F
B9: CARNET G
B10: CARNET H
B11: CARNET I
B12: CARNET J | C12: =SUMIF(A:A,"*J*",C:C) -> 2873.15
B13: CARNET K
B14: CARNET L
B15: CARNET M
B16: CARNET N
B17: CARNET P
B18: CARNET Q
B19: CARNET R
B20: TOTAL
A23: DEPOT | B23: AVOIR | C23: ENCOURS
A24: 15A01 | B24: 100.95 | C24: =B24-SUMIF('Juilet 15'!C:C,A24,'Juilet 15'!E:E)-SUMIF('Aout 15'!C:C,A24,'Aout 15'!E:E) -> 100.95
A25: 15A02 | B25: 100.95 | C25: =B25-SUMIF('Juilet 15'!C:C,A25,'Juilet 15'!E:E)-SUMIF('Aout 15'!C:C,A25,'Aout 15'!E:E) -> 100.95
A26: 15A03 | B26: 100.45 | C26: =B26-SUMIF('Juilet 15'!C:C,A26,'Juilet 15'!E:E)-SUMIF('Aout 15'!C:C,A26,'Aout 15'!E:E) -> 100.45
A27: 15A04 | B27: 100.95 | C27: =B27-SUMIF('Juilet 15'!C:C,A27,'Juilet 15'!E:E)-SUMIF('Aout 15'!C:C,A27,'Aout 15'!E:E) -> 100.95
A28: 15A05 | B28: 100.45 | C28: =B28-SUMIF('Juilet 15'!C:C,A28,'Juilet 15'!E:E)-SUMIF('Aout 15'!C:C,A28,'Aout 15'!E:E) -> 100.45
A29: 15A06 | B29: 100.95 | C29: =B29-SUMIF('Juilet 15'!C:C,A29,'Juilet 15'!E:E)-SUMIF('Aout 15'!C:C,A29,'Aout 15'!E:E) -> 100.95
A30: 15A07 | B30: 100.95 | C30: =B30-SUMIF('Juilet 15'!C:C,A30,'Juilet 15'!E:E)-SUMIF('Aout 15'!C:C,A30,'Aout 15'!E:E) -> 100.95
A31: 15A08 | B31: 90.15 | C31: =B31-SUMIF('Juilet 15'!C:C,A31,'Juilet 15'!E:E)-SUMIF('Aout 15'!C:C,A31,'Aout 15'!E:E) -> 90.15
A32: 15A09 | B32: 85.35 | C32: =B32-SUMIF('Juilet 15'!C:C,A32,'Juilet 15'!E:E)-SUMIF('Aout 15'!C:C,A32,'Aout 15'!E:E) -> 85.35
A33: 15A10 | B33: 86.65 | C33: =B33-SUMIF('Juilet 15'!C:C,A33,'Juilet 15'!E:E)-SUMIF('Aout 15'!C:C,A33,'Aout 15'!E:E) -> 86.65
A34: 15A11 | B34: 111.75 | C34: =B34-SUMIF('Juilet 15'!C:C,A34,'Juilet 15'!E:E)-SUMIF('Aout 15'!C:C,A34,'Aout 15'!E:E) -> 111.75
A35: 15A12 | B35: 100.95 | C35: =B35-SUMIF('Juilet 15'!C:C,A35,'Juilet 15'!E:E)-SUMIF('Aout 15'!C:C,A35,'Aout 15'!E:E) -> 100.95
... A133: 15C10 | B133: 100.45 | C133: =B133-SUMIF('Juilet 15'!C:C,A133,'Juilet 15'!E:E)-SUMIF('Aout 15'!C:C,A133,'Aout 15'!E:E) -> 100.45
A134: 15C11 | C134: =B134-SUMIF('Juilet 15'!C:C,A134,'Juilet 15'!E:E)-SUMIF('Aout 15'!C:C,A134,'Aout 15'!E:E) -> 0
A135: 15C12 | B135: 100.95 | C135: =B135-SUMIF('Juilet 15'!C:C,A135,'Juilet 15'!E:E)-SUMIF('Aout 15'!C:C,A135,'Aout 15'!E:E) -> 100.95
A136: 15C13 | B136: 73.95 | C136: =B136-SUMIF('Juilet 15'!C:C,A136,'Juilet 15'!E:E)-SUMIF('Aout 15'!C:C,A136,'Aout 15'!E:E) -> 73.95
A137: 15C14 | B137: 90.15 | C137: =B137-SUMIF('Juilet 15'!C:C,A137,'Juilet 15'!E:E)-SUMIF('Aout 15'!C:C,A137,'Aout 15'!E:E) -> 90.15
A138: 15C15 | B138: 100.45 | C138: =B138-SUMIF('Juilet 15'!C:C,A138,'Juilet 15'!E:E)-SUMIF('Aout 15'!C:C,A138,'Aout 15'!E:E) -> 100.45
A139: 15C16 | B139: 100.45 | C139: =B139-SUMIF('Juilet 15'!C:C,A139,'Juilet 15'!E:E)-SUMIF('Aout 15'!C:C,A139,'Aout 15'!E:E) -> 100.45
A140: 15C17 | B140: 88.7 | C140: =B140-SUMIF('Juilet 15'!C:C,A140,'Juilet 15'!E:E)-SUMIF('Aout 15'!C:C,A140,'Aout 15'!E:E) -> 88.7
...

Sheet Juilet 15
B1: Juillet 2015
C2: =SUMIF(G4:G53,"=1",E4:E53)+SUMIF(G4:G53,"=0",E4:E53) -> 470.36 | D2: =SUM(D4:D53) -> 510.51 | E2: ="OCC = "&SUMIF(G4:G53,"=1",E4:E53) -> OCC = 459,46 | F2: ="AUTRE = "&SUMIF(G4:G53,"=0",E4:E53) -> AUTRE = 10,9
B3: Date | C3: DEPOT | D3: AVOIR | E3: ENCAISSE | F3: RENDU
A4: 1 | B4: 42186 | C4: 14F11 | D4: 5.1 | E4: =D4 -> 5.1 | F4: =D4-E4 -> 0 | G4: =(IF(C4="AUTRE",0,1))*OR(IF(C4="ECHANGE",0,1)) -> 1
A5: 2 | B5: 42189 | C5: OCC 2013 | D5: 2.2 | E5: =D5 -> 2.2 | F5: =D5-E5 -> 0 | G5: =(IF(C5="AUTRE",0,1))*OR(IF(C5="ECHANGE",0,1)) -> 1
A6: 3 | B6: 42189 | C6: AUTRE | D6: 13.35 | E6: =D6 -> 13.35 | F6: =D6-E6 -> 0 | G6: =(IF(C6="AUTRE",0,1))*OR(IF(C6="ECHANGE",0,1)) -> 0
A7: 4 | B7: 42193 | C7: 14J01 | D7: 77.85 | E7: =D7 -> 77.85 | F7: =D7-E7 -> 0 | G7: =(IF(C7="AUTRE",0,1))*OR(IF(C7="ECHANGE",0,1)) -> 1
A8: 5 | B8: 42192 | C8: 14F08 | D8: 25.5 | E8: 15 | F8: =D8-E8 -> 10.5 | G8: =(IF(C8="AUTRE",0,1))*OR(IF(C8="ECHANGE",0,1)) -> 1
A9: 6 | B9: 42192 | C9: 14I23 | D9: 22.9 | E9: =D9 -> 22.9 | F9: =D9-E9 -> 0 | G9: =(IF(C9="AUTRE",0,1))*OR(IF(C9="ECHANGE",0,1)) -> 1
A10: 7 | B10: 42193 | C10: 15E30 | D10: 46.25 | E10: =D10 -> 46.25 | F10: =D10-E10 -> 0 | G10: =(IF(C10="AUTRE",0,1))*OR(IF(C10="ECHANGE",0,1)) -> 1
A11: 8 | B11: 42193 | C11: 15B04 | D11: 100.95 | E11: =D11 -> 100.95 | F11: =D11-E11 -> 0 | G11: =(IF(C11="AUTRE",0,1))*OR(IF(C11="ECHANGE",0,1)) -> 1
A12: 9 | B12: 42193 | C12: 14P09 | D12: 15.31 | E12: =D12 -> 15.31 | F12: =D12-E12 -> 0 | G12: =(IF(C12="AUTRE",0,1))*OR(IF(C12="ECHANGE",0,1)) -> 1
A13: 10 | B13: 42193 | C13: AUTRE | E13: -2.45 | F13: =D13-E13 -> 2.45 | G13: =(IF(C13="AUTRE",0,1))*OR(IF(C13="ECHANGE",0,1)) -> 0
A14: 11 | B14: 42193 | C14: 15I08 | D14: 44.85 | E14: 20 | F14: =D14-E14 -> 24.85 | G14: =(IF(C14="AUTRE",0,1))*OR(IF(C14="ECHANGE",0,1)) -> 1
A15: 12 | B15: 42194 | C15: 14C39 | D15: 48.4 | E15: =D15 -> 48.4 | F15: =D15-E15 -> 0 | G15: =(IF(C15="AUTRE",0,1))*OR(IF(C15="ECHANGE",0,1)) -> 1
A16: 13 | B16: 42194 | C16: 14M46 | D16: 26.2 | E16: 23.85 | F16: =D16-E16 -> 2.35 | G16: =(IF(C16="AUTRE",0,1))*OR(IF(C16="ECHANGE",0,1)) -> 1
A17: 14 | B17: 42194 | C17: 15J08 | D17: 81.65 | E17: =D17 -> 81.65 | F17: =D17-E17 -> 0 | G17: =(IF(C17="AUTRE",0,1))*OR(IF(C17="ECHANGE",0,1)) -> 1
A18: 15 | E18: =D18 -> 0 | F18: =D18-E18 -> 0 | G18: =(IF(C18="AUTRE",0,1))*OR(IF(C18="ECHANGE",0,1)) -> 1
A19: 16 | E19: =D19 -> 0 | F19: =D19-E19 -> 0 | G19: =(IF(C19="AUTRE",0,1))*OR(IF(C19="ECHANGE",0,1)) -> 1
A20: 17 | E20: =D20 -> 0 | F20: =D20-E20 -> 0 | G20: =(IF(C20="AUTRE",0,1))*OR(IF(C20="ECHANGE",0,1)) -> 1
A21: 18 | E21: =D21 -> 0 | F21: =D21-E21 -> 0 | G21: =(IF(C21="AUTRE",0,1))*OR(IF(C21="ECHANGE",0,1)) -> 1
A22: 19 | E22: =D22 -> 0 | F22: =D22-E22 -> 0 | G22: =(IF(C22="AUTRE",0,1))*OR(IF(C22="ECHANGE",0,1)) -> 1
A23: 20 | E23: =D23 -> 0 | F23: =D23-E23 -> 0 | G23: =(IF(C23="AUTRE",0,1))*OR(IF(C23="ECHANGE",0,1)) -> 1
A24: 21 | E24: =D24 -> 0 | F24: =D24-E24 -> 0 | G24: =(IF(C24="AUTRE",0,1))*OR(IF(C24="ECHANGE",0,1)) -> 1
A25: 22 | E25: =D25 -> 0 | F25: =D25-E25 -> 0 | G25: =(IF(C25="AUTRE",0,1))*OR(IF(C25="ECHANGE",0,1)) -> 1
A26: 23 | E26: =D26 -> 0 | F26: =D26-E26 -> 0 | G26: =(IF(C26="AUTRE",0,1))*OR(IF(C26="ECHANGE",0,1)) -> 1
A27: 24 | E27: =D27 -> 0 | F27: =D27-E27 -> 0 | G27: =(IF(C27="AUTRE",0,1))*OR(IF(C27="ECHANGE",0,1)) -> 1
A28: 25 | E28: =D28 -> 0 | F28: =D28-E28 -> 0 | G28: =(IF(C28="AUTRE",0,1))*OR(IF(C28="ECHANGE",0,1)) -> 1
A29: 26 | E29: =D29 -> 0 | F29: =D29-E29 -> 0 | G29: =(IF(C29="AUTRE",0,1))*OR(IF(C29="ECHANGE",0,1)) -> 1
... A53: 50 | E53: =D53 -> 0 | F53: =D53-E53 -> 0 | G53: =(IF(C53="AUTRE",0,1))*OR(IF(C53="ECHANGE",0,1)) -> 1

Sheet Aout 15
B1: Août 2015
C2: =SUMIF(G4:G53,"=1",E4:E53)+SUMIF(G4:G53,"=0",E4:E53) -> 81.65 | D2: =SUM(D4:D53) -> 81.65 | E2: ="OCC = "&SUMIF(G4:G53,"=1",E4:E53) -> OCC = 81,65 | F2: ="AUTRE = "&SUMIF(G4:G53,"=0",E4:E53) -> AUTRE = 0
B3: Date | C3: DEPOT | D3: AVOIR | E3: ENCAISSE | F3: RENDU
A4: 1 | B4: 42217 | C4: 15J08 | D4: 81.65 | E4: =D4 -> 81.65 | F4: =D4-E4 -> 0 | G4: =(IF(C4="AUTRE",0,1))*OR(IF(C4="ECHANGE",0,1)) -> 1
A5: 2 | F5: =D5-E5 -> 0 | G5: =(IF(C5="AUTRE",0,1))*OR(IF(C5="ECHANGE",0,1)) -> 1
A6: 3 | F6: =D6-E6 -> 0 | G6: =(IF(C6="AUTRE",0,1))*OR(IF(C6="ECHANGE",0,1)) -> 1
A7: 4 | F7: =D7-E7 -> 0 | G7: =(IF(C7="AUTRE",0,1))*OR(IF(C7="ECHANGE",0,1)) -> 1
A8: 5 | F8: =D8-E8 -> 0 | G8: =(IF(C8="AUTRE",0,1))*OR(IF(C8="ECHANGE",0,1)) -> 1
A9: 6 | F9: =D9-E9 -> 0 | G9: =(IF(C9="AUTRE",0,1))*OR(IF(C9="ECHANGE",0,1)) -> 1
A10: 7 | F10: =D10-E10 -> 0 | G10: =(IF(C10="AUTRE",0,1))*OR(IF(C10="ECHANGE",0,1)) -> 1
A11: 8 | F11: =D11-E11 -> 0 | G11: =(IF(C11="AUTRE",0,1))*OR(IF(C11="ECHANGE",0,1)) -> 1
A12: 9 | F12: =D12-E12 -> 0 | G12: =(IF(C12="AUTRE",0,1))*OR(IF(C12="ECHANGE",0,1)) -> 1
A13: 10 | F13: =D13-E13 -> 0 | G13: =(IF(C13="AUTRE",0,1))*OR(IF(C13="ECHANGE",0,1)) -> 1
A14: 11 | F14: =D14-E14 -> 0 | G14: =(IF(C14="AUTRE",0,1))*OR(IF(C14="ECHANGE",0,1)) -> 1
A15: 12 | F15: =D15-E15 -> 0 | G15: =(IF(C15="AUTRE",0,1))*OR(IF(C15="ECHANGE",0,1)) -> 1
A16: 13 | F16: =D16-E16 -> 0 | G16: =(IF(C16="AUTRE",0,1))*OR(IF(C16="ECHANGE",0,1)) -> 1
... A53: 50 | F53: =D53-E53 -> 0 | G53: =(IF(C53="AUTRE",0,1))*OR(IF(C53="ECHANGE",0,1)) -> 1
