Workbook

Sheet Synthese 2015
B2: CARNET | C2: ENCOURS
B3: CARNET A | C3: =SUMIF(A:A,"*A*",C:C) -> 4504.1
B4: CARNET B | C4: =SUMIF(A:A,"*B*",C:C) -> 4385.28
B5: CARNET C
B6: CARNET D
B7: CARNET E
B8: CARNET F
B9: CARNET G
B10: CARNET H
B11: CARNET I
B12: CARNET J | C12: =SUMIF(A:A,"*J*",C:C) -> 2873.15
B13: CARNET K
B14: CARNET L
B15: CARNET M
B16: CARNET N
B17: CARNET P
B18: CARNET Q
B19: CARNET R
B20: TOTAL
A23: DEPOT | B23: AVOIR | C23: ENCOURS
A24: 15A01 | B24: 100.95 | C24: =B24-SUMIF('Juilet 15'!C:C,A24,'Juilet 15'!E:E)-SUMIF('Aout 15'!C:C,A24,'Aout 15'!E:E) -> 100.95
A25: 15A02 | B25: 100.95 | C25: =B25-SUMIF('Juilet 15'!C:C,A25,'Juilet 15'!E:E)-SUMIF('Aout 15'!C:C,A25,'Aout 15'!E:E) -> 100.95
A26: 15A03 | B26: 100.45 | C26: =B26-SUMIF('Juilet 15'!C:C,A26,'Juilet 15'!E:E)-SUMIF('Aout 15'!C:C,A26,'Aout 15'!E:E) -> 100.45
A27: 15A04 | B27: 100.95 | C27: =B27-SUMIF('Juilet 15'!C:C,A27,'Juilet 15'!E:E)-SUMIF('Aout 15'!C:C,A27,'Aout 15'!E:E) -> 100.95
A28: 15A05 | B28: 100.45 | C28: =B28-SUMIF('Juilet 15'!C:C,A28,'Juilet 15'!E:E)-SUMIF('Aout 15'!C:C,A28,'Aout 15'!E:E) -> 100.45
A29: 15A06 | B29: 100.95 | C29: =B29-SUMIF('Juilet 15'!C:C,A29,'Juilet 15'!E:E)-SUMIF('Aout 15'!C:C,A29,'Aout 15'!E:E) -> 100.95
A30: 15A07 | B30: 100.95 | C30: =B30-SUMIF('Juilet 15'!C:C,A30,'Juilet 15'!E:E)-SUMIF('Aout 15'!C:C,A30,'Aout 15'!E:E) -> 100.95
A31: 15A08 | B31: 90.15 | C31: =B31-SUMIF('Juilet 15'!C:C,A31,'Juilet 15'!E:E)-SUMIF('Aout 15'!C:C,A31,'Aout 15'!E:E) -> 90.15
A32: 15A09 | B32: 85.35 | C32: =B32-SUMIF('Juilet 15'!C:C,A32,'Juilet 15'!E:E)-SUMIF('Aout 15'!C:C,A32,'Aout 15'!E:E) -> 85.35
A33: 15A10 | B33: 86.65 | C33: =B33-SUMIF('Juilet 15'!C:C,A33,'Juilet 15'!E:E)-SUMIF('Aout 15'!C:C,A33,'Aout 15'!E:E) -> 86.65
A34: 15A11 | B34: 111.75 | C34: =B34-SUMIF('Juilet 15'!C:C,A34,'Juilet 15'!E:E)-SUMIF('Aout 15'!C:C,A34,'Aout 15'!E:E) -> 111.75
A35: 15A12 | B35: 100.95 | C35: =B35-SUMIF('Juilet 15'!C:C,A35,'Juilet 15'!E:E)-SUMIF('Aout 15'!C:C,A35,'Aout 15'!E:E) -> 100.95
... A133: 15C10 | B133: 100.45 | C133: =B133-SUMIF('Juilet 15'!C:C,A133,'Juilet 15'!E:E)-SUMIF('Aout 15'!C:C,A133,'Aout 15'!E:E) -> 100.45
A134: 15C11 | C134: =B134-SUMIF('Juilet 15'!C:C,A134,'Juilet 15'!E:E)-SUMIF('Aout 15'!C:C,A134,'Aout 15'!E:E) -> 0
A135: 15C12 | B135: 100.95 | C135: =B135-SUMIF('Juilet 15'!C:C,A135,'Juilet 15'!E:E)-SUMIF('Aout 15'!C:C,A135,'Aout 15'!E:E) -> 100.95
A136: 15C13 | B136: 73.95 | C136: =B136-SUMIF('Juilet 15'!C:C,A136,'Juilet 15'!E:E)-SUMIF('Aout 15'!C:C,A136,'Aout 15'!E:E) -> 73.95
A137: 15C14 | B137: 90.15 | C137: =B137-SUMIF('Juilet 15'!C:C,A137,'Juilet 15'!E:E)-SUMIF('Aout 15'!C:C,A137,'Aout 15'!E:E) -> 90.15
A138: 15C15 | B138: 100.45 | C138: =B138-SUMIF('Juilet 15'!C:C,A138,'Juilet 15'!E:E)-SUMIF('Aout 15'!C:C,A138,'Aout 15'!E:E) -> 100.45
A139: 15C16 | B139: 100.45 | C139: =B139-SUMIF('Juilet 15'!C:C,A139,'Juilet 15'!E:E)-SUMIF('Aout 15'!C:C,A139,'Aout 15'!E:E) -> 100.45
A140: 15C17 | B140: 88.7 | C140: =B140-SUMIF('Juilet 15'!C:C,A140,'Juilet 15'!E:E)-SUMIF('Aout 15'!C:C,A140,'Aout 15'!E:E) -> 88.7
A141: 15C18 | B141: 86.95 | C141: =B141-SUMIF('Juilet 15'!C:C,A141,'Juilet 15'!E:E)-SUMIF('Aout 15'!C:C,A141,'Aout 15'!E:E) -> 86.95
A142: 15C19 | B142: 100.95 | C142: =B142-SUMIF('Juilet 15'!C:C,A142,'Juilet 15'!E:E)-SUMIF('Aout 15'!C:C,A142,'Aout 15'!E:E) -> 100.95
A143: 15C20 | B143: 14.3 | C143: =B143-SUMIF('Juilet 15'!C:C,A143,'Juilet 15'!E:E)-SUMIF('Aout 15'!C:C,A143,'Aout 15'!E:E) -> 14.3
A144: 15C21 | B144: 100.95 | C144: =B144-SUMIF('Juilet 15'!C:C,A144,'Juilet 15'!E:E)-SUMIF('Aout 15'!C:C,A144,'Aout 15'!E:E) -> 100.95
A145: 15C22 | B145: 90.15 | C145: =B145-SUMIF('Juilet 15'!C:C,A145,'Juilet 15'!E:E)-SUMIF('Aout 15'!C:C,A145,'Aout 15'!E:E) -> 90.15
A146: 15C23 | B146: 50.8 | C146: =B146-SUMIF('Juilet 15'!C:C,A146,'Juilet 15'!E:E)-SUMIF('Aout 15'!C:C,A146,'Aout 15'!E:E) -> 50.8
... A170: 15C47 | B170: 24.8 | C170: =B170-SUMIF('Juilet 15'!C:C,A170,'Juilet 15'!E:E)-SUMIF('Aout 15'!C:C,A170,'Aout 15'!E:E) -> 24.8
A171: 15C48 | C171: =B171-SUMIF('Juilet 15'!C:C,A171,'Juilet 15'!E:E)-SUMIF('Aout 15'!C:C,A171,'Aout 15'!E:E) -> 0
A172: 15C49 | C172: =B172-SUMIF('Juilet 15'!C:C,A172,'Juilet 15'!E:E)-SUMIF('Aout 15'!C:C,A172,'Aout 15'!E:E) -> 0
A173: 15C50 | C173: =B173-SUMIF('Juilet 15'!C:C,A173,'Juilet 15'!E:E)-SUMIF('Aout 15'!C:C,A173,'Aout 15'!E:E) -> 0
A174: 15D01 | B174: 91.55 | C174: =B174-SUMIF('Juilet 15'!C:C,A174,'Juilet 15'!E:E)-SUMIF('Aout 15'!C:C,A174,'Aout 15'!E:E) -> 91.55
A175: 15D02 | B175: 62.05 | C175: =B175-SUMIF('Juilet 15'!C:C,A175,'Juilet 15'!E:E)-SUMIF('Aout 15'!C:C,A175,'Aout 15'!E:E) -> 62.05
A176: 15D03 | B176: 66.9 | C176: =B176-SUMIF('Juilet 15'!C:C,A176,'Juilet 15'!E:E)-SUMIF('Aout 15'!C:C,A176,'Aout 15'!E:E) -> 66.9
A177: 15D04 | B177: 45.05 | C177: =B177-SUMIF('Juilet 15'!C:C,A177,'Juilet 15'!E:E)-SUMIF('Aout 15'!C:C,A177,'Aout 15'!E:E) -> 45.05
A178: 15D05 | B178: 56.55 | C178: =B178-SUMIF('Juilet 15'!C:C,A178,'Juilet 15'!E:E)-SUMIF('Aout 15'!C:C,A178,'Aout 15'!E:E) -> 56.55
A179: 15D06 | B179: 74.85 | C179: =B179-SUMIF('Juilet 15'!C:C,A179,'Juilet 15'!E:E)-SUMIF('Aout 15'!C:C,A179,'Aout 15'!E:E) -> 74.85
A180: 15D07 | B180: 100.05 | C180: =B180-SUMIF('Juilet 15'!C:C,A180,'Juilet 15'!E:E)-SUMIF('Aout 15'!C:C,A180,'Aout 15'!E:E) -> 100.05
A181: 15D08 | B181: 61.1 | C181: =B181-SUMIF('Juilet 15'!C:C,A181,'Juilet 15'!E:E)-SUMIF('Aout 15'!C:C,A181,'Aout 15'!E:E) -> 61.1
A182: 15D09 | B182: 56.55 | C182: =B182-SUMIF('Juilet 15'!C:C,A182,'Juilet 15'!E:E)-SUMIF('Aout 15'!C:C,A182,'Aout 15'!E:E) -> 56.55
A183: 15D10 | B183: 74.85 | C183: =B183-SUMIF('Juilet 15'!C:C,A183,'Juilet 15'!E:E)-SUMIF('Aout 15'!C:C,A183,'Aout 15'!E:E) -> 74.85
A184: 15D11 | B184: 61.1 | C184: =B184-SUMIF('Juilet 15'!C:C,A184,'Juilet 15'!E:E)-SUMIF('Aout 15'!C:C,A184,'Aout 15'!E:E) -> 61.1
A185: 15D12 | B185: 86.5 | C185: =B185-SUMIF('Juilet 15'!C:C,A185,'Juilet 15'!E:E)-SUMIF('Aout 15'!C:C,A185,'Aout 15'!E:E) -> 86.5
... A195: 15D22 | B195: 91.25 | C195: =B195-SUMIF('Juilet 15'!C:C,A195,'Juilet 15'!E:E)-SUMIF('Aout 15'!C:C,A195,'Aout 15'!E:E) -> 91.25
A196: 15D23 | C196: =B196-SUMIF('Juilet 15'!C:C,A196,'Juilet 15'!E:E)-SUMIF('Aout 15'!C:C,A196,'Aout 15'!E:E) -> 0
A197: 15D24 | B197: 91.25 | C197: =B197-SUMIF('Juilet 15'!C:C,A197,'Juilet 15'!E:E)-SUMIF('Aout 15'!C:C,A197,'Aout 15'!E:E) -> 91.25
A198: 15D25 | B198: 75.7 | C198: =B198-SUMIF('Juilet 15'!C:C,A198,'Juilet 15'!E:E)-SUMIF('Aout 15'!C:C,A198,'Aout 15'!E:E) -> 75.7
A199: 15D26 | B199: 76.65 | C199: =B199-SUMIF('Juilet 15'!C:C,A199,'Juilet 15'!E:E)-SUMIF('Aout 15'!C:C,A199,'Aout 15'!E:E) -> 76.65
A200: 15D27 | B200: 75.7 | C200: =B200-SUMIF('Juilet 15'!C:C,A200,'Juilet 15'!E:E)-SUMIF('Aout 15'!C:C,A200,'Aout 15'!E:E) -> 75.7
A201: 15D28 | B201: 91.25 | C201: =B201-SUMIF('Juilet 15'!C:C,A201,'Juilet 15'!E:E)-SUMIF('Aout 15'!C:C,A201,'Aout 15'!E:E) -> 91.25
A202: 15D29 | B202: 10 | C202: =B202-SUMIF('Juilet 15'!C:C,A202,'Juilet 15'!E:E)-SUMIF('Aout 15'!C:C,A202,'Aout 15'!E:E) -> 10
A203: 15D30 | B203: 88.6 | C203: =B203-SUMIF('Juilet 15'!C:C,A203,'Juilet 15'!E:E)-SUMIF('Aout 15'!C:C,A203,'Aout 15'!E:E) -> 88.6
A204: 15D31 | B204: 64.25 | C204: =B204-SUMIF('Juilet 15'!C:C,A204,'Juilet 15'!E:E)-SUMIF('Aout 15'!C:C,A204,'Aout 15'!E:E) -> 64.25
A205: 15D32 | B205: 45.05 | C205: =B205-SUMIF('Juilet 15'!C:C,A205,'Juilet 15'!E:E)-SUMIF('Aout 15'!C:C,A205,'Aout 15'!E:E) -> 45.05
A206: 15D33 | B206: 47.1 | C206: =B206-SUMIF('Juilet 15'!C:C,A206,'Juilet 15'!E:E)-SUMIF('Aout 15'!C:C,A206,'Aout 15'!E:E) -> 47.1
A207: 15D34 | B207: 91.55 | C207: =B207-SUMIF('Juilet 15'!C:C,A207,'Juilet 15'!E:E)-SUMIF('Aout 15'!C:C,A207,'Aout 15'!E:E) -> 91.55
A208: 15D35 | B208: 56.25 | C208: =B208-SUMIF('Juilet 15'!C:C,A208,'Juilet 15'!E:E)-SUMIF('Aout 15'!C:C,A208,'Aout 15'!E:E) -> 56.25
... A294: 15F21 | B294: 51.1 | C294: =B294-SUMIF('Juilet 15'!C:C,A294,'Juilet 15'!E:E)-SUMIF('Aout 15'!C:C,A294,'Aout 15'!E:E) -> 51.1
A295: 15F22 | C295: =B295-SUMIF('Juilet 15'!C:C,A295,'Juilet 15'!E:E)-SUMIF('Aout 15'!C:C,A295,'Aout 15'!E:E) -> 0
A296: 15F23 | B296: 81.55 | C296: =B296-SUMIF('Juilet 15'!C:C,A296,'Juilet 15'!E:E)-SUMIF('Aout 15'!C:C,A296,'Aout 15'!E:E) -> 81.55
A297: 15F24 | B297: 21.05 | C297: =B297-SUMIF('Juilet 15'!C:C,A297,'Juilet 15'!E:E)-SUMIF('Aout 15'!C:C,A297,'Aout 15'!E:E) -> 21.05
A298: 15F25 | B298: 91.25 | C298: =B298-SUMIF('Juilet 15'!C:C,A298,'Juilet 15'!E:E)-SUMIF('Aout 15'!C:C,A298,'Aout 15'!E:E) -> 91.25
A299: 15F26 | B299: 15.55 | C299: =B299-SUMIF('Juilet 15'!C:C,A299,'Juilet 15'!E:E)-SUMIF('Aout 15'!C:C,A299,'Aout 15'!E:E) -> 15.55
A300: 15F27 | B300: 60.2 | C300: =B300-SUMIF('Juilet 15'!C:C,A300,'Juilet 15'!E:E)-SUMIF('Aout 15'!C:C,A300,'Aout 15'!E:E) -> 60.2
A301: 15F28 | B301: 24.65 | C301: =B301-SUMIF('Juilet 15'!C:C,A301,'Juilet 15'!E:E)-SUMIF('Aout 15'!C:C,A301,'Aout 15'!E:E) -> 24.65
A302: 15F29 | B302: 61.1 | C302: =B302-SUMIF('Juilet 15'!C:C,A302,'Juilet 15'!E:E)-SUMIF('Aout 15'!C:C,A302,'Aout 15'!E:E) -> 61.1
A303: 15F30 | B303: 44.3 | C303: =B303-SUMIF('Juilet 15'!C:C,A303,'Juilet 15'!E:E)-SUMIF('Aout 15'!C:C,A303,'Aout 15'!E:E) -> 44.3
A304: 15F31 | B304: 45.05 | C304: =B304-SUMIF('Juilet 15'!C:C,A304,'Juilet 15'!E:E)-SUMIF('Aout 15'!C:C,A304,'Aout 15'!E:E) -> 45.05
A305: 15F32 | B305: 28.35 | C305: =B305-SUMIF('Juilet 15'!C:C,A305,'Juilet 15'!E:E)-SUMIF('Aout 15'!C:C,A305,'Aout 15'!E:E) -> 28.35
A306: 15F33 | B306: 91.25 | C306: =B306-SUMIF('Juilet 15'!C:C,A306,'Juilet 15'!E:E)-SUMIF('Aout 15'!C:C,A306,'Aout 15'!E:E) -> 91.25
A307: 15F34 | B307: 64.85 | C307: =B307-SUMIF('Juilet 15'!C:C,A307,'Juilet 15'!E:E)-SUMIF('Aout 15'!C:C,A307,'Aout 15'!E:E) -> 64.85
... A310: 15F37 | B310: 91.25 | C310: =B310-SUMIF('Juilet 15'!C:C,A310,'Juilet 15'!E:E)-SUMIF('Aout 15'!C:C,A310,'Aout 15'!E:E) -> 91.25
A311: 15F38 | C311: =B311-SUMIF('Juilet 15'!C:C,A311,'Juilet 15'!E:E)-SUMIF('Aout 15'!C:C,A311,'Aout 15'!E:E) -> 0
A312: 15F39 | B312: 10 | C312: =B312-SUMIF('Juilet 15'!C:C,A312,'Juilet 15'!E:E)-SUMIF('Aout 15'!C:C,A312,'Aout 15'!E:E) -> 10
A313: 15F40 | B313: 64.85 | C313: =B313-SUMIF('Juilet 15'!C:C,A313,'Juilet 15'!E:E)-SUMIF('Aout 15'!C:C,A313,'Aout 15'!E:E) -> 64.85
A314: 15F41 | B314: 10 | C314: =B314-SUMIF('Juilet 15'!C:C,A314,'Juilet 15'!E:E)-SUMIF('Aout 15'!C:C,A314,'Aout 15'!E:E) -> 10
A315: 15F42 | B315: 91.25 | C315: =B315-SUMIF('Juilet 15'!C:C,A315,'Juilet 15'!E:E)-SUMIF('Aout 15'!C:C,A315,'Aout 15'!E:E) -> 91.25
A316: 15F43 | B316: 61.1 | C316: =B316-SUMIF('Juilet 15'!C:C,A316,'Juilet 15'!E:E)-SUMIF('Aout 15'!C:C,A316,'Aout 15'!E:E) -> 61.1
A317: 15F44 | B317: 20.1 | C317: =B317-SUMIF('Juilet 15'!C:C,A317,'Juilet 15'!E:E)-SUMIF('Aout 15'!C:C,A317,'Aout 15'!E:E) -> 20.1
A318: 15F45 | B318: 34.8 | C318: =B318-SUMIF('Juilet 15'!C:C,A318,'Juilet 15'!E:E)-SUMIF('Aout 15'!C:C,A318,'Aout 15'!E:E) -> 34.8
A319: 15F46 | B319: 10 | C319: =B319-SUMIF('Juilet 15'!C:C,A319,'Juilet 15'!E:E)-SUMIF('Aout 15'!C:C,A319,'Aout 15'!E:E) -> 10
...

Sheet Juilet 15
B1: Juillet 2015
C2: =SUMIF(G4:G53,"=1",E4:E53)+SUMIF(G4:G53,"=0",E4:E53) -> 470.36 | D2: =SUM(D4:D53) -> 510.51 | E2: ="OCC = "&SUMIF(G4:G53,"=1",E4:E53) -> OCC = 459,46 | F2: ="AUTRE = "&SUMIF(G4:G53,"=0",E4:E53) -> AUTRE = 10,9
B3: Date | C3: DEPOT | D3: AVOIR | E3: ENCAISSE | F3: RENDU
A4: 1 | B4: 42186 | C4: 14F11 | D4: 5.1 | E4: =D4 -> 5.1 | F4: =D4-E4 -> 0 | G4: =(IF(C4="AUTRE",0,1))*OR(IF(C4="ECHANGE",0,1)) -> 1
A5: 2 | B5: 42189 | C5: OCC 2013 | D5: 2.2 | E5: =D5 -> 2.2 | F5: =D5-E5 -> 0 | G5: =(IF(C5="AUTRE",0,1))*OR(IF(C5="ECHANGE",0,1)) -> 1
A6: 3 | B6: 42189 | C6: AUTRE | D6: 13.35 | E6: =D6 -> 13.35 | F6: =D6-E6 -> 0 | G6: =(IF(C6="AUTRE",0,1))*OR(IF(C6="ECHANGE",0,1)) -> 0
A7: 4 | B7: 42193 | C7: 14J01 | D7: 77.85 | E7: =D7 -> 77.85 | F7: =D7-E7 -> 0 | G7: =(IF(C7="AUTRE",0,1))*OR(IF(C7="ECHANGE",0,1)) -> 1
A8: 5 | B8: 42192 | C8: 14F08 | D8: 25.5 | E8: 15 | F8: =D8-E8 -> 10.5 | G8: =(IF(C8="AUTRE",0,1))*OR(IF(C8="ECHANGE",0,1)) -> 1
A9: 6 | B9: 42192 | C9: 14I23 | D9: 22.9 | E9: =D9 -> 22.9 | F9: =D9-E9 -> 0 | G9: =(IF(C9="AUTRE",0,1))*OR(IF(C9="ECHANGE",0,1)) -> 1
A10: 7 | B10: 42193 | C10: 15E30 | D10: 46.25 | E10: =D10 -> 46.25 | F10: =D10-E10 -> 0 | G10: =(IF(C10="AUTRE",0,1))*OR(IF(C10="ECHANGE",0,1)) -> 1
A11: 8 | B11: 42193 | C11: 15B04 | D11: 100.95 | E11: =D11 -> 100.95 | F11: =D11-E11 -> 0 | G11: =(IF(C11="AUTRE",0,1))*OR(IF(C11="ECHANGE",0,1)) -> 1
A12: 9 | B12: 42193 | C12: 14P09 | D12: 15.31 | E12: =D12 -> 15.31 | F12: =D12-E12 -> 0 | G12: =(IF(C12="AUTRE",0,1))*OR(IF(C12="ECHANGE",0,1)) -> 1
A13: 10 | B13: 42193 | C13: AUTRE | E13: -2.45 | F13: =D13-E13 -> 2.45 | G13: =(IF(C13="AUTRE",0,1))*OR(IF(C13="ECHANGE",0,1)) -> 0
A14: 11 | B14: 42193 | C14: 15I08 | D14: 44.85 | E14: 20 | F14: =D14-E14 -> 24.85 | G14: =(IF(C14="AUTRE",0,1))*OR(IF(C14="ECHANGE",0,1)) -> 1
A15: 12 | B15: 42194 | C15: 14C39 | D15: 48.4 | E15: =D15 -> 48.4 | F15: =D15-E15 -> 0 | G15: =(IF(C15="AUTRE",0,1))*OR(IF(C15="ECHANGE",0,1)) -> 1
A16: 13 | B16: 42194 | C16: 14M46 | D16: 26.2 | E16: 23.85 | F16: =D16-E16 -> 2.35 | G16: =(IF(C16="AUTRE",0,1))*OR(IF(C16="ECHANGE",0,1)) -> 1
A17: 14 | B17: 42194 | C17: 15J08 | D17: 81.65 | E17: =D17 -> 81.65 | F17: =D17-E17 -> 0 | G17: =(IF(C17="AUTRE",0,1))*OR(IF(C17="ECHANGE",0,1)) -> 1
A18: 15 | E18: =D18 -> 0 | F18: =D18-E18 -> 0 | G18: =(IF(C18="AUTRE",0,1))*OR(IF(C18="ECHANGE",0,1)) -> 1
A19: 16 | E19: =D19 -> 0 | F19: =D19-E19 -> 0 | G19: =(IF(C19="AUTRE",0,1))*OR(IF(C19="ECHANGE",0,1)) -> 1
A20: 17 | E20: =D20 -> 0 | F20: =D20-E20 -> 0 | G20: =(IF(C20="AUTRE",0,1))*OR(IF(C20="ECHANGE",0,1)) -> 1
A21: 18 | E21: =D21 -> 0 | F21: =D21-E21 -> 0 | G21: =(IF(C21="AUTRE",0,1))*OR(IF(C21="ECHANGE",0,1)) -> 1
A22: 19 | E22: =D22 -> 0 | F22: =D22-E22 -> 0 | G22: =(IF(C22="AUTRE",0,1))*OR(IF(C22="ECHANGE",0,1)) -> 1
A23: 20 | E23: =D23 -> 0 | F23: =D23-E23 -> 0 | G23: =(IF(C23="AUTRE",0,1))*OR(IF(C23="ECHANGE",0,1)) -> 1
A24: 21 | E24: =D24 -> 0 | F24: =D24-E24 -> 0 | G24: =(IF(C24="AUTRE",0,1))*OR(IF(C24="ECHANGE",0,1)) -> 1
A25: 22 | E25: =D25 -> 0 | F25: =D25-E25 -> 0 | G25: =(IF(C25="AUTRE",0,1))*OR(IF(C25="ECHANGE",0,1)) -> 1
A26: 23 | E26: =D26 -> 0 | F26: =D26-E26 -> 0 | G26: =(IF(C26="AUTRE",0,1))*OR(IF(C26="ECHANGE",0,1)) -> 1
A27: 24 | E27: =D27 -> 0 | F27: =D27-E27 -> 0 | G27: =(IF(C27="AUTRE",0,1))*OR(IF(C27="ECHANGE",0,1)) -> 1
A28: 25 | E28: =D28 -> 0 | F28: =D28-E28 -> 0 | G28: =(IF(C28="AUTRE",0,1))*OR(IF(C28="ECHANGE",0,1)) -> 1
A29: 26 | E29: =D29 -> 0 | F29: =D29-E29 -> 0 | G29: =(IF(C29="AUTRE",0,1))*OR(IF(C29="ECHANGE",0,1)) -> 1
... A53: 50 | E53: =D53 -> 0 | F53: =D53-E53 -> 0 | G53: =(IF(C53="AUTRE",0,1))*OR(IF(C53="ECHANGE",0,1)) -> 1

Sheet Aout 15
B1: Août 2015
C2: =SUMIF(G4:G53,"=1",E4:E53)+SUMIF(G4:G53,"=0",E4:E53) -> 81.65 | D2: =SUM(D4:D53) -> 81.65 | E2: ="OCC = "&SUMIF(G4:G53,"=1",E4:E53) -> OCC = 81,65 | F2: ="AUTRE = "&SUMIF(G4:G53,"=0",E4:E53) -> AUTRE = 0
B3: Date | C3: DEPOT | D3: AVOIR | E3: ENCAISSE | F3: RENDU
A4: 1 | B4: 42217 | C4: 15J08 | D4: 81.65 | E4: =D4 -> 81.65 | F4: =D4-E4 -> 0 | G4: =(IF(C4="AUTRE",0,1))*OR(IF(C4="ECHANGE",0,1)) -> 1
A5: 2 | F5: =D5-E5 -> 0 | G5: =(IF(C5="AUTRE",0,1))*OR(IF(C5="ECHANGE",0,1)) -> 1
A6: 3 | F6: =D6-E6 -> 0 | G6: =(IF(C6="AUTRE",0,1))*OR(IF(C6="ECHANGE",0,1)) -> 1
A7: 4 | F7: =D7-E7 -> 0 | G7: =(IF(C7="AUTRE",0,1))*OR(IF(C7="ECHANGE",0,1)) -> 1
A8: 5 | F8: =D8-E8 -> 0 | G8: =(IF(C8="AUTRE",0,1))*OR(IF(C8="ECHANGE",0,1)) -> 1
A9: 6 | F9: =D9-E9 -> 0 | G9: =(IF(C9="AUTRE",0,1))*OR(IF(C9="ECHANGE",0,1)) -> 1
A10: 7 | F10: =D10-E10 -> 0 | G10: =(IF(C10="AUTRE",0,1))*OR(IF(C10="ECHANGE",0,1)) -> 1
A11: 8 | F11: =D11-E11 -> 0 | G11: =(IF(C11="AUTRE",0,1))*OR(IF(C11="ECHANGE",0,1)) -> 1
A12: 9 | F12: =D12-E12 -> 0 | G12: =(IF(C12="AUTRE",0,1))*OR(IF(C12="ECHANGE",0,1)) -> 1
A13: 10 | F13: =D13-E13 -> 0 | G13: =(IF(C13="AUTRE",0,1))*OR(IF(C13="ECHANGE",0,1)) -> 1
A14: 11 | F14: =D14-E14 -> 0 | G14: =(IF(C14="AUTRE",0,1))*OR(IF(C14="ECHANGE",0,1)) -> 1
A15: 12 | F15: =D15-E15 -> 0 | G15: =(IF(C15="AUTRE",0,1))*OR(IF(C15="ECHANGE",0,1)) -> 1
A16: 13 | F16: =D16-E16 -> 0 | G16: =(IF(C16="AUTRE",0,1))*OR(IF(C16="ECHANGE",0,1)) -> 1
... A53: 50 | F53: =D53-E53 -> 0 | G53: =(IF(C53="AUTRE",0,1))*OR(IF(C53="ECHANGE",0,1)) -> 1
