Workbook

Sheet Frais de fonctionnement
B2: Tableau frais de fonctionnement
B3: CDT | C3: Sections | D3: Désignation sections | E3: Groupe Charges | F3: Charges
B4: a1 | C4: 1 | D4: =VLOOKUP(Fraisfonction[[#This Row],[Sections]],Inputs!$D$5:$E$27,2,FALSE) -> A | E4: =OFFSET(Tableau2[[#Headers],[Groupe Charges]],MATCH(Fraisfonction[[#This Row],[Charges]],Tableau2[Charges],0),0) -> Personnel related costs | F4: =IF(Inputs!$G$6:$G6<=50,Inputs!I6,bou) -> Frais Recrutement Du Personnel
B5: a2 | C5: 1 | D5: =VLOOKUP(Fraisfonction[[#This Row],[Sections]],Inputs!$D$5:$E$27,2,FALSE) -> A | E5: =OFFSET(Tableau2[[#Headers],[Groupe Charges]],MATCH(Fraisfonction[[#This Row],[Charges]],Tableau2[Charges],0),0) -> #VALUE! | F5: =IF(Inputs!$G$6:$G7<=50,Inputs!I7,bou) -> #VALUE!
B6: a3 | C6: 1 | D6: =VLOOKUP(Fraisfonction[[#This Row],[Sections]],Inputs!$D$5:$E$27,2,FALSE) -> A | E6: =OFFSET(Tableau2[[#Headers],[Groupe Charges]],MATCH(Fraisfonction[[#This Row],[Charges]],Tableau2[Charges],0),0) -> Personnel related costs | F6: =IF(Inputs!$G$6:$G8<=50,Inputs!I8,bou) -> Formation
B7: a4 | C7: 1 | D7: =VLOOKUP(Fraisfonction[[#This Row],[Sections]],Inputs!$D$5:$E$27,2,FALSE) -> A | E7: =OFFSET(Tableau2[[#Headers],[Groupe Charges]],MATCH(Fraisfonction[[#This Row],[Charges]],Tableau2[Charges],0),0) -> Personnel related costs | F7: =IF(Inputs!$G$6:$G9<=50,Inputs!I9,bou) -> Personnel Detache,Prete
B8: a5 | C8: 1 | D8: =VLOOKUP(Fraisfonction[[#This Row],[Sections]],Inputs!$D$5:$E$27,2,FALSE) -> A | E8: =OFFSET(Tableau2[[#Headers],[Groupe Charges]],MATCH(Fraisfonction[[#This Row],[Charges]],Tableau2[Charges],0),0) -> Personnel related costs | F8: =IF(Inputs!$G$6:$G10<=50,Inputs!I10,bou) -> Demenagement Pers. Mute
B9: a6 | C9: 1 | D9: =VLOOKUP(Fraisfonction[[#This Row],[Sections]],Inputs!$D$5:$E$27,2,FALSE) -> A | E9: =OFFSET(Tableau2[[#Headers],[Groupe Charges]],MATCH(Fraisfonction[[#This Row],[Charges]],Tableau2[Charges],0),0) -> Subcontracted in situ personnel | F9: =IF(Inputs!$G$6:$G11<=50,Inputs!I11,bou) -> Subcontracted in situ personnem
B10: a7 | C10: 1 | D10: =VLOOKUP(Fraisfonction[[#This Row],[Sections]],Inputs!$D$5:$E$27,2,FALSE) -> A | E10: =OFFSET(Tableau2[[#Headers],[Groupe Charges]],MATCH(Fraisfonction[[#This Row],[Charges]],Tableau2[Charges],0),0) -> Subcontracted works | F10: =IF(Inputs!$G$6:$G12<=50,Inputs!I12,bou) -> Dev.Maint.Logic.Concus Interne
B11: a8 | C11: 1 | D11: =VLOOKUP(Fraisfonction[[#This Row],[Sections]],Inputs!$D$5:$E$27,2,FALSE) -> A | E11: =OFFSET(Tableau2[[#Headers],[Groupe Charges]],MATCH(Fraisfonction[[#This Row],[Charges]],Tableau2[Charges],0),0) -> Subcontracted works | F11: =IF(Inputs!$G$6:$G13<=50,Inputs!I13,bou) -> Sous-traitance informatique in-situ
B12: a9 | C12: 1 | D12: =VLOOKUP(Fraisfonction[[#This Row],[Sections]],Inputs!$D$5:$E$27,2,FALSE) -> A | E12: =OFFSET(Tableau2[[#Headers],[Groupe Charges]],MATCH(Fraisfonction[[#This Row],[Charges]],Tableau2[Charges],0),0) -> Subcontracted works | F12: =IF(Inputs!$G$6:$G14<=50,Inputs!I14,bou) -> Documentation Generale & Technique
B13: a10 | C13: 1 | D13: =VLOOKUP(Fraisfonction[[#This Row],[Sections]],Inputs!$D$5:$E$27,2,FALSE) -> A | E13: =OFFSET(Tableau2[[#Headers],[Groupe Charges]],MATCH(Fraisfonction[[#This Row],[Charges]],Tableau2[Charges],0),0) -> Subcontracted works | F13: =IF(Inputs!$G$6:$G15<=50,Inputs!I15,bou) -> Qualite,Tests,Essais
B14: a11 | C14: 1 | D14: =VLOOKUP(Fraisfonction[[#This Row],[Sections]],Inputs!$D$5:$E$27,2,FALSE) -> A | E14: =OFFSET(Tableau2[[#Headers],[Groupe Charges]],MATCH(Fraisfonction[[#This Row],[Charges]],Tableau2[Charges],0),0) -> Subcontracted works | F14: =IF(Inputs!$G$6:$G16<=50,Inputs!I16,bou) -> Autres études & recherches ext
B15: a12 | C15: 1 | D15: =VLOOKUP(Fraisfonction[[#This Row],[Sections]],Inputs!$D$5:$E$27,2,FALSE) -> A | E15: =OFFSET(Tableau2[[#Headers],[Groupe Charges]],MATCH(Fraisfonction[[#This Row],[Charges]],Tableau2[Charges],0),0) -> Travel cost & accomodation | F15: =IF(Inputs!$G$6:$G17<=50,Inputs!I17,bou) -> Travel cost & accomodation
... B25: a22 | C25: 1 | D25: =VLOOKUP(Fraisfonction[[#This Row],[Sections]],Inputs!$D$5:$E$27,2,FALSE) -> A | E25: =OFFSET(Tableau2[[#Headers],[Groupe Charges]],MATCH(Fraisfonction[[#This Row],[Charges]],Tableau2[Charges],0),0) -> Business Services | F25: =IF(Inputs!$G$6:$G27<=50,Inputs!I27,bou) -> Manutention
B26: =OFFSET(Inputs!$C$5,MATCH('Frais de fonctionnement'!C26,Inputs!$D$6:$D$27,0),0) -> a1 | C26: 1 | D26: =VLOOKUP(Fraisfonction[[#This Row],[Sections]],Inputs!$D$5:$E$27,2,FALSE) -> A | E26: =OFFSET(Tableau2[[#Headers],[Groupe Charges]],MATCH(Fraisfonction[[#This Row],[Charges]],Tableau2[Charges],0),0) -> Business Services | F26: =IF(Inputs!$G$6:$G28<=50,Inputs!I28,bou) -> Affutage
B27: =OFFSET(Inputs!$C$5,MATCH('Frais de fonctionnement'!C27,Inputs!$D$6:$D$27,0),0) -> a1 | C27: 1 | D27: =VLOOKUP(Fraisfonction[[#This Row],[Sections]],Inputs!$D$5:$E$27,2,FALSE) -> A | E27: =OFFSET(Tableau2[[#Headers],[Groupe Charges]],MATCH(Fraisfonction[[#This Row],[Charges]],Tableau2[Charges],0),0) -> Business Services | F27: =IF(Inputs!$G$6:$G29<=50,Inputs!I29,bou) -> Receptions, Restauration Exterieur
B28: =OFFSET(Inputs!$C$5,MATCH('Frais de fonctionnement'!C28,Inputs!$D$6:$D$27,0),0) -> a1 | C28: 1 | D28: =VLOOKUP(Fraisfonction[[#This Row],[Sections]],Inputs!$D$5:$E$27,2,FALSE) -> A | E28: =OFFSET(Tableau2[[#Headers],[Groupe Charges]],MATCH(Fraisfonction[[#This Row],[Charges]],Tableau2[Charges],0),0) -> Business Services | F28: =IF(Inputs!$G$6:$G30<=50,Inputs!I30,bou) -> Transports Lies A L'Exploitat.
B29: =OFFSET(Inputs!$C$5,MATCH('Frais de fonctionnement'!C29,Inputs!$D$6:$D$27,0),0) -> a1 | C29: 1 | D29: =VLOOKUP(Fraisfonction[[#This Row],[Sections]],Inputs!$D$5:$E$27,2,FALSE) -> A | E29: =OFFSET(Tableau2[[#Headers],[Groupe Charges]],MATCH(Fraisfonction[[#This Row],[Charges]],Tableau2[Charges],0),0) -> Business Services | F29: =IF(Inputs!$G$6:$G31<=50,Inputs!I31,bou) -> Publicite Cadeaux
B30: =OFFSET(Inputs!$C$5,MATCH('Frais de fonctionnement'!C30,Inputs!$D$6:$D$27,0),0) -> a1 | C30: 1 | D30: =VLOOKUP(Fraisfonction[[#This Row],[Sections]],Inputs!$D$5:$E$27,2,FALSE) -> A | E30: =OFFSET(Tableau2[[#Headers],[Groupe Charges]],MATCH(Fraisfonction[[#This Row],[Charges]],Tableau2[Charges],0),0) -> Business Services | F30: =IF(Inputs!$G$6:$G32<=50,Inputs!I32,bou) -> Inscriptions Congres, Manifestation
B31: =OFFSET(Inputs!$C$5,MATCH('Frais de fonctionnement'!C31,Inputs!$D$6:$D$27,0),0) -> a1 | C31: 1 | D31: =VLOOKUP(Fraisfonction[[#This Row],[Sections]],Inputs!$D$5:$E$27,2,FALSE) -> A | E31: =OFFSET(Tableau2[[#Headers],[Groupe Charges]],MATCH(Fraisfonction[[#This Row],[Charges]],Tableau2[Charges],0),0) -> Business Services | F31: =IF(Inputs!$G$6:$G33<=50,Inputs!I33,bou) -> Actes,Formalites,Intermediaires
B32: =OFFSET(Inputs!$C$5,MATCH('Frais de fonctionnement'!C32,Inputs!$D$6:$D$27,0),0) -> a1 | C32: 1 | D32: =VLOOKUP(Fraisfonction[[#This Row],[Sections]],Inputs!$D$5:$E$27,2,FALSE) -> A | E32: =OFFSET(Tableau2[[#Headers],[Groupe Charges]],MATCH(Fraisfonction[[#This Row],[Charges]],Tableau2[Charges],0),0) -> Business Services | F32: =IF(Inputs!$G$6:$G34<=50,Inputs!I34,bou) -> Trvx et services sur site
B33: =OFFSET(Inputs!$C$5,MATCH('Frais de fonctionnement'!C33,Inputs!$D$6:$D$27,0),0) -> a1 | C33: 1 | D33: =VLOOKUP(Fraisfonction[[#This Row],[Sections]],Inputs!$D$5:$E$27,2,FALSE) -> A | E33: =OFFSET(Tableau2[[#Headers],[Groupe Charges]],MATCH(Fraisfonction[[#This Row],[Charges]],Tableau2[Charges],0),0) -> Business Services | F33: =IF(Inputs!$G$6:$G35<=50,Inputs!I35,bou) -> Redevances,Dons,Mecenat
B34: =OFFSET(Inputs!$C$5,MATCH('Frais de fonctionnement'!C34,Inputs!$D$6:$D$27,0),0) -> a1 | C34: 1 | D34: =VLOOKUP(Fraisfonction[[#This Row],[Sections]],Inputs!$D$5:$E$27,2,FALSE) -> A | E34: =OFFSET(Tableau2[[#Headers],[Groupe Charges]],MATCH(Fraisfonction[[#This Row],[Charges]],Tableau2[Charges],0),0) -> Business Services | F34: =IF(Inputs!$G$6:$G36<=50,Inputs!I36,bou) -> Entretien Materiel Et Outil.
B35: =OFFSET(Inputs!$C$5,MATCH('Frais de fonctionnement'!C35,Inputs!$D$6:$D$27,0),0) -> a1 | C35: 1 | D35: =VLOOKUP(Fraisfonction[[#This Row],[Sections]],Inputs!$D$5:$E$27,2,FALSE) -> A | E35: =OFFSET(Tableau2[[#Headers],[Groupe Charges]],MATCH(Fraisfonction[[#This Row],[Charges]],Tableau2[Charges],0),0) -> Business Services | F35: =IF(Inputs!$G$6:$G37<=50,Inputs!I37,bou) -> Loyers Mat & Outil.Hors It
B36: =OFFSET(Inputs!$C$5,MATCH('Frais de fonctionnement'!C36,Inputs!$D$6:$D$27,0),0) -> a1 | C36: 1 | D36: =VLOOKUP(Fraisfonction[[#This Row],[Sections]],Inputs!$D$5:$E$27,2,FALSE) -> A | E36: =OFFSET(Tableau2[[#Headers],[Groupe Charges]],MATCH(Fraisfonction[[#This Row],[Charges]],Tableau2[Charges],0),0) -> Facil.Managt & Utilities | F36: =IF(Inputs!$G$6:$G38<=50,Inputs!I38,bou) -> Remb.De Charges & Subventions Recu
B37: =OFFSET(Inputs!$C$5,MATCH('Frais de fonctionnement'!C37,Inputs!$D$6:$D$27,0),0) -> a1 | C37: 1 | D37: =VLOOKUP(Fraisfonction[[#This Row],[Sections]],Inputs!$D$5:$E$27,2,FALSE) -> A | E37: =OFFSET(Tableau2[[#Headers],[Groupe Charges]],MATCH(Fraisfonction[[#This Row],[Charges]],Tableau2[Charges],0),0) -> Facil.Managt & Utilities | F37: =IF(Inputs!$G$6:$G39<=50,Inputs!I39,bou) -> Electricite
... B61: =OFFSET(Inputs!$C$5,MATCH('Frais de fonctionnement'!C61,Inputs!$D$6:$D$27,0),0) -> a2 | C61: 2 | D61: =VLOOKUP(Fraisfonction[[#This Row],[Sections]],Inputs!$D$5:$E$27,2,FALSE) -> B | E61: =OFFSET(Tableau2[[#Headers],[Groupe Charges]],MATCH(Fraisfonction[[#This Row],[Charges]],Tableau2[Charges],0),0) -> #N/A | F61: =IF(Inputs!$G$6:$G63<=50,Inputs!I63,bou) -> 0

Sheet Inputs
A1: Inputs généraux
B4: Section | G4: Charges
B5: ID Section | C5: CDT | D5: Section | E5: Désignation section | G5: ID Charges | H5: Groupe Charges | I5: Charges
B6: 1 | C6: a1 | D6: 1 | E6: A | G6: 1 | H6: Personnel related costs | I6: Frais Recrutement Du Personnel
B7: 2 | C7: a2 | D7: 2 | E7: B | G7: 2 | H7: Personnel related costs | I7: Location Voitures De Fonction
B8: 3 | C8: a3 | D8: 3 | E8: C | G8: 3 | H8: Personnel related costs | I8: Formation
B9: 4 | C9: a4 | D9: 4 | E9: D | G9: 4 | H9: Personnel related costs | I9: Personnel Detache,Prete
B10: 5 | C10: a5 | D10: 5 | E10: E | G10: 5 | H10: Personnel related costs | I10: Demenagement Pers. Mute
B11: 6 | C11: a6 | D11: 6 | E11: F | G11: 6 | H11: Subcontracted in situ personnel | I11: Subcontracted in situ personnem
B12: 7 | C12: a7 | D12: 7 | E12: G | G12: 7 | H12: Subcontracted works | I12: Dev.Maint.Logic.Concus Interne
B13: 8 | C13: a8 | D13: 8 | E13: H | G13: 8 | H13: Subcontracted works | I13: Sous-traitance informatique in-situ
B14: 9 | C14: a9 | D14: 9 | E14: I | G14: 9 | H14: Subcontracted works | I14: Documentation Generale & Technique
B15: 10 | C15: a10 | D15: 10 | E15: J | G15: 10 | H15: Subcontracted works | I15: Qualite,Tests,Essais
B16: 11 | C16: a11 | D16: 11 | E16: K | G16: 11 | H16: Subcontracted works | I16: Autres études & recherches ext
B17: 12 | C17: a12 | D17: 12 | E17: L | G17: 12 | H17: Travel cost & accomodation | I17: Travel cost & accomodation
... B27: 22 | C27: a22 | D27: 22 | E27: V | G27: 22 | H27: Business Services | I27: Manutention
G28: 23 | H28: Business Services | I28: Affutage
G29: 24 | H29: Business Services | I29: Receptions, Restauration Exterieur
G30: 25 | H30: Business Services | I30: Transports Lies A L'Exploitat.
G31: 26 | H31: Business Services | I31: Publicite Cadeaux
G32: 27 | H32: Business Services | I32: Inscriptions Congres, Manifestation
G33: 28 | H33: Business Services | I33: Actes,Formalites,Intermediaires
G34: 29 | H34: Business Services | I34: Trvx et services sur site
G35: 30 | H35: Business Services | I35: Redevances,Dons,Mecenat
G36: 31 | H36: Business Services | I36: Entretien Materiel Et Outil.
G37: 32 | H37: Business Services | I37: Loyers Mat & Outil.Hors It
G38: 33 | H38: Facil.Managt & Utilities | I38: Remb.De Charges & Subventions Recu
G39: 34 | H39: Facil.Managt & Utilities | I39: Electricite
... G55: 50 | H55: It/Telecom | I55: Achat computers < 500 euros
