Workbook
Name _15T: Liste!$P$4:$P$13
Name _18T: Liste!$Q$4:$Q$20
Name ampirol: Liste!$U$4:$U$16
Name avart: Liste!$AD$4:$AD$12
Name balayeuse: Liste!$W$4
Name Camion: Liste!$D$4:$D$14
Name camion_citerne: Liste!$X$4:$X$5
Name Camion_Grue: Liste!$E$4:$E$12
Name Chef: Liste!$C$4:$C$22
Name Compacteur: Liste!$M$4:$M$8
Name Courtois: Liste!$AE$4:$AE$12
Name ctb: Liste!$AF$4:$AF$12
Name EMM: Liste!$AG$4:$AG$12
Name Entreprise: Liste!$A$4:$A$23
Name fini: Liste!$K$4:$K$7
Name FTD: Liste!$AH$4:$AH$12
Name Hydrocureuse: Liste!$V$4
Name Janssen: Liste!$AI$4:$AI$12
Name Jean_bart_loc: Liste!$AJ$4:$AJ$12
Name Jean_Bart_Location: Liste!$AJ$4:$AJ$12
Name Kiloutou: Liste!$AK$4:$AK$12
Name LocFlandres: Liste!$AL$4:$AL$12
Name Loueur: Liste!$BA$4:$BA$10
Name Mini_pelle: Liste!$Y$4:$Y$9
Name nave: Liste!$AM$4:$AM$12
Name Niveleuse: Liste!$I$4:$I$6
Name Pata: Liste!$S$4:$S$5
Name pelle: Liste!$F$4:$F$6
Name pelle_à_chenille: Liste!$AA$4:$AA$5
Name pelle_à_pneu: Liste!$Z$4:$Z$13
Name Petit: Liste!$AZ$4:$AZ$22
Name Picarreta: Liste!$AN$4:$AN$12
Name Plessiet: Liste!$AO$4:$AO$12
Name Polak: Liste!$AP$4:$AP$12
Name Porte_engin: Liste!$T$4:$T$8
Name Poulain: Liste!$AQ$4:$AQ$12
Name Rabot: Liste!$O$4:$O$8
Name Raboteuse: Liste!$N$4:$N$11
Name Salmat: Liste!$AR$4:$AR$12
Name Salti: Liste!$AS$4:$AS$12
Name SBTP: Liste!$AT$4:$AT$12
Name Semi: Liste!$L$4:$L$7
Name Setim: Liste!$AU$4:$AU$12
Name TAD: Liste!$AV$4:$AV$12
Name TLBCM: Liste!$AW$4:$AW$12
Name tract: Liste!$H$4:$H$8
Name tracto: Liste!$G$4:$G$5
Name vo: Liste!$J$4:$J$5

Sheet Liste
A3: Entreprise | B3: EMAIL | C3: Chef de chantier | D3: Camion | E3: Chauffeur | F3: Pelle | G3: Tracto | H3: Entr Tracto | I3: Niveleuse | J3: Finisseur | K3: Entr Finisseur | L3: Semi | M3: Compacteur | N3: Raboteuse | O3: Entr Raboteuse | P3: 15T | Q3: 18T | R3: GRUE | S3: PATA | T3: PC | U3: Ampirol | V3: Hydrocureuse | W3: Balayeuse | X3: Camion Citerne | Y3: Mini-Pelle | Z3: Pelle à pneu | AA3: Pelle à chenille | AD3: AVART | AE3: COURTOIS | AF3: CTB | AG3: EMM | AH3: FTD | AI3: JANSSEN | AJ3: JEAN BART Loc | AK3: KILOUTOU | AL3: LOC'FLANDRES | AM3: NAVE | AN3: PICARRETA | AO3: PLESSIET | AP3: POLAK | AQ3: POULAIN | AR3: SALMAT | AS3: SALTI | AT3: SBTP | AU3: SETIM | AV3: TAD | AW3: TLBCM | AZ3: Petit matériel | BA3: Loueurs petit matériel
A4: AVART | B4: abc@orange.fr | C4: Ballieu Eric | D4: _15T | E4: Bonnoron | F4: Mini_Pelle | G4: Tracto-benne | H4: COURTOIS | I4: Calais | J4: Mini-finisseur | K4: Calais | L4: GNT | M4: Mixte | N4: 35cm | O4: COLNOT | P4: Bonnoron | Q4: Bonnoron | R4: Bonnoron | S4: Denorme | T4: Hogede | U4: Bonnoron | V4: POLAK | W4: POLAK | X4: FTD | Y4: BARBAU | Z4: AVART | AA4: LOC'FLANDRES | AD4: Pelle à pneu | AE4: Bull | AF4: 18T | AG4: Mini-pelle | AH4: Ampirol | AI4: Pelle à pneu | AJ4: Mini-pelle | AK4: Mini-pelle | AL4: Pelle à pneu | AM4: Porte-engin | AN4: 18T | AO4: 18T | AP4: Balayeuse | AQ4: 18T | AR4: Mini-pelle | AS4: Mini-pelle | AT4: Mini-pelle | AU4: 18T | AV4: Semi | AW4: Ampirol | AZ4: BW100 | BA4: CGL
A5: COURTOIS | B5: abc@orange.fr | C5: Bertout Fabien | D5: _18T | E5: Deconninck | F5: Pelle_à_chenille | G5: Tracto-citerne | H5: JANSSEN | I5: Denain | J5: Vogele | K5: BARBAU | L5: Maniez | M5: BW174 | N5: 60cm | O5: FRAISAGE TP | P5: Calais | Q5: CTB | R5: Calais | S5: Deconninck | T5: Leupe | U5: Calais | X5: TLBCM | Y5: EMM | Z5: BAILLEUL | AA5: COURTOIS | AD5: Semi | AE5: Pelle à chenille | AG5: Chargeuse | AH5: Camion citerne | AI5: Ampirol | AJ5: Chargeuse | AK5: Chargeuse | AL5: Pelle à chenille | AM5: 18T | AN5: Semi | AP5: Hydrocureuse | AR5: Chargeuse | AS5: Chargeuse | AT5: Mini-finisseur | AV5: 18T | AW5: Camion citerne | AZ5: BW120 | BA5: DIATEK
A6: CTB | B6: abc@orange.fr | C6: Broucke Douglas | D6: Ampirol | E6: Denorme | F6: Pelle_à_pneu | H6: MAES | I6: FANADO | K6: Denain | L6: Hogede | M6: V3 | N6: 1m | O6: JV GROUPE | P6: Deconninck | Q6: Deconninck | R6: Deconninck | T6: Maniez | U6: Deconninck | Y6: JEAN BART Loc | Z6: Calais | AE6: Pelle à pneu | AI6: 18T | AM6: Semi | AT6: Semi | AZ6: BW62 | BA6: EMM
A7: EMM | B7: abc@orange.fr | C7: Bultheel Dominique | D7: Balayeuse | E7: Everard | H7: PONSEEL | K7: Douai | L7: Interim | M7: V4 | N7: 1,2m | O7: SALTI | P7: Denorme | Q7: Denorme | R7: Denorme | T7: NAVE | U7: Denorme | Y7: KILOUTOU | Z7: COURTOIS | AE7: Tracto-benne | AI7: Tracto-benne | AZ7: BW65 | BA7: JEAN BART
A8: FTD | B8: abc@orange.fr | C8: Compas Claude | D8: Bouille | E8: Hogede | H8: POUPART | M8: V5 | N8: 1,5m | O8: SOLOC | P8: Everard | Q8: Everard | R8: Everard | T8: SBTP | U8: Everard | Y8: SALMAT | Z8: Douai | AE8: Tracto-citerne | AI8: Tracto-citerne | AZ8: Carotteuse | BA8: KILOUTOU
A9: JANSSEN | B9: abc@orange.fr | C9: Davelu Maxime | D9: Camion Grue | E9: Interim | N9: 2m | P9: Hogede | Q9: Hogede | R9: Hogede | U9: FTD | Y9: SALTI | Z9: Herlen | AZ9: Chargeuse | BA9: SALMAT
A10: JEAN BART Location | B10: abc@orange.fr | C10: Devos Philippe | D10: Camion_citerne | E10: Leupe | N10: Bordure | P10: Interim | Q10: Interim | R10: Interim | U10: Hogede | Z10: JANSSEN | AZ10: Compresseur | BA10: SALTI
A11: KILOUTOU | B11: abc@orange.fr | C11: Drieux Stephane | D11: Gravillonneur | E11: Maniez | N11: Duo | P11: Leupe | Q11: JANSSEN | R11: Leupe | U11: Interim | Z11: LOC'FLANDRES | AZ11: Cylindre Duplex
A12: LOC'FLANDRES | B12: abc@orange.fr | C12: Duhamel Tony | D12: Hydrocureuse | E12: Rommel | P12: Maniez | Q12: Leupe | R12: Maniez | U12: JANSSEN | Z12: Moreau | AZ12: Cylindre Mixte
A13: NAVE | B13: abc@orange.fr | C13: Duhautoy Quentin | D13: Porte_engin | P13: Rommel | Q13: Maniez | R13: Rommel | U13: Leupe | Z13: Ryckembush | AZ13: Cylindre Pied de mouton
A14: PICARRETA | B14: abc@orange.fr | C14: Guilbert José | D14: Pata | Q14: NAVE | U14: Maniez | AZ14: Feu tricolore
A15: PLESSIET | B15: abc@orange.fr | C15: Heneman Fabien | Q15: PICARRETA | U15: Rommel | AZ15: Marteau autonome
A16: POLAK | B16: abc@orange.fr | C16: Hervieu Alain | Q16: PLESSIET | U16: TLBCM | AZ16: Marteau piqueur
A17: POULAIN | B17: abc@orange.fr | C17: Lemaire Daniel | Q17: POULAIN | AZ17: Pilonneuse
A18: SALMAT | B18: abc@orange.fr | C18: Lemaire Jean-Marie | Q18: Rommel | AZ18: Plaque vibrante 60kg
A19: SALTI | B19: abc@orange.fr | C19: Melchior Jacques | Q19: SETIM | AZ19: Plaque vibrante 400kg
A20: SBTP | B20: abc@orange.fr | C20: Mylle Didier | Q20: TAD | AZ20: Pompe
A21: SETIM | B21: abc@orange.fr | C21: Ponseel Philippe | AZ21: Scie à sol
A22: TAD | B22: abc@orange.fr | C22: Scotte Didier | AZ22: Tonne à eau
A23: TLBCM | B23: abc@orange.fr

Sheet Email
A1: Entreprise | B1: Entreprise | D1: Date d'arrêt | E1: Engins | F1: Engins supplémentaires | G1: Numéro de chantier | H1: Nom du chef de chantier | I1: Email
A2: EMM | B2: AVART | D2: 42508 | E2: Mini-pelle | G2: MRZ7 | I2: =IF(A2="","",VLOOKUP(A2,Liste!$A$4:$B$35,2,0)) -> abc@orange.fr
A3: COURTOIS | B3: COURTOIS | G3: MOL6 | I3: =IF(A3="","",VLOOKUP(A3,Liste!$A$4:$B$35,2,0)) -> abc@orange.fr
B4: CTB | I4: =IF(A4="","",VLOOKUP(A4,Liste!$A$4:$B$35,2,0))
B5: EMM | I5: =IF(A5="","",VLOOKUP(A5,Liste!$A$4:$B$35,2,0))
B6: FTD | I6: =IF(A6="","",VLOOKUP(A6,Liste!$A$4:$B$35,2,0))
B7: JANSSEN | I7: =IF(A7="","",VLOOKUP(A7,Liste!$A$4:$B$35,2,0))
B8: JEAN_BART_Loc | I8: =IF(A8="","",VLOOKUP(A8,Liste!$A$4:$B$35,2,0))
B9: KILOUTOU | I9: =IF(A9="","",VLOOKUP(A9,Liste!$A$4:$B$35,2,0))
B10: LOCFLANDRES | I10: =IF(A10="","",VLOOKUP(A10,Liste!$A$4:$B$35,2,0))
B11: NAVE | I11: =IF(A11="","",VLOOKUP(A11,Liste!$A$4:$B$35,2,0))
B12: PICARRETA | I12: =IF(A12="","",VLOOKUP(A12,Liste!$A$4:$B$35,2,0))
B13: PLESSIET | I13: =IF(A13="","",VLOOKUP(A13,Liste!$A$4:$B$35,2,0))
B14: POLAK | I14: =IF(A14="","",VLOOKUP(A14,Liste!$A$4:$B$35,2,0))
B15: POULAIN | I15: =IF(A15="","",VLOOKUP(A15,Liste!$A$4:$B$35,2,0))
... B21: TLBCM | I21: =IF(A21="","",VLOOKUP(A21,Liste!$A$4:$B$35,2,0))

Sheet Compas
A1: Compas | B1: Claude | W1: AAA00 | Y1: AAA00 | AA1: AAA00
W2: Paris | Y2: Paris | AA2: Paris
C3: =DATE(YEAR(TODAY()),5,2) -> 42492 | E3: =DATE(YEAR(TODAY()),5,3) -> 42493 | G3: =DATE(YEAR(TODAY()),5,4) -> 42494 | I3: =DATE(YEAR(TODAY()),5,5) -> 42495 | K3: =DATE(YEAR(TODAY()),5,6) -> 42496 | M3: =DATE(YEAR(TODAY()),5,9) -> 42499 | O3: =DATE(YEAR(TODAY()),5,10) -> 42500 | Q3: =DATE(YEAR(TODAY()),5,11) -> 42501 | S3: =DATE(YEAR(TODAY()),5,12) -> 42502 | U3: =DATE(YEAR(TODAY()),5,13) -> 42503 | W3: =DATE(YEAR(TODAY()),5,16) -> 42506 | Y3: =DATE(YEAR(TODAY()),5,17) -> 42507 | AA3: =DATE(YEAR(TODAY()),5,18) -> 42508 | AC3: =DATE(YEAR(TODAY()),5,19) -> 42509 | AE3: =DATE(YEAR(TODAY()),5,20) -> 42510 | AG3: =DATE(YEAR(TODAY()),5,23) -> 42513 | AI3: =DATE(YEAR(TODAY()),5,24) -> 42514 | AK3: =DATE(YEAR(TODAY()),5,25) -> 42515 | AM3: =DATE(YEAR(TODAY()),5,26) -> 42516 | AO3: =DATE(YEAR(TODAY()),5,27) -> 42517 | AQ3: =DATE(YEAR(TODAY()),5,30) -> 42520 | AS3: =DATE(YEAR(TODAY()),5,31) -> 42521
A4: Camion | AA4: _18T
AA5: Denorme
A6: Camion
A8: Camion
A10: Camion
A12: Semi | C12: =IF(C13="","","Semi") | E12: =IF(E13="","","Semi") | G12: =IF(G13="","","Semi") | I12: =IF(I13="","","Semi") | K12: =IF(K13="","","Semi") | M12: =IF(M13="","","Semi") | O12: =IF(O13="","","Semi") | Q12: =IF(Q13="","","Semi") | S12: =IF(S13="","","Semi") | U12: =IF(U13="","","Semi") | W12: =IF(W13="","","Semi") | Y12: =IF(Y13="","","Semi") | AA12: 5 Semi | AC12: =IF(AC13="","","Semi") | AE12: =IF(AE13="","","Semi") | AG12: =IF(AG13="","","Semi") | AI12: =IF(AI13="","","Semi") | AK12: =IF(AK13="","","Semi") | AM12: =IF(AM13="","","Semi") | AO12: =IF(AO13="","","Semi") | AQ12: =IF(AQ13="","","Semi") | AS12: =IF(AS13="","","Semi")
AA13: GNT
A14: Pelle | W14: Pelle_à_pneu | Y14: Pelle_à_pneu | AA14: Pelle_à_pneu | AB14: FIN
W15: COURTOIS | Y15: COURTOIS | AA15: COURTOIS
A16: Pelle
A18: Pelle
A20: Pelle
A22: Raboteuse | AA22: 1,2m
AA23: SALTI
A24: Tracto
A26: Tracto
A28: Tracto
A30: Finisseur
A32: Finisseur
A34: Compacteur | AA34: V5 | AB34: Z
AA35: CGL
A36: Compacteur
A38: Niveleuse
A40: Bull
A43: Petit matériel | AA43: BW65
AA44: CGL
A45: Petit matériel | AA45: Pilonneuse | AB45: Z
AA46: KILOUTOU
A47: Petit matériel
A49: Petit matériel
A51: Petit matériel
