Workbook

Sheet Paramêtres
B1: ADHERENT | C1: NON AHERENT
A2: 1 Cours (soirée offerte) | B2: 6 | C2: 8
A3: 2 Cours (soirée offerte) | B3: 10 | C3: 15
A4: 3 Cours (soirée offerte) | B4: 12 | C4: 18
A5: SOIRÉE SEULE (sans boisson) | B5: 3
A6: SOIRÉE SEULE (Tarif unique) avec 1 soft ou 1 pression | B6: 5
A7: SOIRÉE SEULE (Tarif unique) avec 1 soft ou 1 pression | B7: 8
A8: Paiement Marc Soirée | B8: 2.5
A9: Paiement Marc Cours | B9: 2
A10: Vestiaire | B10: 1
A11: Tarif cours pour paiment aux PROFS résidents | B11: 6.5
A12: Rabais cours en % | B12: 0.3
A13: Indice multiplicateur pour paiement PROFS | B13: =SUM(B11*B12) -> 1.95

Sheet Dépenses
A1: FEEL KIZ
A2: Tableau de bord paiement DJ / PROFS des MERCREDIS
A3: Date | B3: Nom | C3: Cachet | D3: Divers | E3: Taxis Dancers | F3: Photographe | G3: Transport | H3: EuropAssistance | I3: Hébergement | J3: Consommation | K3: Repas | L3: Total | M3: Commentires
A4: 42354 | B4: DJ KURTIS | C4: 120 | L4: =SUM(C4:K4) -> 120
A5: 42361 | B5: DJ SNAKES | C5: 200 | G5: 1200 | L5: =SUM(C5:K5) -> 1400 | P5: Total Cachet | Q5: =SUM(C4:C212) -> 4890
A6: 42361 | B6: DJ JEECAY | C6: 200 | L6: =SUM(C6:K6) -> 200 | P6: Total Taxis Dancers | Q6: =SUM(E4:E212) -> 30
A7: 42361 | B7: DJ ZAY'X | C7: 400 | G7: 250 | L7: =SUM(C7:K7) -> 650 | P7: Total Photographe | Q7: =SUM(F4:F212) -> 310
A8: 42361 | B8: GDS | C8: 200 | I8: 128 | L8: =SUM(C8:K8) -> 328 | P8: Total Transport | Q8: =SUM(G4:G212) -> 2401.5
A9: 42361 | B9: MPNT | C9: 150 | L9: =SUM(C9:K9) -> 150 | P9: Total EuropAssistance | Q9: =SUM(H4:H212) -> 18.4
A10: 42361 | B10: HUSTL | F10: 80 | L10: =SUM(C10:K10) -> 80 | P10: Total Transport+EuropAssistance | Q10: =SUM(Q8:Q9) -> 2419.9
A11: 42361 | B11: MIREL | F11: 150 | L11: =SUM(C11:K11) -> 150 | P11: Total Hébergement | Q11: =SUM(I4:I212) -> 381
A12: 42361 | B12: KIF-TAXI DANCER | E12: 30 | L12: =SUM(C12:K12) -> 30 | P12: Total Consommation | Q12: =SUM(J4:J211) -> 0
A13: 42375 | B13: DJ KURTIS | C13: 120 | L13: =SUM(C13:K13) -> 120 | P13: Total Repas | Q13: =SUM(K4:K212) -> 75
A14: 42382 | B14: DJ 20CENT | C14: 80 | L14: =SUM(C14:K14) -> 80 | P14: Total | Q14: =SUM(L4:L212) -> 8105.9
A15: 42389 | B15: DJ SPONKY | C15: 120 | L15: =SUM(C15:K15) -> 120
A16: 42396 | B16: DJ OZY SHYNE | C16: 250 | G16: 122 | H16: 3.4 | I16: 91 | K16: 15 | L16: =SUM(C16:K16) -> 481.4
A17: 42403 | B17: DJ 20CENT | C17: 80 | L17: =SUM(C17:K17) -> 80
A18: 42410 | B18: DJ KURTIS | C18: 120 | L18: =SUM(C18:K18) -> 120
A19: 42417 | B19: DJ SPONKY | C19: 120 | L19: =SUM(C19:K19) -> 120
A20: 42424 | B20: DJ GASS | C20: 200 | G20: 212 | K20: 15 | L20: =SUM(C20:K20) -> 427
A21: 42424 | B21: LAURENT ET ADELINE | C21: 400 | G21: 400.4 | H21: 10 | I21: 162 | L21: =SUM(C21:K21) -> 972.4 | M21: 3 h de cours au lieu de 250€/h
A22: 42424 | B22: HUSTL TALIBBE | F22: 80 | L22: =SUM(C22:K22) -> 80
A23: 42431 | B23: DJ KURTIS | C23: 80 | L23: =SUM(C23:K23) -> 80
A24: 42438 | B24: DJ 20CENT | C24: 120 | L24: =SUM(C24:K24) -> 120
A25: 42445 | B25: DJ LOW | C25: 120 | G25: 157.2 | H25: 5 | K25: 15 | L25: =SUM(C25:K25) -> 297.2
A26: 42452 | B26: DJ SPONKY | C26: 120 | L26: =SUM(C26:K26) -> 120
A27: 42459 | B27: DJ VASCO | C27: 400 | K27: 15 | L27: =SUM(C27:K27) -> 415 | M27: 200 € Dj 250 € Prof / Package 400 €
A28: 42466 | B28: DJ 20CENT | C28: 80 | L28: =SUM(C28:K28) -> 80
A29: 42473 | B29: DJ KURTIS | C29: 120 | L29: =SUM(C29:K29) -> 120
A30: 42480 | B30: DJ SPONKY | C30: 120 | L30: =SUM(C30:K30) -> 120
A31: 42487 | B31: DJ MGI | C31: 150 | G31: 59.9 | K31: 15 | L31: =SUM(C31:K31) -> 224.9 | M31: Billet pris en charge par Pat
A32: 42494 | B32: DJ 20CENT | C32: 80 | L32: =SUM(C32:K32) -> 80
A33: 42501 | B33: DJ KURTIS | C33: 120 | L33: =SUM(C33:K33) -> 120
A34: 42508 | B34: DJ SPONKY | C34: 120 | L34: =SUM(C34:K34) -> 120
A35: 42515 | B35: DJ WEST | C35: 80 | L35: =SUM(C35:K35) -> 80
A36: 42522 | B36: DJ 20CENT | C36: 80 | L36: =SUM(C36:K36) -> 80
A37: 42529 | B37: DJ KURTIS | C37: 120 | L37: =SUM(C37:K37) -> 120
A38: 42536 | B38: DJ SPONKY | C38: 120 | L38: =SUM(C38:K38) -> 120
A39: 42543 | B39: DJ DREEKS | C39: 100 | L39: =SUM(C39:K39) -> 100
A40: 42550 | L40: =SUM(C40:K40) -> 0
...

Sheet Données
A1: FEEL KIZ
A2: Tableau de bord paiement DEPENSES / RECETTES des MERCREDIS
B3: VANINA / VINCENT | F3: AGATHE / SAM | I3: ADHERENTS | M3: NON ADHERENTS | Q3: SOIREE | U3: RECETTE | V3: DEPENSES | AD3: VANINA / VINCENT | AH3: AGATHE / SAM | AL3: ADHERENTS | AP3: NON ADHERENTS | AY3: CAISSE COURS | AZ3: CAISSE SOIREE | BC3: CAISSE COURS | BD3: CAISSE SOIREE
A4: Date | B4: Cour Débutant | C4: Cour Intermédiaire | D4: Cour Avancé | E4: Total Cours VV | F4: Cour Débutant | G4: Cour Intermédiaire | H4: Total Cours AS | I4: 1 Cours + Soirée 6,00 € | J4: 2 Cours + Soirée 10,00 € | K4: 3 Cours + Soirée 12,00 € | L4: Total | M4: 1 Cours + Soirée 8,00 € | N4: 2 Cours + Soirée 15,00 € | O4: 3 Cours + Soirée 18,00 € | P4: Total | Q4: Entrée à 3,00 € | R4: Entrée à 5,00 € Avec 1 soft ou 1 pression | S4: Entrée à 8,00 € Avec 1 soft ou 1 pression | T4: Vestiaire 1,00 € | U4: TARIF LIBRE | V4: Cachet | W4: Divers | X4: Taxis Dancers | Y4: Photographe | Z4: Transport | AA4: Hébergement | AB4: Consommation | AC4: Repas | AD4: Cour Débutant | AE4: Cour Intermédiaire | AF4: Cour Avancé | AG4: Total Cours VV | AH4: Cour Débutant | AI4: Cour Intermédiaire | AJ4: 3 Cours (Soirée offerte) 18,00 € | AK4: Total Cours AS | AL4: Total 1 Cours + Soirée | AM4: Total 2 Cours + Soirée | AN4: Total 3 Cours + Soirée | AO4: Total | AP4: Total 1 Cours + Soirée | AQ4: Total 2 Cours + Soirée | AR4: Total 3 Cours + Soirée | AS4: Total | AT4: Total Soirée à 3,00 € | AU4: Total Soirée à 5,00 € | AV4: Total Soirée à 8,00 € | AW4: Total Entrée Payante | AX4: Total Vestiaire | AY4: Total Marc Cours PROFS Résidents | AZ4: Total Marc Cours PROFS GUESTS | BA4: Total Marc Entrée | BB4: Total Dépense | BC4: Total Dépense Cours PROFS Résidents | BD4: Total Recette Cours PROFS GUESTS | BE4: Total Recette | BF4: Solde Evènement | BG4: Pourcentage
A5: 42347 | B5: 30 | C5: 30 | E5: =SUM(B5:D5) -> 60 | H5: =SUM(F5:G5) -> 0 | L5: =SUM(I5:K5) -> 0 | P5: =SUM(M5:O5) -> 0 | Q5: 15 | R5: 29 | V5: 80 | AD5: =IF(SUM(B5*Paramêtres!$B$13)=0,0,(IF(SUM(B5*Paramêtres!$B$13)<60,60,SUM(B5*Paramêtres!$B$13)))) -> 60 | AE5: =IF(SUM(C5*Paramêtres!$B$13)=0,0,(IF(SUM(C5*Paramêtres!$B$13)<60,60,SUM(C5*Paramêtres!$B$13)))) -> 60 | AF5: =IF(SUM(D5*Paramêtres!$B$13)=0,0,(IF(SUM(D5*Paramêtres!$B$13)<60,60,SUM(D5*Paramêtres!$B$13)))) -> 0 | AG5: =SUM(AD5:AF5) -> 120 | AH5: =IF(SUM(F5*Paramêtres!$B$13)=0,0,SUM(F5*Paramêtres!$B$13)) -> 0 | AI5: =IF(SUM(G5*Paramêtres!$B$13)=0,0,SUM(G5*Paramêtres!$B$13)) -> 0 | AJ5: =SUM(H5*Paramêtres!C4) -> 0 | AK5: =SUM(AH5:AI5) -> 0 | AL5: =SUM(I5*Paramêtres!$B$2) -> 0 | AM5: =SUM(J5*Paramêtres!$B$3) -> 0 | AN5: =SUM(K5*Paramêtres!$B$4) -> 0 | AO5: =SUM(AL5:AN5) -> 0 | AP5: =SUM(M5*Paramêtres!$C$2) -> 0 | AQ5: =SUM(N5*Paramêtres!$C$3) -> 0 | AR5: =SUM(O5*Paramêtres!$C$4) -> 0 | AS5: =SUM(AP5:AR5) -> 0 | AT5: =SUM(Q5*Paramêtres!$B$5) -> 45 | AU5: =SUM(R5*Paramêtres!$B$6) -> 145 | AV5: =SUM(S5*Paramêtres!$B$7) -> 0 | AW5: =SUM(AT5:AV5) -> 190 | AX5: =SUM(T5*Paramêtres!$B$10) -> 0 | AY5: =SUM((E5*Paramêtres!$B$9)+(H5*Paramêtres!$B$9)) -> 120 | AZ5: =SUM((L5*Paramêtres!$B$9)+(P5*Paramêtres!$B$9)) -> 0 | BA5: =SUM((R5*Paramêtres!$B$8)+(S5*Paramêtres!$B$8)) -> 72.5 | BB5: =SUM(V5:AC5,AZ5:BA5) -> 152.5 | BC5: =SUM(AG5,AK5) -> 120 | BD5: =SUM(AO5,AS5) -> 0 | BE5: =SUM(AW5:AX5,U5,BD5) -> 190 | BF5: =SUM(BE5-BB5) -> 37.5 | BG5: =IF(BB5=0," ",SUM(BF5/BB5)) -> 0.24590164
A6: 42354 | B6: 24 | C6: 28 | D6: 9 | E6: =SUM(B6:D6) -> 61 | H6: =SUM(F6:G6) -> 0 | L6: =SUM(I6:K6) -> 0 | P6: =SUM(M6:O6) -> 0 | Q6: 27 | R6: 28 | V6: 120 | AD6: =IF(SUM(B6*Paramêtres!$B$13)=0,0,(IF(SUM(B6*Paramêtres!$B$13)<60,60,SUM(B6*Paramêtres!$B$13)))) -> 60 | AE6: =IF(SUM(C6*Paramêtres!$B$13)=0,0,(IF(SUM(C6*Paramêtres!$B$13)<60,60,SUM(C6*Paramêtres!$B$13)))) -> 60 | AF6: =IF(SUM(D6*Paramêtres!$B$13)=0,0,(IF(SUM(D6*Paramêtres!$B$13)<60,60,SUM(D6*Paramêtres!$B$13)))) -> 60 | AG6: =SUM(AD6:AF6) -> 180 | AH6: =IF(SUM(F6*Paramêtres!$B$13)=0,0,SUM(F6*Paramêtres!$B$13)) -> 0 | AI6: =IF(SUM(G6*Paramêtres!$B$13)=0,0,SUM(G6*Paramêtres!$B$13)) -> 0 | AJ6: =SUM(H6*Paramêtres!C5) -> 0 | AK6: =SUM(AH6:AI6) -> 0 | AL6: =SUM(I6*Paramêtres!$B$2) -> 0 | AM6: =SUM(J6*Paramêtres!$B$3) -> 0 | AN6: =SUM(K6*Paramêtres!$B$4) -> 0 | AO6: =SUM(AL6:AN6) -> 0 | AP6: =SUM(M6*Paramêtres!$C$2) -> 0 | AQ6: =SUM(N6*Paramêtres!$C$3) -> 0 | AR6: =SUM(O6*Paramêtres!$C$4) -> 0 | AS6: =SUM(AP6:AR6) -> 0 | AT6: =SUM(Q6*Paramêtres!$B$5) -> 81 | AU6: =SUM(R6*Paramêtres!$B$6) -> 140 | AV6: =SUM(S6*Paramêtres!$B$7) -> 0 | AW6: =SUM(AT6:AV6) -> 221 | AX6: =SUM(T6*Paramêtres!$B$10) -> 0 | AY6: =SUM((E6*Paramêtres!$B$9)+(H6*Paramêtres!$B$9)) -> 122 | AZ6: =SUM((L6*Paramêtres!$B$9)+(P6*Paramêtres!$B$9)) -> 0 | BA6: =SUM((R6*Paramêtres!$B$8)+(S6*Paramêtres!$B$8)) -> 70 | BB6: =SUM(V6:AC6,AZ6:BA6) -> 190 | BC6: =SUM(AG6,AK6) -> 180 | BD6: =SUM(AO6,AS6) -> 0 | BE6: =SUM(AW6:AX6,U6,BD6) -> 221 | BF6: =SUM(BE6-BB6) -> 31 | BG6: =IF(BB6=0," ",SUM(BF6/BB6)) -> 0.16315789
A7: 42361 | E7: =SUM(B7:D7) -> 0 | H7: =SUM(F7:G7) -> 0 | L7: =SUM(I7:K7) -> 0 | P7: =SUM(M7:O7) -> 0 | S7: 125 | T7: 33 | U7: 535 | V7: 1150 | X7: 30 | Y7: 230 | Z7: 1450 | AA7: 128 | AD7: =IF(SUM(B7*Paramêtres!$B$13)=0,0,(IF(SUM(B7*Paramêtres!$B$13)<60,60,SUM(B7*Paramêtres!$B$13)))) -> 0 | AE7: =IF(SUM(C7*Paramêtres!$B$13)=0,0,(IF(SUM(C7*Paramêtres!$B$13)<60,60,SUM(C7*Paramêtres!$B$13)))) -> 0 | AF7: =IF(SUM(D7*Paramêtres!$B$13)=0,0,(IF(SUM(D7*Paramêtres!$B$13)<60,60,SUM(D7*Paramêtres!$B$13)))) -> 0 | AG7: =SUM(AD7:AF7) -> 0 | AH7: =IF(SUM(F7*Paramêtres!$B$13)=0,0,SUM(F7*Paramêtres!$B$13)) -> 0 | AI7: =IF(SUM(G7*Paramêtres!$B$13)=0,0,SUM(G7*Paramêtres!$B$13)) -> 0 | AJ7: =SUM(H7*Paramêtres!C6) -> 0 | AK7: =SUM(AH7:AI7) -> 0 | AL7: =SUM(I7*Paramêtres!$B$2) -> 0 | AM7: =SUM(J7*Paramêtres!$B$3) -> 0 | AN7: =SUM(K7*Paramêtres!$B$4) -> 0 | AO7: =SUM(AL7:AN7) -> 0 | AP7: =SUM(M7*Paramêtres!$C$2) -> 0 | AQ7: =SUM(N7*Paramêtres!$C$3) -> 0 | AR7: =SUM(O7*Paramêtres!$C$4) -> 0 | AS7: =SUM(AP7:AR7) -> 0 | AT7: =SUM(Q7*Paramêtres!$B$5) -> 0 | AU7: =SUM(R7*Paramêtres!$B$6) -> 0 | AV7: =SUM(S7*Paramêtres!$B$7) -> 1000 | AW7: =SUM(AT7:AV7) -> 1000 | AX7: =SUM(T7*Paramêtres!$B$10) -> 33 | AY7: =SUM((E7*Paramêtres!$B$9)+(H7*Paramêtres!$B$9)) -> 0 | AZ7: =SUM((L7*Paramêtres!$B$9)+(P7*Paramêtres!$B$9)) -> 0 | BA7: =SUM((R7*Paramêtres!$B$8)+(S7*Paramêtres!$B$8)) -> 312.5 | BB7: =SUM(V7:AC7,AZ7:BA7) -> 3300.5 | BC7: =SUM(AG7,AK7) -> 0 | BD7: =SUM(AO7,AS7) -> 0 | BE7: =SUM(AW7:AX7,U7,BD7) -> 1568 | BF7: =SUM(BE7-BB7) -> -1732.5 | BG7: =IF(BB7=0," ",SUM(BF7/BB7)) -> -0.52492047
A8: 42375 | B8: 30 | C8: 22 | D8: 7 | E8: =SUM(B8:D8) -> 59 | H8: =SUM(F8:G8) -> 0 | L8: =SUM(I8:K8) -> 0 | P8: =SUM(M8:O8) -> 0 | Q8: 11 | R8: 32 | V8: 120 | AD8: =IF(SUM(B8*Paramêtres!$B$13)=0,0,(IF(SUM(B8*Paramêtres!$B$13)<60,60,SUM(B8*Paramêtres!$B$13)))) -> 60 | AE8: =IF(SUM(C8*Paramêtres!$B$13)=0,0,(IF(SUM(C8*Paramêtres!$B$13)<60,60,SUM(C8*Paramêtres!$B$13)))) -> 60 | AF8: =IF(SUM(D8*Paramêtres!$B$13)=0,0,(IF(SUM(D8*Paramêtres!$B$13)<60,60,SUM(D8*Paramêtres!$B$13)))) -> 60 | AG8: =SUM(AD8:AF8) -> 180 | AH8: =IF(SUM(F8*Paramêtres!$B$13)=0,0,SUM(F8*Paramêtres!$B$13)) -> 0 | AI8: =IF(SUM(G8*Paramêtres!$B$13)=0,0,SUM(G8*Paramêtres!$B$13)) -> 0 | AJ8: =SUM(H8*Paramêtres!C7) -> 0 | AK8: =SUM(AH8:AI8) -> 0 | AL8: =SUM(I8*Paramêtres!$B$2) -> 0 | AM8: =SUM(J8*Paramêtres!$B$3) -> 0 | AN8: =SUM(K8*Paramêtres!$B$4) -> 0 | AO8: =SUM(AL8:AN8) -> 0 | AP8: =SUM(M8*Paramêtres!$C$2) -> 0 | AQ8: =SUM(N8*Paramêtres!$C$3) -> 0 | AR8: =SUM(O8*Paramêtres!$C$4) -> 0 | AS8: =SUM(AP8:AR8) -> 0 | AT8: =SUM(Q8*Paramêtres!$B$5) -> 33 | AU8: =SUM(R8*Paramêtres!$B$6) -> 160 | AV8: =SUM(S8*Paramêtres!$B$7) -> 0 | AW8: =SUM(AT8:AV8) -> 193 | AX8: =SUM(T8*Paramêtres!$B$10) -> 0 | AY8: =SUM((E8*Paramêtres!$B$9)+(H8*Paramêtres!$B$9)) -> 118 | AZ8: =SUM((L8*Paramêtres!$B$9)+(P8*Paramêtres!$B$9)) -> 0 | BA8: =SUM((R8*Paramêtres!$B$8)+(S8*Paramêtres!$B$8)) -> 80 | BB8: =SUM(V8:AC8,AZ8:BA8) -> 200 | BC8: =SUM(AG8,AK8) -> 180 | BD8: =SUM(AO8,AS8) -> 0 | BE8: =SUM(AW8:AX8,U8,BD8) -> 193 | BF8: =SUM(BE8-BB8) -> -7 | BG8: =IF(BB8=0," ",SUM(BF8/BB8)) -> -0.035
A9: 42382 | B9: 24 | C9: 25 | E9: =SUM(B9:D9) -> 49 | F9: 5 | G9: 2 | H9: =SUM(F9:G9) -> 7 | L9: =SUM(I9:K9) -> 0 | P9: =SUM(M9:O9) -> 0 | Q9: 30 | R9: 41 | V9: 80 | AD9: =IF(SUM(B9*Paramêtres!$B$13)=0,0,(IF(SUM(B9*Paramêtres!$B$13)<60,60,SUM(B9*Paramêtres!$B$13)))) -> 60 | AE9: =IF(SUM(C9*Paramêtres!$B$13)=0,0,(IF(SUM(C9*Paramêtres!$B$13)<60,60,SUM(C9*Paramêtres!$B$13)))) -> 60 | AF9: =IF(SUM(D9*Paramêtres!$B$13)=0,0,(IF(SUM(D9*Paramêtres!$B$13)<60,60,SUM(D9*Paramêtres!$B$13)))) -> 0 | AG9: =SUM(AD9:AF9) -> 120 | AH9: =IF(SUM(F9*Paramêtres!$B$13)=0,0,SUM(F9*Paramêtres!$B$13)) -> 9.75 | AI9: =IF(SUM(G9*Paramêtres!$B$13)=0,0,SUM(G9*Paramêtres!$B$13)) -> 3.9 | AJ9: =SUM(H9*Paramêtres!C8) -> 0 | AK9: =SUM(AH9:AI9) -> 13.65 | AL9: =SUM(I9*Paramêtres!$B$2) -> 0 | AM9: =SUM(J9*Paramêtres!$B$3) -> 0 | AN9: =SUM(K9*Paramêtres!$B$4) -> 0 | AO9: =SUM(AL9:AN9) -> 0 | AP9: =SUM(M9*Paramêtres!$C$2) -> 0 | AQ9: =SUM(N9*Paramêtres!$C$3) -> 0 | AR9: =SUM(O9*Paramêtres!$C$4) -> 0 | AS9: =SUM(AP9:AR9) -> 0 | AT9: =SUM(Q9*Paramêtres!$B$5) -> 90 | AU9: =SUM(R9*Paramêtres!$B$6) -> 205 | AV9: =SUM(S9*Paramêtres!$B$7) -> 0 | AW9: =SUM(AT9:AV9) -> 295 | AX9: =SUM(T9*Paramêtres!$B$10) -> 0 | AY9: =SUM((E9*Paramêtres!$B$9)+(H9*Paramêtres!$B$9)) -> 112 | AZ9: =SUM((L9*Paramêtres!$B$9)+(P9*Paramêtres!$B$9)) -> 0 | BA9: =SUM((R9*Paramêtres!$B$8)+(S9*Paramêtres!$B$8)) -> 102.5 | BB9: =SUM(V9:AC9,AZ9:BA9) -> 182.5 | BC9: =SUM(AG9,AK9) -> 133.65 | BD9: =SUM(AO9,AS9) -> 0 | BE9: =SUM(AW9:AX9,U9,BD9) -> 295 | BF9: =SUM(BE9-BB9) -> 112.5 | BG9: =IF(BB9=0," ",SUM(BF9/BB9)) -> 0.61643836
A10: 42389 | B10: 24 | C10: 30 | D10: 8 | E10: =SUM(B10:D10) -> 62 | F10: 7 | G10: 4 | H10: =SUM(F10:G10) -> 11 | L10: =SUM(I10:K10) -> 0 | P10: =SUM(M10:O10) -> 0 | Q10: 40 | R10: 33 | V10: 120 | AD10: =IF(SUM(B10*Paramêtres!$B$13)=0,0,(IF(SUM(B10*Paramêtres!$B$13)<60,60,SUM(B10*Paramêtres!$B$13)))) -> 60 | AE10: =IF(SUM(C10*Paramêtres!$B$13)=0,0,(IF(SUM(C10*Paramêtres!$B$13)<60,60,SUM(C10*Paramêtres!$B$13)))) -> 60 | AF10: =IF(SUM(D10*Paramêtres!$B$13)=0,0,(IF(SUM(D10*Paramêtres!$B$13)<60,60,SUM(D10*Paramêtres!$B$13)))) -> 60 | AG10: =SUM(AD10:AF10) -> 180 | AH10: =IF(SUM(F10*Paramêtres!$B$13)=0,0,SUM(F10*Paramêtres!$B$13)) -> 13.65 | AI10: =IF(SUM(G10*Paramêtres!$B$13)=0,0,SUM(G10*Paramêtres!$B$13)) -> 7.8 | AJ10: =SUM(H10*Paramêtres!C9) -> 0 | AK10: =SUM(AH10:AI10) -> 21.45 | AL10: =SUM(I10*Paramêtres!$B$2) -> 0 | AM10: =SUM(J10*Paramêtres!$B$3) -> 0 | AN10: =SUM(K10*Paramêtres!$B$4) -> 0 | AO10: =SUM(AL10:AN10) -> 0 | AP10: =SUM(M10*Paramêtres!$C$2) -> 0 | AQ10: =SUM(N10*Paramêtres!$C$3) -> 0 | AR10: =SUM(O10*Paramêtres!$C$4) -> 0 | AS10: =SUM(AP10:AR10) -> 0 | AT10: =SUM(Q10*Paramêtres!$B$5) -> 120 | AU10: =SUM(R10*Paramêtres!$B$6) -> 165 | AV10: =SUM(S10*Paramêtres!$B$7) -> 0 | AW10: =SUM(AT10:AV10) -> 285 | AX10: =SUM(T10*Paramêtres!$B$10) -> 0 | AY10: =SUM((E10*Paramêtres!$B$9)+(H10*Paramêtres!$B$9)) -> 146 | AZ10: =SUM((L10*Paramêtres!$B$9)+(P10*Paramêtres!$B$9)) -> 0 | BA10: =SUM((R10*Paramêtres!$B$8)+(S10*Paramêtres!$B$8)) -> 82.5 | BB10: =SUM(V10:AC10,AZ10:BA10) -> 202.5 | BC10: =SUM(AG10,AK10) -> 201.45 | BD10: =SUM(AO10,AS10) -> 0 | BE10: =SUM(AW10:AX10,U10,BD10) -> 285 | BF10: =SUM(BE10-BB10) -> 82.5 | BG10: =IF(BB10=0," ",SUM(BF10/BB10)) -> 0.40740741
A11: 42396 | B11: 26 | C11: 25 | E11: =SUM(B11:D11) -> 51 | F11: 12 | G11: 3 | H11: =SUM(F11:G11) -> 15 | L11: =SUM(I11:K11) -> 0 | P11: =SUM(M11:O11) -> 0 | Q11: 32 | R11: 58 | V11: 250 | Z11: 125.4 | AA11: 91 | AC11: 12.4 | AD11: =IF(SUM(B11*Paramêtres!$B$13)=0,0,(IF(SUM(B11*Paramêtres!$B$13)<60,60,SUM(B11*Paramêtres!$B$13)))) -> 60 | AE11: =IF(SUM(C11*Paramêtres!$B$13)=0,0,(IF(SUM(C11*Paramêtres!$B$13)<60,60,SUM(C11*Paramêtres!$B$13)))) -> 60 | AF11: =IF(SUM(D11*Paramêtres!$B$13)=0,0,(IF(SUM(D11*Paramêtres!$B$13)<60,60,SUM(D11*Paramêtres!$B$13)))) -> 0 | AG11: =SUM(AD11:AF11) -> 120 | AH11: =IF(SUM(F11*Paramêtres!$B$13)=0,0,SUM(F11*Paramêtres!$B$13)) -> 23.4 | AI11: =IF(SUM(G11*Paramêtres!$B$13)=0,0,SUM(G11*Paramêtres!$B$13)) -> 5.85 | AJ11: =SUM(H11*Paramêtres!C10) -> 0 | AK11: =SUM(AH11:AI11) -> 29.25 | AL11: =SUM(I11*Paramêtres!$B$2) -> 0 | AM11: =SUM(J11*Paramêtres!$B$3) -> 0 | AN11: =SUM(K11*Paramêtres!$B$4) -> 0 | AO11: =SUM(AL11:AN11) -> 0 | AP11: =SUM(M11*Paramêtres!$C$2) -> 0 | AQ11: =SUM(N11*Paramêtres!$C$3) -> 0 | AR11: =SUM(O11*Paramêtres!$C$4) -> 0 | AS11: =SUM(AP11:AR11) -> 0 | AT11: =SUM(Q11*Paramêtres!$B$5) -> 96 | AU11: =SUM(R11*Paramêtres!$B$6) -> 290 | AV11: =SUM(S11*Paramêtres!$B$7) -> 0 | AW11: =SUM(AT11:AV11) -> 386 | AX11: =SUM(T11*Paramêtres!$B$10) -> 0 | AY11: =SUM((E11*Paramêtres!$B$9)+(H11*Paramêtres!$B$9)) -> 132 | AZ11: =SUM((L11*Paramêtres!$B$9)+(P11*Paramêtres!$B$9)) -> 0 | BA11: =SUM((R11*Paramêtres!$B$8)+(S11*Paramêtres!$B$8)) -> 145 | BB11: =SUM(V11:AC11,AZ11:BA11) -> 623.8 | BC11: =SUM(AG11,AK11) -> 149.25 | BD11: =SUM(AO11,AS11) -> 0 | BE11: =SUM(AW11:AX11,U11,BD11) -> 386 | BF11: =SUM(BE11-BB11) -> -237.8 | BG11: =IF(BB11=0," ",SUM(BF11/BB11)) -> -0.38121193
A12: 42403 | B12: 31 | C12: 28 | D12: 5 | E12: =SUM(B12:D12) -> 64 | F12: 8 | G12: 2 | H12: =SUM(F12:G12) -> 10 | L12: =SUM(I12:K12) -> 0 | P12: =SUM(M12:O12) -> 0 | Q12: 34 | R12: 47 | V12: 80 | AD12: =IF(SUM(B12*Paramêtres!$B$13)=0,0,(IF(SUM(B12*Paramêtres!$B$13)<60,60,SUM(B12*Paramêtres!$B$13)))) -> 60.45 | AE12: =IF(SUM(C12*Paramêtres!$B$13)=0,0,(IF(SUM(C12*Paramêtres!$B$13)<60,60,SUM(C12*Paramêtres!$B$13)))) -> 60 | AF12: =IF(SUM(D12*Paramêtres!$B$13)=0,0,(IF(SUM(D12*Paramêtres!$B$13)<60,60,SUM(D12*Paramêtres!$B$13)))) -> 60 | AG12: =SUM(AD12:AF12) -> 180.45 | AH12: =IF(SUM(F12*Paramêtres!$B$13)=0,0,SUM(F12*Paramêtres!$B$13)) -> 15.6 | AI12: =IF(SUM(G12*Paramêtres!$B$13)=0,0,SUM(G12*Paramêtres!$B$13)) -> 3.9 | AJ12: =SUM(H12*Paramêtres!C11) -> 0 | AK12: =SUM(AH12:AI12) -> 19.5 | AL12: =SUM(I12*Paramêtres!$B$2) -> 0 | AM12: =SUM(J12*Paramêtres!$B$3) -> 0 | AN12: =SUM(K12*Paramêtres!$B$4) -> 0 | AO12: =SUM(AL12:AN12) -> 0 | AP12: =SUM(M12*Paramêtres!$C$2) -> 0 | AQ12: =SUM(N12*Paramêtres!$C$3) -> 0 | AR12: =SUM(O12*Paramêtres!$C$4) -> 0 | AS12: =SUM(AP12:AR12) -> 0 | AT12: =SUM(Q12*Paramêtres!$B$5) -> 102 | AU12: =SUM(R12*Paramêtres!$B$6) -> 235 | AV12: =SUM(S12*Paramêtres!$B$7) -> 0 | AW12: =SUM(AT12:AV12) -> 337 | AX12: =SUM(T12*Paramêtres!$B$10) -> 0 | AY12: =SUM((E12*Paramêtres!$B$9)+(H12*Paramêtres!$B$9)) -> 148 | AZ12: =SUM((L12*Paramêtres!$B$9)+(P12*Paramêtres!$B$9)) -> 0 | BA12: =SUM((R12*Paramêtres!$B$8)+(S12*Paramêtres!$B$8)) -> 117.5 | BB12: =SUM(V12:AC12,AZ12:BA12) -> 197.5 | BC12: =SUM(AG12,AK12) -> 199.95 | BD12: =SUM(AO12,AS12) -> 0 | BE12: =SUM(AW12:AX12,U12,BD12) -> 337 | BF12: =SUM(BE12-BB12) -> 139.5 | BG12: =IF(BB12=0," ",SUM(BF12/BB12)) -> 0.70632911
A13: 42410 | B13: 22 | C13: 24 | E13: =SUM(B13:D13) -> 46 | F13: 12 | G13: 2 | H13: =SUM(F13:G13) -> 14 | L13: =SUM(I13:K13) -> 0 | P13: =SUM(M13:O13) -> 0 | Q13: 37 | R13: 41 | V13: 120 | AD13: =IF(SUM(B13*Paramêtres!$B$13)=0,0,(IF(SUM(B13*Paramêtres!$B$13)<60,60,SUM(B13*Paramêtres!$B$13)))) -> 60 | AE13: =IF(SUM(C13*Paramêtres!$B$13)=0,0,(IF(SUM(C13*Paramêtres!$B$13)<60,60,SUM(C13*Paramêtres!$B$13)))) -> 60 | AF13: =IF(SUM(D13*Paramêtres!$B$13)=0,0,(IF(SUM(D13*Paramêtres!$B$13)<60,60,SUM(D13*Paramêtres!$B$13)))) -> 0 | AG13: =SUM(AD13:AF13) -> 120 | AH13: =IF(SUM(F13*Paramêtres!$B$13)=0,0,SUM(F13*Paramêtres!$B$13)) -> 23.4 | AI13: =IF(SUM(G13*Paramêtres!$B$13)=0,0,SUM(G13*Paramêtres!$B$13)) -> 3.9 | AJ13: =SUM(H13*Paramêtres!C12) -> 0 | AK13: =SUM(AH13:AI13) -> 27.3 | AL13: =SUM(I13*Paramêtres!$B$2) -> 0 | AM13: =SUM(J13*Paramêtres!$B$3) -> 0 | AN13: =SUM(K13*Paramêtres!$B$4) -> 0 | AO13: =SUM(AL13:AN13) -> 0 | AP13: =SUM(M13*Paramêtres!$C$2) -> 0 | AQ13: =SUM(N13*Paramêtres!$C$3) -> 0 | AR13: =SUM(O13*Paramêtres!$C$4) -> 0 | AS13: =SUM(AP13:AR13) -> 0 | AT13: =SUM(Q13*Paramêtres!$B$5) -> 111 | AU13: =SUM(R13*Paramêtres!$B$6) -> 205 | AV13: =SUM(S13*Paramêtres!$B$7) -> 0 | AW13: =SUM(AT13:AV13) -> 316 | AX13: =SUM(T13*Paramêtres!$B$10) -> 0 | AY13: =SUM((E13*Paramêtres!$B$9)+(H13*Paramêtres!$B$9)) -> 120 | AZ13: =SUM((L13*Paramêtres!$B$9)+(P13*Paramêtres!$B$9)) -> 0 | BA13: =SUM((R13*Paramêtres!$B$8)+(S13*Paramêtres!$B$8)) -> 102.5 | BB13: =SUM(V13:AC13,AZ13:BA13) -> 222.5 | BC13: =SUM(AG13,AK13) -> 147.3 | BD13: =SUM(AO13,AS13) -> 0 | BE13: =SUM(AW13:AX13,U13,BD13) -> 316 | BF13: =SUM(BE13-BB13) -> 93.5 | BG13: =IF(BB13=0," ",SUM(BF13/BB13)) -> 0.42022472
A14: 42417 | B14: 26 | C14: 24 | E14: =SUM(B14:D14) -> 50 | F14: 12 | G14: 4 | H14: =SUM(F14:G14) -> 16 | L14: =SUM(I14:K14) -> 0 | P14: =SUM(M14:O14) -> 0 | Q14: 20 | R14: 27 | V14: 120 | AD14: =IF(SUM(B14*Paramêtres!$B$13)=0,0,(IF(SUM(B14*Paramêtres!$B$13)<60,60,SUM(B14*Paramêtres!$B$13)))) -> 60 | AE14: =IF(SUM(C14*Paramêtres!$B$13)=0,0,(IF(SUM(C14*Paramêtres!$B$13)<60,60,SUM(C14*Paramêtres!$B$13)))) -> 60 | AF14: =IF(SUM(D14*Paramêtres!$B$13)=0,0,(IF(SUM(D14*Paramêtres!$B$13)<60,60,SUM(D14*Paramêtres!$B$13)))) -> 0 | AG14: =SUM(AD14:AF14) -> 120 | AH14: =IF(SUM(F14*Paramêtres!$B$13)=0,0,SUM(F14*Paramêtres!$B$13)) -> 23.4 | AI14: =IF(SUM(G14*Paramêtres!$B$13)=0,0,SUM(G14*Paramêtres!$B$13)) -> 7.8 | AJ14: =SUM(H14*Paramêtres!C13) -> 0 | AK14: =SUM(AH14:AI14) -> 31.2 | AL14: =SUM(I14*Paramêtres!$B$2) -> 0 | AM14: =SUM(J14*Paramêtres!$B$3) -> 0 | AN14: =SUM(K14*Paramêtres!$B$4) -> 0 | AO14: =SUM(AL14:AN14) -> 0 | AP14: =SUM(M14*Paramêtres!$C$2) -> 0 | AQ14: =SUM(N14*Paramêtres!$C$3) -> 0 | AR14: =SUM(O14*Paramêtres!$C$4) -> 0 | AS14: =SUM(AP14:AR14) -> 0 | AT14: =SUM(Q14*Paramêtres!$B$5) -> 60 | AU14: =SUM(R14*Paramêtres!$B$6) -> 135 | AV14: =SUM(S14*Paramêtres!$B$7) -> 0 | AW14: =SUM(AT14:AV14) -> 195 | AX14: =SUM(T14*Paramêtres!$B$10) -> 0 | AY14: =SUM((E14*Paramêtres!$B$9)+(H14*Paramêtres!$B$9)) -> 132 | AZ14: =SUM((L14*Paramêtres!$B$9)+(P14*Paramêtres!$B$9)) -> 0 | BA14: =SUM((R14*Paramêtres!$B$8)+(S14*Paramêtres!$B$8)) -> 67.5 | BB14: =SUM(V14:AC14,AZ14:BA14) -> 187.5 | BC14: =SUM(AG14,AK14) -> 151.2 | BD14: =SUM(AO14,AS14) -> 0 | BE14: =SUM(AW14:AX14,U14,BD14) -> 195 | BF14: =SUM(BE14-BB14) -> 7.5 | BG14: =IF(BB14=0," ",SUM(BF14/BB14)) -> 0.04
A15: 42424 | E15: =SUM(B15:D15) -> 0 | H15: =SUM(F15:G15) -> 0 | I15: 16 | J15: 7 | L15: =SUM(I15:K15) -> 23 | M15: 19 | N15: 13 | P15: =SUM(M15:O15) -> 32 | Q15: 1 | R15: 95 | V15: 600 | Y15: 80 | AA15: 162 | AC15: 114 | AD15: =IF(SUM(B15*Paramêtres!$B$13)=0,0,(IF(SUM(B15*Paramêtres!$B$13)<60,60,SUM(B15*Paramêtres!$B$13)))) -> 0 | AE15: =IF(SUM(C15*Paramêtres!$B$13)=0,0,(IF(SUM(C15*Paramêtres!$B$13)<60,60,SUM(C15*Paramêtres!$B$13)))) -> 0 | AF15: =IF(SUM(D15*Paramêtres!$B$13)=0,0,(IF(SUM(D15*Paramêtres!$B$13)<60,60,SUM(D15*Paramêtres!$B$13)))) -> 0 | AG15: =SUM(AD15:AF15) -> 0 | AH15: =IF(SUM(F15*Paramêtres!$B$13)=0,0,SUM(F15*Paramêtres!$B$13)) -> 0 | AI15: =IF(SUM(G15*Paramêtres!$B$13)=0,0,SUM(G15*Paramêtres!$B$13)) -> 0 | AJ15: =SUM(H15*Paramêtres!C14) -> 0 | AK15: =SUM(AH15:AI15) -> 0 | AL15: =SUM(I15*Paramêtres!$B$2) -> 96 | AM15: =SUM(J15*Paramêtres!$B$3) -> 70 | AN15: =SUM(K15*Paramêtres!$B$4) -> 0 | AO15: =SUM(AL15:AN15) -> 166 | AP15: =SUM(M15*Paramêtres!$C$2) -> 152 | AQ15: =SUM(N15*Paramêtres!$C$3) -> 195 | AR15: =SUM(O15*Paramêtres!$C$4) -> 0 | AS15: =SUM(AP15:AR15) -> 347 | AT15: =SUM(Q15*Paramêtres!$B$5) -> 3 | AU15: =SUM(R15*Paramêtres!$B$6) -> 475 | AV15: =SUM(S15*Paramêtres!$B$7) -> 0 | AW15: =SUM(AT15:AV15) -> 478 | AX15: =SUM(T15*Paramêtres!$B$10) -> 0 | AY15: =SUM((E15*Paramêtres!$B$9)+(H15*Paramêtres!$B$9)) -> 0 | AZ15: =SUM((L15*Paramêtres!$B$9)+(P15*Paramêtres!$B$9)) -> 110 | BA15: =SUM((R15*Paramêtres!$B$8)+(S15*Paramêtres!$B$8)) -> 237.5 | BB15: =SUM(V15:AC15,AZ15:BA15) -> 1303.5 | BC15: =SUM(AG15,AK15) -> 0 | BD15: =SUM(AO15,AS15) -> 513 | BE15: =SUM(AW15:AX15,U15,BD15) -> 991 | BF15: =SUM(BE15-BB15) -> -312.5 | BG15: =IF(BB15=0," ",SUM(BF15/BB15)) -> -0.23973916
A16: 42431 | B16: 19 | C16: 24 | E16: =SUM(B16:D16) -> 43 | H16: =SUM(F16:G16) -> 0 | L16: =SUM(I16:K16) -> 0 | P16: =SUM(M16:O16) -> 0 | Q16: 26 | R16: 34 | V16: 80 | AD16: =IF(SUM(B16*Paramêtres!$B$13)=0,0,(IF(SUM(B16*Paramêtres!$B$13)<60,60,SUM(B16*Paramêtres!$B$13)))) -> 60 | AE16: =IF(SUM(C16*Paramêtres!$B$13)=0,0,(IF(SUM(C16*Paramêtres!$B$13)<60,60,SUM(C16*Paramêtres!$B$13)))) -> 60 | AF16: =IF(SUM(D16*Paramêtres!$B$13)=0,0,(IF(SUM(D16*Paramêtres!$B$13)<60,60,SUM(D16*Paramêtres!$B$13)))) -> 0 | AG16: =SUM(AD16:AF16) -> 120 | AH16: =IF(SUM(F16*Paramêtres!$B$13)=0,0,SUM(F16*Paramêtres!$B$13)) -> 0 | AI16: =IF(SUM(G16*Paramêtres!$B$13)=0,0,SUM(G16*Paramêtres!$B$13)) -> 0 | AJ16: =SUM(H16*Paramêtres!C15) -> 0 | AK16: =SUM(AH16:AI16) -> 0 | AL16: =SUM(I16*Paramêtres!$B$2) -> 0 | AM16: =SUM(J16*Paramêtres!$B$3) -> 0 | AN16: =SUM(K16*Paramêtres!$B$4) -> 0 | AO16: =SUM(AL16:AN16) -> 0 | AP16: =SUM(M16*Paramêtres!$C$2) -> 0 | AQ16: =SUM(N16*Paramêtres!$C$3) -> 0 | AR16: =SUM(O16*Paramêtres!$C$4) -> 0 | AS16: =SUM(AP16:AR16) -> 0 | AT16: =SUM(Q16*Paramêtres!$B$5) -> 78 | AU16: =SUM(R16*Paramêtres!$B$6) -> 170 | AV16: =SUM(S16*Paramêtres!$B$7) -> 0 | AW16: =SUM(AT16:AV16) -> 248 | AX16: =SUM(T16*Paramêtres!$B$10) -> 0 | AY16: =SUM((E16*Paramêtres!$B$9)+(H16*Paramêtres!$B$9)) -> 86 | AZ16: =SUM((L16*Paramêtres!$B$9)+(P16*Paramêtres!$B$9)) -> 0 | BA16: =SUM((R16*Paramêtres!$B$8)+(S16*Paramêtres!$B$8)) -> 85 | BB16: =SUM(V16:AC16,AZ16:BA16) -> 165 | BC16: =SUM(AG16,AK16) -> 120 | BD16: =SUM(AO16,AS16) -> 0 | BE16: =SUM(AW16:AX16,U16,BD16) -> 248 | BF16: =SUM(BE16-BB16) -> 83 | BG16: =IF(BB16=0," ",SUM(BF16/BB16)) -> 0.5030303
A17: 42438 | B17: 21 | C17: 31 | E17: =SUM(B17:D17) -> 52 | H17: =SUM(F17:G17) -> 0 | L17: =SUM(I17:K17) -> 0 | P17: =SUM(M17:O17) -> 0 | Q17: 57 | R17: 42 | V17: 120 | AD17: =IF(SUM(B17*Paramêtres!$B$13)=0,0,(IF(SUM(B17*Paramêtres!$B$13)<60,60,SUM(B17*Paramêtres!$B$13)))) -> 60 | AE17: =IF(SUM(C17*Paramêtres!$B$13)=0,0,(IF(SUM(C17*Paramêtres!$B$13)<60,60,SUM(C17*Paramêtres!$B$13)))) -> 60.45 | AF17: =IF(SUM(D17*Paramêtres!$B$13)=0,0,(IF(SUM(D17*Paramêtres!$B$13)<60,60,SUM(D17*Paramêtres!$B$13)))) -> 0 | AG17: =SUM(AD17:AF17) -> 120.45 | AH17: =IF(SUM(F17*Paramêtres!$B$13)=0,0,SUM(F17*Paramêtres!$B$13)) -> 0 | AI17: =IF(SUM(G17*Paramêtres!$B$13)=0,0,SUM(G17*Paramêtres!$B$13)) -> 0 | AJ17: =SUM(H17*Paramêtres!C16) -> 0 | AK17: =SUM(AH17:AI17) -> 0 | AL17: =SUM(I17*Paramêtres!$B$2) -> 0 | AM17: =SUM(J17*Paramêtres!$B$3) -> 0 | AN17: =SUM(K17*Paramêtres!$B$4) -> 0 | AO17: =SUM(AL17:AN17) -> 0 | AP17: =SUM(M17*Paramêtres!$C$2) -> 0 | AQ17: =SUM(N17*Paramêtres!$C$3) -> 0 | AR17: =SUM(O17*Paramêtres!$C$4) -> 0 | AS17: =SUM(AP17:AR17) -> 0 | AT17: =SUM(Q17*Paramêtres!$B$5) -> 171 | AU17: =SUM(R17*Paramêtres!$B$6) -> 210 | AV17: =SUM(S17*Paramêtres!$B$7) -> 0 | AW17: =SUM(AT17:AV17) -> 381 | AX17: =SUM(T17*Paramêtres!$B$10) -> 0 | AY17: =SUM((E17*Paramêtres!$B$9)+(H17*Paramêtres!$B$9)) -> 104 | AZ17: =SUM((L17*Paramêtres!$B$9)+(P17*Paramêtres!$B$9)) -> 0 | BA17: =SUM((R17*Paramêtres!$B$8)+(S17*Paramêtres!$B$8)) -> 105 | BB17: =SUM(V17:AC17,AZ17:BA17) -> 225 | BC17: =SUM(AG17,AK17) -> 120.45 | BD17: =SUM(AO17,AS17) -> 0 | BE17: =SUM(AW17:AX17,U17,BD17) -> 381 | BF17: =SUM(BE17-BB17) -> 156 | BG17: =IF(BB17=0," ",SUM(BF17/BB17)) -> 0.69333333
A18: 42445 | B18: 26 | C18: 29 | E18: =SUM(B18:D18) -> 55 | F18: 9 | G18: 0 | H18: =SUM(F18:G18) -> 9 | L18: =SUM(I18:K18) -> 0 | P18: =SUM(M18:O18) -> 0 | Q18: 41 | R18: 61 | V18: 120 | AC18: 3 | AD18: =IF(SUM(B18*Paramêtres!$B$13)=0,0,(IF(SUM(B18*Paramêtres!$B$13)<60,60,SUM(B18*Paramêtres!$B$13)))) -> 60 | AE18: =IF(SUM(C18*Paramêtres!$B$13)=0,0,(IF(SUM(C18*Paramêtres!$B$13)<60,60,SUM(C18*Paramêtres!$B$13)))) -> 60 | AF18: =IF(SUM(D18*Paramêtres!$B$13)=0,0,(IF(SUM(D18*Paramêtres!$B$13)<60,60,SUM(D18*Paramêtres!$B$13)))) -> 0 | AG18: =SUM(AD18:AF18) -> 120 | AH18: =IF(SUM(F18*Paramêtres!$B$13)=0,0,SUM(F18*Paramêtres!$B$13)) -> 17.55 | AI18: =IF(SUM(G18*Paramêtres!$B$13)=0,0,SUM(G18*Paramêtres!$B$13)) -> 0 | AJ18: =SUM(H18*Paramêtres!C17) -> 0 | AK18: =SUM(AH18:AI18) -> 17.55 | AL18: =SUM(I18*Paramêtres!$B$2) -> 0 | AM18: =SUM(J18*Paramêtres!$B$3) -> 0 | AN18: =SUM(K18*Paramêtres!$B$4) -> 0 | AO18: =SUM(AL18:AN18) -> 0 | AP18: =SUM(M18*Paramêtres!$C$2) -> 0 | AQ18: =SUM(N18*Paramêtres!$C$3) -> 0 | AR18: =SUM(O18*Paramêtres!$C$4) -> 0 | AS18: =SUM(AP18:AR18) -> 0 | AT18: =SUM(Q18*Paramêtres!$B$5) -> 123 | AU18: =SUM(R18*Paramêtres!$B$6) -> 305 | AV18: =SUM(S18*Paramêtres!$B$7) -> 0 | AW18: =SUM(AT18:AV18) -> 428 | AX18: =SUM(T18*Paramêtres!$B$10) -> 0 | AY18: =SUM((E18*Paramêtres!$B$9)+(H18*Paramêtres!$B$9)) -> 128 | AZ18: =SUM((L18*Paramêtres!$B$9)+(P18*Paramêtres!$B$9)) -> 0 | BA18: =SUM((R18*Paramêtres!$B$8)+(S18*Paramêtres!$B$8)) -> 152.5 | BB18: =SUM(V18:AC18,AZ18:BA18) -> 275.5 | BC18: =SUM(AG18,AK18) -> 137.55 | BD18: =SUM(AO18,AS18) -> 0 | BE18: =SUM(AW18:AX18,U18,BD18) -> 428 | BF18: =SUM(BE18-BB18) -> 152.5 | BG18: =IF(BB18=0," ",SUM(BF18/BB18)) -> 0.55353902
A19: 42452 | B19: 25 | C19: 23 | E19: =SUM(B19:D19) -> 48 | F19: 10 | G19: 0 | H19: =SUM(F19:G19) -> 10 | L19: =SUM(I19:K19) -> 0 | P19: =SUM(M19:O19) -> 0 | Q19: 27 | R19: 41 | V19: 120 | AD19: =IF(SUM(B19*Paramêtres!$B$13)=0,0,(IF(SUM(B19*Paramêtres!$B$13)<60,60,SUM(B19*Paramêtres!$B$13)))) -> 60 | AE19: =IF(SUM(C19*Paramêtres!$B$13)=0,0,(IF(SUM(C19*Paramêtres!$B$13)<60,60,SUM(C19*Paramêtres!$B$13)))) -> 60 | AF19: =IF(SUM(D19*Paramêtres!$B$13)=0,0,(IF(SUM(D19*Paramêtres!$B$13)<60,60,SUM(D19*Paramêtres!$B$13)))) -> 0 | AG19: =SUM(AD19:AF19) -> 120 | AH19: =IF(SUM(F19*Paramêtres!$B$13)=0,0,SUM(F19*Paramêtres!$B$13)) -> 19.5 | AI19: =IF(SUM(G19*Paramêtres!$B$13)=0,0,SUM(G19*Paramêtres!$B$13)) -> 0 | AJ19: =SUM(H19*Paramêtres!C18) -> 0 | AK19: =SUM(AH19:AI19) -> 19.5 | AL19: =SUM(I19*Paramêtres!$B$2) -> 0 | AM19: =SUM(J19*Paramêtres!$B$3) -> 0 | AN19: =SUM(K19*Paramêtres!$B$4) -> 0 | AO19: =SUM(AL19:AN19) -> 0 | AP19: =SUM(M19*Paramêtres!$C$2) -> 0 | AQ19: =SUM(N19*Paramêtres!$C$3) -> 0 | AR19: =SUM(O19*Paramêtres!$C$4) -> 0 | AS19: =SUM(AP19:AR19) -> 0 | AT19: =SUM(Q19*Paramêtres!$B$5) -> 81 | AU19: =SUM(R19*Paramêtres!$B$6) -> 205 | AV19: =SUM(S19*Paramêtres!$B$7) -> 0 | AW19: =SUM(AT19:AV19) -> 286 | AX19: =SUM(T19*Paramêtres!$B$10) -> 0 | AY19: =SUM((E19*Paramêtres!$B$9)+(H19*Paramêtres!$B$9)) -> 116 | AZ19: =SUM((L19*Paramêtres!$B$9)+(P19*Paramêtres!$B$9)) -> 0 | BA19: =SUM((R19*Paramêtres!$B$8)+(S19*Paramêtres!$B$8)) -> 102.5 | BB19: =SUM(V19:AC19,AZ19:BA19) -> 222.5 | BC19: =SUM(AG19,AK19) -> 139.5 | BD19: =SUM(AO19,AS19) -> 0 | BE19: =SUM(AW19:AX19,U19,BD19) -> 286 | BF19: =SUM(BE19-BB19) -> 63.5 | BG19: =IF(BB19=0," ",SUM(BF19/BB19)) -> 0.28539326
A20: 42459 | B20: 31 | C20: 19 | E20: =SUM(B20:D20) -> 50 | F20: 10 | G20: 0 | H20: =SUM(F20:G20) -> 10 | L20: =SUM(I20:K20) -> 0 | M20: 4 | P20: =SUM(M20:O20) -> 4 | Q20: 31 | R20: 37 | V20: 400 | AD20: =IF(SUM(B20*Paramêtres!$B$13)=0,0,(IF(SUM(B20*Paramêtres!$B$13)<60,60,SUM(B20*Paramêtres!$B$13)))) -> 60.45 | AE20: =IF(SUM(C20*Paramêtres!$B$13)=0,0,(IF(SUM(C20*Paramêtres!$B$13)<60,60,SUM(C20*Paramêtres!$B$13)))) -> 60 | AF20: =IF(SUM(D20*Paramêtres!$B$13)=0,0,(IF(SUM(D20*Paramêtres!$B$13)<60,60,SUM(D20*Paramêtres!$B$13)))) -> 0 | AG20: =SUM(AD20:AF20) -> 120.45 | AH20: =IF(SUM(F20*Paramêtres!$B$13)=0,0,SUM(F20*Paramêtres!$B$13)) -> 19.5 | AI20: =IF(SUM(G20*Paramêtres!$B$13)=0,0,SUM(G20*Paramêtres!$B$13)) -> 0 | AJ20: =SUM(H20*Paramêtres!C19) -> 0 | AK20: =SUM(AH20:AI20) -> 19.5 | AL20: =SUM(I20*Paramêtres!$B$2) -> 0 | AM20: =SUM(J20*Paramêtres!$B$3) -> 0 | AN20: =SUM(K20*Paramêtres!$B$4) -> 0 | AO20: =SUM(AL20:AN20) -> 0 | AP20: =SUM(M20*Paramêtres!$C$2) -> 32 | AQ20: =SUM(N20*Paramêtres!$C$3) -> 0 | AR20: =SUM(O20*Paramêtres!$C$4) -> 0 | AS20: =SUM(AP20:AR20) -> 32 | AT20: =SUM(Q20*Paramêtres!$B$5) -> 93 | AU20: =SUM(R20*Paramêtres!$B$6) -> 185 | AV20: =SUM(S20*Paramêtres!$B$7) -> 0 | AW20: =SUM(AT20:AV20) -> 278 | AX20: =SUM(T20*Paramêtres!$B$10) -> 0 | AY20: =SUM((E20*Paramêtres!$B$9)+(H20*Paramêtres!$B$9)) -> 120 | AZ20: =SUM((L20*Paramêtres!$B$9)+(P20*Paramêtres!$B$9)) -> 8 | BA20: =SUM((R20*Paramêtres!$B$8)+(S20*Paramêtres!$B$8)) -> 92.5 | BB20: =SUM(V20:AC20,AZ20:BA20) -> 500.5 | BC20: =SUM(AG20,AK20) -> 139.95 | BD20: =SUM(AO20,AS20) -> 32 | BE20: =SUM(AW20:AX20,U20,BD20) -> 310 | BF20: =SUM(BE20-BB20) -> -190.5 | BG20: =IF(BB20=0," ",SUM(BF20/BB20)) -> -0.38061938
A21: 42466 | B21: 22 | C21: 19 | E21: =SUM(B21:D21) -> 41 | F21: 7 | G21: 0 | H21: =SUM(F21:G21) -> 7 | L21: =SUM(I21:K21) -> 0 | P21: =SUM(M21:O21) -> 0 | Q21: 19 | R21: 32 | V21: 80 | AD21: =IF(SUM(B21*Paramêtres!$B$13)=0,0,(IF(SUM(B21*Paramêtres!$B$13)<60,60,SUM(B21*Paramêtres!$B$13)))) -> 60 | AE21: =IF(SUM(C21*Paramêtres!$B$13)=0,0,(IF(SUM(C21*Paramêtres!$B$13)<60,60,SUM(C21*Paramêtres!$B$13)))) -> 60 | AF21: =IF(SUM(D21*Paramêtres!$B$13)=0,0,(IF(SUM(D21*Paramêtres!$B$13)<60,60,SUM(D21*Paramêtres!$B$13)))) -> 0 | AG21: =SUM(AD21:AF21) -> 120 | AH21: =IF(SUM(F21*Paramêtres!$B$13)=0,0,SUM(F21*Paramêtres!$B$13)) -> 13.65 | AI21: =IF(SUM(G21*Paramêtres!$B$13)=0,0,SUM(G21*Paramêtres!$B$13)) -> 0 | AJ21: =SUM(H21*Paramêtres!C20) -> 0 | AK21: =SUM(AH21:AI21) -> 13.65 | AL21: =SUM(I21*Paramêtres!$B$2) -> 0 | AM21: =SUM(J21*Paramêtres!$B$3) -> 0 | AN21: =SUM(K21*Paramêtres!$B$4) -> 0 | AO21: =SUM(AL21:AN21) -> 0 | AP21: =SUM(M21*Paramêtres!$C$2) -> 0 | AQ21: =SUM(N21*Paramêtres!$C$3) -> 0 | AR21: =SUM(O21*Paramêtres!$C$4) -> 0 | AS21: =SUM(AP21:AR21) -> 0 | AT21: =SUM(Q21*Paramêtres!$B$5) -> 57 | AU21: =SUM(R21*Paramêtres!$B$6) -> 160 | AV21: =SUM(S21*Paramêtres!$B$7) -> 0 | AW21: =SUM(AT21:AV21) -> 217 | AX21: =SUM(T21*Paramêtres!$B$10) -> 0 | AY21: =SUM((E21*Paramêtres!$B$9)+(H21*Paramêtres!$B$9)) -> 96 | AZ21: =SUM((L21*Paramêtres!$B$9)+(P21*Paramêtres!$B$9)) -> 0 | BA21: =SUM((R21*Paramêtres!$B$8)+(S21*Paramêtres!$B$8)) -> 80 | BB21: =SUM(V21:AC21,AZ21:BA21) -> 160 | BC21: =SUM(AG21,AK21) -> 133.65 | BD21: =SUM(AO21,AS21) -> 0 | BE21: =SUM(AW21:AX21,U21,BD21) -> 217 | BF21: =SUM(BE21-BB21) -> 57 | BG21: =IF(BB21=0," ",SUM(BF21/BB21)) -> 0.35625
A22: 42473 | B22: 16 | C22: 25 | E22: =SUM(B22:D22) -> 41 | F22: 6 | G22: 0 | H22: =SUM(F22:G22) -> 6 | L22: =SUM(I22:K22) -> 0 | P22: =SUM(M22:O22) -> 0 | Q22: 54 | R22: 44 | V22: 120 | AB22: 5 | AD22: =IF(SUM(B22*Paramêtres!$B$13)=0,0,(IF(SUM(B22*Paramêtres!$B$13)<60,60,SUM(B22*Paramêtres!$B$13)))) -> 60 | AE22: =IF(SUM(C22*Paramêtres!$B$13)=0,0,(IF(SUM(C22*Paramêtres!$B$13)<60,60,SUM(C22*Paramêtres!$B$13)))) -> 60 | AF22: =IF(SUM(D22*Paramêtres!$B$13)=0,0,(IF(SUM(D22*Paramêtres!$B$13)<60,60,SUM(D22*Paramêtres!$B$13)))) -> 0 | AG22: =SUM(AD22:AF22) -> 120 | AH22: =IF(SUM(F22*Paramêtres!$B$13)=0,0,SUM(F22*Paramêtres!$B$13)) -> 11.7 | AI22: =IF(SUM(G22*Paramêtres!$B$13)=0,0,SUM(G22*Paramêtres!$B$13)) -> 0 | AJ22: =SUM(H22*Paramêtres!C21) -> 0 | AK22: =SUM(AH22:AI22) -> 11.7 | AL22: =SUM(I22*Paramêtres!$B$2) -> 0 | AM22: =SUM(J22*Paramêtres!$B$3) -> 0 | AN22: =SUM(K22*Paramêtres!$B$4) -> 0 | AO22: =SUM(AL22:AN22) -> 0 | AP22: =SUM(M22*Paramêtres!$C$2) -> 0 | AQ22: =SUM(N22*Paramêtres!$C$3) -> 0 | AR22: =SUM(O22*Paramêtres!$C$4) -> 0 | AS22: =SUM(AP22:AR22) -> 0 | AT22: =SUM(Q22*Paramêtres!$B$5) -> 162 | AU22: =SUM(R22*Paramêtres!$B$6) -> 220 | AV22: =SUM(S22*Paramêtres!$B$7) -> 0 | AW22: =SUM(AT22:AV22) -> 382 | AX22: =SUM(T22*Paramêtres!$B$10) -> 0 | AY22: =SUM((E22*Paramêtres!$B$9)+(H22*Paramêtres!$B$9)) -> 94 | AZ22: =SUM((L22*Paramêtres!$B$9)+(P22*Paramêtres!$B$9)) -> 0 | BA22: =SUM((R22*Paramêtres!$B$8)+(S22*Paramêtres!$B$8)) -> 110 | BB22: =SUM(V22:AC22,AZ22:BA22) -> 235 | BC22: =SUM(AG22,AK22) -> 131.7 | BD22: =SUM(AO22,AS22) -> 0 | BE22: =SUM(AW22:AX22,U22,BD22) -> 382 | BF22: =SUM(BE22-BB22) -> 147 | BG22: =IF(BB22=0," ",SUM(BF22/BB22)) -> 0.62553191
A23: 42480 | B23: 22 | C23: 25 | E23: =SUM(B23:D23) -> 47 | F23: 4 | H23: =SUM(F23:G23) -> 4 | L23: =SUM(I23:K23) -> 0 | P23: =SUM(M23:O23) -> 0 | Q23: 34 | R23: 36 | V23: 120 | AD23: =IF(SUM(B23*Paramêtres!$B$13)=0,0,(IF(SUM(B23*Paramêtres!$B$13)<60,60,SUM(B23*Paramêtres!$B$13)))) -> 60 | AE23: =IF(SUM(C23*Paramêtres!$B$13)=0,0,(IF(SUM(C23*Paramêtres!$B$13)<60,60,SUM(C23*Paramêtres!$B$13)))) -> 60 | AF23: =IF(SUM(D23*Paramêtres!$B$13)=0,0,(IF(SUM(D23*Paramêtres!$B$13)<60,60,SUM(D23*Paramêtres!$B$13)))) -> 0 | AG23: =SUM(AD23:AF23) -> 120 | AH23: =IF(SUM(F23*Paramêtres!$B$13)=0,0,SUM(F23*Paramêtres!$B$13)) -> 7.8 | AI23: =IF(SUM(G23*Paramêtres!$B$13)=0,0,SUM(G23*Paramêtres!$B$13)) -> 0 | AJ23: =SUM(H23*Paramêtres!C22) -> 0 | AK23: =SUM(AH23:AI23) -> 7.8 | AL23: =SUM(I23*Paramêtres!$B$2) -> 0 | AM23: =SUM(J23*Paramêtres!$B$3) -> 0 | AN23: =SUM(K23*Paramêtres!$B$4) -> 0 | AO23: =SUM(AL23:AN23) -> 0 | AP23: =SUM(M23*Paramêtres!$C$2) -> 0 | AQ23: =SUM(N23*Paramêtres!$C$3) -> 0 | AR23: =SUM(O23*Paramêtres!$C$4) -> 0 | AS23: =SUM(AP23:AR23) -> 0 | AT23: =SUM(Q23*Paramêtres!$B$5) -> 102 | AU23: =SUM(R23*Paramêtres!$B$6) -> 180 | AV23: =SUM(S23*Paramêtres!$B$7) -> 0 | AW23: =SUM(AT23:AV23) -> 282 | AX23: =SUM(T23*Paramêtres!$B$10) -> 0 | AY23: =SUM((E23*Paramêtres!$B$9)+(H23*Paramêtres!$B$9)) -> 102 | AZ23: =SUM((L23*Paramêtres!$B$9)+(P23*Paramêtres!$B$9)) -> 0 | BA23: =SUM((R23*Paramêtres!$B$8)+(S23*Paramêtres!$B$8)) -> 90 | BB23: =SUM(V23:AC23,AZ23:BA23) -> 210 | BC23: =SUM(AG23,AK23) -> 127.8 | BD23: =SUM(AO23,AS23) -> 0 | BE23: =SUM(AW23:AX23,U23,BD23) -> 282 | BF23: =SUM(BE23-BB23) -> 72 | BG23: =IF(BB23=0," ",SUM(BF23/BB23)) -> 0.34285714
A24: 42487 | B24: 24 | C24: 20 | E24: =SUM(B24:D24) -> 44 | H24: =SUM(F24:G24) -> 0 | L24: =SUM(I24:K24) -> 0 | P24: =SUM(M24:O24) -> 0 | Q24: 26 | R24: 65 | V24: 150 | AD24: =IF(SUM(B24*Paramêtres!$B$13)=0,0,(IF(SUM(B24*Paramêtres!$B$13)<60,60,SUM(B24*Paramêtres!$B$13)))) -> 60 | AE24: =IF(SUM(C24*Paramêtres!$B$13)=0,0,(IF(SUM(C24*Paramêtres!$B$13)<60,60,SUM(C24*Paramêtres!$B$13)))) -> 60 | AF24: =IF(SUM(D24*Paramêtres!$B$13)=0,0,(IF(SUM(D24*Paramêtres!$B$13)<60,60,SUM(D24*Paramêtres!$B$13)))) -> 0 | AG24: =SUM(AD24:AF24) -> 120 | AH24: =IF(SUM(F24*Paramêtres!$B$13)=0,0,SUM(F24*Paramêtres!$B$13)) -> 0 | AI24: =IF(SUM(G24*Paramêtres!$B$13)=0,0,SUM(G24*Paramêtres!$B$13)) -> 0 | AJ24: =SUM(H24*Paramêtres!C23) -> 0 | AK24: =SUM(AH24:AI24) -> 0 | AL24: =SUM(I24*Paramêtres!$B$2) -> 0 | AM24: =SUM(J24*Paramêtres!$B$3) -> 0 | AN24: =SUM(K24*Paramêtres!$B$4) -> 0 | AO24: =SUM(AL24:AN24) -> 0 | AP24: =SUM(M24*Paramêtres!$C$2) -> 0 | AQ24: =SUM(N24*Paramêtres!$C$3) -> 0 | AR24: =SUM(O24*Paramêtres!$C$4) -> 0 | AS24: =SUM(AP24:AR24) -> 0 | AT24: =SUM(Q24*Paramêtres!$B$5) -> 78 | AU24: =SUM(R24*Paramêtres!$B$6) -> 325 | AV24: =SUM(S24*Paramêtres!$B$7) -> 0 | AW24: =SUM(AT24:AV24) -> 403 | AX24: =SUM(T24*Paramêtres!$B$10) -> 0 | AY24: =SUM((E24*Paramêtres!$B$9)+(H24*Paramêtres!$B$9)) -> 88 | AZ24: =SUM((L24*Paramêtres!$B$9)+(P24*Paramêtres!$B$9)) -> 0 | BA24: =SUM((R24*Paramêtres!$B$8)+(S24*Paramêtres!$B$8)) -> 162.5 | BB24: =SUM(V24:AC24,AZ24:BA24) -> 312.5 | BC24: =SUM(AG24,AK24) -> 120 | BD24: =SUM(AO24,AS24) -> 0 | BE24: =SUM(AW24:AX24,U24,BD24) -> 403 | BF24: =SUM(BE24-BB24) -> 90.5 | BG24: =IF(BB24=0," ",SUM(BF24/BB24)) -> 0.2896
A25: 42494 | B25: 23 | C25: 14 | E25: =SUM(B25:D25) -> 37 | H25: =SUM(F25:G25) -> 0 | L25: =SUM(I25:K25) -> 0 | P25: =SUM(M25:O25) -> 0 | Q25: 24 | R25: 45 | V25: 80 | AD25: =IF(SUM(B25*Paramêtres!$B$13)=0,0,(IF(SUM(B25*Paramêtres!$B$13)<60,60,SUM(B25*Paramêtres!$B$13)))) -> 60 | AE25: =IF(SUM(C25*Paramêtres!$B$13)=0,0,(IF(SUM(C25*Paramêtres!$B$13)<60,60,SUM(C25*Paramêtres!$B$13)))) -> 60 | AF25: =IF(SUM(D25*Paramêtres!$B$13)=0,0,(IF(SUM(D25*Paramêtres!$B$13)<60,60,SUM(D25*Paramêtres!$B$13)))) -> 0 | AG25: =SUM(AD25:AF25) -> 120 | AH25: =IF(SUM(F25*Paramêtres!$B$13)=0,0,SUM(F25*Paramêtres!$B$13)) -> 0 | AI25: =IF(SUM(G25*Paramêtres!$B$13)=0,0,SUM(G25*Paramêtres!$B$13)) -> 0 | AJ25: =SUM(H25*Paramêtres!C24) -> 0 | AK25: =SUM(AH25:AI25) -> 0 | AL25: =SUM(I25*Paramêtres!$B$2) -> 0 | AM25: =SUM(J25*Paramêtres!$B$3) -> 0 | AN25: =SUM(K25*Paramêtres!$B$4) -> 0 | AO25: =SUM(AL25:AN25) -> 0 | AP25: =SUM(M25*Paramêtres!$C$2) -> 0 | AQ25: =SUM(N25*Paramêtres!$C$3) -> 0 | AR25: =SUM(O25*Paramêtres!$C$4) -> 0 | AS25: =SUM(AP25:AR25) -> 0 | AT25: =SUM(Q25*Paramêtres!$B$5) -> 72 | AU25: =SUM(R25*Paramêtres!$B$6) -> 225 | AV25: =SUM(S25*Paramêtres!$B$7) -> 0 | AW25: =SUM(AT25:AV25) -> 297 | AX25: =SUM(T25*Paramêtres!$B$10) -> 0 | AY25: =SUM((E25*Paramêtres!$B$9)+(H25*Paramêtres!$B$9)) -> 74 | AZ25: =SUM((L25*Paramêtres!$B$9)+(P25*Paramêtres!$B$9)) -> 0 | BA25: =SUM((R25*Paramêtres!$B$8)+(S25*Paramêtres!$B$8)) -> 112.5 | BB25: =SUM(V25:AC25,AZ25:BA25) -> 192.5 | BC25: =SUM(AG25,AK25) -> 120 | BD25: =SUM(AO25,AS25) -> 0 | BE25: =SUM(AW25:AX25,U25,BD25) -> 297 | BF25: =SUM(BE25-BB25) -> 104.5 | BG25: =IF(BB25=0," ",SUM(BF25/BB25)) -> 0.54285714
A26: 42501 | E26: =SUM(B26:D26) -> 0 | H26: =SUM(F26:G26) -> 0 | L26: =SUM(I26:K26) -> 0 | P26: =SUM(M26:O26) -> 0 | AD26: =IF(SUM(B26*Paramêtres!$B$13)=0,0,(IF(SUM(B26*Paramêtres!$B$13)<60,60,SUM(B26*Paramêtres!$B$13)))) -> 0 | AE26: =IF(SUM(C26*Paramêtres!$B$13)=0,0,(IF(SUM(C26*Paramêtres!$B$13)<60,60,SUM(C26*Paramêtres!$B$13)))) -> 0 | AF26: =IF(SUM(D26*Paramêtres!$B$13)=0,0,(IF(SUM(D26*Paramêtres!$B$13)<60,60,SUM(D26*Paramêtres!$B$13)))) -> 0 | AG26: =SUM(AD26:AF26) -> 0 | AH26: =IF(SUM(F26*Paramêtres!$B$13)=0,0,SUM(F26*Paramêtres!$B$13)) -> 0 | AI26: =IF(SUM(G26*Paramêtres!$B$13)=0,0,SUM(G26*Paramêtres!$B$13)) -> 0 | AJ26: =SUM(H26*Paramêtres!C25) -> 0 | AK26: =SUM(AH26:AI26) -> 0 | AL26: =SUM(I26*Paramêtres!$B$2) -> 0 | AM26: =SUM(J26*Paramêtres!$B$3) -> 0 | AN26: =SUM(K26*Paramêtres!$B$4) -> 0 | AO26: =SUM(AL26:AN26) -> 0 | AP26: =SUM(M26*Paramêtres!$C$2) -> 0 | AQ26: =SUM(N26*Paramêtres!$C$3) -> 0 | AR26: =SUM(O26*Paramêtres!$C$4) -> 0 | AS26: =SUM(AP26:AR26) -> 0 | AT26: =SUM(Q26*Paramêtres!$B$5) -> 0 | AU26: =SUM(R26*Paramêtres!$B$6) -> 0 | AV26: =SUM(S26*Paramêtres!$B$7) -> 0 | AW26: =SUM(AT26:AV26) -> 0 | AX26: =SUM(T26*Paramêtres!$B$10) -> 0 | AY26: =SUM((E26*Paramêtres!$B$9)+(H26*Paramêtres!$B$9)) -> 0 | AZ26: =SUM((L26*Paramêtres!$B$9)+(P26*Paramêtres!$B$9)) -> 0 | BA26: =SUM((R26*Paramêtres!$B$8)+(S26*Paramêtres!$B$8)) -> 0 | BB26: =SUM(V26:AC26,AZ26:BA26) -> 0 | BC26: =SUM(AG26,AK26) -> 0 | BD26: =SUM(AO26,AS26) -> 0 | BE26: =SUM(AW26:AX26,U26,BD26) -> 0 | BF26: =SUM(BE26-BB26) -> 0 | BG26: =IF(BB26=0," ",SUM(BF26/BB26))
A27: 42508 | E27: =SUM(B27:D27) -> 0 | H27: =SUM(F27:G27) -> 0 | L27: =SUM(I27:K27) -> 0 | P27: =SUM(M27:O27) -> 0 | AD27: =IF(SUM(B27*Paramêtres!$B$13)=0,0,(IF(SUM(B27*Paramêtres!$B$13)<60,60,SUM(B27*Paramêtres!$B$13)))) -> 0 | AE27: =IF(SUM(C27*Paramêtres!$B$13)=0,0,(IF(SUM(C27*Paramêtres!$B$13)<60,60,SUM(C27*Paramêtres!$B$13)))) -> 0 | AF27: =IF(SUM(D27*Paramêtres!$B$13)=0,0,(IF(SUM(D27*Paramêtres!$B$13)<60,60,SUM(D27*Paramêtres!$B$13)))) -> 0 | AG27: =SUM(AD27:AF27) -> 0 | AH27: =IF(SUM(F27*Paramêtres!$B$13)=0,0,SUM(F27*Paramêtres!$B$13)) -> 0 | AI27: =IF(SUM(G27*Paramêtres!$B$13)=0,0,SUM(G27*Paramêtres!$B$13)) -> 0 | AJ27: =SUM(H27*Paramêtres!C26) -> 0 | AK27: =SUM(AH27:AI27) -> 0 | AL27: =SUM(I27*Paramêtres!$B$2) -> 0 | AM27: =SUM(J27*Paramêtres!$B$3) -> 0 | AN27: =SUM(K27*Paramêtres!$B$4) -> 0 | AO27: =SUM(AL27:AN27) -> 0 | AP27: =SUM(M27*Paramêtres!$C$2) -> 0 | AQ27: =SUM(N27*Paramêtres!$C$3) -> 0 | AR27: =SUM(O27*Paramêtres!$C$4) -> 0 | AS27: =SUM(AP27:AR27) -> 0 | AT27: =SUM(Q27*Paramêtres!$B$5) -> 0 | AU27: =SUM(R27*Paramêtres!$B$6) -> 0 | AV27: =SUM(S27*Paramêtres!$B$7) -> 0 | AW27: =SUM(AT27:AV27) -> 0 | AX27: =SUM(T27*Paramêtres!$B$10) -> 0 | AY27: =SUM((E27*Paramêtres!$B$9)+(H27*Paramêtres!$B$9)) -> 0 | AZ27: =SUM((L27*Paramêtres!$B$9)+(P27*Paramêtres!$B$9)) -> 0 | BA27: =SUM((R27*Paramêtres!$B$8)+(S27*Paramêtres!$B$8)) -> 0 | BB27: =SUM(V27:AC27,AZ27:BA27) -> 0 | BC27: =SUM(AG27,AK27) -> 0 | BD27: =SUM(AO27,AS27) -> 0 | BE27: =SUM(AW27:AX27,U27,BD27) -> 0 | BF27: =SUM(BE27-BB27) -> 0 | BG27: =IF(BB27=0," ",SUM(BF27/BB27))
A28: 42515 | E28: =SUM(B28:D28) -> 0 | H28: =SUM(F28:G28) -> 0 | L28: =SUM(I28:K28) -> 0 | P28: =SUM(M28:O28) -> 0 | AD28: =IF(SUM(B28*Paramêtres!$B$13)=0,0,(IF(SUM(B28*Paramêtres!$B$13)<60,60,SUM(B28*Paramêtres!$B$13)))) -> 0 | AE28: =IF(SUM(C28*Paramêtres!$B$13)=0,0,(IF(SUM(C28*Paramêtres!$B$13)<60,60,SUM(C28*Paramêtres!$B$13)))) -> 0 | AF28: =IF(SUM(D28*Paramêtres!$B$13)=0,0,(IF(SUM(D28*Paramêtres!$B$13)<60,60,SUM(D28*Paramêtres!$B$13)))) -> 0 | AG28: =SUM(AD28:AF28) -> 0 | AH28: =IF(SUM(F28*Paramêtres!$B$13)=0,0,SUM(F28*Paramêtres!$B$13)) -> 0 | AI28: =IF(SUM(G28*Paramêtres!$B$13)=0,0,SUM(G28*Paramêtres!$B$13)) -> 0 | AJ28: =SUM(H28*Paramêtres!C27) -> 0 | AK28: =SUM(AH28:AI28) -> 0 | AL28: =SUM(I28*Paramêtres!$B$2) -> 0 | AM28: =SUM(J28*Paramêtres!$B$3) -> 0 | AN28: =SUM(K28*Paramêtres!$B$4) -> 0 | AO28: =SUM(AL28:AN28) -> 0 | AP28: =SUM(M28*Paramêtres!$C$2) -> 0 | AQ28: =SUM(N28*Paramêtres!$C$3) -> 0 | AR28: =SUM(O28*Paramêtres!$C$4) -> 0 | AS28: =SUM(AP28:AR28) -> 0 | AT28: =SUM(Q28*Paramêtres!$B$5) -> 0 | AU28: =SUM(R28*Paramêtres!$B$6) -> 0 | AV28: =SUM(S28*Paramêtres!$B$7) -> 0 | AW28: =SUM(AT28:AV28) -> 0 | AX28: =SUM(T28*Paramêtres!$B$10) -> 0 | AY28: =SUM((E28*Paramêtres!$B$9)+(H28*Paramêtres!$B$9)) -> 0 | AZ28: =SUM((L28*Paramêtres!$B$9)+(P28*Paramêtres!$B$9)) -> 0 | BA28: =SUM((R28*Paramêtres!$B$8)+(S28*Paramêtres!$B$8)) -> 0 | BB28: =SUM(V28:AC28,AZ28:BA28) -> 0 | BC28: =SUM(AG28,AK28) -> 0 | BD28: =SUM(AO28,AS28) -> 0 | BE28: =SUM(AW28:AX28,U28,BD28) -> 0 | BF28: =SUM(BE28-BB28) -> 0 | BG28: =IF(BB28=0," ",SUM(BF28/BB28))
A29: 42522 | E29: =SUM(B29:D29) -> 0 | H29: =SUM(F29:G29) -> 0 | L29: =SUM(I29:K29) -> 0 | P29: =SUM(M29:O29) -> 0 | AD29: =IF(SUM(B29*Paramêtres!$B$13)=0,0,(IF(SUM(B29*Paramêtres!$B$13)<60,60,SUM(B29*Paramêtres!$B$13)))) -> 0 | AE29: =IF(SUM(C29*Paramêtres!$B$13)=0,0,(IF(SUM(C29*Paramêtres!$B$13)<60,60,SUM(C29*Paramêtres!$B$13)))) -> 0 | AF29: =IF(SUM(D29*Paramêtres!$B$13)=0,0,(IF(SUM(D29*Paramêtres!$B$13)<60,60,SUM(D29*Paramêtres!$B$13)))) -> 0 | AG29: =SUM(AD29:AF29) -> 0 | AH29: =IF(SUM(F29*Paramêtres!$B$13)=0,0,SUM(F29*Paramêtres!$B$13)) -> 0 | AI29: =IF(SUM(G29*Paramêtres!$B$13)=0,0,SUM(G29*Paramêtres!$B$13)) -> 0 | AJ29: =SUM(H29*Paramêtres!C28) -> 0 | AK29: =SUM(AH29:AI29) -> 0 | AL29: =SUM(I29*Paramêtres!$B$2) -> 0 | AM29: =SUM(J29*Paramêtres!$B$3) -> 0 | AN29: =SUM(K29*Paramêtres!$B$4) -> 0 | AO29: =SUM(AL29:AN29) -> 0 | AP29: =SUM(M29*Paramêtres!$C$2) -> 0 | AQ29: =SUM(N29*Paramêtres!$C$3) -> 0 | AR29: =SUM(O29*Paramêtres!$C$4) -> 0 | AS29: =SUM(AP29:AR29) -> 0 | AT29: =SUM(Q29*Paramêtres!$B$5) -> 0 | AU29: =SUM(R29*Paramêtres!$B$6) -> 0 | AV29: =SUM(S29*Paramêtres!$B$7) -> 0 | AW29: =SUM(AT29:AV29) -> 0 | AX29: =SUM(T29*Paramêtres!$B$10) -> 0 | AY29: =SUM((E29*Paramêtres!$B$9)+(H29*Paramêtres!$B$9)) -> 0 | AZ29: =SUM((L29*Paramêtres!$B$9)+(P29*Paramêtres!$B$9)) -> 0 | BA29: =SUM((R29*Paramêtres!$B$8)+(S29*Paramêtres!$B$8)) -> 0 | BB29: =SUM(V29:AC29,AZ29:BA29) -> 0 | BC29: =SUM(AG29,AK29) -> 0 | BD29: =SUM(AO29,AS29) -> 0 | BE29: =SUM(AW29:AX29,U29,BD29) -> 0 | BF29: =SUM(BE29-BB29) -> 0 | BG29: =IF(BB29=0," ",SUM(BF29/BB29))
A30: 42529 | E30: =SUM(B30:D30) -> 0 | H30: =SUM(F30:G30) -> 0 | L30: =SUM(I30:K30) -> 0 | P30: =SUM(M30:O30) -> 0 | AD30: =IF(SUM(B30*Paramêtres!$B$13)=0,0,(IF(SUM(B30*Paramêtres!$B$13)<60,60,SUM(B30*Paramêtres!$B$13)))) -> 0 | AE30: =IF(SUM(C30*Paramêtres!$B$13)=0,0,(IF(SUM(C30*Paramêtres!$B$13)<60,60,SUM(C30*Paramêtres!$B$13)))) -> 0 | AF30: =IF(SUM(D30*Paramêtres!$B$13)=0,0,(IF(SUM(D30*Paramêtres!$B$13)<60,60,SUM(D30*Paramêtres!$B$13)))) -> 0 | AG30: =SUM(AD30:AF30) -> 0 | AH30: =IF(SUM(F30*Paramêtres!$B$13)=0,0,SUM(F30*Paramêtres!$B$13)) -> 0 | AI30: =IF(SUM(G30*Paramêtres!$B$13)=0,0,SUM(G30*Paramêtres!$B$13)) -> 0 | AJ30: =SUM(H30*Paramêtres!C29) -> 0 | AK30: =SUM(AH30:AI30) -> 0 | AL30: =SUM(I30*Paramêtres!$B$2) -> 0 | AM30: =SUM(J30*Paramêtres!$B$3) -> 0 | AN30: =SUM(K30*Paramêtres!$B$4) -> 0 | AO30: =SUM(AL30:AN30) -> 0 | AP30: =SUM(M30*Paramêtres!$C$2) -> 0 | AQ30: =SUM(N30*Paramêtres!$C$3) -> 0 | AR30: =SUM(O30*Paramêtres!$C$4) -> 0 | AS30: =SUM(AP30:AR30) -> 0 | AT30: =SUM(Q30*Paramêtres!$B$5) -> 0 | AU30: =SUM(R30*Paramêtres!$B$6) -> 0 | AV30: =SUM(S30*Paramêtres!$B$7) -> 0 | AW30: =SUM(AT30:AV30) -> 0 | AX30: =SUM(T30*Paramêtres!$B$10) -> 0 | AY30: =SUM((E30*Paramêtres!$B$9)+(H30*Paramêtres!$B$9)) -> 0 | AZ30: =SUM((L30*Paramêtres!$B$9)+(P30*Paramêtres!$B$9)) -> 0 | BA30: =SUM((R30*Paramêtres!$B$8)+(S30*Paramêtres!$B$8)) -> 0 | BB30: =SUM(V30:AC30,AZ30:BA30) -> 0 | BC30: =SUM(AG30,AK30) -> 0 | BD30: =SUM(AO30,AS30) -> 0 | BE30: =SUM(AW30:AX30,U30,BD30) -> 0 | BF30: =SUM(BE30-BB30) -> 0 | BG30: =IF(BB30=0," ",SUM(BF30/BB30))
A31: 42536 | E31: =SUM(B31:D31) -> 0 | H31: =SUM(F31:G31) -> 0 | L31: =SUM(I31:K31) -> 0 | P31: =SUM(M31:O31) -> 0 | AD31: =IF(SUM(B31*Paramêtres!$B$13)=0,0,(IF(SUM(B31*Paramêtres!$B$13)<60,60,SUM(B31*Paramêtres!$B$13)))) -> 0 | AE31: =IF(SUM(C31*Paramêtres!$B$13)=0,0,(IF(SUM(C31*Paramêtres!$B$13)<60,60,SUM(C31*Paramêtres!$B$13)))) -> 0 | AF31: =IF(SUM(D31*Paramêtres!$B$13)=0,0,(IF(SUM(D31*Paramêtres!$B$13)<60,60,SUM(D31*Paramêtres!$B$13)))) -> 0 | AG31: =SUM(AD31:AF31) -> 0 | AH31: =IF(SUM(F31*Paramêtres!$B$13)=0,0,SUM(F31*Paramêtres!$B$13)) -> 0 | AI31: =IF(SUM(G31*Paramêtres!$B$13)=0,0,SUM(G31*Paramêtres!$B$13)) -> 0 | AJ31: =SUM(H31*Paramêtres!C30) -> 0 | AK31: =SUM(AH31:AI31) -> 0 | AL31: =SUM(I31*Paramêtres!$B$2) -> 0 | AM31: =SUM(J31*Paramêtres!$B$3) -> 0 | AN31: =SUM(K31*Paramêtres!$B$4) -> 0 | AO31: =SUM(AL31:AN31) -> 0 | AP31: =SUM(M31*Paramêtres!$C$2) -> 0 | AQ31: =SUM(N31*Paramêtres!$C$3) -> 0 | AR31: =SUM(O31*Paramêtres!$C$4) -> 0 | AS31: =SUM(AP31:AR31) -> 0 | AT31: =SUM(Q31*Paramêtres!$B$5) -> 0 | AU31: =SUM(R31*Paramêtres!$B$6) -> 0 | AV31: =SUM(S31*Paramêtres!$B$7) -> 0 | AW31: =SUM(AT31:AV31) -> 0 | AX31: =SUM(T31*Paramêtres!$B$10) -> 0 | AY31: =SUM((E31*Paramêtres!$B$9)+(H31*Paramêtres!$B$9)) -> 0 | AZ31: =SUM((L31*Paramêtres!$B$9)+(P31*Paramêtres!$B$9)) -> 0 | BA31: =SUM((R31*Paramêtres!$B$8)+(S31*Paramêtres!$B$8)) -> 0 | BB31: =SUM(V31:AC31,AZ31:BA31) -> 0 | BC31: =SUM(AG31,AK31) -> 0 | BD31: =SUM(AO31,AS31) -> 0 | BE31: =SUM(AW31:AX31,U31,BD31) -> 0 | BF31: =SUM(BE31-BB31) -> 0 | BG31: =IF(BB31=0," ",SUM(BF31/BB31))
A32: 42543 | E32: =SUM(B32:D32) -> 0 | H32: =SUM(F32:G32) -> 0 | L32: =SUM(I32:K32) -> 0 | P32: =SUM(M32:O32) -> 0 | AD32: =IF(SUM(B32*Paramêtres!$B$13)=0,0,(IF(SUM(B32*Paramêtres!$B$13)<60,60,SUM(B32*Paramêtres!$B$13)))) -> 0 | AE32: =IF(SUM(C32*Paramêtres!$B$13)=0,0,(IF(SUM(C32*Paramêtres!$B$13)<60,60,SUM(C32*Paramêtres!$B$13)))) -> 0 | AF32: =IF(SUM(D32*Paramêtres!$B$13)=0,0,(IF(SUM(D32*Paramêtres!$B$13)<60,60,SUM(D32*Paramêtres!$B$13)))) -> 0 | AG32: =SUM(AD32:AF32) -> 0 | AH32: =IF(SUM(F32*Paramêtres!$B$13)=0,0,SUM(F32*Paramêtres!$B$13)) -> 0 | AI32: =IF(SUM(G32*Paramêtres!$B$13)=0,0,SUM(G32*Paramêtres!$B$13)) -> 0 | AJ32: =SUM(H32*Paramêtres!C31) -> 0 | AK32: =SUM(AH32:AI32) -> 0 | AL32: =SUM(I32*Paramêtres!$B$2) -> 0 | AM32: =SUM(J32*Paramêtres!$B$3) -> 0 | AN32: =SUM(K32*Paramêtres!$B$4) -> 0 | AO32: =SUM(AL32:AN32) -> 0 | AP32: =SUM(M32*Paramêtres!$C$2) -> 0 | AQ32: =SUM(N32*Paramêtres!$C$3) -> 0 | AR32: =SUM(O32*Paramêtres!$C$4) -> 0 | AS32: =SUM(AP32:AR32) -> 0 | AT32: =SUM(Q32*Paramêtres!$B$5) -> 0 | AU32: =SUM(R32*Paramêtres!$B$6) -> 0 | AV32: =SUM(S32*Paramêtres!$B$7) -> 0 | AW32: =SUM(AT32:AV32) -> 0 | AX32: =SUM(T32*Paramêtres!$B$10) -> 0 | AY32: =SUM((E32*Paramêtres!$B$9)+(H32*Paramêtres!$B$9)) -> 0 | AZ32: =SUM((L32*Paramêtres!$B$9)+(P32*Paramêtres!$B$9)) -> 0 | BA32: =SUM((R32*Paramêtres!$B$8)+(S32*Paramêtres!$B$8)) -> 0 | BB32: =SUM(V32:AC32,AZ32:BA32) -> 0 | BC32: =SUM(AG32,AK32) -> 0 | BD32: =SUM(AO32,AS32) -> 0 | BE32: =SUM(AW32:AX32,U32,BD32) -> 0 | BF32: =SUM(BE32-BB32) -> 0 | BG32: =IF(BB32=0," ",SUM(BF32/BB32))
A33: 42550 | E33: =SUM(B33:D33) -> 0 | H33: =SUM(F33:G33) -> 0 | L33: =SUM(I33:K33) -> 0 | P33: =SUM(M33:O33) -> 0 | AD33: =IF(SUM(B33*Paramêtres!$B$13)=0,0,(IF(SUM(B33*Paramêtres!$B$13)<60,60,SUM(B33*Paramêtres!$B$13)))) -> 0 | AE33: =IF(SUM(C33*Paramêtres!$B$13)=0,0,(IF(SUM(C33*Paramêtres!$B$13)<60,60,SUM(C33*Paramêtres!$B$13)))) -> 0 | AF33: =IF(SUM(D33*Paramêtres!$B$13)=0,0,(IF(SUM(D33*Paramêtres!$B$13)<60,60,SUM(D33*Paramêtres!$B$13)))) -> 0 | AG33: =SUM(AD33:AF33) -> 0 | AH33: =IF(SUM(F33*Paramêtres!$B$13)=0,0,SUM(F33*Paramêtres!$B$13)) -> 0 | AI33: =IF(SUM(G33*Paramêtres!$B$13)=0,0,SUM(G33*Paramêtres!$B$13)) -> 0 | AJ33: =SUM(H33*Paramêtres!C32) -> 0 | AK33: =SUM(AH33:AI33) -> 0 | AL33: =SUM(I33*Paramêtres!$B$2) -> 0 | AM33: =SUM(J33*Paramêtres!$B$3) -> 0 | AN33: =SUM(K33*Paramêtres!$B$4) -> 0 | AO33: =SUM(AL33:AN33) -> 0 | AP33: =SUM(M33*Paramêtres!$C$2) -> 0 | AQ33: =SUM(N33*Paramêtres!$C$3) -> 0 | AR33: =SUM(O33*Paramêtres!$C$4) -> 0 | AS33: =SUM(AP33:AR33) -> 0 | AT33: =SUM(Q33*Paramêtres!$B$5) -> 0 | AU33: =SUM(R33*Paramêtres!$B$6) -> 0 | AV33: =SUM(S33*Paramêtres!$B$7) -> 0 | AW33: =SUM(AT33:AV33) -> 0 | AX33: =SUM(T33*Paramêtres!$B$10) -> 0 | AY33: =SUM((E33*Paramêtres!$B$9)+(H33*Paramêtres!$B$9)) -> 0 | AZ33: =SUM((L33*Paramêtres!$B$9)+(P33*Paramêtres!$B$9)) -> 0 | BA33: =SUM((R33*Paramêtres!$B$8)+(S33*Paramêtres!$B$8)) -> 0 | BB33: =SUM(V33:AC33,AZ33:BA33) -> 0 | BC33: =SUM(AG33,AK33) -> 0 | BD33: =SUM(AO33,AS33) -> 0 | BE33: =SUM(AW33:AX33,U33,BD33) -> 0 | BF33: =SUM(BE33-BB33) -> 0 | BG33: =IF(BB33=0," ",SUM(BF33/BB33))
E34: =SUM(B34:D34) -> 0 | H34: =SUM(F34:G34) -> 0 | L34: =SUM(I34:K34) -> 0 | P34: =SUM(M34:O34) -> 0 | AD34: =IF(SUM(B34*Paramêtres!$B$13)=0,0,(IF(SUM(B34*Paramêtres!$B$13)<60,60,SUM(B34*Paramêtres!$B$13)))) -> 0 | AE34: =IF(SUM(C34*Paramêtres!$B$13)=0,0,(IF(SUM(C34*Paramêtres!$B$13)<60,60,SUM(C34*Paramêtres!$B$13)))) -> 0 | AF34: =IF(SUM(D34*Paramêtres!$B$13)=0,0,(IF(SUM(D34*Paramêtres!$B$13)<60,60,SUM(D34*Paramêtres!$B$13)))) -> 0 | AG34: =SUM(AD34:AF34) -> 0 | AH34: =IF(SUM(F34*Paramêtres!$B$13)=0,0,SUM(F34*Paramêtres!$B$13)) -> 0 | AI34: =IF(SUM(G34*Paramêtres!$B$13)=0,0,SUM(G34*Paramêtres!$B$13)) -> 0 | AJ34: =SUM(H34*Paramêtres!C33) -> 0 | AK34: =SUM(AH34:AI34) -> 0 | AL34: =SUM(I34*Paramêtres!$B$2) -> 0 | AM34: =SUM(J34*Paramêtres!$B$3) -> 0 | AN34: =SUM(K34*Paramêtres!$B$4) -> 0 | AO34: =SUM(AL34:AN34) -> 0 | AP34: =SUM(M34*Paramêtres!$C$2) -> 0 | AQ34: =SUM(N34*Paramêtres!$C$3) -> 0 | AR34: =SUM(O34*Paramêtres!$C$4) -> 0 | AS34: =SUM(AP34:AR34) -> 0 | AT34: =SUM(Q34*Paramêtres!$B$5) -> 0 | AU34: =SUM(R34*Paramêtres!$B$6) -> 0 | AV34: =SUM(S34*Paramêtres!$B$7) -> 0 | AW34: =SUM(AT34:AV34) -> 0 | AX34: =SUM(T34*Paramêtres!$B$10) -> 0 | AY34: =SUM((E34*Paramêtres!$B$9)+(H34*Paramêtres!$B$9)) -> 0 | AZ34: =SUM((L34*Paramêtres!$B$9)+(P34*Paramêtres!$B$9)) -> 0 | BA34: =SUM((R34*Paramêtres!$B$8)+(S34*Paramêtres!$B$8)) -> 0 | BB34: =SUM(V34:AC34,AZ34:BA34) -> 0 | BC34: =SUM(AG34,AK34) -> 0 | BD34: =SUM(AO34,AS34) -> 0 | BE34: =SUM(AW34:AX34,U34,BD34) -> 0 | BF34: =SUM(BE34-BB34) -> 0 | BG34: =IF(BB34=0," ",SUM(BF34/BB34))
E35: =SUM(B35:D35) -> 0 | H35: =SUM(F35:G35) -> 0 | L35: =SUM(I35:K35) -> 0 | P35: =SUM(M35:O35) -> 0 | AD35: =IF(SUM(B35*Paramêtres!$B$13)=0,0,(IF(SUM(B35*Paramêtres!$B$13)<60,60,SUM(B35*Paramêtres!$B$13)))) -> 0 | AE35: =IF(SUM(C35*Paramêtres!$B$13)=0,0,(IF(SUM(C35*Paramêtres!$B$13)<60,60,SUM(C35*Paramêtres!$B$13)))) -> 0 | AF35: =IF(SUM(D35*Paramêtres!$B$13)=0,0,(IF(SUM(D35*Paramêtres!$B$13)<60,60,SUM(D35*Paramêtres!$B$13)))) -> 0 | AG35: =SUM(AD35:AF35) -> 0 | AH35: =IF(SUM(F35*Paramêtres!$B$13)=0,0,SUM(F35*Paramêtres!$B$13)) -> 0 | AI35: =IF(SUM(G35*Paramêtres!$B$13)=0,0,SUM(G35*Paramêtres!$B$13)) -> 0 | AJ35: =SUM(H35*Paramêtres!C34) -> 0 | AK35: =SUM(AH35:AI35) -> 0 | AL35: =SUM(I35*Paramêtres!$B$2) -> 0 | AM35: =SUM(J35*Paramêtres!$B$3) -> 0 | AN35: =SUM(K35*Paramêtres!$B$4) -> 0 | AO35: =SUM(AL35:AN35) -> 0 | AP35: =SUM(M35*Paramêtres!$C$2) -> 0 | AQ35: =SUM(N35*Paramêtres!$C$3) -> 0 | AR35: =SUM(O35*Paramêtres!$C$4) -> 0 | AS35: =SUM(AP35:AR35) -> 0 | AT35: =SUM(Q35*Paramêtres!$B$5) -> 0 | AU35: =SUM(R35*Paramêtres!$B$6) -> 0 | AV35: =SUM(S35*Paramêtres!$B$7) -> 0 | AW35: =SUM(AT35:AV35) -> 0 | AX35: =SUM(T35*Paramêtres!$B$10) -> 0 | AY35: =SUM((E35*Paramêtres!$B$9)+(H35*Paramêtres!$B$9)) -> 0 | AZ35: =SUM((L35*Paramêtres!$B$9)+(P35*Paramêtres!$B$9)) -> 0 | BA35: =SUM((R35*Paramêtres!$B$8)+(S35*Paramêtres!$B$8)) -> 0 | BB35: =SUM(V35:AC35,AZ35:BA35) -> 0 | BC35: =SUM(AG35,AK35) -> 0 | BD35: =SUM(AO35,AS35) -> 0 | BE35: =SUM(AW35:AX35,U35,BD35) -> 0 | BF35: =SUM(BE35-BB35) -> 0 | BG35: =IF(BB35=0," ",SUM(BF35/BB35))
E36: =SUM(B36:D36) -> 0 | H36: =SUM(F36:G36) -> 0 | L36: =SUM(I36:K36) -> 0 | P36: =SUM(M36:O36) -> 0 | AD36: =IF(SUM(B36*Paramêtres!$B$13)=0,0,(IF(SUM(B36*Paramêtres!$B$13)<60,60,SUM(B36*Paramêtres!$B$13)))) -> 0 | AE36: =IF(SUM(C36*Paramêtres!$B$13)=0,0,(IF(SUM(C36*Paramêtres!$B$13)<60,60,SUM(C36*Paramêtres!$B$13)))) -> 0 | AF36: =IF(SUM(D36*Paramêtres!$B$13)=0,0,(IF(SUM(D36*Paramêtres!$B$13)<60,60,SUM(D36*Paramêtres!$B$13)))) -> 0 | AG36: =SUM(AD36:AF36) -> 0 | AH36: =IF(SUM(F36*Paramêtres!$B$13)=0,0,SUM(F36*Paramêtres!$B$13)) -> 0 | AI36: =IF(SUM(G36*Paramêtres!$B$13)=0,0,SUM(G36*Paramêtres!$B$13)) -> 0 | AJ36: =SUM(H36*Paramêtres!C35) -> 0 | AK36: =SUM(AH36:AI36) -> 0 | AL36: =SUM(I36*Paramêtres!$B$2) -> 0 | AM36: =SUM(J36*Paramêtres!$B$3) -> 0 | AN36: =SUM(K36*Paramêtres!$B$4) -> 0 | AO36: =SUM(AL36:AN36) -> 0 | AP36: =SUM(M36*Paramêtres!$C$2) -> 0 | AQ36: =SUM(N36*Paramêtres!$C$3) -> 0 | AR36: =SUM(O36*Paramêtres!$C$4) -> 0 | AS36: =SUM(AP36:AR36) -> 0 | AT36: =SUM(Q36*Paramêtres!$B$5) -> 0 | AU36: =SUM(R36*Paramêtres!$B$6) -> 0 | AV36: =SUM(S36*Paramêtres!$B$7) -> 0 | AW36: =SUM(AT36:AV36) -> 0 | AX36: =SUM(T36*Paramêtres!$B$10) -> 0 | AY36: =SUM((E36*Paramêtres!$B$9)+(H36*Paramêtres!$B$9)) -> 0 | AZ36: =SUM((L36*Paramêtres!$B$9)+(P36*Paramêtres!$B$9)) -> 0 | BA36: =SUM((R36*Paramêtres!$B$8)+(S36*Paramêtres!$B$8)) -> 0 | BB36: =SUM(V36:AC36,AZ36:BA36) -> 0 | BC36: =SUM(AG36,AK36) -> 0 | BD36: =SUM(AO36,AS36) -> 0 | BE36: =SUM(AW36:AX36,U36,BD36) -> 0 | BF36: =SUM(BE36-BB36) -> 0 | BG36: =IF(BB36=0," ",SUM(BF36/BB36))
E37: =SUM(B37:D37) -> 0 | H37: =SUM(F37:G37) -> 0 | L37: =SUM(I37:K37) -> 0 | P37: =SUM(M37:O37) -> 0 | AD37: =IF(SUM(B37*Paramêtres!$B$13)=0,0,(IF(SUM(B37*Paramêtres!$B$13)<60,60,SUM(B37*Paramêtres!$B$13)))) -> 0 | AE37: =IF(SUM(C37*Paramêtres!$B$13)=0,0,(IF(SUM(C37*Paramêtres!$B$13)<60,60,SUM(C37*Paramêtres!$B$13)))) -> 0 | AF37: =IF(SUM(D37*Paramêtres!$B$13)=0,0,(IF(SUM(D37*Paramêtres!$B$13)<60,60,SUM(D37*Paramêtres!$B$13)))) -> 0 | AG37: =SUM(AD37:AF37) -> 0 | AH37: =IF(SUM(F37*Paramêtres!$B$13)=0,0,SUM(F37*Paramêtres!$B$13)) -> 0 | AI37: =IF(SUM(G37*Paramêtres!$B$13)=0,0,SUM(G37*Paramêtres!$B$13)) -> 0 | AJ37: =SUM(H37*Paramêtres!C36) -> 0 | AK37: =SUM(AH37:AI37) -> 0 | AL37: =SUM(I37*Paramêtres!$B$2) -> 0 | AM37: =SUM(J37*Paramêtres!$B$3) -> 0 | AN37: =SUM(K37*Paramêtres!$B$4) -> 0 | AO37: =SUM(AL37:AN37) -> 0 | AP37: =SUM(M37*Paramêtres!$C$2) -> 0 | AQ37: =SUM(N37*Paramêtres!$C$3) -> 0 | AR37: =SUM(O37*Paramêtres!$C$4) -> 0 | AS37: =SUM(AP37:AR37) -> 0 | AT37: =SUM(Q37*Paramêtres!$B$5) -> 0 | AU37: =SUM(R37*Paramêtres!$B$6) -> 0 | AV37: =SUM(S37*Paramêtres!$B$7) -> 0 | AW37: =SUM(AT37:AV37) -> 0 | AX37: =SUM(T37*Paramêtres!$B$10) -> 0 | AY37: =SUM((E37*Paramêtres!$B$9)+(H37*Paramêtres!$B$9)) -> 0 | AZ37: =SUM((L37*Paramêtres!$B$9)+(P37*Paramêtres!$B$9)) -> 0 | BA37: =SUM((R37*Paramêtres!$B$8)+(S37*Paramêtres!$B$8)) -> 0 | BB37: =SUM(V37:AC37,AZ37:BA37) -> 0 | BC37: =SUM(AG37,AK37) -> 0 | BD37: =SUM(AO37,AS37) -> 0 | BE37: =SUM(AW37:AX37,U37,BD37) -> 0 | BF37: =SUM(BE37-BB37) -> 0 | BG37: =IF(BB37=0," ",SUM(BF37/BB37))
