Workbook

Sheet Historique ABP par Date
A1: Historique ABP par Date
A2: Période du 03/09/2018 au 21/10/2018
A3: Nom Contractant | B3: Nom Agence | C3: Nom Contrat | D3: Nom Service | E3: Nom Ville | F3: Code INSEE | G3: Processus | H3: Scénario | I3: Primapose | J3: Prémonté | K3: Origine | L3: Date Traitement | M3: Date Demande | N3: Date Action Métier | O3: PDC | P3: MeterMatricule | Q3: MeterModuleMatricule | R3: MeterIndex | S3: MeterModulePulse | T3: Statut | U3: Description
A4: PSO - Paris Seine Ouest | B4: AG SEOP | C4: SMG SEVESC | D4: Cœur d'offre + AF Mixte | E4: Bailly | F4: 78043 | G4: LYONNAISE | H4: ReparamIndex | I4: Non | J4: Oui | K4: Passerelle Automatique | L4: 43376.627 | M4: 43370.084 | N4: 43364.426 | O4: 8445878378 | P4: C10EB013575 | Q4: 11A5000901871007 | R4: 1360675 | T4: KO | U4: Aucune trame n'a été trouvée dans la plage horaire autorisée
A5: PSO - Paris Seine Ouest | B5: AG SEOP | C5: SMG SEVESC | D5: Cœur d'offre + AF Mixte | E5: Bailly | F5: 78043 | G5: LYONNAISE | H5: ReparamIndex | I5: Non | J5: Oui | K5: Passerelle Automatique | L5: 43376.627 | M5: 43370.084 | N5: 43364.426 | O5: 8445878378 | P5: C10EB013575 | Q5: 11A5000901871007 | R5: 1360675 | T5: KO | U5: Aucune trame n'a été trouvée dans la plage horaire autorisée
A6: PSO - Paris Seine Ouest | B6: AG SEOP | C6: SMG SEVESC | D6: Cœur d'offre + AF Mixte | E6: Bailly | F6: 78043 | G6: LYONNAISE | H6: MeterChange | I6: Non | J6: Oui | K6: Saisie Manuelle | L6: 43368.849 | M6: 43368.376 | N6: 43361.64 | O6: 9450166640 | P6: C18LA061381 | Q6: 11A5001067561007 | R6: 87 | S6: 0 | T6: KO | U6: PDS non associé - Maintenance non réalisable
A7: PSO - Paris Seine Ouest | B7: AG SEOP | C7: SMG SEVESC | D7: Cœur d'offre + AF Mixte | E7: Bailly | F7: 78043 | G7: LYONNAISE | H7: ReparamIndex | I7: Non | J7: Oui | K7: Passerelle Automatique | L7: 43368.607 | M7: 43363.084 | N7: 43361.681 | O7: 7027979032 | P7: C16SD017345 | Q7: 11A5000900681007 | R7: 669381 | T7: ok | U7: Ce PDS n'est pas associé - Maintenance non réalisable
A8: PSO - Paris Seine Ouest | B8: AG SEOP | C8: SMG SEVESC | D8: Cœur d'offre + AF Mixte | E8: Bailly | F8: 78043 | G8: LYONNAISE | H8: ReparamIndex | I8: Non | J8: Oui | K8: Passerelle Automatique | L8: 43368.607 | M8: 43363.084 | N8: 43361.681 | O8: 7027979032 | P8: C16SD017345 | Q8: 11A5000900681007 | R8: 669381 | T8: ok | U8: Ce PDS n'est pas associé - Maintenance non réalisable
A9: PSO - Paris Seine Ouest | B9: AG SEOP | C9: SMG SEVESC | D9: Cœur d'offre + AF Mixte | E9: Bailly | F9: 78043 | G9: LYONNAISE | H9: MeterChange | I9: Non | J9: Oui | K9: Passerelle Automatique | L9: 43376.624 | M9: 43370.084 | N9: 43364.539 | O9: 2447466616 | P9: C18LA101496 | Q9: 11A5001075651007 | R9: 50 | S9: -5 | T9: KO | U9: Compteur déjà associé sur un PDS - A vérifier
A10: PSO - Paris Seine Ouest | B10: AG SEOP | C10: SMG SEVESC | D10: Cœur d'offre + AF Mixte | E10: Bailly | F10: 78043 | G10: LYONNAISE | H10: MeterChange | I10: Non | J10: Oui | K10: Passerelle Automatique | L10: 43376.624 | M10: 43370.084 | N10: 43364.539 | O10: 2447466616 | P10: C18LA101496 | Q10: 11A5001075651007 | R10: 50 | S10: -5 | T10: KO | U10: Compteur déjà associé sur un PDS - A vérifier | V10: 982447466616 | W10: C18LA101496 | X10: 11A5001075651007 | Y10: 1 GRAND RUE 78870 BAILLY

Sheet Compare
A2: Recherche : | B2: 9450166640
A5: Numéro de rue | B5: Rue | C5: Complément adresse BRT | D5: Commune | E5: Etat intervention | F5: Secteur organisationnel | G5: Code Type Intervention PREVU | H5: Type Intervention PREVU | I5: Standard Intervention PREVU | J5: Sélection Intervention | K5: Code Type Intervention | L5: Type intervention | M5: Standard Intervention | N5: Libellé CRT | O5: Agents | P5: Fin réalisation | Q5: Mois réalisation | R5: Date CR AMI | S5: Date visa | T5: Visa RIT | U5: Date clôture de l'intervention | V5: Commentaire Agent | W5: Diamètre compteur | X5: Année du compteur | Y5: Modèle compteur | Z5: Matricule compteur | AA5: Localisation du compteur | AB5: Index relève | AC5: Date relève | AD5: CPT emplacement | AE5: Matricule télérelève | AF5: Observation télérelève | AG5: Diamètre compteur nouveau | AH5: Matricule compteur nouveau | AI5: Index Compteur nouveau | AJ5: Matricule télérelève nouveau | AK5: Observation télérelève nouveau | AL5: Index association | AM5: Date association
A6: =VLOOKUP($B$2,Analyse!A:FP,23,0) -> 11 | B6: =VLOOKUP($B$2,Analyse!$A:$FO,24,0) -> GRAND RUE | C6: =VLOOKUP($B$2,Analyse!$A:$FO,25,0) -> 0 | D6: =VLOOKUP($B$2,Analyse!$A:$FP,26,0) -> BAILLY | E6: =VLOOKUP($B$2,Analyse!$A:$FP,34,0) -> Clôturée | F6: =VLOOKUP($B$2,Analyse!$A:$FP,42,0) -> Télérelève SEOP | G6: =VLOOKUP($B$2,Analyse!$A:$FP,46,0) -> CET16 | H6: =VLOOKUP($B$2,Analyse!$A:$FP,47,0) -> compteur remplacer avec émetteur téléR | I6: =VLOOKUP($B$2,Analyse!$A:$FP,48,0) -> D [15-20] | J6: =VLOOKUP($B$2,Analyse!$A:$FP,49,0) -> TOUT | K6: =VLOOKUP($B$2,Analyse!$A:$FP,50,0) -> CET16 | L6: =VLOOKUP($B$2,Analyse!$A:$FP,51,0) -> compteur remplacer avec émetteur téléR | M6: =VLOOKUP($B$2,Analyse!$A:$FP,52,0) -> D [15-20] | N6: =VLOOKUP($B$2,Analyse!$A:$FP,53,0) -> Installation de télérelève | O6: =VLOOKUP($B$2,Analyse!$A:$FP,67,0) -> DRAME Cheick EPS | P6: =VLOOKUP($B$2,Analyse!$A:$FP,69,0) -> 43262.513 | Q6: =VLOOKUP($B$2,Analyse!$A:$FP,70,0) -> 6 | R6: =VLOOKUP($B$2,Analyse!$A:$FP,73,0) -> 43262.514 | S6: =VLOOKUP($B$2,Analyse!$A:$FP,74,0) -> 43262.595 | T6: =VLOOKUP($B$2,Analyse!$A:$FP,75,0) -> 0 | U6: =VLOOKUP($B$2,Analyse!$A:$FP,76,0) -> 43264.468 | V6: =VLOOKUP($B$2,Analyse!$A:$FP,82,0) -> DRAME Cheick EPS - 11/06/18 : Malgré plusieurs tentatives de trame aucun signal | W6: =VLOOKUP($B$2,Analyse!$A:$FP,98,0) -> 15 | X6: =VLOOKUP($B$2,Analyse!$A:$FP,99,0) -> 2005 | Y6: =VLOOKUP($B$2,Analyse!$A:$FP,100,0) -> DA | Z6: =VLOOKUP($B$2,Analyse!$A:$FP,101,0) -> D05AA027378 | AA6: =VLOOKUP($B$2,Analyse!$A:$FP,102,0) -> 02 CAVE / 2510004305008001 | AB6: =VLOOKUP($B$2,Analyse!$A:$FP,103,0) -> 1080 | AC6: =VLOOKUP($B$2,Analyse!$A:$FP,104,0) -> 43262.507 | AD6: =VLOOKUP($B$2,Analyse!$A:$FP,112,0) -> CAVE - NON accessible | AE6: =VLOOKUP($B$2,Analyse!$A:$FP,114,0) -> 0 | AF6: =VLOOKUP($B$2,Analyse!$A:$FP,115,0) -> 0 | AG6: =VLOOKUP($B$2,Analyse!$A:$FP,116,0) -> 15 | AH6: =VLOOKUP($B$2,Analyse!$A:$FP,119,0) -> C18LA061381 | AI6: =VLOOKUP($B$2,Analyse!$B:$FP,120,0) -> #N/A | AJ6: =VLOOKUP($B$2,Analyse!$B:$FP,122,0) -> #N/A | AK6: =VLOOKUP($B$2,Analyse!$B:$FP,123,0) -> #N/A | AL6: =VLOOKUP($B$2,Analyse!$B:$FP,124,0) -> #N/A | AM6: =VLOOKUP($B$2,Analyse!$B:$FP,125,0) -> #N/A
A7: =INDEX(Analyse!$B$2:$FP$9,MATCH($B$2,Analyse!$A$2:$A$9,0),MATCH(A$5,Analyse!$B$1:$FP$1,0)) -> 11 | B7: =INDEX(Analyse!$B$2:$FP$9,MATCH($B$2,Analyse!$A$2:$A$9,0),MATCH(B$5,Analyse!$B$1:$FP$1,0)) -> GRAND RUE | C7: =INDEX(Analyse!$B$2:$FP$9,MATCH($B$2,Analyse!$A$2:$A$9,0),MATCH(C$5,Analyse!$B$1:$FP$1,0)) -> 0 | D7: =INDEX(Analyse!$B$2:$FP$9,MATCH($B$2,Analyse!$A$2:$A$9,0),MATCH(D$5,Analyse!$B$1:$FP$1,0)) -> BAILLY | E7: =INDEX(Analyse!$B$2:$FP$9,MATCH($B$2,Analyse!$A$2:$A$9,0),MATCH(E$5,Analyse!$B$1:$FP$1,0)) -> Clôturée | F7: =INDEX(Analyse!$B$2:$FP$9,MATCH($B$2,Analyse!$A$2:$A$9,0),MATCH(F$5,Analyse!$B$1:$FP$1,0)) -> Télérelève SEOP | G7: =INDEX(Analyse!$B$2:$FP$9,MATCH($B$2,Analyse!$A$2:$A$9,0),MATCH(G$5,Analyse!$B$1:$FP$1,0)) -> CET16 | H7: =INDEX(Analyse!$B$2:$FP$9,MATCH($B$2,Analyse!$A$2:$A$9,0),MATCH(H$5,Analyse!$B$1:$FP$1,0)) -> compteur remplacer avec émetteur téléR | ... AM7: =INDEX(Analyse!$B$2:$FP$9,MATCH($B$2,Analyse!$A$2:$A$9,0),MATCH(AM$5,Analyse!$B$1:$FP$1,0)) -> 43262.508
A10: COMMUNE | B10: NUMERO_SERIE | C10: DIAMETRE | D10: ANNEE_FABRICATION | E10: MATRICULE_EQUIPEMENT | F10: ACCESSIBLE | G10: CODE_EMPLACEMENT | H10: LIBELLE_EMPLACEMENT | I10: DETAILS_EMPLACEMENTS | J10: NUM_VOIE_SITE | K10: NOM_VOIE_SITE | L10: ADRESSE2_SITE | M10: ADRESSE3_SITE | N10: ADRESSE4_SITE | O10: COMMUNE_SITE | P10: CIVILITE | Q10: NOM_COMPLET
A11: =VLOOKUP(VALUE($B$2),Parc!A:CF,5,0) -> BAILLY | B11: =VLOOKUP(VALUE($B$2),Parc!$A:$CG,14,0) -> D05AA027378 | C11: =VLOOKUP(VALUE($B$2),Parc!$A:$CG,17,0) -> 15 | D11: =VLOOKUP(VALUE($B$2),Parc!$A:$CG,18,0) -> 2005 | E11: =VLOOKUP(VALUE($B$2),Parc!$A:$CG,24,0) -> 0 | F11: =VLOOKUP(VALUE($B$2),Parc!$A:$CG,25,0) -> Non | G11: =VLOOKUP(VALUE($B$2),Parc!$A:$CG,26,0) -> NC | H11: =VLOOKUP(VALUE($B$2),Parc!$A:$CG,27,0) -> Cave - Non accessible | I11: =VLOOKUP(VALUE($B$2),Parc!$A:$CG,28,0) -> 02 CAVE / 2510004305008001 | J11: =VLOOKUP(VALUE($B$2),Parc!$A:$CG,49,0) -> 11 | K11: =VLOOKUP(VALUE($B$2),Parc!$A:$CG,50,0) -> GRAND RUE | L11: =VLOOKUP(VALUE($B$2),Parc!$A:$CG,51,0) | M11: =VLOOKUP(VALUE($B$2),Parc!$A:$CG,52,0) | N11: =VLOOKUP(VALUE($B$2),Parc!$A:$CG,53,0) | O11: =VLOOKUP(VALUE($B$2),Parc!$A:$CG,54,0) -> BAILLY | P11: =VLOOKUP(VALUE($B$2),Parc!$A:$CG,62,0) -> MME M | Q11: =VLOOKUP(VALUE($B$2),Parc!$A:$CG,63,0) -> ROCHE, FRANCOIS
A12: =INDEX(Parc!$B$2:$FR$5,MATCH(VALUE($B$2),Parc!$A$2:$A$5,0),MATCH(A$10,Parc!$B$1:$FR$1,0)) -> BAILLY | B12: =INDEX(Parc!$B$2:$FR$5,MATCH(VALUE($B$2),Parc!$A$2:$A$5,0),MATCH(B$10,Parc!$B$1:$FR$1,0)) -> D05AA027378 | C12: =INDEX(Parc!$B$2:$FR$5,MATCH(VALUE($B$2),Parc!$A$2:$A$5,0),MATCH(C$10,Parc!$B$1:$FR$1,0)) -> 15 | D12: =INDEX(Parc!$B$2:$FR$5,MATCH(VALUE($B$2),Parc!$A$2:$A$5,0),MATCH(D$10,Parc!$B$1:$FR$1,0)) -> 2005 | E12: =INDEX(Parc!$B$2:$FR$5,MATCH(VALUE($B$2),Parc!$A$2:$A$5,0),MATCH(E$10,Parc!$B$1:$FR$1,0)) -> 0 | F12: =INDEX(Parc!$B$2:$FR$5,MATCH(VALUE($B$2),Parc!$A$2:$A$5,0),MATCH(F$10,Parc!$B$1:$FR$1,0)) -> Non | G12: =INDEX(Parc!$B$2:$FR$5,MATCH(VALUE($B$2),Parc!$A$2:$A$5,0),MATCH(G$10,Parc!$B$1:$FR$1,0)) -> NC | H12: =INDEX(Parc!$B$2:$FR$5,MATCH(VALUE($B$2),Parc!$A$2:$A$5,0),MATCH(H$10,Parc!$B$1:$FR$1,0)) -> Cave - Non accessible | ... Q12: =INDEX(Parc!$B$2:$FR$5,MATCH(VALUE($B$2),Parc!$A$2:$A$5,0),MATCH(Q$10,Parc!$B$1:$FR$1,0)) -> ROCHE, FRANCOIS

Sheet Analyse
A1: N° Point de Service | B1: N° base | C1: N° demande | D1: N° intervention | E1: Système externe demande | F1: Référence externe demande | G1: Type de demande | H1: Urgence demande | I1: Type emetteur | J1: Emetteur demande | K1: Commentaire demande | L1: Info passerelle | M1: Date demande | N1: Date clôture demande | O1: Contact | P1: Téléphone Contact | Q1: Référence Client | R1: Client | S1: Téléphone Client | T1: Téléphone Portable Client | U1: Particularité client | V1: Adresse Redevable | W1: Numéro de rue | X1: Rue | Y1: Complément adresse BRT | Z1: Commune | AA1: Domanialité | AB1: Longitude | AC1: Latitude | AD1: T1 Demande | AE1: T2 Demande | AF1: N1 Demande | AG1: N2 Demande | AH1: Etat intervention | AI1: Motif annulation | AJ1: Createur intervention | AK1: Système externe intervention | AL1: Référence externe intervention | AM1: Code contrat Intervention | AN1: Contrat Intervention | AO1: Agence | AP1: Secteur organisationnel | AQ1: Groupe | AR1: Fiche Hors Programme | AS1: Fiche Panier | AT1: Code Type Intervention PREVU | AU1: Type Intervention PREVU | AV1: Standard Intervention PREVU | AW1: Sélection Intervention | AX1: Code Type Intervention | AY1: Type intervention | AZ1: Standard Intervention | BA1: Libellé CRT | BB1: Libellé travaux | BC1: Commentaire Intervention | BD1: Code analytique | BE1: Compte analytique | BF1: Urgence intervention | BG1: Engagement | BH1: Date au plus tôt | BI1: Date au plus tard | BJ1: Date de l'intervention | BK1: Date RDV | BL1: Etat du rendez-vous | BM1: Début PREV | BN1: Fin PREV | BO1: Agents | BP1: Début realisation | BQ1: Fin réalisation | BR1: Mois réalisation | BS1: Délai Demande Début réalisation | BT1: Délai Demande Fin réalisation | BU1: Date CR AMI | BV1: Date visa | BW1: Visa RIT | BX1: Date clôture de l'intervention | BY1: Date traitement BO clientèle | BZ1: NB Agents PREVUS | CA1: NB Agents REALISE | CB1: Charge Technique REALISE | CC1: Charge Transport REALISE | CD1: Commentaire Agent | CE1: Astreinte | CF1: Facturation | CG1: 0_Interne_1_Soustraité_2_Autre | CH1: DQ1 | CI1: DQ2 | CJ1: T1 | CK1: T2 | CL1: N1 | CM1: N2 | CN1: Nombre appareils | CO1: Nombre app en Astreinte | CP1: NO_CLIENT | CQ1: NO_BMT | CR1: NO_CPT | CS1: RG_CPT | CT1: Diamètre compteur | CU1: Année du compteur | CV1: Modèle compteur | CW1: Matricule compteur | CX1: Localisation du compteur | CY1: Index relève | CZ1: Date relève | DA1: Matériau après compteur | DB1: Type danomalie | DC1: CPT usage | DD1: CPT catégorie | DE1: CPT combiné | DF1: CPT exonération | DG1: CPT observation | DH1: CPT emplacement | DI1: CPT répétiteur protection | DJ1: Matricule télérelève | DK1: Observation télérelève | DL1: Diamètre compteur nouveau | DM1: Nouveau Client | DN1: Matériau après compteur nouveau | DO1: Matricule compteur nouveau | DP1: Index Compteur nouveau | DQ1: CPT répétiteur protection nouveau | DR1: Matricule télérelève nouveau | DS1: Observation télérelève nouveau | DT1: Index association | DU1: Date association | DV1: Nature accessoire | DW1: Localisation accessoire | DX1: Nature hydrant | DY1: Situation | DZ1: Nature ouvrage | EA1: Matériau branchement | EB1: Diamètre branchement | EC1: Longueur branchement | ED1: Position bouche à clé | EE1: Cause fuite branchement | EF1: Défaillance branchement | EG1: Méthode réparation branchement | EH1: Matériau branchement assainissement | EI1: Diamètre branchement assainissement | EJ1: Longueur branchement assainissement | EK1: Asst raccordé-raccordable | EL1: Type raccordement | EM1: Regard façade | EN1: Type de renouvellement | EO1: Matériau branchement nouveau | EP1: Diamètre branchement nouveau | EQ1: Longueur branchement nouveau | ER1: Position bouche à clé nouveau | ES1: Motif renouvellement | ET1: Matériau branchement assainissement nouveau | EU1: Diamètre branchement Assainissement nouveau | EV1: Longueur branchement Assainissement nouveau | EW1: Indicateur de regard de façade | EX1: Type de raccordement | EY1: Diamètre réseau | EZ1: Matériau réseau | FA1: Profondeur réseau | FB1: Cause fuite réseau | FC1: Défaillance réseau | FD1: Méthode réparation réseau | FE1: Taux obstruction | FF1: Lit de pose | FG1: Réseaux adjacents | FH1: Nature de réseau | FI1: Type de réseau | FJ1: Terrassement | FK1: Etat fouille | FL1: Arrêt deau | FM1: Indicateur arrêté pour voirie | FN1: Commentaire | FO1: Volume EAU | FP1: Masse dépotage | FQ1: Column173 | FR1: Column174 | FT1: Colonne1
A2: 7027979032 | B2: 54 | C2: 771433 | D2: 1 | E2: ODYSSEE | F2: 7027979098 | H2: 0 | I2: PLATEFORME | J2: lanceur de batch | L2: Adr. BRT : / . / ROUTE DE FONTENAY / 78870 / BAILLY / CET16 | M2: 43122.668 | N2: 43136.762 | O2: PONTALIE | P2: +33(0)614723723 | Q2: 3954519618 | R2: PONTALIE | T2: +33(0)614723723 | V2: ROUTE DE FONTENAY MR DUCLOZ ALAIN BAILLY 78870 | W2: . | X2: ROUTE DE FONTENAY | Y2: MR DUCLOZ ALAIN | Z2: BAILLY | AB2: 0 | AC2: 0 | AF2: 0 | AG2: 0 | AH2: Clôturée | AJ2: ODYSSEE | AK2: ODYSSEE | AL2: 7027979098 | AM2: 17930 | AN2: EAU DSP SM POUR LA GESTION DU SERVICE DES EAUX DE VERSAILLES ET ST CLOUD | AO2: SEOP | AP2: Télérelève SEOP | AQ2: CAMPAGNE_22012018_BAILLY | AR2: 0 | AS2: 0 | AT2: CET16 | AU2: compteur remplacer avec émetteur téléR | AV2: D [15-20] | AW2: TOUT | AX2: CET16 | AY2: compteur remplacer avec émetteur téléR | AZ2: D [30-40] | BA2: Installation de télérelève | BC2: . | BD2: Y306T5QA841 | BE2: TELERELEVE SEOP | BF2: 0 | BG2: Eng.néant | BH2: 43122.671 | BI2: 43152.671 | BJ2: 43122.671 | BK2: 43130.375 | BL2: Honoré | BM2: 43130.375 | BN2: 43130.406 | BO2: DRAME Cheick EPS | BP2: 43130.603 | BQ2: 43130.616 | BR2: 1 | BS2: 7.9354167 | BT2: 7.9479167 | BU2: 43130.616 | BV2: 43131.384 | BX2: 43136.762 | BZ2: 1 | CA2: 0 | CB2: 0 | CC2: 0 | CD2: DRAME Cheick EPS - 30/01/18 : Pas de signal malgré plusieurs tentatives. | CE2: 0 | CF2: 0 | CG2: 1 | CN2: 1 | CO2: 0 | CP2: 3954519618 | CT2: 30 | CU2: 2007 | CV2: DG | CW2: D07GD025704 | CX2: 01 REGARD BORNE SETHA / 2510 | CY2: 4765 | CZ2: 43130.604 | DA2: Inconnu | DC2: compteur eau froide | DD2: COMPTEUR STANDARD | DF2: NON EXONERE | DH2: TROTTOIR - accessible | DI2: ABSENCE D'EQUIPEMENT | DJ2: 1300006862 | DL2: 30 | DO2: C16SD017345ARGQ | DP2: 0 | DR2: 11A5000900681007 | DT2: 0.095 | DU2: 43130.615 | EA2: Inconnu | EB2: 50 | EC2: 3 | ED2: 7.8043003e+26 | EH2: Autres | EJ2: 0 | EK2: RACCORDE | EM2: 0 | EW2: 0 | FM2: 0 | FR2: 987027979032 | FT2: =RIGHT(#REF!,LEN(#REF!)-1) -> #REF!
A3: 8445878378 | B3: 54 | C3: 771910 | D3: 1 | E3: ODYSSEE | F3: 8445878610 | H3: 0 | I3: PLATEFORME | J3: lanceur de batch | L3: Adr. BRT : / 21 / RUE DE LA CROIX BLANCHE / 78870 / BAILLY / CET10 | M3: 43123.581 | N3: 43136.77 | O3: VETTU LUCIENNE | P3: +33(0)664169702 | Q3: 2319706682 | R3: VETTU LUCIENNE | S3: +33(0)130800543 | T3: +33(0)664169702 | V3: 21T RUE DE LA CROIX BLANCHE BAILLY 78870 | W3: 21 | X3: RUE DE LA CROIX BLANCHE | Z3: BAILLY | AB3: 0 | AC3: 0 | AF3: 0 | AG3: 0 | AH3: Clôturée | AJ3: ODYSSEE | AK3: ODYSSEE | AL3: 8445878610 | AM3: 17930 | AN3: EAU DSP SM POUR LA GESTION DU SERVICE DES EAUX DE VERSAILLES ET ST CLOUD | AO3: SEOP | AP3: Télérelève SEOP | AQ3: CAMPAGNE_23012018_BAILLY | AR3: 0 | AS3: 0 | AT3: CET10 | AU3: émetteur téléR poser (sans compteur) | AV3: A l'unité | AW3: TOUT | AX3: CET10 | AY3: émetteur téléR poser (sans compteur) | AZ3: A l'unité | BA3: Installation de télérelève | BB3: 13h15h | BC3: . | BD3: Y306T5QA841 | BE3: TELERELEVE SEOP | BF3: 0 | BG3: Eng.néant | BH3: 43123.581 | BI3: 43153.581 | BJ3: 43123.581 | BK3: 43133.542 | BL3: Honoré | BM3: 43133.542 | BN3: 43133.552 | BO3: DRAME Cheick EPS | BP3: 43133.423 | BQ3: 43133.429 | BR3: 2 | BS3: 9.8416667 | BT3: 9.8479167 | BU3: 43133.43 | BV3: 43136.687 | BX3: 43136.77 | BZ3: 1 | CA3: 0 | CB3: 0 | CC3: 0 | CD3: DRAME Cheick EPS - 02/02/18 : Qualité du signal 9/10 | CE3: 0 | CF3: 0 | CG3: 1 | CN3: 1 | CO3: 0 | CP3: 2319706682 | CT3: 20 | CU3: 2010 | CV3: CE | CW3: C10EB013575 | CX3: 01 REGARD / 2510004305023802 | CY3: 1251 | CZ3: 43133.423 | DA3: Autres | DC3: compteur eau froide | DD3: COMPTEUR STANDARD | DF3: NON EXONERE | DH3: JARDIN - NON accessible | DL3: 0 | DR3: 11A5000901871007 | DT3: 12551.301 | DU3: 43133.424 | EA3: Polyéthylène H.D. (Bleu) | EB3: 20 | EC3: 0 | ED3: 7.8043002e+26 | EH3: Autres | EJ3: 0 | EK3: RACCORDE | EM3: 0 | EW3: 0 | FM3: 0 | FR3: 988445878378 | FT3: =RIGHT(#REF!,LEN(#REF!)-1) -> #REF!
A4: 2447466616 | B4: 54 | C4: 829617 | D4: 1 | E4: ODYSSEE | F4: 2447466178 | H4: 0 | I4: PLATEFORME | J4: lanceur de batch | L4: Adr. BRT : / 1 / GRAND RUE / 78870 / BAILLY / CET16 | M4: 43252.668 | N4: 43264.468 | O4: ALIBAY GANDJEE | P4: +33(0)652808777 | Q4: 9615929435 | R4: ALIBAY GANDJEE | S4: +33(0)134629801 | T4: +33(0)652808777 | W4: 1 | X4: GRAND RUE | Z4: BAILLY | AB4: 0 | AC4: 0 | AF4: 0 | AG4: 0 | AH4: Clôturée | AJ4: ODYSSEE | AK4: ODYSSEE | AL4: 2447466178 | AM4: 17930 | AN4: EAU DSP SM POUR LA GESTION DU SERVICE DES EAUX DE VERSAILLES ET ST CLOUD | AO4: SEOP | AP4: Télérelève SEOP | AQ4: CAMP2_31052018_BAILLY | AR4: 0 | AS4: 0 | AT4: CET16 | AU4: compteur remplacer avec émetteur téléR | AV4: D [15-20] | AW4: TOUT | AX4: CET16 | AY4: compteur remplacer avec émetteur téléR | AZ4: D [15-20] | BA4: Installation de télérelève | BB4: 7 | BC4: . | BD4: Y306T5QA841 | BE4: TELERELEVE SEOP | BF4: 0 | BG4: Heure 1 | BH4: 43252.668 | BI4: 43282.668 | BJ4: 43252.668 | BK4: 43262.646 | BL4: Honoré | BM4: 43262.646 | BN4: 43262.663 | BO4: YOUSSOUF Ali | BP4: 43262.346 | BQ4: 43262.358 | BR4: 6 | BS4: 9.6777778 | BT4: 9.6902778 | BU4: 43262.359 | BV4: 43262.585 | BX4: 43264.468 | BZ4: 1 | CA4: 0 | CB4: 0 | CC4: 0 | CD4: YOUSSOUF Ali - 11/06/18 : Compteur et émetteur changé et posé signal 10 /10 | CE4: 0 | CF4: 0 | CG4: 1 | CN4: 1 | CO4: 0 | CP4: 9615929435 | CT4: 15 | CU4: 2005 | CV4: DA | CW4: D05AA027372 | CX4: 01 REGARD COMPACT TROTT / 25 | CY4: 2628 | CZ4: 43262.354 | DA4: Autres | DC4: compteur eau froide | DD4: COMPTEUR STANDARD | DF4: NON EXONERE | DH4: TROTTOIR - accessible | DL4: 15 | DO4: C18LA101496 | DP4: 0 | DR4: 11A5001075651007 | DT4: 0.5 | DU4: 43262.353 | EA4: PVC | EB4: 25 | EC4: 1 | ED4: 7.8043002e+26 | EH4: Autres | EJ4: 0 | EK4: RACCORDE | EM4: 0 | EW4: 0 | FM4: 0 | FR4: 982447466616 | FT4: =RIGHT(#REF!,LEN(#REF!)-1) -> #REF!
A5: 9450166640 | B5: 54 | C5: 829642 | D5: 1 | E5: ODYSSEE | F5: 9450166746 | H5: 0 | I5: PLATEFORME | J5: lanceur de batch | L5: Adr. BRT : / 11 / GRAND RUE / 78870 / BAILLY / CET16 | M5: 43252.668 | N5: 43264.468 | O5: ROCH FRANCOIS | P5: +33(0)781754846 | Q5: 7750479245 | R5: ROCH FRANCOIS | T5: +33(0)781754846 | W5: 11 | X5: GRAND RUE | Z5: BAILLY | AB5: 0 | AC5: 0 | AF5: 0 | AG5: 0 | AH5: Clôturée | AJ5: ODYSSEE | AK5: ODYSSEE | AL5: 9450166746 | AM5: 17930 | AN5: EAU DSP SM POUR LA GESTION DU SERVICE DES EAUX DE VERSAILLES ET ST CLOUD | AO5: SEOP | AP5: Télérelève SEOP | AQ5: CAMP2_31052018_BAILLY | AR5: 0 | AS5: 0 | AT5: CET16 | AU5: compteur remplacer avec émetteur téléR | AV5: D [15-20] | AW5: TOUT | AX5: CET16 | AY5: compteur remplacer avec émetteur téléR | AZ5: D [15-20] | BA5: Installation de télérelève | BB5: 3/10h-12h | BC5: . | BD5: Y306T5QA841 | BE5: TELERELEVE SEOP | BF5: 0 | BG5: Heure 1 | BH5: 43252.668 | BI5: 43282.668 | BJ5: 43252.668 | BK5: 43262.479 | BL5: Honoré | BM5: 43262.479 | BN5: 43262.497 | BO5: DRAME Cheick EPS | BP5: 43262.496 | BQ5: 43262.513 | BR5: 6 | BS5: 9.8277778 | BT5: 9.8451389 | BU5: 43262.514 | BV5: 43262.595 | BX5: 43264.468 | BZ5: 1 | CA5: 0 | CB5: 0 | CC5: 0 | CD5: DRAME Cheick EPS - 11/06/18 : Malgré plusieurs tentatives de trame aucun signal | CE5: 0 | CF5: 0 | CG5: 1 | CN5: 1 | CO5: 0 | CP5: 7750479245 | CT5: 15 | CU5: 2005 | CV5: DA | CW5: D05AA027378 | CX5: 02 CAVE / 2510004305008001 | CY5: 1080 | CZ5: 43262.507 | DA5: Autres | DC5: compteur eau froide | DD5: COMPTEUR STANDARD | DF5: NON EXONERE | DH5: CAVE - NON accessible | DL5: 15 | DO5: C18LA061381 | DP5: 0 | DR5: 11A5001067561007 | DT5: 0.84 | DU5: 43262.508 | EA5: PVC | EB5: 20 | EC5: 0 | ED5: 7.8043002e+26 | EH5: Autres | EJ5: 0 | EK5: RACCORDE | EM5: 0 | EW5: 0 | FM5: 0 | FR5: 989450166640 | FT5: =RIGHT(#REF!,LEN(#REF!)-1) -> #REF!
A6: 8445878378 | B6: 54 | C6: 871399 | D6: 1 | E6: ODYSSEE | F6: 8445878871 | G6: Technique Eau | H6: 0 | I6: PLATEFORME | J6: RABAH MATOUK | L6: Adr. BRT : / 21 T / RUE DE LA CROIX BLANCHE / 78870 / BAILLY / CEO06 | M6: 43348.433 | N6: 43369.33 | O6: VETTU LUCIENNE | P6: +33(0)664169702 | Q6: 2319706682 | R6: VETTU LUCIENNE | S6: +33(0)130800543 | T6: +33(0)664169702 | V6: 21T RUE DE LA CROIX BLANCHE BAILLY 78870 | W6: 21 T | X6: RUE DE LA CROIX BLANCHE | Z6: BAILLY | AB6: 0 | AC6: 0 | AF6: 0 | AG6: 0 | AH6: Clôturée | AJ6: ODYSSEE | AK6: ODYSSEE | AL6: 8445878871 | AM6: 17930 | AN6: EAU DSP SM POUR LA GESTION DU SERVICE DES EAUX DE VERSAILLES ET ST CLOUD | AO6: SEOP | AP6: Télérelève SEOP | AR6: 0 | AS6: 0 | AT6: CEO06 | AU6: compteur avec émetteur téléR enquêter | AV6: enquête simple | AW6: TOUT | AX6: CET12 | AY6: émetteur téléR reparamétrer | AZ6: A l'unité | BA6: Réparation de télérelève | BB6: RDV 8h 10h | BC6: RDV le 21/9/18 entre 8 h et 10 h - Port 06 62 37 05 43 (cliente contactée le 18/9/18 CM) // NOUS SIGNALE PROBLEME DE TELEREVELE // UN TECHNICIEN EST VENU POSER SA TELERELEVE LE 09 03 2018 MAIS ELLE NE FONCTIONNE PAS // AUCUN INDEX DANS ODYSSEE DEPUIS LE MOIS DE MARS TEL MR :+33 (0)6 64 16 97 02 OU TEL DE MME 06 62 37 05 43 // MERCI DE RECONTACTER CLIENT SVP CAR PAS DE JETONS ET CE DERNIER NOUS RELANCE CAR SA DEMANDE DATE DE 2 SEMAINES. | BF6: 2 | BG6: Eng.néant | BH6: 43348.433 | BI6: 43353.433 | BJ6: 43348.433 | BM6: 43364.333 | BN6: 43364.344 | BO6: FURTADO Antonio | BP6: 43364.382 | BQ6: 43364.426 | BR6: 9 | BS6: 15.948611 | BT6: 15.993056 | BU6: 43364.427 | BV6: 43364.44 | BW6: sw | BX6: 43369.33 | BZ6: 1 | CA6: 1 | CB6: 1.0666667 | CC6: 0 | CD6: FURTADO Antonio - 21/09/18 : Depose et repose de la tête emitrice qualité signal 5. | CE6: 0 | CF6: 0 | CG6: 0 | CN6: 1 | CO6: 0 | CP6: 2319706682 | CT6: 20 | CU6: 2010 | CV6: CE | CW6: C10EB013575 | CX6: 01 REGARD / 2510004305023802 | CY6: 1360 | CZ6: 43364.423 | DA6: Autres | DC6: compteur eau froide | DD6: COMPTEUR STANDARD | DF6: NON EXONERE | DH6: JARDIN - NON accessible | DJ6: 11A5000901871007 | DL6: 0 | DT6: 1360.675 | DU6: 43364.424 | EA6: Polyéthylène H.D. (Bleu) | EB6: 20 | EC6: 0 | ED6: 7.8043002e+26 | EH6: Autres | EJ6: 0 | EK6: RACCORDE | EM6: 0 | EW6: 0 | FM6: 0 | FR6: 988445878378 | FT6: =RIGHT(#REF!,LEN(#REF!)-2) -> #REF!
A7: 2447466616 | B7: 54 | C7: 874222 | D7: 1 | E7: ODYSSEE | F7: 2447466978 | H7: 2 | I7: PLATEFORME | J7: lanceur de batch | L7: Adr. BRT : / 1 / GRAND RUE / 78870 / BAILLY / CET30 | M7: 43355.846 | N7: 43369.33 | O7: ALIBAY GANDJEE | P7: +33(0)652808777 | Q7: 9615929435 | R7: ALIBAY GANDJEE | S7: +33(0)134629801 | T7: +33(0)652808777 | W7: 1 | X7: GRAND RUE | Z7: BAILLY | AB7: 0 | AC7: 0 | AF7: 0 | AG7: 0 | AH7: Clôturée | AJ7: ODYSSEE | AK7: ODYSSEE | AL7: 2447466978 | AM7: 17930 | AN7: EAU DSP SM POUR LA GESTION DU SERVICE DES EAUX DE VERSAILLES ET ST CLOUD | AO7: SEOP | AP7: Télérelève SEOP | AR7: 0 | AS7: 0 | AT7: CET30 | AU7: compteur remplacer pour anomalie technique | AV7: D [15-20] | AW7: TOUT | AX7: CET16 | AY7: compteur remplacer avec émetteur téléR | AZ7: D [15-20] | BA7: Installation de télérelève | BC7: RDV le 21/9/18 à partir de 13 h 00 (pendant horaires de fermeture de la pharmacie - SREL : CTR A L ENVERS (cliente contactée le 18/9/18 CM) | BD7: Y306T5QB807 | BE7: TELERELEVE SEOP | BF7: 2 | BG7: Heure 1 | BH7: 43355.849 | BI7: 43360.849 | BJ7: 43355.849 | BK7: 43364.562 | BL7: Honoré | BM7: 43364.562 | BN7: 43364.58 | BO7: JARRIGE Sullivan | BP7: 43364.529 | BQ7: 43364.539 | BR7: 9 | BS7: 8.6826389 | BT7: 8.6923611 | BU7: 43364.539 | BV7: 43364.607 | BX7: 43369.33 | BZ7: 1 | CA7: 0 | CB7: 0 | CC7: 0 | CD7: JARRIGE Sullivan - 21/09/18 : Compteur remis à l endroit Photo de l ancien compteur prise | CE7: 0 | CF7: 0 | CG7: 1 | CN7: 1 | CO7: 0 | CP7: 9615929435 | CT7: 15 | CU7: 2018 | CV7: CL | CW7: C18LA101496 | CX7: 01 REGARD COMPACT TROTT / 25 | CY7: 99968 | CZ7: 43364.538 | DA7: Autres | DC7: compteur eau froide | DD7: COMPTEUR STANDARD | DF7: NON EXONERE | DG7: CONSO NEGATIVE | DH7: TROTTOIR - accessible | DL7: 15 | DO7: C18LA101496ADDQ | DP7: 0 | DR7: 11A5001075851007 | DT7: 99968.412 | DU7: 43364.538 | EA7: PVC | EB7: 25 | EC7: 1 | ED7: 7.8043002e+26 | EH7: Autres | EJ7: 0 | EK7: RACCORDE | EM7: 0 | EW7: 0 | FM7: 0 | FR7: 982447466616 | FT7: =RIGHT(#REF!,LEN(#REF!)-2) -> #REF!
A8: 7027979032 | B8: 54 | C8: 877625 | D8: 1 | E8: ODYSSEE | F8: 7027979541 | H8: 0 | I8: PLATEFORME | J8: SILVIA WURTZ | L8: Adr. BRT : / . / ROUTE DE FONTENAY / 78870 / BAILLY / CEO06 | M8: 43361.429 | N8: 43362.597 | O8: PONTALIE | P8: +33(0)614723723 | Q8: 3954519618 | R8: PONTALIE | T8: +33(0)614723723 | V8: ROUTE DE FONTENAY MR DUCLOZ ALAIN BAILLY 78870 | W8: . | X8: ROUTE DE FONTENAY | Y8: MR DUCLOZ ALAIN | Z8: BAILLY | AB8: 0 | AC8: 0 | AF8: 0 | AG8: 0 | AH8: Clôturée | AJ8: ODYSSEE | AK8: ODYSSEE | AL8: 7027979541 | AM8: 17930 | AN8: EAU DSP SM POUR LA GESTION DU SERVICE DES EAUX DE VERSAILLES ET ST CLOUD | AO8: SEOP | AP8: Télérelève SEOP | AR8: 0 | AS8: 0 | AT8: CEO06 | AU8: compteur avec émetteur téléR enquêter | AV8: enquête simple | AW8: TOUT | AX8: CET12 | AY8: émetteur téléR reparamétrer | AZ8: A l'unité | BA8: Réparation de télérelève | BC8: A affecter à Antonio FURTADO le 18/09/2018 ENTRE 13h30 ET 16H30. test trame signal | BF8: 0 | BG8: Eng.néant | BH8: 43361.429 | BI8: 43366.429 | BJ8: 43361.429 | BM8: 43361.604 | BN8: 43361.615 | BO8: FURTADO Antonio | BP8: 43361.661 | BQ8: 43361.681 | BR8: 9 | BS8: 0.23125 | BT8: 0.25138889 | BU8: 43361.682 | BV8: 43362.345 | BX8: 43362.597 | BZ8: 1 | CA8: 1 | CB8: 0.48333333 | CC8: 0.21666667 | CD8: FURTADO Antonio - 18/09/18 : Qualité signal 10Protocole radio 2G / Module bien fixé | CE8: 0 | CF8: 0 | CG8: 0 | CN8: 1 | CO8: 0 | CP8: 3954519618 | CT8: 30 | CU8: 2016 | CV8: CS | CW8: C16SD017345 | CX8: 01 REGARD BORNE SETHA / 2510 | CY8: 669 | CZ8: 43361.681 | DA8: Inconnu | DC8: compteur eau froide | DD8: COMPTEUR STANDARD | DF8: NON EXONERE | DH8: TROTTOIR - accessible | DI8: ABSENCE D'EQUIPEMENT | DJ8: 11A5000900681007 | DL8: 0 | DR8: 11A5000900681007 | DT8: 669.381 | DU8: 43361.681 | EA8: Inconnu | EB8: 50 | EC8: 3 | ED8: 7.8043003e+26 | EH8: Autres | EJ8: 0 | EK8: RACCORDE | EM8: 0 | EW8: 0 | FM8: 0 | FR8: 987027979032 | FT8: =RIGHT(#REF!,LEN(#REF!)-2) -> #REF!
A9: 9450166640 | B9: 54 | C9: 877646 | D9: 1 | E9: ODYSSEE | F9: 9450166047 | H9: 0 | I9: PLATEFORME | J9: SILVIA WURTZ | L9: Adr. BRT : / 11 / GRAND RUE / 78870 / BAILLY / CEO06 | M9: 43361.443 | N9: 43362.597 | O9: ROCHE FRANCOIS | P9: +33(0)781754846 | Q9: 7750479245 | R9: ROCHE FRANCOIS | T9: +33(0)781754846 | W9: 11 | X9: GRAND RUE | Z9: BAILLY | AB9: 0 | AC9: 0 | AF9: 0 | AG9: 0 | AH9: Clôturée | AJ9: ODYSSEE | AK9: ODYSSEE | AL9: 9450166047 | AM9: 17930 | AN9: EAU DSP SM POUR LA GESTION DU SERVICE DES EAUX DE VERSAILLES ET ST CLOUD | AO9: SEOP | AP9: Télérelève SEOP | AR9: 0 | AS9: 0 | AT9: CEO06 | AU9: compteur avec émetteur téléR enquêter | AV9: enquête simple | AW9: TOUT | AX9: CET16 | AY9: compteur remplacer avec émetteur téléR | AZ9: D [15-20] | BA9: Installation de télérelève | BC9: A affecter à Antonio FURTADO le 18/09/2018 ENTRE 13h30 ET 16H30. Vérifier bon numéro du compteur et de la tête émettrice puis faire trame signal | BF9: 0 | BG9: Eng.néant | BH9: 43361.443 | BI9: 43366.443 | BJ9: 43361.443 | BM9: 43361.667 | BN9: 43361.677 | BO9: FURTADO Antonio | BP9: 43361.609 | BQ9: 43361.708 | BR9: 9 | BS9: 0.16527778 | BT9: 0.26388889 | BU9: 43361.708 | BV9: 43362.358 | BW9: sw | BX9: 43362.597 | BZ9: 1 | CA9: 1 | CB9: 1.1333333 | CC9: 0.61666667 | CD9: FURTADO Antonio - 18/09/18 : L ancien cr été déjà changé c est pour çà que je n a pas l index de déposé. Qualité signal aucune trame. | CE9: 0 | CF9: 0 | CG9: 0 | CN9: 1 | CO9: 0 | CP9: 7750479245 | CT9: 15 | CU9: 2005 | CV9: DA | CW9: D05AA027378 | CX9: 02 CAVE / 2510004305008001 | CY9: 1080 | CZ9: 43361.708 | DA9: Autres | DC9: compteur eau froide | DD9: COMPTEUR STANDARD | DF9: NON EXONERE | DG9: CONSO NEGATIVE | DH9: CAVE - NON accessible | DL9: 15 | DO9: C18LA061381ADDQ | DP9: 9 | DR9: 11A5001067561007 | DT9: 9.113 | DU9: 43361.64 | EA9: PVC | EB9: 20 | EC9: 0 | ED9: 7.8043002e+26 | EH9: Autres | EJ9: 0 | EK9: RACCORDE | EM9: 0 | EW9: 0 | FM9: 0 | FR9: 989450166640 | FT9: =RIGHT(#REF!,LEN(#REF!)-2) -> #REF!

Sheet Parc
A1: ID_PDS | B1: PB | C1: CONTRAT_RATTACHEMENT | D1: Column4 | E1: COMMUNE | F1: CODE_CYCLE_SERVICE | G1: LIBELLE_CYCLE_SERVICE | H1: CODE_TOURNEE | I1: LIBELLE_TOURNEE_SERVICE | J1: TOURNEE_OPALE | K1: SEQ_TOURNEE | L1: ID_COMPTEUR | M1: NUMERO_BADGE | N1: NUMERO_SERIE | O1: FABRICANT | P1: MODELE | Q1: DIAMETRE | R1: ANNEE_FABRICATION | S1: SOLUTION_COMPACTE | T1: SOLUTION_DEPORTEE | U1: PASSERELLE_SITE_ISOLE | V1: DATE_RECEPTION | W1: DATE_DEPOSE | X1: MATRICULE_EQUIPEMENT | Y1: ACCESSIBLE | Z1: CODE_EMPLACEMENT | AA1: LIBELLE_EMPLACEMENT | AB1: DETAILS_EMPLACEMENTS | AC1: Column29 | AD1: DATE_MISE_EN_SERVICE_PDS | AE1: ETAT_PDS | AF1: DT_SUPPRESSION_PDS | AG1: ETAT_SOURCE_PDS | AH1: MOTIF_FERMETURE_BRANCHEMENT | AI1: REFERENCE_EXTERNE_PDS | AJ1: LOGEMENT_VACANT | AK1: GEN_DIV | AL1: RACCORDE_RACORDABLE | AM1: DATE_RACCORDABILITE | AN1: USAGE | AO1: FLUIDE | AP1: MAT_BRANCH_AV_COMPT | AQ1: MAT_AP_COMPT | AR1: CALIBRE_BRANCHEMENT | AS1: MODE_DE_RELEVE | AT1: BRANCHEMENT_FICTIF | AU1: ID_SITE | AV1: FORAGE | AW1: NUM_VOIE_SITE | AX1: NOM_VOIE_SITE | AY1: ADRESSE2_SITE | AZ1: ADRESSE3_SITE | BA1: ADRESSE4_SITE | BB1: COMMUNE_SITE | BC1: CODE_INSEE_SITE | BD1: CODE_POSTAL_SITE | BE1: ANC_A_FACTURER | BF1: BASSINS_VERSANTS | BG1: NOMBRE_UL | BH1: ID_COMPTE_CLIENT | BI1: ANCIENNE_REF_CLIENT | BJ1: CIVILITE | BK1: NOM_COMPLET | BL1: MENSUALISE | BM1: CLASSE_CLIENT | BN1: TEL_BUREAU | BO1: TEL_DOMICILE | BP1: TEL_MOBILE | BQ1: ADRESSE_EMAIL | BR1: ADRESSE1_CLIENT | BS1: ADRESSE2_CLIENT | BT1: ADRESSE3_CLIENT | BU1: ADRESSE4_CLIENT | BV1: COMMUNE_CLIENT | BW1: CODE_INSEE_CLIENT | BX1: CODE_POSTAL_CLIENT | BY1: CMJ | BZ1: DATE_DERNIERE_RELEVE | CA1: TYPE_RELEVE | CB1: INDEX_DERNIERE_RELEVE | CC1: CODE_REM1 | CD1: CODE_REM2 | CE1: CODE_REM3 | CF1: CODE_REM4
A2: 2447466616 | B2: PB 52 SEOP | C2: SM POUR LA GESTION DU SERVICE DES EAUX DE VERSAILL - 17930 | E2: BAILLY | F2: A76P | G2: BAILLY (lot: 1) Semestriel | H2: A76P | I2: BAILLY (lot: 1) Semestriel | J2: 1 | K2: 300 | L2: 7836253591 | M2: 1221440326 | N2: C18LA101496 | O2: SAPPEL | P2: Altaïr V4 composite MID | Q2: 15 | R2: 2018 | S2: Oui | T2: Oui | U2: Oui | V2: 43262 | X2: 11A5001075651007 | Y2: Oui | Z2: AT | AA2: Trottoir - Accessible | AB2: 01 REGARD COMPACT TROTT / 25 | AD2: 38518 | AE2: En service | AG2: Ouvert | AJ2: Non | AK2: Normal | AL2: Raccordable raccordé | AM2: 43264 | AN2: Normal | AO2: Eau Froide | AP2: PVC | AQ2: Autres | AR2: 25 | AS2: Télé-Relevé | AU2: 2447482390 | AW2: 1 | AX2: GRAND RUE | BB2: BAILLY | BC2: 78043 | BD2: 78870 | BH2: 9615929435 | BJ2: MME | BK2: ALIBAY, GANDJEE | BL2: NON | BM2: Professionnel | BN2: +33 (0)1 34 62 98 01 | BO2: +33 (0)1 34 62 98 01 | BP2: +33 (0)6 52 80 87 77 | BQ2: pharmaciedebailly78870@gmail.com | BY2: 0.2 | BZ2: 43262 | CA2: Normal | CB2: 0
A3: 7027979032 | B3: PB 52 SEOP | C3: SM POUR LA GESTION DU SERVICE DES EAUX DE VERSAILL - 17930 | E3: BAILLY | F3: A76P | G3: BAILLY (lot: 1) Semestriel | H3: A76P | I3: BAILLY (lot: 1) Semestriel | J3: 3 | K3: 16100 | L3: 7450271156 | M3: 1221318918 | N3: C16SD017345 | O3: SAPPEL | P3: Altair V3 | Q3: 30 | R3: 2016 | S3: Oui | T3: Oui | U3: Oui | V3: 43130 | X3: 11A5000900681007 | Y3: Oui | Z3: AT | AA3: Trottoir - Accessible | AB3: 01 REGARD BORNE SETHA / 2510 | AD3: 39177 | AE3: En service | AG3: Ouvert | AJ3: Non | AK3: Normal | AL3: Raccordable raccordé | AM3: 43136 | AN3: Normal | AO3: Eau Froide | AP3: Inconnu | AQ3: Inconnu | AR3: 50 | AS3: Télé-Relevé | AU3: 7027945070 | AX3: ROUTE DE FONTENAY | AZ3: MR DUCLOZ ALAIN | BB3: BAILLY | BC3: 78043 | BD3: 78870 | BH3: 3954519618 | BI3: C7800029500 | BJ3: SCI | BK3: PONTALIE | BL3: NON | BM3: Professionnel | BP3: +33 (0)6 14 72 37 23 | BQ3: alainduclozceris@aol.com | BR3: ROUTE DE FONTENAY | BT3: MR DUCLOZ ALAIN | BV3: BAILLY | BW3: 78043 | BX3: 78870 | BY3: 1.757 | BZ3: 43168 | CA3: Estimation système | CB3: 67
A4: 8445878378 | B4: PB 52 SEOP | C4: SM POUR LA GESTION DU SERVICE DES EAUX DE VERSAILL - 17930 | E4: BAILLY | F4: A76P | G4: BAILLY (lot: 1) Semestriel | H4: A76P | I4: BAILLY (lot: 1) Semestriel | J4: 3 | K4: 10800 | L4: 4607923998 | M4: 1300027784 | N4: C10EB013575 | O4: SAPPEL | P4: Altaïr V3 et V4Ti | Q4: 20 | R4: 2010 | S4: Oui | T4: Oui | U4: Oui | V4: 40624 | X4: 11A5000901871007 | Y4: Non | Z4: NJ | AA4: Jardin - Non accessible | AB4: 01 REGARD / 2510004305023802 | AD4: 32143 | AE4: En service | AG4: Ouvert | AJ4: Non | AK4: Normal | AL4: Raccordable raccordé | AM4: 43136 | AN4: Normal | AO4: Eau Froide | AP4: Polyéthylène bandes bleues | AQ4: Autres | AR4: 20 | AS4: Télé-Relevé | AU4: 8445821662 | AW4: 21 | AX4: RUE DE LA CROIX BLANCHE | BB4: BAILLY | BC4: 78043 | BD4: 78870 | BH4: 2319706682 | BI4: C7800024200 | BJ4: MME | BK4: VETTU, LUCIENNE | BL4: OUI | BM4: Particulier | BO4: +33 (0)1 30 80 05 43 | BP4: +33 (0)6 64 16 97 02 | BQ4: lucienne.vettu@orange.fr | BR4: 21T RUE DE LA CROIX BLANCHE | BV4: BAILLY | BX4: 78870 | BY4: 0.629 | BZ4: 43168 | CA4: Estimation système | CB4: 1304
A5: 9450166640 | B5: PB 52 SEOP | C5: SM POUR LA GESTION DU SERVICE DES EAUX DE VERSAILL - 17930 | E5: BAILLY | F5: A76P | G5: BAILLY (lot: 1) Semestriel | H5: A76P | I5: BAILLY (lot: 1) Semestriel | J5: 1 | K5: 1600 | L5: 4060016066 | M5: 1300027471 | N5: D05AA027378 | O5: SCHLUMBERGER / ACTARIS / ITRON | P5: AQUADIS/AQUACO (Totalisateur TSN) EF/EC Aquadis Tot.TVM | Q5: 15 | R5: 2005 | S5: Oui | T5: Oui | U5: Oui | V5: 38518 | Y5: Non | Z5: NC | AA5: Cave - Non accessible | AB5: 02 CAVE / 2510004305008001 | AD5: 38518 | AE5: En service | AG5: Ouvert | AJ5: Non | AK5: Normal | AL5: Raccordable raccordé | AM5: 43264 | AN5: Normal | AO5: Eau Froide | AP5: PVC | AQ5: Autres | AR5: 20 | AS5: Télé-Relevé | AU5: 9450154614 | AW5: 11 | AX5: GRAND RUE | BB5: BAILLY | BC5: 78043 | BD5: 78870 | BH5: 7750479245 | BJ5: MME M | BK5: ROCHE, FRANCOIS | BL5: NON | BM5: Particulier | BP5: +33 (0)7 81 75 48 46 | BQ5: rochar1@free.fr | BY5: 0.096 | BZ5: 43262 | CA5: Normal | CB5: 1080
