Workbook

Sheet Produits
A1: Libellé_produit | D1: =SI(MOD(LIGNE();10)=1;DECALER(A$1;LIGNE()/10;);"")
A2: ABJ73
A3: ABJ74 | B3: =IF(MOD(ROW(),3)=1,INDIRECT("A"&(ROW()-1)/3+1),"")
A4: ABJ76
A5: ADJ53
A6: ADJ53UNF
A7: ADJ54
A8: ADJ54CF
A9: ADJ54CR
C20: =IF(MOD(ROW(),16)=1,OFFSET(A$1,ROW()/16,),"")
C21: =IF(MOD(ROW(),16)=1,OFFSET(A$1,ROW()/16,),"")
C22: =IF(MOD(ROW(),16)=1,OFFSET(A$1,ROW()/16,),"")
C23: =IF(MOD(ROW(),16)=1,OFFSET(A$1,ROW()/16,),"")
C24: =IF(MOD(ROW(),16)=1,OFFSET(A$1,ROW()/16,),"")
C25: =IF(MOD(ROW(),16)=1,OFFSET(A$1,ROW()/16,),"")
C26: =IF(MOD(ROW(),16)=1,OFFSET(A$1,ROW()/16,),"")
C27: =IF(MOD(ROW(),16)=1,OFFSET(A$1,ROW()/16,),"")
C28: =IF(MOD(ROW(),16)=1,OFFSET(A$1,ROW()/16,),"")
C29: =IF(MOD(ROW(),10)=1,OFFSET(A$1,ROW()/3,),"")

Sheet Feuil1
A4: Ligne | C4: Couverture Cible | D4: Index Rech | E4: Index Tri | F4: Code Article
E6: 1 | F6: =IF(MOD(ROWS($1:1),17)=1,OFFSET(Produits!A$2,ROWS($1:1)/17,),"") -> ABJ73 | H6: =MOD(ROWS($1:1),17)=1 -> TRUE | I6: =ROWS($1:1)/17 -> 0.058823529
E7: =E6+1 -> 2 | F7: =IF(MOD(ROWS($1:2),17)=1,OFFSET(Produits!A$2,ROWS($1:2)/17,),"") | H7: =MOD(ROWS($1:2),17)=1 -> FALSE | I7: =ROWS($1:2)/17 -> 0.11764706
E8: =E7+1 -> 3 | F8: =IF(MOD(ROWS($1:3),17)=1,OFFSET(Produits!A$2,ROWS($1:3)/17,),"") | H8: =MOD(ROWS($1:3),17)=1 -> FALSE | I8: =ROWS($1:3)/17 -> 0.17647059
E9: =E8+1 -> 4 | F9: =IF(MOD(ROWS($1:4),17)=1,OFFSET(Produits!A$2,ROWS($1:4)/17,),"") | H9: =MOD(ROWS($1:4),17)=1 -> FALSE | I9: =ROWS($1:4)/17 -> 0.23529412
E10: =E9+1 -> 5 | F10: =IF(MOD(ROWS($1:5),17)=1,OFFSET(Produits!A$2,ROWS($1:5)/17,),"") | H10: =MOD(ROWS($1:5),17)=1 -> FALSE | I10: =ROWS($1:5)/17 -> 0.29411765
E11: =E10+1 -> 6 | F11: =IF(MOD(ROWS($1:6),17)=1,OFFSET(Produits!A$2,ROWS($1:6)/17,),"") | H11: =MOD(ROWS($1:6),17)=1 -> FALSE | I11: =ROWS($1:6)/17 -> 0.35294118
E12: =E11+1 -> 7 | F12: =IF(MOD(ROWS($1:7),17)=1,OFFSET(Produits!A$2,ROWS($1:7)/17,),"") | H12: =MOD(ROWS($1:7),17)=1 -> FALSE | I12: =ROWS($1:7)/17 -> 0.41176471
E13: =E12+1 -> 8 | F13: =IF(MOD(ROWS($1:8),17)=1,OFFSET(Produits!A$2,ROWS($1:8)/17,),"") | H13: =MOD(ROWS($1:8),17)=1 -> FALSE | I13: =ROWS($1:8)/17 -> 0.47058824
E14: =E13+1 -> 9 | F14: =IF(MOD(ROWS($1:9),17)=1,OFFSET(Produits!A$2,ROWS($1:9)/17,),"") | H14: =MOD(ROWS($1:9),17)=1 -> FALSE | I14: =ROWS($1:9)/17 -> 0.52941176
E15: =E14+1 -> 10 | F15: =IF(MOD(ROWS($1:10),17)=1,OFFSET(Produits!A$2,ROWS($1:10)/17,),"") | H15: =MOD(ROWS($1:10),17)=1 -> FALSE | I15: =ROWS($1:10)/17 -> 0.58823529
E16: =E15+1 -> 11 | F16: =IF(MOD(ROWS($1:11),17)=1,OFFSET(Produits!A$2,ROWS($1:11)/17,),"") | H16: =MOD(ROWS($1:11),17)=1 -> FALSE | I16: =ROWS($1:11)/17 -> 0.64705882
E17: =E16+1 -> 12 | F17: =IF(MOD(ROWS($1:12),17)=1,OFFSET(Produits!A$2,ROWS($1:12)/17,),"") | H17: =MOD(ROWS($1:12),17)=1 -> FALSE | I17: =ROWS($1:12)/17 -> 0.70588235
E18: =E17+1 -> 13 | F18: =IF(MOD(ROWS($1:13),17)=1,OFFSET(Produits!A$2,ROWS($1:13)/17,),"") | H18: =MOD(ROWS($1:13),17)=1 -> FALSE | I18: =ROWS($1:13)/17 -> 0.76470588
E19: =E18+1 -> 14 | F19: =IF(MOD(ROWS($1:14),17)=1,OFFSET(Produits!A$2,ROWS($1:14)/17,),"") | H19: =MOD(ROWS($1:14),17)=1 -> FALSE | I19: =ROWS($1:14)/17 -> 0.82352941
E20: =E19+1 -> 15 | F20: =IF(MOD(ROWS($1:15),17)=1,OFFSET(Produits!A$2,ROWS($1:15)/17,),"") | H20: =MOD(ROWS($1:15),17)=1 -> FALSE | I20: =ROWS($1:15)/17 -> 0.88235294
E21: =E20+1 -> 16 | F21: =IF(MOD(ROWS($1:16),17)=1,OFFSET(Produits!A$2,ROWS($1:16)/17,),"") | H21: =MOD(ROWS($1:16),17)=1 -> FALSE | I21: =ROWS($1:16)/17 -> 0.94117647
E22: =E21+1 -> 17 | F22: =IF(MOD(ROWS($1:17),17)=1,OFFSET(Produits!A$2,ROWS($1:17)/17,),"") | H22: =MOD(ROWS($1:17),17)=1 -> FALSE | I22: =ROWS($1:17)/17 -> 1
E23: =E22+1 -> 18 | F23: =IF(MOD(ROWS($1:18),17)=1,OFFSET(Produits!A$2,ROWS($1:18)/17,),"") -> ABJ74 | H23: =MOD(ROWS($1:18),17)=1 -> TRUE | I23: =ROWS($1:18)/17 -> 1.0588235
E24: =E23+1 -> 19 | F24: =IF(MOD(ROWS($1:19),17)=1,OFFSET(Produits!A$2,ROWS($1:19)/17,),"") | H24: =MOD(ROWS($1:19),17)=1 -> FALSE | I24: =ROWS($1:19)/17 -> 1.1176471
E25: =E24+1 -> 20 | F25: =IF(MOD(ROWS($1:20),17)=1,OFFSET(Produits!A$2,ROWS($1:20)/17,),"") | H25: =MOD(ROWS($1:20),17)=1 -> FALSE | I25: =ROWS($1:20)/17 -> 1.1764706
E26: =E25+1 -> 21 | F26: =IF(MOD(ROWS($1:21),17)=1,OFFSET(Produits!A$2,ROWS($1:21)/17,),"") | H26: =MOD(ROWS($1:21),17)=1 -> FALSE | I26: =ROWS($1:21)/17 -> 1.2352941
E27: =E26+1 -> 22 | F27: =IF(MOD(ROWS($1:22),17)=1,OFFSET(Produits!A$2,ROWS($1:22)/17,),"") | G27: =IF(MOD(ROW()-19,16)=1,OFFSET(Produits!A$1,ROW()/16,),"") | H27: =MOD(ROWS($1:22),17)=1 -> FALSE | I27: =ROWS($1:22)/17 -> 1.2941176
E28: =E27+1 -> 23 | F28: =IF(MOD(ROWS($1:23),17)=1,OFFSET(Produits!A$2,ROWS($1:23)/17,),"") | G28: =IF(MOD(ROW()-19,16)=1,OFFSET(Produits!A$1,ROW()/16,),"") | H28: =MOD(ROWS($1:23),17)=1 -> FALSE | I28: =ROWS($1:23)/17 -> 1.3529412
E29: =E28+1 -> 24 | F29: =IF(MOD(ROWS($1:24),17)=1,OFFSET(Produits!A$2,ROWS($1:24)/17,),"") | G29: =IF(MOD(ROW()-19,16)=1,OFFSET(Produits!A$1,ROW()/16,),"") | H29: =MOD(ROWS($1:24),17)=1 -> FALSE | I29: =ROWS($1:24)/17 -> 1.4117647
E30: =E29+1 -> 25 | F30: =IF(MOD(ROWS($1:25),17)=1,OFFSET(Produits!A$2,ROWS($1:25)/17,),"") | G30: =IF(MOD(ROW()-19,16)=1,OFFSET(Produits!A$1,ROW()/16,),"") | H30: =MOD(ROWS($1:25),17)=1 -> FALSE | I30: =ROWS($1:25)/17 -> 1.4705882
E31: =E30+1 -> 26 | F31: =IF(MOD(ROWS($1:26),17)=1,OFFSET(Produits!A$2,ROWS($1:26)/17,),"") | G31: =IF(MOD(ROW()-19,16)=1,OFFSET(Produits!A$1,ROW()/16,),"") | H31: =MOD(ROWS($1:26),17)=1 -> FALSE | I31: =ROWS($1:26)/17 -> 1.5294118
E32: =E31+1 -> 27 | F32: =IF(MOD(ROWS($1:27),17)=1,OFFSET(Produits!A$2,ROWS($1:27)/17,),"") | G32: =IF(MOD(ROW()-19,16)=1,OFFSET(Produits!A$1,ROW()/16,),"") | H32: =MOD(ROWS($1:27),17)=1 -> FALSE | I32: =ROWS($1:27)/17 -> 1.5882353
E33: =E32+1 -> 28 | F33: =IF(MOD(ROWS($1:28),17)=1,OFFSET(Produits!A$2,ROWS($1:28)/17,),"") | G33: =IF(MOD(ROW()-19,16)=1,OFFSET(Produits!A$1,ROW()/16,),"") | H33: =MOD(ROWS($1:28),17)=1 -> FALSE | I33: =ROWS($1:28)/17 -> 1.6470588
E34: =E33+1 -> 29 | F34: =IF(MOD(ROWS($1:29),17)=1,OFFSET(Produits!A$2,ROWS($1:29)/17,),"") | G34: =IF(MOD(ROW()-29,16)=1,OFFSET(Produits!A$1,ROW()/16,),"") | H34: =MOD(ROWS($1:29),17)=1 -> FALSE | I34: =ROWS($1:29)/17 -> 1.7058824
E35: =E34+1 -> 30 | F35: =IF(MOD(ROWS($1:30),17)=1,OFFSET(Produits!A$2,ROWS($1:30)/17,),"") | G35: =IF(MOD(ROW()-29,16)=1,OFFSET(Produits!A$1,ROW()/16,),"") | H35: =MOD(ROWS($1:30),17)=1 -> FALSE | I35: =ROWS($1:30)/17 -> 1.7647059
E36: =E35+1 -> 31 | F36: =IF(MOD(ROWS($1:31),17)=1,OFFSET(Produits!A$2,ROWS($1:31)/17,),"") | G36: =IF(MOD(ROW()-29,16)=1,OFFSET(Produits!A$1,ROW()/16,),"") | H36: =MOD(ROWS($1:31),17)=1 -> FALSE | I36: =ROWS($1:31)/17 -> 1.8235294
E37: =E36+1 -> 32 | F37: =IF(MOD(ROWS($1:32),17)=1,OFFSET(Produits!A$2,ROWS($1:32)/17,),"") | G37: =IF(MOD(ROW()-29,16)=1,OFFSET(Produits!A$1,ROW()/16,),"") | H37: =MOD(ROWS($1:32),17)=1 -> FALSE | I37: =ROWS($1:32)/17 -> 1.8823529
E38: =E37+1 -> 33 | F38: =IF(MOD(ROWS($1:33),17)=1,OFFSET(Produits!A$2,ROWS($1:33)/17,),"") | G38: =IF(MOD(ROW()-29,16)=1,OFFSET(Produits!A$1,ROW()/16,),"") | H38: =MOD(ROWS($1:33),17)=1 -> FALSE | I38: =ROWS($1:33)/17 -> 1.9411765
E39: =E38+1 -> 34 | F39: =IF(MOD(ROWS($1:34),17)=1,OFFSET(Produits!A$2,ROWS($1:34)/17,),"") | H39: =MOD(ROWS($1:34),17)=1 -> FALSE | I39: =ROWS($1:34)/17 -> 2
E40: =E39+1 -> 35 | F40: =IF(MOD(ROW(),16)=1,OFFSET(Produits!A$1,ROW()/16,),"") | H40: =MOD(ROWS($1:35),17)=1 -> TRUE | I40: =ROWS($1:35)/17 -> 2.0588235
E41: =E40+1 -> 36 | F41: =IF(MOD(ROW(),16)=1,OFFSET(Produits!A$1,ROW()/16,),"") | H41: =MOD(ROWS($1:36),17)=1 -> FALSE | I41: =ROWS($1:36)/17 -> 2.1176471
E42: =E41+1 -> 37 | F42: =IF(MOD(ROW(),16)=1,OFFSET(Produits!A$1,ROW()/16,),"") | H42: =MOD(ROWS($1:37),17)=1 -> FALSE | I42: =ROWS($1:37)/17 -> 2.1764706
E43: =E42+1 -> 38 | F43: =IF(MOD(ROW(),16)=1,OFFSET(Produits!A$1,ROW()/16,),"") | H43: =MOD(ROWS($1:38),17)=1 -> FALSE | I43: =ROWS($1:38)/17 -> 2.2352941
E44: =E43+1 -> 39 | F44: =IF(MOD(ROW(),16)=1,OFFSET(Produits!A$1,ROW()/16,),"") | H44: =MOD(ROWS($1:39),17)=1 -> FALSE | I44: =ROWS($1:39)/17 -> 2.2941176
...
