Workbook

Sheet Jan 18
B1: CHANTIERS 2018
A4: JANVIER | B4: AUBERCHICOURT | C4: LUMBRES | D4: MONCHEAUX | E4: GIVENCHY | F4: CARVIN | G4: HAILLICOURT | H4: VITRY
A5: 1 | B5: FERIE | C5: FERIE | D5: FERIE | E5: FERIE | F5: FERIE | G5: FERIE | H5: FERIE
A6: 2 | B6: CONGES | C6: CONGES | D6: CONGES | E6: CONGES | F6: CONGES | G6: CONGES | H6: CONGES
A7: 3 | C7: =7*4 -> 28 | D7: =7*6 -> 42 | G7: =7*5 -> 35
A8: 4 | C8: =7*4 -> 28 | D8: INTEMPERIE | F8: INTEMPERIE | G8: =1*8 -> 8
A9: 5 | C9: =7*9 -> 63 | D9: =7*6 -> 42 | F9: =7*5 -> 35
A10: 6
A11: 7
A12: 8 | B12: =7*4 -> 28 | C12: =7*9 -> 63 | D12: =7*5 -> 35 | F12: =3*7 -> 21 | G12: =7*5+1 -> 36
A13: 9 | B13: =7*4 -> 28 | C13: =7*8 -> 56 | D13: =7*5 -> 35 | F13: =3*7 -> 21 | G13: =7*5 -> 35
A14: 10 | B14: =7*6 -> 42 | C14: =7*6 -> 42 | D14: =7*6 -> 42 | E14: =7*3+3 -> 24 | F14: =4*7 -> 28 | G14: =7*5 -> 35
A15: 11 | B15: =7*6 -> 42 | C15: =7*9 -> 63 | D15: =7*6 -> 42 | E15: =7*3+6+3 -> 30 | F15: =7*4 -> 28 | G15: =7*5 -> 35
A16: 12 | B16: =7*4+7 -> 35 | C16: =7*9 -> 63 | D16: =7*5 -> 35 | E16: =7*4 -> 28 | F16: =7*4 -> 28 | G16: =7*5 -> 35
A17: 13
A18: 14
A19: 15 | B19: =7*5+7 -> 42 | C19: =7*8 -> 56 | D19: =6*7 -> 42 | E19: =7*3 -> 21 | F19: =7*7+7 -> 56 | G19: =7*5+7.5 -> 42.5 | H19: =7*3 -> 21
A20: 16 | B20: =7*6 -> 42 | C20: =7*7 -> 49 | D20: =5*7 -> 35 | E20: =7*5 -> 35 | F20: =7*4 -> 28 | G20: =7*5+7.5 -> 42.5 | H20: =7*3 -> 21
A21: 17 | B21: =7*6 -> 42 | C21: =7*8 -> 56 | D21: =7*6 -> 42 | E21: =7*6 -> 42 | F21: =7*4 -> 28 | G21: =7*5+7.5 -> 42.5 | H21: =7*3 -> 21
A22: 18 | B22: =7*6 -> 42 | C22: =7*8 -> 56 | D22: =6*7 -> 42 | E22: =7*6 -> 42 | F22: =7*4 -> 28 | G22: =7*5+7.5 -> 42.5 | H22: =7*3 -> 21
A23: 19 | B23: =7*6 -> 42 | C23: =7*8 -> 56 | D23: =7*5 -> 35 | E23: =7*6 -> 42 | F23: =7*4 -> 28 | G23: =7*5+7.5 -> 42.5 | H23: =7*3 -> 21
A24: 20
A25: 21
A26: 22 | B26: =7.5*6 -> 45 | C26: =7.5*5 -> 37.5 | D26: =7.5*6 -> 45 | E26: =8*7 -> 56 | F26: =7.5*4 -> 30 | G26: =7.5*6 -> 45 | H26: =8*3 -> 24
A27: 23 | B27: =7.5*6 -> 45 | C27: =7.5*5 -> 37.5 | D27: =7.5*6 -> 45 | E27: =8*7 -> 56 | F27: =7.5*4 -> 30 | G27: =7.5*6 -> 45 | H27: =8*3 -> 24
A28: 24 | B28: =7.5*6 -> 45 | C28: =7.5*5 -> 37.5 | D28: =7.5*6 -> 45 | E28: =7.5+8*7 -> 63.5 | F28: =7.5*3 -> 22.5 | G28: =7.5*5 -> 37.5 | H28: =8*3 -> 24
A29: 25 | B29: =7.5*6 -> 45 | D29: =7.5*6 -> 45 | E29: =8*7 -> 56 | F29: =7.5*3 -> 22.5 | G29: =7.5*5 -> 37.5 | H29: =8*3 -> 24
A30: 26 | B30: =7.5*6 -> 45 | C30: =7.5*3 -> 22.5 | D30: =7.5*6 -> 45 | E30: =7*7 -> 49 | F30: =7.5*4+7.5*6 -> 75 | G30: =7.5 -> 7.5 | H30: =7*3 -> 21
A31: 27
A32: 28
A33: 29 | B33: =7.5*6 -> 45 | C33: =7*9 -> 63 | D33: =8*6 -> 48 | E33: =8*7 -> 56 | F33: =8*7 -> 56 | G33: =7*6 -> 42 | H33: =7*3 -> 21
A34: 30 | B34: =7.5*6 -> 45 | C34: =7*9 -> 63 | D34: =8*6 -> 48 | E34: =8*7 -> 56 | F34: =8*7 -> 56 | G34: =7*6 -> 42 | H34: =7*3 -> 21
A35: 31 | B35: =7.5*6 -> 45 | C35: =7*9 -> 63 | D35: =8*6 -> 48 | E35: =8*7 -> 56 | F35: =8*7 -> 56 | G35: =7*6 -> 42 | H35: =7*3 -> 21
A36: TOTAL JANVIER | B36: =SUM(B5:B35) -> 745 | C36: =SUM(C5:C35) -> 1003 | D36: =SUM(D5:D35) -> 838 | E36: =SUM(E5:E35) -> 712.5 | F36: =SUM(F5:F35) -> 677 | G36: =SUM(G5:G35) -> 730 | H36: =SUM(H5:H35) -> 285

Sheet Fev 18
A1: 43132 | B1: CHANTIERS
B4: AUBERCHICOURT | C4: LUMBRES | D4: MONCHEAUX | E4: GIVENCHY | F4: CARVIN | G4: HAILLICOURT | H4: VITRY
A5: 1 | B5: =8*6 -> 48 | C5: =7*8 -> 56 | D5: =8*5 -> 40 | E5: =8*5 -> 40 | F5: =8*4 -> 32 | G5: =8*6 -> 48 | H5: =8*3 -> 24
A6: 2 | B6: =8*6 -> 48 | C6: =7*8 -> 56 | D6: =8*5 -> 40 | E6: =8*5 -> 40 | F6: =8*4 -> 32 | G6: =8*6 -> 48 | H6: =8*3 -> 24
A7: 3
A8: 4
A9: 5 | B9: =8*6 -> 48 | C9: =7*8 -> 56 | D9: =8*5 -> 40 | E9: =8*5 -> 40 | F9: =8*4 -> 32 | G9: =8*6 -> 48 | H9: =8*3 -> 24
A10: 6 | B10: =8*6 -> 48 | C10: =7*8 -> 56 | D10: =8*5 -> 40 | E10: =8*5 -> 40 | F10: =8*4 -> 32 | G10: =8*6 -> 48 | H10: =8*3 -> 24
A11: 7 | B11: =8*6 -> 48 | C11: =7*8 -> 56 | D11: =8*5 -> 40 | E11: =8*5 -> 40 | F11: =8*4 -> 32 | G11: =8*6 -> 48 | H11: =8*3 -> 24
A12: 8 | B12: =8*6 -> 48 | C12: =7*8 -> 56 | D12: =8*5 -> 40 | E12: =8*5 -> 40 | F12: =8*4 -> 32 | G12: =8*6 -> 48 | H12: =8*3 -> 24
A13: 9 | B13: =7*6 -> 42 | C13: =7*7 -> 49 | D13: =7*5 -> 35 | E13: =7*5 -> 35 | F13: =7*4 -> 28 | G13: =7*6 -> 42 | H13: =7*3 -> 21
A14: 10
A15: 11
A16: 12 | B16: =8*6 -> 48 | C16: =7*8 -> 56 | D16: =8*5 -> 40 | E16: =8*5 -> 40 | F16: =8*4 -> 32 | G16: =8*6 -> 48 | H16: =8*3 -> 24
A17: 13 | B17: =8*6 -> 48 | C17: =7*8 -> 56 | D17: =8*5 -> 40 | E17: =8*5 -> 40 | F17: =8*4 -> 32 | G17: =8*6 -> 48 | H17: =8*3 -> 24
A18: 14 | B18: =8*6 -> 48 | C18: =7*8 -> 56 | D18: =8*5 -> 40 | E18: =8*5 -> 40 | F18: =8*4 -> 32 | G18: =8*6 -> 48 | H18: =8*3 -> 24
A19: 15 | B19: =8*6 -> 48 | C19: =7*8 -> 56 | D19: =8*5 -> 40 | E19: =8*5 -> 40 | F19: =8*4 -> 32 | G19: =8*6 -> 48 | H19: =8*3 -> 24
A20: 16 | B20: =7*6 -> 42 | C20: =7*7 -> 49 | D20: =7*5 -> 35 | E20: =7*5 -> 35 | F20: =7*4 -> 28 | G20: =7*6 -> 42 | H20: =7*3 -> 21
A21: 17
A22: 18
A23: 19 | B23: =8*6 -> 48 | C23: =7*8 -> 56 | D23: =8*5 -> 40 | E23: =8*5 -> 40 | F23: =8*4 -> 32 | G23: =8*6 -> 48 | H23: =8*3 -> 24
A24: 20 | B24: =8*6 -> 48 | C24: =7*8 -> 56 | D24: =8*5 -> 40 | E24: =8*5 -> 40 | F24: =8*4 -> 32 | G24: =8*6 -> 48 | H24: =8*3 -> 24
A25: 21 | B25: =8*6 -> 48 | C25: =7*8 -> 56 | D25: =8*5 -> 40 | E25: =8*5 -> 40 | F25: =8*4 -> 32 | G25: =8*6 -> 48 | H25: =8*3 -> 24
A26: 22 | B26: =8*6 -> 48 | C26: =7*8 -> 56 | D26: =8*5 -> 40 | E26: =8*5 -> 40 | F26: =8*4 -> 32 | G26: =8*6 -> 48 | H26: =8*3 -> 24
A27: 23 | B27: =7*6 -> 42 | C27: =7*7 -> 49 | D27: =7*5 -> 35 | E27: =7*5 -> 35 | F27: =7*4 -> 28 | G27: =7*6 -> 42 | H27: =7*3 -> 21
A28: 24
A29: 25
A30: 26 | B30: =8*6 -> 48 | C30: =7*8 -> 56 | D30: =8*5 -> 40 | E30: =8*5 -> 40 | F30: =8*4 -> 32 | G30: =8*6 -> 48 | H30: =8*3 -> 24
A31: 27 | B31: =8*6 -> 48 | C31: =7*8 -> 56 | D31: =8*5 -> 40 | E31: =8*5 -> 40 | F31: =8*4 -> 32 | G31: =8*6 -> 48 | H31: =8*3 -> 24
A32: 28 | B32: =8*6 -> 48 | C32: =7*8 -> 56 | D32: =8*5 -> 40 | E32: =8*5 -> 40 | F32: =8*4 -> 32 | G32: =8*6 -> 48 | H32: =8*3 -> 24
A33: TOTAL | B33: =SUM(B5:B32) -> 942 | C33: =SUM(C5:C32) -> 1099 | D33: =SUM(D5:D32) -> 785 | E33: =SUM(E5:E32) -> 785 | F33: =SUM(F5:F32) -> 628 | G33: =SUM(G5:G32) -> 942 | H33: =SUM(H5:H32) -> 471
A35: TOTAL DU MOIS | B35: =SUM(B33:H33) -> 5652

Sheet Mars 18
A1: 43160 | B1: CHANTIERS
B4: AUBERCHICOURT | C4: LUMBRES | D4: MONCHEAUX | E4: GIVENCHY | F4: CARVIN | G4: HAILLICOURT | H4: VITRY
A5: 1 | B5: =8*6 -> 48 | C5: =8*7 -> 56 | D5: =8*5 -> 40 | E5: =8*5 -> 40 | F5: =8*4 -> 32 | G5: =8*6 -> 48 | H5: =8*3 -> 24
A6: 2 | B6: =8*6 -> 48 | C6: =8*7 -> 56 | D6: =8*5 -> 40 | E6: =8*5 -> 40 | F6: =8*4 -> 32 | G6: =8*6 -> 48 | H6: =8*3 -> 24
A7: 3
A8: 4
A9: 5 | B9: =8*6 -> 48 | C9: =8*7 -> 56 | D9: =8*5 -> 40 | E9: =8*5 -> 40 | F9: =8*4 -> 32 | G9: =8*6 -> 48 | H9: =8*3 -> 24
A10: 6 | B10: =8*6 -> 48 | C10: =8*7 -> 56 | D10: =8*5 -> 40 | E10: =8*5 -> 40 | F10: =8*4 -> 32 | G10: =8*6 -> 48 | H10: =8*3 -> 24
A11: 7 | B11: =8*6 -> 48 | C11: =8*7 -> 56 | D11: =8*5 -> 40 | E11: =8*5 -> 40 | F11: =8*4 -> 32 | G11: =8*6 -> 48 | H11: =8*3 -> 24
A12: 8 | B12: =8*6 -> 48 | C12: =8*7 -> 56 | D12: =8*5 -> 40 | E12: =8*5 -> 40 | F12: =8*4 -> 32 | G12: =8*6 -> 48 | H12: =8*3 -> 24
A13: 9 | B13: =7*6 -> 42 | C13: =7*7 -> 49 | D13: =7*5 -> 35 | E13: =7*5 -> 35 | F13: =7*4 -> 28 | G13: =7*6 -> 42 | H13: =7*3 -> 21
A14: 10
A15: 11
A16: 12
A17: 13
A18: 14
A19: 15
A20: 16
A21: 17
A22: 18
A23: 19
A24: 20
A25: 21
... A35: 31
A36: TOTAL | B36: =SUM(B5:B35) -> 330 | C36: =SUM(C5:C35) -> 385 | D36: =SUM(D5:D35) -> 275 | E36: =SUM(E5:E35) -> 275 | F36: =SUM(F5:F35) -> 220 | G36: =SUM(G5:G35) -> 330 | H36: =SUM(H5:H35) -> 165
A38: TOTAL DU MOIS | B38: =SUM(B36:H36) -> 1980

Sheet Avril 18
A1: 43191 | B1: CHANTIERS
B4: AUBERCHICOURT | C4: LUMBRES | D4: MONCHEAUX | E4: GIVENCHY | F4: CARVIN | G4: HAILLICOURT | H4: VITRY
A5: 1
A6: 2
A7: 3
A8: 4
A9: 5
A10: 6
A11: 7
A12: 8
A13: 9
A14: 10
A15: 11
A16: 12
... A34: 30
A35: TOTAL | B35: =SUM(B5:B34) -> 0 | C35: =SUM(C5:C34) -> 0 | D35: =SUM(D5:D34) -> 0 | E35: =SUM(E5:E34) -> 0 | F35: =SUM(F5:F34) -> 0 | G35: =SUM(G5:G34) -> 0 | H35: =SUM(H5:H34) -> 0
A37: TOTAL DU MOIS | B37: =SUM(B35:H35) -> 0

Sheet Mai 18
A1: 43221 | B1: CHANTIERS
B4: AUBERCHICOURT | C4: LUMBRES | D4: MONCHEAUX | E4: GIVENCHY | F4: CARVIN | G4: HAILLICOURT | H4: VITRY
A5: 1
A6: 2
A7: 3
A8: 4
A9: 5
A10: 6
A11: 7
A12: 8
A13: 9
A14: 10
A15: 11
A16: 12
... A35: 31
A36: TOTAL | B36: =SUM(B5:B35) -> 0 | C36: =SUM(C5:C35) -> 0 | D36: =SUM(D5:D35) -> 0 | E36: =SUM(E5:E35) -> 0 | F36: =SUM(F5:F35) -> 0 | G36: =SUM(G5:G35) -> 0 | H36: =SUM(H5:H35) -> 0
A38: TOTAL DU MOIS | B38: =SUM(B36:H36) -> 0

Sheet Juin 18
A1: 43252 | B1: CHANTIERS
B4: AUBERCHICOURT | C4: LUMBRES | D4: MONCHEAUX | E4: GIVENCHY | F4: CARVIN | G4: HAILLICOURT | H4: VITRY
A5: 1
A6: 2
A7: 3
A8: 4
A9: 5
A10: 6
A11: 7
A12: 8
A13: 9
A14: 10
A15: 11
A16: 12
... A34: 30
A35: TOTAL | B35: =SUM(B5:B34) -> 0 | C35: =SUM(C5:C34) -> 0 | D35: =SUM(D5:D34) -> 0 | E35: =SUM(E5:E34) -> 0 | F35: =SUM(F5:F34) -> 0 | G35: =SUM(G5:G34) -> 0 | H35: =SUM(H5:H34) -> 0
A37: TOTAL DU MOIS | B37: =SUM(B35:H35) -> 0

Sheet Jui 18
A1: 43282 | B1: CHANTIERS
B4: AUBERCHICOURT | C4: LUMBRES | D4: MONCHEAUX | E4: GIVENCHY | F4: CARVIN | G4: HAILLICOURT | H4: VITRY
A5: 1
A6: 2
A7: 3
A8: 4
A9: 5
A10: 6
A11: 7
A12: 8
A13: 9
A14: 10
A15: 11
A16: 12
... A35: 31
A36: TOTAL | B36: =SUM(B5:B35) -> 0 | C36: =SUM(C5:C35) -> 0 | D36: =SUM(D5:D35) -> 0 | E36: =SUM(E5:E35) -> 0 | F36: =SUM(F5:F35) -> 0 | G36: =SUM(G5:G35) -> 0 | H36: =SUM(H5:H35) -> 0
A38: TOTAL DU MOIS | B38: =SUM(B36:H36) -> 0

Sheet Aout 18
A1: 43313 | B1: CHANTIERS
B4: AUBERCHICOURT | C4: LUMBRES | D4: MONCHEAUX | E4: GIVENCHY | F4: CARVIN | G4: HAILLICOURT | H4: VITRY
A5: 1
A6: 2
A7: 3
A8: 4
A9: 5
A10: 6
A11: 7
A12: 8
A13: 9
A14: 10
A15: 11
A16: 12
... A35: 31
A36: TOTAL | B36: =SUM(B5:B35) -> 0 | C36: =SUM(C5:C35) -> 0 | D36: =SUM(D5:D35) -> 0 | E36: =SUM(E5:E35) -> 0 | F36: =SUM(F5:F35) -> 0 | G36: =SUM(G5:G35) -> 0 | H36: =SUM(H5:H35) -> 0
A38: TOTAL DU MOIS | B38: =SUM(B36:H36) -> 0

Sheet Sept 18
A1: 43344 | B1: CHANTIERS
B4: AUBERCHICOURT | C4: LUMBRES | D4: MONCHEAUX | E4: GIVENCHY | F4: CARVIN | G4: HAILLICOURT | H4: VITRY
A5: 1
A6: 2
A7: 3
A8: 4
A9: 5
A10: 6
A11: 7
A12: 8
A13: 9
A14: 10
A15: 11
A16: 12
... A34: 30
A35: TOTAL | B35: =SUM(B5:B34) -> 0 | C35: =SUM(C5:C34) -> 0 | D35: =SUM(D5:D34) -> 0 | E35: =SUM(E5:E34) -> 0 | F35: =SUM(F5:F34) -> 0 | G35: =SUM(G5:G34) -> 0 | H35: =SUM(H5:H34) -> 0
A37: TOTAL DU MOIS | B37: =SUM(B35:H35) -> 0

Sheet Oct 18
A1: 43374 | B1: CHANTIERS
B4: AUBERCHICOURT | C4: LUMBRES | D4: MONCHEAUX | E4: GIVENCHY | F4: CARVIN | G4: HAILLICOURT | H4: VITRY
A5: 1
A6: 2
A7: 3
A8: 4
A9: 5
A10: 6
A11: 7
A12: 8
A13: 9
A14: 10
A15: 11
A16: 12
... A35: 31
A36: TOTAL | B36: =SUM(B5:B35) -> 0 | C36: =SUM(C5:C35) -> 0 | D36: =SUM(D5:D35) -> 0 | E36: =SUM(E5:E35) -> 0 | F36: =SUM(F5:F35) -> 0 | G36: =SUM(G5:G35) -> 0 | H36: =SUM(H5:H35) -> 0
A38: TOTAL DU MOIS | B38: =SUM(B36:H36) -> 0

Sheet Nov 18
A1: 43405 | B1: CHANTIERS
B4: AUBERCHICOURT | C4: LUMBRES | D4: MONCHEAUX | E4: GIVENCHY | F4: CARVIN | G4: HAILLICOURT | H4: VITRY
A5: 1
A6: 2
A7: 3
A8: 4
A9: 5
A10: 6
A11: 7
A12: 8
A13: 9
A14: 10
A15: 11
A16: 12
... A34: 30
A35: TOTAL | B35: =SUM(B5:B34) -> 0 | C35: =SUM(C5:C34) -> 0 | D35: =SUM(D5:D34) -> 0 | E35: =SUM(E5:E34) -> 0 | F35: =SUM(F5:F34) -> 0 | G35: =SUM(G5:G34) -> 0 | H35: =SUM(H5:H34) -> 0
A37: TOTAL DU MOIS | B37: =SUM(B35:H35) -> 0

Sheet Dec 18
A1: 43435 | B1: CHANTIERS
B4: AUBERCHICOURT | C4: LUMBRES | D4: MONCHEAUX | E4: GIVENCHY | F4: CARVIN | G4: HAILLICOURT | H4: VITRY
A5: 1
A6: 2
A7: 3
A8: 4
A9: 5
A10: 6
A11: 7
A12: 8
A13: 9
A14: 10
A15: 11
A16: 12
... A35: 31
A36: TOTAL | B36: =SUM(B5:B35) -> 0 | C36: =SUM(C5:C35) -> 0 | D36: =SUM(D5:D35) -> 0 | E36: =SUM(E5:E35) -> 0 | F36: =SUM(F5:F35) -> 0 | G36: =SUM(G5:G35) -> 0 | H36: =SUM(H5:H35) -> 0
A39: TOTAL DU MOIS | B39: =SUM(B36:H36) -> 0

Sheet RECAP
A1: TABLEAU RECAPITULATIF
A4: CHANTIERS | B4: HEURES PREVUES | C4: HEURES REALISEES | D4: RESULTAT
A5: AUBERCHICOURT | B5: 6000 | C5: =VLOOKUP("TOTAL",'Jan 18'!A:H,2) -> AUBERCHICOURT
A6: LUMBRES | B6: 8954 | C6: =VLOOKUP("TOTAL",'Jan 18'!A:H,2) -> AUBERCHICOURT
A7: MONCHEAUX | B7: 6246 | C7: =VLOOKUP("TOTAL",'Jan 18'!A:H,2) -> AUBERCHICOURT
A8: GIVENCHY | B8: 4352 | C8: =VLOOKUP("TOTAL",'Jan 18'!A:H,2) -> AUBERCHICOURT
A9: CARVIN | B9: 4072 | C9: =VLOOKUP("TOTAL",'Jan 18'!A:H,2) -> AUBERCHICOURT
A10: HAILLICOURT | B10: 5436 | C10: =VLOOKUP("TOTAL",'Jan 18'!A:H,2) -> AUBERCHICOURT
A11: VITRY | B11: 5000 | C11: =VLOOKUP("TOTAL",'Jan 18'!A:H,2) -> AUBERCHICOURT
