Workbook

Sheet Tableau de bord
A1: nom | B1: Proch vidange | C1: proch révision
A2: TRANSPORTER VOLKSWAGEN | B2: ='Transporter VKW'!D7 -> 43801 | C2: ='Transporter VKW'!D8 -> 41718
A3: CRAFTER EF322QD | B3: ='Crafter EF322QD'!D7 -> 43543 | C3: ='Crafter EF322QD'!D8 -> 42768
A4: IVECO 54CFJ44 | B4: ='IVECO 54CFJ44'!D7 -> 42626 | C4: ='IVECO 54CFJ44'!D8 -> 0
A5: IVECO BG833RG | B5: ='Crafter EF322QD'!D6 -> 43119 | C5: ='Crafter EF322QD'!D8 -> 42768
A6: Renault Trafic | B6: ='Renault Trafic'!D6 -> 0 | C6: ='Renault Trafic'!D7 -> 0
A7: D.A.F. | B7: =D.A.F.!D6 -> 43355 | C7: =D.A.F.!D7 -> 43811
A8: Mercedes AZ | B8: ='Mercedes AZ'!D6 -> 0 | C8: ='Mercedes AZ'!D7 -> 0
A9: Renault Master | B9: ='Renault Master'!D6 -> 0 | C9: ='Renault Master'!D7 -> 0
A10: Crafter DG502JV | B10: ='Crafter DG502JV'!D6 -> 0 | C10: ='Crafter DG502JV'!D7 -> 0
A11: Citroën Berlingo | B11: ='Citroën Berlingo'!D6 -> 0 | C11: ='Citroën Berlingo'!D7 -> 0
A12: Manitou 1440 | B12: ='Manitou 1440'!D6 -> 0 | C12: ='Manitou 1440'!D7 -> 0
A13: Manitou 523TMU | B13: ='Manitou 523TMU'!D6 -> 0 | C13: ='Manitou 523TMU'!D7 -> 0
A14: Manitou 1030S | B14: ='Manitou 1030S'!D6 -> 0 | C14: ='Manitou 1030S'!D7 -> 0
A15: Manitou 1030ST | B15: ='Manitou 1030ST'!D6 -> 0 | C15: ='Manitou 1030ST'!D7 -> 0
A16: Mini-pelle 1615 | B16: ='Mini-pelle 1615'!D6 -> 0 | C16: ='Mini-pelle 1615'!D7 -> 0
A17: Mini-pelle 2980 | B17: ='Mini-pelle 2980'!D6 -> 0 | C17: ='Mini-pelle 2980'!D7 -> 0
A18: Mini-pelle 6T | B18: ='Mini-pelle 6T'!D6 -> 0 | C18: ='Mini-pelle 6T'!D7 -> 0
A19: Dumper | B19: =Dumper!D6 -> 0 | C19: =Dumper!D7 -> 0
A20: Remorque Jaunin | B20: ='Remorque Jaunin'!D6 -> 0 | C20: ='Remorque Jaunin'!D7 -> 0
A21: Remorque Cougnaud | B21: ='Remorque Cougnaud'!D6 -> 0 | C21: ='Remorque Cougnaud'!D7 -> 0
A22: Remorque Thievin | B22: ='Remorque Thievin'!D6 -> 0 | C22: ='Remorque Thievin'!D7 -> 0
A23: Machine à enduire | B23: ='Machine à enduire'!D6 -> 0 | C23: ='Machine à enduire'!D7 -> 0
A24: Compresseur XAS 56 | B24: ='Compresseur XAS 56'!D6 -> 0 | C24: ='Compresseur XAS 56'!D7 -> 0
A25: Dameuse ABG | B25: ='Dameuse ABG'!D6 -> 42075 | C25: ='Dameuse ABG'!D7 -> 43338
A26: Bétonnières | B26: =Bétonnières!D6 -> 0 | C26: =Bétonnières!D7 -> 0
A27: Electroportatif | B27: =Electroportatif!D6 -> 0 | C27: =Electroportatif!D7 -> 0

Sheet Crafter EF322QD
B2: CRAFTER VOLKSWAGEN
B4: Acquisition: | D4: 42614
B5: Immatriculation: | D5: EF 322 QD
B6: Dernière vidange | D6: 43119
B7: Prochaine vidange | D7: =EDATE(D6,14) -> 43543
B8: Prochain CT | D8: 42768
B10: DATE | C10: KILOMETRAGE | D10: INTERVENANT | E10: DESCRIPTION DES TRAVAUX
B11: 43119 | C11: 11809 | D11: Garage Peugeot L.B | E11: Révision des 10000kms Forfait vidange + 24 contrôles Remplacer filtre à huile

Sheet Transporter VKW
B2: TRANSPORTER VOLKSWAGEN
B4: Acquisition: | D4: 41974
B5: Immatriculation: | D5: DA 298 BK
B6: Dernière vidange | D6: 43375
B7: Prochaine vidange: | D7: =EDATE(D6,14) -> 43801
B8: Contrôle technique: | D8: 41718
B10: DATE | C10: KILOMETRAGE | D10: INTERVENANT | E10: DESCRIPTION DES TRAVAUX
B11: 41995 | D11: Div St Herblain | E11: Pose faisceau attelage - Contrôle direction OK - Ronflement: pneus qui font du bruit, pneus non usés
B12: 42003 | D12: J.C. Pascal | E12: Préparation et pose d'une galerie aluminum
B13: 42115 | C13: 74805 | D13: Garage L.B. | E13: Révision 70 000kms - Forfait vidange + 24 contrôles - Remplacer filtre à huile - Remplacer filtre à pollen - Remplacer cartouche filtre à garde (Remplacement changements pneus AV)
B14: 42492 | C14: 76139 | D14: Garage L.B. | E14: Pneus avant + remise en place roue de secours, essuie glace avant (2), à prévoir: remplacement plaquettes freins avant
B15: 42580 | C15: 82134 | D15: Garage Bossis | E15: Peinture coquille rétro droit + rétroviseur droit
B16: 42643 | C16: 85625 | D16: Garage Bossis | E16: Remplacement 2 amortisseurs AR, plaquettes de freins AV + AR
B17: 42704 | C17: 89616 | D17: Garage Bossis | E17: Dépose, pose calandre avant en partiel pare choc AV et pare boue AVG - Réparation réservoir lave glace
B18: 42766 | C18: 92174 | D18: Garage Peugeot L.B. | E18: Réparation roue tubless AVD
B19: 42812 | C19: 95102 | D19: Garage Peugeot L.B. | E19: Révision 95000kms - forfait vidange + 24 contrôles - Remplacer filtre à huile - Remplacement parebrise
B20: 43034 | C20: 105475 | D20: Garage Peugeot L.B. | E20: Contrôle technique, Remplacer pneus avant avec équilibrage, Montage du kit Parrot
B21: 43375 | C21: 121454 | D21: Garrage Bossis | E21: Révision 120 000km, forfait vidange + 24 contrôles, remplacer filtre à huile
B22: 43465 | C22: 127898 | D22: Garage Bossis | E22: Contrôle technique pollution, remplacemebt batterie et contrôle débit de charge alternateur, Dépose pose auto radio

Sheet IVECO 54CFJ44
B2: CAMION IVECO
B4: Acquisition: | D4: 39448
B5: Immatriculation: | D5: 54 CFJ 44
B6: Prochaine vidange: | D6: 42412
B7: Révision prévue: | D7: 42626
B9: DATE | C9: KILOMETRAGE | D9: INTERVENANT | E9: DESCRIPTION DES TRAVAUX
B10: 39882 | C10: 9619 | D10: Garage GUY DABIN | E10: Réparation roue TUBLESS
B11: 39899 | D11: Garage GUY DABIN | E11: Vidange, dépose et repose cartouche filtre huile, remplacement lampe répétiteur rétro gauche
B12: 40138 | D12: Garage GUY DABIN | E12: Eclairage avant et arrière: veilleuse avant gauche et arrière, stop arrière droit avec dépose grilles de protection
B13: 40527 | D13: Méca Services | E13: Vidange moteur, contrôle niveaux, remplacé filtre à huile, remplacé ampoule, contrôle technique
B14: 41067 | C14: 36706 | D14: SDVI | E14: Remplacement levier de vitesse
B15: 41075 | D15: Méca Services | E15: Remplace mono pression d'huile
B16: 41305 | C16: 41683 | D16: Garage GUY DABIN | E16: Dépose-pose plaquettes de frein AR, dégripper étriers, réparer branchement du moteur benne, remplaccer cosses, remplacer couvercle de feu ARD et clignotant retro gauche, contrôle niveaux
B17: 41333 | C17: 42188 | D17: Garage GUY DABIN | E17: Remplacer un pneu, pose roue de secours à l'ARD
B18: 41363 | C18: 43590 | D18: Garage GUY DABIN | E18: Dépose-pose plaquette frein AV, remplacer lampe veilleuse ARD, remplacer lampe feu de recul, contrôle batterie et nettoyage des cosses
B19: 41486 | D19: Garage GUY DABIN | E19: Dépose-pose plaquettes de frein AV, réglage trains au banc électrique, contrôle technique visite complémentaire
B20: 41517 | C20: 48427 | D20: Garage SCI Bossis | E20: Révision 50 000kms, forfait vidange + 24 contrôles, remplacer filtre à huile, dépose/pose cartouche de filtre à gazole, dépose/pose élément de filtre à air, remplacement filtre à polle, recherche de panne sur benne, dépose moteur hydraulique et démontage, remise en place d'un clips et contrôle des joints, remise à niveaux huile hydraulique
B21: 41570 | C21: 49763 | D21: Garage Peugeot L.B. | E21: Dépannage au dépôt, remplacement batterie
B22: 41578 | C22: 49950 | D22: Garage Peugeot L.B. | E22: Contrôle circuit de charge, remplacement alternateur, réparation témoin de plaquette ARG, alternateur échange standard
B23: 41621 | C23: 50984 | D23: Garage Peugeot L.B. | E23: Diagnostic et recherche de panne, remplacement démarreur
B24: 41694 | D24: Garage Peugeot L.B. | E24: Remplacer pneus AV et AR avec équilibrage, remplacer lampes stop gauche et droite
B25: 41815 | C25: 55305 | D25: Garage Peugeot L.B. | E25: Contrôle technique, regl trains au banc électronique, remplacement lampe clignotant ARD, remplacement roue AVD avec roue de secours
B26: 41927 | C26: 58329 | D26: Garage Peugeot L.B. | E26: Dépose/pose levier commande de vitesse, dépose/pose bloc de commande pour nettoyage
B27: 42061 | C27: 61419 | D27: Garage Peugeot L.B. | E27: Révision 60 000kms, forfait vidange + 24 contrôles, remplacer filtre à huile, remplacer pneu arrière droit avec équilibrage, permuter pneumatique ARD et ARG, dépose partiel de la planche de bord, blocage des volets de mixage de chauffage
B28: 42152 | C28: 63879 | E28: Révision embrayage - contrôle technique pollution
B29: 42390 | C29: 68261 | D29: Garage Peugeot L.B. | E29: Remplacement rétroviseur ext gauche, réparation roue tubless ARG
B30: 42613 | C30: 74240 | D30: L.BOSSIS. | E30: Remplacement rétroviseur gauche, contrôle technique, remplacement plaquettes de freins AR
B31: 42703 | C31: 76447 | D31: Garage Laurent Bossis | E31: Remplacement batterie et contrôle charge
B32: 42704 | C32: 76755 | D32: Garage BOSSIS | E32: Contrôle circuit électrique prise attelage, remplacement lampe clignotant de rétroviseur gauche, contrôle des niveaux, contrôle jeux transmissions, remplacement croisillons, roulements, remplacement fusible prise d'attelage, essais après travaux
B33: 42766 | C33: 78070 | D33: Garage BOSSIS | E33: Réparation roue TUBLESS AVD
B34: 42979 | C34: 80876 | D34: Garage BOSSIS | E34: Révision 80 000kms forfait vidange + 24 contrôles, remplacer filtre à huile
B35: 43008 | C35: 83144 | D35: Garage BOSSIS | E35: Contrôle technique poullution du 26/09/2017, remplacement roue AVD par roue de secours, remplacement levier de vitesses et soufflet
B36: 43400 | C36: 88128 | D36: Garage BOSSIS | E36: Remplacement éclaireur de plaque ARD, remplacer pneus AR avec équilibrage, permutation roue AVG avec roue ARD, contrôle technique fait le 22/08/18, pose grille de protection feux AR et remplacement cabochon de feux
B37: 43465 | C37: 90549 | D37: Garage BOSSIS | E37: Remplacement plaquettes de frein AV et témoins, contrôle plaquette de freins AR, remplacement témoin plaquettes de freins AR

Sheet IVECO BG833RG
B2: CAMION IVECO
B4: Acquisition: | D4: ?
B5: Immatriculation: | D5: BG 833 RG
B6: Prochaine vidange:
B7: Révision prévue:
B9: DATE | C9: KILOMETRAGE | D9: INTERVENANT | E9: DESCRIPTION DES TRAVAUX
B10: 39851 | C10: 16697 | D10: Pascal BREBION | E10: Vidange niveaux, pression pneus, contrôle éclairage/freins/courroie, remplacer filtre à huile, 2 pneus avant
B11: 40081 | C11: 21205 | D11: Garage GUY DABIN | E11: Dépose-pose roue ARG, mise en place roue de secours, dépose-pose pneu, redressé la jante, contrôle batterie+circuit de charge, rpt batterie et contrôle niveaux
B12: 40147 | C12: 22488 | D12: Méca Services | E12: Remplacer levier de vitesse + essai
B13: 40474 | C13: 28174 | D13: Garage GUY DABIN | E13: Révision des 30 000kms, forfait vidange, dépose et pose cartouche filtre huile, échange élément filtre à combustible, dépose et pose élément filtre à air, échange filtre à pollen, remplacer essui-glace, remplacer feu de plaque, remplacer platine relevé vitre
B14: 40540 | D14: Méca Services | E14: Glace rétro
B15: 40542 | D15: Garage GUY DABIN | E15: Dépannage sur chantier aux Raudières, contrôle et remplacement batterie
B16: 40907 | D16: Garage GUY DABIN | E16: Révision des 40 000kms, forfait vidange + 24 contrôles, dépose-pose cartouche de filtre à huile, remplacer feu ARG, remplacer transparent de feu ARD, remplacer répétiteur de clignotant sur rétroviseur, réglages des phares, précontrole
B17: 41193 | C17: 46837 | D17: Garage GUY DABIN | E17: Remplacer pneus avant avec équilibrage, contrôle niveaux, remplacer levier vitesses, levier support
B18: 41305 | C18: 49118 | D18: Garage GUY DABIN | E18: Révision 50 000kms, forfait vidange + 24 contrôles, remplacer filtre à huile, joint diamètre 16x2, filtre à huile, Yacco synthèse 5W40, liquide lave vitre, dépose-pose plaquettes de freins AR, remplacer 1 pneu, remplacer clignotant AVD, remplacer lampe de feu de plaque police, jeu de plaquettes freins AR, jeu témoin plaquettes freins AR, clignotant, lampe 12V-R5W, Pneus 195/75/16
B19: 41546 | D19: Garage GUY DABIN | E19: Remplacer pneus AR, équilibrage côté droit, contrôle niveaux
B20: 41517 | D20: Garage SCI Bossis | E20: Contrôle technique
B21: 41649 | D21: Garage SCI Bossis | E21: Révision éclairage, contrôle de la prise de l'attelage et nettoyage, contrôle faisceaux et fusibles, remplacement plaquettes de frein AV et témoin, essais
B22: 41815 | C22: 64087 | D22: Garage SCI Bossis | E22: Remplacement miroir extérieur AVD supérieur, CT pollution
B23: 41972 | C23: 67595 | D23: Garage SCI Bossis | E23: Révision 70 000kms, forfait vidange + 24 contrôles, remplacement filtre à huile, dépose-pose cartouche de filtre à gazole, dépose-pose élément de filtre à air, remplacement filtre à pollen, remplacement lampe
B24: 42055 | C24: 69186 | D24: Garage SCI Bossis | E24: Réparation faisceaux ARD et ARG, dépose-pose feux AR complet et grilles 2 côtés
B25: 42202 | C25: 73378 | D25: Garage SCI Bossis | E25: Remplacer cosses négatif et positif de la batterie
B26: 42216 | C26: 73779 | D26: Garage Peugeot L.B. | E26: Remplacer un pneu arrière avec équilibrage, permutation AV et AR, remplacement lampe veilleuse droite, remplacement essui-glace AV, contrôle technique, diagnostic+remplacement lave vitre AVG
B27: 42390 | C27: 76151 | D27: Garage Peugeot L.B. | E27: Remplacer un pneu avec équilibrage, remplacement pneus AVD avec roue de secours, remplacement cable de freins à mains
B28: 42551 | C28: 80222 | D28: Garage Peugeot L.B. | E28: Remplacement disques et plaquettes de freins AR, refixer protecteur bas de caisses D et G
B29: 42643 | C29: 82539 | D29: Garage Peugeot L.B. | E29: Remplacement boitier de renvoi de commande des vitesses au volant
B30: 42734 | D30: Garage Bossis | E30: Contrôle technique pollution
B31: 42766 | C31: 84587 | D31: Garage Peugeot L.B. | E31: Préparation roue tubless ARG, remplacement lampe plaque de police AR
B32: 42794 | C32: 85532 | D32: Garage Peugeot L.B. | E32: Remplacement prise attelage
B33: 43008 | C33: 89763 | D33: Garage Peugeot L.B. | E33: CT du 28/09/17, réparation roue tubless AVD + roue ARG intérieur, remplacement roue AVD par roue de secours
B34: 42979

Sheet Renault Trafic
B2: RENAULT TRAFIC
B4: Acquisition: | D4: 38869
B5: Immatriculation: | D5: 918 BVS 44
B6: Prochaine vidange:
B7: Révision prévue:
B9: DATE | C9: KILOMETRAGE | D9: INTERVENANT | E9: DESCRIPTION DES TRAVAUX

Sheet D.A.F.
B2: 18T DAF
B4: Acquisition: | D4: 39692
B5: Immatriculation: | D5: 104 CKH 44
B6: Prochaine vidange: | D6: 43355
B7: Révision prévue: | D7: 43811
B9: DATE | C9: KILOMETRAGE | D9: INTERVENANT | E9: DESCRIPTION DES TRAVAUX

Sheet Mercedes AZ
B2: MERCEDES
B4: Acquisition: | D4: ?
B5: Immatriculation: | D5: AZ 071 HX
B6: Prochaine vidange:
B7: Révision prévue:
B9: DATE | C9: KILOMETRAGE | D9: INTERVENANT | E9: DESCRIPTION DES TRAVAUX

Sheet Renault Master
B2: RENAULT MASTER
B4: Acquisition: | D4: 41061
B5: Immatriculation: | D5: CH 726 BE
B6: Prochaine vidange:
B7: Révision prévue:
B9: DATE | C9: KILOMETRAGE | D9: INTERVENANT | E9: DESCRIPTION DES TRAVAUX

Sheet Crafter DG502JV
B2: CRAFTER VOLKSWAGEN
B4: Acquisition: | D4: 41791
B5: Immatriculation: | D5: DG 502 JV
B6: Prochaine vidange:
B7: Révision prévue:
B9: DATE | C9: KILOMETRAGE | D9: INTERVENANT | E9: DESCRIPTION DES TRAVAUX

Sheet Citroën Berlingo
B2: CITROËN BERLINGO
B4: Acquisition: | D4: ?
B5: Immatriculation: | D5: BW 529 GZ
B6: Prochaine vidange:
B7: Révision prévue:
B9: DATE | C9: KILOMETRAGE | D9: INTERVENANT | E9: DESCRIPTION DES TRAVAUX

Sheet Manitou 1440
B2: MANITOU 1440
B4: Acquisition: | D4: 39448
B5: Immatriculation:
B6: Prochaine vidange:
B7: Révision prévue:
B9: DATE | C9: KILOMETRAGE | D9: INTERVENANT | E9: DESCRIPTION DES TRAVAUX

Sheet Manitou 523TMU
B2: MANITOU 523 TMU
B4: Acquisition: | D4: 38991
B5: Immatriculation:
B6: Prochaine vidange:
B7: Révision prévue:
B9: DATE | C9: KILOMETRAGE | D9: INTERVENANT | E9: DESCRIPTION DES TRAVAUX

Sheet Manitou 1030S
B2: MANITOU 1030S
B4: Acquisition: | D4: 38139
B5: Immatriculation:
B6: Prochaine vidange:
B7: Révision prévue:
B9: DATE | C9: KILOMETRAGE | D9: INTERVENANT | E9: DESCRIPTION DES TRAVAUX

Sheet Manitou 1030ST
B2: MANITOU 1030ST
B4: Acquisition: | D4: 41640
B5: Immatriculation:
B6: Prochaine vidange:
B7: Révision prévue:
B9: DATE | C9: KILOMETRAGE | D9: INTERVENANT | E9: DESCRIPTION DES TRAVAUX

Sheet Mini-pelle 1615
B2: MINI-PELLE 1615kg
B4: Acquisition: | D4: 41426
B5: Immatriculation:
B6: Prochaine vidange:
B7: Révision prévue:
B9: DATE | C9: KILOMETRAGE | D9: INTERVENANT | E9: DESCRIPTION DES TRAVAUX

Sheet Mini-pelle 2980
B2: MINI-PELLE 2980kg
B4: Acquisition: | D4: 41426
B5: Immatriculation:
B6: Prochaine vidange:
B7: Révision prévue:
B9: DATE | C9: KILOMETRAGE | D9: INTERVENANT | E9: DESCRIPTION DES TRAVAUX

Sheet Mini-pelle 6T
B2: MINI-PELLE 6T
B4: Acquisition: | D4: 43466
B5: Immatriculation:
B6: Prochaine vidange:
B7: Révision prévue:
B9: DATE | C9: KILOMETRAGE | D9: INTERVENANT | E9: DESCRIPTION DES TRAVAUX

Sheet Dumper
B2: DUMPER AUSA
B4: Acquisition: | D4: 38504
B5: Immatriculation:
B6: Prochaine vidange:
B7: Révision prévue:
B9: DATE | C9: KILOMETRAGE | D9: INTERVENANT | E9: DESCRIPTION DES TRAVAUX

Sheet Remorque Jaunin
B2: REMORQUE JAUNIN
B4: Acquisition: | D4: 39083
B5: Immatriculation: | D5: 412 CCS 44
B6: Prochaine vidange:
B7: Révision prévue:
B9: DATE | C9: KILOMETRAGE | D9: INTERVENANT | E9: DESCRIPTION DES TRAVAUX

Sheet Remorque Cougnaud
B2: REMORQUE COUGNAUD
B4: Acquisition: | D4: 34820
B5: Immatriculation: | D5: 292 YT 44
B6: Prochaine vidange:
B7: Révision prévue:
B9: DATE | C9: KILOMETRAGE | D9: INTERVENANT | E9: DESCRIPTION DES TRAVAUX

Sheet Remorque Thievin
B2: REMORQUE THIEVIN
B4: Acquisition: | D4: 41456
B5: Immatriculation:
B6: Prochaine vidange:
B7: Révision prévue:
B9: DATE | C9: KILOMETRAGE | D9: INTERVENANT | E9: DESCRIPTION DES TRAVAUX

Sheet Machine à enduire
B2: MACHINE À ENDUIRE
B4: Acquisition: | D4: 42064
B5: Immatriculation: | D5: DP 745 MD
B6: Prochaine vidange:
B7: Révision prévue:
B9: DATE | C9: KILOMETRAGE | D9: INTERVENANT | E9: DESCRIPTION DES TRAVAUX

Sheet Compresseur XAS 56
B2: COMPRESSEUR XAS 56
B4: Acquisition: | D4: 37742
B5: Immatriculation:
B6: Prochaine vidange:
B7: Révision prévue:
B9: DATE | C9: KILOMETRAGE | D9: INTERVENANT | E9: DESCRIPTION DES TRAVAUX

Sheet Dameuse ABG
B2: DAMEUSE ABG VP 1300D
B4: Acquisition: | D4: 37288
B5: Immatriculation:
B6: Prochaine vidange: | D6: 42075
B7: Révision prévue: | D7: 43338
B9: DATE | C9: KILOMETRAGE | D9: INTERVENANT | E9: DESCRIPTION DES TRAVAUX

Sheet Bétonnières
B2: BÉTONNIÈRES
B4: Acquisition:
B5: Immatriculation:
B6: Prochaine vidange:
B7: Révision prévue:
B9: DATE | C9: KILOMETRAGE | D9: INTERVENANT | E9: DESCRIPTION DES TRAVAUX

Sheet Electroportatif
B2: CRAFTER VOLKSWAGEN
B4: Acquisition: | D4: 42614
B5: Immatriculation: | D5: EF 322 QD
B6: Prochaine vidange:
B7: Révision prévue:
B9: DATE | C9: KILOMETRAGE | D9: INTERVENANT | E9: DESCRIPTION DES TRAVAUX
