Workbook

Sheet Tableau de bord
A1: nom | B1: Proch vidange | C1: proch révision
A2: TRANSPORTER VOLKSWAGEN | B2: ='Transporter VKW'!D7 -> 43801 | C2: ='Transporter VKW'!D9 -> 43764
A3: CRAFTER EF322QD | B3: ='Crafter EF322QD'!D7 -> 43543 | C3: ='Crafter EF322QD'!D9 -> 43498
A4: IVECO 54CFJ44 | B4: ='IVECO 54CFJ44'!D7 -> 43583 | C4: ='IVECO 54CFJ44'!D9 -> 43600 | F4: Aujourd'hui:
A5: IVECO BG833RG | B5: ='Crafter EF322QD'!D6 -> 43119 | C5: ='Crafter EF322QD'!D9 -> 43498 | F5: =TODAY() -> 43581
A6: Renault Trafic | B6: ='Renault Trafic'!#REF! -> #REF! | C6: ='Renault Trafic'!#REF! -> #REF!
A7: D.A.F. | B7: =D.A.F.!#REF! -> #REF! | C7: =D.A.F.!#REF! -> #REF!
A8: Mercedes AZ | B8: ='Mercedes AZ'!#REF! -> #REF! | C8: ='Mercedes AZ'!#REF! -> #REF!
A9: Renault Master | B9: ='Renault Master'!#REF! -> #REF! | C9: ='Renault Master'!#REF! -> #REF!
A10: Crafter DG502JV | B10: ='Crafter DG502JV'!#REF! -> #REF! | C10: ='Crafter DG502JV'!#REF! -> #REF!
A11: Citroën Berlingo | B11: ='Citroën Berlingo'!#REF! -> #REF! | C11: ='Citroën Berlingo'!#REF! -> #REF!
A12: Manitou 1440 | B12: ='Manitou 1440'!#REF! -> #REF! | C12: ='Manitou 1440'!#REF! -> #REF!
A13: Manitou 523TMU | B13: ='Manitou 523TMU'!#REF! -> #REF! | C13: ='Manitou 523TMU'!#REF! -> #REF!
A14: Manitou 1030S | B14: ='Manitou 1030S'!#REF! -> #REF! | C14: ='Manitou 1030S'!#REF! -> #REF!
A15: Manitou 1030ST | B15: ='Manitou 1030ST'!#REF! -> #REF! | C15: ='Manitou 1030ST'!#REF! -> #REF!
A16: Mini-pelle 1615 | B16: ='Mini-pelle 1615'!#REF! -> #REF! | C16: ='Mini-pelle 1615'!#REF! -> #REF!
A17: Mini-pelle 2980 | B17: ='Mini-pelle 2980'!#REF! -> #REF! | C17: ='Mini-pelle 2980'!#REF! -> #REF!
A18: Mini-pelle 6T | B18: ='Mini-pelle 6T'!#REF! -> #REF! | C18: ='Mini-pelle 6T'!#REF! -> #REF!
A19: Dumper | B19: =Dumper!#REF! -> #REF! | C19: =Dumper!#REF! -> #REF!
A20: Remorque Jaunin | B20: ='Remorque Jaunin'!#REF! -> #REF! | C20: ='Remorque Jaunin'!#REF! -> #REF!
A21: Remorque Cougnaud | B21: ='Remorque Cougnaud'!#REF! -> #REF! | C21: ='Remorque Cougnaud'!#REF! -> #REF!
A22: Remorque Thievin | B22: ='Remorque Thievin'!#REF! -> #REF! | C22: ='Remorque Thievin'!#REF! -> #REF!
A23: Machine à enduire | B23: ='Machine à enduire'!#REF! -> #REF! | C23: ='Machine à enduire'!#REF! -> #REF!
A24: Compresseur XAS 56 | B24: ='Compresseur XAS 56'!#REF! -> #REF! | C24: ='Compresseur XAS 56'!#REF! -> #REF!
A25: Dameuse ABG | B25: ='Dameuse ABG'!#REF! -> #REF! | C25: ='Dameuse ABG'!#REF! -> #REF!
A26: Bétonnières | B26: =Bétonnières!#REF! -> #REF! | C26: =Bétonnières!#REF! -> #REF!
A27: Electroportatif | B27: =Electroportatif!#REF! -> #REF! | C27: =Electroportatif!#REF! -> #REF!

Sheet Crafter EF322QD
B2: CRAFTER VOLKSWAGEN
C4: Acquisition: | D4: 42614
C5: Immatriculation: | D5: EF 322 QD
C6: Dernière vidange | D6: 43119
C7: Prochaine vidange | D7: =EDATE(D6,14) -> 43543
C8: Dernier CT | D8: 42768
C9: Prochain CT | D9: =EDATE(D8,24) -> 43498
B11: DATE | C11: KILOMETRAGE | D11: INTERVENANT | E11: DESCRIPTION DES TRAVAUX
B12: 43119 | C12: 11809 | D12: Garage Peugeot L.B | E12: Révision des 10000kms Forfait vidange + 24 contrôles Remplacer filtre à huile

Sheet Transporter VKW
B2: TRANSPORTER VOLKSWAGEN
C4: Acquisition: | D4: 41974
C5: Immatriculation: | D5: DA 298 BK
C6: Dernière vidange | D6: 43375
C7: Prochaine vidange: | D7: =EDATE(D6,14) -> 43801
C8: Dernier CT: | D8: 43034
C9: Prochain CT: | D9: =EDATE(D8,24) -> 43764
B11: DATE | C11: KILOMETRAGE | D11: INTERVENANT | E11: DESCRIPTION DES TRAVAUX
B12: 41995 | D12: Div St Herblain | E12: Pose faisceau attelage - Contrôle direction OK - Ronflement: pneus qui font du bruit, pneus non usés
B13: 42003 | D13: J.C. Pascal | E13: Préparation et pose d'une galerie aluminum
B14: 42115 | C14: 74805 | D14: Garage L.B. | E14: Révision 70 000kms - Forfait vidange + 24 contrôles - Remplacer filtre à huile - Remplacer filtre à pollen - Remplacer cartouche filtre à garde (Remplacement changements pneus AV)
B15: 42492 | C15: 76139 | D15: Garage L.B. | E15: Pneus avant + remise en place roue de secours, essuie glace avant (2), à prévoir: remplacement plaquettes freins avant
B16: 42580 | C16: 82134 | D16: Garage Bossis | E16: Peinture coquille rétro droit + rétroviseur droit
B17: 42643 | C17: 85625 | D17: Garage Bossis | E17: Remplacement 2 amortisseurs AR, plaquettes de freins AV + AR
B18: 42704 | C18: 89616 | D18: Garage Bossis | E18: Dépose, pose calandre avant en partiel pare choc AV et pare boue AVG - Réparation réservoir lave glace
B19: 42766 | C19: 92174 | D19: Garage Peugeot L.B. | E19: Réparation roue tubless AVD
B20: 42812 | C20: 95102 | D20: Garage Peugeot L.B. | E20: Révision 95000kms - forfait vidange + 24 contrôles - Remplacer filtre à huile - Remplacement parebrise
B21: 43034 | C21: 105475 | D21: Garage Peugeot L.B. | E21: Contrôle technique, Remplacer pneus avant avec équilibrage, Montage du kit Parrot
B22: 43375 | C22: 121454 | D22: Garrage Bossis | E22: Révision 120 000km, forfait vidange + 24 contrôles, remplacer filtre à huile
B23: 43465 | C23: 127898 | D23: Garage Bossis | E23: Contrôle technique pollution, remplacemebt batterie et contrôle débit de charge alternateur, Dépose pose auto radio

Sheet IVECO 54CFJ44
B2: CAMION IVECO
C4: Acquisition: | D4: 39448
C5: Immatriculation: | D5: 54 CFJ 44
C6: Dernière vidange:
C7: Prochaine vidange: | D7: 43583
C8: Dernièr CT:
C9: Prochain CT: | D9: 43600
B11: DATE | C11: KILOMETRAGE | D11: INTERVENANT | E11: DESCRIPTION DES TRAVAUX
B12: 39882 | C12: 9619 | D12: Garage GUY DABIN | E12: Réparation roue TUBLESS
B13: 39899 | D13: Garage GUY DABIN | E13: Vidange, dépose et repose cartouche filtre huile, remplacement lampe répétiteur rétro gauche
B14: 40138 | D14: Garage GUY DABIN | E14: Eclairage avant et arrière: veilleuse avant gauche et arrière, stop arrière droit avec dépose grilles de protection
B15: 40527 | D15: Méca Services | E15: Vidange moteur, contrôle niveaux, remplacé filtre à huile, remplacé ampoule, contrôle technique
B16: 41067 | C16: 36706 | D16: SDVI | E16: Remplacement levier de vitesse
B17: 41075 | D17: Méca Services | E17: Remplace mono pression d'huile
B18: 41305 | C18: 41683 | D18: Garage GUY DABIN | E18: Dépose-pose plaquettes de frein AR, dégripper étriers, réparer branchement du moteur benne, remplaccer cosses, remplacer couvercle de feu ARD et clignotant retro gauche, contrôle niveaux
B19: 41333 | C19: 42188 | D19: Garage GUY DABIN | E19: Remplacer un pneu, pose roue de secours à l'ARD
B20: 41363 | C20: 43590 | D20: Garage GUY DABIN | E20: Dépose-pose plaquette frein AV, remplacer lampe veilleuse ARD, remplacer lampe feu de recul, contrôle batterie et nettoyage des cosses
B21: 41486 | D21: Garage GUY DABIN | E21: Dépose-pose plaquettes de frein AV, réglage trains au banc électrique, contrôle technique visite complémentaire
B22: 41517 | C22: 48427 | D22: Garage SCI Bossis | E22: Révision 50 000kms, forfait vidange + 24 contrôles, remplacer filtre à huile, dépose/pose cartouche de filtre à gazole, dépose/pose élément de filtre à air, remplacement filtre à polle, recherche de panne sur benne, dépose moteur hydraulique et démontage, remise en place d'un clips et contrôle des joints, remise à niveaux huile hydraulique
B23: 41570 | C23: 49763 | D23: Garage Peugeot L.B. | E23: Dépannage au dépôt, remplacement batterie
B24: 41578 | C24: 49950 | D24: Garage Peugeot L.B. | E24: Contrôle circuit de charge, remplacement alternateur, réparation témoin de plaquette ARG, alternateur échange standard
B25: 41621 | C25: 50984 | D25: Garage Peugeot L.B. | E25: Diagnostic et recherche de panne, remplacement démarreur
B26: 41694 | D26: Garage Peugeot L.B. | E26: Remplacer pneus AV et AR avec équilibrage, remplacer lampes stop gauche et droite
B27: 41815 | C27: 55305 | D27: Garage Peugeot L.B. | E27: Contrôle technique, regl trains au banc électronique, remplacement lampe clignotant ARD, remplacement roue AVD avec roue de secours
B28: 41927 | C28: 58329 | D28: Garage Peugeot L.B. | E28: Dépose/pose levier commande de vitesse, dépose/pose bloc de commande pour nettoyage
B29: 42061 | C29: 61419 | D29: Garage Peugeot L.B. | E29: Révision 60 000kms, forfait vidange + 24 contrôles, remplacer filtre à huile, remplacer pneu arrière droit avec équilibrage, permuter pneumatique ARD et ARG, dépose partiel de la planche de bord, blocage des volets de mixage de chauffage
B30: 42152 | C30: 63879 | E30: Révision embrayage - contrôle technique pollution
B31: 42390 | C31: 68261 | D31: Garage Peugeot L.B. | E31: Remplacement rétroviseur ext gauche, réparation roue tubless ARG
B32: 42613 | C32: 74240 | D32: L.BOSSIS. | E32: Remplacement rétroviseur gauche, contrôle technique, remplacement plaquettes de freins AR
B33: 42703 | C33: 76447 | D33: Garage Laurent Bossis | E33: Remplacement batterie et contrôle charge
B34: 42704 | C34: 76755 | D34: Garage BOSSIS | E34: Contrôle circuit électrique prise attelage, remplacement lampe clignotant de rétroviseur gauche, contrôle des niveaux, contrôle jeux transmissions, remplacement croisillons, roulements, remplacement fusible prise d'attelage, essais après travaux
B35: 42766 | C35: 78070 | D35: Garage BOSSIS | E35: Réparation roue TUBLESS AVD
B36: 42979 | C36: 80876 | D36: Garage BOSSIS | E36: Révision 80 000kms forfait vidange + 24 contrôles, remplacer filtre à huile
B37: 43008 | C37: 83144 | D37: Garage BOSSIS | E37: Contrôle technique poullution du 26/09/2017, remplacement roue AVD par roue de secours, remplacement levier de vitesses et soufflet
B38: 43400 | C38: 88128 | D38: Garage BOSSIS | E38: Remplacement éclaireur de plaque ARD, remplacer pneus AR avec équilibrage, permutation roue AVG avec roue ARD, contrôle technique fait le 22/08/18, pose grille de protection feux AR et remplacement cabochon de feux
B39: 43465 | C39: 90549 | D39: Garage BOSSIS | E39: Remplacement plaquettes de frein AV et témoins, contrôle plaquette de freins AR, remplacement témoin plaquettes de freins AR

Sheet IVECO BG833RG
B2: Iveco BG833RG
C4: Acquisition: | D4: ?
C5: Immatriculation: | D5: BG 833 RG
C6: Dernière vidange:
C7: Prochaine vidange:
C8: Dernier CT: | D8: 43413
C9: Prochain CT: | D9: =EDATE(D8,24) -> 44144
B11: DATE | C11: KILOMETRAGE | D11: INTERVENANT | E11: DESCRIPTION DES TRAVAUX
B12: 39851 | C12: 16697 | D12: Pascal BREBION | E12: Vidange niveaux, pression pneus, contrôle éclairage/freins/courroie, remplacer filtre à huile, 2 pneus avant
B13: 40081 | C13: 21205 | D13: Garage GUY DABIN | E13: Dépose-pose roue ARG, mise en place roue de secours, dépose-pose pneu, redressé la jante, contrôle batterie+circuit de charge, rpt batterie et contrôle niveaux
B14: 40147 | C14: 22488 | D14: Méca Services | E14: Remplacer levier de vitesse + essai
B15: 40474 | C15: 28174 | D15: Garage GUY DABIN | E15: Révision des 30 000kms, forfait vidange, dépose et pose cartouche filtre huile, échange élément filtre à combustible, dépose et pose élément filtre à air, échange filtre à pollen, remplacer essui-glace, remplacer feu de plaque, remplacer platine relevé vitre
B16: 40540 | D16: Méca Services | E16: Glace rétro
B17: 40542 | D17: Garage GUY DABIN | E17: Dépannage sur chantier aux Raudières, contrôle et remplacement batterie
B18: 40907 | D18: Garage GUY DABIN | E18: Révision des 40 000kms, forfait vidange + 24 contrôles, dépose-pose cartouche de filtre à huile, remplacer feu ARG, remplacer transparent de feu ARD, remplacer répétiteur de clignotant sur rétroviseur, réglages des phares, précontrole
B19: 41193 | C19: 46837 | D19: Garage GUY DABIN | E19: Remplacer pneus avant avec équilibrage, contrôle niveaux, remplacer levier vitesses, levier support
B20: 41305 | C20: 49118 | D20: Garage GUY DABIN | E20: Révision 50 000kms, forfait vidange + 24 contrôles, remplacer filtre à huile, joint diamètre 16x2, filtre à huile, Yacco synthèse 5W40, liquide lave vitre, dépose-pose plaquettes de freins AR, remplacer 1 pneu, remplacer clignotant AVD, remplacer lampe de feu de plaque police, jeu de plaquettes freins AR, jeu témoin plaquettes freins AR, clignotant, lampe 12V-R5W, Pneus 195/75/16
B21: 41546 | D21: Garage GUY DABIN | E21: Remplacer pneus AR, équilibrage côté droit, contrôle niveaux
B22: 41517 | D22: Garage SCI Bossis | E22: Contrôle technique
B23: 41649 | D23: Garage SCI Bossis | E23: Révision éclairage, contrôle de la prise de l'attelage et nettoyage, contrôle faisceaux et fusibles, remplacement plaquettes de frein AV et témoin, essais
B24: 41815 | C24: 64087 | D24: Garage SCI Bossis | E24: Remplacement miroir extérieur AVD supérieur, CT pollution
B25: 41972 | C25: 67595 | D25: Garage SCI Bossis | E25: Révision 70 000kms, forfait vidange + 24 contrôles, remplacement filtre à huile, dépose-pose cartouche de filtre à gazole, dépose-pose élément de filtre à air, remplacement filtre à pollen, remplacement lampe
B26: 42055 | C26: 69186 | D26: Garage SCI Bossis | E26: Réparation faisceaux ARD et ARG, dépose-pose feux AR complet et grilles 2 côtés
B27: 42202 | C27: 73378 | D27: Garage SCI Bossis | E27: Remplacer cosses négatif et positif de la batterie
B28: 42216 | C28: 73779 | D28: Garage Peugeot L.B. | E28: Remplacer un pneu arrière avec équilibrage, permutation AV et AR, remplacement lampe veilleuse droite, remplacement essui-glace AV, contrôle technique, diagnostic+remplacement lave vitre AVG
B29: 42390 | C29: 76151 | D29: Garage Peugeot L.B. | E29: Remplacer un pneu avec équilibrage, remplacement pneus AVD avec roue de secours, remplacement cable de freins à mains
B30: 42551 | C30: 80222 | D30: Garage Peugeot L.B. | E30: Remplacement disques et plaquettes de freins AR, refixer protecteur bas de caisses D et G
B31: 42643 | C31: 82539 | D31: Garage Peugeot L.B. | E31: Remplacement boitier de renvoi de commande des vitesses au volant
B32: 42734 | D32: Garage Bossis | E32: Contrôle technique pollution
B33: 42766 | C33: 84587 | D33: Garage Peugeot L.B. | E33: Préparation roue tubless ARG, remplacement lampe plaque de police AR
B34: 42794 | C34: 85532 | D34: Garage Peugeot L.B. | E34: Remplacement prise attelage
B35: 42979 | C35: 87816 | D35: Garage L.B. | E35: Révision 90 000kms, forfait vidange+24 contrôles, remplacer filtre à huile et levier de vitesse, réparation roue tubless AVD
B36: 43008 | C36: 89763 | D36: Garage Peugeot L.B. | E36: CT du 28/09/17, réparation roue tubless AVD + roue ARG intérieur, remplacement roue AVD par roue de secours
B37: 43038 | C37: 90409 | D37: Garage L.B. | E37: Remplacer pneu AVD + équilibrage, mise en place chambre à air sur roue déposée
B38: 42783 | C38: 92294 | D38: Garage L.B. | E38: Contrôle alimentation lève vitre AVG, dépose/pose et nettoyage platine de commande lève vitre AVG
B39: 43190 | C39: 92294 | D39: Garage L.B. | E39: Remplacement lampes feu de codes AVD et AVG
B40: 43312 | C40: 95780 | D40: Garage L.B. | E40: Remplacement platine lève vitre AVG, remplacement batterie et contrôle charge alternateur
B41: 43465 | C41: 98150 | D41: Garage L.B. | E41: Contrôle technique pollution du 09/11/18, lecture mémoire boitiers, contrôle fuite sur retour injecteur, contrôle et remplacement capteur pression sur véhicule, remplacement plaquettes de frein avant et témoins, dépose/pose vanne EGR et échangeur pour contrôle et nettoyage, réparation cosse positif de batterie, remplacement cosse batterie, nettoyage capteur de pression de suralimentation

Sheet Renault Trafic
B2: Renault Trafic
C4: Acquisition: | D4: 42614
C5: Immatriculation: | D5: EF 322 QD
C6: Dernière vidange | D6: 43119
C7: Prochaine vidange | D7: =EDATE(D6,14) -> 43543
C8: Dernier CT | D8: 42768
C9: Prochain CT | D9: =EDATE(D8,24) -> 43498
B11: DATE | C11: KILOMETRAGE | D11: INTERVENANT | E11: DESCRIPTION DES TRAVAUX
B12: 43119 | C12: 11809 | D12: Garage Peugeot L.B | E12: Révision des 10000kms Forfait vidange + 24 contrôles Remplacer filtre à huile

Sheet D.A.F.
B2: D.A.F.
C4: Acquisition: | D4: 42614
C5: Immatriculation: | D5: EF 322 QD
C6: Dernière vidange | D6: 43119
C7: Prochaine vidange | D7: =EDATE(D6,14) -> 43543
C8: Dernier CT | D8: 42768
C9: Prochain CT | D9: =EDATE(D8,24) -> 43498
B11: DATE | C11: KILOMETRAGE | D11: INTERVENANT | E11: DESCRIPTION DES TRAVAUX
B12: 43119 | C12: 11809 | D12: Garage Peugeot L.B | E12: Révision des 10000kms Forfait vidange + 24 contrôles Remplacer filtre à huile

Sheet Mercedes AZ
B2: Mercedes AZ
C4: Acquisition: | D4: 42614
C5: Immatriculation: | D5: EF 322 QD
C6: Dernière vidange | D6: 43119
C7: Prochaine vidange | D7: =EDATE(D6,14) -> 43543
C8: Dernier CT | D8: 42768
C9: Prochain CT | D9: =EDATE(D8,24) -> 43498
B11: DATE | C11: KILOMETRAGE | D11: INTERVENANT | E11: DESCRIPTION DES TRAVAUX
B12: 43119 | C12: 11809 | D12: Garage Peugeot L.B | E12: Révision des 10000kms Forfait vidange + 24 contrôles Remplacer filtre à huile

Sheet Renault Master
B2: Renault Master
C4: Acquisition: | D4: 42614
C5: Immatriculation: | D5: EF 322 QD
C6: Dernière vidange | D6: 43119
C7: Prochaine vidange | D7: =EDATE(D6,14) -> 43543
C8: Dernier CT | D8: 42768
C9: Prochain CT | D9: =EDATE(D8,24) -> 43498
B11: DATE | C11: KILOMETRAGE | D11: INTERVENANT | E11: DESCRIPTION DES TRAVAUX
B12: 43119 | C12: 11809 | D12: Garage Peugeot L.B | E12: Révision des 10000kms Forfait vidange + 24 contrôles Remplacer filtre à huile

Sheet Crafter DG502JV
B2: Crafter DG502JV
C4: Acquisition: | D4: 42614
C5: Immatriculation: | D5: EF 322 QD
C6: Dernière vidange | D6: 43119
C7: Prochaine vidange | D7: =EDATE(D6,14) -> 43543
C8: Dernier CT | D8: 42768
C9: Prochain CT | D9: =EDATE(D8,24) -> 43498
B11: DATE | C11: KILOMETRAGE | D11: INTERVENANT | E11: DESCRIPTION DES TRAVAUX
B12: 43119 | C12: 11809 | D12: Garage Peugeot L.B | E12: Révision des 10000kms Forfait vidange + 24 contrôles Remplacer filtre à huile

Sheet Citroën Berlingo
B2: Citroën Berlingo
C4: Acquisition: | D4: 42614
C5: Immatriculation: | D5: EF 322 QD
C6: Dernière vidange | D6: 43119
C7: Prochaine vidange | D7: =EDATE(D6,14) -> 43543
C8: Dernier CT | D8: 42768
C9: Prochain CT | D9: =EDATE(D8,24) -> 43498
B11: DATE | C11: KILOMETRAGE | D11: INTERVENANT | E11: DESCRIPTION DES TRAVAUX
B12: 43119 | C12: 11809 | D12: Garage Peugeot L.B | E12: Révision des 10000kms Forfait vidange + 24 contrôles Remplacer filtre à huile

Sheet Manitou 1440
B2: Manitou 1440
C4: Acquisition: | D4: 42614
C5: Immatriculation: | D5: EF 322 QD
C6: Dernière vidange | D6: 43119
C7: Prochaine vidange | D7: =EDATE(D6,14) -> 43543
C8: Dernier CT | D8: 42768
C9: Prochain CT | D9: =EDATE(D8,24) -> 43498
B11: DATE | C11: KILOMETRAGE | D11: INTERVENANT | E11: DESCRIPTION DES TRAVAUX
B12: 43119 | C12: 11809 | D12: Garage Peugeot L.B | E12: Révision des 10000kms Forfait vidange + 24 contrôles Remplacer filtre à huile

Sheet Manitou 523TMU
B2: Manitou 523TMU
C4: Acquisition: | D4: 42614
C5: Immatriculation: | D5: EF 322 QD
C6: Dernière vidange | D6: 43119
C7: Prochaine vidange | D7: =EDATE(D6,14) -> 43543
C8: Dernier CT | D8: 42768
C9: Prochain CT | D9: =EDATE(D8,24) -> 43498
B11: DATE | C11: KILOMETRAGE | D11: INTERVENANT | E11: DESCRIPTION DES TRAVAUX
B12: 43119 | C12: 11809 | D12: Garage Peugeot L.B | E12: Révision des 10000kms Forfait vidange + 24 contrôles Remplacer filtre à huile

Sheet Manitou 1030S
B2: Manitou 1030S
C4: Acquisition: | D4: 42614
C5: Immatriculation: | D5: EF 322 QD
C6: Dernière vidange | D6: 43119
C7: Prochaine vidange | D7: =EDATE(D6,14) -> 43543
C8: Dernier CT | D8: 42768
C9: Prochain CT | D9: =EDATE(D8,24) -> 43498
B11: DATE | C11: KILOMETRAGE | D11: INTERVENANT | E11: DESCRIPTION DES TRAVAUX
B12: 43119 | C12: 11809 | D12: Garage Peugeot L.B | E12: Révision des 10000kms Forfait vidange + 24 contrôles Remplacer filtre à huile

Sheet Manitou 1030ST
B2: Manitou 1030ST
C4: Acquisition: | D4: 42614
C5: Immatriculation: | D5: EF 322 QD
C6: Dernière vidange | D6: 43119
C7: Prochaine vidange | D7: =EDATE(D6,14) -> 43543
C8: Dernier CT | D8: 42768
C9: Prochain CT | D9: =EDATE(D8,24) -> 43498
B11: DATE | C11: KILOMETRAGE | D11: INTERVENANT | E11: DESCRIPTION DES TRAVAUX
B12: 43119 | C12: 11809 | D12: Garage Peugeot L.B | E12: Révision des 10000kms Forfait vidange + 24 contrôles Remplacer filtre à huile

Sheet Mini-pelle 1615
B2: Mini-pelle 1615
C4: Acquisition: | D4: 42614
C5: Immatriculation: | D5: EF 322 QD
C6: Dernière vidange | D6: 43119
C7: Prochaine vidange | D7: =EDATE(D6,14) -> 43543
C8: Dernier CT | D8: 42768
C9: Prochain CT | D9: =EDATE(D8,24) -> 43498
B11: DATE | C11: KILOMETRAGE | D11: INTERVENANT | E11: DESCRIPTION DES TRAVAUX
B12: 43119 | C12: 11809 | D12: Garage Peugeot L.B | E12: Révision des 10000kms Forfait vidange + 24 contrôles Remplacer filtre à huile

Sheet Mini-pelle 2980
B2: Mini-pelle 2980
C4: Acquisition: | D4: 42614
C5: Immatriculation: | D5: EF 322 QD
C6: Dernière vidange | D6: 43119
C7: Prochaine vidange | D7: =EDATE(D6,14) -> 43543
C8: Dernier CT | D8: 42768
C9: Prochain CT | D9: =EDATE(D8,24) -> 43498
B11: DATE | C11: KILOMETRAGE | D11: INTERVENANT | E11: DESCRIPTION DES TRAVAUX
B12: 43119 | C12: 11809 | D12: Garage Peugeot L.B | E12: Révision des 10000kms Forfait vidange + 24 contrôles Remplacer filtre à huile

Sheet Mini-pelle 6T
B2: Mini-pelle 6T
C4: Acquisition: | D4: 42614
C5: Immatriculation: | D5: EF 322 QD
C6: Dernière vidange | D6: 43119
C7: Prochaine vidange | D7: =EDATE(D6,14) -> 43543
C8: Dernier CT | D8: 42768
C9: Prochain CT | D9: =EDATE(D8,24) -> 43498
B11: DATE | C11: KILOMETRAGE | D11: INTERVENANT | E11: DESCRIPTION DES TRAVAUX
B12: 43119 | C12: 11809 | D12: Garage Peugeot L.B | E12: Révision des 10000kms Forfait vidange + 24 contrôles Remplacer filtre à huile

Sheet Dumper
B2: Dumper
C4: Acquisition: | D4: 42614
C5: Immatriculation: | D5: EF 322 QD
C6: Dernière vidange | D6: 43119
C7: Prochaine vidange | D7: =EDATE(D6,14) -> 43543
C8: Dernier CT | D8: 42768
C9: Prochain CT | D9: =EDATE(D8,24) -> 43498
B11: DATE | C11: KILOMETRAGE | D11: INTERVENANT | E11: DESCRIPTION DES TRAVAUX
B12: 43119 | C12: 11809 | D12: Garage Peugeot L.B | E12: Révision des 10000kms Forfait vidange + 24 contrôles Remplacer filtre à huile

Sheet Remorque Jaunin
B2: Remorque Jaunin
C4: Acquisition: | D4: 42614
C5: Immatriculation: | D5: EF 322 QD
C6: Dernière vidange | D6: 43119
C7: Prochaine vidange | D7: =EDATE(D6,14) -> 43543
C8: Dernier CT | D8: 42768
C9: Prochain CT | D9: =EDATE(D8,24) -> 43498
B11: DATE | C11: KILOMETRAGE | D11: INTERVENANT | E11: DESCRIPTION DES TRAVAUX
B12: 43119 | C12: 11809 | D12: Garage Peugeot L.B | E12: Révision des 10000kms Forfait vidange + 24 contrôles Remplacer filtre à huile

Sheet Remorque Cougnaud
B2: Remorque Cougnaud
C4: Acquisition: | D4: 42614
C5: Immatriculation: | D5: EF 322 QD
C6: Dernière vidange | D6: 43119
C7: Prochaine vidange | D7: =EDATE(D6,14) -> 43543
C8: Dernier CT | D8: 42768
C9: Prochain CT | D9: =EDATE(D8,24) -> 43498
B11: DATE | C11: KILOMETRAGE | D11: INTERVENANT | E11: DESCRIPTION DES TRAVAUX
B12: 43119 | C12: 11809 | D12: Garage Peugeot L.B | E12: Révision des 10000kms Forfait vidange + 24 contrôles Remplacer filtre à huile

Sheet Remorque Thievin
B2: Remorque Thievin
C4: Acquisition: | D4: 42614
C5: Immatriculation: | D5: EF 322 QD
C6: Dernière vidange | D6: 43119
C7: Prochaine vidange | D7: =EDATE(D6,14) -> 43543
C8: Dernier CT | D8: 42768
C9: Prochain CT | D9: =EDATE(D8,24) -> 43498
B11: DATE | C11: KILOMETRAGE | D11: INTERVENANT | E11: DESCRIPTION DES TRAVAUX
B12: 43119 | C12: 11809 | D12: Garage Peugeot L.B | E12: Révision des 10000kms Forfait vidange + 24 contrôles Remplacer filtre à huile

Sheet Machine à enduire
B2: Machine à enduire
C4: Acquisition: | D4: 42614
C5: Immatriculation: | D5: EF 322 QD
C6: Dernière vidange | D6: 43119
C7: Prochaine vidange | D7: =EDATE(D6,14) -> 43543
C8: Dernier CT | D8: 42768
C9: Prochain CT | D9: =EDATE(D8,24) -> 43498
B11: DATE | C11: KILOMETRAGE | D11: INTERVENANT | E11: DESCRIPTION DES TRAVAUX
B12: 43119 | C12: 11809 | D12: Garage Peugeot L.B | E12: Révision des 10000kms Forfait vidange + 24 contrôles Remplacer filtre à huile

Sheet Compresseur XAS 56
B2: Compresseur XAS 56
C4: Acquisition: | D4: 42614
C5: Immatriculation: | D5: EF 322 QD
C6: Dernière vidange | D6: 43119
C7: Prochaine vidange | D7: =EDATE(D6,14) -> 43543
C8: Dernier CT | D8: 42768
C9: Prochain CT | D9: =EDATE(D8,24) -> 43498
B11: DATE | C11: KILOMETRAGE | D11: INTERVENANT | E11: DESCRIPTION DES TRAVAUX
B12: 43119 | C12: 11809 | D12: Garage Peugeot L.B | E12: Révision des 10000kms Forfait vidange + 24 contrôles Remplacer filtre à huile

Sheet Dameuse ABG
B2: Dameuse ABG
C4: Acquisition: | D4: 42614
C5: Immatriculation: | D5: EF 322 QD
C6: Dernière vidange | D6: 43119
C7: Prochaine vidange | D7: =EDATE(D6,14) -> 43543
C8: Dernier CT | D8: 42768
C9: Prochain CT | D9: =EDATE(D8,24) -> 43498
B11: DATE | C11: KILOMETRAGE | D11: INTERVENANT | E11: DESCRIPTION DES TRAVAUX
B12: 43119 | C12: 11809 | D12: Garage Peugeot L.B | E12: Révision des 10000kms Forfait vidange + 24 contrôles Remplacer filtre à huile

Sheet Bétonnières
B2: Bétonnière
C4: Acquisition: | D4: 42614
C5: Immatriculation: | D5: EF 322 QD
C6: Dernière vidange | D6: 43119
C7: Prochaine vidange | D7: =EDATE(D6,14) -> 43543
C8: Dernier CT | D8: 42768
C9: Prochain CT | D9: =EDATE(D8,24) -> 43498
B11: DATE | C11: KILOMETRAGE | D11: INTERVENANT | E11: DESCRIPTION DES TRAVAUX
B12: 43119 | C12: 11809 | D12: Garage Peugeot L.B | E12: Révision des 10000kms Forfait vidange + 24 contrôles Remplacer filtre à huile

Sheet Electroportatif
B2: Electroportatif
C4: Acquisition: | D4: 42614
C5: Immatriculation: | D5: EF 322 QD
C6: Dernière vidange | D6: 43119
C7: Prochaine vidange | D7: =EDATE(D6,14) -> 43543
C8: Dernier CT | D8: 42768
C9: Prochain CT | D9: =EDATE(D8,24) -> 43498
B11: DATE | C11: KILOMETRAGE | D11: INTERVENANT | E11: DESCRIPTION DES TRAVAUX
B12: 43119 | C12: 11809 | D12: Garage Peugeot L.B | E12: Révision des 10000kms Forfait vidange + 24 contrôles Remplacer filtre à huile
