Workbook

Sheet lundi
A1: Elaboration des tournées du lundi
E2: Externe
D3: Horraire | E3: Destination | H3: Impératif horraire | K3: Explication | N3: Types de contenant | W3: Contraintes | Z3: Habituelle | AA3: Ponctuelle | AB3: Urgent
D5: Début: | E5: Lieu > local > n°tel | H5: Delai à ne pas dépasser | K5: Opération | L5: Préciser l'objet de la mission | N5: Caisse concerné : nombre | W5: pour favoriser le bon déroulement de la mission | Z5: indiquer la fréquence | AA5: Cocher là case concernée | AB5: Cocher là case concernée
A8: Tournée ………. | N8: Types | O8: nombre | P8: Types | Q8: nombre | R8: Types | S8: nombre | T8: Types | U8: nombre | V8: Total
A10: Départ | K10: Dépôt | N10: Courrier | O10: 3 | P10: Glacière | Q10: 3 | R10: Glacière | S10: 1 | T10: pharmacie | U10: 1 | V10: =INDEX(Volume!$D$2:$D$7,MATCH(lundi!N10,Volume!$C$2:$C$7,0))*O10+INDEX(Volume!$D$2:$D$7,MATCH(lundi!P10,Volume!$C$2:$C$7,0))*Q10+INDEX(Volume!$D$2:$D$7,MATCH(lundi!R10,Volume!$C$2:$C$7,0))*S10+INDEX(Volume!$D$2:$D$7,MATCH(lundi!T10,Volume!$C$2:$C$7,0))*U10 -> 23.166667
Q12: Remplissage (%) durant trajet | T12: =IF(U12<0,0,U12) -> 0 | U12: =IF(K10="Dépôt",0,V10) -> 0
A13: Etapes 1 | K13: Retrait | N13: Linge sale | O13: 3 | P13: USMC | Q13: 6 | R13: pharmacie | S13: 2 | T13: Glacière | U13: 4 | V13: =INDEX(Volume!$D$2:$D$7,MATCH(lundi!N13,Volume!$C$2:$C$7,0))*O13+INDEX(Volume!$D$2:$D$7,MATCH(lundi!P13,Volume!$C$2:$C$7,0))*Q13+INDEX(Volume!$D$2:$D$7,MATCH(lundi!R13,Volume!$C$2:$C$7,0))*S13+INDEX(Volume!$D$2:$D$7,MATCH(lundi!T13,Volume!$C$2:$C$7,0))*U13 -> 85.944444
Q15: Remplissage (%) durant trajet | T15: =IF(U15<0,0,U15) -> 85.944444 | U15: =IF(K13="Retrait",(U12+V13),(U12-V13)) -> 85.944444
A16: Etapes 2 | K16: Dépôt | N16: Linge sale | O16: 3 | P16: Vrac | Q16: 11 | R16: pharmacie | S16: 3 | T16: USMC | U16: 4 | V16: =INDEX(Volume!$D$2:$D$7,MATCH(lundi!N16,Volume!$C$2:$C$7,0))*O16+INDEX(Volume!$D$2:$D$7,MATCH(lundi!P16,Volume!$C$2:$C$7,0))*Q16+INDEX(Volume!$D$2:$D$7,MATCH(lundi!R16,Volume!$C$2:$C$7,0))*S16+INDEX(Volume!$D$2:$D$7,MATCH(lundi!T16,Volume!$C$2:$C$7,0))*U16 -> 65.777778
Q18: Remplissage (%) durant trajet | T18: =IF(U18<0,0,U18) -> 20.166667 | U18: =IF(K16="Dépôt",((U15)-V16),((U15)+V16)) -> 20.166667
A19: Etapes 3 | K19: Retrait | N19: Linge sale | O19: 3 | P19: USMC | Q19: 2 | R19: pharmacie | S19: 4 | T19: Glacière | V19: =INDEX(Volume!$D$2:$D$7,MATCH(lundi!N19,Volume!$C$2:$C$7,0))*O19+INDEX(Volume!$D$2:$D$7,MATCH(lundi!P19,Volume!$C$2:$C$7,0))*Q19+INDEX(Volume!$D$2:$D$7,MATCH(lundi!R19,Volume!$C$2:$C$7,0))*S19+INDEX(Volume!$D$2:$D$7,MATCH(lundi!T19,Volume!$C$2:$C$7,0))*U19 -> 41.611111
Q21: Remplissage (%) durant trajet | T21: =IF(U21<0,0,U21) -> 61.777778 | U21: =IF(K19="Retrait",((T18)+V19),(T18)) -> 61.777778
A22: Etapes 4 | K22: Dépôt | N22: Linge sale | O22: 3 | P22: pharmacie | Q22: 2 | R22: pharmacie | S22: 5 | T22: Glacière | U22: 2 | V22: =INDEX(Volume!$D$2:$D$7,MATCH(lundi!N22,Volume!$C$2:$C$7,0))*O22+INDEX(Volume!$D$2:$D$7,MATCH(lundi!P22,Volume!$C$2:$C$7,0))*Q22+INDEX(Volume!$D$2:$D$7,MATCH(lundi!R22,Volume!$C$2:$C$7,0))*S22+INDEX(Volume!$D$2:$D$7,MATCH(lundi!T22,Volume!$C$2:$C$7,0))*U22 -> 39.555556
Q24: Remplissage (%) durant trajet | T24: =IF(U24<0,0,U24) -> 22.222222 | U24: =IF(K22="Dépôt",(U21-V22),(U21+V22)) -> 22.222222
A25: Etapes 5 | K25: Retrait | N25: Linge sale | O25: 3 | P25: Vrac | Q25: 8 | R25: pharmacie | S25: 6 | T25: Glacière | V25: =INDEX(Volume!$D$2:$D$7,MATCH(lundi!N25,Volume!$C$2:$C$7,0))*O25+INDEX(Volume!$D$2:$D$7,MATCH(lundi!P25,Volume!$C$2:$C$7,0))*Q25+INDEX(Volume!$D$2:$D$7,MATCH(lundi!R25,Volume!$C$2:$C$7,0))*S25+INDEX(Volume!$D$2:$D$7,MATCH(lundi!T25,Volume!$C$2:$C$7,0))*U25 -> 36.611111
Q27: Remplissage (%) durant trajet | T27: =IF(U27<0,0,U27) -> 58.833333 | U27: =IF(K25="Dépôt",(U24-V25),(U24+V25)) -> 58.833333
A28: Etapes 6 | K28: Retrait | N28: Linge sale | O28: 3 | P28: Vrac | Q28: 3 | R28: pharmacie | S28: 7 | T28: Glacière | V28: =INDEX(Volume!$D$2:$D$7,MATCH(lundi!N28,Volume!$C$2:$C$7,0))*O28+INDEX(Volume!$D$2:$D$7,MATCH(lundi!P28,Volume!$C$2:$C$7,0))*Q28+INDEX(Volume!$D$2:$D$7,MATCH(lundi!R28,Volume!$C$2:$C$7,0))*S28+INDEX(Volume!$D$2:$D$7,MATCH(lundi!T28,Volume!$C$2:$C$7,0))*U28 -> 34.444444
Q30: Remplissage (%) durant trajet | T30: =IF(U30<0,0,U30) -> 93.277778 | U30: =IF(K28="Dépôt",(U27-V28),(U27+V28)) -> 93.277778
A31: Retour | K31: Dépôt | N31: Linge sale | O31: 3 | P31: Vrac | Q31: 2 | R31: pharmacie | S31: 1 | T31: Glacière | U31: 1 | V31: =INDEX(Volume!$D$2:$D$7,MATCH(lundi!N31,Volume!$C$2:$C$7,0))*O31+INDEX(Volume!$D$2:$D$7,MATCH(lundi!P31,Volume!$C$2:$C$7,0))*Q31+INDEX(Volume!$D$2:$D$7,MATCH(lundi!R31,Volume!$C$2:$C$7,0))*S31+INDEX(Volume!$D$2:$D$7,MATCH(lundi!T31,Volume!$C$2:$C$7,0))*U31 -> 23.777778
P33: *Si ADR rempli à plus de 89% il y a une indication d'érreur*
P37: =COUNTIFS(N10:T32,"usmc") -> 3 | R37: =COUNTIFS(N10:U32,IF("usmc",search)) -> 0
T39: =IF(P31,"USMC",MATCH("USMC",Volume!D2,0)) -> #VALUE!
T40: =INDEX(Volume!E2:E7,MATCH(lundi!P31,Volume!C2:C7,0)) -> 16 | W40: =INDEX(Volume!E2:E7,MATCH(lundi!P31,Volume!C2:C7,0))*Q31 -> 32 | X40: =INDEX(Volume!E2:E7,MATCH(lundi!P31,Volume!C2:C7,0))*Q31+INDEX(Volume!E2:E7,MATCH(lundi!R31,Volume!C2:C7,0))*S31 -> 73 | Y40: =INDEX(Volume!E2:E7,MATCH(lundi!P31,Volume!C2:C7,0))*Q31+INDEX(Volume!E2:E7,MATCH(lundi!R31,Volume!C2:C7,0))*S31+INDEX(Volume!E2:E7,MATCH(lundi!T31,Volume!C2:C7,0))*U31 -> 143

Sheet Mardi
A1: Elaboration des tournées du mardi
E2: Externe
D3: Horraire | E3: Destination | H3: Impératif horraire | K3: Explication | N3: Types de contenant | W3: Contraintes | Z3: Habituelle | AA3: Ponctuelle | AB3: Urgent
D5: Début: | E5: Lieu > local > n°tel | H5: Delai à ne pas dépasser | K5: Opération | L5: Préciser l'objet de la mission | N5: Caisse concerné : nombre | W5: pour favoriser le bon déroulement de la mission | Z5: indiquer la fréquence | AA5: Cocher là case concernée | AB5: Cocher là case concernée
A8: Tournée ………. | N8: Types | O8: nombre | P8: Types | Q8: nombre | R8: Types | S8: nombre | T8: Types | U8: nombre | V8: Total
A10: Départ | K10: Retrait | N10: Courrier | O10: 3 | P10: Linge sale | Q10: 1 | R10: pharmacie | S10: 1 | T10: Glacière | U10: 0 | V10: =INDEX(Volume!$D$2:$D$7,MATCH(Mardi!N10,Volume!$C$2:$C$7,0))*O10+INDEX(Volume!$D$2:$D$7,MATCH(Mardi!P10,Volume!$C$2:$C$7,0))*Q10+INDEX(Volume!$D$2:$D$7,MATCH(Mardi!R10,Volume!$C$2:$C$7,0))*S10+INDEX(Volume!$D$2:$D$7,MATCH(Mardi!T10,Volume!$C$2:$C$7,0))*U10 -> 12.888889
Q12: Remplissage (%) durant trajet | T12: =IF(U12<0,0,U12) -> 12.888889 | U12: =IF(K10="Dépôt",0,V10) -> 12.888889
A13: Etapes 1 | K13: Retrait | N13: Linge sale | O13: 3 | P13: USMC | Q13: 1 | R13: pharmacie | S13: 2 | T13: Glacière | U13: 4 | V13: =INDEX(Volume!$D$2:$D$7,MATCH(Mardi!N13,Volume!$C$2:$C$7,0))*O13+INDEX(Volume!$D$2:$D$7,MATCH(Mardi!P13,Volume!$C$2:$C$7,0))*Q13+INDEX(Volume!$D$2:$D$7,MATCH(Mardi!R13,Volume!$C$2:$C$7,0))*S13+INDEX(Volume!$D$2:$D$7,MATCH(Mardi!T13,Volume!$C$2:$C$7,0))*U13 -> 44.277778
Q15: Remplissage (%) durant trajet | T15: =IF(U15<0,0,U15) -> 57.166667 | U15: =IF(K13="Retrait",(U12+V13),(U12-V13)) -> 57.166667
A16: Etapes 2 | K16: Dépôt | N16: Linge sale | O16: 3 | P16: Vrac | Q16: 11 | R16: pharmacie | S16: 3 | T16: USMC | U16: 4 | V16: =INDEX(Volume!$D$2:$D$7,MATCH(Mardi!N16,Volume!$C$2:$C$7,0))*O16+INDEX(Volume!$D$2:$D$7,MATCH(Mardi!P16,Volume!$C$2:$C$7,0))*Q16+INDEX(Volume!$D$2:$D$7,MATCH(Mardi!R16,Volume!$C$2:$C$7,0))*S16+INDEX(Volume!$D$2:$D$7,MATCH(Mardi!T16,Volume!$C$2:$C$7,0))*U16 -> 65.777778
Q18: Remplissage (%) durant trajet | T18: =IF(U18<0,0,U18) -> 0 | U18: =IF(K16="Dépôt",((U15)-V16),((U15)+V16)) -> -8.6111111
A19: Etapes 3 | K19: Dépôt | N19: Linge sale | O19: 3 | P19: USMC | Q19: 2 | R19: pharmacie | S19: 4 | T19: Glacière | V19: =INDEX(Volume!$D$2:$D$7,MATCH(Mardi!N19,Volume!$C$2:$C$7,0))*O19+INDEX(Volume!$D$2:$D$7,MATCH(Mardi!P19,Volume!$C$2:$C$7,0))*Q19+INDEX(Volume!$D$2:$D$7,MATCH(Mardi!R19,Volume!$C$2:$C$7,0))*S19+INDEX(Volume!$D$2:$D$7,MATCH(Mardi!T19,Volume!$C$2:$C$7,0))*U19 -> 41.611111
Q21: Remplissage (%) durant trajet | T21: =IF(U21<0,0,U21) -> 0 | U21: =IF(K19="Retrait",((T18)+V19),(T18)) -> 0
A22: Etapes 4 | K22: Retrait | N22: Linge sale | O22: 3 | P22: pharmacie | Q22: 2 | R22: pharmacie | S22: 1 | T22: Glacière | U22: 2 | V22: =INDEX(Volume!$D$2:$D$7,MATCH(Mardi!N22,Volume!$C$2:$C$7,0))*O22+INDEX(Volume!$D$2:$D$7,MATCH(Mardi!P22,Volume!$C$2:$C$7,0))*Q22+INDEX(Volume!$D$2:$D$7,MATCH(Mardi!R22,Volume!$C$2:$C$7,0))*S22+INDEX(Volume!$D$2:$D$7,MATCH(Mardi!T22,Volume!$C$2:$C$7,0))*U22 -> 30.444444
Q24: Remplissage (%) durant trajet | T24: =IF(U24<0,0,U24) -> 30.444444 | U24: =IF(K22="Dépôt",(U21-V22),(U21+V22)) -> 30.444444
A25: Etapes 5 | K25: Retrait | N25: Linge sale | O25: 3 | P25: Vrac | Q25: 8 | R25: pharmacie | S25: 4 | T25: Glacière | V25: =INDEX(Volume!$D$2:$D$7,MATCH(Mardi!N25,Volume!$C$2:$C$7,0))*O25+INDEX(Volume!$D$2:$D$7,MATCH(Mardi!P25,Volume!$C$2:$C$7,0))*Q25+INDEX(Volume!$D$2:$D$7,MATCH(Mardi!R25,Volume!$C$2:$C$7,0))*S25+INDEX(Volume!$D$2:$D$7,MATCH(Mardi!T25,Volume!$C$2:$C$7,0))*U25 -> 32.055556
Q27: Remplissage (%) durant trajet | T27: =IF(U27<0,0,U27) -> 62.5 | U27: =IF(K25="Dépôt",(U24-V25),(U24+V25)) -> 62.5
A28: Etapes 6 | K28: Retrait | N28: Linge sale | O28: 3 | P28: Vrac | Q28: 3 | R28: pharmacie | S28: 0 | T28: Glacière | V28: =INDEX(Volume!$D$2:$D$7,MATCH(Mardi!N28,Volume!$C$2:$C$7,0))*O28+INDEX(Volume!$D$2:$D$7,MATCH(Mardi!P28,Volume!$C$2:$C$7,0))*Q28+INDEX(Volume!$D$2:$D$7,MATCH(Mardi!R28,Volume!$C$2:$C$7,0))*S28+INDEX(Volume!$D$2:$D$7,MATCH(Mardi!T28,Volume!$C$2:$C$7,0))*U28 -> 18.5
Q30: Remplissage (%) durant trajet | T30: =IF(U30<0,0,U30) -> 81 | U30: =IF(K28="Dépôt",(U27-V28),(U27+V28)) -> 81
A31: Retour | K31: Retrait | N31: Linge sale | O31: 3 | P31: Vrac | Q31: 2 | R31: pharmacie | S31: 1 | T31: Glacière | U31: 1 | V31: =INDEX(Volume!$D$2:$D$7,MATCH(Mardi!N31,Volume!$C$2:$C$7,0))*O31+INDEX(Volume!$D$2:$D$7,MATCH(Mardi!P31,Volume!$C$2:$C$7,0))*Q31+INDEX(Volume!$D$2:$D$7,MATCH(Mardi!R31,Volume!$C$2:$C$7,0))*S31+INDEX(Volume!$D$2:$D$7,MATCH(Mardi!T31,Volume!$C$2:$C$7,0))*U31 -> 23.777778

Sheet Mercredi
A1: Elaboration des tournées du mercredi
E2: Externe
D3: Horraire | E3: Destination | H3: Impératif horraire | K3: Explication | N3: Types de contenant | W3: Contraintes | Z3: Habituelle | AA3: Ponctuelle | AB3: Urgent
D5: Début: | E5: Lieu > local > n°tel | H5: Delai à ne pas dépasser | K5: Opération | L5: Préciser l'objet de la mission | N5: Caisse concerné : nombre | W5: pour favoriser le bon déroulement de la mission | Z5: indiquer la fréquence | AA5: Cocher là case concernée | AB5: Cocher là case concernée
A8: Tournée ………. | N8: Types | O8: nombre | P8: Types | Q8: nombre | R8: Types | S8: nombre | T8: Types | U8: nombre | V8: Total
A10: Départ | K10: Retrait | N10: Courrier | O10: 3 | P10: pharmacie | Q10: 1 | R10: pharmacie | S10: 0 | T10: pharmacie | U10: 0 | V10: =INDEX(Volume!$D$2:$D$7,MATCH(Mercredi!N10,Volume!$C$2:$C$7,0))*O10+INDEX(Volume!$D$2:$D$7,MATCH(Mercredi!P10,Volume!$C$2:$C$7,0))*Q10+INDEX(Volume!$D$2:$D$7,MATCH(Mercredi!R10,Volume!$C$2:$C$7,0))*S10+INDEX(Volume!$D$2:$D$7,MATCH(Mercredi!T10,Volume!$C$2:$C$7,0))*U10 -> 7.6111111
Q12: Remplissage (%) durant trajet | T12: =IF(U12<0,0,U12) -> 7.6111111 | U12: =IF(K10="Dépôt",0,V10) -> 7.6111111
A13: Etapes 1 | K13: Retrait | N13: Linge sale | O13: 3 | P13: USMC | Q13: 1 | R13: pharmacie | S13: 2 | T13: Glacière | U13: 4 | V13: =INDEX(Volume!$D$2:$D$7,MATCH(Mercredi!N13,Volume!$C$2:$C$7,0))*O13+INDEX(Volume!$D$2:$D$7,MATCH(Mercredi!P13,Volume!$C$2:$C$7,0))*Q13+INDEX(Volume!$D$2:$D$7,MATCH(Mercredi!R13,Volume!$C$2:$C$7,0))*S13+INDEX(Volume!$D$2:$D$7,MATCH(Mercredi!T13,Volume!$C$2:$C$7,0))*U13 -> 44.277778
Q15: Remplissage (%) durant trajet | T15: =IF(U15<0,0,U15) -> 51.888889 | U15: =IF(K13="Retrait",(U12+V13),(U12-V13)) -> 51.888889
A16: Etapes 2 | K16: Dépôt | N16: Linge sale | O16: 3 | P16: Vrac | Q16: 11 | R16: pharmacie | S16: 3 | T16: USMC | U16: 4 | V16: =INDEX(Volume!$D$2:$D$7,MATCH(Mercredi!N16,Volume!$C$2:$C$7,0))*O16+INDEX(Volume!$D$2:$D$7,MATCH(Mercredi!P16,Volume!$C$2:$C$7,0))*Q16+INDEX(Volume!$D$2:$D$7,MATCH(Mercredi!R16,Volume!$C$2:$C$7,0))*S16+INDEX(Volume!$D$2:$D$7,MATCH(Mercredi!T16,Volume!$C$2:$C$7,0))*U16 -> 65.777778
Q18: Remplissage (%) durant trajet | T18: =IF(U18<0,0,U18) -> 0 | U18: =IF(K16="Dépôt",((U15)-V16),((U15)+V16)) -> -13.888889
A19: Etapes 3 | K19: Dépôt | N19: Linge sale | O19: 3 | P19: USMC | Q19: 2 | R19: pharmacie | S19: 4 | T19: Glacière | V19: =INDEX(Volume!$D$2:$D$7,MATCH(Mercredi!N19,Volume!$C$2:$C$7,0))*O19+INDEX(Volume!$D$2:$D$7,MATCH(Mercredi!P19,Volume!$C$2:$C$7,0))*Q19+INDEX(Volume!$D$2:$D$7,MATCH(Mercredi!R19,Volume!$C$2:$C$7,0))*S19+INDEX(Volume!$D$2:$D$7,MATCH(Mercredi!T19,Volume!$C$2:$C$7,0))*U19 -> 41.611111
Q21: Remplissage (%) durant trajet | T21: =IF(U21<0,0,U21) -> 0 | U21: =IF(K19="Retrait",((T18)+V19),(T18)) -> 0
A22: Etapes 4 | K22: Retrait | N22: Linge sale | O22: 3 | P22: pharmacie | Q22: 2 | R22: pharmacie | S22: 5 | T22: Glacière | U22: 2 | V22: =INDEX(Volume!$D$2:$D$7,MATCH(Mercredi!N22,Volume!$C$2:$C$7,0))*O22+INDEX(Volume!$D$2:$D$7,MATCH(Mercredi!P22,Volume!$C$2:$C$7,0))*Q22+INDEX(Volume!$D$2:$D$7,MATCH(Mercredi!R22,Volume!$C$2:$C$7,0))*S22+INDEX(Volume!$D$2:$D$7,MATCH(Mercredi!T22,Volume!$C$2:$C$7,0))*U22 -> 39.555556
Q24: Remplissage (%) durant trajet | T24: =IF(U24<0,0,U24) -> 39.555556 | U24: =IF(K22="Dépôt",(U21-V22),(U21+V22)) -> 39.555556
A25: Etapes 5 | K25: Retrait | N25: Linge sale | O25: 3 | P25: Vrac | Q25: 8 | R25: pharmacie | S25: 6 | T25: Glacière | V25: =INDEX(Volume!$D$2:$D$7,MATCH(Mercredi!N25,Volume!$C$2:$C$7,0))*O25+INDEX(Volume!$D$2:$D$7,MATCH(Mercredi!P25,Volume!$C$2:$C$7,0))*Q25+INDEX(Volume!$D$2:$D$7,MATCH(Mercredi!R25,Volume!$C$2:$C$7,0))*S25+INDEX(Volume!$D$2:$D$7,MATCH(Mercredi!T25,Volume!$C$2:$C$7,0))*U25 -> 36.611111
Q27: Remplissage (%) durant trajet | T27: =IF(U27<0,0,U27) -> 76.166667 | U27: =IF(K25="Dépôt",(U24-V25),(U24+V25)) -> 76.166667
A28: Etapes 6 | K28: Retrait | N28: Linge sale | O28: 3 | P28: Vrac | Q28: 3 | R28: pharmacie | S28: 7 | T28: Glacière | V28: =INDEX(Volume!$D$2:$D$7,MATCH(Mercredi!N28,Volume!$C$2:$C$7,0))*O28+INDEX(Volume!$D$2:$D$7,MATCH(Mercredi!P28,Volume!$C$2:$C$7,0))*Q28+INDEX(Volume!$D$2:$D$7,MATCH(Mercredi!R28,Volume!$C$2:$C$7,0))*S28+INDEX(Volume!$D$2:$D$7,MATCH(Mercredi!T28,Volume!$C$2:$C$7,0))*U28 -> 34.444444
Q30: Remplissage (%) durant trajet | T30: =IF(U30<0,0,U30) -> 110.61111 | U30: =IF(K28="Dépôt",(U27-V28),(U27+V28)) -> 110.61111
A31: Retour | K31: Retrait | N31: Linge sale | O31: 3 | P31: Vrac | Q31: 2 | R31: pharmacie | S31: 1 | T31: Glacière | U31: 1 | V31: =INDEX(Volume!$D$2:$D$7,MATCH(Mercredi!N31,Volume!$C$2:$C$7,0))*O31+INDEX(Volume!$D$2:$D$7,MATCH(Mercredi!P31,Volume!$C$2:$C$7,0))*Q31+INDEX(Volume!$D$2:$D$7,MATCH(Mercredi!R31,Volume!$C$2:$C$7,0))*S31+INDEX(Volume!$D$2:$D$7,MATCH(Mercredi!T31,Volume!$C$2:$C$7,0))*U31 -> 23.777778

Sheet Jeudi
A1: Elaboration des tournées
E2: Externe
D3: Horraire | E3: Destination | H3: Impératif horraire | K3: Explication | N3: Types de contenant | W3: Contraintes | Z3: Habituelle | AA3: Ponctuelle | AB3: Urgent
D5: Début: | E5: Lieu > local > n°tel | H5: Delai à ne pas dépasser | K5: Opération | L5: Préciser l'objet de la mission | N5: Caisse concerné : nombre | W5: pour favoriser le bon déroulement de la mission | Z5: indiquer la fréquence | AA5: Cocher là case concernée | AB5: Cocher là case concernée
A8: Tournée ………. | N8: Types | O8: nombre | P8: Types | Q8: nombre | R8: Types | S8: nombre | T8: Types | U8: nombre | V8: Total
A10: Départ | K10: Retrait | N10: Courrier | O10: 3 | P10: Glacière | Q10: 3 | R10: Linge sale | S10: 1 | T10: pharmacie | U10: 1 | V10: =INDEX(Volume!$D$2:$D$7,MATCH(Jeudi!N10,Volume!$C$2:$C$7,0))*O10+INDEX(Volume!$D$2:$D$7,MATCH(Jeudi!P10,Volume!$C$2:$C$7,0))*Q10+INDEX(Volume!$D$2:$D$7,MATCH(Jeudi!R10,Volume!$C$2:$C$7,0))*S10+INDEX(Volume!$D$2:$D$7,MATCH(Jeudi!T10,Volume!$C$2:$C$7,0))*U10 -> 24.555556
Q12: Remplissage (%) durant trajet | T12: =IF(U12<0,0,U12) -> 24.555556 | U12: =IF(K10="Dépôt",0,V10) -> 24.555556
A13: Etapes 1 | K13: Retrait | N13: Linge sale | O13: 3 | P13: USMC | R13: pharmacie | S13: 2 | T13: Glacière | U13: 4 | V13: =INDEX(Volume!$D$2:$D$7,MATCH(Jeudi!N13,Volume!$C$2:$C$7,0))*O13+INDEX(Volume!$D$2:$D$7,MATCH(Jeudi!P13,Volume!$C$2:$C$7,0))*Q13+INDEX(Volume!$D$2:$D$7,MATCH(Jeudi!R13,Volume!$C$2:$C$7,0))*S13+INDEX(Volume!$D$2:$D$7,MATCH(Jeudi!T13,Volume!$C$2:$C$7,0))*U13 -> 35.944444
Q15: Remplissage (%) durant trajet | T15: =IF(U15<0,0,U15) -> 60.5 | U15: =IF(K13="Retrait",(U12+V13),(U12-V13)) -> 60.5
A16: Etapes 2 | K16: Dépôt | N16: Linge sale | O16: 3 | P16: Vrac | R16: pharmacie | S16: 3 | T16: USMC | U16: 4 | V16: =INDEX(Volume!$D$2:$D$7,MATCH(Jeudi!N16,Volume!$C$2:$C$7,0))*O16+INDEX(Volume!$D$2:$D$7,MATCH(Jeudi!P16,Volume!$C$2:$C$7,0))*Q16+INDEX(Volume!$D$2:$D$7,MATCH(Jeudi!R16,Volume!$C$2:$C$7,0))*S16+INDEX(Volume!$D$2:$D$7,MATCH(Jeudi!T16,Volume!$C$2:$C$7,0))*U16 -> 56
Q18: Remplissage (%) durant trajet | T18: =IF(U18<0,0,U18) -> 4.5 | U18: =IF(K16="Dépôt",((U15)-V16),((U15)+V16)) -> 4.5
A19: Etapes 3 | K19: Dépôt | N19: Linge sale | O19: 3 | P19: USMC | Q19: 2 | R19: pharmacie | S19: 4 | T19: Glacière | V19: =INDEX(Volume!$D$2:$D$7,MATCH(Jeudi!N19,Volume!$C$2:$C$7,0))*O19+INDEX(Volume!$D$2:$D$7,MATCH(Jeudi!P19,Volume!$C$2:$C$7,0))*Q19+INDEX(Volume!$D$2:$D$7,MATCH(Jeudi!R19,Volume!$C$2:$C$7,0))*S19+INDEX(Volume!$D$2:$D$7,MATCH(Jeudi!T19,Volume!$C$2:$C$7,0))*U19 -> 41.611111
Q21: Remplissage (%) durant trajet | T21: =IF(U21<0,0,U21) -> 4.5 | U21: =IF(K19="Retrait",((T18)+V19),(T18)) -> 4.5
A22: Etapes 4 | K22: Retrait | N22: Linge sale | O22: 3 | P22: pharmacie | Q22: 2 | R22: pharmacie | S22: 5 | T22: Glacière | U22: 2 | V22: =INDEX(Volume!$D$2:$D$7,MATCH(Jeudi!N22,Volume!$C$2:$C$7,0))*O22+INDEX(Volume!$D$2:$D$7,MATCH(Jeudi!P22,Volume!$C$2:$C$7,0))*Q22+INDEX(Volume!$D$2:$D$7,MATCH(Jeudi!R22,Volume!$C$2:$C$7,0))*S22+INDEX(Volume!$D$2:$D$7,MATCH(Jeudi!T22,Volume!$C$2:$C$7,0))*U22 -> 39.555556
Q24: Remplissage (%) durant trajet | T24: =IF(U24<0,0,U24) -> 44.055556 | U24: =IF(K22="Dépôt",(U21-V22),(U21+V22)) -> 44.055556
A25: Etapes 5 | K25: Retrait | N25: Linge sale | O25: 3 | P25: Vrac | R25: pharmacie | S25: 6 | T25: Glacière | V25: =INDEX(Volume!$D$2:$D$7,MATCH(Jeudi!N25,Volume!$C$2:$C$7,0))*O25+INDEX(Volume!$D$2:$D$7,MATCH(Jeudi!P25,Volume!$C$2:$C$7,0))*Q25+INDEX(Volume!$D$2:$D$7,MATCH(Jeudi!R25,Volume!$C$2:$C$7,0))*S25+INDEX(Volume!$D$2:$D$7,MATCH(Jeudi!T25,Volume!$C$2:$C$7,0))*U25 -> 29.5
Q27: Remplissage (%) durant trajet | T27: =IF(U27<0,0,U27) -> 73.555556 | U27: =IF(K25="Dépôt",(U24-V25),(U24+V25)) -> 73.555556
A28: Etapes 6 | K28: Retrait | N28: Linge sale | O28: 3 | P28: Vrac | R28: pharmacie | S28: 7 | T28: Glacière | V28: =INDEX(Volume!$D$2:$D$7,MATCH(Jeudi!N28,Volume!$C$2:$C$7,0))*O28+INDEX(Volume!$D$2:$D$7,MATCH(Jeudi!P28,Volume!$C$2:$C$7,0))*Q28+INDEX(Volume!$D$2:$D$7,MATCH(Jeudi!R28,Volume!$C$2:$C$7,0))*S28+INDEX(Volume!$D$2:$D$7,MATCH(Jeudi!T28,Volume!$C$2:$C$7,0))*U28 -> 31.777778
Q30: Remplissage (%) durant trajet | T30: =IF(U30<0,0,U30) -> 105.33333 | U30: =IF(K28="Dépôt",(U27-V28),(U27+V28)) -> 105.33333
A31: Retour | K31: Retrait | N31: Linge sale | O31: 3 | P31: Vrac | Q31: 2 | R31: pharmacie | S31: 1 | T31: Glacière | U31: 1 | V31: =INDEX(Volume!$D$2:$D$7,MATCH(Jeudi!N31,Volume!$C$2:$C$7,0))*O31+INDEX(Volume!$D$2:$D$7,MATCH(Jeudi!P31,Volume!$C$2:$C$7,0))*Q31+INDEX(Volume!$D$2:$D$7,MATCH(Jeudi!R31,Volume!$C$2:$C$7,0))*S31+INDEX(Volume!$D$2:$D$7,MATCH(Jeudi!T31,Volume!$C$2:$C$7,0))*U31 -> 23.777778

Sheet Vendredi
A1: Elaboration des tournées
E2: Externe
D3: Horraire | E3: Destination | H3: Impératif horraire | K3: Explication | N3: Types de contenant | W3: Contraintes | Z3: Habituelle | AA3: Ponctuelle | AB3: Urgent
D5: Début: | E5: Lieu > local > n°tel | H5: Delai à ne pas dépasser | K5: Opération | L5: Préciser l'objet de la mission | N5: Caisse concerné : nombre | W5: pour favoriser le bon déroulement de la mission | Z5: indiquer la fréquence | AA5: Cocher là case concernée | AB5: Cocher là case concernée
A8: Tournée ………. | N8: Types | O8: nombre | P8: Types | Q8: nombre | R8: Types | S8: nombre | T8: Types | U8: nombre | V8: Total
A10: Départ | K10: Retrait | N10: pharmacie | O10: 3 | P10: Linge sale | Q10: 3 | R10: Courrier | S10: 1 | T10: Glacière | U10: 1 | V10: =INDEX(Volume!$D$2:$D$7,MATCH(Vendredi!N31,Volume!$C$2:$C$7,0))*O31+INDEX(Volume!$D$2:$D$7,MATCH(Vendredi!P31,Volume!$C$2:$C$7,0))*Q31+INDEX(Volume!$D$2:$D$7,MATCH(Vendredi!R31,Volume!$C$2:$C$7,0))*S31+INDEX(Volume!$D$2:$D$7,MATCH(Vendredi!T31,Volume!$C$2:$C$7,0))*U31 -> 23.777778
Q12: Remplissage (%) durant trajet | T12: =IF(U12<0,0,U12) -> 23.777778 | U12: =IF(K10="Dépôt",0,V10) -> 23.777778
A13: Etapes 1 | K13: Retrait | N13: Linge sale | O13: 3 | P13: USMC | R13: pharmacie | S13: 2 | T13: Glacière | U13: 4 | V13: =INDEX(Volume!$D$2:$D$7,MATCH(Vendredi!N13,Volume!$C$2:$C$7,0))*O13+INDEX(Volume!$D$2:$D$7,MATCH(Vendredi!P13,Volume!$C$2:$C$7,0))*Q13+INDEX(Volume!$D$2:$D$7,MATCH(Vendredi!R13,Volume!$C$2:$C$7,0))*S13+INDEX(Volume!$D$2:$D$7,MATCH(Vendredi!T13,Volume!$C$2:$C$7,0))*U13 -> 35.944444
Q15: Remplissage (%) durant trajet | T15: =IF(U15<0,0,U15) -> 59.722222 | U15: =IF(K13="Retrait",(U12+V13),(U12-V13)) -> 59.722222
A16: Etapes 2 | K16: Dépôt | N16: Linge sale | O16: 3 | P16: Vrac | R16: pharmacie | S16: 3 | T16: USMC | U16: 4 | V16: =INDEX(Volume!$D$2:$D$7,MATCH(Vendredi!N16,Volume!$C$2:$C$7,0))*O16+INDEX(Volume!$D$2:$D$7,MATCH(Vendredi!P16,Volume!$C$2:$C$7,0))*Q16+INDEX(Volume!$D$2:$D$7,MATCH(Vendredi!R16,Volume!$C$2:$C$7,0))*S16+INDEX(Volume!$D$2:$D$7,MATCH(Vendredi!T16,Volume!$C$2:$C$7,0))*U16 -> 56
Q18: Remplissage (%) durant trajet | T18: =IF(U18<0,0,U18) -> 3.7222222 | U18: =IF(K16="Dépôt",((U15)-V16),((U15)+V16)) -> 3.7222222
A19: Etapes 3 | K19: Dépôt | N19: Linge sale | O19: 3 | P19: USMC | Q19: 2 | R19: pharmacie | S19: 4 | T19: Glacière | V19: =INDEX(Volume!$D$2:$D$7,MATCH(Vendredi!N19,Volume!$C$2:$C$7,0))*O19+INDEX(Volume!$D$2:$D$7,MATCH(Vendredi!P19,Volume!$C$2:$C$7,0))*Q19+INDEX(Volume!$D$2:$D$7,MATCH(Vendredi!R19,Volume!$C$2:$C$7,0))*S19+INDEX(Volume!$D$2:$D$7,MATCH(Vendredi!T19,Volume!$C$2:$C$7,0))*U19 -> 41.611111
Q21: Remplissage (%) durant trajet | T21: =IF(U21<0,0,U21) -> 3.7222222 | U21: =IF(K19="Retrait",((T18)+V19),(T18)) -> 3.7222222
A22: Etapes 4 | K22: Retrait | N22: Linge sale | O22: 3 | P22: pharmacie | Q22: 2 | R22: pharmacie | S22: 5 | T22: Glacière | U22: 2 | V22: =INDEX(Volume!$D$2:$D$7,MATCH(Vendredi!N22,Volume!$C$2:$C$7,0))*O22+INDEX(Volume!$D$2:$D$7,MATCH(Vendredi!P22,Volume!$C$2:$C$7,0))*Q22+INDEX(Volume!$D$2:$D$7,MATCH(Vendredi!R22,Volume!$C$2:$C$7,0))*S22+INDEX(Volume!$D$2:$D$7,MATCH(Vendredi!T22,Volume!$C$2:$C$7,0))*U22 -> 39.555556
Q24: Remplissage (%) durant trajet | T24: =IF(U24<0,0,U24) -> 43.277778 | U24: =IF(K22="Dépôt",(U21-V22),(U21+V22)) -> 43.277778
A25: Etapes 5 | K25: Retrait | N25: Linge sale | O25: 3 | P25: Vrac | R25: pharmacie | S25: 1 | T25: Glacière | V25: =INDEX(Volume!$D$2:$D$7,MATCH(Vendredi!N25,Volume!$C$2:$C$7,0))*O25+INDEX(Volume!$D$2:$D$7,MATCH(Vendredi!P25,Volume!$C$2:$C$7,0))*Q25+INDEX(Volume!$D$2:$D$7,MATCH(Vendredi!R25,Volume!$C$2:$C$7,0))*S25+INDEX(Volume!$D$2:$D$7,MATCH(Vendredi!T25,Volume!$C$2:$C$7,0))*U25 -> 18.111111
Q27: Remplissage (%) durant trajet | T27: =IF(U27<0,0,U27) -> 61.388889 | U27: =IF(K25="Dépôt",(U24-V25),(U24+V25)) -> 61.388889
A28: Etapes 6 | K28: Retrait | N28: Linge sale | O28: 3 | P28: Vrac | R28: pharmacie | S28: 1 | T28: Glacière | V28: =INDEX(Volume!$D$2:$D$7,MATCH(Vendredi!N28,Volume!$C$2:$C$7,0))*O28+INDEX(Volume!$D$2:$D$7,MATCH(Vendredi!P28,Volume!$C$2:$C$7,0))*Q28+INDEX(Volume!$D$2:$D$7,MATCH(Vendredi!R28,Volume!$C$2:$C$7,0))*S28+INDEX(Volume!$D$2:$D$7,MATCH(Vendredi!T28,Volume!$C$2:$C$7,0))*U28 -> 18.111111
Q30: Remplissage (%) durant trajet | T30: =IF(U30<0,0,U30) -> 79.5 | U30: =IF(K28="Dépôt",(U27-V28),(U27+V28)) -> 79.5
A31: Retour | K31: Retrait | N31: Linge sale | O31: 3 | P31: Vrac | Q31: 2 | R31: pharmacie | S31: 1 | T31: Glacière | U31: 1 | V31: =INDEX(Volume!$D$2:$D$7,MATCH(Vendredi!N31,Volume!$C$2:$C$7,0))*O31+INDEX(Volume!$D$2:$D$7,MATCH(Vendredi!P31,Volume!$C$2:$C$7,0))*Q31+INDEX(Volume!$D$2:$D$7,MATCH(Vendredi!R31,Volume!$C$2:$C$7,0))*S31+INDEX(Volume!$D$2:$D$7,MATCH(Vendredi!T31,Volume!$C$2:$C$7,0))*U31 -> 23.777778

Sheet Volume
A1: Retrait | C1: Caisses | D1: Volume (%) | E1: Volume (L) | F1: Max
A2: Dépôt | C2: USMC | D2: =E2*$D$9/$E$9 -> 8.3333333 | E2: 150 | F2: =6*E2 -> 900
C3: Linge sale | D3: =E3*$D$9/$E$9 -> 5.2777778 | E3: 95 | H3: =6*E2+E3+E4+4*E5+E8 -> 1616
C4: pharmacie | D4: =E4*$D$9/$E$9 -> 2.2777778 | E4: 41 | H4: =H3*100/E9 -> 89.777778
C5: Glacière | D5: =E5*$D$9/$E$9 -> 3.8888889 | E5: 70
C6: Courrier | D6: =E6*$D$9/$E$9 -> 1.7777778 | E6: 32
A7: (Eau+divers) = | C7: Vrac | D7: =E7*$D$9/$E$9 -> 0.88888889 | E7: 16
C8: Diable | D8: =E8*$D$9/$E$9 -> 16.666667 | E8: 300 | G8: Véhicule prit en compte : Partener …. DTM CH Lens
C9: total estimé | D9: 100 | E9: 1800
