Workbook
Name Charcuteries: Charcuteries!$B$1:$B$27
Name Dessert: Desserts!$B$1:$B$186
Name Fromages: Fromages!$B$1:$B$26
Name Plat: 'Plat principal'!$B$2:$B$374
Name Salade: 'Salade du soir'!$B$2:$B$99
Name SE: 'Soupes et Entrées'!$B$3:$B$82

Sheet FR
C1: Menu de la semaine du 18/04/2016 au 24/04/2016
A2: Maison de Repos et de Soins | C2: Merci de déposer le menu à la réception pour le lundi au plus tard.
B3: Lundi | C3: Mardi | D3: Mercredi | E3: Jeudi | F3: Vendredi | G3: Samedi | H3: Dimanche
A4: Potage / Entrée | I4: 1. Tapez les premières lettres du plat
A5: Plat du jour | I5: 1. Sélectionner dans le menu déroulant le plat correspondant
I6: 2. Si le plat ne s'y trouve pas, l'ajouter dans la feuille correspondante, ainsi que sa traduction
I7: 3. Excel s'occupe du reste ;)
A10: Plats substitution | B10: Omelette | C10: Omelette | D10: Omelette | E10: Omelette | F10: Omelette | G10: Omelette | H10: Omelette
B11: Lasagne bolognaise | C11: Lasagne bolognaise | D11: Lasagne bolognaise | E11: Lasagne bolognaise | F11: Lasagne bolognaise | G11: Lasagne bolognaise | H11: Lasagne bolognaise
A12: Dessert
A13: Menu mouliné | B13: Idem plat du jour | C13: Idem plat du jour | D13: Idem plat du jour | E13: Idem plat du jour | F13: Idem plat du jour | G13: Idem plat du jour | H13: Idem plat du jour
B14: En flan, purée ou | C14: En flan, purée ou | D14: En flan, purée ou | E14: En flan, purée ou | F14: En flan, purée ou | G14: En flan, purée ou | H14: En flan, purée ou
B15: parmentier | C15: parmentier | D15: parmentier | E15: parmentier | F15: parmentier | G15: parmentier | H15: parmentier
A17: Goûter | B17: Goûter Maison | C17: Goûter Maison | D17: Goûter Maison | E17: Goûter Maison | F17: Goûter Maison | G17: Goûter Maison | H17: Goûter Maison
A19: Chariot souper | I19: Charcuteries
I21: Salades
I23: Fromages
A25: Menu mouliné | B25: Idem chariot - moulu | C25: Idem chariot - moulu | D25: Idem chariot - moulu | E25: Idem chariot - moulu | F25: Idem chariot - moulu | G25: Idem chariot - moulu | H25: Idem chariot - moulu
A26: Dessert

Sheet NL
C1: Menu van de week van 18/04/2016 tot 22/04/2016
A2: Rust en Vorzinging Rusthuis | C2: Dank U naar het menu bestand bij de receptie voor maandag ten laatste.
B3: Maandag | C3: Dinsdag | D3: Woensdag | E3: Donderdag | F3: Vrijdag | G3: Zaterdag | H3: Zondag
A4: Soep Voorgerecht | B4: =IF(ISBLANK(FR!B4),0,VLOOKUP(FR!B4,'Soupes et Entrées'!$B$4:$C$82,2,FALSE)) -> 0 | C4: =IF(ISBLANK(FR!C4),0,VLOOKUP(FR!C4,'Soupes et Entrées'!$B$4:$C$82,2,FALSE)) -> 0 | D4: =IF(ISBLANK(FR!D4),0,VLOOKUP(FR!D4,'Soupes et Entrées'!$B$4:$C$82,2,FALSE)) -> 0 | E4: =IF(ISBLANK(FR!E4),0,VLOOKUP(FR!E4,'Soupes et Entrées'!$B$4:$C$82,2,FALSE)) -> 0 | F4: =IF(ISBLANK(FR!F4),0,VLOOKUP(FR!F4,'Soupes et Entrées'!$B$4:$C$82,2,FALSE)) -> 0 | G4: =IF(ISBLANK(FR!G4),0,VLOOKUP(FR!G4,'Soupes et Entrées'!$B$4:$C$82,2,FALSE)) -> 0 | H4: =IF(ISBLANK(FR!H4),0,VLOOKUP(FR!H4,'Soupes et Entrées'!$B$4:$C$82,2,FALSE)) -> 0
A5: Dagschotel | B5: =IF(ISBLANK(FR!B5),0,VLOOKUP(FR!B5,'Plat principal'!$B$1:$C$374,2,FALSE)) -> 0 | C5: =IF(ISBLANK(FR!C5),0,VLOOKUP(FR!C5,'Plat principal'!$B$1:$C$374,2,FALSE)) -> 0 | D5: =IF(ISBLANK(FR!D5),0,VLOOKUP(FR!D5,'Plat principal'!$B$1:$C$374,2,FALSE)) -> 0 | E5: =IF(ISBLANK(FR!E5),0,VLOOKUP(FR!E5,'Plat principal'!$B$1:$C$374,2,FALSE)) -> 0 | F5: =IF(ISBLANK(FR!F5),0,VLOOKUP(FR!F5,'Plat principal'!$B$1:$C$374,2,FALSE)) -> 0 | G5: =IF(ISBLANK(FR!G5),0,VLOOKUP(FR!G5,'Plat principal'!$B$1:$C$374,2,FALSE)) -> 0 | H5: =IF(ISBLANK(FR!H5),0,VLOOKUP(FR!H5,'Plat principal'!$B$1:$C$374,2,FALSE)) -> 0
B6: =IF(ISBLANK(FR!B6),0,VLOOKUP(FR!B6,'Plat principal'!$B$1:$C$374,2,FALSE)) -> 0 | C6: =IF(ISBLANK(FR!C6),0,VLOOKUP(FR!C6,'Plat principal'!$B$1:$C$374,2,FALSE)) -> 0 | D6: =IF(ISBLANK(FR!D7),0,VLOOKUP(FR!D7,'Plat principal'!$B$1:$C$374,2,FALSE)) -> 0 | E6: =IF(ISBLANK(FR!E6),0,VLOOKUP(FR!E6,'Plat principal'!$B$1:$C$374,2,FALSE)) -> 0 | J6: NE JAMAIS ECRIRE SUR CETTE FEUILLE
B7: =IF(ISBLANK(FR!B7),0,VLOOKUP(FR!B7,'Plat principal'!$B$1:$C$374,2,FALSE)) -> 0 | C7: =IF(ISBLANK(FR!C7),0,VLOOKUP(FR!C7,'Plat principal'!$B$1:$C$374,2,FALSE)) -> 0 | D7: =IF(ISBLANK(FR!D8),0,VLOOKUP(FR!D8,'Plat principal'!$B$1:$C$374,2,FALSE)) -> 0 | E7: =IF(ISBLANK(FR!E7),0,VLOOKUP(FR!E7,'Plat principal'!$B$1:$C$374,2,FALSE)) -> 0 | F7: =IF(ISBLANK(FR!F6),0,VLOOKUP(FR!F6,'Plat principal'!$B$1:$C$374,2,FALSE)) -> 0 | G7: =IF(ISBLANK(FR!G7),0,VLOOKUP(FR!G7,'Plat principal'!$B$1:$C$374,2,FALSE)) -> 0
B8: =IF(ISBLANK(FR!B8),0,VLOOKUP(FR!B8,'Plat principal'!$B$1:$C$374,2,FALSE)) -> 0 | D8: =IF(ISBLANK(FR!D9),0,VLOOKUP(FR!D9,'Plat principal'!$B$1:$C$374,2,FALSE)) -> 0 | E8: =IF(ISBLANK(FR!E8),0,VLOOKUP(FR!E8,'Plat principal'!$B$1:$C$374,2,FALSE)) -> 0 | F8: =IF(ISBLANK(FR!F8),0,VLOOKUP(FR!F8,'Plat principal'!$B$1:$C$374,2,FALSE)) -> 0 | G8: =IF(ISBLANK(FR!G8),0,VLOOKUP(FR!G8,'Plat principal'!$B$1:$C$374,2,FALSE)) -> 0 | H8: =IF(ISBLANK(FR!H8),0,VLOOKUP(FR!H8,'Plat principal'!$B$1:$C$374,2,FALSE)) -> 0
B9: =IF(ISBLANK(FR!B9),0,VLOOKUP(FR!B9,'Plat principal'!$B$1:$C$374,2,FALSE)) -> 0 | C9: =IF(ISBLANK(FR!C9),0,VLOOKUP(FR!C9,'Plat principal'!$B$1:$C$374,2,FALSE)) -> 0 | F9: =IF(ISBLANK(FR!F9),0,VLOOKUP(FR!F9,'Plat principal'!$B$1:$C$374,2,FALSE)) -> 0 | H9: =IF(ISBLANK(FR!H9),0,VLOOKUP(FR!H9,'Plat principal'!$B$1:$C$374,2,FALSE)) -> 0
A10: of | B10: =IF(ISBLANK(FR!B10),0,VLOOKUP(FR!B10,'Plat principal'!$B$1:$C$374,2,FALSE)) -> Omelet | C10: =IF(ISBLANK(FR!C10),0,VLOOKUP(FR!C10,'Plat principal'!$B$1:$C$374,2,FALSE)) -> Omelet | D10: =IF(ISBLANK(FR!D10),0,VLOOKUP(FR!D10,'Plat principal'!$B$1:$C$374,2,FALSE)) -> Omelet | E10: =IF(ISBLANK(FR!E10),0,VLOOKUP(FR!E10,'Plat principal'!$B$1:$C$374,2,FALSE)) -> Omelet | F10: =IF(ISBLANK(FR!F10),0,VLOOKUP(FR!F10,'Plat principal'!$B$1:$C$374,2,FALSE)) -> Omelet | G10: =IF(ISBLANK(FR!G10),0,VLOOKUP(FR!G10,'Plat principal'!$B$1:$C$374,2,FALSE)) -> Omelet | H10: =IF(ISBLANK(FR!H10),0,VLOOKUP(FR!H10,'Plat principal'!$B$1:$C$374,2,FALSE)) -> Omelet
B11: =IF(ISBLANK(FR!B11),0,VLOOKUP(FR!B11,'Plat principal'!$B$1:$C$374,2,FALSE)) -> Lasagne Bolognese | C11: =IF(ISBLANK(FR!C11),0,VLOOKUP(FR!C11,'Plat principal'!$B$1:$C$374,2,FALSE)) -> Lasagne Bolognese | D11: =IF(ISBLANK(FR!D11),0,VLOOKUP(FR!D11,'Plat principal'!$B$1:$C$374,2,FALSE)) -> Lasagne Bolognese | E11: =IF(ISBLANK(FR!E11),0,VLOOKUP(FR!E11,'Plat principal'!$B$1:$C$374,2,FALSE)) -> Lasagne Bolognese | F11: =IF(ISBLANK(FR!F11),0,VLOOKUP(FR!F11,'Plat principal'!$B$1:$C$374,2,FALSE)) -> Lasagne Bolognese | G11: =IF(ISBLANK(FR!G11),0,VLOOKUP(FR!G11,'Plat principal'!$B$1:$C$374,2,FALSE)) -> Lasagne Bolognese | H11: =IF(ISBLANK(FR!H11),0,VLOOKUP(FR!H11,'Plat principal'!$B$1:$C$374,2,FALSE)) -> Lasagne Bolognese
A12: Dessert | B12: =IF(ISBLANK(FR!B12),0,VLOOKUP(FR!B12,Desserts!$B$1:$C$186,2,FALSE)) -> 0 | C12: =IF(ISBLANK(FR!C12),0,VLOOKUP(FR!C12,Desserts!$B$1:$C$186,2,FALSE)) -> 0 | D12: =IF(ISBLANK(FR!D12),0,VLOOKUP(FR!D12,Desserts!$B$1:$C$186,2,FALSE)) -> 0 | E12: =IF(ISBLANK(FR!E12),0,VLOOKUP(FR!E12,Desserts!$B$1:$C$186,2,FALSE)) -> 0 | F12: =IF(ISBLANK(FR!F12),0,VLOOKUP(FR!F12,Desserts!$B$1:$C$186,2,FALSE)) -> 0 | G12: =IF(ISBLANK(FR!G12),0,VLOOKUP(FR!G12,Desserts!$B$1:$C$186,2,FALSE)) -> 0 | H12: =IF(ISBLANK(FR!H12),0,VLOOKUP(FR!H12,Desserts!$B$1:$C$186,2,FALSE)) -> 0 | J12: LES FORMULES PERMETTENT DE TRADUIRE AUTOMATIQUEMENT LES PLATS
A13: Gestrand menu | B13: Dezelfde schotel van de dag in flan, puree of parmentier | C13: Dezelfde schotel van de dag in flan, puree of parmentier | D13: Dezelfde schotel van de dag in flan, puree of parmentier | E13: Dezelfde schotel van de dag in flan, puree of parmentier | F13: Dezelfde schotel van de dag in flan, puree of parmentier | G13: Dezelfde schotel van de dag in flan, puree of parmentier | H13: Dezelfde schotel van de dag in flan, puree of parmentier
A17: Vieruurtje | B17: =IF(ISBLANK(FR!B17),0,VLOOKUP(FR!B17,Desserts!$B$1:$C$186,2,FALSE)) -> Vieruurtje | C17: =IF(ISBLANK(FR!C17),0,VLOOKUP(FR!C17,Desserts!$B$1:$C$186,2,FALSE)) -> Vieruurtje | D17: =IF(ISBLANK(FR!D17),0,VLOOKUP(FR!D17,Desserts!$B$1:$C$186,2,FALSE)) -> Vieruurtje | E17: =IF(ISBLANK(FR!E17),0,VLOOKUP(FR!E17,Desserts!$B$1:$C$186,2,FALSE)) -> Vieruurtje | F17: =IF(ISBLANK(FR!F17),0,VLOOKUP(FR!F17,Desserts!$B$1:$C$186,2,FALSE)) -> Vieruurtje | G17: =IF(ISBLANK(FR!G17),0,VLOOKUP(FR!G17,Desserts!$B$1:$C$186,2,FALSE)) -> Vieruurtje | H17: =IF(ISBLANK(FR!H17),0,VLOOKUP(FR!H17,Desserts!$B$1:$C$186,2,FALSE)) -> Vieruurtje
A19: Avondmaal | B19: =IF(ISBLANK(FR!B19),0,VLOOKUP(FR!B19,Charcuteries!$B$1:$C$27,2,FALSE)) -> 0 | C19: =IF(ISBLANK(FR!C19),0,VLOOKUP(FR!C19,Charcuteries!$B$1:$C$27,2,FALSE)) -> 0 | D19: =IF(ISBLANK(FR!D19),0,VLOOKUP(FR!D19,Charcuteries!$B$1:$C$27,2,FALSE)) -> 0 | E19: =IF(ISBLANK(FR!E19),0,VLOOKUP(FR!E19,Charcuteries!$B$1:$C$27,2,FALSE)) -> 0 | F19: =IF(ISBLANK(FR!F19),0,VLOOKUP(FR!F19,Charcuteries!$B$1:$C$27,2,FALSE)) -> 0 | G19: =IF(ISBLANK(FR!G19),0,VLOOKUP(FR!G19,Charcuteries!$B$1:$C$27,2,FALSE)) -> 0 | H19: =IF(ISBLANK(FR!H19),0,VLOOKUP(FR!H19,Charcuteries!$B$1:$C$27,2,FALSE)) -> 0 | J19: SI VOUS ECRIVEZ SUR LA FEUILLE, VOUS EFFACEZ LES FORMULES
B20: =IF(ISBLANK(FR!B20),0,VLOOKUP(FR!B20,Charcuteries!$B$1:$C$27,2,FALSE)) -> 0 | C20: =IF(ISBLANK(FR!C20),0,VLOOKUP(FR!C20,Charcuteries!$B$1:$C$27,2,FALSE)) -> 0 | D20: =IF(ISBLANK(FR!D20),0,VLOOKUP(FR!D20,Charcuteries!$B$1:$C$27,2,FALSE)) -> 0 | E20: =IF(ISBLANK(FR!E20),0,VLOOKUP(FR!E20,Charcuteries!$B$1:$C$27,2,FALSE)) -> 0 | F20: =IF(ISBLANK(FR!F20),0,VLOOKUP(FR!F20,Charcuteries!$B$1:$C$27,2,FALSE)) -> 0 | G20: =IF(ISBLANK(FR!G20),0,VLOOKUP(FR!G20,Charcuteries!$B$1:$C$27,2,FALSE)) -> 0 | H20: =IF(ISBLANK(FR!H20),0,VLOOKUP(FR!H20,Charcuteries!$B$1:$C$27,2,FALSE)) -> 0
B21: =IF(ISBLANK(FR!B21),0,VLOOKUP(FR!B21,'Salade du soir'!$B$1:$C$99,2,FALSE)) -> 0 | C21: =IF(ISBLANK(FR!C21),0,VLOOKUP(FR!C21,'Salade du soir'!$B$1:$C$99,2,FALSE)) -> 0 | D21: =IF(ISBLANK(FR!D21),0,VLOOKUP(FR!D21,'Salade du soir'!$B$1:$C$99,2,FALSE)) -> 0 | E21: =IF(ISBLANK(FR!E21),0,VLOOKUP(FR!E21,'Salade du soir'!$B$1:$C$99,2,FALSE)) -> 0 | F21: =IF(ISBLANK(FR!F21),0,VLOOKUP(FR!F21,'Salade du soir'!$B$1:$C$99,2,FALSE)) -> 0 | G21: =IF(ISBLANK(FR!G21),0,VLOOKUP(FR!G21,'Salade du soir'!$B$1:$C$99,2,FALSE)) -> 0 | H21: =IF(ISBLANK(FR!H21),0,VLOOKUP(FR!H21,'Salade du soir'!$B$1:$C$99,2,FALSE)) -> 0
C22: =IF(ISBLANK(FR!C22),0,VLOOKUP(FR!C22,'Salade du soir'!$B$1:$C$99,2,FALSE)) -> 0 | E22: =IF(ISBLANK(FR!E22),0,VLOOKUP(FR!E22,'Salade du soir'!$B$1:$C$99,2,FALSE)) -> 0
B23: =IF(ISBLANK(FR!B23),0,VLOOKUP(FR!B23,Fromages!$B$1:$C$26,2,FALSE)) -> 0 | C23: =IF(ISBLANK(FR!C23),0,VLOOKUP(FR!C23,Fromages!$B$1:$C$26,2,FALSE)) -> 0 | D23: =IF(ISBLANK(FR!D23),0,VLOOKUP(FR!D23,Fromages!$B$1:$C$26,2,FALSE)) -> 0 | E23: =IF(ISBLANK(FR!E23),0,VLOOKUP(FR!E23,Fromages!$B$1:$C$26,2,FALSE)) -> 0 | F23: =IF(ISBLANK(FR!F23),0,VLOOKUP(FR!F23,Fromages!$B$1:$C$26,2,FALSE)) -> 0 | G23: =IF(ISBLANK(FR!G23),0,VLOOKUP(FR!G23,Fromages!$B$1:$C$26,2,FALSE)) -> 0 | H23: =IF(ISBLANK(FR!H23),0,VLOOKUP(FR!H23,Fromages!$B$1:$C$26,2,FALSE)) -> 0
B24: =IF(ISBLANK(FR!B24),0,VLOOKUP(FR!B24,Fromages!$B$1:$C$26,2,FALSE)) -> 0 | C24: =IF(ISBLANK(FR!C24),0,VLOOKUP(FR!C24,Fromages!$B$1:$C$26,2,FALSE)) -> 0 | D24: =IF(ISBLANK(FR!D24),0,VLOOKUP(FR!D24,Fromages!$B$1:$C$26,2,FALSE)) -> 0 | E24: =IF(ISBLANK(FR!E24),0,VLOOKUP(FR!E24,Fromages!$B$1:$C$26,2,FALSE)) -> 0 | F24: =IF(ISBLANK(FR!F24),0,VLOOKUP(FR!F24,Fromages!$B$1:$C$26,2,FALSE)) -> 0 | G24: =IF(ISBLANK(FR!G24),0,VLOOKUP(FR!G24,Fromages!$B$1:$C$26,2,FALSE)) -> 0 | H24: =IF(ISBLANK(FR!H24),0,VLOOKUP(FR!H24,Fromages!$B$1:$C$26,2,FALSE)) -> 0
A25: Gestrand menu | B25: =IF(ISBLANK(FR!B25),0,VLOOKUP(FR!B25,'Plat principal'!$B$1:$C$374,2,FALSE)) -> Identiek, maar grond | C25: =IF(ISBLANK(FR!C25),0,VLOOKUP(FR!C25,'Plat principal'!$B$1:$C$374,2,FALSE)) -> Identiek, maar grond | D25: =IF(ISBLANK(FR!D25),0,VLOOKUP(FR!D25,'Plat principal'!$B$1:$C$374,2,FALSE)) -> Identiek, maar grond | E25: =IF(ISBLANK(FR!E25),0,VLOOKUP(FR!E25,'Plat principal'!$B$1:$C$374,2,FALSE)) -> Identiek, maar grond | F25: =IF(ISBLANK(FR!F25),0,VLOOKUP(FR!F25,'Plat principal'!$B$1:$C$374,2,FALSE)) -> Identiek, maar grond | G25: =IF(ISBLANK(FR!G25),0,VLOOKUP(FR!G25,'Plat principal'!$B$1:$C$374,2,FALSE)) -> Identiek, maar grond | H25: =IF(ISBLANK(FR!H25),0,VLOOKUP(FR!H25,'Plat principal'!$B$1:$C$374,2,FALSE)) -> Identiek, maar grond
A26: Dessert | B26: =IF(ISBLANK(FR!B26),0,VLOOKUP(FR!B26,Desserts!$B$1:$C$186,2,FALSE)) -> 0 | C26: =IF(ISBLANK(FR!C26),0,VLOOKUP(FR!C26,Desserts!$B$1:$C$186,2,FALSE)) -> 0 | D26: =IF(ISBLANK(FR!D26),0,VLOOKUP(FR!D26,Desserts!$B$1:$C$186,2,FALSE)) -> 0 | E26: =IF(ISBLANK(FR!E26),0,VLOOKUP(FR!E26,Desserts!$B$1:$C$186,2,FALSE)) -> 0 | F26: =IF(ISBLANK(FR!F26),0,VLOOKUP(FR!F26,Desserts!$B$1:$C$186,2,FALSE)) -> 0 | G26: =IF(ISBLANK(FR!G26),0,VLOOKUP(FR!G26,Desserts!$B$1:$C$186,2,FALSE)) -> 0 | H26: =IF(ISBLANK(FR!H26),0,VLOOKUP(FR!H26,Desserts!$B$1:$C$186,2,FALSE)) -> 0

Sheet Soupes et Entrées
B2: Avocat au surimi et crevettes cocktail | C2: Avocado met surimi en garnalencocktail
B3: Avocat crevettes cocktail | C3: Avocado met garnalencocktail
B4: Consommé brunoise | C4: Krachtige bouillon
B5: Crème céleri rave | C5: Knolselderij crème
B6: Crème de chicons | C6: Witloofsoep
B7: Crème de concombre | C7: Komkommersoep
B8: Crème de maïs | C8: Maissoep
B9: Crème de navets | C9: Romige knollensoep
B10: Crème d'épinards | C10: Spinaziesoep
B11: Crème Dubarry | C11: Roomsoep Dubarry
B12: Crêpe au fromage | C12: Pannenkoeken met kaas
B13: Crêpe jambon fumé | C13: Pannenkoeken met gerookte ham
... B81: Wrap roulé à la crème aigre avec ciboulette et saumon fumé | C81: Wrap met zuursaus, bieslook en gerookte zalm

Sheet Plat principal
B2: à la Milanaise | C2: alla Milanese
B3: Aiguillettes de poulet | C3: Kippesliertjes
B4: Aiguillettes de poulet rôti | C4: Geroosterde kippesliertjes
B5: Aiguillettes de volaille | C5: Kippesliertjes
B6: Aubergines sautées | C6: Gebakken aubergine
B7: Aumônière de Colin d'Alaska | C7: Aumoniere van koolvis
B8: Beurre blanc | C8: Witte Boter
B9: Beurre blanc à la tapenade | C9: Boter met tapenade
B10: Beurre blanc au Dill | C10: Dilleboter
B11: Beurre blanc au Xéres | C11: Sherry-botersaus
B12: Beurre blanc aux câpres et persil | C12: Witte boter met kappertjes en peterselie
B13: Beurre meunière | C13: Boter "menuière"
... B381: Waterzoï de volaille | C381: Waterzooi van kip

Sheet Desserts
B1: Abricot | C1: Abrikoos
B2: Activia Citron | C2: Activia citroen
B3: Activia nature | C3: Natuur Activia
B4: Ananas | C4: Ananas
B5: Ananas et mousse à la noix de coco | C5: Ananas met kokosmoes
B6: Ananas rôti au miel et caramel | C6: Geroosterde ananas met karamel
B7: Ananas rôti au miel sur lit de crème mascarpone | C7: Geroosterde ananas met mascarpone
B8: Banane | C8: Banana
B9: Bavarois aux fruits rouges | C9: Bavarois met rode vruchten
B10: Bavarois fraise | C10: Bavarois met aardbei
B11: Beignets à la framboise | C11: Beignet met frambozen
B12: Bifidus citron | C12: Bifidus citroen
... B189: Yoplait aux fruits | C189: Yoplait met vruchten

Sheet Charcuteries
B1: Cervelas | C1: Cervelaat
B2: Chorizo | C2: Chorizo
B3: Filet de dinde | C3: Kalkoenfilet
B4: Filet de poulet | C4: Kipfilet
B5: Jambon | C5: Ham
B6: Jambon à l'os | C6: Beenhesp
B7: Jambon cru | C7: Rauwe ham
B8: Jambon de dinde | C8: Kalkoenham
B9: Jambon de Paris | C9: Jambon de Paris
B10: Jambon fumé | C10: Gerookte ham
B11: Jambon grillé | C11: Gegrilde ham
B12: Jambon persillé | C12: Ham met peterselie
... B27: Terrine de mousse de canard | C27: Terrine van eend

Sheet Fromages
B1: Bleu | C1: Bleu
B2: Boursin fines herbes | C2: Boursin fijne kruiden
B3: Bresse bleu | C3: Bresse bleu
B4: Brie | C4: Brie
B5: Bûche de chèvre | C5: Geitenkaas
B6: Bûchette de chèvre | C6: Geitenkaas
B7: Camembert | C7: Camembert
B8: Chanteneige | C8: Chanteneige
B9: Chaource | C9: Chaource
B10: Chèvre | C10: Geitenkaas
B11: Cœur de bleu | C11: Cœur de bleu
B12: Comté | C12: Comté
... B26: Vache qui Rit | C26: Vache qui Rit

Sheet Salade du soir
B2: Céleri rémoulade | C2: Remoulade met selderij
B3: Cœurs d'artichaut | C3: Artisjokharten
B4: Frisée aux lardons | C4: Krulsla met stukjes spek
B5: Iceberg au crabe | C5: Ijsbergsla met krab
B6: Iceberg au crabe et cocktail | C6: Ijsbergsla met krab en cocktail
B7: Macédoine au surimi | C7: Macedoine met surimi
B8: Macédoine de légumes au surimi | C8: Gemengde groenten
B9: Macédoine de légumes au surimi | C9: Macedoine met surimi
B10: Macédoine de thon | C10: Macedoine met tonijn
B11: Macédoine mayonnaise | C11: Macedoine met mayonaise
B12: Mousse de canard | C12: Moes van eend
B13: Œuf mayonnaise | C13: Gekookt ei met mayonaise
... B101: Vinaigrette | C101: Vinaigrette
