Workbook

Sheet Results
A1: Polymer name | E1: EPDM | G1: NR
N2: Company | O2: Series | P2: Number
Q3: Hardness | R3: Density | S3: Tensil strenght | T3: Elongation | U3: Tear strenght
A4: Main features | M4: EPDM replacement | N4: HexpolTPE | O4: Dryflex | P4: 50225 | Q4: 58 | R4: 1.13 | S4: 3 | T4: 400 | U4: 19
A5: Hardness Shore (A) | D5: Value | E5: 60 | G5: 65 | N5: Polyone | O5: Onflex | P5: S HF 60A | Q5: 60 | R5: 1.09 | S5: 3 | T5: 420 | U5: 21
D6: Tolerance (%) | E6: 5 | G6: 5 | P6: S KE 60A | Q6: 60 | R6: 1.12 | S6: 7.2 | T6: 420 | U6: -
D7: Interval | E7: =E5-((E6/100)*E5) -> 57 | F7: =E5+((E6/100)*E5) -> 63 | G7: =G5-((G6/100)*G5) -> 61.75 | H7: =G5+((G6/100)*G5) -> 68.25 | N7: Advance Elastomer System | O7: Alloys Alcryn | P7: 2060 NC | Q7: 59 | R7: 1.12 | S7: 7.93 | T7: 420 | U7: 28
A8: Density (g/cm3) | D8: Value | E8: 1.1 | G8: 1.126 | P8: 2060 BK | Q8: 59 | R8: 1.1 | S8: 8.07 | T8: 410 | U8: 27.2
D9: Tolerance (%) | E9: 5 | G9: 5
D10: Interval | E10: =E8-((E9/100)*E8) -> 1.045 | F10: =E8+((E9/100)*E8) -> 1.155 | G10: =G8-((G9/100)*G8) -> 1.0697 | H10: =G8+((G9/100)*G8) -> 1.1823
A11: Tensile strength (Mpa) | D11: Value | E11: 16 | G11: 15
D12: Tolerance (%) | E12: 5 | G12: 5
D13: Interval | E13: =E11-((E12/100)*E11) -> 15.2 | F13: =E11+((E12/100)*E11) -> 16.8 | G13: =G11-((G12/100)*G11) -> 14.25 | H13: =G11+((G12/100)*G11) -> 15.75
A14: Elongation break (%) | D14: Value | E14: 420 | G14: 425
D15: Tolerance (%) | E15: 5 | G15: 5
D16: Interval | E16: =E14-((E15/100)*E14) -> 399 | F16: =E14+((E15/100)*E14) -> 441 | G16: =G14-((G15/100)*G14) -> 403.75 | H16: =G14+((G15/100)*G14) -> 446.25
A17: Tear strenght (N/mm2) | D17: Value | E17: 9.1 | G17: 11
D18: Tolerance (%) | E18: 5 | G18: 15
D19: Interval | E19: =E17-((E18/100)*E17) -> 8.645 | F19: =E17+((E18/100)*E17) -> 9.555 | G19: =G17-((G18/100)*G17) -> 9.35 | H19: =G17+((G18/100)*G17) -> 12.65
A20: Compression set (%) | C20: 94 hrs 23°C | D20: Value (max) | E20: 30 | G20: 30
D21: Tolerance (%) | E21: 5 | G21: 5
D22: Interval | E22: =E20-(E20*(E21/100)) -> 28.5 | G22: =G20-(G20*(G21/100)) -> 28.5
C23: 22 hrs 150°C | D23: Value (max) | E23: 60 | G23: 60
D24: Tolerance (%) | E24: 5 | G24: 5
D25: Interval | E25: =E23-(E23*(E24/100)) -> 57 | G25: =G23-(G23*(G24/100)) -> 57
L29: Results | N29: Maximum of criteria met | P29: =MAX('Data Sheet'!T7:T800) -> 3 | R29: =MAX('Data Sheet'!AB7:AB800) -> 3
N30: Number of compatible polymer | P30: =COUNTIF('Data Sheet'!T7:T800,Results!P29) -> 5 | R30: =COUNTIF('Data Sheet'!AB7:AB800,Results!R29) -> 3
N31: Compared with : | P31: =COUNTA('Data Sheet'!E:E)-2 -> 764 | R31: polymers
N32: Polymer's names | P32: =[1]!RechercheMultiples(P29,'Data Sheet'!T7:T599,'Data Sheet'!E7:E599,"") -> #NAME? | R32: =[1]!RechercheMultiples(R29,'Data Sheet'!AB7:AB599,'Data Sheet'!E7:E599,"") -> #NAME?
L34: Additional informations | P34: EPDM | R34: NR
L37: Less compatible criteria | P37: =IF(Results!R38=MAX(COUNTIF('Data Sheet'!U7:U800,"FAUX")),'Data Sheet'!U3,IF(Results!R38=MAX(COUNTIF('Data Sheet'!V7:V800,"FAUX")),'Data Sheet'!V3,IF(Results!R38=MAX(COUNTIF('Data Sheet'!W7:W800,"FAUX")),'Data Sheet'!W3,IF(Results!R38=MAX(COUNTIF('Data Sheet'!X7:X800,"FAUX")),'Data Sheet'!X3,IF(MAX(COUNTIF('Data Sheet'!Y7:Y800,"FAUX")),'Data Sheet'!Y3))))) -> Hardness Shore (A or D) | R37: =IF(Results!R38=MAX(COUNTIF('Data Sheet'!M7:M608,"FAUX")),'Data Sheet'!M3,IF(Results!P38=MAX(COUNTIF('Data Sheet'!N7:N608,"FAUX")),'Data Sheet'!N3,IF(Results!P38=MAX(COUNTIF('Data Sheet'!O7:O608,"FAUX")),'Data Sheet'!O3,IF(Results!P38=MAX(COUNTIF('Data Sheet'!P7:P608,"FAUX")),'Data Sheet'!P3,IF(MAX(COUNTIF('Data Sheet'!Q7:Q608,"FAUX")),'Data Sheet'!Q3))))) -> Hardness Shore (A or D)
L38: Number of polymer who don't respect tolerance interval for the less compatible criterion | P38: =MAX(COUNTIF('Data Sheet'!M7:M800,"FAUX"),COUNTIF('Data Sheet'!N7:N800,"FAUX"),COUNTIF('Data Sheet'!O7:O800,"FAUX"),COUNTIF('Data Sheet'!P7:P800,"FAUX"),COUNTIF('Data Sheet'!Q7:Q800,"FAUX")) -> 0 | R38: =MAX(COUNTIF('Data Sheet'!U7:U800,"FAUX"),COUNTIF('Data Sheet'!V7:V800,"FAUX"),COUNTIF('Data Sheet'!W7:W800,"FAUX"),COUNTIF('Data Sheet'!X7:X800,"FAUX"),COUNTIF('Data Sheet'!Y7:Y800,"FAUX")) -> 0

Sheet Data Sheet
F1: DATA BASE | M1: Compatibility check for EPDM | U1: Compatibility check for NR
B3: Company | D3: Categories | E3: Polymer name | F3: Hardness Shore (A or D) | G3: Specific Gravity g/cm^3 | H3: Tensile Strength Mpa | I3: Elongation at Break % | J3: Tear Strength N/mm | K3: Compression set | M3: Hardness Shore (A or D) | N3: Specific Gravity g/cm^3 | O3: Tensile Strength Mpa | P3: Elongation at Break % | Q3: Tear Strength N/mm | R3: Compression set (%) | U3: Hardness Shore (A or D) | V3: Specific Gravity g/cm^3 | W3: Tensile Strength Mpa | X3: Elongation at Break % | Y3: Tear Strength N/mm
K4: 94 hrs 23°c | L4: 22 hrs 150°c | R4: 94 hrs 23°c | S4: 22 hrs 150°c | U4: ISO 868 | V4: ISO 2781 | W4: ISO 37 | X4: ISO 37 | Y4: ISO 34 Method C
U5: ASTM D 2240' | V5: ASTM D 792 | W5: ASTM D 628 | X5: ASTM D 628 | Y5: ASTM D 624
T6: Number of criteria into the tolerance interval for EPDM | U6: DIN 53505 (A) | V6: DIN EN ISO 1183-1 (A) | W6: DIN 53504 | X6: DIN 53504 | AB6: Number of criteria into the tolerance interval for NR
B7: HEXPOLTPE | D7: Dryflex for extrusion profile (TPS) | E7: 4103 | F7: 70 | G7: 1.1 | H7: 4 | I7: 575 | J7: 25 | M7: =AND('Data Sheet'!F7<Results!$F$7,'Data Sheet'!F7>Results!$E$7) -> FALSE | N7: =AND(G7>Results!$E$10,G7<Results!$F$10) -> TRUE | O7: =AND(H7>Results!$E$13,H7<Results!$F$13) -> FALSE | P7: =AND(I7>Results!$E$16,I7<Results!$F$16) -> FALSE | Q7: =AND(J7>Results!$E$19,J7<Results!$F$19) -> FALSE | T7: =COUNTIF(M7:Q7,"TRUE") -> 1 | U7: =AND('Data Sheet'!F7>Results!$G$7,'Data Sheet'!F7<Results!$H$7) -> FALSE | V7: =AND('Data Sheet'!G7>Results!$G$10,'Data Sheet'!G6<Results!$H$10) -> TRUE | W7: =AND('Data Sheet'!H7>Results!$G$13,'Data Sheet'!H7<Results!$H$13) -> FALSE | X7: =AND('Data Sheet'!I7>Results!$G$16,'Data Sheet'!I7<Results!$H$16) -> FALSE | Y7: =AND('Data Sheet'!J7>Results!$G$19,'Data Sheet'!J7<Results!$H$19) -> FALSE | AB7: =COUNTIF(U7:Y7,"TRUE") -> 1
E8: 50225 | F8: 58 | G8: 1.13 | H8: 3 | I8: 400 | J8: 19 | M8: =AND('Data Sheet'!F8<Results!$F$7,'Data Sheet'!F8>Results!$E$7) -> TRUE | N8: =AND(G8>Results!$E$10,G8<Results!$F$10) -> TRUE | O8: =AND(H8>Results!$E$13,H8<Results!$F$13) -> FALSE | P8: =AND(I8>Results!$E$16,I8<Results!$F$16) -> TRUE | Q8: =AND(J8>Results!$E$19,J8<Results!$F$19) -> FALSE | T8: =COUNTIF(M8:Q8,"TRUE") -> 3 | U8: =AND('Data Sheet'!F8>Results!$G$7,'Data Sheet'!F8<Results!$H$7) -> FALSE | V8: =AND('Data Sheet'!G8>Results!$G$10,'Data Sheet'!G7<Results!$H$10) -> TRUE | W8: =AND('Data Sheet'!H8>Results!$G$13,'Data Sheet'!H8<Results!$H$13) -> FALSE | X8: =AND('Data Sheet'!I8>Results!$G$16,'Data Sheet'!I8<Results!$H$16) -> FALSE | Y8: =AND('Data Sheet'!J8>Results!$G$19,'Data Sheet'!J8<Results!$H$19) -> FALSE | AB8: =COUNTIF(U8:Y8,"TRUE") -> 1
E9: 50670 | F9: 60 | G9: 1.11 | H9: 3 | I9: 340 | J9: 23 | M9: =AND('Data Sheet'!F9<Results!$F$7,'Data Sheet'!F9>Results!$E$7) -> TRUE | N9: =AND(G9>Results!$E$10,G9<Results!$F$10) -> TRUE | O9: =AND(H9>Results!$E$13,H9<Results!$F$13) -> FALSE | P9: =AND(I9>Results!$E$16,I9<Results!$F$16) -> FALSE | Q9: =AND(J9>Results!$E$19,J9<Results!$F$19) -> FALSE | T9: =COUNTIF(M9:Q9,"TRUE") -> 2 | U9: =AND('Data Sheet'!F9>Results!$G$7,'Data Sheet'!F9<Results!$H$7) -> FALSE | V9: =AND('Data Sheet'!G9>Results!$G$10,'Data Sheet'!G8<Results!$H$10) -> TRUE | W9: =AND('Data Sheet'!H9>Results!$G$13,'Data Sheet'!H9<Results!$H$13) -> FALSE | X9: =AND('Data Sheet'!I9>Results!$G$16,'Data Sheet'!I9<Results!$H$16) -> FALSE | Y9: =AND('Data Sheet'!J9>Results!$G$19,'Data Sheet'!J9<Results!$H$19) -> FALSE | AB9: =COUNTIF(U9:Y9,"TRUE") -> 1
E10: 605550 | F10: 55 | G10: 1.05 | H10: 6 | I10: 600 | J10: 25 | M10: =AND('Data Sheet'!F10<Results!$F$7,'Data Sheet'!F10>Results!$E$7) -> FALSE | N10: =AND(G10>Results!$E$10,G10<Results!$F$10) -> TRUE | O10: =AND(H10>Results!$E$13,H10<Results!$F$13) -> FALSE | P10: =AND(I10>Results!$E$16,I10<Results!$F$16) -> FALSE | Q10: =AND(J10>Results!$E$19,J10<Results!$F$19) -> FALSE | T10: =COUNTIF(M10:Q10,"TRUE") -> 1 | U10: =AND('Data Sheet'!F10>Results!$G$7,'Data Sheet'!F10<Results!$H$7) -> FALSE | V10: =AND('Data Sheet'!G10>Results!$G$10,'Data Sheet'!G9<Results!$H$10) -> FALSE | W10: =AND('Data Sheet'!H10>Results!$G$13,'Data Sheet'!H10<Results!$H$13) -> FALSE | X10: =AND('Data Sheet'!I10>Results!$G$16,'Data Sheet'!I10<Results!$H$16) -> FALSE | Y10: =AND('Data Sheet'!J10>Results!$G$19,'Data Sheet'!J10<Results!$H$19) -> FALSE | AB10: =COUNTIF(U10:Y10,"TRUE") -> 0
E11: 605620 | F11: 62 | G11: 1.22 | H11: 5 | I11: 600 | J11: 27 | M11: =AND('Data Sheet'!F11<Results!$F$7,'Data Sheet'!F11>Results!$E$7) -> TRUE | N11: =AND(G11>Results!$E$10,G11<Results!$F$10) -> FALSE | O11: =AND(H11>Results!$E$13,H11<Results!$F$13) -> FALSE | P11: =AND(I11>Results!$E$16,I11<Results!$F$16) -> FALSE | Q11: =AND(J11>Results!$E$19,J11<Results!$F$19) -> FALSE | T11: =COUNTIF(M11:Q11,"TRUE") -> 1 | U11: =AND('Data Sheet'!F11>Results!$G$7,'Data Sheet'!F11<Results!$H$7) -> TRUE | V11: =AND('Data Sheet'!G11>Results!$G$10,'Data Sheet'!G10<Results!$H$10) -> TRUE | W11: =AND('Data Sheet'!H11>Results!$G$13,'Data Sheet'!H11<Results!$H$13) -> FALSE | X11: =AND('Data Sheet'!I11>Results!$G$16,'Data Sheet'!I11<Results!$H$16) -> FALSE | Y11: =AND('Data Sheet'!J11>Results!$G$19,'Data Sheet'!J11<Results!$H$19) -> FALSE | AB11: =COUNTIF(U11:Y11,"TRUE") -> 2
E12: 660480 | F12: 48 | G12: 1.04 | H12: 5.2 | I12: 600 | J12: 22 | M12: =AND('Data Sheet'!F12<Results!$F$7,'Data Sheet'!F12>Results!$E$7) -> FALSE | N12: =AND(G12>Results!$E$10,G12<Results!$F$10) -> FALSE | O12: =AND(H12>Results!$E$13,H12<Results!$F$13) -> FALSE | P12: =AND(I12>Results!$E$16,I12<Results!$F$16) -> FALSE | Q12: =AND(J12>Results!$E$19,J12<Results!$F$19) -> FALSE | T12: =COUNTIF(M12:Q12,"TRUE") -> 0 | U12: =AND('Data Sheet'!F12>Results!$G$7,'Data Sheet'!F12<Results!$H$7) -> FALSE | V12: =AND('Data Sheet'!G12>Results!$G$10,'Data Sheet'!G11<Results!$H$10) -> FALSE | W12: =AND('Data Sheet'!H12>Results!$G$13,'Data Sheet'!H12<Results!$H$13) -> FALSE | X12: =AND('Data Sheet'!I12>Results!$G$16,'Data Sheet'!I12<Results!$H$16) -> FALSE | Y12: =AND('Data Sheet'!J12>Results!$G$19,'Data Sheet'!J12<Results!$H$19) -> FALSE | AB12: =COUNTIF(U12:Y12,"TRUE") -> 0
E13: 300581 | F13: 58 | G13: 1.18 | H13: 6 | I13: 500 | J13: 30 | M13: =AND('Data Sheet'!F13<Results!$F$7,'Data Sheet'!F13>Results!$E$7) -> TRUE | N13: =AND(G13>Results!$E$10,G13<Results!$F$10) -> FALSE | O13: =AND(H13>Results!$E$13,H13<Results!$F$13) -> FALSE | P13: =AND(I13>Results!$E$16,I13<Results!$F$16) -> FALSE | Q13: =AND(J13>Results!$E$19,J13<Results!$F$19) -> FALSE | T13: =COUNTIF(M13:Q13,"TRUE") -> 1 | U13: =AND('Data Sheet'!F13>Results!$G$7,'Data Sheet'!F13<Results!$H$7) -> FALSE | V13: =AND('Data Sheet'!G13>Results!$G$10,'Data Sheet'!G12<Results!$H$10) -> TRUE | W13: =AND('Data Sheet'!H13>Results!$G$13,'Data Sheet'!H13<Results!$H$13) -> FALSE | X13: =AND('Data Sheet'!I13>Results!$G$16,'Data Sheet'!I13<Results!$H$16) -> FALSE | Y13: =AND('Data Sheet'!J13>Results!$G$19,'Data Sheet'!J13<Results!$H$19) -> FALSE | AB13: =COUNTIF(U13:Y13,"TRUE") -> 1
E14: 700541 | F14: 54 | G14: 1.17 | H14: 5.5 | I14: 700 | J14: 28 | M14: =AND('Data Sheet'!F14<Results!$F$7,'Data Sheet'!F14>Results!$E$7) -> FALSE | N14: =AND(G14>Results!$E$10,G14<Results!$F$10) -> FALSE | O14: =AND(H14>Results!$E$13,H14<Results!$F$13) -> FALSE | P14: =AND(I14>Results!$E$16,I14<Results!$F$16) -> FALSE | Q14: =AND(J14>Results!$E$19,J14<Results!$F$19) -> FALSE | T14: =COUNTIF(M14:Q14,"TRUE") -> 0 | U14: =AND('Data Sheet'!F14>Results!$G$7,'Data Sheet'!F14<Results!$H$7) -> FALSE | V14: =AND('Data Sheet'!G14>Results!$G$10,'Data Sheet'!G13<Results!$H$10) -> TRUE | W14: =AND('Data Sheet'!H14>Results!$G$13,'Data Sheet'!H14<Results!$H$13) -> FALSE | X14: =AND('Data Sheet'!I14>Results!$G$16,'Data Sheet'!I14<Results!$H$16) -> FALSE | Y14: =AND('Data Sheet'!J14>Results!$G$19,'Data Sheet'!J14<Results!$H$19) -> FALSE | AB14: =COUNTIF(U14:Y14,"TRUE") -> 1
E15: 500551 | F15: 55 | G15: 0.9 | H15: 6 | I15: 600 | J15: 19 | M15: =AND('Data Sheet'!F15<Results!$F$7,'Data Sheet'!F15>Results!$E$7) -> FALSE | N15: =AND(G15>Results!$E$10,G15<Results!$F$10) -> FALSE | O15: =AND(H15>Results!$E$13,H15<Results!$F$13) -> FALSE | P15: =AND(I15>Results!$E$16,I15<Results!$F$16) -> FALSE | Q15: =AND(J15>Results!$E$19,J15<Results!$F$19) -> FALSE | T15: =COUNTIF(M15:Q15,"TRUE") -> 0 | U15: =AND('Data Sheet'!F15>Results!$G$7,'Data Sheet'!F15<Results!$H$7) -> FALSE | V15: =AND('Data Sheet'!G15>Results!$G$10,'Data Sheet'!G14<Results!$H$10) -> FALSE | W15: =AND('Data Sheet'!H15>Results!$G$13,'Data Sheet'!H15<Results!$H$13) -> FALSE | X15: =AND('Data Sheet'!I15>Results!$G$16,'Data Sheet'!I15<Results!$H$16) -> FALSE | Y15: =AND('Data Sheet'!J15>Results!$G$19,'Data Sheet'!J15<Results!$H$19) -> FALSE | AB15: =COUNTIF(U15:Y15,"TRUE") -> 0
E16: 500701 | F16: 72 | G16: 0.9 | H16: 14 | I16: 760 | J16: 35 | M16: =AND('Data Sheet'!F16<Results!$F$7,'Data Sheet'!F16>Results!$E$7) -> FALSE | N16: =AND(G16>Results!$E$10,G16<Results!$F$10) -> FALSE | O16: =AND(H16>Results!$E$13,H16<Results!$F$13) -> FALSE | P16: =AND(I16>Results!$E$16,I16<Results!$F$16) -> FALSE | Q16: =AND(J16>Results!$E$19,J16<Results!$F$19) -> FALSE | T16: =COUNTIF(M16:Q16,"TRUE") -> 0 | U16: =AND('Data Sheet'!F16>Results!$G$7,'Data Sheet'!F16<Results!$H$7) -> FALSE | V16: =AND('Data Sheet'!G16>Results!$G$10,'Data Sheet'!G15<Results!$H$10) -> FALSE | W16: =AND('Data Sheet'!H16>Results!$G$13,'Data Sheet'!H16<Results!$H$13) -> FALSE | X16: =AND('Data Sheet'!I16>Results!$G$16,'Data Sheet'!I16<Results!$H$16) -> FALSE | Y16: =AND('Data Sheet'!J16>Results!$G$19,'Data Sheet'!J16<Results!$H$19) -> FALSE | AB16: =COUNTIF(U16:Y16,"TRUE") -> 0
E17: 500850 | F17: 85 | G17: 0.9 | H17: 14 | I17: 800 | J17: 40 | M17: =AND('Data Sheet'!F17<Results!$F$7,'Data Sheet'!F17>Results!$E$7) -> FALSE | N17: =AND(G17>Results!$E$10,G17<Results!$F$10) -> FALSE | O17: =AND(H17>Results!$E$13,H17<Results!$F$13) -> FALSE | P17: =AND(I17>Results!$E$16,I17<Results!$F$16) -> FALSE | Q17: =AND(J17>Results!$E$19,J17<Results!$F$19) -> FALSE | T17: =COUNTIF(M17:Q17,"TRUE") -> 0 | U17: =AND('Data Sheet'!F17>Results!$G$7,'Data Sheet'!F17<Results!$H$7) -> FALSE | V17: =AND('Data Sheet'!G17>Results!$G$10,'Data Sheet'!G16<Results!$H$10) -> FALSE | W17: =AND('Data Sheet'!H17>Results!$G$13,'Data Sheet'!H17<Results!$H$13) -> FALSE | X17: =AND('Data Sheet'!I17>Results!$G$16,'Data Sheet'!I17<Results!$H$16) -> FALSE | Y17: =AND('Data Sheet'!J17>Results!$G$19,'Data Sheet'!J17<Results!$H$19) -> FALSE | AB17: =COUNTIF(U17:Y17,"TRUE") -> 0
E18: 500900 | F18: 90 | G18: 0.9 | H18: 14 | I18: 800 | J18: 42 | M18: =AND('Data Sheet'!F18<Results!$F$7,'Data Sheet'!F18>Results!$E$7) -> FALSE | N18: =AND(G18>Results!$E$10,G18<Results!$F$10) -> FALSE | O18: =AND(H18>Results!$E$13,H18<Results!$F$13) -> FALSE | P18: =AND(I18>Results!$E$16,I18<Results!$F$16) -> FALSE | Q18: =AND(J18>Results!$E$19,J18<Results!$F$19) -> FALSE | T18: =COUNTIF(M18:Q18,"TRUE") -> 0 | U18: =AND('Data Sheet'!F18>Results!$G$7,'Data Sheet'!F18<Results!$H$7) -> FALSE | V18: =AND('Data Sheet'!G18>Results!$G$10,'Data Sheet'!G17<Results!$H$10) -> FALSE | W18: =AND('Data Sheet'!H18>Results!$G$13,'Data Sheet'!H18<Results!$H$13) -> FALSE | X18: =AND('Data Sheet'!I18>Results!$G$16,'Data Sheet'!I18<Results!$H$16) -> FALSE | Y18: =AND('Data Sheet'!J18>Results!$G$19,'Data Sheet'!J18<Results!$H$19) -> FALSE | AB18: =COUNTIF(U18:Y18,"TRUE") -> 0
E19: 938012 | F19: 65 | G19: 0.89 | H19: 10 | I19: 600 | J19: 35 | M19: =AND('Data Sheet'!F19<Results!$F$7,'Data Sheet'!F19>Results!$E$7) -> FALSE | N19: =AND(G19>Results!$E$10,G19<Results!$F$10) -> FALSE | O19: =AND(H19>Results!$E$13,H19<Results!$F$13) -> FALSE | P19: =AND(I19>Results!$E$16,I19<Results!$F$16) -> FALSE | Q19: =AND(J19>Results!$E$19,J19<Results!$F$19) -> FALSE | T19: =COUNTIF(M19:Q19,"TRUE") -> 0 | U19: =AND('Data Sheet'!F19>Results!$G$7,'Data Sheet'!F19<Results!$H$7) -> TRUE | V19: =AND('Data Sheet'!G19>Results!$G$10,'Data Sheet'!G18<Results!$H$10) -> FALSE | W19: =AND('Data Sheet'!H19>Results!$G$13,'Data Sheet'!H19<Results!$H$13) -> FALSE | X19: =AND('Data Sheet'!I19>Results!$G$16,'Data Sheet'!I19<Results!$H$16) -> FALSE | Y19: =AND('Data Sheet'!J19>Results!$G$19,'Data Sheet'!J19<Results!$H$19) -> FALSE | AB19: =COUNTIF(U19:Y19,"TRUE") -> 1
E20: 4093 | F20: 80 | G20: 1.11 | H20: 8.5 | I20: 620 | J20: 37 | M20: =AND('Data Sheet'!F20<Results!$F$7,'Data Sheet'!F20>Results!$E$7) -> FALSE | N20: =AND(G20>Results!$E$10,G20<Results!$F$10) -> TRUE | O20: =AND(H20>Results!$E$13,H20<Results!$F$13) -> FALSE | P20: =AND(I20>Results!$E$16,I20<Results!$F$16) -> FALSE | Q20: =AND(J20>Results!$E$19,J20<Results!$F$19) -> FALSE | T20: =COUNTIF(M20:Q20,"TRUE") -> 1 | U20: =AND('Data Sheet'!F20>Results!$G$7,'Data Sheet'!F20<Results!$H$7) -> FALSE | V20: =AND('Data Sheet'!G20>Results!$G$10,'Data Sheet'!G19<Results!$H$10) -> TRUE | W20: =AND('Data Sheet'!H20>Results!$G$13,'Data Sheet'!H20<Results!$H$13) -> FALSE | X20: =AND('Data Sheet'!I20>Results!$G$16,'Data Sheet'!I20<Results!$H$16) -> FALSE | Y20: =AND('Data Sheet'!J20>Results!$G$19,'Data Sheet'!J20<Results!$H$19) -> FALSE | AB20: =COUNTIF(U20:Y20,"TRUE") -> 1
E21: 9012 | F21: 92 | G21: 0.89 | H21: 14.5 | I21: 900 | J21: - | M21: =AND('Data Sheet'!F21<Results!$F$7,'Data Sheet'!F21>Results!$E$7) -> FALSE | N21: =AND(G21>Results!$E$10,G21<Results!$F$10) -> FALSE | O21: =AND(H21>Results!$E$13,H21<Results!$F$13) -> FALSE | P21: =AND(I21>Results!$E$16,I21<Results!$F$16) -> FALSE | Q21: =AND(J21>Results!$E$19,J21<Results!$F$19) -> FALSE | T21: =COUNTIF(M21:Q21,"TRUE") -> 0 | U21: =AND('Data Sheet'!F21>Results!$G$7,'Data Sheet'!F21<Results!$H$7) -> FALSE | V21: =AND('Data Sheet'!G21>Results!$G$10,'Data Sheet'!G20<Results!$H$10) -> FALSE | W21: =AND('Data Sheet'!H21>Results!$G$13,'Data Sheet'!H21<Results!$H$13) -> TRUE | X21: =AND('Data Sheet'!I21>Results!$G$16,'Data Sheet'!I21<Results!$H$16) -> FALSE | Y21: =AND('Data Sheet'!J21>Results!$G$19,'Data Sheet'!J21<Results!$H$19) -> FALSE | AB21: =COUNTIF(U21:Y21,"TRUE") -> 1
E22: 600861 | F22: 86 | G22: 1.16 | H22: 13 | I22: 600 | J22: 50 | M22: =AND('Data Sheet'!F22<Results!$F$7,'Data Sheet'!F22>Results!$E$7) -> FALSE | N22: =AND(G22>Results!$E$10,G22<Results!$F$10) -> FALSE | O22: =AND(H22>Results!$E$13,H22<Results!$F$13) -> FALSE | P22: =AND(I22>Results!$E$16,I22<Results!$F$16) -> FALSE | Q22: =AND(J22>Results!$E$19,J22<Results!$F$19) -> FALSE | T22: =COUNTIF(M22:Q22,"TRUE") -> 0 | U22: =AND('Data Sheet'!F22>Results!$G$7,'Data Sheet'!F22<Results!$H$7) -> FALSE | V22: =AND('Data Sheet'!G22>Results!$G$10,'Data Sheet'!G21<Results!$H$10) -> TRUE | W22: =AND('Data Sheet'!H22>Results!$G$13,'Data Sheet'!H22<Results!$H$13) -> FALSE | X22: =AND('Data Sheet'!I22>Results!$G$16,'Data Sheet'!I22<Results!$H$16) -> FALSE | Y22: =AND('Data Sheet'!J22>Results!$G$19,'Data Sheet'!J22<Results!$H$19) -> FALSE | AB22: =COUNTIF(U22:Y22,"TRUE") -> 1
E23: 600861 | F23: 91 | G23: 1.16 | H23: 13 | I23: 600 | J23: 50 | M23: =AND('Data Sheet'!F23<Results!$F$7,'Data Sheet'!F23>Results!$E$7) -> FALSE | N23: =AND(G23>Results!$E$10,G23<Results!$F$10) -> FALSE | O23: =AND(H23>Results!$E$13,H23<Results!$F$13) -> FALSE | P23: =AND(I23>Results!$E$16,I23<Results!$F$16) -> FALSE | Q23: =AND(J23>Results!$E$19,J23<Results!$F$19) -> FALSE | T23: =COUNTIF(M23:Q23,"TRUE") -> 0 | U23: =AND('Data Sheet'!F23>Results!$G$7,'Data Sheet'!F23<Results!$H$7) -> FALSE | V23: =AND('Data Sheet'!G23>Results!$G$10,'Data Sheet'!G22<Results!$H$10) -> TRUE | W23: =AND('Data Sheet'!H23>Results!$G$13,'Data Sheet'!H23<Results!$H$13) -> FALSE | X23: =AND('Data Sheet'!I23>Results!$G$16,'Data Sheet'!I23<Results!$H$16) -> FALSE | Y23: =AND('Data Sheet'!J23>Results!$G$19,'Data Sheet'!J23<Results!$H$19) -> FALSE | AB23: =COUNTIF(U23:Y23,"TRUE") -> 1
E24: 966042 | F24: 39 | G24: 0.96 | H24: 18 | I24: 600 | J24: 65 | M24: =AND('Data Sheet'!F24<Results!$F$7,'Data Sheet'!F24>Results!$E$7) -> FALSE | N24: =AND(G24>Results!$E$10,G24<Results!$F$10) -> FALSE | O24: =AND(H24>Results!$E$13,H24<Results!$F$13) -> FALSE | P24: =AND(I24>Results!$E$16,I24<Results!$F$16) -> FALSE | Q24: =AND(J24>Results!$E$19,J24<Results!$F$19) -> FALSE | T24: =COUNTIF(M24:Q24,"TRUE") -> 0 | U24: =AND('Data Sheet'!F24>Results!$G$7,'Data Sheet'!F24<Results!$H$7) -> FALSE | V24: =AND('Data Sheet'!G24>Results!$G$10,'Data Sheet'!G23<Results!$H$10) -> FALSE | W24: =AND('Data Sheet'!H24>Results!$G$13,'Data Sheet'!H24<Results!$H$13) -> FALSE | X24: =AND('Data Sheet'!I24>Results!$G$16,'Data Sheet'!I24<Results!$H$16) -> FALSE | Y24: =AND('Data Sheet'!J24>Results!$G$19,'Data Sheet'!J24<Results!$H$19) -> FALSE | AB24: =COUNTIF(U24:Y24,"TRUE") -> 0
E25: 966043 | F25: 39 | G25: 0.96 | H25: 18 | I25: 600 | J25: 65 | M25: =AND('Data Sheet'!F25<Results!$F$7,'Data Sheet'!F25>Results!$E$7) -> FALSE | N25: =AND(G25>Results!$E$10,G25<Results!$F$10) -> FALSE | O25: =AND(H25>Results!$E$13,H25<Results!$F$13) -> FALSE | P25: =AND(I25>Results!$E$16,I25<Results!$F$16) -> FALSE | Q25: =AND(J25>Results!$E$19,J25<Results!$F$19) -> FALSE | T25: =COUNTIF(M25:Q25,"TRUE") -> 0 | U25: =AND('Data Sheet'!F25>Results!$G$7,'Data Sheet'!F25<Results!$H$7) -> FALSE | V25: =AND('Data Sheet'!G25>Results!$G$10,'Data Sheet'!G24<Results!$H$10) -> FALSE | W25: =AND('Data Sheet'!H25>Results!$G$13,'Data Sheet'!H25<Results!$H$13) -> FALSE | X25: =AND('Data Sheet'!I25>Results!$G$16,'Data Sheet'!I25<Results!$H$16) -> FALSE | Y25: =AND('Data Sheet'!J25>Results!$G$19,'Data Sheet'!J25<Results!$H$19) -> FALSE | AB25: =COUNTIF(U25:Y25,"TRUE") -> 0
E26: XP 0801 | F26: 8 | G26: 0.45 | H26: - | I26: - | J26: - | M26: =AND('Data Sheet'!F26<Results!$F$7,'Data Sheet'!F26>Results!$E$7) -> FALSE | N26: =AND(G26>Results!$E$10,G26<Results!$F$10) -> FALSE | O26: =AND(H26>Results!$E$13,H26<Results!$F$13) -> FALSE | P26: =AND(I26>Results!$E$16,I26<Results!$F$16) -> FALSE | Q26: =AND(J26>Results!$E$19,J26<Results!$F$19) -> FALSE | T26: =COUNTIF(M26:Q26,"TRUE") -> 0 | U26: =AND('Data Sheet'!F26>Results!$G$7,'Data Sheet'!F26<Results!$H$7) -> FALSE | V26: =AND('Data Sheet'!G26>Results!$G$10,'Data Sheet'!G25<Results!$H$10) -> FALSE | W26: =AND('Data Sheet'!H26>Results!$G$13,'Data Sheet'!H26<Results!$H$13) -> FALSE | X26: =AND('Data Sheet'!I26>Results!$G$16,'Data Sheet'!I26<Results!$H$16) -> FALSE | Y26: =AND('Data Sheet'!J26>Results!$G$19,'Data Sheet'!J26<Results!$H$19) -> FALSE | AB26: =COUNTIF(U26:Y26,"TRUE") -> 0
E27: XP 1501 | F27: 15 | G27: 0.45 | H27: - | I27: - | J27: - | M27: =AND('Data Sheet'!F27<Results!$F$7,'Data Sheet'!F27>Results!$E$7) -> FALSE | N27: =AND(G27>Results!$E$10,G27<Results!$F$10) -> FALSE | O27: =AND(H27>Results!$E$13,H27<Results!$F$13) -> FALSE | P27: =AND(I27>Results!$E$16,I27<Results!$F$16) -> FALSE | Q27: =AND(J27>Results!$E$19,J27<Results!$F$19) -> FALSE | T27: =COUNTIF(M27:Q27,"TRUE") -> 0 | U27: =AND('Data Sheet'!F27>Results!$G$7,'Data Sheet'!F27<Results!$H$7) -> FALSE | V27: =AND('Data Sheet'!G27>Results!$G$10,'Data Sheet'!G26<Results!$H$10) -> FALSE | W27: =AND('Data Sheet'!H27>Results!$G$13,'Data Sheet'!H27<Results!$H$13) -> FALSE | X27: =AND('Data Sheet'!I27>Results!$G$16,'Data Sheet'!I27<Results!$H$16) -> FALSE | Y27: =AND('Data Sheet'!J27>Results!$G$19,'Data Sheet'!J27<Results!$H$19) -> FALSE | AB27: =COUNTIF(U27:Y27,"TRUE") -> 0
E28: 4050' | F28: - | G28: 1.08 | H28: 3 | I28: 700 | J28: 5 | M28: =AND('Data Sheet'!F28<Results!$F$7,'Data Sheet'!F28>Results!$E$7) -> FALSE | N28: =AND(G28>Results!$E$10,G28<Results!$F$10) -> TRUE | O28: =AND(H28>Results!$E$13,H28<Results!$F$13) -> FALSE | P28: =AND(I28>Results!$E$16,I28<Results!$F$16) -> FALSE | Q28: =AND(J28>Results!$E$19,J28<Results!$F$19) -> FALSE | T28: =COUNTIF(M28:Q28,"TRUE") -> 1 | U28: =AND('Data Sheet'!F28>Results!$G$7,'Data Sheet'!F28<Results!$H$7) -> FALSE | V28: =AND('Data Sheet'!G28>Results!$G$10,'Data Sheet'!G27<Results!$H$10) -> TRUE | W28: =AND('Data Sheet'!H28>Results!$G$13,'Data Sheet'!H28<Results!$H$13) -> FALSE | X28: =AND('Data Sheet'!I28>Results!$G$16,'Data Sheet'!I28<Results!$H$16) -> FALSE | Y28: =AND('Data Sheet'!J28>Results!$G$19,'Data Sheet'!J28<Results!$H$19) -> FALSE | AB28: =COUNTIF(U28:Y28,"TRUE") -> 1
E29: 4057 | F29: - | G29: 1.11 | H29: 3.4 | I29: 417 | J29: 5 | M29: =AND('Data Sheet'!F29<Results!$F$7,'Data Sheet'!F29>Results!$E$7) -> FALSE | N29: =AND(G29>Results!$E$10,G29<Results!$F$10) -> TRUE | O29: =AND(H29>Results!$E$13,H29<Results!$F$13) -> FALSE | P29: =AND(I29>Results!$E$16,I29<Results!$F$16) -> TRUE | Q29: =AND(J29>Results!$E$19,J29<Results!$F$19) -> FALSE | T29: =COUNTIF(M29:Q29,"TRUE") -> 2 | U29: =AND('Data Sheet'!F29>Results!$G$7,'Data Sheet'!F29<Results!$H$7) -> FALSE | V29: =AND('Data Sheet'!G29>Results!$G$10,'Data Sheet'!G28<Results!$H$10) -> TRUE | W29: =AND('Data Sheet'!H29>Results!$G$13,'Data Sheet'!H29<Results!$H$13) -> FALSE | X29: =AND('Data Sheet'!I29>Results!$G$16,'Data Sheet'!I29<Results!$H$16) -> TRUE | Y29: =AND('Data Sheet'!J29>Results!$G$19,'Data Sheet'!J29<Results!$H$19) -> FALSE | AB29: =COUNTIF(U29:Y29,"TRUE") -> 2
E30: 4058 | F30: - | G30: 1.09 | H30: 2.5 | I30: 600 | J30: 3.5 | M30: =AND('Data Sheet'!F30<Results!$F$7,'Data Sheet'!F30>Results!$E$7) -> FALSE | N30: =AND(G30>Results!$E$10,G30<Results!$F$10) -> TRUE | O30: =AND(H30>Results!$E$13,H30<Results!$F$13) -> FALSE | P30: =AND(I30>Results!$E$16,I30<Results!$F$16) -> FALSE | Q30: =AND(J30>Results!$E$19,J30<Results!$F$19) -> FALSE | T30: =COUNTIF(M30:Q30,"TRUE") -> 1 | U30: =AND('Data Sheet'!F30>Results!$G$7,'Data Sheet'!F30<Results!$H$7) -> FALSE | V30: =AND('Data Sheet'!G30>Results!$G$10,'Data Sheet'!G29<Results!$H$10) -> TRUE | W30: =AND('Data Sheet'!H30>Results!$G$13,'Data Sheet'!H30<Results!$H$13) -> FALSE | X30: =AND('Data Sheet'!I30>Results!$G$16,'Data Sheet'!I30<Results!$H$16) -> FALSE | Y30: =AND('Data Sheet'!J30>Results!$G$19,'Data Sheet'!J30<Results!$H$19) -> FALSE | AB30: =COUNTIF(U30:Y30,"TRUE") -> 1
E31: 4059 | F31: - | G31: 1.09 | H31: 1.9 | I31: 650 | J31: 3.2 | M31: =AND('Data Sheet'!F31<Results!$F$7,'Data Sheet'!F31>Results!$E$7) -> FALSE | N31: =AND(G31>Results!$E$10,G31<Results!$F$10) -> TRUE | O31: =AND(H31>Results!$E$13,H31<Results!$F$13) -> FALSE | P31: =AND(I31>Results!$E$16,I31<Results!$F$16) -> FALSE | Q31: =AND(J31>Results!$E$19,J31<Results!$F$19) -> FALSE | T31: =COUNTIF(M31:Q31,"TRUE") -> 1 | U31: =AND('Data Sheet'!F31>Results!$G$7,'Data Sheet'!F31<Results!$H$7) -> FALSE | V31: =AND('Data Sheet'!G31>Results!$G$10,'Data Sheet'!G30<Results!$H$10) -> TRUE | W31: =AND('Data Sheet'!H31>Results!$G$13,'Data Sheet'!H31<Results!$H$13) -> FALSE | X31: =AND('Data Sheet'!I31>Results!$G$16,'Data Sheet'!I31<Results!$H$16) -> FALSE | Y31: =AND('Data Sheet'!J31>Results!$G$19,'Data Sheet'!J31<Results!$H$19) -> FALSE | AB31: =COUNTIF(U31:Y31,"TRUE") -> 1
E32: 4060' | F32: - | G32: 1.09 | H32: 2.9 | I32: 700 | J32: 5.5 | M32: =AND('Data Sheet'!F32<Results!$F$7,'Data Sheet'!F32>Results!$E$7) -> FALSE | N32: =AND(G32>Results!$E$10,G32<Results!$F$10) -> TRUE | O32: =AND(H32>Results!$E$13,H32<Results!$F$13) -> FALSE | P32: =AND(I32>Results!$E$16,I32<Results!$F$16) -> FALSE | Q32: =AND(J32>Results!$E$19,J32<Results!$F$19) -> FALSE | T32: =COUNTIF(M32:Q32,"TRUE") -> 1 | U32: =AND('Data Sheet'!F32>Results!$G$7,'Data Sheet'!F32<Results!$H$7) -> FALSE | V32: =AND('Data Sheet'!G32>Results!$G$10,'Data Sheet'!G31<Results!$H$10) -> TRUE | W32: =AND('Data Sheet'!H32>Results!$G$13,'Data Sheet'!H32<Results!$H$13) -> FALSE | X32: =AND('Data Sheet'!I32>Results!$G$16,'Data Sheet'!I32<Results!$H$16) -> FALSE | Y32: =AND('Data Sheet'!J32>Results!$G$19,'Data Sheet'!J32<Results!$H$19) -> FALSE | AB32: =COUNTIF(U32:Y32,"TRUE") -> 1
E33: 4067' | F33: - | G33: 1.13 | H33: 5 | I33: 450 | J33: 6.7 | M33: =AND('Data Sheet'!F33<Results!$F$7,'Data Sheet'!F33>Results!$E$7) -> FALSE | N33: =AND(G33>Results!$E$10,G33<Results!$F$10) -> TRUE | O33: =AND(H33>Results!$E$13,H33<Results!$F$13) -> FALSE | P33: =AND(I33>Results!$E$16,I33<Results!$F$16) -> FALSE | Q33: =AND(J33>Results!$E$19,J33<Results!$F$19) -> FALSE | T33: =COUNTIF(M33:Q33,"TRUE") -> 1 | U33: =AND('Data Sheet'!F33>Results!$G$7,'Data Sheet'!F33<Results!$H$7) -> FALSE | V33: =AND('Data Sheet'!G33>Results!$G$10,'Data Sheet'!G32<Results!$H$10) -> TRUE | W33: =AND('Data Sheet'!H33>Results!$G$13,'Data Sheet'!H33<Results!$H$13) -> FALSE | X33: =AND('Data Sheet'!I33>Results!$G$16,'Data Sheet'!I33<Results!$H$16) -> FALSE | Y33: =AND('Data Sheet'!J33>Results!$G$19,'Data Sheet'!J33<Results!$H$19) -> FALSE | AB33: =COUNTIF(U33:Y33,"TRUE") -> 1
E34: 4068 | F34: - | G34: 1.06 | H34: 2.1 | I34: 700 | J34: 3.5 | M34: =AND('Data Sheet'!F34<Results!$F$7,'Data Sheet'!F34>Results!$E$7) -> FALSE | N34: =AND(G34>Results!$E$10,G34<Results!$F$10) -> TRUE | O34: =AND(H34>Results!$E$13,H34<Results!$F$13) -> FALSE | P34: =AND(I34>Results!$E$16,I34<Results!$F$16) -> FALSE | Q34: =AND(J34>Results!$E$19,J34<Results!$F$19) -> FALSE | T34: =COUNTIF(M34:Q34,"TRUE") -> 1 | U34: =AND('Data Sheet'!F34>Results!$G$7,'Data Sheet'!F34<Results!$H$7) -> FALSE | V34: =AND('Data Sheet'!G34>Results!$G$10,'Data Sheet'!G33<Results!$H$10) -> FALSE | W34: =AND('Data Sheet'!H34>Results!$G$13,'Data Sheet'!H34<Results!$H$13) -> FALSE | X34: =AND('Data Sheet'!I34>Results!$G$16,'Data Sheet'!I34<Results!$H$16) -> FALSE | Y34: =AND('Data Sheet'!J34>Results!$G$19,'Data Sheet'!J34<Results!$H$19) -> FALSE | AB34: =COUNTIF(U34:Y34,"TRUE") -> 0
E35: 4096 | F35: - | G35: 1.09 | H35: 1.7 | I35: 700 | J35: 5 | M35: =AND('Data Sheet'!F35<Results!$F$7,'Data Sheet'!F35>Results!$E$7) -> FALSE | N35: =AND(G35>Results!$E$10,G35<Results!$F$10) -> TRUE | O35: =AND(H35>Results!$E$13,H35<Results!$F$13) -> FALSE | P35: =AND(I35>Results!$E$16,I35<Results!$F$16) -> FALSE | Q35: =AND(J35>Results!$E$19,J35<Results!$F$19) -> FALSE | T35: =COUNTIF(M35:Q35,"TRUE") -> 1 | U35: =AND('Data Sheet'!F35>Results!$G$7,'Data Sheet'!F35<Results!$H$7) -> FALSE | V35: =AND('Data Sheet'!G35>Results!$G$10,'Data Sheet'!G34<Results!$H$10) -> TRUE | W35: =AND('Data Sheet'!H35>Results!$G$13,'Data Sheet'!H35<Results!$H$13) -> FALSE | X35: =AND('Data Sheet'!I35>Results!$G$16,'Data Sheet'!I35<Results!$H$16) -> FALSE | Y35: =AND('Data Sheet'!J35>Results!$G$19,'Data Sheet'!J35<Results!$H$19) -> FALSE | AB35: =COUNTIF(U35:Y35,"TRUE") -> 1
E36: 4090' | F36: 57 | G36: 1.08 | H36: 7.8 | I36: 700 | J36: 22 | M36: =AND('Data Sheet'!F36<Results!$F$7,'Data Sheet'!F36>Results!$E$7) -> FALSE | N36: =AND(G36>Results!$E$10,G36<Results!$F$10) -> TRUE | O36: =AND(H36>Results!$E$13,H36<Results!$F$13) -> FALSE | P36: =AND(I36>Results!$E$16,I36<Results!$F$16) -> FALSE | Q36: =AND(J36>Results!$E$19,J36<Results!$F$19) -> FALSE | T36: =COUNTIF(M36:Q36,"TRUE") -> 1 | U36: =AND('Data Sheet'!F36>Results!$G$7,'Data Sheet'!F36<Results!$H$7) -> FALSE | V36: =AND('Data Sheet'!G36>Results!$G$10,'Data Sheet'!G35<Results!$H$10) -> TRUE | W36: =AND('Data Sheet'!H36>Results!$G$13,'Data Sheet'!H36<Results!$H$13) -> FALSE | X36: =AND('Data Sheet'!I36>Results!$G$16,'Data Sheet'!I36<Results!$H$16) -> FALSE | Y36: =AND('Data Sheet'!J36>Results!$G$19,'Data Sheet'!J36<Results!$H$19) -> FALSE | AB36: =COUNTIF(U36:Y36,"TRUE") -> 1
E37: 4092 | F37: 65 | G37: 1.1 | H37: 7.5 | I37: 620 | J37: 27 | M37: =AND('Data Sheet'!F37<Results!$F$7,'Data Sheet'!F37>Results!$E$7) -> FALSE | N37: =AND(G37>Results!$E$10,G37<Results!$F$10) -> TRUE | O37: =AND(H37>Results!$E$13,H37<Results!$F$13) -> FALSE | P37: =AND(I37>Results!$E$16,I37<Results!$F$16) -> FALSE | Q37: =AND(J37>Results!$E$19,J37<Results!$F$19) -> FALSE | T37: =COUNTIF(M37:Q37,"TRUE") -> 1 | U37: =AND('Data Sheet'!F37>Results!$G$7,'Data Sheet'!F37<Results!$H$7) -> TRUE | V37: =AND('Data Sheet'!G37>Results!$G$10,'Data Sheet'!G36<Results!$H$10) -> TRUE | W37: =AND('Data Sheet'!H37>Results!$G$13,'Data Sheet'!H37<Results!$H$13) -> FALSE | X37: =AND('Data Sheet'!I37>Results!$G$16,'Data Sheet'!I37<Results!$H$16) -> FALSE | Y37: =AND('Data Sheet'!J37>Results!$G$19,'Data Sheet'!J37<Results!$H$19) -> FALSE | AB37: =COUNTIF(U37:Y37,"TRUE") -> 2
E38: 4093 | F38: 80 | G38: 1.11 | H38: 8.5 | I38: 620 | J38: 37 | M38: =AND('Data Sheet'!F38<Results!$F$7,'Data Sheet'!F38>Results!$E$7) -> FALSE | N38: =AND(G38>Results!$E$10,G38<Results!$F$10) -> TRUE | O38: =AND(H38>Results!$E$13,H38<Results!$F$13) -> FALSE | P38: =AND(I38>Results!$E$16,I38<Results!$F$16) -> FALSE | Q38: =AND(J38>Results!$E$19,J38<Results!$F$19) -> FALSE | T38: =COUNTIF(M38:Q38,"TRUE") -> 1 | U38: =AND('Data Sheet'!F38>Results!$G$7,'Data Sheet'!F38<Results!$H$7) -> FALSE | V38: =AND('Data Sheet'!G38>Results!$G$10,'Data Sheet'!G37<Results!$H$10) -> TRUE | W38: =AND('Data Sheet'!H38>Results!$G$13,'Data Sheet'!H38<Results!$H$13) -> FALSE | X38: =AND('Data Sheet'!I38>Results!$G$16,'Data Sheet'!I38<Results!$H$16) -> FALSE | Y38: =AND('Data Sheet'!J38>Results!$G$19,'Data Sheet'!J38<Results!$H$19) -> FALSE | AB38: =COUNTIF(U38:Y38,"TRUE") -> 1
E39: 4094' | F39: 62 | G39: 1.09 | H39: 7.5 | I39: 680 | J39: 25 | M39: =AND('Data Sheet'!F39<Results!$F$7,'Data Sheet'!F39>Results!$E$7) -> TRUE | N39: =AND(G39>Results!$E$10,G39<Results!$F$10) -> TRUE | O39: =AND(H39>Results!$E$13,H39<Results!$F$13) -> FALSE | P39: =AND(I39>Results!$E$16,I39<Results!$F$16) -> FALSE | Q39: =AND(J39>Results!$E$19,J39<Results!$F$19) -> FALSE | T39: =COUNTIF(M39:Q39,"TRUE") -> 2 | U39: =AND('Data Sheet'!F39>Results!$G$7,'Data Sheet'!F39<Results!$H$7) -> TRUE | V39: =AND('Data Sheet'!G39>Results!$G$10,'Data Sheet'!G38<Results!$H$10) -> TRUE | W39: =AND('Data Sheet'!H39>Results!$G$13,'Data Sheet'!H39<Results!$H$13) -> FALSE | X39: =AND('Data Sheet'!I39>Results!$G$16,'Data Sheet'!I39<Results!$H$16) -> FALSE | Y39: =AND('Data Sheet'!J39>Results!$G$19,'Data Sheet'!J39<Results!$H$19) -> FALSE | AB39: =COUNTIF(U39:Y39,"TRUE") -> 2
E40: 4096 | F40: 42 | G40: 1.09 | H40: 5 | I40: 700 | J40: 17 | M40: =AND('Data Sheet'!F40<Results!$F$7,'Data Sheet'!F40>Results!$E$7) -> FALSE | N40: =AND(G40>Results!$E$10,G40<Results!$F$10) -> TRUE | O40: =AND(H40>Results!$E$13,H40<Results!$F$13) -> FALSE | P40: =AND(I40>Results!$E$16,I40<Results!$F$16) -> FALSE | Q40: =AND(J40>Results!$E$19,J40<Results!$F$19) -> FALSE | T40: =COUNTIF(M40:Q40,"TRUE") -> 1 | U40: =AND('Data Sheet'!F40>Results!$G$7,'Data Sheet'!F40<Results!$H$7) -> FALSE | V40: =AND('Data Sheet'!G40>Results!$G$10,'Data Sheet'!G39<Results!$H$10) -> TRUE | W40: =AND('Data Sheet'!H40>Results!$G$13,'Data Sheet'!H40<Results!$H$13) -> FALSE | X40: =AND('Data Sheet'!I40>Results!$G$16,'Data Sheet'!I40<Results!$H$16) -> FALSE | Y40: =AND('Data Sheet'!J40>Results!$G$19,'Data Sheet'!J40<Results!$H$19) -> FALSE | AB40: =COUNTIF(U40:Y40,"TRUE") -> 1
D41: Dryflex SE Injection moulding (TPS) | E41: SE 30A001 | F41: 30 | G41: 0.89 | H41: 7 | I41: 900 | J41: 13.4 | M41: =AND('Data Sheet'!F41<Results!$F$7,'Data Sheet'!F41>Results!$E$7) -> FALSE | N41: =AND(G41>Results!$E$10,G41<Results!$F$10) -> FALSE | O41: =AND(H41>Results!$E$13,H41<Results!$F$13) -> FALSE | P41: =AND(I41>Results!$E$16,I41<Results!$F$16) -> FALSE | Q41: =AND(J41>Results!$E$19,J41<Results!$F$19) -> FALSE | T41: =COUNTIF(M41:Q41,"TRUE") -> 0 | U41: =AND('Data Sheet'!F41>Results!$G$7,'Data Sheet'!F41<Results!$H$7) -> FALSE | V41: =AND('Data Sheet'!G41>Results!$G$10,'Data Sheet'!G40<Results!$H$10) -> FALSE | W41: =AND('Data Sheet'!H41>Results!$G$13,'Data Sheet'!H41<Results!$H$13) -> FALSE | X41: =AND('Data Sheet'!I41>Results!$G$16,'Data Sheet'!I41<Results!$H$16) -> FALSE | Y41: =AND('Data Sheet'!J41>Results!$G$19,'Data Sheet'!J41<Results!$H$19) -> FALSE | AB41: =COUNTIF(U41:Y41,"TRUE") -> 0
...

Sheet Norms
A1: Company | B1: Tpe name | C1: Properties
C2: Hardness | D2: Density | E2: Tensil strenght | F2: Elongation at break | G2: Trouser Tear strenght
A3: Leartiker | B3: EPDM | D3: ASTM D 3374 | E3: ASTM D 3374 | F3: ASTM D 3374 | G3: ISO 34 - 1
A4: HexpolTPE | B4: Dryflex extrusion profile | C4: ISO 868 | D4: ISO 2781 | E4: ISO 37 | F4: ISO 37 | G4: ISO 34 method C
B5: Dryflex injection moulding | C5: ISO 868 | D5: ISO 2781 | E5: ISO 37-1 | F5: ISO 37-1 | G5: ISO 34 method C
B6: Dryflex transparent | C6: ASTM D 2240' | D6: ASTM D 792 | E6: ASTM D 638 | F6: ASTM D 638 | G6: -
B7: Dryflex PCW | C7: ISO 868 | D7: ISO 2781 | E7: ISO 37 | F7: ISO 37 | G7: ISO 34 method C
B8: Dryflex optimised compression set | C8: ISO 868 | D8: ISO 2781 | E8: ISO 37' | F8: ISO 37 | G8: ISO 34 method C'
B9: Dryflex automotive mats | C9: ISO 868 | D9: ISO 2781 | E9: ISO 37 | F9: - | G9: ISO 34 method C
B10: Dryflex TPV | C10: ISO 868 | D10: ISO 2781 | E10: ISO 37 | F10: ISO 37 | G10: ISO 34 method C
B11: Lifoflex flam | C11: DIN 53505 (A) | D11: DIN EN ISO 1183 - 1 (A) | E11: DIN 53504 | F11: DIN 53504 | G11: -
B12: Mediprene 500m | C12: ASTM D 2240 (4mm) | D12: ASTM D 792 | E12: ASTM D 638 | F12: ASTM D 638 | G12: ASTM D 624
B13: Mediprene 2K | C13: ASTM D 2240' | D13: ASTM D 792 | E13: ASTM D 638 | F13: ASTM D 638 | G13: ASTM D 624
B14: Mediprene oil free medical | C14: ASTM D 2240' | D14: ASTM D 792 | E14: ASTM D 638 | F14: ASTM D 638 | G14: ASTM D 624
B15: Mediprene syringe Plunger Seals | C15: ASTM D 2240' | D15: ASTM D 793 | E15: ASTM D 639 | F15: ASTM D 639 | G15: ASTM D 625
B16: Mediprene transparent | C16: ASTM D 2240' | D16: ASTM D 792 | E16: ASTEM D 638 | F16: ASTM D 638 | G16: ASTM D 624
A17: RESINEX | B17: Arnitel | C17: ISO 868 | D17: ISO 1183 | E17: ISO 527-2 | F17: ISO 527-2 | G17: -
B18: Enflex | C18: ISO 868 | D18: ISO 2781 | E18: ISO 37 | F18: ISO 37 | G18: ISO 37
B19: Ensoft | C19: ISO 868 | D19: ISO 1183 | E19: ISO 37 | F19: ISO 37 | G19: ISO 37
A20: POLYONE | B20: Dynaflex | C20: ASTM D2240 | D20: ASTM D 792 | E20: ASTM D 412 | F20: ASTM D 412 | G20: -
B21: Dynalloy | C21: ASTM D2240 | D21: ASTM D 792 | E21: ASTM D 412 | F21: ASTM D 412 | G21: -
B22: Elastamax | C22: ASTM D2240 | D22: ASTM D 792 | E22: ASTM D 412A | F22: ASTM D 412A | G22: ASTM D 624
B23: GSL | C23: ASTM D2240 | D23: ASTM D 792 | E23: ASTM D 412 | F23: ASTM D 412 | G23: -
B24: Gravi tech | C24: ASTM D2240 | D24: ASTM D 792 | E24: ASTM D 412 | F24: ASTM D 412 | G24: -
B25: Karton | C25: Internal method | D25: Internal method | E25: ASTM D 412 | F25: ASTM D 412 | G25: ASTM D 624
B26: Onflex | C26: ISO 868 / ASTM D2240 | D26: ISO 1183/ASTM D792 | E26: ISO 37/ASTM D412 | F26: ISO 37/ASTM D412 | G26: ISO 34-1/ ASTM D624
B27: Stat-tech | C27: ASTM D2240 | D27: ASTM D 792 | E27: ASTM D638 | F27: ASTM D638 | G27: -
B28: Synprene | C28: ASTM D2240 | D28: ASTM D792 | E28: ASTM D412A | F28: ASTM D412A | G28: ASTM D624
B29: Versaflex | C29: ASTM D2240 | D29: ASTM D792 | E29: ASTM D 412 | F29: ASTM D 412 | G29: -
B30: Versalloy | C30: ASTM D2240 | D30: ASTM D792 | E30: ASTM D 412 | F30: ASTM D 412 | G30: ASTM D624
A31: RTP company | C31: ASTM D2240 | D31: ASTM D792 | E31: ASTM D 412 | F31: ASTM D 412 | G31: ASTM D624
A32: Advanced elastomer systems | C32: ASTM D2240 | D32: ASTM D471/ISO 2781 | E32: ASTM D 412 | F32: ASTM D 412 | G32: ASTM D624
A33: Exxon mobil | C33: ISO 868 | D33: ASTM D792 | E33: ASTM D 412 | F33: ASTM D 412 | G33: ASTM D624

Sheet SEBS
A1: SEBS Type | D1: Hardness Shore (A or D) | E1: Specific Gravity g/cm^3 | F1: Tensile Strength Mpa | G1: Elongation at Break % | H1: Tear Strength N/mm
A4: API Megol | B4: AM | C4: DP2268/65 | D4: 65 | E4: 1 | F4: 9.5 | G4: 700 | H4: 44 | I4: =AND(D4<Results!$F$7,D4>Results!$E$7) -> FALSE | J4: =AND(E4>Results!E10,E4<Results!F10) -> FALSE | K4: =AND(G4>Results!$E$13,G4<Results!$F$13) -> FALSE | L4: =AND(H4>Results!$E$16,H4<Results!$F$16) -> FALSE
D5: 60 | I5: =AND(D5<Results!$F$7,D5>Results!$E$7) -> TRUE | J5: =AND(E5>Results!E11,E5<Results!F11) -> FALSE | K5: =AND(G5>Results!$E$13,G5<Results!$F$13) -> FALSE | L5: =AND(H5>Results!$E$16,H5<Results!$F$16) -> FALSE
I6: =AND(D6<Results!$F$7,D6>Results!$E$7) -> FALSE | J6: =AND(E6>Results!E12,E6<Results!F12) -> FALSE | K6: =AND(G6>Results!$E$13,G6<Results!$F$13) -> FALSE | L6: =AND(H6>Results!$E$16,H6<Results!$F$16) -> FALSE
I7: =AND(D7<Results!$F$7,D7>Results!$E$7) -> FALSE | J7: =AND(E7>Results!E13,E7<Results!F13) -> FALSE | K7: =AND(G7>Results!$E$13,G7<Results!$F$13) -> FALSE | L7: =AND(H7>Results!$E$16,H7<Results!$F$16) -> FALSE
I8: =AND(D8<Results!$F$7,D8>Results!$E$7) -> FALSE | J8: =AND(E8>Results!E14,E8<Results!F14) -> FALSE | K8: =AND(G8>Results!$E$13,G8<Results!$F$13) -> FALSE | L8: =AND(H8>Results!$E$16,H8<Results!$F$16) -> FALSE
I9: =AND(D9<Results!$F$7,D9>Results!$E$7) -> FALSE | J9: =AND(E9>Results!E15,E9<Results!F15) -> FALSE | K9: =AND(G9>Results!$E$13,G9<Results!$F$13) -> FALSE | L9: =AND(H9>Results!$E$16,H9<Results!$F$16) -> FALSE
I10: =AND(D10<Results!$F$7,D10>Results!$E$7) -> FALSE | J10: =AND(E10>Results!E16,E10<Results!F16) -> FALSE | K10: =AND(G10>Results!$E$13,G10<Results!$F$13) -> FALSE | L10: =AND(H10>Results!$E$16,H10<Results!$F$16) -> FALSE
I11: =AND(D11<Results!$F$7,D11>Results!$E$7) -> FALSE | J11: =AND(E11>Results!E17,E11<Results!F17) -> FALSE | K11: =AND(G11>Results!$E$13,G11<Results!$F$13) -> FALSE | L11: =AND(H11>Results!$E$16,H11<Results!$F$16) -> FALSE
I12: =AND(D12<Results!$F$7,D12>Results!$E$7) -> FALSE | J12: =AND(E12>Results!E18,E12<Results!F18) -> FALSE | K12: =AND(G12>Results!$E$13,G12<Results!$F$13) -> FALSE | L12: =AND(H12>Results!$E$16,H12<Results!$F$16) -> FALSE
I13: =AND(D13<Results!$F$7,D13>Results!$E$7) -> FALSE | J13: =AND(E13>Results!E19,E13<Results!F19) -> FALSE | K13: =AND(G13>Results!$E$13,G13<Results!$F$13) -> FALSE | L13: =AND(H13>Results!$E$16,H13<Results!$F$16) -> FALSE
I14: =AND(D14<Results!$F$7,D14>Results!$E$7) -> FALSE | J14: =AND(E14>Results!E20,E14<Results!F20) -> FALSE | K14: =AND(G14>Results!$E$13,G14<Results!$F$13) -> FALSE | L14: =AND(H14>Results!$E$16,H14<Results!$F$16) -> FALSE
I15: =AND(D15<Results!$F$7,D15>Results!$E$7) -> FALSE | J15: =AND(E15>Results!E21,E15<Results!F21) -> FALSE | K15: =AND(G15>Results!$E$13,G15<Results!$F$13) -> FALSE | L15: =AND(H15>Results!$E$16,H15<Results!$F$16) -> FALSE
I16: =AND(D16<Results!$F$7,D16>Results!$E$7) -> FALSE | J16: =AND(E16>Results!E22,E16<Results!F22) -> FALSE | K16: =AND(G16>Results!$E$13,G16<Results!$F$13) -> FALSE | L16: =AND(H16>Results!$E$16,H16<Results!$F$16) -> FALSE
I17: =AND(D17<Results!$F$7,D17>Results!$E$7) -> FALSE | J17: =AND(E17>Results!E23,E17<Results!F23) -> FALSE | K17: =AND(G17>Results!$E$13,G17<Results!$F$13) -> FALSE | L17: =AND(H17>Results!$E$16,H17<Results!$F$16) -> FALSE
I18: =AND(D18<Results!$F$7,D18>Results!$E$7) -> FALSE | J18: =AND(E18>Results!E24,E18<Results!F24) -> FALSE | K18: =AND(G18>Results!$E$13,G18<Results!$F$13) -> FALSE | L18: =AND(H18>Results!$E$16,H18<Results!$F$16) -> FALSE
