Workbook

Sheet Results
A1: Polymer name | E1: EPDM | G1: NR
N2: Company | O2: Series | P2: Number
Q3: Hardness | R3: Density | S3: Tensil strenght | T3: Elongation | U3: Tear strenght
A4: Main features | M4: EPDM replacement | N4: HexpolTPE | O4: Dryflex | P4: 50225 | Q4: 58 | R4: 1.13 | S4: 3 | T4: 400 | U4: 19
A5: Hardness Shore (A) | D5: Value | E5: 60 | G5: 65 | N5: Polyone | O5: Onflex | P5: S HF 60A | Q5: 60 | R5: 1.09 | S5: 3 | T5: 420 | U5: 21
D6: Tolerance (%) | E6: 5 | G6: 5 | P6: S KE 60A | Q6: 60 | R6: 1.12 | S6: 7.2 | T6: 420 | U6: -
D7: Interval | E7: =E5-((E6/100)*E5) -> 57 | F7: =E5+((E6/100)*E5) -> 63 | G7: =G5-((G6/100)*G5) -> 61.75 | H7: =G5+((G6/100)*G5) -> 68.25 | N7: Advance Elastomer System | O7: Alloys Alcryn | P7: 2060 NC | Q7: 59 | R7: 1.12 | S7: 7.93 | T7: 420 | U7: 28
A8: Density (g/cm3) | D8: Value | E8: 1.1 | G8: 1.126 | P8: 2060 BK | Q8: 59 | R8: 1.1 | S8: 8.07 | T8: 410 | U8: 27.2
D9: Tolerance (%) | E9: 5 | G9: 5
D10: Interval | E10: =E8-((E9/100)*E8) -> 1.045 | F10: =E8+((E9/100)*E8) -> 1.155 | G10: =G8-((G9/100)*G8) -> 1.0697 | H10: =G8+((G9/100)*G8) -> 1.1823
A11: Tensile strength (Mpa) | D11: Value | E11: 16 | G11: 15
D12: Tolerance (%) | E12: 5 | G12: 5
D13: Interval | E13: =E11-((E12/100)*E11) -> 15.2 | F13: =E11+((E12/100)*E11) -> 16.8 | G13: =G11-((G12/100)*G11) -> 14.25 | H13: =G11+((G12/100)*G11) -> 15.75
A14: Elongation break (%) | D14: Value | E14: 420 | G14: 425
D15: Tolerance (%) | E15: 5 | G15: 5
D16: Interval | E16: =E14-((E15/100)*E14) -> 399 | F16: =E14+((E15/100)*E14) -> 441 | G16: =G14-((G15/100)*G14) -> 403.75 | H16: =G14+((G15/100)*G14) -> 446.25
A17: Tear strenght (N/mm2) | D17: Value | E17: 9.1 | G17: 11
D18: Tolerance (%) | E18: 5 | G18: 15
D19: Interval | E19: =E17-((E18/100)*E17) -> 8.645 | F19: =E17+((E18/100)*E17) -> 9.555 | G19: =G17-((G18/100)*G17) -> 9.35 | H19: =G17+((G18/100)*G17) -> 12.65
A20: Compression set (%) | C20: 94 hrs 23°C | D20: Value (max) | E20: 30 | G20: 30
D21: Tolerance (%) | E21: 5 | G21: 5
D22: Interval | E22: =E20-(E20*(E21/100)) -> 28.5 | G22: =G20-(G20*(G21/100)) -> 28.5
C23: 22 hrs 150°C | D23: Value (max) | E23: 60 | G23: 60
D24: Tolerance (%) | E24: 5 | G24: 5
D25: Interval | E25: =E23-(E23*(E24/100)) -> 57 | G25: =G23-(G23*(G24/100)) -> 57
L29: Results | N29: Maximum of criteria met | P29: =MAX('Data Sheet'!T7:T800) -> 3 | R29: =MAX('Data Sheet'!AB7:AB800) -> 3
N30: Number of compatible polymer | P30: =COUNTIF('Data Sheet'!T7:T800,Results!P29) -> 5 | R30: =COUNTIF('Data Sheet'!AB7:AB800,Results!R29) -> 3
N31: Compared with : | P31: =COUNTA('Data Sheet'!E:E)-2 -> 764 | R31: polymers
N32: Polymer's names | P32: =[1]!RechercheMultiples(P29,'Data Sheet'!T7:T599,'Data Sheet'!E7:E599,"") -> #NAME? | R32: =[1]!RechercheMultiples(R29,'Data Sheet'!AB7:AB599,'Data Sheet'!E7:E599,"") -> #NAME?
L34: Additional informations | P34: EPDM | R34: NR
L37: Less compatible criteria | P37: =IF(Results!R38=MAX(COUNTIF('Data Sheet'!U7:U800,"FAUX")),'Data Sheet'!U3,IF(Results!R38=MAX(COUNTIF('Data Sheet'!V7:V800,"FAUX")),'Data Sheet'!V3,IF(Results!R38=MAX(COUNTIF('Data Sheet'!W7:W800,"FAUX")),'Data Sheet'!W3,IF(Results!R38=MAX(COUNTIF('Data Sheet'!X7:X800,"FAUX")),'Data Sheet'!X3,IF(MAX(COUNTIF('Data Sheet'!Y7:Y800,"FAUX")),'Data Sheet'!Y3))))) -> Hardness Shore (A or D) | R37: =IF(Results!R38=MAX(COUNTIF('Data Sheet'!M7:M608,"FAUX")),'Data Sheet'!M3,IF(Results!P38=MAX(COUNTIF('Data Sheet'!N7:N608,"FAUX")),'Data Sheet'!N3,IF(Results!P38=MAX(COUNTIF('Data Sheet'!O7:O608,"FAUX")),'Data Sheet'!O3,IF(Results!P38=MAX(COUNTIF('Data Sheet'!P7:P608,"FAUX")),'Data Sheet'!P3,IF(MAX(COUNTIF('Data Sheet'!Q7:Q608,"FAUX")),'Data Sheet'!Q3))))) -> Hardness Shore (A or D)
L38: Number of polymer who don't respect tolerance interval for the less compatible criterion | P38: =MAX(COUNTIF('Data Sheet'!M7:M800,"FAUX"),COUNTIF('Data Sheet'!N7:N800,"FAUX"),COUNTIF('Data Sheet'!O7:O800,"FAUX"),COUNTIF('Data Sheet'!P7:P800,"FAUX"),COUNTIF('Data Sheet'!Q7:Q800,"FAUX")) -> 0 | R38: =MAX(COUNTIF('Data Sheet'!U7:U800,"FAUX"),COUNTIF('Data Sheet'!V7:V800,"FAUX"),COUNTIF('Data Sheet'!W7:W800,"FAUX"),COUNTIF('Data Sheet'!X7:X800,"FAUX"),COUNTIF('Data Sheet'!Y7:Y800,"FAUX")) -> 0

Sheet Data Sheet
F1: DATA BASE | M1: Compatibility check for EPDM | U1: Compatibility check for NR
B3: Company | D3: Categories | E3: Polymer name | F3: Hardness Shore (A or D) | G3: Specific Gravity g/cm^3 | H3: Tensile Strength Mpa | I3: Elongation at Break % | J3: Tear Strength N/mm | K3: Compression set | M3: Hardness Shore (A or D) | N3: Specific Gravity g/cm^3 | O3: Tensile Strength Mpa | P3: Elongation at Break % | Q3: Tear Strength N/mm | R3: Compression set (%) | U3: Hardness Shore (A or D) | V3: Specific Gravity g/cm^3 | W3: Tensile Strength Mpa | X3: Elongation at Break % | Y3: Tear Strength N/mm
K4: 94 hrs 23°c | L4: 22 hrs 150°c | R4: 94 hrs 23°c | S4: 22 hrs 150°c | U4: ISO 868 | V4: ISO 2781 | W4: ISO 37 | X4: ISO 37 | Y4: ISO 34 Method C
U5: ASTM D 2240' | V5: ASTM D 792 | W5: ASTM D 628 | X5: ASTM D 628 | Y5: ASTM D 624
T6: Number of criteria into the tolerance interval for EPDM | U6: DIN 53505 (A) | V6: DIN EN ISO 1183-1 (A) | W6: DIN 53504 | X6: DIN 53504 | AB6: Number of criteria into the tolerance interval for NR
B7: HEXPOLTPE | D7: Dryflex for extrusion profile (TPS) | E7: 4103 | F7: 70 | G7: 1.1 | H7: 4 | I7: 575 | J7: 25 | M7: =AND('Data Sheet'!F7<Results!$F$7,'Data Sheet'!F7>Results!$E$7) -> FALSE | N7: =AND(G7>Results!$E$10,G7<Results!$F$10) -> TRUE | O7: =AND(H7>Results!$E$13,H7<Results!$F$13) -> FALSE | P7: =AND(I7>Results!$E$16,I7<Results!$F$16) -> FALSE | Q7: =AND(J7>Results!$E$19,J7<Results!$F$19) -> FALSE | T7: =COUNTIF(M7:Q7,"TRUE") -> 1 | U7: =AND('Data Sheet'!F7>Results!$G$7,'Data Sheet'!F7<Results!$H$7) -> FALSE | V7: =AND('Data Sheet'!G7>Results!$G$10,'Data Sheet'!G6<Results!$H$10) -> TRUE | W7: =AND('Data Sheet'!H7>Results!$G$13,'Data Sheet'!H7<Results!$H$13) -> FALSE | X7: =AND('Data Sheet'!I7>Results!$G$16,'Data Sheet'!I7<Results!$H$16) -> FALSE | Y7: =AND('Data Sheet'!J7>Results!$G$19,'Data Sheet'!J7<Results!$H$19) -> FALSE | AB7: =COUNTIF(U7:Y7,"TRUE") -> 1
E8: 50225 | F8: 58 | G8: 1.13 | H8: 3 | I8: 400 | J8: 19 | M8: =AND('Data Sheet'!F8<Results!$F$7,'Data Sheet'!F8>Results!$E$7) -> TRUE | N8: =AND(G8>Results!$E$10,G8<Results!$F$10) -> TRUE | O8: =AND(H8>Results!$E$13,H8<Results!$F$13) -> FALSE | P8: =AND(I8>Results!$E$16,I8<Results!$F$16) -> TRUE | Q8: =AND(J8>Results!$E$19,J8<Results!$F$19) -> FALSE | T8: =COUNTIF(M8:Q8,"TRUE") -> 3 | U8: =AND('Data Sheet'!F8>Results!$G$7,'Data Sheet'!F8<Results!$H$7) -> FALSE | V8: =AND('Data Sheet'!G8>Results!$G$10,'Data Sheet'!G7<Results!$H$10) -> TRUE | W8: =AND('Data Sheet'!H8>Results!$G$13,'Data Sheet'!H8<Results!$H$13) -> FALSE | X8: =AND('Data Sheet'!I8>Results!$G$16,'Data Sheet'!I8<Results!$H$16) -> FALSE | Y8: =AND('Data Sheet'!J8>Results!$G$19,'Data Sheet'!J8<Results!$H$19) -> FALSE | AB8: =COUNTIF(U8:Y8,"TRUE") -> 1
E9: 50670 | F9: 60 | G9: 1.11 | H9: 3 | I9: 340 | J9: 23 | M9: =AND('Data Sheet'!F9<Results!$F$7,'Data Sheet'!F9>Results!$E$7) -> TRUE | N9: =AND(G9>Results!$E$10,G9<Results!$F$10) -> TRUE | O9: =AND(H9>Results!$E$13,H9<Results!$F$13) -> FALSE | P9: =AND(I9>Results!$E$16,I9<Results!$F$16) -> FALSE | Q9: =AND(J9>Results!$E$19,J9<Results!$F$19) -> FALSE | T9: =COUNTIF(M9:Q9,"TRUE") -> 2 | U9: =AND('Data Sheet'!F9>Results!$G$7,'Data Sheet'!F9<Results!$H$7) -> FALSE | V9: =AND('Data Sheet'!G9>Results!$G$10,'Data Sheet'!G8<Results!$H$10) -> TRUE | W9: =AND('Data Sheet'!H9>Results!$G$13,'Data Sheet'!H9<Results!$H$13) -> FALSE | X9: =AND('Data Sheet'!I9>Results!$G$16,'Data Sheet'!I9<Results!$H$16) -> FALSE | Y9: =AND('Data Sheet'!J9>Results!$G$19,'Data Sheet'!J9<Results!$H$19) -> FALSE | AB9: =COUNTIF(U9:Y9,"TRUE") -> 1
E10: 605550 | F10: 55 | G10: 1.05 | H10: 6 | I10: 600 | J10: 25 | M10: =AND('Data Sheet'!F10<Results!$F$7,'Data Sheet'!F10>Results!$E$7) -> FALSE | N10: =AND(G10>Results!$E$10,G10<Results!$F$10) -> TRUE | O10: =AND(H10>Results!$E$13,H10<Results!$F$13) -> FALSE | P10: =AND(I10>Results!$E$16,I10<Results!$F$16) -> FALSE | Q10: =AND(J10>Results!$E$19,J10<Results!$F$19) -> FALSE | T10: =COUNTIF(M10:Q10,"TRUE") -> 1 | U10: =AND('Data Sheet'!F10>Results!$G$7,'Data Sheet'!F10<Results!$H$7) -> FALSE | V10: =AND('Data Sheet'!G10>Results!$G$10,'Data Sheet'!G9<Results!$H$10) -> FALSE | W10: =AND('Data Sheet'!H10>Results!$G$13,'Data Sheet'!H10<Results!$H$13) -> FALSE | X10: =AND('Data Sheet'!I10>Results!$G$16,'Data Sheet'!I10<Results!$H$16) -> FALSE | Y10: =AND('Data Sheet'!J10>Results!$G$19,'Data Sheet'!J10<Results!$H$19) -> FALSE | AB10: =COUNTIF(U10:Y10,"TRUE") -> 0
E11: 605620 | F11: 62 | G11: 1.22 | H11: 5 | I11: 600 | J11: 27 | M11: =AND('Data Sheet'!F11<Results!$F$7,'Data Sheet'!F11>Results!$E$7) -> TRUE | N11: =AND(G11>Results!$E$10,G11<Results!$F$10) -> FALSE | O11: =AND(H11>Results!$E$13,H11<Results!$F$13) -> FALSE | P11: =AND(I11>Results!$E$16,I11<Results!$F$16) -> FALSE | Q11: =AND(J11>Results!$E$19,J11<Results!$F$19) -> FALSE | T11: =COUNTIF(M11:Q11,"TRUE") -> 1 | U11: =AND('Data Sheet'!F11>Results!$G$7,'Data Sheet'!F11<Results!$H$7) -> TRUE | V11: =AND('Data Sheet'!G11>Results!$G$10,'Data Sheet'!G10<Results!$H$10) -> TRUE | W11: =AND('Data Sheet'!H11>Results!$G$13,'Data Sheet'!H11<Results!$H$13) -> FALSE | X11: =AND('Data Sheet'!I11>Results!$G$16,'Data Sheet'!I11<Results!$H$16) -> FALSE | Y11: =AND('Data Sheet'!J11>Results!$G$19,'Data Sheet'!J11<Results!$H$19) -> FALSE | AB11: =COUNTIF(U11:Y11,"TRUE") -> 2
E12: 660480 | F12: 48 | G12: 1.04 | H12: 5.2 | I12: 600 | J12: 22 | M12: =AND('Data Sheet'!F12<Results!$F$7,'Data Sheet'!F12>Results!$E$7) -> FALSE | N12: =AND(G12>Results!$E$10,G12<Results!$F$10) -> FALSE | O12: =AND(H12>Results!$E$13,H12<Results!$F$13) -> FALSE | P12: =AND(I12>Results!$E$16,I12<Results!$F$16) -> FALSE | Q12: =AND(J12>Results!$E$19,J12<Results!$F$19) -> FALSE | T12: =COUNTIF(M12:Q12,"TRUE") -> 0 | U12: =AND('Data Sheet'!F12>Results!$G$7,'Data Sheet'!F12<Results!$H$7) -> FALSE | V12: =AND('Data Sheet'!G12>Results!$G$10,'Data Sheet'!G11<Results!$H$10) -> FALSE | W12: =AND('Data Sheet'!H12>Results!$G$13,'Data Sheet'!H12<Results!$H$13) -> FALSE | X12: =AND('Data Sheet'!I12>Results!$G$16,'Data Sheet'!I12<Results!$H$16) -> FALSE | Y12: =AND('Data Sheet'!J12>Results!$G$19,'Data Sheet'!J12<Results!$H$19) -> FALSE | AB12: =COUNTIF(U12:Y12,"TRUE") -> 0
E13: 300581 | F13: 58 | G13: 1.18 | H13: 6 | I13: 500 | J13: 30 | M13: =AND('Data Sheet'!F13<Results!$F$7,'Data Sheet'!F13>Results!$E$7) -> TRUE | N13: =AND(G13>Results!$E$10,G13<Results!$F$10) -> FALSE | O13: =AND(H13>Results!$E$13,H13<Results!$F$13) -> FALSE | P13: =AND(I13>Results!$E$16,I13<Results!$F$16) -> FALSE | Q13: =AND(J13>Results!$E$19,J13<Results!$F$19) -> FALSE | T13: =COUNTIF(M13:Q13,"TRUE") -> 1 | U13: =AND('Data Sheet'!F13>Results!$G$7,'Data Sheet'!F13<Results!$H$7) -> FALSE | V13: =AND('Data Sheet'!G13>Results!$G$10,'Data Sheet'!G12<Results!$H$10) -> TRUE | W13: =AND('Data Sheet'!H13>Results!$G$13,'Data Sheet'!H13<Results!$H$13) -> FALSE | X13: =AND('Data Sheet'!I13>Results!$G$16,'Data Sheet'!I13<Results!$H$16) -> FALSE | Y13: =AND('Data Sheet'!J13>Results!$G$19,'Data Sheet'!J13<Results!$H$19) -> FALSE | AB13: =COUNTIF(U13:Y13,"TRUE") -> 1
E14: 700541 | F14: 54 | G14: 1.17 | H14: 5.5 | I14: 700 | J14: 28 | M14: =AND('Data Sheet'!F14<Results!$F$7,'Data Sheet'!F14>Results!$E$7) -> FALSE | N14: =AND(G14>Results!$E$10,G14<Results!$F$10) -> FALSE | O14: =AND(H14>Results!$E$13,H14<Results!$F$13) -> FALSE | P14: =AND(I14>Results!$E$16,I14<Results!$F$16) -> FALSE | Q14: =AND(J14>Results!$E$19,J14<Results!$F$19) -> FALSE | T14: =COUNTIF(M14:Q14,"TRUE") -> 0 | U14: =AND('Data Sheet'!F14>Results!$G$7,'Data Sheet'!F14<Results!$H$7) -> FALSE | V14: =AND('Data Sheet'!G14>Results!$G$10,'Data Sheet'!G13<Results!$H$10) -> TRUE | W14: =AND('Data Sheet'!H14>Results!$G$13,'Data Sheet'!H14<Results!$H$13) -> FALSE | X14: =AND('Data Sheet'!I14>Results!$G$16,'Data Sheet'!I14<Results!$H$16) -> FALSE | Y14: =AND('Data Sheet'!J14>Results!$G$19,'Data Sheet'!J14<Results!$H$19) -> FALSE | AB14: =COUNTIF(U14:Y14,"TRUE") -> 1
E15: 500551 | F15: 55 | G15: 0.9 | H15: 6 | I15: 600 | J15: 19 | M15: =AND('Data Sheet'!F15<Results!$F$7,'Data Sheet'!F15>Results!$E$7) -> FALSE | N15: =AND(G15>Results!$E$10,G15<Results!$F$10) -> FALSE | O15: =AND(H15>Results!$E$13,H15<Results!$F$13) -> FALSE | P15: =AND(I15>Results!$E$16,I15<Results!$F$16) -> FALSE | Q15: =AND(J15>Results!$E$19,J15<Results!$F$19) -> FALSE | T15: =COUNTIF(M15:Q15,"TRUE") -> 0 | U15: =AND('Data Sheet'!F15>Results!$G$7,'Data Sheet'!F15<Results!$H$7) -> FALSE | V15: =AND('Data Sheet'!G15>Results!$G$10,'Data Sheet'!G14<Results!$H$10) -> FALSE | W15: =AND('Data Sheet'!H15>Results!$G$13,'Data Sheet'!H15<Results!$H$13) -> FALSE | X15: =AND('Data Sheet'!I15>Results!$G$16,'Data Sheet'!I15<Results!$H$16) -> FALSE | Y15: =AND('Data Sheet'!J15>Results!$G$19,'Data Sheet'!J15<Results!$H$19) -> FALSE | AB15: =COUNTIF(U15:Y15,"TRUE") -> 0
E16: 500701 | F16: 72 | G16: 0.9 | H16: 14 | I16: 760 | J16: 35 | M16: =AND('Data Sheet'!F16<Results!$F$7,'Data Sheet'!F16>Results!$E$7) -> FALSE | N16: =AND(G16>Results!$E$10,G16<Results!$F$10) -> FALSE | O16: =AND(H16>Results!$E$13,H16<Results!$F$13) -> FALSE | P16: =AND(I16>Results!$E$16,I16<Results!$F$16) -> FALSE | Q16: =AND(J16>Results!$E$19,J16<Results!$F$19) -> FALSE | T16: =COUNTIF(M16:Q16,"TRUE") -> 0 | U16: =AND('Data Sheet'!F16>Results!$G$7,'Data Sheet'!F16<Results!$H$7) -> FALSE | V16: =AND('Data Sheet'!G16>Results!$G$10,'Data Sheet'!G15<Results!$H$10) -> FALSE | W16: =AND('Data Sheet'!H16>Results!$G$13,'Data Sheet'!H16<Results!$H$13) -> FALSE | X16: =AND('Data Sheet'!I16>Results!$G$16,'Data Sheet'!I16<Results!$H$16) -> FALSE | Y16: =AND('Data Sheet'!J16>Results!$G$19,'Data Sheet'!J16<Results!$H$19) -> FALSE | AB16: =COUNTIF(U16:Y16,"TRUE") -> 0
E17: 500850 | F17: 85 | G17: 0.9 | H17: 14 | I17: 800 | J17: 40 | M17: =AND('Data Sheet'!F17<Results!$F$7,'Data Sheet'!F17>Results!$E$7) -> FALSE | N17: =AND(G17>Results!$E$10,G17<Results!$F$10) -> FALSE | O17: =AND(H17>Results!$E$13,H17<Results!$F$13) -> FALSE | P17: =AND(I17>Results!$E$16,I17<Results!$F$16) -> FALSE | Q17: =AND(J17>Results!$E$19,J17<Results!$F$19) -> FALSE | T17: =COUNTIF(M17:Q17,"TRUE") -> 0 | U17: =AND('Data Sheet'!F17>Results!$G$7,'Data Sheet'!F17<Results!$H$7) -> FALSE | V17: =AND('Data Sheet'!G17>Results!$G$10,'Data Sheet'!G16<Results!$H$10) -> FALSE | W17: =AND('Data Sheet'!H17>Results!$G$13,'Data Sheet'!H17<Results!$H$13) -> FALSE | X17: =AND('Data Sheet'!I17>Results!$G$16,'Data Sheet'!I17<Results!$H$16) -> FALSE | Y17: =AND('Data Sheet'!J17>Results!$G$19,'Data Sheet'!J17<Results!$H$19) -> FALSE | AB17: =COUNTIF(U17:Y17,"TRUE") -> 0
E18: 500900 | F18: 90 | G18: 0.9 | H18: 14 | I18: 800 | J18: 42 | M18: =AND('Data Sheet'!F18<Results!$F$7,'Data Sheet'!F18>Results!$E$7) -> FALSE | N18: =AND(G18>Results!$E$10,G18<Results!$F$10) -> FALSE | O18: =AND(H18>Results!$E$13,H18<Results!$F$13) -> FALSE | P18: =AND(I18>Results!$E$16,I18<Results!$F$16) -> FALSE | Q18: =AND(J18>Results!$E$19,J18<Results!$F$19) -> FALSE | T18: =COUNTIF(M18:Q18,"TRUE") -> 0 | U18: =AND('Data Sheet'!F18>Results!$G$7,'Data Sheet'!F18<Results!$H$7) -> FALSE | V18: =AND('Data Sheet'!G18>Results!$G$10,'Data Sheet'!G17<Results!$H$10) -> FALSE | W18: =AND('Data Sheet'!H18>Results!$G$13,'Data Sheet'!H18<Results!$H$13) -> FALSE | X18: =AND('Data Sheet'!I18>Results!$G$16,'Data Sheet'!I18<Results!$H$16) -> FALSE | Y18: =AND('Data Sheet'!J18>Results!$G$19,'Data Sheet'!J18<Results!$H$19) -> FALSE | AB18: =COUNTIF(U18:Y18,"TRUE") -> 0
E19: 938012 | F19: 65 | G19: 0.89 | H19: 10 | I19: 600 | J19: 35 | M19: =AND('Data Sheet'!F19<Results!$F$7,'Data Sheet'!F19>Results!$E$7) -> FALSE | N19: =AND(G19>Results!$E$10,G19<Results!$F$10) -> FALSE | O19: =AND(H19>Results!$E$13,H19<Results!$F$13) -> FALSE | P19: =AND(I19>Results!$E$16,I19<Results!$F$16) -> FALSE | Q19: =AND(J19>Results!$E$19,J19<Results!$F$19) -> FALSE | T19: =COUNTIF(M19:Q19,"TRUE") -> 0 | U19: =AND('Data Sheet'!F19>Results!$G$7,'Data Sheet'!F19<Results!$H$7) -> TRUE | V19: =AND('Data Sheet'!G19>Results!$G$10,'Data Sheet'!G18<Results!$H$10) -> FALSE | W19: =AND('Data Sheet'!H19>Results!$G$13,'Data Sheet'!H19<Results!$H$13) -> FALSE | X19: =AND('Data Sheet'!I19>Results!$G$16,'Data Sheet'!I19<Results!$H$16) -> FALSE | Y19: =AND('Data Sheet'!J19>Results!$G$19,'Data Sheet'!J19<Results!$H$19) -> FALSE | AB19: =COUNTIF(U19:Y19,"TRUE") -> 1
E20: 4093 | F20: 80 | G20: 1.11 | H20: 8.5 | I20: 620 | J20: 37 | M20: =AND('Data Sheet'!F20<Results!$F$7,'Data Sheet'!F20>Results!$E$7) -> FALSE | N20: =AND(G20>Results!$E$10,G20<Results!$F$10) -> TRUE | O20: =AND(H20>Results!$E$13,H20<Results!$F$13) -> FALSE | P20: =AND(I20>Results!$E$16,I20<Results!$F$16) -> FALSE | Q20: =AND(J20>Results!$E$19,J20<Results!$F$19) -> FALSE | T20: =COUNTIF(M20:Q20,"TRUE") -> 1 | U20: =AND('Data Sheet'!F20>Results!$G$7,'Data Sheet'!F20<Results!$H$7) -> FALSE | V20: =AND('Data Sheet'!G20>Results!$G$10,'Data Sheet'!G19<Results!$H$10) -> TRUE | W20: =AND('Data Sheet'!H20>Results!$G$13,'Data Sheet'!H20<Results!$H$13) -> FALSE | X20: =AND('Data Sheet'!I20>Results!$G$16,'Data Sheet'!I20<Results!$H$16) -> FALSE | Y20: =AND('Data Sheet'!J20>Results!$G$19,'Data Sheet'!J20<Results!$H$19) -> FALSE | AB20: =COUNTIF(U20:Y20,"TRUE") -> 1
E21: 9012 | F21: 92 | G21: 0.89 | H21: 14.5 | I21: 900 | J21: - | M21: =AND('Data Sheet'!F21<Results!$F$7,'Data Sheet'!F21>Results!$E$7) -> FALSE | N21: =AND(G21>Results!$E$10,G21<Results!$F$10) -> FALSE | O21: =AND(H21>Results!$E$13,H21<Results!$F$13) -> FALSE | P21: =AND(I21>Results!$E$16,I21<Results!$F$16) -> FALSE | Q21: =AND(J21>Results!$E$19,J21<Results!$F$19) -> FALSE | T21: =COUNTIF(M21:Q21,"TRUE") -> 0 | U21: =AND('Data Sheet'!F21>Results!$G$7,'Data Sheet'!F21<Results!$H$7) -> FALSE | V21: =AND('Data Sheet'!G21>Results!$G$10,'Data Sheet'!G20<Results!$H$10) -> FALSE | W21: =AND('Data Sheet'!H21>Results!$G$13,'Data Sheet'!H21<Results!$H$13) -> TRUE | X21: =AND('Data Sheet'!I21>Results!$G$16,'Data Sheet'!I21<Results!$H$16) -> FALSE | Y21: =AND('Data Sheet'!J21>Results!$G$19,'Data Sheet'!J21<Results!$H$19) -> FALSE | AB21: =COUNTIF(U21:Y21,"TRUE") -> 1
E22: 600861 | F22: 86 | G22: 1.16 | H22: 13 | I22: 600 | J22: 50 | M22: =AND('Data Sheet'!F22<Results!$F$7,'Data Sheet'!F22>Results!$E$7) -> FALSE | N22: =AND(G22>Results!$E$10,G22<Results!$F$10) -> FALSE | O22: =AND(H22>Results!$E$13,H22<Results!$F$13) -> FALSE | P22: =AND(I22>Results!$E$16,I22<Results!$F$16) -> FALSE | Q22: =AND(J22>Results!$E$19,J22<Results!$F$19) -> FALSE | T22: =COUNTIF(M22:Q22,"TRUE") -> 0 | U22: =AND('Data Sheet'!F22>Results!$G$7,'Data Sheet'!F22<Results!$H$7) -> FALSE | V22: =AND('Data Sheet'!G22>Results!$G$10,'Data Sheet'!G21<Results!$H$10) -> TRUE | W22: =AND('Data Sheet'!H22>Results!$G$13,'Data Sheet'!H22<Results!$H$13) -> FALSE | X22: =AND('Data Sheet'!I22>Results!$G$16,'Data Sheet'!I22<Results!$H$16) -> FALSE | Y22: =AND('Data Sheet'!J22>Results!$G$19,'Data Sheet'!J22<Results!$H$19) -> FALSE | AB22: =COUNTIF(U22:Y22,"TRUE") -> 1
E23: 600861 | F23: 91 | G23: 1.16 | H23: 13 | I23: 600 | J23: 50 | M23: =AND('Data Sheet'!F23<Results!$F$7,'Data Sheet'!F23>Results!$E$7) -> FALSE | N23: =AND(G23>Results!$E$10,G23<Results!$F$10) -> FALSE | O23: =AND(H23>Results!$E$13,H23<Results!$F$13) -> FALSE | P23: =AND(I23>Results!$E$16,I23<Results!$F$16) -> FALSE | Q23: =AND(J23>Results!$E$19,J23<Results!$F$19) -> FALSE | T23: =COUNTIF(M23:Q23,"TRUE") -> 0 | U23: =AND('Data Sheet'!F23>Results!$G$7,'Data Sheet'!F23<Results!$H$7) -> FALSE | V23: =AND('Data Sheet'!G23>Results!$G$10,'Data Sheet'!G22<Results!$H$10) -> TRUE | W23: =AND('Data Sheet'!H23>Results!$G$13,'Data Sheet'!H23<Results!$H$13) -> FALSE | X23: =AND('Data Sheet'!I23>Results!$G$16,'Data Sheet'!I23<Results!$H$16) -> FALSE | Y23: =AND('Data Sheet'!J23>Results!$G$19,'Data Sheet'!J23<Results!$H$19) -> FALSE | AB23: =COUNTIF(U23:Y23,"TRUE") -> 1
E24: 966042 | F24: 39 | G24: 0.96 | H24: 18 | I24: 600 | J24: 65 | M24: =AND('Data Sheet'!F24<Results!$F$7,'Data Sheet'!F24>Results!$E$7) -> FALSE | N24: =AND(G24>Results!$E$10,G24<Results!$F$10) -> FALSE | O24: =AND(H24>Results!$E$13,H24<Results!$F$13) -> FALSE | P24: =AND(I24>Results!$E$16,I24<Results!$F$16) -> FALSE | Q24: =AND(J24>Results!$E$19,J24<Results!$F$19) -> FALSE | T24: =COUNTIF(M24:Q24,"TRUE") -> 0 | U24: =AND('Data Sheet'!F24>Results!$G$7,'Data Sheet'!F24<Results!$H$7) -> FALSE | V24: =AND('Data Sheet'!G24>Results!$G$10,'Data Sheet'!G23<Results!$H$10) -> FALSE | W24: =AND('Data Sheet'!H24>Results!$G$13,'Data Sheet'!H24<Results!$H$13) -> FALSE | X24: =AND('Data Sheet'!I24>Results!$G$16,'Data Sheet'!I24<Results!$H$16) -> FALSE | Y24: =AND('Data Sheet'!J24>Results!$G$19,'Data Sheet'!J24<Results!$H$19) -> FALSE | AB24: =COUNTIF(U24:Y24,"TRUE") -> 0
E25: 966043 | F25: 39 | G25: 0.96 | H25: 18 | I25: 600 | J25: 65 | M25: =AND('Data Sheet'!F25<Results!$F$7,'Data Sheet'!F25>Results!$E$7) -> FALSE | N25: =AND(G25>Results!$E$10,G25<Results!$F$10) -> FALSE | O25: =AND(H25>Results!$E$13,H25<Results!$F$13) -> FALSE | P25: =AND(I25>Results!$E$16,I25<Results!$F$16) -> FALSE | Q25: =AND(J25>Results!$E$19,J25<Results!$F$19) -> FALSE | T25: =COUNTIF(M25:Q25,"TRUE") -> 0 | U25: =AND('Data Sheet'!F25>Results!$G$7,'Data Sheet'!F25<Results!$H$7) -> FALSE | V25: =AND('Data Sheet'!G25>Results!$G$10,'Data Sheet'!G24<Results!$H$10) -> FALSE | W25: =AND('Data Sheet'!H25>Results!$G$13,'Data Sheet'!H25<Results!$H$13) -> FALSE | X25: =AND('Data Sheet'!I25>Results!$G$16,'Data Sheet'!I25<Results!$H$16) -> FALSE | Y25: =AND('Data Sheet'!J25>Results!$G$19,'Data Sheet'!J25<Results!$H$19) -> FALSE | AB25: =COUNTIF(U25:Y25,"TRUE") -> 0
E26: XP 0801 | F26: 8 | G26: 0.45 | H26: - | I26: - | J26: - | M26: =AND('Data Sheet'!F26<Results!$F$7,'Data Sheet'!F26>Results!$E$7) -> FALSE | N26: =AND(G26>Results!$E$10,G26<Results!$F$10) -> FALSE | O26: =AND(H26>Results!$E$13,H26<Results!$F$13) -> FALSE | P26: =AND(I26>Results!$E$16,I26<Results!$F$16) -> FALSE | Q26: =AND(J26>Results!$E$19,J26<Results!$F$19) -> FALSE | T26: =COUNTIF(M26:Q26,"TRUE") -> 0 | U26: =AND('Data Sheet'!F26>Results!$G$7,'Data Sheet'!F26<Results!$H$7) -> FALSE | V26: =AND('Data Sheet'!G26>Results!$G$10,'Data Sheet'!G25<Results!$H$10) -> FALSE | W26: =AND('Data Sheet'!H26>Results!$G$13,'Data Sheet'!H26<Results!$H$13) -> FALSE | X26: =AND('Data Sheet'!I26>Results!$G$16,'Data Sheet'!I26<Results!$H$16) -> FALSE | Y26: =AND('Data Sheet'!J26>Results!$G$19,'Data Sheet'!J26<Results!$H$19) -> FALSE | AB26: =COUNTIF(U26:Y26,"TRUE") -> 0
E27: XP 1501 | F27: 15 | G27: 0.45 | H27: - | I27: - | J27: - | M27: =AND('Data Sheet'!F27<Results!$F$7,'Data Sheet'!F27>Results!$E$7) -> FALSE | N27: =AND(G27>Results!$E$10,G27<Results!$F$10) -> FALSE | O27: =AND(H27>Results!$E$13,H27<Results!$F$13) -> FALSE | P27: =AND(I27>Results!$E$16,I27<Results!$F$16) -> FALSE | Q27: =AND(J27>Results!$E$19,J27<Results!$F$19) -> FALSE | T27: =COUNTIF(M27:Q27,"TRUE") -> 0 | U27: =AND('Data Sheet'!F27>Results!$G$7,'Data Sheet'!F27<Results!$H$7) -> FALSE | V27: =AND('Data Sheet'!G27>Results!$G$10,'Data Sheet'!G26<Results!$H$10) -> FALSE | W27: =AND('Data Sheet'!H27>Results!$G$13,'Data Sheet'!H27<Results!$H$13) -> FALSE | X27: =AND('Data Sheet'!I27>Results!$G$16,'Data Sheet'!I27<Results!$H$16) -> FALSE | Y27: =AND('Data Sheet'!J27>Results!$G$19,'Data Sheet'!J27<Results!$H$19) -> FALSE | AB27: =COUNTIF(U27:Y27,"TRUE") -> 0
E28: 4050' | F28: - | G28: 1.08 | H28: 3 | I28: 700 | J28: 5 | M28: =AND('Data Sheet'!F28<Results!$F$7,'Data Sheet'!F28>Results!$E$7) -> FALSE | N28: =AND(G28>Results!$E$10,G28<Results!$F$10) -> TRUE | O28: =AND(H28>Results!$E$13,H28<Results!$F$13) -> FALSE | P28: =AND(I28>Results!$E$16,I28<Results!$F$16) -> FALSE | Q28: =AND(J28>Results!$E$19,J28<Results!$F$19) -> FALSE | T28: =COUNTIF(M28:Q28,"TRUE") -> 1 | U28: =AND('Data Sheet'!F28>Results!$G$7,'Data Sheet'!F28<Results!$H$7) -> FALSE | V28: =AND('Data Sheet'!G28>Results!$G$10,'Data Sheet'!G27<Results!$H$10) -> TRUE | W28: =AND('Data Sheet'!H28>Results!$G$13,'Data Sheet'!H28<Results!$H$13) -> FALSE | X28: =AND('Data Sheet'!I28>Results!$G$16,'Data Sheet'!I28<Results!$H$16) -> FALSE | Y28: =AND('Data Sheet'!J28>Results!$G$19,'Data Sheet'!J28<Results!$H$19) -> FALSE | AB28: =COUNTIF(U28:Y28,"TRUE") -> 1
E29: 4057 | F29: - | G29: 1.11 | H29: 3.4 | I29: 417 | J29: 5 | M29: =AND('Data Sheet'!F29<Results!$F$7,'Data Sheet'!F29>Results!$E$7) -> FALSE | N29: =AND(G29>Results!$E$10,G29<Results!$F$10) -> TRUE | O29: =AND(H29>Results!$E$13,H29<Results!$F$13) -> FALSE | P29: =AND(I29>Results!$E$16,I29<Results!$F$16) -> TRUE | Q29: =AND(J29>Results!$E$19,J29<Results!$F$19) -> FALSE | T29: =COUNTIF(M29:Q29,"TRUE") -> 2 | U29: =AND('Data Sheet'!F29>Results!$G$7,'Data Sheet'!F29<Results!$H$7) -> FALSE | V29: =AND('Data Sheet'!G29>Results!$G$10,'Data Sheet'!G28<Results!$H$10) -> TRUE | W29: =AND('Data Sheet'!H29>Results!$G$13,'Data Sheet'!H29<Results!$H$13) -> FALSE | X29: =AND('Data Sheet'!I29>Results!$G$16,'Data Sheet'!I29<Results!$H$16) -> TRUE | Y29: =AND('Data Sheet'!J29>Results!$G$19,'Data Sheet'!J29<Results!$H$19) -> FALSE | AB29: =COUNTIF(U29:Y29,"TRUE") -> 2
E30: 4058 | F30: - | G30: 1.09 | H30: 2.5 | I30: 600 | J30: 3.5 | M30: =AND('Data Sheet'!F30<Results!$F$7,'Data Sheet'!F30>Results!$E$7) -> FALSE | N30: =AND(G30>Results!$E$10,G30<Results!$F$10) -> TRUE | O30: =AND(H30>Results!$E$13,H30<Results!$F$13) -> FALSE | P30: =AND(I30>Results!$E$16,I30<Results!$F$16) -> FALSE | Q30: =AND(J30>Results!$E$19,J30<Results!$F$19) -> FALSE | T30: =COUNTIF(M30:Q30,"TRUE") -> 1 | U30: =AND('Data Sheet'!F30>Results!$G$7,'Data Sheet'!F30<Results!$H$7) -> FALSE | V30: =AND('Data Sheet'!G30>Results!$G$10,'Data Sheet'!G29<Results!$H$10) -> TRUE | W30: =AND('Data Sheet'!H30>Results!$G$13,'Data Sheet'!H30<Results!$H$13) -> FALSE | X30: =AND('Data Sheet'!I30>Results!$G$16,'Data Sheet'!I30<Results!$H$16) -> FALSE | Y30: =AND('Data Sheet'!J30>Results!$G$19,'Data Sheet'!J30<Results!$H$19) -> FALSE | AB30: =COUNTIF(U30:Y30,"TRUE") -> 1
E31: 4059 | F31: - | G31: 1.09 | H31: 1.9 | I31: 650 | J31: 3.2 | M31: =AND('Data Sheet'!F31<Results!$F$7,'Data Sheet'!F31>Results!$E$7) -> FALSE | N31: =AND(G31>Results!$E$10,G31<Results!$F$10) -> TRUE | O31: =AND(H31>Results!$E$13,H31<Results!$F$13) -> FALSE | P31: =AND(I31>Results!$E$16,I31<Results!$F$16) -> FALSE | Q31: =AND(J31>Results!$E$19,J31<Results!$F$19) -> FALSE | T31: =COUNTIF(M31:Q31,"TRUE") -> 1 | U31: =AND('Data Sheet'!F31>Results!$G$7,'Data Sheet'!F31<Results!$H$7) -> FALSE | V31: =AND('Data Sheet'!G31>Results!$G$10,'Data Sheet'!G30<Results!$H$10) -> TRUE | W31: =AND('Data Sheet'!H31>Results!$G$13,'Data Sheet'!H31<Results!$H$13) -> FALSE | X31: =AND('Data Sheet'!I31>Results!$G$16,'Data Sheet'!I31<Results!$H$16) -> FALSE | Y31: =AND('Data Sheet'!J31>Results!$G$19,'Data Sheet'!J31<Results!$H$19) -> FALSE | AB31: =COUNTIF(U31:Y31,"TRUE") -> 1
E32: 4060' | F32: - | G32: 1.09 | H32: 2.9 | I32: 700 | J32: 5.5 | M32: =AND('Data Sheet'!F32<Results!$F$7,'Data Sheet'!F32>Results!$E$7) -> FALSE | N32: =AND(G32>Results!$E$10,G32<Results!$F$10) -> TRUE | O32: =AND(H32>Results!$E$13,H32<Results!$F$13) -> FALSE | P32: =AND(I32>Results!$E$16,I32<Results!$F$16) -> FALSE | Q32: =AND(J32>Results!$E$19,J32<Results!$F$19) -> FALSE | T32: =COUNTIF(M32:Q32,"TRUE") -> 1 | U32: =AND('Data Sheet'!F32>Results!$G$7,'Data Sheet'!F32<Results!$H$7) -> FALSE | V32: =AND('Data Sheet'!G32>Results!$G$10,'Data Sheet'!G31<Results!$H$10) -> TRUE | W32: =AND('Data Sheet'!H32>Results!$G$13,'Data Sheet'!H32<Results!$H$13) -> FALSE | X32: =AND('Data Sheet'!I32>Results!$G$16,'Data Sheet'!I32<Results!$H$16) -> FALSE | Y32: =AND('Data Sheet'!J32>Results!$G$19,'Data Sheet'!J32<Results!$H$19) -> FALSE | AB32: =COUNTIF(U32:Y32,"TRUE") -> 1
E33: 4067' | F33: - | G33: 1.13 | H33: 5 | I33: 450 | J33: 6.7 | M33: =AND('Data Sheet'!F33<Results!$F$7,'Data Sheet'!F33>Results!$E$7) -> FALSE | N33: =AND(G33>Results!$E$10,G33<Results!$F$10) -> TRUE | O33: =AND(H33>Results!$E$13,H33<Results!$F$13) -> FALSE | P33: =AND(I33>Results!$E$16,I33<Results!$F$16) -> FALSE | Q33: =AND(J33>Results!$E$19,J33<Results!$F$19) -> FALSE | T33: =COUNTIF(M33:Q33,"TRUE") -> 1 | U33: =AND('Data Sheet'!F33>Results!$G$7,'Data Sheet'!F33<Results!$H$7) -> FALSE | V33: =AND('Data Sheet'!G33>Results!$G$10,'Data Sheet'!G32<Results!$H$10) -> TRUE | W33: =AND('Data Sheet'!H33>Results!$G$13,'Data Sheet'!H33<Results!$H$13) -> FALSE | X33: =AND('Data Sheet'!I33>Results!$G$16,'Data Sheet'!I33<Results!$H$16) -> FALSE | Y33: =AND('Data Sheet'!J33>Results!$G$19,'Data Sheet'!J33<Results!$H$19) -> FALSE | AB33: =COUNTIF(U33:Y33,"TRUE") -> 1
E34: 4068 | F34: - | G34: 1.06 | H34: 2.1 | I34: 700 | J34: 3.5 | M34: =AND('Data Sheet'!F34<Results!$F$7,'Data Sheet'!F34>Results!$E$7) -> FALSE | N34: =AND(G34>Results!$E$10,G34<Results!$F$10) -> TRUE | O34: =AND(H34>Results!$E$13,H34<Results!$F$13) -> FALSE | P34: =AND(I34>Results!$E$16,I34<Results!$F$16) -> FALSE | Q34: =AND(J34>Results!$E$19,J34<Results!$F$19) -> FALSE | T34: =COUNTIF(M34:Q34,"TRUE") -> 1 | U34: =AND('Data Sheet'!F34>Results!$G$7,'Data Sheet'!F34<Results!$H$7) -> FALSE | V34: =AND('Data Sheet'!G34>Results!$G$10,'Data Sheet'!G33<Results!$H$10) -> FALSE | W34: =AND('Data Sheet'!H34>Results!$G$13,'Data Sheet'!H34<Results!$H$13) -> FALSE | X34: =AND('Data Sheet'!I34>Results!$G$16,'Data Sheet'!I34<Results!$H$16) -> FALSE | Y34: =AND('Data Sheet'!J34>Results!$G$19,'Data Sheet'!J34<Results!$H$19) -> FALSE | AB34: =COUNTIF(U34:Y34,"TRUE") -> 0
E35: 4096 | F35: - | G35: 1.09 | H35: 1.7 | I35: 700 | J35: 5 | M35: =AND('Data Sheet'!F35<Results!$F$7,'Data Sheet'!F35>Results!$E$7) -> FALSE | N35: =AND(G35>Results!$E$10,G35<Results!$F$10) -> TRUE | O35: =AND(H35>Results!$E$13,H35<Results!$F$13) -> FALSE | P35: =AND(I35>Results!$E$16,I35<Results!$F$16) -> FALSE | Q35: =AND(J35>Results!$E$19,J35<Results!$F$19) -> FALSE | T35: =COUNTIF(M35:Q35,"TRUE") -> 1 | U35: =AND('Data Sheet'!F35>Results!$G$7,'Data Sheet'!F35<Results!$H$7) -> FALSE | V35: =AND('Data Sheet'!G35>Results!$G$10,'Data Sheet'!G34<Results!$H$10) -> TRUE | W35: =AND('Data Sheet'!H35>Results!$G$13,'Data Sheet'!H35<Results!$H$13) -> FALSE | X35: =AND('Data Sheet'!I35>Results!$G$16,'Data Sheet'!I35<Results!$H$16) -> FALSE | Y35: =AND('Data Sheet'!J35>Results!$G$19,'Data Sheet'!J35<Results!$H$19) -> FALSE | AB35: =COUNTIF(U35:Y35,"TRUE") -> 1
E36: 4090' | F36: 57 | G36: 1.08 | H36: 7.8 | I36: 700 | J36: 22 | M36: =AND('Data Sheet'!F36<Results!$F$7,'Data Sheet'!F36>Results!$E$7) -> FALSE | N36: =AND(G36>Results!$E$10,G36<Results!$F$10) -> TRUE | O36: =AND(H36>Results!$E$13,H36<Results!$F$13) -> FALSE | P36: =AND(I36>Results!$E$16,I36<Results!$F$16) -> FALSE | Q36: =AND(J36>Results!$E$19,J36<Results!$F$19) -> FALSE | T36: =COUNTIF(M36:Q36,"TRUE") -> 1 | U36: =AND('Data Sheet'!F36>Results!$G$7,'Data Sheet'!F36<Results!$H$7) -> FALSE | V36: =AND('Data Sheet'!G36>Results!$G$10,'Data Sheet'!G35<Results!$H$10) -> TRUE | W36: =AND('Data Sheet'!H36>Results!$G$13,'Data Sheet'!H36<Results!$H$13) -> FALSE | X36: =AND('Data Sheet'!I36>Results!$G$16,'Data Sheet'!I36<Results!$H$16) -> FALSE | Y36: =AND('Data Sheet'!J36>Results!$G$19,'Data Sheet'!J36<Results!$H$19) -> FALSE | AB36: =COUNTIF(U36:Y36,"TRUE") -> 1
E37: 4092 | F37: 65 | G37: 1.1 | H37: 7.5 | I37: 620 | J37: 27 | M37: =AND('Data Sheet'!F37<Results!$F$7,'Data Sheet'!F37>Results!$E$7) -> FALSE | N37: =AND(G37>Results!$E$10,G37<Results!$F$10) -> TRUE | O37: =AND(H37>Results!$E$13,H37<Results!$F$13) -> FALSE | P37: =AND(I37>Results!$E$16,I37<Results!$F$16) -> FALSE | Q37: =AND(J37>Results!$E$19,J37<Results!$F$19) -> FALSE | T37: =COUNTIF(M37:Q37,"TRUE") -> 1 | U37: =AND('Data Sheet'!F37>Results!$G$7,'Data Sheet'!F37<Results!$H$7) -> TRUE | V37: =AND('Data Sheet'!G37>Results!$G$10,'Data Sheet'!G36<Results!$H$10) -> TRUE | W37: =AND('Data Sheet'!H37>Results!$G$13,'Data Sheet'!H37<Results!$H$13) -> FALSE | X37: =AND('Data Sheet'!I37>Results!$G$16,'Data Sheet'!I37<Results!$H$16) -> FALSE | Y37: =AND('Data Sheet'!J37>Results!$G$19,'Data Sheet'!J37<Results!$H$19) -> FALSE | AB37: =COUNTIF(U37:Y37,"TRUE") -> 2
E38: 4093 | F38: 80 | G38: 1.11 | H38: 8.5 | I38: 620 | J38: 37 | M38: =AND('Data Sheet'!F38<Results!$F$7,'Data Sheet'!F38>Results!$E$7) -> FALSE | N38: =AND(G38>Results!$E$10,G38<Results!$F$10) -> TRUE | O38: =AND(H38>Results!$E$13,H38<Results!$F$13) -> FALSE | P38: =AND(I38>Results!$E$16,I38<Results!$F$16) -> FALSE | Q38: =AND(J38>Results!$E$19,J38<Results!$F$19) -> FALSE | T38: =COUNTIF(M38:Q38,"TRUE") -> 1 | U38: =AND('Data Sheet'!F38>Results!$G$7,'Data Sheet'!F38<Results!$H$7) -> FALSE | V38: =AND('Data Sheet'!G38>Results!$G$10,'Data Sheet'!G37<Results!$H$10) -> TRUE | W38: =AND('Data Sheet'!H38>Results!$G$13,'Data Sheet'!H38<Results!$H$13) -> FALSE | X38: =AND('Data Sheet'!I38>Results!$G$16,'Data Sheet'!I38<Results!$H$16) -> FALSE | Y38: =AND('Data Sheet'!J38>Results!$G$19,'Data Sheet'!J38<Results!$H$19) -> FALSE | AB38: =COUNTIF(U38:Y38,"TRUE") -> 1
E39: 4094' | F39: 62 | G39: 1.09 | H39: 7.5 | I39: 680 | J39: 25 | M39: =AND('Data Sheet'!F39<Results!$F$7,'Data Sheet'!F39>Results!$E$7) -> TRUE | N39: =AND(G39>Results!$E$10,G39<Results!$F$10) -> TRUE | O39: =AND(H39>Results!$E$13,H39<Results!$F$13) -> FALSE | P39: =AND(I39>Results!$E$16,I39<Results!$F$16) -> FALSE | Q39: =AND(J39>Results!$E$19,J39<Results!$F$19) -> FALSE | T39: =COUNTIF(M39:Q39,"TRUE") -> 2 | U39: =AND('Data Sheet'!F39>Results!$G$7,'Data Sheet'!F39<Results!$H$7) -> TRUE | V39: =AND('Data Sheet'!G39>Results!$G$10,'Data Sheet'!G38<Results!$H$10) -> TRUE | W39: =AND('Data Sheet'!H39>Results!$G$13,'Data Sheet'!H39<Results!$H$13) -> FALSE | X39: =AND('Data Sheet'!I39>Results!$G$16,'Data Sheet'!I39<Results!$H$16) -> FALSE | Y39: =AND('Data Sheet'!J39>Results!$G$19,'Data Sheet'!J39<Results!$H$19) -> FALSE | AB39: =COUNTIF(U39:Y39,"TRUE") -> 2
E40: 4096 | F40: 42 | G40: 1.09 | H40: 5 | I40: 700 | J40: 17 | M40: =AND('Data Sheet'!F40<Results!$F$7,'Data Sheet'!F40>Results!$E$7) -> FALSE | N40: =AND(G40>Results!$E$10,G40<Results!$F$10) -> TRUE | O40: =AND(H40>Results!$E$13,H40<Results!$F$13) -> FALSE | P40: =AND(I40>Results!$E$16,I40<Results!$F$16) -> FALSE | Q40: =AND(J40>Results!$E$19,J40<Results!$F$19) -> FALSE | T40: =COUNTIF(M40:Q40,"TRUE") -> 1 | U40: =AND('Data Sheet'!F40>Results!$G$7,'Data Sheet'!F40<Results!$H$7) -> FALSE | V40: =AND('Data Sheet'!G40>Results!$G$10,'Data Sheet'!G39<Results!$H$10) -> TRUE | W40: =AND('Data Sheet'!H40>Results!$G$13,'Data Sheet'!H40<Results!$H$13) -> FALSE | X40: =AND('Data Sheet'!I40>Results!$G$16,'Data Sheet'!I40<Results!$H$16) -> FALSE | Y40: =AND('Data Sheet'!J40>Results!$G$19,'Data Sheet'!J40<Results!$H$19) -> FALSE | AB40: =COUNTIF(U40:Y40,"TRUE") -> 1
D41: Dryflex SE Injection moulding (TPS) | E41: SE 30A001 | F41: 30 | G41: 0.89 | H41: 7 | I41: 900 | J41: 13.4 | M41: =AND('Data Sheet'!F41<Results!$F$7,'Data Sheet'!F41>Results!$E$7) -> FALSE | N41: =AND(G41>Results!$E$10,G41<Results!$F$10) -> FALSE | O41: =AND(H41>Results!$E$13,H41<Results!$F$13) -> FALSE | P41: =AND(I41>Results!$E$16,I41<Results!$F$16) -> FALSE | Q41: =AND(J41>Results!$E$19,J41<Results!$F$19) -> FALSE | T41: =COUNTIF(M41:Q41,"TRUE") -> 0 | U41: =AND('Data Sheet'!F41>Results!$G$7,'Data Sheet'!F41<Results!$H$7) -> FALSE | V41: =AND('Data Sheet'!G41>Results!$G$10,'Data Sheet'!G40<Results!$H$10) -> FALSE | W41: =AND('Data Sheet'!H41>Results!$G$13,'Data Sheet'!H41<Results!$H$13) -> FALSE | X41: =AND('Data Sheet'!I41>Results!$G$16,'Data Sheet'!I41<Results!$H$16) -> FALSE | Y41: =AND('Data Sheet'!J41>Results!$G$19,'Data Sheet'!J41<Results!$H$19) -> FALSE | AB41: =COUNTIF(U41:Y41,"TRUE") -> 0
E42: SE 35A001 | F42: 35 | G42: 0.89 | H42: 7.6 | I42: 920 | J42: 14.4 | M42: =AND('Data Sheet'!F42<Results!$F$7,'Data Sheet'!F42>Results!$E$7) -> FALSE | N42: =AND(G42>Results!$E$10,G42<Results!$F$10) -> FALSE | O42: =AND(H42>Results!$E$13,H42<Results!$F$13) -> FALSE | P42: =AND(I42>Results!$E$16,I42<Results!$F$16) -> FALSE | Q42: =AND(J42>Results!$E$19,J42<Results!$F$19) -> FALSE | T42: =COUNTIF(M42:Q42,"TRUE") -> 0 | U42: =AND('Data Sheet'!F42>Results!$G$7,'Data Sheet'!F42<Results!$H$7) -> FALSE | V42: =AND('Data Sheet'!G42>Results!$G$10,'Data Sheet'!G41<Results!$H$10) -> FALSE | W42: =AND('Data Sheet'!H42>Results!$G$13,'Data Sheet'!H42<Results!$H$13) -> FALSE | X42: =AND('Data Sheet'!I42>Results!$G$16,'Data Sheet'!I42<Results!$H$16) -> FALSE | Y42: =AND('Data Sheet'!J42>Results!$G$19,'Data Sheet'!J42<Results!$H$19) -> FALSE | AB42: =COUNTIF(U42:Y42,"TRUE") -> 0
E43: SE 40A001 | F43: 40 | G43: 0.89 | H43: 7.9 | I43: 920 | J43: 15.5 | M43: =AND('Data Sheet'!F43<Results!$F$7,'Data Sheet'!F43>Results!$E$7) -> FALSE | N43: =AND(G43>Results!$E$10,G43<Results!$F$10) -> FALSE | O43: =AND(H43>Results!$E$13,H43<Results!$F$13) -> FALSE | P43: =AND(I43>Results!$E$16,I43<Results!$F$16) -> FALSE | Q43: =AND(J43>Results!$E$19,J43<Results!$F$19) -> FALSE | T43: =COUNTIF(M43:Q43,"TRUE") -> 0 | U43: =AND('Data Sheet'!F43>Results!$G$7,'Data Sheet'!F43<Results!$H$7) -> FALSE | V43: =AND('Data Sheet'!G43>Results!$G$10,'Data Sheet'!G42<Results!$H$10) -> FALSE | W43: =AND('Data Sheet'!H43>Results!$G$13,'Data Sheet'!H43<Results!$H$13) -> FALSE | X43: =AND('Data Sheet'!I43>Results!$G$16,'Data Sheet'!I43<Results!$H$16) -> FALSE | Y43: =AND('Data Sheet'!J43>Results!$G$19,'Data Sheet'!J43<Results!$H$19) -> FALSE | AB43: =COUNTIF(U43:Y43,"TRUE") -> 0
E44: SE 45A001 | F44: 45 | G44: 0.89 | H44: 8.1 | I44: 910 | J44: 18 | M44: =AND('Data Sheet'!F44<Results!$F$7,'Data Sheet'!F44>Results!$E$7) -> FALSE | N44: =AND(G44>Results!$E$10,G44<Results!$F$10) -> FALSE | O44: =AND(H44>Results!$E$13,H44<Results!$F$13) -> FALSE | P44: =AND(I44>Results!$E$16,I44<Results!$F$16) -> FALSE | Q44: =AND(J44>Results!$E$19,J44<Results!$F$19) -> FALSE | T44: =COUNTIF(M44:Q44,"TRUE") -> 0 | U44: =AND('Data Sheet'!F44>Results!$G$7,'Data Sheet'!F44<Results!$H$7) -> FALSE | V44: =AND('Data Sheet'!G44>Results!$G$10,'Data Sheet'!G43<Results!$H$10) -> FALSE | W44: =AND('Data Sheet'!H44>Results!$G$13,'Data Sheet'!H44<Results!$H$13) -> FALSE | X44: =AND('Data Sheet'!I44>Results!$G$16,'Data Sheet'!I44<Results!$H$16) -> FALSE | Y44: =AND('Data Sheet'!J44>Results!$G$19,'Data Sheet'!J44<Results!$H$19) -> FALSE | AB44: =COUNTIF(U44:Y44,"TRUE") -> 0
E45: SE 50A001 | F45: 50 | G45: 0.89 | H45: 8.5 | I45: 890 | J45: 19.6 | M45: =AND('Data Sheet'!F45<Results!$F$7,'Data Sheet'!F45>Results!$E$7) -> FALSE | N45: =AND(G45>Results!$E$10,G45<Results!$F$10) -> FALSE | O45: =AND(H45>Results!$E$13,H45<Results!$F$13) -> FALSE | P45: =AND(I45>Results!$E$16,I45<Results!$F$16) -> FALSE | Q45: =AND(J45>Results!$E$19,J45<Results!$F$19) -> FALSE | T45: =COUNTIF(M45:Q45,"TRUE") -> 0 | U45: =AND('Data Sheet'!F45>Results!$G$7,'Data Sheet'!F45<Results!$H$7) -> FALSE | V45: =AND('Data Sheet'!G45>Results!$G$10,'Data Sheet'!G44<Results!$H$10) -> FALSE | W45: =AND('Data Sheet'!H45>Results!$G$13,'Data Sheet'!H45<Results!$H$13) -> FALSE | X45: =AND('Data Sheet'!I45>Results!$G$16,'Data Sheet'!I45<Results!$H$16) -> FALSE | Y45: =AND('Data Sheet'!J45>Results!$G$19,'Data Sheet'!J45<Results!$H$19) -> FALSE | AB45: =COUNTIF(U45:Y45,"TRUE") -> 0
E46: SE 55A001 | F46: 55 | G46: 0.89 | H46: 9 | I46: 880 | J46: 19.8 | M46: =AND('Data Sheet'!F46<Results!$F$7,'Data Sheet'!F46>Results!$E$7) -> FALSE | N46: =AND(G46>Results!$E$10,G46<Results!$F$10) -> FALSE | O46: =AND(H46>Results!$E$13,H46<Results!$F$13) -> FALSE | P46: =AND(I46>Results!$E$16,I46<Results!$F$16) -> FALSE | Q46: =AND(J46>Results!$E$19,J46<Results!$F$19) -> FALSE | T46: =COUNTIF(M46:Q46,"TRUE") -> 0 | U46: =AND('Data Sheet'!F46>Results!$G$7,'Data Sheet'!F46<Results!$H$7) -> FALSE | V46: =AND('Data Sheet'!G46>Results!$G$10,'Data Sheet'!G45<Results!$H$10) -> FALSE | W46: =AND('Data Sheet'!H46>Results!$G$13,'Data Sheet'!H46<Results!$H$13) -> FALSE | X46: =AND('Data Sheet'!I46>Results!$G$16,'Data Sheet'!I46<Results!$H$16) -> FALSE | Y46: =AND('Data Sheet'!J46>Results!$G$19,'Data Sheet'!J46<Results!$H$19) -> FALSE | AB46: =COUNTIF(U46:Y46,"TRUE") -> 0
E47: SE 60A001 | F47: 60 | G47: 0.89 | H47: 10.1 | I47: 860 | J47: 24.5 | M47: =AND('Data Sheet'!F47<Results!$F$7,'Data Sheet'!F47>Results!$E$7) -> TRUE | N47: =AND(G47>Results!$E$10,G47<Results!$F$10) -> FALSE | O47: =AND(H47>Results!$E$13,H47<Results!$F$13) -> FALSE | P47: =AND(I47>Results!$E$16,I47<Results!$F$16) -> FALSE | Q47: =AND(J47>Results!$E$19,J47<Results!$F$19) -> FALSE | T47: =COUNTIF(M47:Q47,"TRUE") -> 1 | U47: =AND('Data Sheet'!F47>Results!$G$7,'Data Sheet'!F47<Results!$H$7) -> FALSE | V47: =AND('Data Sheet'!G47>Results!$G$10,'Data Sheet'!G46<Results!$H$10) -> FALSE | W47: =AND('Data Sheet'!H47>Results!$G$13,'Data Sheet'!H47<Results!$H$13) -> FALSE | X47: =AND('Data Sheet'!I47>Results!$G$16,'Data Sheet'!I47<Results!$H$16) -> FALSE | Y47: =AND('Data Sheet'!J47>Results!$G$19,'Data Sheet'!J47<Results!$H$19) -> FALSE | AB47: =COUNTIF(U47:Y47,"TRUE") -> 0
E48: SE 65A001 | F48: 65 | G48: 0.89 | H48: 10.3 | I48: 850 | J48: 25.3 | M48: =AND('Data Sheet'!F48<Results!$F$7,'Data Sheet'!F48>Results!$E$7) -> FALSE | N48: =AND(G48>Results!$E$10,G48<Results!$F$10) -> FALSE | O48: =AND(H48>Results!$E$13,H48<Results!$F$13) -> FALSE | P48: =AND(I48>Results!$E$16,I48<Results!$F$16) -> FALSE | Q48: =AND(J48>Results!$E$19,J48<Results!$F$19) -> FALSE | T48: =COUNTIF(M48:Q48,"TRUE") -> 0 | U48: =AND('Data Sheet'!F48>Results!$G$7,'Data Sheet'!F48<Results!$H$7) -> TRUE | V48: =AND('Data Sheet'!G48>Results!$G$10,'Data Sheet'!G47<Results!$H$10) -> FALSE | W48: =AND('Data Sheet'!H48>Results!$G$13,'Data Sheet'!H48<Results!$H$13) -> FALSE | X48: =AND('Data Sheet'!I48>Results!$G$16,'Data Sheet'!I48<Results!$H$16) -> FALSE | Y48: =AND('Data Sheet'!J48>Results!$G$19,'Data Sheet'!J48<Results!$H$19) -> FALSE | AB48: =COUNTIF(U48:Y48,"TRUE") -> 1
E49: SE 70A001 | F49: 70 | G49: 0.89 | H49: 10.5 | I49: 850 | J49: 29.3 | M49: =AND('Data Sheet'!F49<Results!$F$7,'Data Sheet'!F49>Results!$E$7) -> FALSE | N49: =AND(G49>Results!$E$10,G49<Results!$F$10) -> FALSE | O49: =AND(H49>Results!$E$13,H49<Results!$F$13) -> FALSE | P49: =AND(I49>Results!$E$16,I49<Results!$F$16) -> FALSE | Q49: =AND(J49>Results!$E$19,J49<Results!$F$19) -> FALSE | T49: =COUNTIF(M49:Q49,"TRUE") -> 0 | U49: =AND('Data Sheet'!F49>Results!$G$7,'Data Sheet'!F49<Results!$H$7) -> FALSE | V49: =AND('Data Sheet'!G49>Results!$G$10,'Data Sheet'!G48<Results!$H$10) -> FALSE | W49: =AND('Data Sheet'!H49>Results!$G$13,'Data Sheet'!H49<Results!$H$13) -> FALSE | X49: =AND('Data Sheet'!I49>Results!$G$16,'Data Sheet'!I49<Results!$H$16) -> FALSE | Y49: =AND('Data Sheet'!J49>Results!$G$19,'Data Sheet'!J49<Results!$H$19) -> FALSE | AB49: =COUNTIF(U49:Y49,"TRUE") -> 0
E50: SE 75A001 | F50: 75 | G50: 0.89 | H50: 10.9 | I50: 820 | J50: 30.5 | M50: =AND('Data Sheet'!F50<Results!$F$7,'Data Sheet'!F50>Results!$E$7) -> FALSE | N50: =AND(G50>Results!$E$10,G50<Results!$F$10) -> FALSE | O50: =AND(H50>Results!$E$13,H50<Results!$F$13) -> FALSE | P50: =AND(I50>Results!$E$16,I50<Results!$F$16) -> FALSE | Q50: =AND(J50>Results!$E$19,J50<Results!$F$19) -> FALSE | T50: =COUNTIF(M50:Q50,"TRUE") -> 0 | U50: =AND('Data Sheet'!F50>Results!$G$7,'Data Sheet'!F50<Results!$H$7) -> FALSE | V50: =AND('Data Sheet'!G50>Results!$G$10,'Data Sheet'!G49<Results!$H$10) -> FALSE | W50: =AND('Data Sheet'!H50>Results!$G$13,'Data Sheet'!H50<Results!$H$13) -> FALSE | X50: =AND('Data Sheet'!I50>Results!$G$16,'Data Sheet'!I50<Results!$H$16) -> FALSE | Y50: =AND('Data Sheet'!J50>Results!$G$19,'Data Sheet'!J50<Results!$H$19) -> FALSE | AB50: =COUNTIF(U50:Y50,"TRUE") -> 0
E51: SE 80A001 | F51: 80 | G51: 0.89 | H51: 11.2 | I51: 750 | J51: 36.8 | M51: =AND('Data Sheet'!F51<Results!$F$7,'Data Sheet'!F51>Results!$E$7) -> FALSE | N51: =AND(G51>Results!$E$10,G51<Results!$F$10) -> FALSE | O51: =AND(H51>Results!$E$13,H51<Results!$F$13) -> FALSE | P51: =AND(I51>Results!$E$16,I51<Results!$F$16) -> FALSE | Q51: =AND(J51>Results!$E$19,J51<Results!$F$19) -> FALSE | T51: =COUNTIF(M51:Q51,"TRUE") -> 0 | U51: =AND('Data Sheet'!F51>Results!$G$7,'Data Sheet'!F51<Results!$H$7) -> FALSE | V51: =AND('Data Sheet'!G51>Results!$G$10,'Data Sheet'!G50<Results!$H$10) -> FALSE | W51: =AND('Data Sheet'!H51>Results!$G$13,'Data Sheet'!H51<Results!$H$13) -> FALSE | X51: =AND('Data Sheet'!I51>Results!$G$16,'Data Sheet'!I51<Results!$H$16) -> FALSE | Y51: =AND('Data Sheet'!J51>Results!$G$19,'Data Sheet'!J51<Results!$H$19) -> FALSE | AB51: =COUNTIF(U51:Y51,"TRUE") -> 0
E52: SE 85A001 | F52: 85 | G52: 0.89 | H52: 11.8 | I52: 750 | J52: 42.5 | M52: =AND('Data Sheet'!F52<Results!$F$7,'Data Sheet'!F52>Results!$E$7) -> FALSE | N52: =AND(G52>Results!$E$10,G52<Results!$F$10) -> FALSE | O52: =AND(H52>Results!$E$13,H52<Results!$F$13) -> FALSE | P52: =AND(I52>Results!$E$16,I52<Results!$F$16) -> FALSE | Q52: =AND(J52>Results!$E$19,J52<Results!$F$19) -> FALSE | T52: =COUNTIF(M52:Q52,"TRUE") -> 0 | U52: =AND('Data Sheet'!F52>Results!$G$7,'Data Sheet'!F52<Results!$H$7) -> FALSE | V52: =AND('Data Sheet'!G52>Results!$G$10,'Data Sheet'!G51<Results!$H$10) -> FALSE | W52: =AND('Data Sheet'!H52>Results!$G$13,'Data Sheet'!H52<Results!$H$13) -> FALSE | X52: =AND('Data Sheet'!I52>Results!$G$16,'Data Sheet'!I52<Results!$H$16) -> FALSE | Y52: =AND('Data Sheet'!J52>Results!$G$19,'Data Sheet'!J52<Results!$H$19) -> FALSE | AB52: =COUNTIF(U52:Y52,"TRUE") -> 0
E53: SE 90A001 | F53: 90 | G53: 0.89 | H53: 15.2 | I53: 750 | J53: 50.5 | M53: =AND('Data Sheet'!F53<Results!$F$7,'Data Sheet'!F53>Results!$E$7) -> FALSE | N53: =AND(G53>Results!$E$10,G53<Results!$F$10) -> FALSE | O53: =AND(H53>Results!$E$13,H53<Results!$F$13) -> FALSE | P53: =AND(I53>Results!$E$16,I53<Results!$F$16) -> FALSE | Q53: =AND(J53>Results!$E$19,J53<Results!$F$19) -> FALSE | T53: =COUNTIF(M53:Q53,"TRUE") -> 0 | U53: =AND('Data Sheet'!F53>Results!$G$7,'Data Sheet'!F53<Results!$H$7) -> FALSE | V53: =AND('Data Sheet'!G53>Results!$G$10,'Data Sheet'!G52<Results!$H$10) -> FALSE | W53: =AND('Data Sheet'!H53>Results!$G$13,'Data Sheet'!H53<Results!$H$13) -> TRUE | X53: =AND('Data Sheet'!I53>Results!$G$16,'Data Sheet'!I53<Results!$H$16) -> FALSE | Y53: =AND('Data Sheet'!J53>Results!$G$19,'Data Sheet'!J53<Results!$H$19) -> FALSE | AB53: =COUNTIF(U53:Y53,"TRUE") -> 1
... E79: SE 90A201 | F79: 90 | G79: 1 | H79: 14.9 | I79: 760 | J79: 47 | M79: =AND('Data Sheet'!F79<Results!$F$7,'Data Sheet'!F79>Results!$E$7) -> FALSE | N79: =AND(G79>Results!$E$10,G79<Results!$F$10) -> FALSE | O79: =AND(H79>Results!$E$13,H79<Results!$F$13) -> FALSE | P79: =AND(I79>Results!$E$16,I79<Results!$F$16) -> FALSE | Q79: =AND(J79>Results!$E$19,J79<Results!$F$19) -> FALSE | T79: =COUNTIF(M79:Q79,"TRUE") -> 0 | U79: =AND('Data Sheet'!F79>Results!$G$7,'Data Sheet'!F79<Results!$H$7) -> FALSE | V79: =AND('Data Sheet'!G79>Results!$G$10,'Data Sheet'!G78<Results!$H$10) -> FALSE | W79: =AND('Data Sheet'!H79>Results!$G$13,'Data Sheet'!H79<Results!$H$13) -> TRUE | X79: =AND('Data Sheet'!I79>Results!$G$16,'Data Sheet'!I79<Results!$H$16) -> FALSE | Y79: =AND('Data Sheet'!J79>Results!$G$19,'Data Sheet'!J79<Results!$H$19) -> FALSE | AB79: =COUNTIF(U79:Y79,"TRUE") -> 1
D80: Dryflex transparent | E80: Dryflex T 30 | F80: 30 | G80: 0.89 | H80: 2 | I80: 400 | J80: 10 | M80: =AND('Data Sheet'!F80<Results!$F$7,'Data Sheet'!F80>Results!$E$7) -> FALSE | N80: =AND(G80>Results!$E$10,G80<Results!$F$10) -> FALSE | O80: =AND(H80>Results!$E$13,H80<Results!$F$13) -> FALSE | P80: =AND(I80>Results!$E$16,I80<Results!$F$16) -> TRUE | Q80: =AND(J80>Results!$E$19,J80<Results!$F$19) -> FALSE | T80: =COUNTIF(M80:Q80,"TRUE") -> 1 | U80: =AND('Data Sheet'!F80>Results!$G$7,'Data Sheet'!F80<Results!$H$7) -> FALSE | V80: =AND('Data Sheet'!G80>Results!$G$10,'Data Sheet'!G79<Results!$H$10) -> FALSE | W80: =AND('Data Sheet'!H80>Results!$G$13,'Data Sheet'!H80<Results!$H$13) -> FALSE | X80: =AND('Data Sheet'!I80>Results!$G$16,'Data Sheet'!I80<Results!$H$16) -> FALSE | Y80: =AND('Data Sheet'!J80>Results!$G$19,'Data Sheet'!J80<Results!$H$19) -> TRUE | AB80: =COUNTIF(U80:Y80,"TRUE") -> 1
E81: Dryflex T 40 | F81: 40 | G81: 0.89 | H81: 2.5 | I81: 400 | J81: 12 | M81: =AND('Data Sheet'!F81<Results!$F$7,'Data Sheet'!F81>Results!$E$7) -> FALSE | N81: =AND(G81>Results!$E$10,G81<Results!$F$10) -> FALSE | O81: =AND(H81>Results!$E$13,H81<Results!$F$13) -> FALSE | P81: =AND(I81>Results!$E$16,I81<Results!$F$16) -> TRUE | Q81: =AND(J81>Results!$E$19,J81<Results!$F$19) -> FALSE | T81: =COUNTIF(M81:Q81,"TRUE") -> 1 | U81: =AND('Data Sheet'!F81>Results!$G$7,'Data Sheet'!F81<Results!$H$7) -> FALSE | V81: =AND('Data Sheet'!G81>Results!$G$10,'Data Sheet'!G80<Results!$H$10) -> FALSE | W81: =AND('Data Sheet'!H81>Results!$G$13,'Data Sheet'!H81<Results!$H$13) -> FALSE | X81: =AND('Data Sheet'!I81>Results!$G$16,'Data Sheet'!I81<Results!$H$16) -> FALSE | Y81: =AND('Data Sheet'!J81>Results!$G$19,'Data Sheet'!J81<Results!$H$19) -> TRUE | AB81: =COUNTIF(U81:Y81,"TRUE") -> 1
E82: Dryflex T 50 | F82: 50 | G82: 0.89 | H82: 3.5 | I82: 400 | J82: 20 | M82: =AND('Data Sheet'!F82<Results!$F$7,'Data Sheet'!F82>Results!$E$7) -> FALSE | N82: =AND(G82>Results!$E$10,G82<Results!$F$10) -> FALSE | O82: =AND(H82>Results!$E$13,H82<Results!$F$13) -> FALSE | P82: =AND(I82>Results!$E$16,I82<Results!$F$16) -> TRUE | Q82: =AND(J82>Results!$E$19,J82<Results!$F$19) -> FALSE | T82: =COUNTIF(M82:Q82,"TRUE") -> 1 | U82: =AND('Data Sheet'!F82>Results!$G$7,'Data Sheet'!F82<Results!$H$7) -> FALSE | V82: =AND('Data Sheet'!G82>Results!$G$10,'Data Sheet'!G81<Results!$H$10) -> FALSE | W82: =AND('Data Sheet'!H82>Results!$G$13,'Data Sheet'!H82<Results!$H$13) -> FALSE | X82: =AND('Data Sheet'!I82>Results!$G$16,'Data Sheet'!I82<Results!$H$16) -> FALSE | Y82: =AND('Data Sheet'!J82>Results!$G$19,'Data Sheet'!J82<Results!$H$19) -> FALSE | AB82: =COUNTIF(U82:Y82,"TRUE") -> 0
E83: Dryflex T 60 | F83: 60 | G83: 0.89 | H83: 4 | I83: 400 | J83: 25 | M83: =AND('Data Sheet'!F83<Results!$F$7,'Data Sheet'!F83>Results!$E$7) -> TRUE | N83: =AND(G83>Results!$E$10,G83<Results!$F$10) -> FALSE | O83: =AND(H83>Results!$E$13,H83<Results!$F$13) -> FALSE | P83: =AND(I83>Results!$E$16,I83<Results!$F$16) -> TRUE | Q83: =AND(J83>Results!$E$19,J83<Results!$F$19) -> FALSE | T83: =COUNTIF(M83:Q83,"TRUE") -> 2 | U83: =AND('Data Sheet'!F83>Results!$G$7,'Data Sheet'!F83<Results!$H$7) -> FALSE | V83: =AND('Data Sheet'!G83>Results!$G$10,'Data Sheet'!G82<Results!$H$10) -> FALSE | W83: =AND('Data Sheet'!H83>Results!$G$13,'Data Sheet'!H83<Results!$H$13) -> FALSE | X83: =AND('Data Sheet'!I83>Results!$G$16,'Data Sheet'!I83<Results!$H$16) -> FALSE | Y83: =AND('Data Sheet'!J83>Results!$G$19,'Data Sheet'!J83<Results!$H$19) -> FALSE | AB83: =COUNTIF(U83:Y83,"TRUE") -> 0
E84: Dryflex T 70 | F84: 70 | G84: 0.89 | H84: 5.5 | I84: 400 | J84: 35 | M84: =AND('Data Sheet'!F84<Results!$F$7,'Data Sheet'!F84>Results!$E$7) -> FALSE | N84: =AND(G84>Results!$E$10,G84<Results!$F$10) -> FALSE | O84: =AND(H84>Results!$E$13,H84<Results!$F$13) -> FALSE | P84: =AND(I84>Results!$E$16,I84<Results!$F$16) -> TRUE | Q84: =AND(J84>Results!$E$19,J84<Results!$F$19) -> FALSE | T84: =COUNTIF(M84:Q84,"TRUE") -> 1 | U84: =AND('Data Sheet'!F84>Results!$G$7,'Data Sheet'!F84<Results!$H$7) -> FALSE | V84: =AND('Data Sheet'!G84>Results!$G$10,'Data Sheet'!G83<Results!$H$10) -> FALSE | W84: =AND('Data Sheet'!H84>Results!$G$13,'Data Sheet'!H84<Results!$H$13) -> FALSE | X84: =AND('Data Sheet'!I84>Results!$G$16,'Data Sheet'!I84<Results!$H$16) -> FALSE | Y84: =AND('Data Sheet'!J84>Results!$G$19,'Data Sheet'!J84<Results!$H$19) -> FALSE | AB84: =COUNTIF(U84:Y84,"TRUE") -> 0
E85: Dryflex T 80 | F85: 80 | G85: 0.89 | H85: 10 | I85: 400 | J85: 50 | M85: =AND('Data Sheet'!F85<Results!$F$7,'Data Sheet'!F85>Results!$E$7) -> FALSE | N85: =AND(G85>Results!$E$10,G85<Results!$F$10) -> FALSE | O85: =AND(H85>Results!$E$13,H85<Results!$F$13) -> FALSE | P85: =AND(I85>Results!$E$16,I85<Results!$F$16) -> TRUE | Q85: =AND(J85>Results!$E$19,J85<Results!$F$19) -> FALSE | T85: =COUNTIF(M85:Q85,"TRUE") -> 1 | U85: =AND('Data Sheet'!F85>Results!$G$7,'Data Sheet'!F85<Results!$H$7) -> FALSE | V85: =AND('Data Sheet'!G85>Results!$G$10,'Data Sheet'!G84<Results!$H$10) -> FALSE | W85: =AND('Data Sheet'!H85>Results!$G$13,'Data Sheet'!H85<Results!$H$13) -> FALSE | X85: =AND('Data Sheet'!I85>Results!$G$16,'Data Sheet'!I85<Results!$H$16) -> FALSE | Y85: =AND('Data Sheet'!J85>Results!$G$19,'Data Sheet'!J85<Results!$H$19) -> FALSE | AB85: =COUNTIF(U85:Y85,"TRUE") -> 0
E86: Dryflex T 90 | F86: 90 | G86: 0.89 | H86: 12 | I86: 400 | J86: 65 | M86: =AND('Data Sheet'!F86<Results!$F$7,'Data Sheet'!F86>Results!$E$7) -> FALSE | N86: =AND(G86>Results!$E$10,G86<Results!$F$10) -> FALSE | O86: =AND(H86>Results!$E$13,H86<Results!$F$13) -> FALSE | P86: =AND(I86>Results!$E$16,I86<Results!$F$16) -> TRUE | Q86: =AND(J86>Results!$E$19,J86<Results!$F$19) -> FALSE | T86: =COUNTIF(M86:Q86,"TRUE") -> 1 | U86: =AND('Data Sheet'!F86>Results!$G$7,'Data Sheet'!F86<Results!$H$7) -> FALSE | V86: =AND('Data Sheet'!G86>Results!$G$10,'Data Sheet'!G85<Results!$H$10) -> FALSE | W86: =AND('Data Sheet'!H86>Results!$G$13,'Data Sheet'!H86<Results!$H$13) -> FALSE | X86: =AND('Data Sheet'!I86>Results!$G$16,'Data Sheet'!I86<Results!$H$16) -> FALSE | Y86: =AND('Data Sheet'!J86>Results!$G$19,'Data Sheet'!J86<Results!$H$19) -> FALSE | AB86: =COUNTIF(U86:Y86,"TRUE") -> 0
D87: Dryflex PCW | E87: PCW 80A651B | F87: 80 A | G87: 1.1 | H87: 5.3 | I87: 170 | J87: 38 | M87: =AND('Data Sheet'!F87<Results!$F$7,'Data Sheet'!F87>Results!$E$7) -> FALSE | N87: =AND(G87>Results!$E$10,G87<Results!$F$10) -> TRUE | O87: =AND(H87>Results!$E$13,H87<Results!$F$13) -> FALSE | P87: =AND(I87>Results!$E$16,I87<Results!$F$16) -> FALSE | Q87: =AND(J87>Results!$E$19,J87<Results!$F$19) -> FALSE | T87: =COUNTIF(M87:Q87,"TRUE") -> 1 | U87: =AND('Data Sheet'!F87>Results!$G$7,'Data Sheet'!F87<Results!$H$7) -> FALSE | V87: =AND('Data Sheet'!G87>Results!$G$10,'Data Sheet'!G86<Results!$H$10) -> TRUE | W87: =AND('Data Sheet'!H87>Results!$G$13,'Data Sheet'!H87<Results!$H$13) -> FALSE | X87: =AND('Data Sheet'!I87>Results!$G$16,'Data Sheet'!I87<Results!$H$16) -> FALSE | Y87: =AND('Data Sheet'!J87>Results!$G$19,'Data Sheet'!J87<Results!$H$19) -> FALSE | AB87: =COUNTIF(U87:Y87,"TRUE") -> 1
E88: PCW 90A331B | F88: 90 A | G88: 1.05 | H88: 9.5 | I88: 290 | J88: 74 | M88: =AND('Data Sheet'!F88<Results!$F$7,'Data Sheet'!F88>Results!$E$7) -> FALSE | N88: =AND(G88>Results!$E$10,G88<Results!$F$10) -> TRUE | O88: =AND(H88>Results!$E$13,H88<Results!$F$13) -> FALSE | P88: =AND(I88>Results!$E$16,I88<Results!$F$16) -> FALSE | Q88: =AND(J88>Results!$E$19,J88<Results!$F$19) -> FALSE | T88: =COUNTIF(M88:Q88,"TRUE") -> 1 | U88: =AND('Data Sheet'!F88>Results!$G$7,'Data Sheet'!F88<Results!$H$7) -> FALSE | V88: =AND('Data Sheet'!G88>Results!$G$10,'Data Sheet'!G87<Results!$H$10) -> FALSE | W88: =AND('Data Sheet'!H88>Results!$G$13,'Data Sheet'!H88<Results!$H$13) -> FALSE | X88: =AND('Data Sheet'!I88>Results!$G$16,'Data Sheet'!I88<Results!$H$16) -> FALSE | Y88: =AND('Data Sheet'!J88>Results!$G$19,'Data Sheet'!J88<Results!$H$19) -> FALSE | AB88: =COUNTIF(U88:Y88,"TRUE") -> 0
E89: PCW 91A701B | F89: 91 A | G89: 1.06 | H89: 7.1 | I89: 40 | J89: 107 | M89: =AND('Data Sheet'!F89<Results!$F$7,'Data Sheet'!F89>Results!$E$7) -> FALSE | N89: =AND(G89>Results!$E$10,G89<Results!$F$10) -> TRUE | O89: =AND(H89>Results!$E$13,H89<Results!$F$13) -> FALSE | P89: =AND(I89>Results!$E$16,I89<Results!$F$16) -> FALSE | Q89: =AND(J89>Results!$E$19,J89<Results!$F$19) -> FALSE | T89: =COUNTIF(M89:Q89,"TRUE") -> 1 | U89: =AND('Data Sheet'!F89>Results!$G$7,'Data Sheet'!F89<Results!$H$7) -> FALSE | V89: =AND('Data Sheet'!G89>Results!$G$10,'Data Sheet'!G88<Results!$H$10) -> FALSE | W89: =AND('Data Sheet'!H89>Results!$G$13,'Data Sheet'!H89<Results!$H$13) -> FALSE | X89: =AND('Data Sheet'!I89>Results!$G$16,'Data Sheet'!I89<Results!$H$16) -> FALSE | Y89: =AND('Data Sheet'!J89>Results!$G$19,'Data Sheet'!J89<Results!$H$19) -> FALSE | AB89: =COUNTIF(U89:Y89,"TRUE") -> 0
E90: PCW 92A331B | F90: 92 A | G90: 1.11 | H90: 7.5 | I90: 470 | J90: 58 | M90: =AND('Data Sheet'!F90<Results!$F$7,'Data Sheet'!F90>Results!$E$7) -> FALSE | N90: =AND(G90>Results!$E$10,G90<Results!$F$10) -> TRUE | O90: =AND(H90>Results!$E$13,H90<Results!$F$13) -> FALSE | P90: =AND(I90>Results!$E$16,I90<Results!$F$16) -> FALSE | Q90: =AND(J90>Results!$E$19,J90<Results!$F$19) -> FALSE | T90: =COUNTIF(M90:Q90,"TRUE") -> 1 | U90: =AND('Data Sheet'!F90>Results!$G$7,'Data Sheet'!F90<Results!$H$7) -> FALSE | V90: =AND('Data Sheet'!G90>Results!$G$10,'Data Sheet'!G89<Results!$H$10) -> TRUE | W90: =AND('Data Sheet'!H90>Results!$G$13,'Data Sheet'!H90<Results!$H$13) -> FALSE | X90: =AND('Data Sheet'!I90>Results!$G$16,'Data Sheet'!I90<Results!$H$16) -> FALSE | Y90: =AND('Data Sheet'!J90>Results!$G$19,'Data Sheet'!J90<Results!$H$19) -> FALSE | AB90: =COUNTIF(U90:Y90,"TRUE") -> 1
E91: PCW 93A331B | F91: 93 A | G91: 1.11 | H91: 7.5 | I91: 470 | J91: 58 | M91: =AND('Data Sheet'!F91<Results!$F$7,'Data Sheet'!F91>Results!$E$7) -> FALSE | N91: =AND(G91>Results!$E$10,G91<Results!$F$10) -> TRUE | O91: =AND(H91>Results!$E$13,H91<Results!$F$13) -> FALSE | P91: =AND(I91>Results!$E$16,I91<Results!$F$16) -> FALSE | Q91: =AND(J91>Results!$E$19,J91<Results!$F$19) -> FALSE | T91: =COUNTIF(M91:Q91,"TRUE") -> 1 | U91: =AND('Data Sheet'!F91>Results!$G$7,'Data Sheet'!F91<Results!$H$7) -> FALSE | V91: =AND('Data Sheet'!G91>Results!$G$10,'Data Sheet'!G90<Results!$H$10) -> TRUE | W91: =AND('Data Sheet'!H91>Results!$G$13,'Data Sheet'!H91<Results!$H$13) -> FALSE | X91: =AND('Data Sheet'!I91>Results!$G$16,'Data Sheet'!I91<Results!$H$16) -> FALSE | Y91: =AND('Data Sheet'!J91>Results!$G$19,'Data Sheet'!J91<Results!$H$19) -> FALSE | AB91: =COUNTIF(U91:Y91,"TRUE") -> 1
E92: PCW 40D701B | F92: 40 D | G92: 1.06 | H92: 8.4 | I92: 64 | J92: 62 | M92: =AND('Data Sheet'!F92<Results!$F$7,'Data Sheet'!F92>Results!$E$7) -> FALSE | N92: =AND(G92>Results!$E$10,G92<Results!$F$10) -> TRUE | O92: =AND(H92>Results!$E$13,H92<Results!$F$13) -> FALSE | P92: =AND(I92>Results!$E$16,I92<Results!$F$16) -> FALSE | Q92: =AND(J92>Results!$E$19,J92<Results!$F$19) -> FALSE | T92: =COUNTIF(M92:Q92,"TRUE") -> 1 | U92: =AND('Data Sheet'!F92>Results!$G$7,'Data Sheet'!F92<Results!$H$7) -> FALSE | V92: =AND('Data Sheet'!G92>Results!$G$10,'Data Sheet'!G91<Results!$H$10) -> FALSE | W92: =AND('Data Sheet'!H92>Results!$G$13,'Data Sheet'!H92<Results!$H$13) -> FALSE | X92: =AND('Data Sheet'!I92>Results!$G$16,'Data Sheet'!I92<Results!$H$16) -> FALSE | Y92: =AND('Data Sheet'!J92>Results!$G$19,'Data Sheet'!J92<Results!$H$19) -> FALSE | AB92: =COUNTIF(U92:Y92,"TRUE") -> 0
E93: PCW 50D801B | F93: 50 D | G93: 1 | H93: 12.9 | I93: 24 | J93: 82 | M93: =AND('Data Sheet'!F93<Results!$F$7,'Data Sheet'!F93>Results!$E$7) -> FALSE | N93: =AND(G93>Results!$E$10,G93<Results!$F$10) -> FALSE | O93: =AND(H93>Results!$E$13,H93<Results!$F$13) -> FALSE | P93: =AND(I93>Results!$E$16,I93<Results!$F$16) -> FALSE | Q93: =AND(J93>Results!$E$19,J93<Results!$F$19) -> FALSE | T93: =COUNTIF(M93:Q93,"TRUE") -> 0 | U93: =AND('Data Sheet'!F93>Results!$G$7,'Data Sheet'!F93<Results!$H$7) -> FALSE | V93: =AND('Data Sheet'!G93>Results!$G$10,'Data Sheet'!G92<Results!$H$10) -> FALSE | W93: =AND('Data Sheet'!H93>Results!$G$13,'Data Sheet'!H93<Results!$H$13) -> FALSE | X93: =AND('Data Sheet'!I93>Results!$G$16,'Data Sheet'!I93<Results!$H$16) -> FALSE | Y93: =AND('Data Sheet'!J93>Results!$G$19,'Data Sheet'!J93<Results!$H$19) -> FALSE | AB93: =COUNTIF(U93:Y93,"TRUE") -> 0
D94: Dryflex optimised compression set | E94: Dryflex CS 40A001N | F94: 40 | G94: 0.89 | H94: 4.6 | I94: 880 | J94: 13 | M94: =AND('Data Sheet'!F94<Results!$F$7,'Data Sheet'!F94>Results!$E$7) -> FALSE | N94: =AND(G94>Results!$E$10,G94<Results!$F$10) -> FALSE | O94: =AND(H94>Results!$E$13,H94<Results!$F$13) -> FALSE | P94: =AND(I94>Results!$E$16,I94<Results!$F$16) -> FALSE | Q94: =AND(J94>Results!$E$19,J94<Results!$F$19) -> FALSE | T94: =COUNTIF(M94:Q94,"TRUE") -> 0 | U94: =AND('Data Sheet'!F94>Results!$G$7,'Data Sheet'!F94<Results!$H$7) -> FALSE | V94: =AND('Data Sheet'!G94>Results!$G$10,'Data Sheet'!G93<Results!$H$10) -> FALSE | W94: =AND('Data Sheet'!H94>Results!$G$13,'Data Sheet'!H94<Results!$H$13) -> FALSE | X94: =AND('Data Sheet'!I94>Results!$G$16,'Data Sheet'!I94<Results!$H$16) -> FALSE | Y94: =AND('Data Sheet'!J94>Results!$G$19,'Data Sheet'!J94<Results!$H$19) -> FALSE | AB94: =COUNTIF(U94:Y94,"TRUE") -> 0
E95: Dryflex CS 50A001N | F95: 50 | G95: 0.89 | H95: 5.3 | I95: 850 | J95: 15 | M95: =AND('Data Sheet'!F95<Results!$F$7,'Data Sheet'!F95>Results!$E$7) -> FALSE | N95: =AND(G95>Results!$E$10,G95<Results!$F$10) -> FALSE | O95: =AND(H95>Results!$E$13,H95<Results!$F$13) -> FALSE | P95: =AND(I95>Results!$E$16,I95<Results!$F$16) -> FALSE | Q95: =AND(J95>Results!$E$19,J95<Results!$F$19) -> FALSE | T95: =COUNTIF(M95:Q95,"TRUE") -> 0 | U95: =AND('Data Sheet'!F95>Results!$G$7,'Data Sheet'!F95<Results!$H$7) -> FALSE | V95: =AND('Data Sheet'!G95>Results!$G$10,'Data Sheet'!G94<Results!$H$10) -> FALSE | W95: =AND('Data Sheet'!H95>Results!$G$13,'Data Sheet'!H95<Results!$H$13) -> FALSE | X95: =AND('Data Sheet'!I95>Results!$G$16,'Data Sheet'!I95<Results!$H$16) -> FALSE | Y95: =AND('Data Sheet'!J95>Results!$G$19,'Data Sheet'!J95<Results!$H$19) -> FALSE | AB95: =COUNTIF(U95:Y95,"TRUE") -> 0
E96: Dryflex CS 60A001N | F96: 60 | G96: 0.89 | H96: 8.2 | I96: 860 | J96: 20 | M96: =AND('Data Sheet'!F96<Results!$F$7,'Data Sheet'!F96>Results!$E$7) -> TRUE | N96: =AND(G96>Results!$E$10,G96<Results!$F$10) -> FALSE | O96: =AND(H96>Results!$E$13,H96<Results!$F$13) -> FALSE | P96: =AND(I96>Results!$E$16,I96<Results!$F$16) -> FALSE | Q96: =AND(J96>Results!$E$19,J96<Results!$F$19) -> FALSE | T96: =COUNTIF(M96:Q96,"TRUE") -> 1 | U96: =AND('Data Sheet'!F96>Results!$G$7,'Data Sheet'!F96<Results!$H$7) -> FALSE | V96: =AND('Data Sheet'!G96>Results!$G$10,'Data Sheet'!G95<Results!$H$10) -> FALSE | W96: =AND('Data Sheet'!H96>Results!$G$13,'Data Sheet'!H96<Results!$H$13) -> FALSE | X96: =AND('Data Sheet'!I96>Results!$G$16,'Data Sheet'!I96<Results!$H$16) -> FALSE | Y96: =AND('Data Sheet'!J96>Results!$G$19,'Data Sheet'!J96<Results!$H$19) -> FALSE | AB96: =COUNTIF(U96:Y96,"TRUE") -> 0
E97: Dryflex CS 70A001N | F97: 70 | G97: 0.89 | H97: 14 | I97: 920 | J97: 25 | M97: =AND('Data Sheet'!F97<Results!$F$7,'Data Sheet'!F97>Results!$E$7) -> FALSE | N97: =AND(G97>Results!$E$10,G97<Results!$F$10) -> FALSE | O97: =AND(H97>Results!$E$13,H97<Results!$F$13) -> FALSE | P97: =AND(I97>Results!$E$16,I97<Results!$F$16) -> FALSE | Q97: =AND(J97>Results!$E$19,J97<Results!$F$19) -> FALSE | T97: =COUNTIF(M97:Q97,"TRUE") -> 0 | U97: =AND('Data Sheet'!F97>Results!$G$7,'Data Sheet'!F97<Results!$H$7) -> FALSE | V97: =AND('Data Sheet'!G97>Results!$G$10,'Data Sheet'!G96<Results!$H$10) -> FALSE | W97: =AND('Data Sheet'!H97>Results!$G$13,'Data Sheet'!H97<Results!$H$13) -> FALSE | X97: =AND('Data Sheet'!I97>Results!$G$16,'Data Sheet'!I97<Results!$H$16) -> FALSE | Y97: =AND('Data Sheet'!J97>Results!$G$19,'Data Sheet'!J97<Results!$H$19) -> FALSE | AB97: =COUNTIF(U97:Y97,"TRUE") -> 0
E98: Dryflex CS 80A001N | F98: 80 | G98: 0.89 | H98: 16 | I98: 880 | J98: 31 | M98: =AND('Data Sheet'!F98<Results!$F$7,'Data Sheet'!F98>Results!$E$7) -> FALSE | N98: =AND(G98>Results!$E$10,G98<Results!$F$10) -> FALSE | O98: =AND(H98>Results!$E$13,H98<Results!$F$13) -> TRUE | P98: =AND(I98>Results!$E$16,I98<Results!$F$16) -> FALSE | Q98: =AND(J98>Results!$E$19,J98<Results!$F$19) -> FALSE | T98: =COUNTIF(M98:Q98,"TRUE") -> 1 | U98: =AND('Data Sheet'!F98>Results!$G$7,'Data Sheet'!F98<Results!$H$7) -> FALSE | V98: =AND('Data Sheet'!G98>Results!$G$10,'Data Sheet'!G97<Results!$H$10) -> FALSE | W98: =AND('Data Sheet'!H98>Results!$G$13,'Data Sheet'!H98<Results!$H$13) -> FALSE | X98: =AND('Data Sheet'!I98>Results!$G$16,'Data Sheet'!I98<Results!$H$16) -> FALSE | Y98: =AND('Data Sheet'!J98>Results!$G$19,'Data Sheet'!J98<Results!$H$19) -> FALSE | AB98: =COUNTIF(U98:Y98,"TRUE") -> 0
E99: Dryflex CS 90A001N | F99: 90 | G99: 0.89 | H99: 25 | I99: 930 | J99: 46 | M99: =AND('Data Sheet'!F99<Results!$F$7,'Data Sheet'!F99>Results!$E$7) -> FALSE | N99: =AND(G99>Results!$E$10,G99<Results!$F$10) -> FALSE | O99: =AND(H99>Results!$E$13,H99<Results!$F$13) -> FALSE | P99: =AND(I99>Results!$E$16,I99<Results!$F$16) -> FALSE | Q99: =AND(J99>Results!$E$19,J99<Results!$F$19) -> FALSE | T99: =COUNTIF(M99:Q99,"TRUE") -> 0 | U99: =AND('Data Sheet'!F99>Results!$G$7,'Data Sheet'!F99<Results!$H$7) -> FALSE | V99: =AND('Data Sheet'!G99>Results!$G$10,'Data Sheet'!G98<Results!$H$10) -> FALSE | W99: =AND('Data Sheet'!H99>Results!$G$13,'Data Sheet'!H99<Results!$H$13) -> FALSE | X99: =AND('Data Sheet'!I99>Results!$G$16,'Data Sheet'!I99<Results!$H$16) -> FALSE | Y99: =AND('Data Sheet'!J99>Results!$G$19,'Data Sheet'!J99<Results!$H$19) -> FALSE | AB99: =COUNTIF(U99:Y99,"TRUE") -> 0
D100: Dryflex automotive mats (SBS/SEBS) | E100: AM 55A201B | F100: 55 | G100: 1.1 | H100: 2.2 | I100: - | J100: 16 | M100: =AND('Data Sheet'!F100<Results!$F$7,'Data Sheet'!F100>Results!$E$7) -> FALSE | N100: =AND(G100>Results!$E$10,G100<Results!$F$10) -> TRUE | O100: =AND(H100>Results!$E$13,H100<Results!$F$13) -> FALSE | P100: =AND(I100>Results!$E$16,I100<Results!$F$16) -> FALSE | Q100: =AND(J100>Results!$E$19,J100<Results!$F$19) -> FALSE | T100: =COUNTIF(M100:Q100,"TRUE") -> 1 | U100: =AND('Data Sheet'!F100>Results!$G$7,'Data Sheet'!F100<Results!$H$7) -> FALSE | V100: =AND('Data Sheet'!G100>Results!$G$10,'Data Sheet'!G99<Results!$H$10) -> TRUE | W100: =AND('Data Sheet'!H100>Results!$G$13,'Data Sheet'!H100<Results!$H$13) -> FALSE | X100: =AND('Data Sheet'!I100>Results!$G$16,'Data Sheet'!I100<Results!$H$16) -> FALSE | Y100: =AND('Data Sheet'!J100>Results!$G$19,'Data Sheet'!J100<Results!$H$19) -> FALSE | AB100: =COUNTIF(U100:Y100,"TRUE") -> 1
E101: AM 65A301B | F101: 65 | G101: 1.12 | H101: 3 | I101: - | J101: 22 | M101: =AND('Data Sheet'!F101<Results!$F$7,'Data Sheet'!F101>Results!$E$7) -> FALSE | N101: =AND(G101>Results!$E$10,G101<Results!$F$10) -> TRUE | O101: =AND(H101>Results!$E$13,H101<Results!$F$13) -> FALSE | P101: =AND(I101>Results!$E$16,I101<Results!$F$16) -> FALSE | Q101: =AND(J101>Results!$E$19,J101<Results!$F$19) -> FALSE | T101: =COUNTIF(M101:Q101,"TRUE") -> 1 | U101: =AND('Data Sheet'!F101>Results!$G$7,'Data Sheet'!F101<Results!$H$7) -> TRUE | V101: =AND('Data Sheet'!G101>Results!$G$10,'Data Sheet'!G100<Results!$H$10) -> TRUE | W101: =AND('Data Sheet'!H101>Results!$G$13,'Data Sheet'!H101<Results!$H$13) -> FALSE | X101: =AND('Data Sheet'!I101>Results!$G$16,'Data Sheet'!I101<Results!$H$16) -> FALSE | Y101: =AND('Data Sheet'!J101>Results!$G$19,'Data Sheet'!J101<Results!$H$19) -> FALSE | AB101: =COUNTIF(U101:Y101,"TRUE") -> 2
E102: AM 75A301B | F102: 75 | G102: 1.11 | H102: 4.5 | I102: - | J102: 32 | M102: =AND('Data Sheet'!F102<Results!$F$7,'Data Sheet'!F102>Results!$E$7) -> FALSE | N102: =AND(G102>Results!$E$10,G102<Results!$F$10) -> TRUE | O102: =AND(H102>Results!$E$13,H102<Results!$F$13) -> FALSE | P102: =AND(I102>Results!$E$16,I102<Results!$F$16) -> FALSE | Q102: =AND(J102>Results!$E$19,J102<Results!$F$19) -> FALSE | T102: =COUNTIF(M102:Q102,"TRUE") -> 1 | U102: =AND('Data Sheet'!F102>Results!$G$7,'Data Sheet'!F102<Results!$H$7) -> FALSE | V102: =AND('Data Sheet'!G102>Results!$G$10,'Data Sheet'!G101<Results!$H$10) -> TRUE | W102: =AND('Data Sheet'!H102>Results!$G$13,'Data Sheet'!H102<Results!$H$13) -> FALSE | X102: =AND('Data Sheet'!I102>Results!$G$16,'Data Sheet'!I102<Results!$H$16) -> FALSE | Y102: =AND('Data Sheet'!J102>Results!$G$19,'Data Sheet'!J102<Results!$H$19) -> FALSE | AB102: =COUNTIF(U102:Y102,"TRUE") -> 1
E103: AM 55A202B | F103: 55 | G103: 1.1 | H103: 3 | I103: - | J103: 15 | M103: =AND('Data Sheet'!F103<Results!$F$7,'Data Sheet'!F103>Results!$E$7) -> FALSE | N103: =AND(G103>Results!$E$10,G103<Results!$F$10) -> TRUE | O103: =AND(H103>Results!$E$13,H103<Results!$F$13) -> FALSE | P103: =AND(I103>Results!$E$16,I103<Results!$F$16) -> FALSE | Q103: =AND(J103>Results!$E$19,J103<Results!$F$19) -> FALSE | T103: =COUNTIF(M103:Q103,"TRUE") -> 1 | U103: =AND('Data Sheet'!F103>Results!$G$7,'Data Sheet'!F103<Results!$H$7) -> FALSE | V103: =AND('Data Sheet'!G103>Results!$G$10,'Data Sheet'!G102<Results!$H$10) -> TRUE | W103: =AND('Data Sheet'!H103>Results!$G$13,'Data Sheet'!H103<Results!$H$13) -> FALSE | X103: =AND('Data Sheet'!I103>Results!$G$16,'Data Sheet'!I103<Results!$H$16) -> FALSE | Y103: =AND('Data Sheet'!J103>Results!$G$19,'Data Sheet'!J103<Results!$H$19) -> FALSE | AB103: =COUNTIF(U103:Y103,"TRUE") -> 1
E104: AM 65A202B | F104: 65 | G104: 1.1 | H104: 4 | I104: - | J104: 20 | M104: =AND('Data Sheet'!F104<Results!$F$7,'Data Sheet'!F104>Results!$E$7) -> FALSE | N104: =AND(G104>Results!$E$10,G104<Results!$F$10) -> TRUE | O104: =AND(H104>Results!$E$13,H104<Results!$F$13) -> FALSE | P104: =AND(I104>Results!$E$16,I104<Results!$F$16) -> FALSE | Q104: =AND(J104>Results!$E$19,J104<Results!$F$19) -> FALSE | T104: =COUNTIF(M104:Q104,"TRUE") -> 1 | U104: =AND('Data Sheet'!F104>Results!$G$7,'Data Sheet'!F104<Results!$H$7) -> TRUE | V104: =AND('Data Sheet'!G104>Results!$G$10,'Data Sheet'!G103<Results!$H$10) -> TRUE | W104: =AND('Data Sheet'!H104>Results!$G$13,'Data Sheet'!H104<Results!$H$13) -> FALSE | X104: =AND('Data Sheet'!I104>Results!$G$16,'Data Sheet'!I104<Results!$H$16) -> FALSE | Y104: =AND('Data Sheet'!J104>Results!$G$19,'Data Sheet'!J104<Results!$H$19) -> FALSE | AB104: =COUNTIF(U104:Y104,"TRUE") -> 2
E105: AM 75A202B | F105: 75 | G105: 1.1 | H105: 5 | I105: - | J105: 25 | M105: =AND('Data Sheet'!F105<Results!$F$7,'Data Sheet'!F105>Results!$E$7) -> FALSE | N105: =AND(G105>Results!$E$10,G105<Results!$F$10) -> TRUE | O105: =AND(H105>Results!$E$13,H105<Results!$F$13) -> FALSE | P105: =AND(I105>Results!$E$16,I105<Results!$F$16) -> FALSE | Q105: =AND(J105>Results!$E$19,J105<Results!$F$19) -> FALSE | T105: =COUNTIF(M105:Q105,"TRUE") -> 1 | U105: =AND('Data Sheet'!F105>Results!$G$7,'Data Sheet'!F105<Results!$H$7) -> FALSE | V105: =AND('Data Sheet'!G105>Results!$G$10,'Data Sheet'!G104<Results!$H$10) -> TRUE | W105: =AND('Data Sheet'!H105>Results!$G$13,'Data Sheet'!H105<Results!$H$13) -> FALSE | X105: =AND('Data Sheet'!I105>Results!$G$16,'Data Sheet'!I105<Results!$H$16) -> FALSE | Y105: =AND('Data Sheet'!J105>Results!$G$19,'Data Sheet'!J105<Results!$H$19) -> FALSE | AB105: =COUNTIF(U105:Y105,"TRUE") -> 1
E106: AM 50A204B | F106: 50 | G106: 1.08 | H106: 4 | I106: - | J106: 20 | M106: =AND('Data Sheet'!F106<Results!$F$7,'Data Sheet'!F106>Results!$E$7) -> FALSE | N106: =AND(G106>Results!$E$10,G106<Results!$F$10) -> TRUE | O106: =AND(H106>Results!$E$13,H106<Results!$F$13) -> FALSE | P106: =AND(I106>Results!$E$16,I106<Results!$F$16) -> FALSE | Q106: =AND(J106>Results!$E$19,J106<Results!$F$19) -> FALSE | T106: =COUNTIF(M106:Q106,"TRUE") -> 1 | U106: =AND('Data Sheet'!F106>Results!$G$7,'Data Sheet'!F106<Results!$H$7) -> FALSE | V106: =AND('Data Sheet'!G106>Results!$G$10,'Data Sheet'!G105<Results!$H$10) -> TRUE | W106: =AND('Data Sheet'!H106>Results!$G$13,'Data Sheet'!H106<Results!$H$13) -> FALSE | X106: =AND('Data Sheet'!I106>Results!$G$16,'Data Sheet'!I106<Results!$H$16) -> FALSE | Y106: =AND('Data Sheet'!J106>Results!$G$19,'Data Sheet'!J106<Results!$H$19) -> FALSE | AB106: =COUNTIF(U106:Y106,"TRUE") -> 1
E107: AM 55A203B | F107: 55 | G107: 1.1 | H107: 5 | I107: - | J107: 21 | M107: =AND('Data Sheet'!F107<Results!$F$7,'Data Sheet'!F107>Results!$E$7) -> FALSE | N107: =AND(G107>Results!$E$10,G107<Results!$F$10) -> TRUE | O107: =AND(H107>Results!$E$13,H107<Results!$F$13) -> FALSE | P107: =AND(I107>Results!$E$16,I107<Results!$F$16) -> FALSE | Q107: =AND(J107>Results!$E$19,J107<Results!$F$19) -> FALSE | T107: =COUNTIF(M107:Q107,"TRUE") -> 1 | U107: =AND('Data Sheet'!F107>Results!$G$7,'Data Sheet'!F107<Results!$H$7) -> FALSE | V107: =AND('Data Sheet'!G107>Results!$G$10,'Data Sheet'!G106<Results!$H$10) -> TRUE | W107: =AND('Data Sheet'!H107>Results!$G$13,'Data Sheet'!H107<Results!$H$13) -> FALSE | X107: =AND('Data Sheet'!I107>Results!$G$16,'Data Sheet'!I107<Results!$H$16) -> FALSE | Y107: =AND('Data Sheet'!J107>Results!$G$19,'Data Sheet'!J107<Results!$H$19) -> FALSE | AB107: =COUNTIF(U107:Y107,"TRUE") -> 1
E108: AM 65A203B | F108: 65 | G108: 1.1 | H108: 7 | I108: - | J108: 26 | M108: =AND('Data Sheet'!F108<Results!$F$7,'Data Sheet'!F108>Results!$E$7) -> FALSE | N108: =AND(G108>Results!$E$10,G108<Results!$F$10) -> TRUE | O108: =AND(H108>Results!$E$13,H108<Results!$F$13) -> FALSE | P108: =AND(I108>Results!$E$16,I108<Results!$F$16) -> FALSE | Q108: =AND(J108>Results!$E$19,J108<Results!$F$19) -> FALSE | T108: =COUNTIF(M108:Q108,"TRUE") -> 1 | U108: =AND('Data Sheet'!F108>Results!$G$7,'Data Sheet'!F108<Results!$H$7) -> TRUE | V108: =AND('Data Sheet'!G108>Results!$G$10,'Data Sheet'!G107<Results!$H$10) -> TRUE | W108: =AND('Data Sheet'!H108>Results!$G$13,'Data Sheet'!H108<Results!$H$13) -> FALSE | X108: =AND('Data Sheet'!I108>Results!$G$16,'Data Sheet'!I108<Results!$H$16) -> FALSE | Y108: =AND('Data Sheet'!J108>Results!$G$19,'Data Sheet'!J108<Results!$H$19) -> FALSE | AB108: =COUNTIF(U108:Y108,"TRUE") -> 2
E109: AM 65A204B* | F109: 65 | G109: 1.09 | H109: 7 | I109: - | J109: 25 | M109: =AND('Data Sheet'!F109<Results!$F$7,'Data Sheet'!F109>Results!$E$7) -> FALSE | N109: =AND(G109>Results!$E$10,G109<Results!$F$10) -> TRUE | O109: =AND(H109>Results!$E$13,H109<Results!$F$13) -> FALSE | P109: =AND(I109>Results!$E$16,I109<Results!$F$16) -> FALSE | Q109: =AND(J109>Results!$E$19,J109<Results!$F$19) -> FALSE | T109: =COUNTIF(M109:Q109,"TRUE") -> 1 | U109: =AND('Data Sheet'!F109>Results!$G$7,'Data Sheet'!F109<Results!$H$7) -> TRUE | V109: =AND('Data Sheet'!G109>Results!$G$10,'Data Sheet'!G108<Results!$H$10) -> TRUE | W109: =AND('Data Sheet'!H109>Results!$G$13,'Data Sheet'!H109<Results!$H$13) -> FALSE | X109: =AND('Data Sheet'!I109>Results!$G$16,'Data Sheet'!I109<Results!$H$16) -> FALSE | Y109: =AND('Data Sheet'!J109>Results!$G$19,'Data Sheet'!J109<Results!$H$19) -> FALSE | AB109: =COUNTIF(U109:Y109,"TRUE") -> 2
E110: AM 75A203B | F110: 75 | G110: 1.09 | H110: 9 | I110: - | J110: 36 | M110: =AND('Data Sheet'!F110<Results!$F$7,'Data Sheet'!F110>Results!$E$7) -> FALSE | N110: =AND(G110>Results!$E$10,G110<Results!$F$10) -> TRUE | O110: =AND(H110>Results!$E$13,H110<Results!$F$13) -> FALSE | P110: =AND(I110>Results!$E$16,I110<Results!$F$16) -> FALSE | Q110: =AND(J110>Results!$E$19,J110<Results!$F$19) -> FALSE | T110: =COUNTIF(M110:Q110,"TRUE") -> 1 | U110: =AND('Data Sheet'!F110>Results!$G$7,'Data Sheet'!F110<Results!$H$7) -> FALSE | V110: =AND('Data Sheet'!G110>Results!$G$10,'Data Sheet'!G109<Results!$H$10) -> TRUE | W110: =AND('Data Sheet'!H110>Results!$G$13,'Data Sheet'!H110<Results!$H$13) -> FALSE | X110: =AND('Data Sheet'!I110>Results!$G$16,'Data Sheet'!I110<Results!$H$16) -> FALSE | Y110: =AND('Data Sheet'!J110>Results!$G$19,'Data Sheet'!J110<Results!$H$19) -> FALSE | AB110: =COUNTIF(U110:Y110,"TRUE") -> 1
E111: AM 75A204B* | F111: 75 | G111: 1.09 | H111: 7 | I111: - | J111: 30 | M111: =AND('Data Sheet'!F111<Results!$F$7,'Data Sheet'!F111>Results!$E$7) -> FALSE | N111: =AND(G111>Results!$E$10,G111<Results!$F$10) -> TRUE | O111: =AND(H111>Results!$E$13,H111<Results!$F$13) -> FALSE | P111: =AND(I111>Results!$E$16,I111<Results!$F$16) -> FALSE | Q111: =AND(J111>Results!$E$19,J111<Results!$F$19) -> FALSE | T111: =COUNTIF(M111:Q111,"TRUE") -> 1 | U111: =AND('Data Sheet'!F111>Results!$G$7,'Data Sheet'!F111<Results!$H$7) -> FALSE | V111: =AND('Data Sheet'!G111>Results!$G$10,'Data Sheet'!G110<Results!$H$10) -> TRUE | W111: =AND('Data Sheet'!H111>Results!$G$13,'Data Sheet'!H111<Results!$H$13) -> FALSE | X111: =AND('Data Sheet'!I111>Results!$G$16,'Data Sheet'!I111<Results!$H$16) -> FALSE | Y111: =AND('Data Sheet'!J111>Results!$G$19,'Data Sheet'!J111<Results!$H$19) -> FALSE | AB111: =COUNTIF(U111:Y111,"TRUE") -> 1
D112: Dryflex TPV | E112: VE 55A101 | F112: 55 | G112: 0.97 | H112: 5 | I112: 430 | J112: 19.5 | M112: =AND('Data Sheet'!F112<Results!$F$7,'Data Sheet'!F112>Results!$E$7) -> FALSE | N112: =AND(G112>Results!$E$10,G112<Results!$F$10) -> FALSE | O112: =AND(H112>Results!$E$13,H112<Results!$F$13) -> FALSE | P112: =AND(I112>Results!$E$16,I112<Results!$F$16) -> TRUE | Q112: =AND(J112>Results!$E$19,J112<Results!$F$19) -> FALSE | T112: =COUNTIF(M112:Q112,"TRUE") -> 1 | U112: =AND('Data Sheet'!F112>Results!$G$7,'Data Sheet'!F112<Results!$H$7) -> FALSE | V112: =AND('Data Sheet'!G112>Results!$G$10,'Data Sheet'!G111<Results!$H$10) -> FALSE | W112: =AND('Data Sheet'!H112>Results!$G$13,'Data Sheet'!H112<Results!$H$13) -> FALSE | X112: =AND('Data Sheet'!I112>Results!$G$16,'Data Sheet'!I112<Results!$H$16) -> TRUE | Y112: =AND('Data Sheet'!J112>Results!$G$19,'Data Sheet'!J112<Results!$H$19) -> FALSE | AB112: =COUNTIF(U112:Y112,"TRUE") -> 1
E113: VE 60A101 | F113: 60 | G113: 0.97 | H113: 5.5 | I113: 420 | J113: 20 | M113: =AND('Data Sheet'!F113<Results!$F$7,'Data Sheet'!F113>Results!$E$7) -> TRUE | N113: =AND(G113>Results!$E$10,G113<Results!$F$10) -> FALSE | O113: =AND(H113>Results!$E$13,H113<Results!$F$13) -> FALSE | P113: =AND(I113>Results!$E$16,I113<Results!$F$16) -> TRUE | Q113: =AND(J113>Results!$E$19,J113<Results!$F$19) -> FALSE | T113: =COUNTIF(M113:Q113,"TRUE") -> 2 | U113: =AND('Data Sheet'!F113>Results!$G$7,'Data Sheet'!F113<Results!$H$7) -> FALSE | V113: =AND('Data Sheet'!G113>Results!$G$10,'Data Sheet'!G112<Results!$H$10) -> FALSE | W113: =AND('Data Sheet'!H113>Results!$G$13,'Data Sheet'!H113<Results!$H$13) -> FALSE | X113: =AND('Data Sheet'!I113>Results!$G$16,'Data Sheet'!I113<Results!$H$16) -> TRUE | Y113: =AND('Data Sheet'!J113>Results!$G$19,'Data Sheet'!J113<Results!$H$19) -> FALSE | AB113: =COUNTIF(U113:Y113,"TRUE") -> 1
E114: VE 65A101 | F114: 65 | G114: 0.97 | H114: 6.5 | I114: 500 | J114: 24 | M114: =AND('Data Sheet'!F114<Results!$F$7,'Data Sheet'!F114>Results!$E$7) -> FALSE | N114: =AND(G114>Results!$E$10,G114<Results!$F$10) -> FALSE | O114: =AND(H114>Results!$E$13,H114<Results!$F$13) -> FALSE | P114: =AND(I114>Results!$E$16,I114<Results!$F$16) -> FALSE | Q114: =AND(J114>Results!$E$19,J114<Results!$F$19) -> FALSE | T114: =COUNTIF(M114:Q114,"TRUE") -> 0 | U114: =AND('Data Sheet'!F114>Results!$G$7,'Data Sheet'!F114<Results!$H$7) -> TRUE | V114: =AND('Data Sheet'!G114>Results!$G$10,'Data Sheet'!G113<Results!$H$10) -> FALSE | W114: =AND('Data Sheet'!H114>Results!$G$13,'Data Sheet'!H114<Results!$H$13) -> FALSE | X114: =AND('Data Sheet'!I114>Results!$G$16,'Data Sheet'!I114<Results!$H$16) -> FALSE | Y114: =AND('Data Sheet'!J114>Results!$G$19,'Data Sheet'!J114<Results!$H$19) -> FALSE | AB114: =COUNTIF(U114:Y114,"TRUE") -> 1
E115: VE 70A101 | F115: 70 | G115: 0.97 | H115: 7 | I115: 480 | J115: 26 | M115: =AND('Data Sheet'!F115<Results!$F$7,'Data Sheet'!F115>Results!$E$7) -> FALSE | N115: =AND(G115>Results!$E$10,G115<Results!$F$10) -> FALSE | O115: =AND(H115>Results!$E$13,H115<Results!$F$13) -> FALSE | P115: =AND(I115>Results!$E$16,I115<Results!$F$16) -> FALSE | Q115: =AND(J115>Results!$E$19,J115<Results!$F$19) -> FALSE | T115: =COUNTIF(M115:Q115,"TRUE") -> 0 | U115: =AND('Data Sheet'!F115>Results!$G$7,'Data Sheet'!F115<Results!$H$7) -> FALSE | V115: =AND('Data Sheet'!G115>Results!$G$10,'Data Sheet'!G114<Results!$H$10) -> FALSE | W115: =AND('Data Sheet'!H115>Results!$G$13,'Data Sheet'!H115<Results!$H$13) -> FALSE | X115: =AND('Data Sheet'!I115>Results!$G$16,'Data Sheet'!I115<Results!$H$16) -> FALSE | Y115: =AND('Data Sheet'!J115>Results!$G$19,'Data Sheet'!J115<Results!$H$19) -> FALSE | AB115: =COUNTIF(U115:Y115,"TRUE") -> 0
E116: VE 75A101 | F116: 75 | G116: 0.97 | H116: 7.5 | I116: 520 | J116: 30.5 | M116: =AND('Data Sheet'!F116<Results!$F$7,'Data Sheet'!F116>Results!$E$7) -> FALSE | N116: =AND(G116>Results!$E$10,G116<Results!$F$10) -> FALSE | O116: =AND(H116>Results!$E$13,H116<Results!$F$13) -> FALSE | P116: =AND(I116>Results!$E$16,I116<Results!$F$16) -> FALSE | Q116: =AND(J116>Results!$E$19,J116<Results!$F$19) -> FALSE | T116: =COUNTIF(M116:Q116,"TRUE") -> 0 | U116: =AND('Data Sheet'!F116>Results!$G$7,'Data Sheet'!F116<Results!$H$7) -> FALSE | V116: =AND('Data Sheet'!G116>Results!$G$10,'Data Sheet'!G115<Results!$H$10) -> FALSE | W116: =AND('Data Sheet'!H116>Results!$G$13,'Data Sheet'!H116<Results!$H$13) -> FALSE | X116: =AND('Data Sheet'!I116>Results!$G$16,'Data Sheet'!I116<Results!$H$16) -> FALSE | Y116: =AND('Data Sheet'!J116>Results!$G$19,'Data Sheet'!J116<Results!$H$19) -> FALSE | AB116: =COUNTIF(U116:Y116,"TRUE") -> 0
E117: VE 80A101 | F117: 80 | G117: 0.98 | H117: 10 | I117: 660 | J117: 32 | M117: =AND('Data Sheet'!F117<Results!$F$7,'Data Sheet'!F117>Results!$E$7) -> FALSE | N117: =AND(G117>Results!$E$10,G117<Results!$F$10) -> FALSE | O117: =AND(H117>Results!$E$13,H117<Results!$F$13) -> FALSE | P117: =AND(I117>Results!$E$16,I117<Results!$F$16) -> FALSE | Q117: =AND(J117>Results!$E$19,J117<Results!$F$19) -> FALSE | T117: =COUNTIF(M117:Q117,"TRUE") -> 0 | U117: =AND('Data Sheet'!F117>Results!$G$7,'Data Sheet'!F117<Results!$H$7) -> FALSE | V117: =AND('Data Sheet'!G117>Results!$G$10,'Data Sheet'!G116<Results!$H$10) -> FALSE | W117: =AND('Data Sheet'!H117>Results!$G$13,'Data Sheet'!H117<Results!$H$13) -> FALSE | X117: =AND('Data Sheet'!I117>Results!$G$16,'Data Sheet'!I117<Results!$H$16) -> FALSE | Y117: =AND('Data Sheet'!J117>Results!$G$19,'Data Sheet'!J117<Results!$H$19) -> FALSE | AB117: =COUNTIF(U117:Y117,"TRUE") -> 0
E118: V 45A101 | F118: 45 | G118: 0.94 | H118: 4 | I118: 560 | J118: 13 | M118: =AND('Data Sheet'!F118<Results!$F$7,'Data Sheet'!F118>Results!$E$7) -> FALSE | N118: =AND(G118>Results!$E$10,G118<Results!$F$10) -> FALSE | O118: =AND(H118>Results!$E$13,H118<Results!$F$13) -> FALSE | P118: =AND(I118>Results!$E$16,I118<Results!$F$16) -> FALSE | Q118: =AND(J118>Results!$E$19,J118<Results!$F$19) -> FALSE | T118: =COUNTIF(M118:Q118,"TRUE") -> 0 | U118: =AND('Data Sheet'!F118>Results!$G$7,'Data Sheet'!F118<Results!$H$7) -> FALSE | V118: =AND('Data Sheet'!G118>Results!$G$10,'Data Sheet'!G117<Results!$H$10) -> FALSE | W118: =AND('Data Sheet'!H118>Results!$G$13,'Data Sheet'!H118<Results!$H$13) -> FALSE | X118: =AND('Data Sheet'!I118>Results!$G$16,'Data Sheet'!I118<Results!$H$16) -> FALSE | Y118: =AND('Data Sheet'!J118>Results!$G$19,'Data Sheet'!J118<Results!$H$19) -> FALSE | AB118: =COUNTIF(U118:Y118,"TRUE") -> 0
E119: V 55A101 | F119: 55 | G119: 0.94 | H119: 4.5 | I119: 500 | J119: 15 | M119: =AND('Data Sheet'!F119<Results!$F$7,'Data Sheet'!F119>Results!$E$7) -> FALSE | N119: =AND(G119>Results!$E$10,G119<Results!$F$10) -> FALSE | O119: =AND(H119>Results!$E$13,H119<Results!$F$13) -> FALSE | P119: =AND(I119>Results!$E$16,I119<Results!$F$16) -> FALSE | Q119: =AND(J119>Results!$E$19,J119<Results!$F$19) -> FALSE | T119: =COUNTIF(M119:Q119,"TRUE") -> 0 | U119: =AND('Data Sheet'!F119>Results!$G$7,'Data Sheet'!F119<Results!$H$7) -> FALSE | V119: =AND('Data Sheet'!G119>Results!$G$10,'Data Sheet'!G118<Results!$H$10) -> FALSE | W119: =AND('Data Sheet'!H119>Results!$G$13,'Data Sheet'!H119<Results!$H$13) -> FALSE | X119: =AND('Data Sheet'!I119>Results!$G$16,'Data Sheet'!I119<Results!$H$16) -> FALSE | Y119: =AND('Data Sheet'!J119>Results!$G$19,'Data Sheet'!J119<Results!$H$19) -> FALSE | AB119: =COUNTIF(U119:Y119,"TRUE") -> 0
E120: V 60A101 | F120: 60 | G120: 0.93 | H120: 5.5 | I120: 520 | J120: 19 | M120: =AND('Data Sheet'!F120<Results!$F$7,'Data Sheet'!F120>Results!$E$7) -> TRUE | N120: =AND(G120>Results!$E$10,G120<Results!$F$10) -> FALSE | O120: =AND(H120>Results!$E$13,H120<Results!$F$13) -> FALSE | P120: =AND(I120>Results!$E$16,I120<Results!$F$16) -> FALSE | Q120: =AND(J120>Results!$E$19,J120<Results!$F$19) -> FALSE | T120: =COUNTIF(M120:Q120,"TRUE") -> 1 | U120: =AND('Data Sheet'!F120>Results!$G$7,'Data Sheet'!F120<Results!$H$7) -> FALSE | V120: =AND('Data Sheet'!G120>Results!$G$10,'Data Sheet'!G119<Results!$H$10) -> FALSE | W120: =AND('Data Sheet'!H120>Results!$G$13,'Data Sheet'!H120<Results!$H$13) -> FALSE | X120: =AND('Data Sheet'!I120>Results!$G$16,'Data Sheet'!I120<Results!$H$16) -> FALSE | Y120: =AND('Data Sheet'!J120>Results!$G$19,'Data Sheet'!J120<Results!$H$19) -> FALSE | AB120: =COUNTIF(U120:Y120,"TRUE") -> 0
E121: V 65A101 | F121: 65 | G121: 0.93 | H121: 6 | I121: 520 | J121: 20 | M121: =AND('Data Sheet'!F121<Results!$F$7,'Data Sheet'!F121>Results!$E$7) -> FALSE | N121: =AND(G121>Results!$E$10,G121<Results!$F$10) -> FALSE | O121: =AND(H121>Results!$E$13,H121<Results!$F$13) -> FALSE | P121: =AND(I121>Results!$E$16,I121<Results!$F$16) -> FALSE | Q121: =AND(J121>Results!$E$19,J121<Results!$F$19) -> FALSE | T121: =COUNTIF(M121:Q121,"TRUE") -> 0 | U121: =AND('Data Sheet'!F121>Results!$G$7,'Data Sheet'!F121<Results!$H$7) -> TRUE | V121: =AND('Data Sheet'!G121>Results!$G$10,'Data Sheet'!G120<Results!$H$10) -> FALSE | W121: =AND('Data Sheet'!H121>Results!$G$13,'Data Sheet'!H121<Results!$H$13) -> FALSE | X121: =AND('Data Sheet'!I121>Results!$G$16,'Data Sheet'!I121<Results!$H$16) -> FALSE | Y121: =AND('Data Sheet'!J121>Results!$G$19,'Data Sheet'!J121<Results!$H$19) -> FALSE | AB121: =COUNTIF(U121:Y121,"TRUE") -> 1
E122: V 70A101 | F122: 70 | G122: 0.95 | H122: 7 | I122: 600 | J122: 22 | M122: =AND('Data Sheet'!F122<Results!$F$7,'Data Sheet'!F122>Results!$E$7) -> FALSE | N122: =AND(G122>Results!$E$10,G122<Results!$F$10) -> FALSE | O122: =AND(H122>Results!$E$13,H122<Results!$F$13) -> FALSE | P122: =AND(I122>Results!$E$16,I122<Results!$F$16) -> FALSE | Q122: =AND(J122>Results!$E$19,J122<Results!$F$19) -> FALSE | T122: =COUNTIF(M122:Q122,"TRUE") -> 0 | U122: =AND('Data Sheet'!F122>Results!$G$7,'Data Sheet'!F122<Results!$H$7) -> FALSE | V122: =AND('Data Sheet'!G122>Results!$G$10,'Data Sheet'!G121<Results!$H$10) -> FALSE | W122: =AND('Data Sheet'!H122>Results!$G$13,'Data Sheet'!H122<Results!$H$13) -> FALSE | X122: =AND('Data Sheet'!I122>Results!$G$16,'Data Sheet'!I122<Results!$H$16) -> FALSE | Y122: =AND('Data Sheet'!J122>Results!$G$19,'Data Sheet'!J122<Results!$H$19) -> FALSE | AB122: =COUNTIF(U122:Y122,"TRUE") -> 0
E123: V 75A101 | F123: 75 | G123: 0.96 | H123: 7 | I123: 490 | J123: 26 | M123: =AND('Data Sheet'!F123<Results!$F$7,'Data Sheet'!F123>Results!$E$7) -> FALSE | N123: =AND(G123>Results!$E$10,G123<Results!$F$10) -> FALSE | O123: =AND(H123>Results!$E$13,H123<Results!$F$13) -> FALSE | P123: =AND(I123>Results!$E$16,I123<Results!$F$16) -> FALSE | Q123: =AND(J123>Results!$E$19,J123<Results!$F$19) -> FALSE | T123: =COUNTIF(M123:Q123,"TRUE") -> 0 | U123: =AND('Data Sheet'!F123>Results!$G$7,'Data Sheet'!F123<Results!$H$7) -> FALSE | V123: =AND('Data Sheet'!G123>Results!$G$10,'Data Sheet'!G122<Results!$H$10) -> FALSE | W123: =AND('Data Sheet'!H123>Results!$G$13,'Data Sheet'!H123<Results!$H$13) -> FALSE | X123: =AND('Data Sheet'!I123>Results!$G$16,'Data Sheet'!I123<Results!$H$16) -> FALSE | Y123: =AND('Data Sheet'!J123>Results!$G$19,'Data Sheet'!J123<Results!$H$19) -> FALSE | AB123: =COUNTIF(U123:Y123,"TRUE") -> 0
E124: V 80A101 | F124: 80 | G124: 0.97 | H124: 8 | I124: 640 | J124: 32 | M124: =AND('Data Sheet'!F124<Results!$F$7,'Data Sheet'!F124>Results!$E$7) -> FALSE | N124: =AND(G124>Results!$E$10,G124<Results!$F$10) -> FALSE | O124: =AND(H124>Results!$E$13,H124<Results!$F$13) -> FALSE | P124: =AND(I124>Results!$E$16,I124<Results!$F$16) -> FALSE | Q124: =AND(J124>Results!$E$19,J124<Results!$F$19) -> FALSE | T124: =COUNTIF(M124:Q124,"TRUE") -> 0 | U124: =AND('Data Sheet'!F124>Results!$G$7,'Data Sheet'!F124<Results!$H$7) -> FALSE | V124: =AND('Data Sheet'!G124>Results!$G$10,'Data Sheet'!G123<Results!$H$10) -> FALSE | W124: =AND('Data Sheet'!H124>Results!$G$13,'Data Sheet'!H124<Results!$H$13) -> FALSE | X124: =AND('Data Sheet'!I124>Results!$G$16,'Data Sheet'!I124<Results!$H$16) -> FALSE | Y124: =AND('Data Sheet'!J124>Results!$G$19,'Data Sheet'!J124<Results!$H$19) -> FALSE | AB124: =COUNTIF(U124:Y124,"TRUE") -> 0
... E129: V 50D101 | F129: 50 | G129: 0.97 | H129: 21 | I129: 790 | J129: 105 | M129: =AND('Data Sheet'!F129<Results!$F$7,'Data Sheet'!F129>Results!$E$7) -> FALSE | N129: =AND(G129>Results!$E$10,G129<Results!$F$10) -> FALSE | O129: =AND(H129>Results!$E$13,H129<Results!$F$13) -> FALSE | P129: =AND(I129>Results!$E$16,I129<Results!$F$16) -> FALSE | Q129: =AND(J129>Results!$E$19,J129<Results!$F$19) -> FALSE | T129: =COUNTIF(M129:Q129,"TRUE") -> 0 | U129: =AND('Data Sheet'!F129>Results!$G$7,'Data Sheet'!F129<Results!$H$7) -> FALSE | V129: =AND('Data Sheet'!G129>Results!$G$10,'Data Sheet'!G128<Results!$H$10) -> FALSE | W129: =AND('Data Sheet'!H129>Results!$G$13,'Data Sheet'!H129<Results!$H$13) -> FALSE | X129: =AND('Data Sheet'!I129>Results!$G$16,'Data Sheet'!I129<Results!$H$16) -> FALSE | Y129: =AND('Data Sheet'!J129>Results!$G$19,'Data Sheet'!J129<Results!$H$19) -> FALSE | AB129: =COUNTIF(U129:Y129,"TRUE") -> 0
D130: Lifoflex standard series | E130: UV 20 GA 1020 | F130: 20 | G130: 0.89 | H130: 4.9 | I130: 948 | J130: - | M130: =AND('Data Sheet'!F130<Results!$F$7,'Data Sheet'!F130>Results!$E$7) -> FALSE | N130: =AND(G130>Results!$E$10,G130<Results!$F$10) -> FALSE | O130: =AND(H130>Results!$E$13,H130<Results!$F$13) -> FALSE | P130: =AND(I130>Results!$E$16,I130<Results!$F$16) -> FALSE | Q130: =AND(J130>Results!$E$19,J130<Results!$F$19) -> FALSE | T130: =COUNTIF(M130:Q130,"TRUE") -> 0 | U130: =AND('Data Sheet'!F130>Results!$G$7,'Data Sheet'!F130<Results!$H$7) -> FALSE | V130: =AND('Data Sheet'!G130>Results!$G$10,'Data Sheet'!G129<Results!$H$10) -> FALSE | W130: =AND('Data Sheet'!H130>Results!$G$13,'Data Sheet'!H130<Results!$H$13) -> FALSE | X130: =AND('Data Sheet'!I130>Results!$G$16,'Data Sheet'!I130<Results!$H$16) -> FALSE | Y130: =AND('Data Sheet'!J130>Results!$G$19,'Data Sheet'!J130<Results!$H$19) -> FALSE | AB130: =COUNTIF(U130:Y130,"TRUE") -> 0
...

Sheet Norms
A1: Company | B1: Tpe name | C1: Properties
C2: Hardness | D2: Density | E2: Tensil strenght | F2: Elongation at break | G2: Trouser Tear strenght
A3: Leartiker | B3: EPDM | D3: ASTM D 3374 | E3: ASTM D 3374 | F3: ASTM D 3374 | G3: ISO 34 - 1
A4: HexpolTPE | B4: Dryflex extrusion profile | C4: ISO 868 | D4: ISO 2781 | E4: ISO 37 | F4: ISO 37 | G4: ISO 34 method C
B5: Dryflex injection moulding | C5: ISO 868 | D5: ISO 2781 | E5: ISO 37-1 | F5: ISO 37-1 | G5: ISO 34 method C
B6: Dryflex transparent | C6: ASTM D 2240' | D6: ASTM D 792 | E6: ASTM D 638 | F6: ASTM D 638 | G6: -
B7: Dryflex PCW | C7: ISO 868 | D7: ISO 2781 | E7: ISO 37 | F7: ISO 37 | G7: ISO 34 method C
B8: Dryflex optimised compression set | C8: ISO 868 | D8: ISO 2781 | E8: ISO 37' | F8: ISO 37 | G8: ISO 34 method C'
B9: Dryflex automotive mats | C9: ISO 868 | D9: ISO 2781 | E9: ISO 37 | F9: - | G9: ISO 34 method C
B10: Dryflex TPV | C10: ISO 868 | D10: ISO 2781 | E10: ISO 37 | F10: ISO 37 | G10: ISO 34 method C
B11: Lifoflex flam | C11: DIN 53505 (A) | D11: DIN EN ISO 1183 - 1 (A) | E11: DIN 53504 | F11: DIN 53504 | G11: -
B12: Mediprene 500m | C12: ASTM D 2240 (4mm) | D12: ASTM D 792 | E12: ASTM D 638 | F12: ASTM D 638 | G12: ASTM D 624
B13: Mediprene 2K | C13: ASTM D 2240' | D13: ASTM D 792 | E13: ASTM D 638 | F13: ASTM D 638 | G13: ASTM D 624
B14: Mediprene oil free medical | C14: ASTM D 2240' | D14: ASTM D 792 | E14: ASTM D 638 | F14: ASTM D 638 | G14: ASTM D 624
B15: Mediprene syringe Plunger Seals | C15: ASTM D 2240' | D15: ASTM D 793 | E15: ASTM D 639 | F15: ASTM D 639 | G15: ASTM D 625
B16: Mediprene transparent | C16: ASTM D 2240' | D16: ASTM D 792 | E16: ASTEM D 638 | F16: ASTM D 638 | G16: ASTM D 624
A17: RESINEX | B17: Arnitel | C17: ISO 868 | D17: ISO 1183 | E17: ISO 527-2 | F17: ISO 527-2 | G17: -
B18: Enflex | C18: ISO 868 | D18: ISO 2781 | E18: ISO 37 | F18: ISO 37 | G18: ISO 37
B19: Ensoft | C19: ISO 868 | D19: ISO 1183 | E19: ISO 37 | F19: ISO 37 | G19: ISO 37
A20: POLYONE | B20: Dynaflex | C20: ASTM D2240 | D20: ASTM D 792 | E20: ASTM D 412 | F20: ASTM D 412 | G20: -
B21: Dynalloy | C21: ASTM D2240 | D21: ASTM D 792 | E21: ASTM D 412 | F21: ASTM D 412 | G21: -
B22: Elastamax | C22: ASTM D2240 | D22: ASTM D 792 | E22: ASTM D 412A | F22: ASTM D 412A | G22: ASTM D 624
B23: GSL | C23: ASTM D2240 | D23: ASTM D 792 | E23: ASTM D 412 | F23: ASTM D 412 | G23: -
B24: Gravi tech | C24: ASTM D2240 | D24: ASTM D 792 | E24: ASTM D 412 | F24: ASTM D 412 | G24: -
B25: Karton | C25: Internal method | D25: Internal method | E25: ASTM D 412 | F25: ASTM D 412 | G25: ASTM D 624
B26: Onflex | C26: ISO 868 / ASTM D2240 | D26: ISO 1183/ASTM D792 | E26: ISO 37/ASTM D412 | F26: ISO 37/ASTM D412 | G26: ISO 34-1/ ASTM D624
B27: Stat-tech | C27: ASTM D2240 | D27: ASTM D 792 | E27: ASTM D638 | F27: ASTM D638 | G27: -
B28: Synprene | C28: ASTM D2240 | D28: ASTM D792 | E28: ASTM D412A | F28: ASTM D412A | G28: ASTM D624
B29: Versaflex | C29: ASTM D2240 | D29: ASTM D792 | E29: ASTM D 412 | F29: ASTM D 412 | G29: -
B30: Versalloy | C30: ASTM D2240 | D30: ASTM D792 | E30: ASTM D 412 | F30: ASTM D 412 | G30: ASTM D624
A31: RTP company | C31: ASTM D2240 | D31: ASTM D792 | E31: ASTM D 412 | F31: ASTM D 412 | G31: ASTM D624
A32: Advanced elastomer systems | C32: ASTM D2240 | D32: ASTM D471/ISO 2781 | E32: ASTM D 412 | F32: ASTM D 412 | G32: ASTM D624
A33: Exxon mobil | C33: ISO 868 | D33: ASTM D792 | E33: ASTM D 412 | F33: ASTM D 412 | G33: ASTM D624

Sheet SEBS
A1: SEBS Type | D1: Hardness Shore (A or D) | E1: Specific Gravity g/cm^3 | F1: Tensile Strength Mpa | G1: Elongation at Break % | H1: Tear Strength N/mm
A4: API Megol | B4: AM | C4: DP2268/65 | D4: 65 | E4: 1 | F4: 9.5 | G4: 700 | H4: 44 | I4: =AND(D4<Results!$F$7,D4>Results!$E$7) -> FALSE | J4: =AND(E4>Results!E10,E4<Results!F10) -> FALSE | K4: =AND(G4>Results!$E$13,G4<Results!$F$13) -> FALSE | L4: =AND(H4>Results!$E$16,H4<Results!$F$16) -> FALSE
D5: 60 | I5: =AND(D5<Results!$F$7,D5>Results!$E$7) -> TRUE | J5: =AND(E5>Results!E11,E5<Results!F11) -> FALSE | K5: =AND(G5>Results!$E$13,G5<Results!$F$13) -> FALSE | L5: =AND(H5>Results!$E$16,H5<Results!$F$16) -> FALSE
I6: =AND(D6<Results!$F$7,D6>Results!$E$7) -> FALSE | J6: =AND(E6>Results!E12,E6<Results!F12) -> FALSE | K6: =AND(G6>Results!$E$13,G6<Results!$F$13) -> FALSE | L6: =AND(H6>Results!$E$16,H6<Results!$F$16) -> FALSE
I7: =AND(D7<Results!$F$7,D7>Results!$E$7) -> FALSE | J7: =AND(E7>Results!E13,E7<Results!F13) -> FALSE | K7: =AND(G7>Results!$E$13,G7<Results!$F$13) -> FALSE | L7: =AND(H7>Results!$E$16,H7<Results!$F$16) -> FALSE
I8: =AND(D8<Results!$F$7,D8>Results!$E$7) -> FALSE | J8: =AND(E8>Results!E14,E8<Results!F14) -> FALSE | K8: =AND(G8>Results!$E$13,G8<Results!$F$13) -> FALSE | L8: =AND(H8>Results!$E$16,H8<Results!$F$16) -> FALSE
I9: =AND(D9<Results!$F$7,D9>Results!$E$7) -> FALSE | J9: =AND(E9>Results!E15,E9<Results!F15) -> FALSE | K9: =AND(G9>Results!$E$13,G9<Results!$F$13) -> FALSE | L9: =AND(H9>Results!$E$16,H9<Results!$F$16) -> FALSE
I10: =AND(D10<Results!$F$7,D10>Results!$E$7) -> FALSE | J10: =AND(E10>Results!E16,E10<Results!F16) -> FALSE | K10: =AND(G10>Results!$E$13,G10<Results!$F$13) -> FALSE | L10: =AND(H10>Results!$E$16,H10<Results!$F$16) -> FALSE
I11: =AND(D11<Results!$F$7,D11>Results!$E$7) -> FALSE | J11: =AND(E11>Results!E17,E11<Results!F17) -> FALSE | K11: =AND(G11>Results!$E$13,G11<Results!$F$13) -> FALSE | L11: =AND(H11>Results!$E$16,H11<Results!$F$16) -> FALSE
I12: =AND(D12<Results!$F$7,D12>Results!$E$7) -> FALSE | J12: =AND(E12>Results!E18,E12<Results!F18) -> FALSE | K12: =AND(G12>Results!$E$13,G12<Results!$F$13) -> FALSE | L12: =AND(H12>Results!$E$16,H12<Results!$F$16) -> FALSE
I13: =AND(D13<Results!$F$7,D13>Results!$E$7) -> FALSE | J13: =AND(E13>Results!E19,E13<Results!F19) -> FALSE | K13: =AND(G13>Results!$E$13,G13<Results!$F$13) -> FALSE | L13: =AND(H13>Results!$E$16,H13<Results!$F$16) -> FALSE
I14: =AND(D14<Results!$F$7,D14>Results!$E$7) -> FALSE | J14: =AND(E14>Results!E20,E14<Results!F20) -> FALSE | K14: =AND(G14>Results!$E$13,G14<Results!$F$13) -> FALSE | L14: =AND(H14>Results!$E$16,H14<Results!$F$16) -> FALSE
I15: =AND(D15<Results!$F$7,D15>Results!$E$7) -> FALSE | J15: =AND(E15>Results!E21,E15<Results!F21) -> FALSE | K15: =AND(G15>Results!$E$13,G15<Results!$F$13) -> FALSE | L15: =AND(H15>Results!$E$16,H15<Results!$F$16) -> FALSE
I16: =AND(D16<Results!$F$7,D16>Results!$E$7) -> FALSE | J16: =AND(E16>Results!E22,E16<Results!F22) -> FALSE | K16: =AND(G16>Results!$E$13,G16<Results!$F$13) -> FALSE | L16: =AND(H16>Results!$E$16,H16<Results!$F$16) -> FALSE
I17: =AND(D17<Results!$F$7,D17>Results!$E$7) -> FALSE | J17: =AND(E17>Results!E23,E17<Results!F23) -> FALSE | K17: =AND(G17>Results!$E$13,G17<Results!$F$13) -> FALSE | L17: =AND(H17>Results!$E$16,H17<Results!$F$16) -> FALSE
I18: =AND(D18<Results!$F$7,D18>Results!$E$7) -> FALSE | J18: =AND(E18>Results!E24,E18<Results!F24) -> FALSE | K18: =AND(G18>Results!$E$13,G18<Results!$F$13) -> FALSE | L18: =AND(H18>Results!$E$16,H18<Results!$F$16) -> FALSE
