Workbook

Sheet Période de fermeture
A1: 2016
A4: Mois | B4: 1 | C4: 2 | D4: 3 | E4: 4 | F4: 5 | G4: 6 | H4: 7 | I4: 8 | J4: 9 | K4: 10 | L4: 11 | M4: 12
A5: Jours | B5: 1 | F5: 6 | I5: 8 | M5: 26
I6: 9 | M6: 27
I7: 10 | M7: 28
I8: 11 | M8: 29
I9: 12
I10: 13
I11: 14
I12: 15
I13: 16
I14: 17
I15: 18
I16: 19
A18: Plage de calcul | B18: =IF(B5="","",DATE($A$1,$B$4,B5)) -> 42370 | C18: =IF(C5="","",DATE($A$1,$C$4,C5)) | D18: =IF(D5="","",DATE($A$1,$D$4,D5)) | E18: =IF(E5="","",DATE($A$1,$E$4,E5)) | F18: =IF(F5="","",DATE($A$1,$B$4,F5)) -> 42375 | G18: =IF(G5="","",DATE($A$1,$G$4,G5)) | H18: =IF(H5="","",DATE($A$1,$H$4,H5)) | I18: =IF(I5="","",DATE($A$1,$I$4,I5)) -> 42590 | J18: =IF(J5="","",DATE($A$1,$J$4,J5)) | K18: =IF(K5="","",DATE($A$1,$K$4,K5)) | L18: =IF(L5="","",DATE($A$1,$L$4,L5)) | M18: =IF(M5="","",DATE($A$1,$M$4,M5)) -> 42730
B19: =IF(B6="","",DATE($A$1,$B$4,B6)) | C19: =IF(C6="","",DATE($A$1,$C$4,C6)) | D19: =IF(D6="","",DATE($A$1,$D$4,D6)) | E19: =IF(E6="","",DATE($A$1,$E$4,E6)) | G19: =IF(G6="","",DATE($A$1,$G$4,G6)) | H19: =IF(H6="","",DATE($A$1,$H$4,H6)) | I19: =IF(I6="","",DATE($A$1,$I$4,I6)) -> 42591 | J19: =IF(J6="","",DATE($A$1,$J$4,J6)) | K19: =IF(K6="","",DATE($A$1,$K$4,K6)) | L19: =IF(L6="","",DATE($A$1,$L$4,L6)) | M19: =IF(M6="","",DATE($A$1,$M$4,M6)) -> 42731
B20: =IF(B7="","",DATE($A$1,$B$4,B7)) | C20: =IF(C7="","",DATE($A$1,$C$4,C7)) | D20: =IF(D7="","",DATE($A$1,$D$4,D7)) | E20: =IF(E7="","",DATE($A$1,$E$4,E7)) | G20: =IF(G7="","",DATE($A$1,$G$4,G7)) | H20: =IF(H7="","",DATE($A$1,$H$4,H7)) | I20: =IF(I7="","",DATE($A$1,$I$4,I7)) -> 42592 | J20: =IF(J7="","",DATE($A$1,$J$4,J7)) | K20: =IF(K7="","",DATE($A$1,$K$4,K7)) | L20: =IF(L7="","",DATE($A$1,$L$4,L7)) | M20: =IF(M7="","",DATE($A$1,$M$4,M7)) -> 42732
B21: =IF(B8="","",DATE($A$1,$B$4,B8)) | C21: =IF(C8="","",DATE($A$1,$C$4,C8)) | D21: =IF(D8="","",DATE($A$1,$D$4,D8)) | E21: =IF(E8="","",DATE($A$1,$E$4,E8)) | G21: =IF(G8="","",DATE($A$1,$G$4,G8)) | H21: =IF(H8="","",DATE($A$1,$H$4,H8)) | I21: =IF(I8="","",DATE($A$1,$I$4,I8)) -> 42593 | J21: =IF(J8="","",DATE($A$1,$J$4,J8)) | K21: =IF(K8="","",DATE($A$1,$K$4,K8)) | L21: =IF(L8="","",DATE($A$1,$L$4,L8)) | M21: =IF(M8="","",DATE($A$1,$M$4,M8)) -> 42733
B22: =IF(B9="","",DATE($A$1,$B$4,B9)) | C22: =IF(C9="","",DATE($A$1,$C$4,C9)) | D22: =IF(D9="","",DATE($A$1,$D$4,D9)) | E22: =IF(E9="","",DATE($A$1,$E$4,E9)) | G22: =IF(G9="","",DATE($A$1,$G$4,G9)) | H22: =IF(H9="","",DATE($A$1,$H$4,H9)) | I22: =IF(I9="","",DATE($A$1,$I$4,I9)) -> 42594 | J22: =IF(J9="","",DATE($A$1,$J$4,J9)) | K22: =IF(K9="","",DATE($A$1,$K$4,K9)) | L22: =IF(L9="","",DATE($A$1,$L$4,L9)) | M22: =IF(M9="","",DATE($A$1,$M$4,M9))
B23: =IF(B10="","",DATE($A$1,$B$4,B10)) | C23: =IF(C10="","",DATE($A$1,$C$4,C10)) | D23: =IF(D10="","",DATE($A$1,$D$4,D10)) | E23: =IF(E10="","",DATE($A$1,$E$4,E10)) | G23: =IF(G10="","",DATE($A$1,$G$4,G10)) | H23: =IF(H10="","",DATE($A$1,$H$4,H10)) | I23: =IF(I10="","",DATE($A$1,$I$4,I10)) -> 42595 | J23: =IF(J10="","",DATE($A$1,$J$4,J10)) | K23: =IF(K10="","",DATE($A$1,$K$4,K10)) | L23: =IF(L10="","",DATE($A$1,$L$4,L10)) | M23: =IF(M10="","",DATE($A$1,$M$4,M10))
B24: =IF(B11="","",DATE($A$1,$B$4,B11)) | C24: =IF(C11="","",DATE($A$1,$C$4,C11)) | D24: =IF(D11="","",DATE($A$1,$D$4,D11)) | E24: =IF(E11="","",DATE($A$1,$E$4,E11)) | G24: =IF(G11="","",DATE($A$1,$G$4,G11)) | H24: =IF(H11="","",DATE($A$1,$H$4,H11)) | I24: =IF(I11="","",DATE($A$1,$I$4,I11)) -> 42596 | J24: =IF(J11="","",DATE($A$1,$J$4,J11)) | K24: =IF(K11="","",DATE($A$1,$K$4,K11)) | L24: =IF(L11="","",DATE($A$1,$L$4,L11)) | M24: =IF(M11="","",DATE($A$1,$M$4,M11))
B25: =IF(B12="","",DATE($A$1,$B$4,B12)) | C25: =IF(C12="","",DATE($A$1,$C$4,C12)) | D25: =IF(D12="","",DATE($A$1,$D$4,D12)) | E25: =IF(E12="","",DATE($A$1,$E$4,E12)) | G25: =IF(G12="","",DATE($A$1,$G$4,G12)) | H25: =IF(H12="","",DATE($A$1,$H$4,H12)) | I25: =IF(I12="","",DATE($A$1,$I$4,I12)) -> 42597 | J25: =IF(J12="","",DATE($A$1,$J$4,J12)) | K25: =IF(K12="","",DATE($A$1,$K$4,K12)) | L25: =IF(L12="","",DATE($A$1,$L$4,L12)) | M25: =IF(M12="","",DATE($A$1,$M$4,M12))
B26: =IF(B13="","",DATE($A$1,$B$4,B13)) | C26: =IF(C13="","",DATE($A$1,$C$4,C13)) | D26: =IF(D13="","",DATE($A$1,$D$4,D13)) | E26: =IF(E13="","",DATE($A$1,$E$4,E13)) | G26: =IF(G13="","",DATE($A$1,$G$4,G13)) | H26: =IF(H13="","",DATE($A$1,$H$4,H13)) | I26: =IF(I13="","",DATE($A$1,$I$4,I13)) -> 42598 | J26: =IF(J13="","",DATE($A$1,$J$4,J13)) | K26: =IF(K13="","",DATE($A$1,$K$4,K13)) | L26: =IF(L13="","",DATE($A$1,$L$4,L13)) | M26: =IF(M13="","",DATE($A$1,$M$4,M13))
B27: =IF(B14="","",DATE($A$1,$B$4,B14)) | C27: =IF(C14="","",DATE($A$1,$C$4,C14)) | D27: =IF(D14="","",DATE($A$1,$D$4,D14)) | E27: =IF(E14="","",DATE($A$1,$E$4,E14)) | G27: =IF(G14="","",DATE($A$1,$G$4,G14)) | H27: =IF(H14="","",DATE($A$1,$H$4,H14)) | I27: =IF(I14="","",DATE($A$1,$I$4,I14)) -> 42599 | J27: =IF(J14="","",DATE($A$1,$J$4,J14)) | K27: =IF(K14="","",DATE($A$1,$K$4,K14)) | L27: =IF(L14="","",DATE($A$1,$L$4,L14)) | M27: =IF(M14="","",DATE($A$1,$M$4,M14))
B28: =IF(B15="","",DATE($A$1,$B$4,B15)) | C28: =IF(C15="","",DATE($A$1,$C$4,C15)) | D28: =IF(D15="","",DATE($A$1,$D$4,D15)) | E28: =IF(E15="","",DATE($A$1,$E$4,E15)) | G28: =IF(G15="","",DATE($A$1,$G$4,G15)) | H28: =IF(H15="","",DATE($A$1,$H$4,H15)) | I28: =IF(I15="","",DATE($A$1,$I$4,I15)) -> 42600 | J28: =IF(J15="","",DATE($A$1,$J$4,J15)) | K28: =IF(K15="","",DATE($A$1,$K$4,K15)) | L28: =IF(L15="","",DATE($A$1,$L$4,L15)) | M28: =IF(M15="","",DATE($A$1,$M$4,M15))
B29: =IF(B16="","",DATE($A$1,$B$4,B16)) | C29: =IF(C16="","",DATE($A$1,$C$4,C16)) | D29: =IF(D16="","",DATE($A$1,$D$4,D16)) | E29: =IF(E16="","",DATE($A$1,$E$4,E16)) | G29: =IF(G16="","",DATE($A$1,$G$4,G16)) | H29: =IF(H16="","",DATE($A$1,$H$4,H16)) | I29: =IF(I16="","",DATE($A$1,$I$4,I16)) -> 42601 | J29: =IF(J16="","",DATE($A$1,$J$4,J16)) | K29: =IF(K16="","",DATE($A$1,$K$4,K16)) | L29: =IF(L16="","",DATE($A$1,$L$4,L16)) | M29: =IF(M16="","",DATE($A$1,$M$4,M16))

Sheet Feuille de calcul
A1: S17 | C1: Date début de semaine : | I1: 42485.208
A3: Machine | B3: Numéro d'affaire | C3: Quantité | D3: Temps de réglage en heures | E3: Temps de cycle en minutes | F3: Durée en heures | G3: Durée en jours | H3: Date de début | I3: Date de fin
A5: DMC635 V | B5: 223737 | C5: 100 | D5: 2 | E5: 9 | F5: =IF(C5*E5/60+D5=0, "", C5*E5/60+D5) -> 17 | G5: =IF(F5="","",F5/16) -> 1.0625 | H5: =$I$1 -> 42485.208 | I5: =IF(G5="","",IF(G5<=16/24,G5,G5+H5+(16/24-1))) -> 42485.938
B6: 223756 | C6: 100 | D6: 2.5 | E6: 8.5 | F6: =IF(C6*E6/60+D6=0, "", C6*E6/60+D6) -> 16.666667 | G6: =IF(F6="","",F6/16) -> 1.0416667 | H6: =IF(I5="","",I5) -> 42485.938 | I6: =IF(G6="", "", H6+G6) -> 42486.979
F7: =IF(C7*E7/60+D7=0, "", C7*E7/60+D7) | G7: =IF(F7="","",F7/16) | H7: =IF(I6="","",I6) -> 42486.979 | I7: =IF(G7="", "", H7+G7)
F8: =IF(C8*E8/60+D8=0, "", C8*E8/60+D8) | G8: =IF(F8="","",F8/16) | H8: =IF(I7="","",I7) | I8: =IF(G8="", "", H8+G8)
F9: =IF(C9*E9/60+D9=0, "", C9*E9/60+D9) | G9: =IF(F9="","",F9/16) | H9: =IF(I8="","",I8) | I9: =IF(G9="", "", H9+G9)
F10: =IF(C10*E10/60+D10=0, "", C10*E10/60+D10) | G10: =IF(F10="","",F10/16) | H10: =IF(I9="","",I9) | I10: =IF(G10="", "", H10+G10)
F11: =IF(C11*E11/60+D11=0, "", C11*E11/60+D11) | G11: =IF(F11="","",F11/16) | H11: =IF(I10="","",I10) | I11: =IF(G11="", "", H11+G11)
F12: =IF(C12*E12/60+D12=0, "", C12*E12/60+D12) | G12: =IF(F12="","",F12/16) | H12: =IF(I11="","",I11) | I12: =IF(G12="", "", H12+G12)
F13: =IF(C13*E13/60+D13=0, "", C13*E13/60+D13) | G13: =IF(F13="","",F13/16) | H13: =IF(I12="","",I12) | I13: =IF(G13="", "", H13+G13)
F14: =IF(C14*E14/60+D14=0, "", C14*E14/60+D14) | G14: =IF(F14="","",F14/16)
A15: Milltap 700 | F15: =IF(C15*E15/60+D15=0, "", C15*E15/60+D15) | G15: =IF(F15="","",F15/16) | H15: =$I$1 -> 42485.208 | I15: =IF(G15="", "", H15+G15) | L15: =WORKDAY(H5,G5,'Période de fermeture'!B18:M29) -> #VALUE!
F16: =IF(C16*E16/60+D16=0, "", C16*E16/60+D16) | G16: =IF(F16="","",F16/16) | H16: =IF(I16="","",I16) | I16: =IF(G16="", "", H16+G16)
F17: =IF(C17*E17/60+D17=0, "", C17*E17/60+D17) | G17: =IF(F17="","",F17/16) | H17: =IF(I17="","",I17) | I17: =IF(G17="", "", H17+G17)
F18: =IF(C18*E18/60+D18=0, "", C18*E18/60+D18) | G18: =IF(F18="","",F18/16) | H18: =IF(I18="","",I18) | I18: =IF(G18="", "", H18+G18)
F19: =IF(C19*E19/60+D19=0, "", C19*E19/60+D19) | G19: =IF(F19="","",F19/16) | H19: =IF(I19="","",I19) | I19: =IF(G19="", "", H19+G19)
F20: =IF(C20*E20/60+D20=0, "", C20*E20/60+D20) | G20: =IF(F20="","",F20/16) | H20: =IF(I20="","",I20) | I20: =IF(G20="", "", H20+G20)
F21: =IF(C21*E21/60+D21=0, "", C21*E21/60+D21) | G21: =IF(F21="","",F21/16) | H21: =IF(I21="","",I21) | I21: =IF(G21="", "", H21+G21)
F22: =IF(C22*E22/60+D22=0, "", C22*E22/60+D22) | G22: =IF(F22="","",F22/16) | H22: =IF(I22="","",I22) | I22: =IF(G22="", "", H22+G22)
F23: =IF(C23*E23/60+D23=0, "", C23*E23/60+D23) | G23: =IF(F23="","",F23/16) | H23: =IF(I23="","",I23) | I23: =IF(G23="", "", H23+G23)
F24: =IF(C24*E24/60+D24=0, "", C24*E24/60+D24) | G24: =IF(F24="","",F24/16)
A25: DMU50 N°47 | F25: =IF(C25*E25/60+D25=0, "", C25*E25/60+D25) | G25: =IF(F25="","",F25/16) | H25: =$I$1 -> 42485.208 | I25: =IF(G25="", "", H25+G25)
F26: =IF(C26*E26/60+D26=0, "", C26*E26/60+D26) | G26: =IF(F26="","",F26/16) | H26: =IF(I26="","",I26) | I26: =IF(G26="", "", H26+G26)
F27: =IF(C27*E27/60+D27=0, "", C27*E27/60+D27) | G27: =IF(F27="","",F27/16) | H27: =IF(I27="","",I27) | I27: =IF(G27="", "", H27+G27)
F28: =IF(C28*E28/60+D28=0, "", C28*E28/60+D28) | G28: =IF(F28="","",F28/16) | H28: =IF(I28="","",I28) | I28: =IF(G28="", "", H28+G28)
F29: =IF(C29*E29/60+D29=0, "", C29*E29/60+D29) | G29: =IF(F29="","",F29/16) | H29: =IF(I29="","",I29) | I29: =IF(G29="", "", H29+G29)
F30: =IF(C30*E30/60+D30=0, "", C30*E30/60+D30) | G30: =IF(F30="","",F30/16) | H30: =IF(I30="","",I30) | I30: =IF(G30="", "", H30+G30)
F31: =IF(C31*E31/60+D31=0, "", C31*E31/60+D31) | G31: =IF(F31="","",F31/16) | H31: =IF(I31="","",I31) | I31: =IF(G31="", "", H31+G31)
F32: =IF(C32*E32/60+D32=0, "", C32*E32/60+D32) | G32: =IF(F32="","",F32/16) | H32: =IF(I32="","",I32) | I32: =IF(G32="", "", H32+G32)
F33: =IF(C33*E33/60+D33=0, "", C33*E33/60+D33) | G33: =IF(F33="","",F33/16) | H33: =IF(I33="","",I33) | I33: =IF(G33="", "", H33+G33)
F34: =IF(C34*E34/60+D34=0, "", C34*E34/60+D34) | G34: =IF(F34="","",F34/16)
A35: DMU50 N°48 | F35: =IF(C35*E35/60+D35=0, "", C35*E35/60+D35) | G35: =IF(F35="","",F35/16) | H35: =$I$1 -> 42485.208 | I35: =IF(G35="", "", H35+G35)
F36: =IF(C36*E36/60+D36=0, "", C36*E36/60+D36) | G36: =IF(F36="","",F36/16) | H36: =IF(I36="","",I36) | I36: =IF(G36="", "", H36+G36)
F37: =IF(C37*E37/60+D37=0, "", C37*E37/60+D37) | G37: =IF(F37="","",F37/16) | H37: =IF(I37="","",I37) | I37: =IF(G37="", "", H37+G37)
F38: =IF(C38*E38/60+D38=0, "", C38*E38/60+D38) | G38: =IF(F38="","",F38/16) | H38: =IF(I38="","",I38) | I38: =IF(G38="", "", H38+G38)
F39: =IF(C39*E39/60+D39=0, "", C39*E39/60+D39) | G39: =IF(F39="","",F39/16) | H39: =IF(I39="","",I39) | I39: =IF(G39="", "", H39+G39)
F40: =IF(C40*E40/60+D40=0, "", C40*E40/60+D40) | G40: =IF(F40="","",F40/16) | H40: =IF(I40="","",I40) | I40: =IF(G40="", "", H40+G40)
F41: =IF(C41*E41/60+D41=0, "", C41*E41/60+D41) | G41: =IF(F41="","",F41/16) | H41: =IF(I41="","",I41) | I41: =IF(G41="", "", H41+G41)
F42: =IF(C42*E42/60+D42=0, "", C42*E42/60+D42) | G42: =IF(F42="","",F42/16) | H42: =IF(I42="","",I42) | I42: =IF(G42="", "", H42+G42)
...

Sheet Gantt
E1: =+'Feuille de calcul'!I1 -> 42485.208 | V1: =E1+1 -> 42486.208 | AM1: =V1+1 -> 42487.208 | BD1: =AM1+1 -> 42488.208 | BU1: =BD1+1 -> 42489.208
E2: =E1 -> 42485.208 | V2: =V1 -> 42486.208 | AM2: =AM1 -> 42487.208 | BD2: =BD1 -> 42488.208 | BU2: =BU1 -> 42489.208
E3: 05h | M3: 13h | T3: 21h | V3: 05h | AD3: 13h | AK3: 21h | AM3: 05h | AU3: 13h | BB3: 21h | BD3: 05h | BL3: 13h | BS3: 21h | BU3: 05h | CB3: 12h | CH3: 19h
A4: ='Feuille de calcul'!A5 -> DMC635 V | C4: Date de début | D4: Date de fin
B5: =IF('Feuille de calcul'!B5=0,"",'Feuille de calcul'!B5) -> 223737 | C5: =IF('Feuille de calcul'!H5=0,"",'Feuille de calcul'!H5) -> 42485.208 | D5: =IF('Feuille de calcul'!I5=0,"",'Feuille de calcul'!I5) -> 42485.938
B6: =IF('Feuille de calcul'!B6=0,"",'Feuille de calcul'!B6) -> 223756 | C6: =IF('Feuille de calcul'!H6=0,"",'Feuille de calcul'!H6) -> 42485.938 | D6: =IF('Feuille de calcul'!I6=0,"",'Feuille de calcul'!I6) -> 42486.979
B7: =IF('Feuille de calcul'!B7=0,"",'Feuille de calcul'!B7) | C7: =IF('Feuille de calcul'!H7=0,"",'Feuille de calcul'!H7) -> 42486.979 | D7: =IF('Feuille de calcul'!I7=0,"",'Feuille de calcul'!I7)
B8: =IF('Feuille de calcul'!B8=0,"",'Feuille de calcul'!B8) | C8: =IF('Feuille de calcul'!H8=0,"",'Feuille de calcul'!H8) | D8: =IF('Feuille de calcul'!I8=0,"",'Feuille de calcul'!I8)
B9: =IF('Feuille de calcul'!B9=0,"",'Feuille de calcul'!B9) | C9: =IF('Feuille de calcul'!H9=0,"",'Feuille de calcul'!H9) | D9: =IF('Feuille de calcul'!I9=0,"",'Feuille de calcul'!I9)
B10: =IF('Feuille de calcul'!B10=0,"",'Feuille de calcul'!B10) | C10: =IF('Feuille de calcul'!H10=0,"",'Feuille de calcul'!H10) | D10: =IF('Feuille de calcul'!I10=0,"",'Feuille de calcul'!I10)
B11: =IF('Feuille de calcul'!B11=0,"",'Feuille de calcul'!B11) | C11: =IF('Feuille de calcul'!H11=0,"",'Feuille de calcul'!H11) | D11: =IF('Feuille de calcul'!I11=0,"",'Feuille de calcul'!I11)
B12: =IF('Feuille de calcul'!B12=0,"",'Feuille de calcul'!B12) | C12: =IF('Feuille de calcul'!H12=0,"",'Feuille de calcul'!H12) | D12: =IF('Feuille de calcul'!I12=0,"",'Feuille de calcul'!I12)
B13: =IF('Feuille de calcul'!B13=0,"",'Feuille de calcul'!B13) | C13: =IF('Feuille de calcul'!H13=0,"",'Feuille de calcul'!H13) | D13: =IF('Feuille de calcul'!I13=0,"",'Feuille de calcul'!I13)
A15: ='Feuille de calcul'!A15 -> Milltap 700 | C15: Date de début | D15: Date de fin
B16: =IF('Feuille de calcul'!B15=0,"",'Feuille de calcul'!B15) | C16: =IF('Feuille de calcul'!H15=0,"",'Feuille de calcul'!H15) -> 42485.208 | D16: =IF('Feuille de calcul'!I15=0,"",'Feuille de calcul'!I15)
B17: =IF('Feuille de calcul'!B16=0,"",'Feuille de calcul'!B16) | C17: =IF('Feuille de calcul'!H16=0,"",'Feuille de calcul'!H16) | D17: =IF('Feuille de calcul'!I16=0,"",'Feuille de calcul'!I16)
B18: =IF('Feuille de calcul'!B17=0,"",'Feuille de calcul'!B17) | C18: =IF('Feuille de calcul'!H17=0,"",'Feuille de calcul'!H17) | D18: =IF('Feuille de calcul'!I17=0,"",'Feuille de calcul'!I17)
B19: =IF('Feuille de calcul'!B18=0,"",'Feuille de calcul'!B18) | C19: =IF('Feuille de calcul'!H18=0,"",'Feuille de calcul'!H18) | D19: =IF('Feuille de calcul'!I18=0,"",'Feuille de calcul'!I18)
B20: =IF('Feuille de calcul'!B19=0,"",'Feuille de calcul'!B19) | C20: =IF('Feuille de calcul'!H19=0,"",'Feuille de calcul'!H19) | D20: =IF('Feuille de calcul'!I19=0,"",'Feuille de calcul'!I19)
B21: =IF('Feuille de calcul'!B20=0,"",'Feuille de calcul'!B20) | C21: =IF('Feuille de calcul'!H20=0,"",'Feuille de calcul'!H20) | D21: =IF('Feuille de calcul'!I20=0,"",'Feuille de calcul'!I20)
B22: =IF('Feuille de calcul'!B21=0,"",'Feuille de calcul'!B21) | C22: =IF('Feuille de calcul'!H21=0,"",'Feuille de calcul'!H21) | D22: =IF('Feuille de calcul'!I21=0,"",'Feuille de calcul'!I21)
B23: =IF('Feuille de calcul'!B22=0,"",'Feuille de calcul'!B22) | C23: =IF('Feuille de calcul'!H22=0,"",'Feuille de calcul'!H22) | D23: =IF('Feuille de calcul'!I22=0,"",'Feuille de calcul'!I22)
B24: =IF('Feuille de calcul'!B23=0,"",'Feuille de calcul'!B23) | C24: =IF('Feuille de calcul'!H23=0,"",'Feuille de calcul'!H23) | D24: =IF('Feuille de calcul'!I23=0,"",'Feuille de calcul'!I23)
A26: ='Feuille de calcul'!A25 -> DMU50 N°47 | C26: Date de début | D26: Date de fin
B27: =IF('Feuille de calcul'!B25=0,"",'Feuille de calcul'!B25) | C27: =IF('Feuille de calcul'!H25=0,"",'Feuille de calcul'!H25) -> 42485.208 | D27: =IF('Feuille de calcul'!I25=0,"",'Feuille de calcul'!I25)
B28: =IF('Feuille de calcul'!B26=0,"",'Feuille de calcul'!B26) | C28: =IF('Feuille de calcul'!H26=0,"",'Feuille de calcul'!H26) | D28: =IF('Feuille de calcul'!I26=0,"",'Feuille de calcul'!I26)
B29: =IF('Feuille de calcul'!B27=0,"",'Feuille de calcul'!B27) | C29: =IF('Feuille de calcul'!H27=0,"",'Feuille de calcul'!H27) | D29: =IF('Feuille de calcul'!I27=0,"",'Feuille de calcul'!I27)
B30: =IF('Feuille de calcul'!B28=0,"",'Feuille de calcul'!B28) | C30: =IF('Feuille de calcul'!H28=0,"",'Feuille de calcul'!H28) | D30: =IF('Feuille de calcul'!I28=0,"",'Feuille de calcul'!I28)
B31: =IF('Feuille de calcul'!B29=0,"",'Feuille de calcul'!B29) | C31: =IF('Feuille de calcul'!H29=0,"",'Feuille de calcul'!H29) | D31: =IF('Feuille de calcul'!I29=0,"",'Feuille de calcul'!I29)
B32: =IF('Feuille de calcul'!B30=0,"",'Feuille de calcul'!B30) | C32: =IF('Feuille de calcul'!H30=0,"",'Feuille de calcul'!H30) | D32: =IF('Feuille de calcul'!I30=0,"",'Feuille de calcul'!I30)
B33: =IF('Feuille de calcul'!B31=0,"",'Feuille de calcul'!B31) | C33: =IF('Feuille de calcul'!H31=0,"",'Feuille de calcul'!H31) | D33: =IF('Feuille de calcul'!I31=0,"",'Feuille de calcul'!I31)
B34: =IF('Feuille de calcul'!B32=0,"",'Feuille de calcul'!B32) | C34: =IF('Feuille de calcul'!H32=0,"",'Feuille de calcul'!H32) | D34: =IF('Feuille de calcul'!I32=0,"",'Feuille de calcul'!I32)
B35: =IF('Feuille de calcul'!B33=0,"",'Feuille de calcul'!B33) | C35: =IF('Feuille de calcul'!H33=0,"",'Feuille de calcul'!H33) | D35: =IF('Feuille de calcul'!I33=0,"",'Feuille de calcul'!I33)
A37: ='Feuille de calcul'!A35 -> DMU50 N°48 | C37: Date de début | D37: Date de fin
B38: =IF('Feuille de calcul'!B35=0,"",'Feuille de calcul'!B35) | C38: =IF('Feuille de calcul'!H35=0,"",'Feuille de calcul'!H35) -> 42485.208 | D38: =IF('Feuille de calcul'!I35=0,"",'Feuille de calcul'!I35)
B39: =IF('Feuille de calcul'!B36=0,"",'Feuille de calcul'!B36) | C39: =IF('Feuille de calcul'!H36=0,"",'Feuille de calcul'!H36) | D39: =IF('Feuille de calcul'!I36=0,"",'Feuille de calcul'!I36)
B40: =IF('Feuille de calcul'!B37=0,"",'Feuille de calcul'!B37) | C40: =IF('Feuille de calcul'!H37=0,"",'Feuille de calcul'!H37) | D40: =IF('Feuille de calcul'!I37=0,"",'Feuille de calcul'!I37)
B41: =IF('Feuille de calcul'!B38=0,"",'Feuille de calcul'!B38) | C41: =IF('Feuille de calcul'!H38=0,"",'Feuille de calcul'!H38) | D41: =IF('Feuille de calcul'!I38=0,"",'Feuille de calcul'!I38)
B42: =IF('Feuille de calcul'!B39=0,"",'Feuille de calcul'!B39) | C42: =IF('Feuille de calcul'!H39=0,"",'Feuille de calcul'!H39) | D42: =IF('Feuille de calcul'!I39=0,"",'Feuille de calcul'!I39)
B43: =IF('Feuille de calcul'!B40=0,"",'Feuille de calcul'!B40) | C43: =IF('Feuille de calcul'!H40=0,"",'Feuille de calcul'!H40) | D43: =IF('Feuille de calcul'!I40=0,"",'Feuille de calcul'!I40)
...
