Workbook
Name Assemblage: Feuil2!$B$1:$M$8
Name cout: Feuil1!$A$2:$E$12

Sheet Feuil1
A1: Reference/Tache | B1: Usinage | C1: découpe | D1: montage | E1: assemblage
A2: A | B2: =HLOOKUP(A2,Feuil2!$B$1:$E$6,3,0) -> 1 | C2: =HLOOKUP(B2,Feuil2!$B$1:$E$6,3,0) -> #N/A | D2: =HLOOKUP(C2,Feuil2!$B$1:$E$6,3,0) -> #N/A | E2: =HLOOKUP(D2,Feuil2!$B$1:$E$6,3,0) -> #N/A
A3: B | B3: =HLOOKUP(A3,Feuil2!$B$1:$E$6,3,0) -> 0 | E3: =HLOOKUP(A3,Assemblage,8,0) -> 0
A4: C | B4: =HLOOKUP(A4,Feuil2!$B$1:$E$6,3,0) -> 1 | E4: =HLOOKUP(A4,Assemblage,8,0) -> 0
A5: D | B5: =HLOOKUP(A5,Feuil2!$B$1:$E$6,3,0) -> #N/A | E5: =HLOOKUP(A5,Assemblage,8,0) -> 0
A6: E | B6: =HLOOKUP(A6,Feuil2!$B$1:$E$6,3,0) -> #N/A | E6: =HLOOKUP(A6,Assemblage,8,0) -> 0
A7: F | B7: =HLOOKUP(A7,Feuil2!$B$1:$E$6,3,0) -> #N/A | E7: =HLOOKUP(A7,Assemblage,8,0) -> 0
A8: G | B8: =HLOOKUP(A8,Feuil2!$B$1:$E$6,3,0) -> #N/A | E8: =HLOOKUP(A8,Assemblage,8,0) -> 0
A9: H | B9: =HLOOKUP(A9,Feuil2!$B$1:$E$6,3,0) -> #N/A | E9: =HLOOKUP(A9,Assemblage,8,0) -> 0
A10: I | B10: =HLOOKUP(A10,Feuil2!$B$1:$E$6,3,0) -> #N/A | E10: =HLOOKUP(A10,Assemblage,8,0) -> 0
A11: J | B11: =HLOOKUP(A11,Feuil2!$B$1:$E$6,3,0) -> #N/A | E11: =HLOOKUP(A11,Assemblage,8,0) -> 0
A12: K | E12: =HLOOKUP(A12,Assemblage,8,0) -> 0

Sheet Feuil2
B1: Reference/Tache | C1: A | D1: B | E1: C | F1: D | G1: E | H1: F | I1: G | J1: H | K1: I | L1: J | M1: K
A3: Assemblage | B3: Usinage | C3: 1 | D3: 0 | E3: 1 | F3: 1 | G3: 2 | H3: 3 | I3: 4 | J3: 5 | K3: 6 | L3: 7 | M3: 8
B4: Decoupe | C4: 6 | D4: 0 | E4: 2
B5: Montage | C5: 7 | D5: 5 | E5: 3
B6: ASSEMBLage | C6: 8 | D6: 2 | E6: 4
