Workbook

Sheet Feuil4
A1: Zénith Saint-Pétersbourg
A2: Djurgardens IF
A3: IFK Göteborg
A4: Åtvidabergs FF
A5: Halmstads BK
A6: Konyaspor
A7: Esbjerg
A8: FC Trollhattan
A9: FC Kaiserslautern
A10: Spezia
A11: Amiens SC
A12: Bury
... A122: Cultural Leonesa

Sheet Feuil5
A1: 23:00 Chiapas - Veracruz 1:1 | B1: 0:1)
A2: 02:15 Houston - Toronto 1:1 | B2: 1:1)
A3: 00:00 Seattle - Salt Lake 2:1 | B3: 2:0)
A4: 15:30 Gazovik Orenburg - Amkar 0:0 | B4: 0:0)
A5: 16:30 Helsinki - Kuopion 2:3 | B5: 1:0)
A6: 17:30 Blau-Weiss Linz - Autriche Lustenau 1:1 | B6: 1:1)
A7: 18:00 Aalborg - Esbjerg 2:1 | B7: 2:1)
A8: 17:00 Wisla Plock - Jagellonia 1:0 | B8: 1:0)
A9: 18:00 Kristiansund - Sandnes 2:3 | B9: 2:1)
A10: 18:00 Trelleborg - Atvidaberg 5:2 | B10: 2:1)
A11: 18:00 Varnamo - Angelholms 1:1 | B11: 0:1)
A12: 19:00 Jong Utrecht - Dordrecht 1:1 | B12: 1:1)
... A24: 20:00 Cagliari - Spal 2013 5:1 | B24: 3:0)

Sheet Feuil1
A1: =Feuil4!A1 -> Zénith Saint-Pétersbourg | B1: =IFERROR(INDEX($E$3:$E$2101,MATCH(A1,$F$3:$F$2950,0)),"") -> Zenit St. Petersburg | E1: Manchester United | F1: Manchester United | G1: Manchester United | H1: Superligaen - Danemark | I1: 0.75 | K1: FC Nordsjælland | L1: NORDSJAELLAND
A2: =Feuil4!A2 -> Djurgardens IF | B2: =IFERROR(INDEX($E$3:$E$2101,MATCH(A2,$F$3:$F$2950,0)),"") -> Djurgardens | E2: Stoke City | F2: Stoke City | G2: Stoke City | H2: Superligaen - Danemark | I2: 0.84375 | K2: KSV 1919 | L2: KAPFENBERG
A3: =Feuil4!A3 -> IFK Göteborg | B3: =IFERROR(INDEX($E$3:$E$2101,MATCH(A3,$F$3:$F$2950,0)),"") -> IFK Goteborg | E3: Swansea City | F3: Swansea City | G3: Swansea City | H3: Erste Liga - Autriche | I3: 0.77083333 | K3: Duisbourg | L3: DUISBURG
A4: =Feuil4!A4 -> Åtvidabergs FF | B4: =IFERROR(INDEX($E$3:$E$2101,MATCH(A4,$F$3:$F$2950,0)),"") -> Atvidabergs | E4: Tottenham Hotspur | F4: Tottenham | G4: Tottenham Hotspur | H4: Erste Liga - Autriche | I4: 0.77083333 | K4: RasenBallsport Leipzig | L4: RB LEIPZIG
A5: =Feuil4!A5 -> Halmstads BK | B5: =IFERROR(INDEX($E$3:$E$2101,MATCH(A5,$F$3:$F$2950,0)),"") -> Halmstads | E5: Watford | F5: Watford | G5: Watford | H5: 2e Bundesliga - Allemagne | I5: 0.64583333 | K5: Floridsdorfer AC | L5: FAC TEAM FUR WIEN
A6: =Feuil4!A6 -> Konyaspor | B6: =IFERROR(INDEX($E$3:$E$2101,MATCH(A6,$F$3:$F$2950,0)),"") -> Konyaspor | E6: West Bromwich(WBA) | F6: West Bromwich | G6: West Bromwich(WBA) | H6: 2e Bundesliga - Allemagne | I6: 0.64583333 | K6: Östersunds FK | L6: OSTERSUNDS
A7: =Feuil4!A7 -> Esbjerg | B7: =IFERROR(INDEX($E$3:$E$2101,MATCH(A7,$F$3:$F$2950,0)),"") -> Esbjerg | E7: Burnley | F7: Burnley | G7: Burnley | H7: Ligue 2 - France | I7: 0.625 | K7: US Créteil-Lusitanos | L7: CRETEIL
A8: =Feuil4!A8 -> FC Trollhattan | B8: =IFERROR(INDEX($E$3:$E$2101,MATCH(A8,$F$3:$F$2950,0)),"") | E8: Leicester City | F8: Leicester | G8: Leicester City | H8: Premier League - Russie | I8: 0.77083333 | K8: Bourg-Péronnas | L8: BOURG-PERONNAS
A9: =Feuil4!A9 -> FC Kaiserslautern | B9: =IFERROR(INDEX($E$3:$E$2101,MATCH(A9,$F$3:$F$2950,0)),"") | E9: Southampton | F9: Southampton | G9: Southampton | H9: League One - Angleterre | I9: 0.66666667 | K9: La Gantoise | L9: GENT
A10: =Feuil4!A10 -> Spezia | B10: =IFERROR(INDEX($E$3:$E$2101,MATCH(A10,$F$3:$F$2950,0)),"") -> Spezia | E10: Manchester City | F10: Manchester City | G10: Manchester City | H10: League One - Angleterre | I10: 0.66666667 | K10: Red Star FC 93 | L10: RED STAR PARIS
A11: =Feuil4!A11 -> Amiens SC | B11: =IFERROR(INDEX($E$3:$E$2101,MATCH(A11,$F$3:$F$2950,0)),"") -> Amiens | E11: Hull City | F11: Hull City | G11: Hull City | H11: League One - Angleterre | I11: 0.66666667 | K11: Hanovre 96 | L11: HANNOVER 96
A12: =Feuil4!A12 -> Bury | B12: =IFERROR(INDEX($E$3:$E$2101,MATCH(A12,$F$3:$F$2950,0)),"") -> Bury | E12: Crystal Palace | F12: Crystal Palace | G12: Crystal Palace | H12: Apertura - Meique | I12: 0.16666667 | K12: St. Patricks Athletic | L12: ST PATRICKS
... A44: =Feuil4!A44 -> Brescia | B44: =IFERROR(INDEX($E$3:$E$2101,MATCH(A44,$F$3:$F$2950,0)),"") -> Brescia | E44: Norwich City | F44: Norwich City | G44: Norwich City | H44: Veikkausliiga - Finlande | I44: 0.54166667 | K44: Morelia | L44: MONARCAS
A45: =Feuil4!A45 -> Frosinone | B45: =IFERROR(INDEX($E$3:$E$2101,MATCH(A45,$F$3:$F$2950,0)),"") -> Frosinone | H45: Veikkausliiga - Finlande | I45: 0.625 | K45: Jaguares Chiapas | L45: CHIAPAS
A46: =Feuil4!A46 -> Pisa | B46: =IFERROR(INDEX($E$3:$E$2101,MATCH(A46,$F$3:$F$2950,0)),"") -> Pisa | E46: Bolton Wanderers | F46: Bolton | G46: Bolton Wanderers | H46: Veikkausliiga - Finlande | I46: 0.625
A47: =Feuil4!A47 -> Perugia | B47: =IFERROR(INDEX($E$3:$E$2101,MATCH(A47,$F$3:$F$2950,0)),"") -> Perugia | E47: Bradford City | F47: Bradford City | G47: Bradford City | H47: 2e Bundesliga - Allemagne | I47: 0.54166667 | K47: FC Copenhague | L47: FC COPENHAGEN
A48: =Feuil4!A48 -> Pro Vercelli | B48: =IFERROR(INDEX($E$3:$E$2101,MATCH(A48,$F$3:$F$2950,0)),"") -> Pro Vercelli | E48: Bury | F48: Bury | G48: Bury | K48: Dynamo Moscou | L48: DINAMO MOSCOU
A49: =Feuil4!A49 -> Avellino | B49: =IFERROR(INDEX($E$3:$E$2101,MATCH(A49,$F$3:$F$2950,0)),"") -> Avellino | E49: Millwall | F49: Millwall | G49: Millwall | K49: Kuban Krasnodar | L49: KUBAN
A50: =Feuil4!A50 -> Lokeren | B50: =IFERROR(INDEX($E$3:$E$2101,MATCH(A50,$F$3:$F$2950,0)),"") -> Lokeren | E50: Northampton Town | F50: Northampton Town | G50: Northampton Town | H50: Premiership - Écosse | I50: 0.5625 | K50: FC St Gall | L50: ST GALLEN
A51: =Feuil4!A51 -> Genoa CFC | B51: =IFERROR(INDEX($E$3:$E$2101,MATCH(A51,$F$3:$F$2950,0)),"") -> Genoa | E51: Oxford United | F51: Oxford United | G51: Oxford United | H51: Premiership - Écosse | I51: 0.66666667 | K51: Stade Rennais | L51: RENNES
A52: =Feuil4!A52 -> Hamilton Academical | B52: =IFERROR(INDEX($E$3:$E$2101,MATCH(A52,$F$3:$F$2950,0)),"") -> Hamilton Academical | E52: Rochdale | F52: Rochdale | G52: Rochdale | H52: Premiership - Écosse | I52: 0.66666667 | K52: AS Monaco | L52: MONACO
A53: =Feuil4!A53 -> Bristol City | B53: =IFERROR(INDEX($E$3:$E$2101,MATCH(A53,$F$3:$F$2950,0)),"") -> Bristol City | E53: Scunthorpe United | F53: Scunthorpe United | G53: Scunthorpe United | H53: Premiership - Écosse | I53: 0.66666667 | K53: Arsenal | L53: ARSENAL
A54: =Feuil4!A54 -> Arsenal | B54: =IFERROR(INDEX($E$3:$E$2101,MATCH(A54,$F$3:$F$2950,0)),"") -> Arsenal | E54: Shrewsbury Town | F54: Shrewsbury Town | G54: Shrewsbury Town | K54: SBV Excelsior | L54: EXCELSIOR
A55: =Feuil4!A55 -> Liverpool | B55: =IFERROR(INDEX($E$3:$E$2101,MATCH(A55,$F$3:$F$2950,0)),"") -> Liverpool | E55: Southend United | F55: Southend United | G55: Southend United | H55: Tippeligaen - Norvège | I55: 0.64583333 | K55: Lazio Rome | L55: LAZIO
A56: =Feuil4!A56 -> Leeds | B56: =IFERROR(INDEX($E$3:$E$2101,MATCH(A56,$F$3:$F$2950,0)),"") -> Leeds United | E56: Swindon Town | F56: Swindon Town | G56: Swindon Town | H56: Allsvenskan - Suède | I56: 0.66666667 | K56: Sampdoria de Gênes | L56: SAMPDORIA
A57: =Feuil4!A57 -> Newcastle | B57: =IFERROR(INDEX($E$3:$E$2101,MATCH(A57,$F$3:$F$2950,0)),"") -> Newcastle United | E57: Walsall | F57: Walsall | G57: Walsall | H57: Allsvenskan - Suède | I57: 0.66666667 | K57: IFK Göteborg | L57: GOTHENBURG
A58: =Feuil4!A58 -> Newport County | B58: =IFERROR(INDEX($E$3:$E$2101,MATCH(A58,$F$3:$F$2950,0)),"") -> Newport County | E58: Fleetwood Town | F58: Fleetwood Town | G58: Fleetwood Town | H58: Superettan - Suède | I58: 0.66666667 | K58: Fenerbahçe | L58: FENERBAHCE
A59: =Feuil4!A59 -> St. Patricks Athletic | B59: =IFERROR(INDEX($E$3:$E$2101,MATCH(A59,$F$3:$F$2950,0)),"") -> St. Patricks Athletic | E59: Coventry City | F59: Coventry City | G59: Coventry City | H59: Bundesliga - Autriche | I59: 0.66666667 | K59: FSV Mayence | L59: MAINZ 05
A60: =Feuil4!A60 -> Oeste | B60: =IFERROR(INDEX($E$3:$E$2101,MATCH(A60,$F$3:$F$2950,0)),"") -> Oeste | E60: Oldham Athletic | F60: Oldham Athletic | G60: Oldham Athletic | H60: Bundesliga - Autriche | I60: 0.77083333 | K60: Bodø Glimt | L60: BODO GLIMT
A61: =Feuil4!A61 -> Sampaio Correa | B61: =IFERROR(INDEX($E$3:$E$2101,MATCH(A61,$F$3:$F$2950,0)),"") -> Sampaio Correa | E61: Sheffield United | F61: Sheffield United | G61: Sheffield United | H61: Bundesliga - Autriche | I61: 0.77083333 | K61: Valerenga | L61: VALERENGA
A62: =Feuil4!A62 -> Goias | B62: =IFERROR(INDEX($E$3:$E$2101,MATCH(A62,$F$3:$F$2950,0)),"") | E62: AFC Wimbledon | F62: AFC Wimbledon | G62: AFC Wimbledon | H62: Bundesliga - Autriche | I62: 0.77083333 | K62: FC Séville | L62: SEVILLE
A63: =Feuil4!A63 -> Ebreichsdorf | B63: =IFERROR(INDEX($E$3:$E$2101,MATCH(A63,$F$3:$F$2950,0)),"") | E63: Peterborough United | F63: Peterborough United | G63: Peterborough United | H63: Premier League - Russie | I63: 0.66666667 | K63: Sarpsborg 08 | L63: RAPID VIENNA
A64: =Feuil4!A64 -> Red Bull Salzbourg | B64: =IFERROR(INDEX($E$3:$E$2101,MATCH(A64,$F$3:$F$2950,0)),"") -> Red Bull Salzburg | E64: Milton Keynes Dons | F64: Milton Keynes Dons | G64: Milton Keynes Dons | K64: Rapid Vienne | L64: RAPID VIENNA
A65: =Feuil4!A65 -> SKN St. Poelten | B65: =IFERROR(INDEX($E$3:$E$2101,MATCH(A65,$F$3:$F$2950,0)),"") -> SKN St. Polten | E65: Gillingham | F65: Gillingham | G65: Gillingham | H65: Championship - Angleterre | I65: 0.66666667 | K65: Real Majorque | L65: MALLORCA
A66: =Feuil4!A66 -> FC BW Linz | B66: =IFERROR(INDEX($E$3:$E$2101,MATCH(A66,$F$3:$F$2950,0)),"") -> FC Blau Weiss Linz | E66: Chesterfield | F66: Chesterfield | G66: Chesterfield | H66: Championship - Angleterre | I66: 0.66666667 | K66: Uniao de Madeira | L66: UNIAO MADEIRA
A67: =Feuil4!A67 -> Vizela | B67: =IFERROR(INDEX($E$3:$E$2101,MATCH(A67,$F$3:$F$2950,0)),"") | E67: Bristol Rovers | F67: Bristol Rovers | G67: Bristol Rovers | H67: Championship - Angleterre | I67: 0.66666667 | K67: Mouscron-Péruwelz | L67: MOUSCRON-PERUWELZ
A68: =Feuil4!A68 -> Vitoria Setubal | B68: =IFERROR(INDEX($E$3:$E$2101,MATCH(A68,$F$3:$F$2950,0)),"") -> Vitoria Setubal | E68: Port Vale | F68: Port Vale | G68: Port Vale | H68: Championship - Angleterre | I68: 0.66666667 | K68: Club Atlético Temperley | L68: ATL TEMPERLEY
A69: =Feuil4!A69 -> Penafiel | B69: =IFERROR(INDEX($E$3:$E$2101,MATCH(A69,$F$3:$F$2950,0)),"") | E69: Charlton Athletic | F69: Charlton | G69: Charlton Athletic | H69: Championship - Angleterre | I69: 0.66666667 | K69: San Martin San Juan | L69: SAN MARTIN SJ
A70: =Feuil4!A70 -> Varzim | B70: =IFERROR(INDEX($E$3:$E$2101,MATCH(A70,$F$3:$F$2950,0)),"") | H70: Championship - Angleterre | I70: 0.66666667 | K70: Audax Sao Paulo Esporte Clube | L70: AUDAX SP
A71: =Feuil4!A71 -> Maritimo Funchal | B71: =IFERROR(INDEX($E$3:$E$2101,MATCH(A71,$F$3:$F$2950,0)),"") -> Maritimo Funchal | E71: Accrington Stanley | F71: Accrington Stanley | G71: Accrington Stanley | H71: Championship - Angleterre | I71: 0.66666667 | K71: FC Liefering | L71: FC Liefering
...

Sheet Feuil7
A1: =Feuil5!A1 -> 23:00 Chiapas - Veracruz 1:1 | B1: =Feuil5!B1 -> 0:1) | C1: Spezia | D1: Cittadella[2] | E1: 1 - 1 | F1: 0 - 1 | H1: =C1 -> Spezia | I1: =E1 -> 1 - 1 | J1: =D1 -> Cittadella[2] | K1: =F1 -> 0 - 1
A2: =Feuil5!A2 -> 02:15 Houston - Toronto 1:1 | B2: =Feuil5!B2 -> 1:1) | C2: Kaiserslautern | D2: VfL Bochum[11] | E2: 3 - 0 | F2: 1 - 0 | H2: =C2 -> Kaiserslautern | I2: =E2 -> 3 - 0 | J2: =D2 -> VfL Bochum[11] | K2: =F2 -> 1 - 0
A3: =Feuil5!A3 -> 00:00 Seattle - Salt Lake 2:1 | B3: =Feuil5!B3 -> 2:0) | C3: Amiens | D3: Red Star FC 93[16] | E3: 0 - 0 | F3: 0 - 0 | H3: =C3 -> Amiens | I3: =E3 -> 0 - 0 | J3: =D3 -> Red Star FC 93[16] | K3: =F3 -> 0 - 0
A4: =Feuil5!A4 -> 15:30 Gazovik Orenburg - Amkar 0:0 | B4: =Feuil5!B4 -> 0:0) | C4: Sporting Braga | D4: GD Chaves[6] | E4: 1 - 0 | F4: 0 - 0 | H4: =C4 -> Sporting Braga | I4: =E4 -> 1 - 0 | J4: =D4 -> GD Chaves[6] | K4: =F4 -> 0 - 0
A5: =Feuil5!A5 -> 16:30 Helsinki - Kuopion 2:3 | B5: =Feuil5!B5 -> 1:0) | C5: Zenit St. Petersburg | D5: Gazovik Orenburg[15] | E5: 1 - 0 | F5: 1 - 0 | H5: =C5 -> Zenit St. Petersburg | I5: =E5 -> 1 - 0 | J5: =D5 -> Gazovik Orenburg[15] | K5: =F5 -> 1 - 0
A6: =Feuil5!A6 -> 17:30 Blau-Weiss Linz - Autriche Lustenau 1:1 | B6: =Feuil5!B6 -> 1:1) | C6: Veria FC | D6: Panathinaikos[4] | E6: 1 - 1 | F6: 0 - 1 | H6: =C6 -> Veria FC | I6: =E6 -> 1 - 1 | J6: =D6 -> Panathinaikos[4] | K6: =F6 -> 0 - 1
A7: =Feuil5!A7 -> 18:00 Aalborg - Esbjerg 2:1 | B7: =Feuil5!B7 -> 2:1) | C7: IFK Goteborg | D7: AIK Solna[3] | E7: 1 - 0 | F7: 1 - 0 | H7: =C7 -> IFK Goteborg | I7: =E7 -> 1 - 0 | J7: =D7 -> AIK Solna[3] | K7: =F7 -> 1 - 0
A8: =Feuil5!A8 -> 17:00 Wisla Plock - Jagellonia 1:0 | B8: =Feuil5!B8 -> 1:0) | C8: Djurgardens | D8: Jonkopings Sodra[12] | E8: 0 - 2 | F8: 0 - 1 | H8: =C8 -> Djurgardens | I8: =E8 -> 0 - 2 | J8: =D8 -> Jonkopings Sodra[12] | K8: =F8 -> 0 - 1
A9: =Feuil5!A9 -> 18:00 Kristiansund - Sandnes 2:3 | B9: =Feuil5!B9 -> 2:1) | C9: America MG | D9: Atletico Paranaense[7] | E9: 1 - 0 | F9: 0 - 0 | H9: =C9 -> America MG | I9: =E9 -> 1 - 0 | J9: =D9 -> Atletico Paranaense[7] | K9: =F9 -> 0 - 0
A10: =Feuil5!A10 -> 18:00 Trelleborg - Atvidaberg 5:2 | B10: =Feuil5!B10 -> 2:1) | C10: Bury | D10: Bolton Wanderers[4] | E10: 0 - 2 | F10: 0 - 1 | H10: =C10 -> Bury | I10: =E10 -> 0 - 2 | J10: =D10 -> Bolton Wanderers[4] | K10: =F10 -> 0 - 1
A11: =Feuil5!A11 -> 18:00 Varnamo - Angelholms 1:1 | B11: =Feuil5!B11 -> 0:1) | C11: Curzon Ashton FC | D11: Chorley FC[3] | E11: 1 - 1 | F11: 1 - 1 | H11: =C11 -> Curzon Ashton FC | I11: =E11 -> 1 - 1 | J11: =D11 -> Chorley FC[3] | K11: =F11 -> 1 - 1
A12: =Feuil5!A12 -> 19:00 Jong Utrecht - Dordrecht 1:1 | B12: =Feuil5!B12 -> 1:1) | C12: Kingstonian | D12: Worthing[12] | E12: 1 - 3 | F12: 0 - 1 | H12: =C12 -> Kingstonian | I12: =E12 -> 1 - 3 | J12: =D12 -> Worthing[12] | K12: =F12 -> 0 - 1
... A98: =Feuil5!A98 -> 0 | B98: =Feuil5!B98 -> 0 | C98: NK Novigrad | D98: Slaven Koprivnica[8] | E98: 0 - 1 | F98: 0 - 1 | H98: =C98 -> NK Novigrad | I98: =E98 -> 0 - 1 | J98: =D98 -> Slaven Koprivnica[8] | K98: =F98 -> 0 - 1
A99: =Feuil5!A99 -> 0 | B99: =Feuil5!B99 -> 0 | D99: Dinamo Zagreb[2] | E99: 1 - 2 | F99: 0 - 1 | H99: =C99 -> 0 | I99: =E99 -> 1 - 2 | J99: =D99 -> Dinamo Zagreb[2] | K99: =F99 -> 0 - 1
A100: =Feuil5!A100 -> 0 | B100: =Feuil5!B100 -> 0 | C100: Istra 1961 Pula | D100: NK Split[9] | E100: 1 - 1 | F100: 0 - 0 | H100: =C100 -> Istra 1961 Pula | I100: =E100 -> 1 - 1 | J100: =D100 -> NK Split[9] | K100: =F100 -> 0 - 0
A101: =Feuil5!A101 -> 0 | B101: =Feuil5!B101 -> 0 | D101: Steinkjer U19 | E101: 3 - 2 | F101: 0 - 1 | H101: =C101 -> 0 | I101: =E101 -> 3 - 2 | J101: =D101 -> Steinkjer U19 | K101: =F101 -> 0 - 1
A102: =Feuil5!A102 -> 0 | B102: =Feuil5!B102 -> 0 | C102: St. Patricks Athletic | D102: Dundalk[1] | E102: 5 - 2 | F102: 4 - 0 | H102: =C102 -> St. Patricks Athletic | I102: =E102 -> 5 - 2 | J102: =D102 -> Dundalk[1] | K102: =F102 -> 4 - 0
A103: =Feuil5!A103 -> 0 | B103: =Feuil5!B103 -> 0 | D103: SOROKSAR[4] | E103: 0 - 1 | F103: 0 - 1 | H103: =C103 -> 0 | I103: =E103 -> 0 - 1 | J103: =D103 -> SOROKSAR[4] | K103: =F103 -> 0 - 1
A104: =Feuil5!A104 -> 0 | B104: =Feuil5!B104 -> 0 | C104: Dunaujvaros Palhalma Agrospecial | D104: Szolnoki MAV FC[16] | E104: 2 - 3 | F104: 1 - 0 | H104: =C104 -> Dunaujvaros Palhalma Agrospecial | I104: =E104 -> 2 - 3 | J104: =D104 -> Szolnoki MAV FC[16] | K104: =F104 -> 1 - 0
A105: =Feuil5!A105 -> 0 | B105: =Feuil5!B105 -> 0 | C105: Csakvari TK | D105: Bekescsaba[6] | E105: 1 - 1 | F105: 1 - 0 | H105: =C105 -> Csakvari TK | I105: =E105 -> 1 - 1 | J105: =D105 -> Bekescsaba[6] | K105: =F105 -> 1 - 0
A106: =Feuil5!A106 -> 0 | B106: =Feuil5!B106 -> 0 | C106: AEL Kalloni | D106: Agrotikos Asteras[10] | E106: 1 - 2 | F106: 1 - 0 | H106: =C106 -> AEL Kalloni | I106: =E106 -> 1 - 2 | J106: =D106 -> Agrotikos Asteras[10] | K106: =F106 -> 1 - 0
A107: =Feuil5!A107 -> 0 | B107: =Feuil5!B107 -> 0 | C107: Aiginiakos FC | D107: Aris Thessaloniki[12] | E107: 0 - 3 | F107: 0 - 1 | H107: =C107 -> Aiginiakos FC | I107: =E107 -> 0 - 3 | J107: =D107 -> Aris Thessaloniki[12] | K107: =F107 -> 0 - 1
A108: =Feuil5!A108 -> 0 | B108: =Feuil5!B108 -> 0 | C108: Apollon Smirnis | D108: OFI Crete[14] | E108: 1 - 0 | F108: 0 - 0 | H108: =C108 -> Apollon Smirnis | I108: =E108 -> 1 - 0 | J108: =D108 -> OFI Crete[14] | K108: =F108 -> 0 - 0
A109: =Feuil5!A109 -> 0 | B109: =Feuil5!B109 -> 0 | C109: Panthrakikos | D109: Kallithea[7] | E109: 3 - 0 | F109: 1 - 0 | H109: =C109 -> Panthrakikos | I109: =E109 -> 3 - 0 | J109: =D109 -> Kallithea[7] | K109: =F109 -> 1 - 0
A110: =Feuil5!A110 -> 0 | B110: =Feuil5!B110 -> 0 | C110: AEK Athens | D110: Kerkyra[12] | E110: 4 - 0 | F110: 1 - 0 | H110: =C110 -> AEK Athens | I110: =E110 -> 4 - 0 | J110: =D110 -> Kerkyra[12] | K110: =F110 -> 1 - 0
A111: =Feuil5!A111 -> 0 | B111: =Feuil5!B111 -> 0 | C111: Pendikspor | D111: Genclerbirligi[8] | E111: 0 - 1 | F111: 0 - 1 | H111: =C111 -> Pendikspor | I111: =E111 -> 0 - 1 | J111: =D111 -> Genclerbirligi[8] | K111: =F111 -> 0 - 1
A112: =Feuil5!A112 -> 0 | B112: =Feuil5!B112 -> 0 | C112: Diyarbakir B.S.Diskispor | D112: Keciorengucu[1] | E112: 2 - 1 | F112: 2 - 0 | H112: =C112 -> Diyarbakir B.S.Diskispor | I112: =E112 -> 2 - 1 | J112: =D112 -> Keciorengucu[1] | K112: =F112 -> 2 - 0
A113: =Feuil5!A113 -> 0 | B113: =Feuil5!B113 -> 0 | C113: Bandirmaspor | D113: Sancaktepe Belediye Spor[A-1] | E113: 1 - 1 | F113: 1 - 1 | H113: =C113 -> Bandirmaspor | I113: =E113 -> 1 - 1 | J113: =D113 -> Sancaktepe Belediye Spor[A-1] | K113: =F113 -> 1 - 1
A114: =Feuil5!A114 -> 0 | B114: =Feuil5!B114 -> 0 | C114: Kizilcabolukspor | D114: Kocaelispor[7] | E114: 1 - 1 | F114: 1 - 1 | H114: =C114 -> Kizilcabolukspor | I114: =E114 -> 1 - 1 | J114: =D114 -> Kocaelispor[7] | K114: =F114 -> 1 - 1
A115: =Feuil5!A115 -> 0 | B115: =Feuil5!B115 -> 0 | C115: Erzincanspor | D115: Yeni Malatyaspor[1] | E115: 2 - 1 | F115: 2 - 1 | H115: =C115 -> Erzincanspor | I115: =E115 -> 2 - 1 | J115: =D115 -> Yeni Malatyaspor[1] | K115: =F115 -> 2 - 1
... A131: =Feuil5!A131 -> 0 | B131: =Feuil5!B131 -> 0 | C131: Sepsi | D131: CS Universitatea Craiova[2] | E131: 0 - 0 | F131: 0 - 0 | H131: =C131 -> Sepsi | I131: =E131 -> 0 - 0 | J131: =D131 -> CS Universitatea Craiova[2] | K131: =F131 -> 0 - 0
A132: =Feuil5!A132 -> 0 | B132: =Feuil5!B132 -> 0 | D132: Beitar Haifa Yaacov[11] | E132: 1 - 0 | F132: 0 - 0 | H132: =C132 -> 0 | I132: =E132 -> 1 - 0 | J132: =D132 -> Beitar Haifa Yaacov[11] | K132: =F132 -> 0 - 0
A133: =Feuil5!A133 -> 0 | B133: =Feuil5!B133 -> 0 | C133: Moadon Zeirey Rahat | D133: AS Nordia Jerusalem[1] | E133: 3 - 1 | F133: 0 - 1 | H133: =C133 -> Moadon Zeirey Rahat | I133: =E133 -> 3 - 1 | J133: =D133 -> AS Nordia Jerusalem[1] | K133: =F133 -> 0 - 1
A134: =Feuil5!A134 -> 0 | B134: =Feuil5!B134 -> 0 | D134: Ihud Bnei Kfar Kara | E134: 0 - 2 | F134: 0 - 1 | H134: =C134 -> 0 | I134: =E134 -> 0 - 2 | J134: =D134 -> Ihud Bnei Kfar Kara | K134: =F134 -> 0 - 1
A135: =Feuil5!A135 -> 0 | B135: =Feuil5!B135 -> 0 | C135: AS Holon Mor | D135: Hapoel Ihud Bnei Gat[26] | E135: 3 - 2 | F135: 2 - 2 | H135: =C135 -> AS Holon Mor | I135: =E135 -> 3 - 2 | J135: =D135 -> Hapoel Ihud Bnei Gat[26] | K135: =F135 -> 2 - 2
A136: =Feuil5!A136 -> 0 | B136: =Feuil5!B136 -> 0 | C136: Domzale | D136: Krsko Posavlje[8] | E136: 2 - 1 | F136: 1 - 0 | H136: =C136 -> Domzale | I136: =E136 -> 2 - 1 | J136: =D136 -> Krsko Posavlje[8] | K136: =F136 -> 1 - 0
A137: =Feuil5!A137 -> 0 | B137: =Feuil5!B137 -> 0 | C137: Dynamo Dresden | D137: Arminia Bielefeld[17] | E137: 0 - 1 | F137: 0 - 0 | H137: =C137 -> Dynamo Dresden | I137: =E137 -> 0 - 1 | J137: =D137 -> Arminia Bielefeld[17] | K137: =F137 -> 0 - 0
A138: =Feuil5!A138 -> 0 | B138: =Feuil5!B138 -> 0 | C138: SC Freiburg | D138: SV Sandhausen[9] | E138: 3 - 3 | F138: 1 - 1 | H138: =C138 -> SC Freiburg | I138: =E138 -> 3 - 3 | J138: =D138 -> SV Sandhausen[9] | K138: =F138 -> 1 - 1
A139: =Feuil5!A139 -> 0 | B139: =Feuil5!B139 -> 0 | C139: Sportfreunde Lotte | D139: Bayer Leverkusen[11] | E139: 1 - 1 | F139: 0 - 1 | H139: =C139 -> Sportfreunde Lotte | I139: =E139 -> 1 - 1 | J139: =D139 -> Bayer Leverkusen[11] | K139: =F139 -> 0 - 1
A140: =Feuil5!A140 -> 0 | B140: =Feuil5!B140 -> 0 | C140: Wurzburger Kickers | D140: TSV 1860 Munchen[16] | E140: 0 - 0 | F140: 0 - 0 | H140: =C140 -> Wurzburger Kickers | I140: =E140 -> 0 - 0 | J140: =D140 -> TSV 1860 Munchen[16] | K140: =F140 -> 0 - 0
...

Sheet Feuil2
A1: =Feuil1!B1 -> Zenit St. Petersburg | B1: =IFERROR(INDEX(E$1:E$338,MATCH(TRUE,ISNUMBER(SEARCH(E$1:E$338,A1)),0)),"") | C1: {=IFERROR(INDEX(F$1:F$338,MATCH(TRUE,ISNUMBER(SEARCH(E$1:E$338,A1)),0)),"")} -> 1 - 0 | D1: {=IFERROR(INDEX(H$1:H$338,MATCH(TRUE,ISNUMBER(SEARCH(E$1:E$338,A1)),0)),"")} -> 1 - 0 | E1: =Feuil7!H1 -> Spezia | F1: =Feuil7!E1 -> 1 - 1 | G1: =Feuil7!J1 -> Cittadella[2] | H1: =Feuil7!F1 -> 0 - 1 | I1: =Feuil7!H6 -> Veria FC | J1: =Feuil7!K1 -> 0 - 1 | K1: =Feuil7!J1 -> Cittadella[2] | M1: =B1 | N1: =C1 -> 1 - 0 | O1: =D1 -> 1 - 0
A2: =Feuil1!B2 -> Djurgardens | B2: {=IFERROR(INDEX(E$1:E$338,MATCH(TRUE,ISNUMBER(SEARCH(E$1:E$338,A2)),0)),"")} -> Djurgardens | C2: {=IFERROR(INDEX(F$1:F$338,MATCH(TRUE,ISNUMBER(SEARCH(E$1:E$338,A2)),0)),"")} -> 0 - 2 | D2: {=IFERROR(INDEX(H$1:H$338,MATCH(TRUE,ISNUMBER(SEARCH(E$1:E$338,A2)),0)),"")} -> 0 - 1 | E2: =Feuil7!H2 -> Kaiserslautern | F2: =Feuil7!E2 -> 3 - 0 | G2: =Feuil7!J2 -> VfL Bochum[11] | H2: =Feuil7!F2 -> 1 - 0 | I2: =Feuil7!H2 -> Kaiserslautern | J2: =Feuil7!K2 -> 1 - 0 | M2: =B2 -> Djurgardens | N2: =C2 -> 0 - 2 | O2: =D2 -> 0 - 1
A3: =Feuil1!B3 -> IFK Goteborg | B3: {=IFERROR(INDEX(E$1:E$338,MATCH(TRUE,ISNUMBER(SEARCH(E$1:E$338,A3)),0)),"")} -> IFK Goteborg | C3: {=IFERROR(INDEX(F$1:F$338,MATCH(TRUE,ISNUMBER(SEARCH(E$1:E$338,A3)),0)),"")} -> 1 - 0 | D3: {=IFERROR(INDEX(H$1:H$338,MATCH(TRUE,ISNUMBER(SEARCH(E$1:E$338,A3)),0)),"")} -> 1 - 0 | E3: =Feuil7!H3 -> Amiens | F3: =Feuil7!E3 -> 0 - 0 | G3: =Feuil7!J3 -> Red Star FC 93[16] | H3: =Feuil7!F3 -> 0 - 0 | I3: =Feuil7!H3 -> Amiens | J3: =Feuil7!K3 -> 0 - 0 | M3: =B3 -> IFK Goteborg | N3: =C3 -> 1 - 0 | O3: =D3 -> 1 - 0
A4: =Feuil1!B4 -> Atvidabergs | B4: {=IFERROR(INDEX(E$1:E$338,MATCH(TRUE,ISNUMBER(SEARCH(E$1:E$338,A4)),0)),"")} -> Atvidabergs | C4: {=IFERROR(INDEX(F$1:F$338,MATCH(TRUE,ISNUMBER(SEARCH(E$1:E$338,A4)),0)),"")} -> 4 - 2 | D4: {=IFERROR(INDEX(H$1:H$338,MATCH(TRUE,ISNUMBER(SEARCH(E$1:E$338,A4)),0)),"")} -> 2 - 0 | E4: =Feuil7!H4 -> Sporting Braga | F4: =Feuil7!E4 -> 1 - 0 | G4: =Feuil7!J4 -> GD Chaves[6] | H4: =Feuil7!F4 -> 0 - 0 | I4: =Feuil7!H4 -> Sporting Braga | J4: =Feuil7!K4 -> 0 - 0 | M4: =B4 -> Atvidabergs | N4: =C4 -> 4 - 2 | O4: =D4 -> 2 - 0
A5: =Feuil1!B5 -> Halmstads | B5: {=IFERROR(INDEX(E$1:E$338,MATCH(TRUE,ISNUMBER(SEARCH(E$1:E$338,A5)),0)),"")} -> Halmstads | C5: {=IFERROR(INDEX(F$1:F$338,MATCH(TRUE,ISNUMBER(SEARCH(E$1:E$338,A5)),0)),"")} -> 0 - 1 | D5: {=IFERROR(INDEX(H$1:H$338,MATCH(TRUE,ISNUMBER(SEARCH(E$1:E$338,A5)),0)),"")} -> 0 - 0 | E5: =Feuil7!H5 -> Zenit St. Petersburg | F5: =Feuil7!E5 -> 1 - 0 | G5: =Feuil7!J5 -> Gazovik Orenburg[15] | H5: =Feuil7!F5 -> 1 - 0 | I5: =Feuil7!H5 -> Zenit St. Petersburg | J5: =Feuil7!K5 -> 1 - 0 | M5: =B5 -> Halmstads | N5: =C5 -> 0 - 1 | O5: =D5 -> 0 - 0
A6: =Feuil1!B6 -> Konyaspor | B6: {=IFERROR(INDEX(E$1:E$338,MATCH(TRUE,ISNUMBER(SEARCH(E$1:E$338,A6)),0)),"")} -> Konyaspor | C6: {=IFERROR(INDEX(F$1:F$338,MATCH(TRUE,ISNUMBER(SEARCH(E$1:E$338,A6)),0)),"")} -> 0 - 1 | D6: {=IFERROR(INDEX(H$1:H$338,MATCH(TRUE,ISNUMBER(SEARCH(E$1:E$338,A6)),0)),"")} -> 0 - 1 | E6: =Feuil7!H6 -> Veria FC | F6: =Feuil7!E6 -> 1 - 1 | G6: =Feuil7!J6 -> Panathinaikos[4] | H6: =Feuil7!F6 -> 0 - 1 | I6: =Feuil7!H6 -> Veria FC | J6: =Feuil7!K6 -> 0 - 1 | M6: =B6 -> Konyaspor | N6: =C6 -> 0 - 1 | O6: =D6 -> 0 - 1
A7: =Feuil1!B7 -> Esbjerg | B7: {=IFERROR(INDEX(E$1:E$338,MATCH(TRUE,ISNUMBER(SEARCH(E$1:E$338,A7)),0)),"")} -> Esbjerg | C7: {=IFERROR(INDEX(F$1:F$338,MATCH(TRUE,ISNUMBER(SEARCH(E$1:E$338,A7)),0)),"")} -> 1 - 3 | D7: {=IFERROR(INDEX(H$1:H$338,MATCH(TRUE,ISNUMBER(SEARCH(E$1:E$338,A7)),0)),"")} -> 1 - 1 | E7: =Feuil7!H7 -> IFK Goteborg | F7: =Feuil7!E7 -> 1 - 0 | G7: =Feuil7!J7 -> AIK Solna[3] | H7: =Feuil7!F7 -> 1 - 0 | I7: =Feuil7!H7 -> IFK Goteborg | J7: =Feuil7!K7 -> 1 - 0 | M7: =B7 -> Esbjerg | N7: =C7 -> 1 - 3 | O7: =D7 -> 1 - 1
A8: =Feuil1!B8 | B8: {=IFERROR(INDEX(E$1:E$338,MATCH(TRUE,ISNUMBER(SEARCH(E$1:E$338,A8)),0)),"")} | C8: {=IFERROR(INDEX(F$1:F$338,MATCH(TRUE,ISNUMBER(SEARCH(E$1:E$338,A8)),0)),"")} | D8: {=IFERROR(INDEX(H$1:H$338,MATCH(TRUE,ISNUMBER(SEARCH(E$1:E$338,A8)),0)),"")} | E8: =Feuil7!H8 -> Djurgardens | F8: =Feuil7!E8 -> 0 - 2 | G8: =Feuil7!J8 -> Jonkopings Sodra[12] | H8: =Feuil7!F8 -> 0 - 1 | I8: =Feuil7!H8 -> Djurgardens | J8: =Feuil7!K8 -> 0 - 1 | M8: =B8 | N8: =C8 | O8: =D8
A9: =Feuil1!B9 | B9: {=IFERROR(INDEX(E$1:E$338,MATCH(TRUE,ISNUMBER(SEARCH(E$1:E$338,A9)),0)),"")} | C9: {=IFERROR(INDEX(F$1:F$338,MATCH(TRUE,ISNUMBER(SEARCH(E$1:E$338,A9)),0)),"")} | D9: {=IFERROR(INDEX(H$1:H$338,MATCH(TRUE,ISNUMBER(SEARCH(E$1:E$338,A9)),0)),"")} | E9: =Feuil7!H9 -> America MG | F9: =Feuil7!E9 -> 1 - 0 | G9: =Feuil7!J9 -> Atletico Paranaense[7] | H9: =Feuil7!F9 -> 0 - 0 | I9: =Feuil7!H9 -> America MG | J9: =Feuil7!K9 -> 0 - 0 | M9: =B9 | N9: =C9 | O9: =D9
A10: =Feuil1!B10 -> Spezia | B10: {=IFERROR(INDEX(E$1:E$338,MATCH(TRUE,ISNUMBER(SEARCH(E$1:E$338,A10)),0)),"")} -> Spezia | C10: {=IFERROR(INDEX(F$1:F$338,MATCH(TRUE,ISNUMBER(SEARCH(E$1:E$338,A10)),0)),"")} -> 1 - 1 | D10: {=IFERROR(INDEX(H$1:H$338,MATCH(TRUE,ISNUMBER(SEARCH(E$1:E$338,A10)),0)),"")} -> 0 - 1 | E10: =Feuil7!H10 -> Bury | F10: =Feuil7!E10 -> 0 - 2 | G10: =Feuil7!J10 -> Bolton Wanderers[4] | H10: =Feuil7!F10 -> 0 - 1 | I10: =Feuil7!H10 -> Bury | J10: =Feuil7!K10 -> 0 - 1 | M10: =B10 -> Spezia | N10: =C10 -> 1 - 1 | O10: =D10 -> 0 - 1
A11: =Feuil1!B11 -> Amiens | B11: {=IFERROR(INDEX(E$1:E$338,MATCH(TRUE,ISNUMBER(SEARCH(E$1:E$338,A11)),0)),"")} -> Amiens | C11: {=IFERROR(INDEX(F$1:F$338,MATCH(TRUE,ISNUMBER(SEARCH(E$1:E$338,A11)),0)),"")} -> 0 - 0 | D11: {=IFERROR(INDEX(H$1:H$338,MATCH(TRUE,ISNUMBER(SEARCH(E$1:E$338,A11)),0)),"")} -> 0 - 0 | E11: =Feuil7!H11 -> Curzon Ashton FC | F11: =Feuil7!E11 -> 1 - 1 | G11: =Feuil7!J11 -> Chorley FC[3] | H11: =Feuil7!F11 -> 1 - 1 | I11: =Feuil7!H11 -> Curzon Ashton FC | J11: =Feuil7!K11 -> 1 - 1 | M11: =B11 -> Amiens | N11: =C11 -> 0 - 0 | O11: =D11 -> 0 - 0
A12: =Feuil1!B12 -> Bury | B12: {=IFERROR(INDEX(E$1:E$338,MATCH(TRUE,ISNUMBER(SEARCH(E$1:E$338,A12)),0)),"")} -> Bury | C12: {=IFERROR(INDEX(F$1:F$338,MATCH(TRUE,ISNUMBER(SEARCH(E$1:E$338,A12)),0)),"")} -> 0 - 2 | D12: {=IFERROR(INDEX(H$1:H$338,MATCH(TRUE,ISNUMBER(SEARCH(E$1:E$338,A12)),0)),"")} -> 0 - 1 | E12: =Feuil7!H12 -> Kingstonian | F12: =Feuil7!E12 -> 1 - 3 | G12: =Feuil7!J12 -> Worthing[12] | H12: =Feuil7!F12 -> 0 - 1 | I12: =Feuil7!H12 -> Kingstonian | J12: =Feuil7!K12 -> 0 - 1 | M12: =B12 -> Bury | N12: =C12 -> 0 - 2 | O12: =D12 -> 0 - 1
A13: =Feuil1!B13 -> Cork City | B13: {=IFERROR(INDEX(E$1:E$338,MATCH(TRUE,ISNUMBER(SEARCH(E$1:E$338,A13)),0)),"")} -> Cork City | C13: {=IFERROR(INDEX(F$1:F$338,MATCH(TRUE,ISNUMBER(SEARCH(E$1:E$338,A13)),0)),"")} -> 5 - 0 | D13: {=IFERROR(INDEX(H$1:H$338,MATCH(TRUE,ISNUMBER(SEARCH(E$1:E$338,A13)),0)),"")} -> 4 - 0 | E13: =Feuil7!H13 -> Livorno | F13: =Feuil7!E13 -> 1 - 1 | G13: =Feuil7!J13 -> Arezzo[A-6] | H13: =Feuil7!F13 -> 0 - 0 | I13: =Feuil7!H13 -> Livorno | J13: =Feuil7!K13 -> 0 - 0 | M13: =B13 -> Cork City | N13: =C13 -> 5 - 0 | O13: =D13 -> 4 - 0
... A64: =Feuil1!B64 -> Red Bull Salzburg | B64: {=IFERROR(INDEX(E$1:E$338,MATCH(TRUE,ISNUMBER(SEARCH(E$1:E$338,A64)),0)),"")} | C64: {=IFERROR(INDEX(F$1:F$338,MATCH(TRUE,ISNUMBER(SEARCH(E$1:E$338,A64)),0)),"")} | D64: {=IFERROR(INDEX(H$1:H$338,MATCH(TRUE,ISNUMBER(SEARCH(E$1:E$338,A64)),0)),"")} | E64: =Feuil7!H64 -> Wrexham | F64: =Feuil7!E64 -> 2 - 2 | G64: =Feuil7!J64 -> Barrow[5] | H64: =Feuil7!F64 -> 1 - 1 | I64: =Feuil7!H64 -> Wrexham | J64: =Feuil7!K64 -> 1 - 1 | M64: =B64 | N64: =C64 | O64: =D64
A65: =Feuil1!B65 -> SKN St. Polten | B65: {=IFERROR(INDEX(E$1:E$338,MATCH(TRUE,ISNUMBER(SEARCH(E$1:E$338,A65)),0)),"")} | C65: {=IFERROR(INDEX(F$1:F$338,MATCH(TRUE,ISNUMBER(SEARCH(E$1:E$338,A65)),0)),"")} | D65: {=IFERROR(INDEX(H$1:H$338,MATCH(TRUE,ISNUMBER(SEARCH(E$1:E$338,A65)),0)),"")} | E65: =Feuil7!H65 -> Hemel Hempstead Town | F65: =Feuil7!E65 -> 2 - 1 | G65: =Feuil7!J65 -> Concord Rangers[20] | H65: =Feuil7!F65 -> 1 - 0 | I65: =Feuil7!H65 -> Hemel Hempstead Town | J65: =Feuil7!K65 -> 1 - 0 | K65: MALAGA | M65: =B65 | N65: =C65 | O65: =D65
A66: =Feuil1!B66 -> FC Blau Weiss Linz | B66: {=IFERROR(INDEX(E$1:E$338,MATCH(TRUE,ISNUMBER(SEARCH(E$1:E$338,A66)),0)),"")} | C66: {=IFERROR(INDEX(F$1:F$338,MATCH(TRUE,ISNUMBER(SEARCH(E$1:E$338,A66)),0)),"")} | D66: {=IFERROR(INDEX(H$1:H$338,MATCH(TRUE,ISNUMBER(SEARCH(E$1:E$338,A66)),0)),"")} | E66: =Feuil7!H66 -> Altrincham | F66: =Feuil7!E66 -> 2 - 3 | G66: =Feuil7!J66 -> Bradford Park Avenue[22] | H66: =Feuil7!F66 -> 1 - 0 | I66: =Feuil7!H66 -> Altrincham | J66: =Feuil7!K66 -> 1 - 0 | M66: =B66 | N66: =C66 | O66: =D66
A67: =Feuil1!B67 | B67: {=IFERROR(INDEX(E$1:E$338,MATCH(TRUE,ISNUMBER(SEARCH(E$1:E$338,A67)),0)),"")} | C67: {=IFERROR(INDEX(F$1:F$338,MATCH(TRUE,ISNUMBER(SEARCH(E$1:E$338,A67)),0)),"")} | D67: {=IFERROR(INDEX(H$1:H$338,MATCH(TRUE,ISNUMBER(SEARCH(E$1:E$338,A67)),0)),"")} | E67: =Feuil7!H67 -> Halifax Town | F67: =Feuil7!E67 -> 3 - 1 | G67: =Feuil7!J67 -> FC United of Manchester[13] | H67: =Feuil7!F67 -> 3 - 0 | I67: =Feuil7!H67 -> Halifax Town | J67: =Feuil7!K67 -> 3 - 0 | K67: Sampdoria de Gênes | M67: =B67 | N67: =C67 | O67: =D67
A68: =Feuil1!B68 -> Vitoria Setubal | B68: {=IFERROR(INDEX(E$1:E$338,MATCH(TRUE,ISNUMBER(SEARCH(E$1:E$338,A68)),0)),"")} | C68: {=IFERROR(INDEX(F$1:F$338,MATCH(TRUE,ISNUMBER(SEARCH(E$1:E$338,A68)),0)),"")} | D68: {=IFERROR(INDEX(H$1:H$338,MATCH(TRUE,ISNUMBER(SEARCH(E$1:E$338,A68)),0)),"")} | E68: =Feuil7!H68 -> Harrogate Town | F68: =Feuil7!E68 -> 0 - 2 | G68: =Feuil7!J68 -> Kidderminster Harriers[6] | H68: =Feuil7!F68 -> 0 - 1 | I68: =Feuil7!H68 -> Harrogate Town | J68: =Feuil7!K68 -> 0 - 1 | M68: =B68 | N68: =C68 | O68: =D68
A69: =Feuil1!B69 | B69: {=IFERROR(INDEX(E$1:E$338,MATCH(TRUE,ISNUMBER(SEARCH(E$1:E$338,A69)),0)),"")} | C69: {=IFERROR(INDEX(F$1:F$338,MATCH(TRUE,ISNUMBER(SEARCH(E$1:E$338,A69)),0)),"")} | D69: {=IFERROR(INDEX(H$1:H$338,MATCH(TRUE,ISNUMBER(SEARCH(E$1:E$338,A69)),0)),"")} | E69: =Feuil7!H69 -> Chesham United | F69: =Feuil7!E69 -> 1 - 0 | G69: =Feuil7!J69 -> Kettering Town[13] | H69: =Feuil7!F69 -> 1 - 0 | I69: =Feuil7!H69 -> Chesham United | J69: =Feuil7!K69 -> 1 - 0 | M69: =B69 | N69: =C69 | O69: =D69
A70: =Feuil1!B70 | B70: {=IFERROR(INDEX(E$1:E$338,MATCH(TRUE,ISNUMBER(SEARCH(E$1:E$338,A70)),0)),"")} | C70: {=IFERROR(INDEX(F$1:F$338,MATCH(TRUE,ISNUMBER(SEARCH(E$1:E$338,A70)),0)),"")} | D70: {=IFERROR(INDEX(H$1:H$338,MATCH(TRUE,ISNUMBER(SEARCH(E$1:E$338,A70)),0)),"")} | E70: =Feuil7!H70 -> Chippenham Town | F70: =Feuil7!E70 -> 2 - 0 | G70: =Feuil7!J70 -> Basingstoke Town[9] | H70: =Feuil7!F70 -> 1 - 0 | I70: =Feuil7!H70 -> Chippenham Town | J70: =Feuil7!K70 -> 1 - 0 | M70: =B70 | N70: =C70 | O70: =D70
A71: =Feuil1!B71 -> Maritimo Funchal | B71: {=IFERROR(INDEX(E$1:E$338,MATCH(TRUE,ISNUMBER(SEARCH(E$1:E$338,A71)),0)),"")} | C71: {=IFERROR(INDEX(F$1:F$338,MATCH(TRUE,ISNUMBER(SEARCH(E$1:E$338,A71)),0)),"")} | D71: {=IFERROR(INDEX(H$1:H$338,MATCH(TRUE,ISNUMBER(SEARCH(E$1:E$338,A71)),0)),"")} | E71: =Feuil7!H71 -> Cirencester | F71: =Feuil7!E71 -> 2 - 0 | G71: =Feuil7!J71 -> Dunstable Town[5] | H71: =Feuil7!F71 -> 1 - 0 | I71: =Feuil7!H71 -> Cirencester | J71: =Feuil7!K71 -> 1 - 0 | M71: =B71 | N71: =C71 | O71: =D71
A72: =Feuil1!B72 -> FC Arouca | B72: {=IFERROR(INDEX(E$1:E$338,MATCH(TRUE,ISNUMBER(SEARCH(E$1:E$338,A72)),0)),"")} | C72: {=IFERROR(INDEX(F$1:F$338,MATCH(TRUE,ISNUMBER(SEARCH(E$1:E$338,A72)),0)),"")} | D72: {=IFERROR(INDEX(H$1:H$338,MATCH(TRUE,ISNUMBER(SEARCH(E$1:E$338,A72)),0)),"")} | E72: =Feuil7!H72 -> Kings Langley | F72: =Feuil7!E72 -> 2 - 3 | G72: =Feuil7!J72 -> St Neots Town[22] | H72: =Feuil7!F72 -> 1 - 1 | I72: =Feuil7!H72 -> Kings Langley | J72: =Feuil7!K72 -> 1 - 1 | M72: =B72 | N72: =C72 | O72: =D72
A73: =Feuil1!B73 -> Moreirense | B73: {=IFERROR(INDEX(E$1:E$338,MATCH(TRUE,ISNUMBER(SEARCH(E$1:E$338,A73)),0)),"")} | C73: {=IFERROR(INDEX(F$1:F$338,MATCH(TRUE,ISNUMBER(SEARCH(E$1:E$338,A73)),0)),"")} | D73: {=IFERROR(INDEX(H$1:H$338,MATCH(TRUE,ISNUMBER(SEARCH(E$1:E$338,A73)),0)),"")} | E73: =Feuil7!H73 -> Kings Lynn | F73: =Feuil7!E73 -> 1 - 2 | G73: =Feuil7!J73 -> Hitchin Town[4] | H73: =Feuil7!F73 -> 0 - 1 | I73: =Feuil7!H73 -> Kings Lynn | J73: =Feuil7!K73 -> 0 - 1 | M73: =B73 | N73: =C73 | O73: =D73
A74: =Feuil1!B74 -> Hannover 96 | B74: {=IFERROR(INDEX(E$1:E$338,MATCH(TRUE,ISNUMBER(SEARCH(E$1:E$338,A74)),0)),"")} -> Hannover 96 | C74: {=IFERROR(INDEX(F$1:F$338,MATCH(TRUE,ISNUMBER(SEARCH(E$1:E$338,A74)),0)),"")} -> 6 - 1 | D74: {=IFERROR(INDEX(H$1:H$338,MATCH(TRUE,ISNUMBER(SEARCH(E$1:E$338,A74)),0)),"")} -> 5 - 1 | E74: =Feuil7!H74 -> Leamington | F74: =Feuil7!E74 -> 1 - 0 | G74: =Feuil7!J74 -> Cambridge City[23] | H74: =Feuil7!F74 -> 0 - 0 | I74: =Feuil7!H74 -> Leamington | J74: =Feuil7!K74 -> 0 - 0 | M74: =B74 -> Hannover 96 | N74: =C74 -> 6 - 1 | O74: =D74 -> 5 - 1
A75: =Feuil1!B75 -> Heidenheimer | B75: {=IFERROR(INDEX(E$1:E$338,MATCH(TRUE,ISNUMBER(SEARCH(E$1:E$338,A75)),0)),"")} -> Heidenheimer | C75: {=IFERROR(INDEX(F$1:F$338,MATCH(TRUE,ISNUMBER(SEARCH(E$1:E$338,A75)),0)),"")} -> 0 - 1 | D75: {=IFERROR(INDEX(H$1:H$338,MATCH(TRUE,ISNUMBER(SEARCH(E$1:E$338,A75)),0)),"")} -> 0 - 0 | E75: =Feuil7!H75 -> Slough Town | F75: =Feuil7!E75 -> 2 - 1 | G75: =Feuil7!J75 -> Dorchester Town[17] | H75: =Feuil7!F75 -> 1 - 1 | I75: =Feuil7!H75 -> Slough Town | J75: =Feuil7!K75 -> 1 - 1 | M75: =B75 -> Heidenheimer | N75: =C75 -> 0 - 1 | O75: =D75 -> 0 - 0
A76: =Feuil1!B76 -> Greuther Furth | B76: {=IFERROR(INDEX(E$1:E$338,MATCH(TRUE,ISNUMBER(SEARCH(E$1:E$338,A76)),0)),"")} -> Greuther Furth | C76: {=IFERROR(INDEX(F$1:F$338,MATCH(TRUE,ISNUMBER(SEARCH(E$1:E$338,A76)),0)),"")} -> 2 - 1 | D76: {=IFERROR(INDEX(H$1:H$338,MATCH(TRUE,ISNUMBER(SEARCH(E$1:E$338,A76)),0)),"")} -> 0 - 0 | E76: =Feuil7!H76 -> St Ives Town | F76: =Feuil7!E76 -> 1 - 1 | G76: =Feuil7!J76 -> Banbury United[8] | H76: =Feuil7!F76 -> 1 - 1 | I76: =Feuil7!H76 -> St Ives Town | J76: =Feuil7!K76 -> 1 - 1 | M76: =B76 -> Greuther Furth | N76: =C76 -> 2 - 1 | O76: =D76 -> 0 - 0
A77: =Feuil1!B77 | B77: {=IFERROR(INDEX(E$1:E$338,MATCH(TRUE,ISNUMBER(SEARCH(E$1:E$338,A77)),0)),"")} | C77: {=IFERROR(INDEX(F$1:F$338,MATCH(TRUE,ISNUMBER(SEARCH(E$1:E$338,A77)),0)),"")} | D77: {=IFERROR(INDEX(H$1:H$338,MATCH(TRUE,ISNUMBER(SEARCH(E$1:E$338,A77)),0)),"")} | E77: =Feuil7!H77 -> Burgess Hill Town | F77: =Feuil7!E77 -> 1 - 0 | G77: =Feuil7!J77 -> Hendon[21] | H77: =Feuil7!F77 -> 0 - 0 | I77: =Feuil7!H77 -> Burgess Hill Town | J77: =Feuil7!K77 -> 0 - 0 | M77: =B77 | N77: =C77 | O77: =D77
A78: =Feuil1!B78 -> FC Koln | B78: {=IFERROR(INDEX(E$1:E$338,MATCH(TRUE,ISNUMBER(SEARCH(E$1:E$338,A78)),0)),"")} -> FC Koln | C78: {=IFERROR(INDEX(F$1:F$338,MATCH(TRUE,ISNUMBER(SEARCH(E$1:E$338,A78)),0)),"")} -> 1 - 1 | D78: {=IFERROR(INDEX(H$1:H$338,MATCH(TRUE,ISNUMBER(SEARCH(E$1:E$338,A78)),0)),"")} -> 1 - 1 | E78: =Feuil7!H78 -> Billericay Town | F78: =Feuil7!E78 -> 3 - 0 | G78: =Feuil7!J78 -> Wingate Finchley[11] | H78: =Feuil7!F78 -> 0 - 0 | I78: =Feuil7!H78 -> Billericay Town | J78: =Feuil7!K78 -> 0 - 0 | M78: =B78 -> FC Koln | N78: =C78 -> 1 - 1 | O78: =D78 -> 1 - 1
A79: =Feuil1!B79 | B79: {=IFERROR(INDEX(E$1:E$338,MATCH(TRUE,ISNUMBER(SEARCH(E$1:E$338,A79)),0)),"")} | C79: {=IFERROR(INDEX(F$1:F$338,MATCH(TRUE,ISNUMBER(SEARCH(E$1:E$338,A79)),0)),"")} | D79: {=IFERROR(INDEX(H$1:H$338,MATCH(TRUE,ISNUMBER(SEARCH(E$1:E$338,A79)),0)),"")} | E79: =Feuil7!H79 -> Folkestone | F79: =Feuil7!E79 -> 1 - 1 | G79: =Feuil7!J79 -> Staines Town[14] | H79: =Feuil7!F79 -> 0 - 1 | I79: =Feuil7!H79 -> Folkestone | J79: =Feuil7!K79 -> 0 - 1 | M79: =B79 | N79: =C79 | O79: =D79
... A195: =Feuil1!B195 -> 0 | B195: {=IFERROR(INDEX(E$1:E$338,MATCH(TRUE,ISNUMBER(SEARCH(E$1:E$338,A195)),0)),"")} -> 0 | C195: {=IFERROR(INDEX(F$1:F$338,MATCH(TRUE,ISNUMBER(SEARCH(E$1:E$338,A195)),0)),"")} -> 1 - 2 | D195: {=IFERROR(INDEX(H$1:H$338,MATCH(TRUE,ISNUMBER(SEARCH(E$1:E$338,A195)),0)),"")} -> 0 - 1 | E195: =Feuil7!H195 -> Gibraltar U17(N) | F195: =Feuil7!E195 -> 0 - 2 | G195: =Feuil7!J195 -> Belgium U17[K2] | H195: =Feuil7!F195 -> 0 - 1 | I195: =Feuil7!H195 -> Gibraltar U17(N) | J195: =Feuil7!K195 -> 0 - 1 | M195: =B195 -> 0 | N195: =C195 -> 1 - 2 | O195: =D195 -> 0 - 1
A196: =Feuil1!B196 | B196: {=IFERROR(INDEX(E$1:E$338,MATCH(TRUE,ISNUMBER(SEARCH(E$1:E$338,A338)),0)),"")} | C196: {=IFERROR(INDEX(F$1:F$338,MATCH(TRUE,ISNUMBER(SEARCH(E$1:E$338,A338)),0)),"")} | D196: {=IFERROR(INDEX(H$1:H$338,MATCH(TRUE,ISNUMBER(SEARCH(E$1:E$338,A338)),0)),"")} | E196: =Feuil7!H196 -> Italy U17 | F196: =Feuil7!E196 -> 1 - 0 | G196: =Feuil7!J196 -> Albania U17[D4] | H196: =Feuil7!F196 -> 0 - 0 | I196: =Feuil7!H196 -> Italy U17 | J196: =Feuil7!K196 -> 0 - 0 | M196: =B196 | N196: =C196 | O196: =D196
A197: =Feuil1!B197 | B197: {=IFERROR(INDEX(E$1:E$338,MATCH(TRUE,ISNUMBER(SEARCH(E$1:E$338,A197)),0)),"")} | C197: {=IFERROR(INDEX(F$1:F$338,MATCH(TRUE,ISNUMBER(SEARCH(E$1:E$338,A197)),0)),"")} | D197: {=IFERROR(INDEX(H$1:H$338,MATCH(TRUE,ISNUMBER(SEARCH(E$1:E$338,A197)),0)),"")} | E197: =Feuil7!H197 -> luxembourg U17 | F197: =Feuil7!E197 -> 2 - 2 | G197: =Feuil7!J197 -> Faroe Islands U17[C3] | H197: =Feuil7!F197 -> 0 - 1 | I197: =Feuil7!H197 -> luxembourg U17 | J197: =Feuil7!K197 -> 0 - 1 | M197: =B197 | N197: =C197 | O197: =D197
A198: =Feuil1!B198 | B198: {=IFERROR(INDEX(E$1:E$338,MATCH(TRUE,ISNUMBER(SEARCH(E$1:E$338,A198)),0)),"")} | C198: {=IFERROR(INDEX(F$1:F$338,MATCH(TRUE,ISNUMBER(SEARCH(E$1:E$338,A198)),0)),"")} | D198: {=IFERROR(INDEX(H$1:H$338,MATCH(TRUE,ISNUMBER(SEARCH(E$1:E$338,A198)),0)),"")} | E198: =Feuil7!H198 -> Czech Republic U17(N) | F198: =Feuil7!E198 -> 3 - 3 | G198: =Feuil7!J198 -> Switzerland U17[C1] | H198: =Feuil7!F198 -> 2 - 1 | I198: =Feuil7!H198 -> Czech Republic U17(N) | J198: =Feuil7!K198 -> 2 - 1 | M198: =B198 | N198: =C198 | O198: =D198
A199: =Feuil1!B199 | B199: {=IFERROR(INDEX(E$1:E$338,MATCH(TRUE,ISNUMBER(SEARCH(E$1:E$338,A199)),0)),"")} | C199: {=IFERROR(INDEX(F$1:F$338,MATCH(TRUE,ISNUMBER(SEARCH(E$1:E$338,A199)),0)),"")} | D199: {=IFERROR(INDEX(H$1:H$338,MATCH(TRUE,ISNUMBER(SEARCH(E$1:E$338,A199)),0)),"")} | E199: =Feuil7!H199 -> Moldova (w) U17 | F199: =Feuil7!E199 -> 0 - 1 | G199: =Feuil7!J199 -> Bulgaria (w) U17[D3] | H199: =Feuil7!F199 -> 0 - 0 | I199: =Feuil7!H199 -> Moldova (w) U17 | J199: =Feuil7!K199 -> 0 - 0 | M199: =B199 | N199: =C199 | O199: =D199
A200: =Feuil1!B200 | B200: {=IFERROR(INDEX(E$1:E$338,MATCH(TRUE,ISNUMBER(SEARCH(E$1:E$338,A200)),0)),"")} | C200: {=IFERROR(INDEX(F$1:F$338,MATCH(TRUE,ISNUMBER(SEARCH(E$1:E$338,A200)),0)),"")} | D200: {=IFERROR(INDEX(H$1:H$338,MATCH(TRUE,ISNUMBER(SEARCH(E$1:E$338,A200)),0)),"")} | E200: =Feuil7!H200 -> Netherlands (w) U17(N) | F200: =Feuil7!E200 -> 0 - 2 | G200: =Feuil7!J200 -> Norway (w) U17[D2] | H200: =Feuil7!F200 -> 0 - 1 | I200: =Feuil7!H200 -> Netherlands (w) U17(N) | J200: =Feuil7!K200 -> 0 - 1 | M200: =B200 | N200: =C200 | O200: =D200
A201: =Feuil1!B201 | B201: {=IFERROR(INDEX(E$1:E$338,MATCH(TRUE,ISNUMBER(SEARCH(E$1:E$338,A201)),0)),"")} | C201: {=IFERROR(INDEX(F$1:F$338,MATCH(TRUE,ISNUMBER(SEARCH(E$1:E$338,A201)),0)),"")} | D201: {=IFERROR(INDEX(H$1:H$338,MATCH(TRUE,ISNUMBER(SEARCH(E$1:E$338,A201)),0)),"")} | E201: =Feuil7!H201 -> England (w) U17(N) | F201: =Feuil7!E201 -> 0 - 1 | G201: =Feuil7!J201 -> Slovenia (w) U17[H3] | H201: =Feuil7!F201 -> 0 - 1 | I201: =Feuil7!H201 -> England (w) U17(N) | J201: =Feuil7!K201 -> 0 - 1 | M201: =B201 | N201: =C201 | O201: =D201
A202: =Feuil1!B202 | B202: {=IFERROR(INDEX(E$1:E$338,MATCH(TRUE,ISNUMBER(SEARCH(E$1:E$338,A202)),0)),"")} | C202: {=IFERROR(INDEX(F$1:F$338,MATCH(TRUE,ISNUMBER(SEARCH(E$1:E$338,A202)),0)),"")} | D202: {=IFERROR(INDEX(H$1:H$338,MATCH(TRUE,ISNUMBER(SEARCH(E$1:E$338,A202)),0)),"")} | E202: =Feuil7!H202 -> Italy (w) U17(N) | F202: =Feuil7!E202 -> 8 - 0 | G202: =Feuil7!J202 -> Georgia (w) U17[E3] | H202: =Feuil7!F202 -> 7 - 0 | I202: =Feuil7!H202 -> Italy (w) U17(N) | J202: =Feuil7!K202 -> 7 - 0 | M202: =B202 | N202: =C202 | O202: =D202
A203: =Feuil1!B203 | B203: {=IFERROR(INDEX(E$1:E$338,MATCH(TRUE,ISNUMBER(SEARCH(E$1:E$338,A203)),0)),"")} | C203: {=IFERROR(INDEX(F$1:F$338,MATCH(TRUE,ISNUMBER(SEARCH(E$1:E$338,A203)),0)),"")} | D203: {=IFERROR(INDEX(H$1:H$338,MATCH(TRUE,ISNUMBER(SEARCH(E$1:E$338,A203)),0)),"")} | E203: =Feuil7!H203 -> Lithuania (w) U17(N) | F203: =Feuil7!E203 -> 0 - 2 | G203: =Feuil7!J203 -> Russia (w) U17[H2] | H203: =Feuil7!F203 -> 0 - 1 | I203: =Feuil7!H203 -> Lithuania (w) U17(N) | J203: =Feuil7!K203 -> 0 - 1 | M203: =B203 | N203: =C203 | O203: =D203
A204: =Feuil1!B204 | B204: {=IFERROR(INDEX(E$1:E$338,MATCH(TRUE,ISNUMBER(SEARCH(E$1:E$338,A204)),0)),"")} | C204: {=IFERROR(INDEX(F$1:F$338,MATCH(TRUE,ISNUMBER(SEARCH(E$1:E$338,A204)),0)),"")} | D204: {=IFERROR(INDEX(H$1:H$338,MATCH(TRUE,ISNUMBER(SEARCH(E$1:E$338,A204)),0)),"")} | E204: =Feuil7!H204 -> Belarus (w) U17(N) | F204: =Feuil7!E204 -> 0 - 4 | G204: =Feuil7!J204 -> Iceland (w) U17[J2] | H204: =Feuil7!F204 -> 0 - 3 | I204: =Feuil7!H204 -> Belarus (w) U17(N) | J204: =Feuil7!K204 -> 0 - 3 | M204: =B204 | N204: =C204 | O204: =D204
A205: =Feuil1!B205 | B205: {=IFERROR(INDEX(E$1:E$338,MATCH(TRUE,ISNUMBER(SEARCH(E$1:E$338,A205)),0)),"")} | C205: {=IFERROR(INDEX(F$1:F$338,MATCH(TRUE,ISNUMBER(SEARCH(E$1:E$338,A205)),0)),"")} | D205: {=IFERROR(INDEX(H$1:H$338,MATCH(TRUE,ISNUMBER(SEARCH(E$1:E$338,A205)),0)),"")} | E205: =Feuil7!H205 -> Portugal (w) U17 | F205: =Feuil7!E205 -> 1 - 1 | G205: =Feuil7!J205 -> Finland (w) U17[E1] | H205: =Feuil7!F205 -> 1 - 0 | I205: =Feuil7!H205 -> Portugal (w) U17 | J205: =Feuil7!K205 -> 1 - 0 | M205: =B205 | N205: =C205 | O205: =D205
...

Sheet Feuil3
A1: =Feuil2!B1 | B1: =Feuil2!C1 -> 1 - 0 | C1: =Feuil2!D1 -> 1 - 0 | F1: =SUBSTITUTE(B1," ","") -> 1-0 | G1: =IF(--LEFT(B1,FIND("-",B1)-1)+MID(B1,FIND("-",B1)+1,99)<2.5,"M","P") -> M | H1: =I1 & "-" & K1 -> 1-1 | I1: =IF(--LEFT(C1,FIND("-",C1)-1)=--MID(C1,FIND("-",C1)+1,99),"X",IF(--LEFT(C1,FIND("-",C1)-1)>--MID(C1,FIND("-",C1)+1,99),1,2)) -> 1 | K1: =IF(--LEFT(B1,FIND("-",B1)-1)=--MID(B1,FIND("-",B1)+1,99),"X",IF(--LEFT(B1,FIND("-",B1)-1)>--MID(B1,FIND("-",B1)+1,99),1,2)) -> 1 | M1: =IF(--LEFT(B1,FIND("-",B1)-1)+MID(B1,FIND("-",B1)+1,99)<1.5,"0-1",IF(--LEFT(B1,FIND("-",B1)-1)+MID(B1,FIND("-",B1)+1,99)<3.5,"2-3","+4")) -> 0-1 | N1: =IF(OR(I1="X",I1=1),"1X","") -> 1X | O1: =IF(OR(I1=1,I1=2),"12","") -> 12 | P1: =IF(OR(I1="X",I1=2),"X2","") | Q1: =IF(OR(K1="X",K1=1),"1X","") -> 1X | R1: =IF(OR(K1=1,K1=2),"12","") -> 12 | S1: =IF(OR(K1="X",K1=2),"X2","")
A2: =Feuil2!B2 -> Djurgardens | B2: =Feuil2!C2 -> 0 - 2 | C2: =Feuil2!D2 -> 0 - 1 | F2: =SUBSTITUTE(B2," ","") -> 0-2 | G2: =IF(--LEFT(B2,FIND("-",B2)-1)+MID(B2,FIND("-",B2)+1,99)<2.5,"M","P") -> M | H2: =I2 & "-" & K2 -> 2-2 | I2: =IF(--LEFT(C2,FIND("-",C2)-1)=--MID(C2,FIND("-",C2)+1,99),"X",IF(--LEFT(C2,FIND("-",C2)-1)>--MID(C2,FIND("-",C2)+1,99),1,2)) -> 2 | K2: =IF(--LEFT(B2,FIND("-",B2)-1)=--MID(B2,FIND("-",B2)+1,99),"X",IF(--LEFT(B2,FIND("-",B2)-1)>--MID(B2,FIND("-",B2)+1,99),1,2)) -> 2 | M2: =IF(--LEFT(B2,FIND("-",B2)-1)+MID(B2,FIND("-",B2)+1,99)<1.5,"0-1",IF(--LEFT(B2,FIND("-",B2)-1)+MID(B2,FIND("-",B2)+1,99)<3.5,"2-3","+4")) -> 2-3 | N2: =IF(OR(I2="X",I2=1),"1X","") | O2: =IF(OR(I2=1,I2=2),"12","") -> 12 | P2: =IF(OR(I2="X",I2=2),"X2","") -> X2 | Q2: =IF(OR(K2="X",K2=1),"1X","") | R2: =IF(OR(K2=1,K2=2),"12","") -> 12 | S2: =IF(OR(K2="X",K2=2),"X2","") -> X2
A3: =Feuil2!B3 -> IFK Goteborg | B3: =Feuil2!C3 -> 1 - 0 | C3: =Feuil2!D3 -> 1 - 0 | F3: =SUBSTITUTE(B3," ","") -> 1-0 | G3: =IF(--LEFT(B3,FIND("-",B3)-1)+MID(B3,FIND("-",B3)+1,99)<2.5,"M","P") -> M | H3: =I3 & "-" & K3 -> 1-1 | I3: =IF(--LEFT(C3,FIND("-",C3)-1)=--MID(C3,FIND("-",C3)+1,99),"X",IF(--LEFT(C3,FIND("-",C3)-1)>--MID(C3,FIND("-",C3)+1,99),1,2)) -> 1 | K3: =IF(--LEFT(B3,FIND("-",B3)-1)=--MID(B3,FIND("-",B3)+1,99),"X",IF(--LEFT(B3,FIND("-",B3)-1)>--MID(B3,FIND("-",B3)+1,99),1,2)) -> 1 | M3: =IF(--LEFT(B3,FIND("-",B3)-1)+MID(B3,FIND("-",B3)+1,99)<1.5,"0-1",IF(--LEFT(B3,FIND("-",B3)-1)+MID(B3,FIND("-",B3)+1,99)<3.5,"2-3","+4")) -> 0-1 | N3: =IF(OR(I3="X",I3=1),"1X","") -> 1X | O3: =IF(OR(I3=1,I3=2),"12","") -> 12 | P3: =IF(OR(I3="X",I3=2),"X2","") | Q3: =IF(OR(K3="X",K3=1),"1X","") -> 1X | R3: =IF(OR(K3=1,K3=2),"12","") -> 12 | S3: =IF(OR(K3="X",K3=2),"X2","")
A4: =Feuil2!B4 -> Atvidabergs | B4: =Feuil2!C4 -> 4 - 2 | C4: =Feuil2!D4 -> 2 - 0 | F4: =SUBSTITUTE(B4," ","") -> 4-2 | G4: =IF(--LEFT(B4,FIND("-",B4)-1)+MID(B4,FIND("-",B4)+1,99)<2.5,"M","P") -> P | H4: =I4 & "-" & K4 -> 1-1 | I4: =IF(--LEFT(C4,FIND("-",C4)-1)=--MID(C4,FIND("-",C4)+1,99),"X",IF(--LEFT(C4,FIND("-",C4)-1)>--MID(C4,FIND("-",C4)+1,99),1,2)) -> 1 | K4: =IF(--LEFT(B4,FIND("-",B4)-1)=--MID(B4,FIND("-",B4)+1,99),"X",IF(--LEFT(B4,FIND("-",B4)-1)>--MID(B4,FIND("-",B4)+1,99),1,2)) -> 1 | M4: =IF(--LEFT(B4,FIND("-",B4)-1)+MID(B4,FIND("-",B4)+1,99)<1.5,"0-1",IF(--LEFT(B4,FIND("-",B4)-1)+MID(B4,FIND("-",B4)+1,99)<3.5,"2-3","+4")) -> +4 | N4: =IF(OR(I4="X",I4=1),"1X","") -> 1X | O4: =IF(OR(I4=1,I4=2),"12","") -> 12 | P4: =IF(OR(I4="X",I4=2),"X2","") | Q4: =IF(OR(K4="X",K4=1),"1X","") -> 1X | R4: =IF(OR(K4=1,K4=2),"12","") -> 12 | S4: =IF(OR(K4="X",K4=2),"X2","")
A5: =Feuil2!B5 -> Halmstads | B5: =Feuil2!C5 -> 0 - 1 | C5: =Feuil2!D5 -> 0 - 0 | F5: =SUBSTITUTE(B5," ","") -> 0-1 | G5: =IF(--LEFT(B5,FIND("-",B5)-1)+MID(B5,FIND("-",B5)+1,99)<2.5,"M","P") -> M | H5: =I5 & "-" & K5 -> X-2 | I5: =IF(--LEFT(C5,FIND("-",C5)-1)=--MID(C5,FIND("-",C5)+1,99),"X",IF(--LEFT(C5,FIND("-",C5)-1)>--MID(C5,FIND("-",C5)+1,99),1,2)) -> X | K5: =IF(--LEFT(B5,FIND("-",B5)-1)=--MID(B5,FIND("-",B5)+1,99),"X",IF(--LEFT(B5,FIND("-",B5)-1)>--MID(B5,FIND("-",B5)+1,99),1,2)) -> 2 | M5: =IF(--LEFT(B5,FIND("-",B5)-1)+MID(B5,FIND("-",B5)+1,99)<1.5,"0-1",IF(--LEFT(B5,FIND("-",B5)-1)+MID(B5,FIND("-",B5)+1,99)<3.5,"2-3","+4")) -> 0-1 | N5: =IF(OR(I5="X",I5=1),"1X","") -> 1X | O5: =IF(OR(I5=1,I5=2),"12","") | P5: =IF(OR(I5="X",I5=2),"X2","") -> X2 | Q5: =IF(OR(K5="X",K5=1),"1X","") | R5: =IF(OR(K5=1,K5=2),"12","") -> 12 | S5: =IF(OR(K5="X",K5=2),"X2","") -> X2
A6: =Feuil2!B6 -> Konyaspor | B6: =Feuil2!C6 -> 0 - 1 | C6: =Feuil2!D6 -> 0 - 1 | F6: =SUBSTITUTE(B6," ","") -> 0-1 | G6: =IF(--LEFT(B6,FIND("-",B6)-1)+MID(B6,FIND("-",B6)+1,99)<2.5,"M","P") -> M | H6: =I6 & "-" & K6 -> 2-2 | I6: =IF(--LEFT(C6,FIND("-",C6)-1)=--MID(C6,FIND("-",C6)+1,99),"X",IF(--LEFT(C6,FIND("-",C6)-1)>--MID(C6,FIND("-",C6)+1,99),1,2)) -> 2 | K6: =IF(--LEFT(B6,FIND("-",B6)-1)=--MID(B6,FIND("-",B6)+1,99),"X",IF(--LEFT(B6,FIND("-",B6)-1)>--MID(B6,FIND("-",B6)+1,99),1,2)) -> 2 | M6: =IF(--LEFT(B6,FIND("-",B6)-1)+MID(B6,FIND("-",B6)+1,99)<1.5,"0-1",IF(--LEFT(B6,FIND("-",B6)-1)+MID(B6,FIND("-",B6)+1,99)<3.5,"2-3","+4")) -> 0-1 | N6: =IF(OR(I6="X",I6=1),"1X","") | O6: =IF(OR(I6=1,I6=2),"12","") -> 12 | P6: =IF(OR(I6="X",I6=2),"X2","") -> X2 | Q6: =IF(OR(K6="X",K6=1),"1X","") | R6: =IF(OR(K6=1,K6=2),"12","") -> 12 | S6: =IF(OR(K6="X",K6=2),"X2","") -> X2
A7: =Feuil2!B7 -> Esbjerg | B7: =Feuil2!C7 -> 1 - 3 | C7: =Feuil2!D7 -> 1 - 1 | F7: =SUBSTITUTE(B7," ","") -> 1-3 | G7: =IF(--LEFT(B7,FIND("-",B7)-1)+MID(B7,FIND("-",B7)+1,99)<2.5,"M","P") -> P | H7: =I7 & "-" & K7 -> X-2 | I7: =IF(--LEFT(C7,FIND("-",C7)-1)=--MID(C7,FIND("-",C7)+1,99),"X",IF(--LEFT(C7,FIND("-",C7)-1)>--MID(C7,FIND("-",C7)+1,99),1,2)) -> X | K7: =IF(--LEFT(B7,FIND("-",B7)-1)=--MID(B7,FIND("-",B7)+1,99),"X",IF(--LEFT(B7,FIND("-",B7)-1)>--MID(B7,FIND("-",B7)+1,99),1,2)) -> 2 | M7: =IF(--LEFT(B7,FIND("-",B7)-1)+MID(B7,FIND("-",B7)+1,99)<1.5,"0-1",IF(--LEFT(B7,FIND("-",B7)-1)+MID(B7,FIND("-",B7)+1,99)<3.5,"2-3","+4")) -> +4 | N7: =IF(OR(I7="X",I7=1),"1X","") -> 1X | O7: =IF(OR(I7=1,I7=2),"12","") | P7: =IF(OR(I7="X",I7=2),"X2","") -> X2 | Q7: =IF(OR(K7="X",K7=1),"1X","") | R7: =IF(OR(K7=1,K7=2),"12","") -> 12 | S7: =IF(OR(K7="X",K7=2),"X2","") -> X2
A8: =Feuil2!B8 | B8: =Feuil2!C8 | C8: =Feuil2!D8 | F8: =SUBSTITUTE(B8," ","") | G8: =IF(--LEFT(B8,FIND("-",B8)-1)+MID(B8,FIND("-",B8)+1,99)<2.5,"M","P") -> #VALUE! | H8: =I8 & "-" & K8 -> #VALUE! | I8: =IF(--LEFT(C8,FIND("-",C8)-1)=--MID(C8,FIND("-",C8)+1,99),"X",IF(--LEFT(C8,FIND("-",C8)-1)>--MID(C8,FIND("-",C8)+1,99),1,2)) -> #VALUE! | K8: =IF(--LEFT(B8,FIND("-",B8)-1)=--MID(B8,FIND("-",B8)+1,99),"X",IF(--LEFT(B8,FIND("-",B8)-1)>--MID(B8,FIND("-",B8)+1,99),1,2)) -> #VALUE! | M8: =IF(--LEFT(B8,FIND("-",B8)-1)+MID(B8,FIND("-",B8)+1,99)<1.5,"0-1",IF(--LEFT(B8,FIND("-",B8)-1)+MID(B8,FIND("-",B8)+1,99)<3.5,"2-3","+4")) -> #VALUE! | N8: =IF(OR(I8="X",I8=1),"1X","") -> #VALUE! | O8: =IF(OR(I8=1,I8=2),"12","") -> #VALUE! | P8: =IF(OR(I8="X",I8=2),"X2","") -> #VALUE! | Q8: =IF(OR(K8="X",K8=1),"1X","") -> #VALUE! | R8: =IF(OR(K8=1,K8=2),"12","") -> #VALUE! | S8: =IF(OR(K8="X",K8=2),"X2","") -> #VALUE!
A9: =Feuil2!B9 | B9: =Feuil2!C9 | C9: =Feuil2!D9 | F9: =SUBSTITUTE(B9," ","") | G9: =IF(--LEFT(B9,FIND("-",B9)-1)+MID(B9,FIND("-",B9)+1,99)<2.5,"M","P") -> #VALUE! | H9: =I9 & "-" & K9 -> #VALUE! | I9: =IF(--LEFT(C9,FIND("-",C9)-1)=--MID(C9,FIND("-",C9)+1,99),"X",IF(--LEFT(C9,FIND("-",C9)-1)>--MID(C9,FIND("-",C9)+1,99),1,2)) -> #VALUE! | K9: =IF(--LEFT(B9,FIND("-",B9)-1)=--MID(B9,FIND("-",B9)+1,99),"X",IF(--LEFT(B9,FIND("-",B9)-1)>--MID(B9,FIND("-",B9)+1,99),1,2)) -> #VALUE! | M9: =IF(--LEFT(B9,FIND("-",B9)-1)+MID(B9,FIND("-",B9)+1,99)<1.5,"0-1",IF(--LEFT(B9,FIND("-",B9)-1)+MID(B9,FIND("-",B9)+1,99)<3.5,"2-3","+4")) -> #VALUE! | N9: =IF(OR(I9="X",I9=1),"1X","") -> #VALUE! | O9: =IF(OR(I9=1,I9=2),"12","") -> #VALUE! | P9: =IF(OR(I9="X",I9=2),"X2","") -> #VALUE! | Q9: =IF(OR(K9="X",K9=1),"1X","") -> #VALUE! | R9: =IF(OR(K9=1,K9=2),"12","") -> #VALUE! | S9: =IF(OR(K9="X",K9=2),"X2","") -> #VALUE!
A10: =Feuil2!B10 -> Spezia | B10: =Feuil2!C10 -> 1 - 1 | C10: =Feuil2!D10 -> 0 - 1 | F10: =SUBSTITUTE(B10," ","") -> 1-1 | G10: =IF(--LEFT(B10,FIND("-",B10)-1)+MID(B10,FIND("-",B10)+1,99)<2.5,"M","P") -> M | H10: =I10 & "-" & K10 -> 2-X | I10: =IF(--LEFT(C10,FIND("-",C10)-1)=--MID(C10,FIND("-",C10)+1,99),"X",IF(--LEFT(C10,FIND("-",C10)-1)>--MID(C10,FIND("-",C10)+1,99),1,2)) -> 2 | K10: =IF(--LEFT(B10,FIND("-",B10)-1)=--MID(B10,FIND("-",B10)+1,99),"X",IF(--LEFT(B10,FIND("-",B10)-1)>--MID(B10,FIND("-",B10)+1,99),1,2)) -> X | M10: =IF(--LEFT(B10,FIND("-",B10)-1)+MID(B10,FIND("-",B10)+1,99)<1.5,"0-1",IF(--LEFT(B10,FIND("-",B10)-1)+MID(B10,FIND("-",B10)+1,99)<3.5,"2-3","+4")) -> 2-3 | N10: =IF(OR(I10="X",I10=1),"1X","") | O10: =IF(OR(I10=1,I10=2),"12","") -> 12 | P10: =IF(OR(I10="X",I10=2),"X2","") -> X2 | Q10: =IF(OR(K10="X",K10=1),"1X","") -> 1X | R10: =IF(OR(K10=1,K10=2),"12","") | S10: =IF(OR(K10="X",K10=2),"X2","") -> X2
A11: =Feuil2!B11 -> Amiens | B11: =Feuil2!C11 -> 0 - 0 | C11: =Feuil2!D11 -> 0 - 0 | F11: =SUBSTITUTE(B11," ","") -> 0-0 | G11: =IF(--LEFT(B11,FIND("-",B11)-1)+MID(B11,FIND("-",B11)+1,99)<2.5,"M","P") -> M | H11: =I11 & "-" & K11 -> X-X | I11: =IF(--LEFT(C11,FIND("-",C11)-1)=--MID(C11,FIND("-",C11)+1,99),"X",IF(--LEFT(C11,FIND("-",C11)-1)>--MID(C11,FIND("-",C11)+1,99),1,2)) -> X | K11: =IF(--LEFT(B11,FIND("-",B11)-1)=--MID(B11,FIND("-",B11)+1,99),"X",IF(--LEFT(B11,FIND("-",B11)-1)>--MID(B11,FIND("-",B11)+1,99),1,2)) -> X | M11: =IF(--LEFT(B11,FIND("-",B11)-1)+MID(B11,FIND("-",B11)+1,99)<1.5,"0-1",IF(--LEFT(B11,FIND("-",B11)-1)+MID(B11,FIND("-",B11)+1,99)<3.5,"2-3","+4")) -> 0-1 | N11: =IF(OR(I11="X",I11=1),"1X","") -> 1X | O11: =IF(OR(I11=1,I11=2),"12","") | P11: =IF(OR(I11="X",I11=2),"X2","") -> X2 | Q11: =IF(OR(K11="X",K11=1),"1X","") -> 1X | R11: =IF(OR(K11=1,K11=2),"12","") | S11: =IF(OR(K11="X",K11=2),"X2","") -> X2
A12: =Feuil2!B12 -> Bury | B12: =Feuil2!C12 -> 0 - 2 | C12: =Feuil2!D12 -> 0 - 1 | F12: =SUBSTITUTE(B12," ","") -> 0-2 | G12: =IF(--LEFT(B12,FIND("-",B12)-1)+MID(B12,FIND("-",B12)+1,99)<2.5,"M","P") -> M | H12: =I12 & "-" & K12 -> 2-2 | I12: =IF(--LEFT(C12,FIND("-",C12)-1)=--MID(C12,FIND("-",C12)+1,99),"X",IF(--LEFT(C12,FIND("-",C12)-1)>--MID(C12,FIND("-",C12)+1,99),1,2)) -> 2 | K12: =IF(--LEFT(B12,FIND("-",B12)-1)=--MID(B12,FIND("-",B12)+1,99),"X",IF(--LEFT(B12,FIND("-",B12)-1)>--MID(B12,FIND("-",B12)+1,99),1,2)) -> 2 | M12: =IF(--LEFT(B12,FIND("-",B12)-1)+MID(B12,FIND("-",B12)+1,99)<1.5,"0-1",IF(--LEFT(B12,FIND("-",B12)-1)+MID(B12,FIND("-",B12)+1,99)<3.5,"2-3","+4")) -> 2-3 | N12: =IF(OR(I12="X",I12=1),"1X","") | O12: =IF(OR(I12=1,I12=2),"12","") -> 12 | P12: =IF(OR(I12="X",I12=2),"X2","") -> X2 | Q12: =IF(OR(K12="X",K12=1),"1X","") | R12: =IF(OR(K12=1,K12=2),"12","") -> 12 | S12: =IF(OR(K12="X",K12=2),"X2","") -> X2
... A129: =Feuil2!B129 | B129: =Feuil2!C129 | C129: =Feuil2!D129 | F129: =SUBSTITUTE(B129," ","") | G129: =IF(--LEFT(B129,FIND("-",B129)-1)+MID(B129,FIND("-",B129)+1,99)<2.5,"M","P") -> #VALUE! | H129: =I129 & "-" & K129 -> #VALUE! | I129: =IF(--LEFT(C129,FIND("-",C129)-1)=--MID(C129,FIND("-",C129)+1,99),"X",IF(--LEFT(C129,FIND("-",C129)-1)>--MID(C129,FIND("-",C129)+1,99),1,2)) -> #VALUE! | K129: =IF(--LEFT(B129,FIND("-",B129)-1)=--MID(B129,FIND("-",B129)+1,99),"X",IF(--LEFT(B129,FIND("-",B129)-1)>--MID(B129,FIND("-",B129)+1,99),1,2)) -> #VALUE! | M129: =IF(--LEFT(B129,FIND("-",B129)-1)+MID(B129,FIND("-",B129)+1,99)<1.5,"0-1",IF(--LEFT(B129,FIND("-",B129)-1)+MID(B129,FIND("-",B129)+1,99)<3.5,"2-3","+4")) -> #VALUE! | N129: =IF(OR(I129="X",I129=1),"1X","") -> #VALUE! | O129: =IF(OR(I129=1,I129=2),"12","") -> #VALUE! | P129: =IF(OR(I129="X",I129=2),"X2","") -> #VALUE! | Q129: =IF(OR(K129="X",K129=1),"1X","") -> #VALUE! | R129: =IF(OR(K129=1,K129=2),"12","") -> #VALUE! | S129: =IF(OR(K129="X",K129=2),"X2","") -> #VALUE!
A130: =Feuil2!B130 | B130: =Feuil2!C130 | C130: =Feuil2!D130 | F130: =SUBSTITUTE(B130," ","") | G130: =IF(--LEFT(B130,FIND("-",B130)-1)+MID(B130,FIND("-",B130)+1,99)<2.5,"M","P") -> #VALUE! | H130: =I130 & "-" & K130 -> #VALUE! | I130: =IF(--LEFT(C130,FIND("-",C130)-1)=--MID(C130,FIND("-",C130)+1,99),"X",IF(--LEFT(C130,FIND("-",C130)-1)>--MID(C130,FIND("-",C130)+1,99),1,2)) -> #VALUE! | K130: =IF(--LEFT(B130,FIND("-",B130)-1)=--MID(B130,FIND("-",B130)+1,99),"X",IF(--LEFT(B130,FIND("-",B130)-1)>--MID(B130,FIND("-",B130)+1,99),1,2)) -> #VALUE! | M130: =IF(--LEFT(B130,FIND("-",B130)-1)+MID(B130,FIND("-",B130)+1,99)<1.5,"0-1",IF(--LEFT(B130,FIND("-",B130)-1)+MID(B130,FIND("-",B130)+1,99)<3.5,"2-3","+4")) -> #VALUE! | N130: =IF(OR(I130="X",I130=1),"1X","") -> #VALUE! | O130: =IF(OR(I130=1,I130=2),"12","") -> #VALUE! | P130: =IF(OR(I130="X",I130=2),"X2","") -> #VALUE! | Q130: =IF(OR(K130="X",K130=1),"1X","") -> #VALUE! | R130: =IF(OR(K130=1,K130=2),"12","") -> #VALUE! | S130: =V133I(OR(K130="X",K130=2),"X2","") -> #NAME?
A131: =Feuil2!B131 | B131: =Feuil2!C131 | C131: =Feuil2!D131 | F131: =SUBSTITUTE(B131," ","") | G131: =IF(--LEFT(B131,FIND("-",B131)-1)+MID(B131,FIND("-",B131)+1,99)<2.5,"M","P") -> #VALUE! | H131: =I131 & "-" & K131 -> #VALUE! | I131: =IF(--LEFT(C131,FIND("-",C131)-1)=--MID(C131,FIND("-",C131)+1,99),"X",IF(--LEFT(C131,FIND("-",C131)-1)>--MID(C131,FIND("-",C131)+1,99),1,2)) -> #VALUE! | K131: =IF(--LEFT(B131,FIND("-",B131)-1)=--MID(B131,FIND("-",B131)+1,99),"X",IF(--LEFT(B131,FIND("-",B131)-1)>--MID(B131,FIND("-",B131)+1,99),1,2)) -> #VALUE! | M131: =IF(--LEFT(B131,FIND("-",B131)-1)+MID(B131,FIND("-",B131)+1,99)<1.5,"0-1",IF(--LEFT(B131,FIND("-",B131)-1)+MID(B131,FIND("-",B131)+1,99)<3.5,"2-3","+4")) -> #VALUE! | N131: =IF(OR(I131="X",I131=1),"1X","") -> #VALUE! | O131: =IF(OR(I131=1,I131=2),"12","") -> #VALUE! | P131: =IF(OR(I131="X",I131=2),"X2","") -> #VALUE! | Q131: =IF(OR(K131="X",K131=1),"1X","") -> #VALUE! | R131: =IF(OR(K131=1,K131=2),"12","") -> #VALUE! | S131: =IF(OR(K131="X",K131=2),"X2","") -> #VALUE!
A132: =Feuil2!B132 | B132: =Feuil2!C132 | C132: =Feuil2!D132 | F132: =SUBSTITUTE(B132," ","") | G132: =IF(--LEFT(B132,FIND("-",B132)-1)+MID(B132,FIND("-",B132)+1,99)<2.5,"M","P") -> #VALUE! | H132: =I132 & "-" & K132 -> #VALUE! | I132: =IF(--LEFT(C132,FIND("-",C132)-1)=--MID(C132,FIND("-",C132)+1,99),"X",IF(--LEFT(C132,FIND("-",C132)-1)>--MID(C132,FIND("-",C132)+1,99),1,2)) -> #VALUE! | K132: =IF(--LEFT(B132,FIND("-",B132)-1)=--MID(B132,FIND("-",B132)+1,99),"X",IF(--LEFT(B132,FIND("-",B132)-1)>--MID(B132,FIND("-",B132)+1,99),1,2)) -> #VALUE! | M132: =IF(--LEFT(B132,FIND("-",B132)-1)+MID(B132,FIND("-",B132)+1,99)<1.5,"0-1",IF(--LEFT(B132,FIND("-",B132)-1)+MID(B132,FIND("-",B132)+1,99)<3.5,"2-3","+4")) -> #VALUE! | N132: =IF(OR(I132="X",I132=1),"1X","") -> #VALUE! | O132: =IF(OR(I132=1,I132=2),"12","") -> #VALUE! | P132: =IF(OR(I132="X",I132=2),"X2","") -> #VALUE! | Q132: =IF(OR(K132="X",K132=1),"1X","") -> #VALUE! | R132: =IF(OR(K132=1,K132=2),"12","") -> #VALUE! | S132: =IF(OR(K132="X",K132=2),"X2","") -> #VALUE!
A133: =Feuil2!B133 | B133: =Feuil2!C133 | C133: =Feuil2!D133 | F133: =SUBSTITUTE(B133," ","") | G133: =IF(--LEFT(B133,FIND("-",B133)-1)+MID(B133,FIND("-",B133)+1,99)<2.5,"M","P") -> #VALUE! | H133: =I133 & "-" & K133 -> #VALUE! | I133: =IF(--LEFT(C133,FIND("-",C133)-1)=--MID(C133,FIND("-",C133)+1,99),"X",IF(--LEFT(C133,FIND("-",C133)-1)>--MID(C133,FIND("-",C133)+1,99),1,2)) -> #VALUE! | K133: =IF(--LEFT(B133,FIND("-",B133)-1)=--MID(B133,FIND("-",B133)+1,99),"X",IF(--LEFT(B133,FIND("-",B133)-1)>--MID(B133,FIND("-",B133)+1,99),1,2)) -> #VALUE! | M133: =IF(--LEFT(B133,FIND("-",B133)-1)+MID(B133,FIND("-",B133)+1,99)<1.5,"0-1",IF(--LEFT(B133,FIND("-",B133)-1)+MID(B133,FIND("-",B133)+1,99)<3.5,"2-3","+4")) -> #VALUE! | N133: =IF(OR(I133="X",I133=1),"1X","") -> #VALUE! | O133: =IF(OR(I133=1,I133=2),"12","") -> #VALUE! | P133: =IF(OR(I133="X",I133=2),"X2","") -> #VALUE! | Q133: =IF(OR(K133="X",K133=1),"1X","") -> #VALUE! | R133: =IF(OR(K133=1,K133=2),"12","") -> #VALUE! | S133: =IF(OR(K133="X",K133=2),"X2","") -> #VALUE!
A134: =Feuil2!B134 | B134: =Feuil2!C134 | C134: =Feuil2!D134 | F134: =SUBSTITUTE(B134," ","") | G134: =IF(--LEFT(B134,FIND("-",B134)-1)+MID(B134,FIND("-",B134)+1,99)<2.5,"M","P") -> #VALUE! | H134: =I134 & "-" & K134 -> #VALUE! | I134: =IF(--LEFT(C134,FIND("-",C134)-1)=--MID(C134,FIND("-",C134)+1,99),"X",IF(--LEFT(C134,FIND("-",C134)-1)>--MID(C134,FIND("-",C134)+1,99),1,2)) -> #VALUE! | K134: =IF(--LEFT(B134,FIND("-",B134)-1)=--MID(B134,FIND("-",B134)+1,99),"X",IF(--LEFT(B134,FIND("-",B134)-1)>--MID(B134,FIND("-",B134)+1,99),1,2)) -> #VALUE! | M134: =IF(--LEFT(B134,FIND("-",B134)-1)+MID(B134,FIND("-",B134)+1,99)<1.5,"0-1",IF(--LEFT(B134,FIND("-",B134)-1)+MID(B134,FIND("-",B134)+1,99)<3.5,"2-3","+4")) -> #VALUE! | N134: =IF(OR(I134="X",I134=1),"1X","") -> #VALUE! | O134: =IF(OR(I134=1,I134=2),"12","") -> #VALUE! | P134: =IF(OR(I134="X",I134=2),"X2","") -> #VALUE! | Q134: =IF(OR(K134="X",K134=1),"1X","") -> #VALUE! | R134: =IF(OR(K134=1,K134=2),"12","") -> #VALUE! | S134: =IF(OR(K134="X",K134=2),"X2","") -> #VALUE!
A135: =Feuil2!B135 | B135: =Feuil2!C135 | C135: =Feuil2!D135 | F135: =SUBSTITUTE(B135," ","") | G135: =IF(--LEFT(B135,FIND("-",B135)-1)+MID(B135,FIND("-",B135)+1,99)<2.5,"M","P") -> #VALUE! | H135: =I135 & "-" & K135 -> #VALUE! | I135: =IF(--LEFT(C135,FIND("-",C135)-1)=--MID(C135,FIND("-",C135)+1,99),"X",IF(--LEFT(C135,FIND("-",C135)-1)>--MID(C135,FIND("-",C135)+1,99),1,2)) -> #VALUE! | K135: =IF(--LEFT(B135,FIND("-",B135)-1)=--MID(B135,FIND("-",B135)+1,99),"X",IF(--LEFT(B135,FIND("-",B135)-1)>--MID(B135,FIND("-",B135)+1,99),1,2)) -> #VALUE! | M135: =IF(--LEFT(B135,FIND("-",B135)-1)+MID(B135,FIND("-",B135)+1,99)<1.5,"0-1",IF(--LEFT(B135,FIND("-",B135)-1)+MID(B135,FIND("-",B135)+1,99)<3.5,"2-3","+4")) -> #VALUE! | N135: =IF(OR(I135="X",I135=1),"1X","") -> #VALUE! | O135: =IF(OR(I135=1,I135=2),"12","") -> #VALUE! | P135: =IF(OR(I135="X",I135=2),"X2","") -> #VALUE! | Q135: =IF(OR(K135="X",K135=1),"1X","") -> #VALUE! | R135: =IF(OR(K135=1,K135=2),"12","") -> #VALUE! | S135: =IF(OR(K135="X",K135=2),"X2","") -> #VALUE!
