Workbook

Sheet Feuil4
A1: Zénith Saint-Pétersbourg
A2: Djurgardens IF
A3: IFK Göteborg
A4: Åtvidabergs FF
A5: Halmstads BK
A6: Konyaspor
A7: Esbjerg
A8: FC Trollhattan
A9: FC Kaiserslautern
A10: Spezia
A11: Amiens SC
A12: Bury
... A122: Cultural Leonesa

Sheet Feuil5
A1: 23:00 Chiapas - Veracruz 1:1 | B1: 0:1)
A2: 02:15 Houston - Toronto 1:1 | B2: 1:1)
A3: 00:00 Seattle - Salt Lake 2:1 | B3: 2:0)
A4: 15:30 Gazovik Orenburg - Amkar 0:0 | B4: 0:0)
A5: 16:30 Helsinki - Kuopion 2:3 | B5: 1:0)
A6: 17:30 Blau-Weiss Linz - Autriche Lustenau 1:1 | B6: 1:1)
A7: 18:00 Aalborg - Esbjerg 2:1 | B7: 2:1)
A8: 17:00 Wisla Plock - Jagellonia 1:0 | B8: 1:0)
A9: 18:00 Kristiansund - Sandnes 2:3 | B9: 2:1)
A10: 18:00 Trelleborg - Atvidaberg 5:2 | B10: 2:1)
A11: 18:00 Varnamo - Angelholms 1:1 | B11: 0:1)
A12: 19:00 Jong Utrecht - Dordrecht 1:1 | B12: 1:1)
... A24: 20:00 Cagliari - Spal 2013 5:1 | B24: 3:0)

Sheet Feuil1
A1: =Feuil4!A1 -> Zénith Saint-Pétersbourg | B1: =IFERROR(INDEX($E$3:$E$2101,MATCH(A1,$F$3:$F$2950,0)),"") -> Zenit St. Petersburg | E1: Manchester United | F1: Manchester United | G1: Manchester United | H1: Superligaen - Danemark | I1: 0.75 | K1: FC Nordsjælland | L1: NORDSJAELLAND
A2: =Feuil4!A2 -> Djurgardens IF | B2: =IFERROR(INDEX($E$3:$E$2101,MATCH(A2,$F$3:$F$2950,0)),"") -> Djurgardens | E2: Stoke City | F2: Stoke City | G2: Stoke City | H2: Superligaen - Danemark | I2: 0.84375 | K2: KSV 1919 | L2: KAPFENBERG
A3: =Feuil4!A3 -> IFK Göteborg | B3: =IFERROR(INDEX($E$3:$E$2101,MATCH(A3,$F$3:$F$2950,0)),"") -> IFK Goteborg | E3: Swansea City | F3: Swansea City | G3: Swansea City | H3: Erste Liga - Autriche | I3: 0.77083333 | K3: Duisbourg | L3: DUISBURG
A4: =Feuil4!A4 -> Åtvidabergs FF | B4: =IFERROR(INDEX($E$3:$E$2101,MATCH(A4,$F$3:$F$2950,0)),"") -> Atvidabergs | E4: Tottenham Hotspur | F4: Tottenham | G4: Tottenham Hotspur | H4: Erste Liga - Autriche | I4: 0.77083333 | K4: RasenBallsport Leipzig | L4: RB LEIPZIG
A5: =Feuil4!A5 -> Halmstads BK | B5: =IFERROR(INDEX($E$3:$E$2101,MATCH(A5,$F$3:$F$2950,0)),"") -> Halmstads | E5: Watford | F5: Watford | G5: Watford | H5: 2e Bundesliga - Allemagne | I5: 0.64583333 | K5: Floridsdorfer AC | L5: FAC TEAM FUR WIEN
A6: =Feuil4!A6 -> Konyaspor | B6: =IFERROR(INDEX($E$3:$E$2101,MATCH(A6,$F$3:$F$2950,0)),"") -> Konyaspor | E6: West Bromwich(WBA) | F6: West Bromwich | G6: West Bromwich(WBA) | H6: 2e Bundesliga - Allemagne | I6: 0.64583333 | K6: Östersunds FK | L6: OSTERSUNDS
A7: =Feuil4!A7 -> Esbjerg | B7: =IFERROR(INDEX($E$3:$E$2101,MATCH(A7,$F$3:$F$2950,0)),"") -> Esbjerg | E7: Burnley | F7: Burnley | G7: Burnley | H7: Ligue 2 - France | I7: 0.625 | K7: US Créteil-Lusitanos | L7: CRETEIL
A8: =Feuil4!A8 -> FC Trollhattan | B8: =IFERROR(INDEX($E$3:$E$2101,MATCH(A8,$F$3:$F$2950,0)),"") | E8: Leicester City | F8: Leicester | G8: Leicester City | H8: Premier League - Russie | I8: 0.77083333 | K8: Bourg-Péronnas | L8: BOURG-PERONNAS
A9: =Feuil4!A9 -> FC Kaiserslautern | B9: =IFERROR(INDEX($E$3:$E$2101,MATCH(A9,$F$3:$F$2950,0)),"") | E9: Southampton | F9: Southampton | G9: Southampton | H9: League One - Angleterre | I9: 0.66666667 | K9: La Gantoise | L9: GENT
A10: =Feuil4!A10 -> Spezia | B10: =IFERROR(INDEX($E$3:$E$2101,MATCH(A10,$F$3:$F$2950,0)),"") -> Spezia | E10: Manchester City | F10: Manchester City | G10: Manchester City | H10: League One - Angleterre | I10: 0.66666667 | K10: Red Star FC 93 | L10: RED STAR PARIS
A11: =Feuil4!A11 -> Amiens SC | B11: =IFERROR(INDEX($E$3:$E$2101,MATCH(A11,$F$3:$F$2950,0)),"") -> Amiens | E11: Hull City | F11: Hull City | G11: Hull City | H11: League One - Angleterre | I11: 0.66666667 | K11: Hanovre 96 | L11: HANNOVER 96
A12: =Feuil4!A12 -> Bury | B12: =IFERROR(INDEX($E$3:$E$2101,MATCH(A12,$F$3:$F$2950,0)),"") -> Bury | E12: Crystal Palace | F12: Crystal Palace | G12: Crystal Palace | H12: Apertura - Meique | I12: 0.16666667 | K12: St. Patricks Athletic | L12: ST PATRICKS
... A44: =Feuil4!A44 -> Brescia | B44: =IFERROR(INDEX($E$3:$E$2101,MATCH(A44,$F$3:$F$2950,0)),"") -> Brescia | E44: Norwich City | F44: Norwich City | G44: Norwich City | H44: Veikkausliiga - Finlande | I44: 0.54166667 | K44: Morelia | L44: MONARCAS
A45: =Feuil4!A45 -> Frosinone | B45: =IFERROR(INDEX($E$3:$E$2101,MATCH(A45,$F$3:$F$2950,0)),"") -> Frosinone | H45: Veikkausliiga - Finlande | I45: 0.625 | K45: Jaguares Chiapas | L45: CHIAPAS
A46: =Feuil4!A46 -> Pisa | B46: =IFERROR(INDEX($E$3:$E$2101,MATCH(A46,$F$3:$F$2950,0)),"") -> Pisa | E46: Bolton Wanderers | F46: Bolton | G46: Bolton Wanderers | H46: Veikkausliiga - Finlande | I46: 0.625
A47: =Feuil4!A47 -> Perugia | B47: =IFERROR(INDEX($E$3:$E$2101,MATCH(A47,$F$3:$F$2950,0)),"") -> Perugia | E47: Bradford City | F47: Bradford City | G47: Bradford City | H47: 2e Bundesliga - Allemagne | I47: 0.54166667 | K47: FC Copenhague | L47: FC COPENHAGEN
A48: =Feuil4!A48 -> Pro Vercelli | B48: =IFERROR(INDEX($E$3:$E$2101,MATCH(A48,$F$3:$F$2950,0)),"") -> Pro Vercelli | E48: Bury | F48: Bury | G48: Bury | K48: Dynamo Moscou | L48: DINAMO MOSCOU
A49: =Feuil4!A49 -> Avellino | B49: =IFERROR(INDEX($E$3:$E$2101,MATCH(A49,$F$3:$F$2950,0)),"") -> Avellino | E49: Millwall | F49: Millwall | G49: Millwall | K49: Kuban Krasnodar | L49: KUBAN
A50: =Feuil4!A50 -> Lokeren | B50: =IFERROR(INDEX($E$3:$E$2101,MATCH(A50,$F$3:$F$2950,0)),"") -> Lokeren | E50: Northampton Town | F50: Northampton Town | G50: Northampton Town | H50: Premiership - Écosse | I50: 0.5625 | K50: FC St Gall | L50: ST GALLEN
A51: =Feuil4!A51 -> Genoa CFC | B51: =IFERROR(INDEX($E$3:$E$2101,MATCH(A51,$F$3:$F$2950,0)),"") -> Genoa | E51: Oxford United | F51: Oxford United | G51: Oxford United | H51: Premiership - Écosse | I51: 0.66666667 | K51: Stade Rennais | L51: RENNES
A52: =Feuil4!A52 -> Hamilton Academical | B52: =IFERROR(INDEX($E$3:$E$2101,MATCH(A52,$F$3:$F$2950,0)),"") -> Hamilton Academical | E52: Rochdale | F52: Rochdale | G52: Rochdale | H52: Premiership - Écosse | I52: 0.66666667 | K52: AS Monaco | L52: MONACO
A53: =Feuil4!A53 -> Bristol City | B53: =IFERROR(INDEX($E$3:$E$2101,MATCH(A53,$F$3:$F$2950,0)),"") -> Bristol City | E53: Scunthorpe United | F53: Scunthorpe United | G53: Scunthorpe United | H53: Premiership - Écosse | I53: 0.66666667 | K53: Arsenal | L53: ARSENAL
A54: =Feuil4!A54 -> Arsenal | B54: =IFERROR(INDEX($E$3:$E$2101,MATCH(A54,$F$3:$F$2950,0)),"") -> Arsenal | E54: Shrewsbury Town | F54: Shrewsbury Town | G54: Shrewsbury Town | K54: SBV Excelsior | L54: EXCELSIOR
A55: =Feuil4!A55 -> Liverpool | B55: =IFERROR(INDEX($E$3:$E$2101,MATCH(A55,$F$3:$F$2950,0)),"") -> Liverpool | E55: Southend United | F55: Southend United | G55: Southend United | H55: Tippeligaen - Norvège | I55: 0.64583333 | K55: Lazio Rome | L55: LAZIO
A56: =Feuil4!A56 -> Leeds | B56: =IFERROR(INDEX($E$3:$E$2101,MATCH(A56,$F$3:$F$2950,0)),"") -> Leeds United | E56: Swindon Town | F56: Swindon Town | G56: Swindon Town | H56: Allsvenskan - Suède | I56: 0.66666667 | K56: Sampdoria de Gênes | L56: SAMPDORIA
A57: =Feuil4!A57 -> Newcastle | B57: =IFERROR(INDEX($E$3:$E$2101,MATCH(A57,$F$3:$F$2950,0)),"") -> Newcastle United | E57: Walsall | F57: Walsall | G57: Walsall | H57: Allsvenskan - Suède | I57: 0.66666667 | K57: IFK Göteborg | L57: GOTHENBURG
A58: =Feuil4!A58 -> Newport County | B58: =IFERROR(INDEX($E$3:$E$2101,MATCH(A58,$F$3:$F$2950,0)),"") -> Newport County | E58: Fleetwood Town | F58: Fleetwood Town | G58: Fleetwood Town | H58: Superettan - Suède | I58: 0.66666667 | K58: Fenerbahçe | L58: FENERBAHCE
A59: =Feuil4!A59 -> St. Patricks Athletic | B59: =IFERROR(INDEX($E$3:$E$2101,MATCH(A59,$F$3:$F$2950,0)),"") -> St. Patricks Athletic | E59: Coventry City | F59: Coventry City | G59: Coventry City | H59: Bundesliga - Autriche | I59: 0.66666667 | K59: FSV Mayence | L59: MAINZ 05
A60: =Feuil4!A60 -> Oeste | B60: =IFERROR(INDEX($E$3:$E$2101,MATCH(A60,$F$3:$F$2950,0)),"") -> Oeste | E60: Oldham Athletic | F60: Oldham Athletic | G60: Oldham Athletic | H60: Bundesliga - Autriche | I60: 0.77083333 | K60: Bodø Glimt | L60: BODO GLIMT
A61: =Feuil4!A61 -> Sampaio Correa | B61: =IFERROR(INDEX($E$3:$E$2101,MATCH(A61,$F$3:$F$2950,0)),"") -> Sampaio Correa | E61: Sheffield United | F61: Sheffield United | G61: Sheffield United | H61: Bundesliga - Autriche | I61: 0.77083333 | K61: Valerenga | L61: VALERENGA
A62: =Feuil4!A62 -> Goias | B62: =IFERROR(INDEX($E$3:$E$2101,MATCH(A62,$F$3:$F$2950,0)),"") | E62: AFC Wimbledon | F62: AFC Wimbledon | G62: AFC Wimbledon | H62: Bundesliga - Autriche | I62: 0.77083333 | K62: FC Séville | L62: SEVILLE
A63: =Feuil4!A63 -> Ebreichsdorf | B63: =IFERROR(INDEX($E$3:$E$2101,MATCH(A63,$F$3:$F$2950,0)),"") | E63: Peterborough United | F63: Peterborough United | G63: Peterborough United | H63: Premier League - Russie | I63: 0.66666667 | K63: Sarpsborg 08 | L63: RAPID VIENNA
A64: =Feuil4!A64 -> Red Bull Salzbourg | B64: =IFERROR(INDEX($E$3:$E$2101,MATCH(A64,$F$3:$F$2950,0)),"") -> Red Bull Salzburg | E64: Milton Keynes Dons | F64: Milton Keynes Dons | G64: Milton Keynes Dons | K64: Rapid Vienne | L64: RAPID VIENNA
A65: =Feuil4!A65 -> SKN St. Poelten | B65: =IFERROR(INDEX($E$3:$E$2101,MATCH(A65,$F$3:$F$2950,0)),"") -> SKN St. Polten | E65: Gillingham | F65: Gillingham | G65: Gillingham | H65: Championship - Angleterre | I65: 0.66666667 | K65: Real Majorque | L65: MALLORCA
A66: =Feuil4!A66 -> FC BW Linz | B66: =IFERROR(INDEX($E$3:$E$2101,MATCH(A66,$F$3:$F$2950,0)),"") -> FC Blau Weiss Linz | E66: Chesterfield | F66: Chesterfield | G66: Chesterfield | H66: Championship - Angleterre | I66: 0.66666667 | K66: Uniao de Madeira | L66: UNIAO MADEIRA
A67: =Feuil4!A67 -> Vizela | B67: =IFERROR(INDEX($E$3:$E$2101,MATCH(A67,$F$3:$F$2950,0)),"") | E67: Bristol Rovers | F67: Bristol Rovers | G67: Bristol Rovers | H67: Championship - Angleterre | I67: 0.66666667 | K67: Mouscron-Péruwelz | L67: MOUSCRON-PERUWELZ
A68: =Feuil4!A68 -> Vitoria Setubal | B68: =IFERROR(INDEX($E$3:$E$2101,MATCH(A68,$F$3:$F$2950,0)),"") -> Vitoria Setubal | E68: Port Vale | F68: Port Vale | G68: Port Vale | H68: Championship - Angleterre | I68: 0.66666667 | K68: Club Atlético Temperley | L68: ATL TEMPERLEY
A69: =Feuil4!A69 -> Penafiel | B69: =IFERROR(INDEX($E$3:$E$2101,MATCH(A69,$F$3:$F$2950,0)),"") | E69: Charlton Athletic | F69: Charlton | G69: Charlton Athletic | H69: Championship - Angleterre | I69: 0.66666667 | K69: San Martin San Juan | L69: SAN MARTIN SJ
A70: =Feuil4!A70 -> Varzim | B70: =IFERROR(INDEX($E$3:$E$2101,MATCH(A70,$F$3:$F$2950,0)),"") | H70: Championship - Angleterre | I70: 0.66666667 | K70: Audax Sao Paulo Esporte Clube | L70: AUDAX SP
A71: =Feuil4!A71 -> Maritimo Funchal | B71: =IFERROR(INDEX($E$3:$E$2101,MATCH(A71,$F$3:$F$2950,0)),"") -> Maritimo Funchal | E71: Accrington Stanley | F71: Accrington Stanley | G71: Accrington Stanley | H71: Championship - Angleterre | I71: 0.66666667 | K71: FC Liefering | L71: FC Liefering
A72: =Feuil4!A72 -> Futebol Clube de Arouca | B72: =IFERROR(INDEX($E$3:$E$2101,MATCH(A72,$F$3:$F$2950,0)),"") -> FC Arouca | E72: Blackpool | F72: Blackpool | G72: Blackpool | H72: Championship - Angleterre | I72: 0.66666667 | K72: SC Wiener Neustadt | L72: SC Wiener Neustadt
A73: =Feuil4!A73 -> Moreirense | B73: =IFERROR(INDEX($E$3:$E$2101,MATCH(A73,$F$3:$F$2950,0)),"") -> Moreirense | E73: Cambridge United | F73: Cambridge United | G73: Cambridge United | H73: Championship - Angleterre | I73: 0.66666667 | K73: SV Austria Salzburg | L73: SV Austria Salzburg
A74: =Feuil4!A74 -> Hanovre 96 | B74: =IFERROR(INDEX($E$3:$E$2101,MATCH(A74,$F$3:$F$2950,0)),"") -> Hannover 96 | E74: Cheltenham Town | F74: Cheltenham Town | G74: Cheltenham Town | H74: League One - Angleterre | I74: 0.66666667 | K74: FSV Francfort | L74: FSV Francfort
A75: =Feuil4!A75 -> FC Heidenheim 1846 | B75: =IFERROR(INDEX($E$3:$E$2101,MATCH(A75,$F$3:$F$2950,0)),"") -> Heidenheimer | E75: Crawley Town | F75: Crawley Town | G75: Crawley Town | H75: League One - Angleterre | I75: 0.66666667 | K75: Crotone | L75: Crotone
A76: =Feuil4!A76 -> Greuther Fürth | B76: =IFERROR(INDEX($E$3:$E$2101,MATCH(A76,$F$3:$F$2950,0)),"") -> Greuther Furth | E76: Grimsby Town | F76: Grimsby Town | G76: Grimsby Town | H76: League One - Angleterre | I76: 0.66666667 | K76: Pescara | L76: Pescara
A77: =Feuil4!A77 -> FC Astoria Walldorf | B77: =IFERROR(INDEX($E$3:$E$2101,MATCH(A77,$F$3:$F$2950,0)),"") | E77: Hartlepool United | F77: Hartlepool United | G77: Hartlepool United | H77: League One - Angleterre | I77: 0.66666667 | K77: FK Haugesund | L77: FK Haugesund
A78: =Feuil4!A78 -> FC Cologne | B78: =IFERROR(INDEX($E$3:$E$2101,MATCH(A78,$F$3:$F$2950,0)),"") -> FC Koln | E78: Newport County | F78: Newport County | G78: Newport County | H78: League One - Angleterre | I78: 0.66666667 | K78: Valenciennes FC | L78: Valenciennes FC
A79: =Feuil4!A79 -> Bayern Munich | B79: =IFERROR(INDEX($E$3:$E$2101,MATCH(A79,$F$3:$F$2950,0)),"") | E79: Plymouth Argyle | F79: Plymouth Argyle | G79: Plymouth Argyle | H79: League One - Angleterre | I79: 0.66666667 | K79: Stade Lavallois | L79: Stade Lavallois
A80: =Feuil4!A80 -> Nuremberg | B80: =IFERROR(INDEX($E$3:$E$2101,MATCH(A80,$F$3:$F$2950,0)),"") -> Nurnberg | E80: Portsmouth | F80: Portsmouth | G80: Portsmouth | H80: League One - Angleterre | I80: 0.66666667 | K80: Tours FC | L80: Tours FC
A81: =Feuil4!A81 -> Borussia Dortmund | B81: =IFERROR(INDEX($E$3:$E$2101,MATCH(A81,$F$3:$F$2950,0)),"") -> Borussia Dortmund | E81: Stevenage Borough | F81: Stevenage | G81: Stevenage Borough | H81: League One - Angleterre | I81: 0.66666667 | K81: RC Lens | L81: RC Lens
A82: =Feuil4!A82 -> Kozakken Boys | B82: =IFERROR(INDEX($E$3:$E$2101,MATCH(A82,$F$3:$F$2950,0)),"") | E82: Yeovil Town | F82: Yeovil Town | G82: Yeovil Town | H82: League One - Angleterre | I82: 0.66666667 | K82: FC Sochaux Montbéliard | L82: FC Sochaux Montbéliard
A83: =Feuil4!A83 -> Vitesse Arnhem | B83: =IFERROR(INDEX($E$3:$E$2101,MATCH(A83,$F$3:$F$2950,0)),"") -> Vitesse Arnhem | E83: Exeter City | F83: Exeter City | G83: Exeter City | K83: De Graafschap | L83: De Graafschap
A84: =Feuil4!A84 -> Heracles | B84: =IFERROR(INDEX($E$3:$E$2101,MATCH(A84,$F$3:$F$2950,0)),"") -> Heracles Almelo | E84: Wycombe Wanderers | F84: Wycombe Wanderers | G84: Wycombe Wanderers | K84: Olympique Lyonnais | L84: Olympique Lyonnais
A85: =Feuil4!A85 -> IJsselmeervogels | B85: =IFERROR(INDEX($E$3:$E$2101,MATCH(A85,$F$3:$F$2950,0)),"") | E85: Carlisle United | F85: Carlisle United | G85: Carlisle United | K85: Levante | L85: Levante
A86: =Feuil4!A86 -> FC Utrecht | B86: =IFERROR(INDEX($E$3:$E$2101,MATCH(A86,$F$3:$F$2950,0)),"") -> FC Utrecht | E86: Doncaster Rovers | F86: Doncaster Rovers | G86: Doncaster Rovers | H86: League Two - Angleterre | I86: 0.66666667 | K86: Brighton & Hove Albion | L86: Brighton & Hove Albion
A87: =Feuil4!A87 -> AZ Alkmaar | B87: =IFERROR(INDEX($E$3:$E$2101,MATCH(A87,$F$3:$F$2950,0)),"") -> AZ Alkmaar | E87: Barnet | F87: Barnet | G87: Barnet | H87: League Two - Angleterre | I87: 0.66666667 | K87: Hull City | L87: Hull City
A88: =Feuil4!A88 -> Feyenoord Rotterdam | B88: =IFERROR(INDEX($E$3:$E$2101,MATCH(A88,$F$3:$F$2950,0)),"") -> Feyenoord | E88: Leyton Orient | F88: Leyton Orient | G88: Leyton Orient | H88: League Two - Angleterre | I88: 0.66666667 | K88: Bohemian FC Dublin | L88: Bohemian FC Dublin
A89: =Feuil4!A89 -> Châteauroux | B89: =IFERROR(INDEX($E$3:$E$2101,MATCH(A89,$F$3:$F$2950,0)),"") | E89: Notts County | F89: Notts County | G89: Notts County | H89: League Two - Angleterre | I89: 0.66666667 | K89: Dundalk | L89: Dundalk
A90: =Feuil4!A90 -> SC Bastia | B90: =IFERROR(INDEX($E$3:$E$2101,MATCH(A90,$F$3:$F$2950,0)),"") -> Bastia | E90: Crewe Alexandra | F90: Crewe Alexandra | G90: Crewe Alexandra | H90: League Two - Angleterre | I90: 0.66666667 | K90: Galway FC | L90: Galway FC
A91: =Feuil4!A91 -> Dijon FCO | B91: =IFERROR(INDEX($E$3:$E$2101,MATCH(A91,$F$3:$F$2950,0)),"") -> Dijon | E91: Mansfield Town | F91: Mansfield Town | G91: Mansfield Town | H91: League Two - Angleterre | I91: 0.66666667 | K91: Waterford United | L91: Waterford United
A92: =Feuil4!A92 -> AS Nancy Lorraine | B92: =IFERROR(INDEX($E$3:$E$2101,MATCH(A92,$F$3:$F$2950,0)),"") -> Nancy | E92: Colchester United | F92: Colchester United | G92: Colchester United | H92: League Two - Angleterre | I92: 0.66666667 | K92: UCD | L92: UCD
A93: =Feuil4!A93 -> Clermont Foot | B93: =IFERROR(INDEX($E$3:$E$2101,MATCH(A93,$F$3:$F$2950,0)),"") -> Clermont | E93: Luton Town | F93: Luton Town | G93: Luton Town | H93: League Two - Angleterre | I93: 0.66666667 | K93: Sarmiento | L93: Sarmiento
A94: =Feuil4!A94 -> Paris FC | B94: =IFERROR(INDEX($E$3:$E$2101,MATCH(A94,$F$3:$F$2950,0)),"") | E94: Morecambe | F94: Morecambe | G94: Morecambe | H94: League Two - Angleterre | I94: 0.66666667 | K94: Gimnasia La Plata | L94: Gimnasia La Plata
A95: =Feuil4!A95 -> Stade Rennais | B95: =IFERROR(INDEX($E$3:$E$2101,MATCH(A95,$F$3:$F$2950,0)),"") -> Rennes | E95: Malaga | F95: Málaga | G95: Malaga | H95: League Two - Angleterre | I95: 0.66666667 | K95: Houston Dynamo | L95: Houston Dynamo
A96: =Feuil4!A96 -> Toulouse FC | B96: =IFERROR(INDEX($E$3:$E$2101,MATCH(A96,$F$3:$F$2950,0)),"") -> Toulouse | E96: Deportivo La Coruna | F96: Deportivo La Corogne | G96: Deportivo La Coruna | H96: League Two - Angleterre | I96: 0.66666667 | K96: Queretaro | L96: Queretaro
A97: =Feuil4!A97 -> IF Elfsborg | B97: =IFERROR(INDEX($E$3:$E$2101,MATCH(A97,$F$3:$F$2950,0)),"") -> Elfsborg | E97: FC Barcelona | F97: FC Barcelone | G97: FC Barcelona | H97: League Two - Angleterre | I97: 0.66666667 | K97: Sivasspor | L97: Sivasspor
... A121: =Feuil4!A121 -> Manchester United | B121: =IFERROR(INDEX($E$3:$E$2101,MATCH(A121,$F$3:$F$2950,0)),"") -> Manchester United | E121: Gimnastic Tarragona | F121: Gimnastic de Tarragona | G121: Gimnastic Tarragona | H121: MLS - Amérique du Nord | I121: 0.91666667 | K121: Swindon Town | L121: Swindon Town
A122: =Feuil4!A122 -> Cultural Leonesa | B122: =IFERROR(INDEX($E$3:$E$2101,MATCH(A122,$F$3:$F$2950,0)),"") | E122: Numancia | F122: Numancia | G122: Numancia | K122: Walsall | L122: Walsall
A123: =Feuil4!A123 -> 0 | B123: =IFERROR(INDEX($E$3:$E$2101,MATCH(A123,$F$3:$F$2950,0)),"") | E123: Sevilla Atletico | F123: Sevilla B | G123: Sevilla Atletico | K123: Gillingham | L123: Gillingham
A124: =Feuil4!A124 -> 0 | B124: =IFERROR(INDEX($E$3:$E$2101,MATCH(A124,$F$3:$F$2950,0)),"") | E124: Real Valladolid | F124: Real Valladolid | G124: Real Valladolid | H124: Apertura - Meique | I124: 0.79166667 | K124: Shrewsbury Town | L124: Shrewsbury Town
A125: =Feuil4!A125 -> 0 | B125: =IFERROR(INDEX($E$3:$E$2101,MATCH(A125,$F$3:$F$2950,0)),"") | E125: Real Zaragoza | F125: Real Saragosse | G125: Real Zaragoza | H125: Eredivisie - Pays-Bas | I125: 0.52083333 | K125: Rochdale | L125: Rochdale
A126: =Feuil4!A126 -> 0 | B126: =IFERROR(INDEX($E$3:$E$2101,MATCH(A126,$F$3:$F$2950,0)),"") | E126: Getafe | F126: Getafe | G126: Getafe | H126: Eredivisie - Pays-Bas | I126: 0.60416667 | K126: Burton Albion | L126: Burton Albion
A127: =Feuil4!A127 -> 0 | B127: =IFERROR(INDEX($E$3:$E$2101,MATCH(A127,$F$3:$F$2950,0)),"") | E127: Cadiz | F127: Cadiz CF | G127: Cadiz | H127: Eredivisie - Pays-Bas | I127: 0.60416667 | K127: Bristol Rovers | L127: Bristol Rovers
A128: =Feuil4!A128 -> 0 | B128: =IFERROR(INDEX($E$3:$E$2101,MATCH(A128,$F$3:$F$2950,0)),"") | E128: CF Reus Deportiu | F128: Reus Deportiu | G128: CF Reus Deportiu | H128: Eredivisie - Pays-Bas | I128: 0.69791667 | K128: Exeter City | L128: Exeter City
A129: =Feuil4!A129 -> 0 | B129: =IFERROR(INDEX($E$3:$E$2101,MATCH(A129,$F$3:$F$2950,0)),"") | E129: Rayo Vallecano | F129: Rayo Vallecano | G129: Rayo Vallecano | H129: Allsvenskan - Suède | I129: 0.54166667 | K129: Cambridge United | L129: Cambridge United
A130: =Feuil4!A130 -> 0 | B130: =IFERROR(INDEX($E$3:$E$2101,MATCH(A130,$F$3:$F$2950,0)),"") | E130: SD Huesca | F130: Huesca | G130: SD Huesca | H130: Allsvenskan - Suède | I130: 0.64583333 | K130: Wycombe Wanderers | L130: Wycombe Wanderers
A131: =Feuil4!A131 -> 0 | B131: =IFERROR(INDEX($E$3:$E$2101,MATCH(A131,$F$3:$F$2950,0)),"") | E131: Tenerife | F131: Tenerife | G131: Tenerife | H131: Allsvenskan - Suède | I131: 0.64583333 | K131: AFC Wimbledon | L131: AFC Wimbledon
A132: =Feuil4!A132 -> 0 | B132: =IFERROR(INDEX($E$3:$E$2101,MATCH(A132,$F$3:$F$2950,0)),"") | E132: CD Lugo | F132: Lugo | G132: CD Lugo | H132: Allsvenskan - Suède | I132: 0.64583333 | K132: Accrington Stanley | L132: Accrington Stanley
A133: =Feuil4!A133 -> 0 | B133: =IFERROR(INDEX($E$3:$E$2101,MATCH(A133,$F$3:$F$2950,0)),"") | E133: Levante | F133: Levante | G133: Levante | K133: Portsmouth | L133: Portsmouth
A134: =Feuil4!A134 -> 0 | B134: =IFERROR(INDEX($E$3:$E$2101,MATCH(A134,$F$3:$F$2950,0)),"") | E134: Girona | F134: Girona | G134: Girona | H134: Premier League - Russie | I134: 0.64583333 | K134: Oxford United | L134: Oxford United
A135: =Feuil4!A135 -> 0 | B135: =IFERROR(INDEX($E$3:$E$2101,MATCH(A135,$F$3:$F$2950,0)),"") | E135: Real Oviedo | F135: Real Oviedo | G135: Real Oviedo | H135: Premier League - Russie | I135: 0.75 | K135: Stevenage | L135: Stevenage
A136: =Feuil4!A136 -> 0 | B136: =IFERROR(INDEX($E$3:$E$2101,MATCH(A136,$F$3:$F$2950,0)),"") | E136: UCAM Murcia | F136: UCAM Murcia CF | G136: UCAM Murcia | H136: Premier League - Russie | I136: 0.85416667 | K136: Hartlepool United | L136: Hartlepool United
A137: =Feuil4!A137 -> 0 | B137: =IFERROR(INDEX($E$3:$E$2101,MATCH(A137,$F$3:$F$2950,0)),"") | E137: FC Liefering | F137: FC Liefering | G137: FC Liefering | K137: Leyton Orient | L137: Leyton Orient
A138: =Feuil4!A138 | B138: =IFERROR(INDEX($E$3:$E$2101,MATCH(A138,$F$3:$F$2950,0)),"") -> 0 | E138: LASK Linz | F138: LASK Linz | G138: LASK Linz | H138: Championship - Angleterre | I138: 0.72916667 | K138: Aarhus GF | L138: Aarhus GF
A139: =Feuil4!A139 | B139: =IFERROR(INDEX($E$3:$E$2101,MATCH(A139,$F$3:$F$2950,0)),"") -> 0 | E139: FC Wacker Innsbruck | F139: FC Wacker Innsbruck | G139: FC Wacker Innsbruck | H139: Superligaen - Danemark | I139: 0.54166667 | K139: Getafe | L139: Getafe
A140: =Feuil4!A140 | B140: =IFERROR(INDEX($E$3:$E$2101,MATCH(A140,$F$3:$F$2950,0)),"") -> 0 | E140: FAC Team Fur Wien | F140: Floridsdorfer AC | G140: FAC Team Fur Wien | H140: Superligaen - Danemark | I140: 0.66666667 | K140: Arouca | L140: Arouca
A141: =Feuil4!A141 | B141: =IFERROR(INDEX($E$3:$E$2101,MATCH(A141,$F$3:$F$2950,0)),"") -> 0 | E141: SV Horn | F141: SV Horn | G141: SV Horn | H141: Superligaen - Danemark | I141: 0.75 | K141: FC Sion | L141: FC Sion
A142: =Feuil4!A142 | B142: =IFERROR(INDEX($E$3:$E$2101,MATCH(A142,$F$3:$F$2950,0)),"") -> 0 | E142: Kapfenberg | F142: KSV 1919 | G142: Kapfenberg | H142: Premiership - Écosse | I142: 0.55208333 | K142: Carpi | L142: Carpi
A143: =Feuil4!A143 | B143: =IFERROR(INDEX($E$3:$E$2101,MATCH(A143,$F$3:$F$2950,0)),"") -> 0 | E143: WSG Wattens | F143: WSG Wattens | G143: WSG Wattens | H143: Premiership - Écosse | I143: 0.63541667 | K143: Elche | L143: Elche
A144: =Feuil4!A144 | B144: =IFERROR(INDEX($E$3:$E$2101,MATCH(A144,$F$3:$F$2950,0)),"") -> 0 | E144: Austria Lustenau | F144: SC Austria Lustenau | G144: Austria Lustenau | H144: 2e Bundesliga - Allemagne | I144: 0.5625 | K144: Girona | L144: Girona
A145: =Feuil4!A145 | B145: =IFERROR(INDEX($E$3:$E$2101,MATCH(A145,$F$3:$F$2950,0)),"") -> 0 | E145: FC Blau Weiss Linz | F145: FC BW Linz | G145: FC Blau Weiss Linz | H145: 2e Bundesliga - Allemagne | I145: 0.64583333 | K145: Numancia | L145: Numancia
A146: =Feuil4!A146 | B146: =IFERROR(INDEX($E$3:$E$2101,MATCH(A146,$F$3:$F$2950,0)),"") -> 0 | E146: FC Magna Wiener Neustadt | F146: SC Wiener Neustadt | G146: FC Magna Wiener Neustadt | H146: 2e Bundesliga - Allemagne | I146: 0.64583333 | K146: Real Valladolid | L146: Real Valladolid
A147: =Feuil4!A147 | B147: =IFERROR(INDEX($E$3:$E$2101,MATCH(A147,$F$3:$F$2950,0)),"") -> 0 | E147: SKN St. Polten | F147: SKN St. Poelten | G147: SKN St. Polten | H147: 2e Bundesliga - Allemagne | I147: 0.64583333 | K147: Zulte Waregem | L147: Zulte Waregem
A148: =Feuil4!A148 | B148: =IFERROR(INDEX($E$3:$E$2101,MATCH(A148,$F$3:$F$2950,0)),"") -> 0 | E148: Red Bull Salzburg | F148: Red Bull Salzbourg | G148: Red Bull Salzburg | H148: Super League - Suisse | I148: 0.57291667 | K148: Waasland-Beveren | L148: Waasland-Beveren
A149: =Feuil4!A149 | B149: =IFERROR(INDEX($E$3:$E$2101,MATCH(A149,$F$3:$F$2950,0)),"") -> 0 | E149: Trenkwalder Admira Wacker | F149: FC Admira Wacker Modling | G149: Trenkwalder Admira Wacker | H149: Super League - Suisse | I149: 0.57291667 | K149: Lokeren | L149: Lokeren
... A170: =Feuil4!A170 -> 0 | B170: =IFERROR(INDEX($E$3:$E$2101,MATCH(A170,$F$3:$F$2950,0)),"") | E170: Anderlecht | F170: RSC Anderlecht | G170: Anderlecht | H170: Serie A - Brésil | I170: 0.875 | K170: FC Lorient | L170: FC Lorient
A171: =Feuil4!A171 -> 0 | B171: =IFERROR(INDEX($E$3:$E$2101,MATCH(A171,$F$3:$F$2950,0)),"") | E171: Racing Genk | F171: Racing Genk | G171: Racing Genk | K171: SC Bastia | L171: SC Bastia
A172: =Feuil4!A172 -> 0 | B172: =IFERROR(INDEX($E$3:$E$2101,MATCH(A172,$F$3:$F$2950,0)),"") | E172: Westerlo | F172: VC Westerlo | G172: Westerlo | H172: Serie A - Brésil | I172: 0.88541667 | K172: Troyes | L172: Troyes
A173: =Feuil4!A173 -> 0 | B173: =IFERROR(INDEX($E$3:$E$2101,MATCH(A173,$F$3:$F$2950,0)),"") | E173: America MG | F173: America MG | G173: America MG | H173: Serie A - Brésil | I173: 0.97916667 | K173: Longford Town | L173: Longford Town
A174: =Feuil4!A174 -> 0 | B174: =IFERROR(INDEX($E$3:$E$2101,MATCH(A174,$F$3:$F$2950,0)),"") | E174: Botafogo RJ(N) | F174: Botafogo RJ | G174: Botafogo RJ(N) | H174: Bundesliga - Autriche | I174: 0.6875 | K174: HUSA Hassania Agadir | L174: HUSA Hassania Agadir
...

Sheet Feuil7
A1: =Feuil5!A1 -> 23:00 Chiapas - Veracruz 1:1 | B1: =Feuil5!B1 -> 0:1) | C1: Spezia | D1: Cittadella[2] | E1: 1 - 1 | F1: 0 - 1 | H1: =C1 -> Spezia | I1: =E1 -> 1 - 1 | J1: =D1 -> Cittadella[2] | K1: =F1 -> 0 - 1
A2: =Feuil5!A2 -> 02:15 Houston - Toronto 1:1 | B2: =Feuil5!B2 -> 1:1) | C2: Kaiserslautern | D2: VfL Bochum[11] | E2: 3 - 0 | F2: 1 - 0 | H2: =C2 -> Kaiserslautern | I2: =E2 -> 3 - 0 | J2: =D2 -> VfL Bochum[11] | K2: =F2 -> 1 - 0
A3: =Feuil5!A3 -> 00:00 Seattle - Salt Lake 2:1 | B3: =Feuil5!B3 -> 2:0) | C3: Amiens | D3: Red Star FC 93[16] | E3: 0 - 0 | F3: 0 - 0 | H3: =C3 -> Amiens | I3: =E3 -> 0 - 0 | J3: =D3 -> Red Star FC 93[16] | K3: =F3 -> 0 - 0
A4: =Feuil5!A4 -> 15:30 Gazovik Orenburg - Amkar 0:0 | B4: =Feuil5!B4 -> 0:0) | C4: Sporting Braga | D4: GD Chaves[6] | E4: 1 - 0 | F4: 0 - 0 | H4: =C4 -> Sporting Braga | I4: =E4 -> 1 - 0 | J4: =D4 -> GD Chaves[6] | K4: =F4 -> 0 - 0
A5: =Feuil5!A5 -> 16:30 Helsinki - Kuopion 2:3 | B5: =Feuil5!B5 -> 1:0) | C5: Zenit St. Petersburg | D5: Gazovik Orenburg[15] | E5: 1 - 0 | F5: 1 - 0 | H5: =C5 -> Zenit St. Petersburg | I5: =E5 -> 1 - 0 | J5: =D5 -> Gazovik Orenburg[15] | K5: =F5 -> 1 - 0
A6: =Feuil5!A6 -> 17:30 Blau-Weiss Linz - Autriche Lustenau 1:1 | B6: =Feuil5!B6 -> 1:1) | C6: Veria FC | D6: Panathinaikos[4] | E6: 1 - 1 | F6: 0 - 1 | H6: =C6 -> Veria FC | I6: =E6 -> 1 - 1 | J6: =D6 -> Panathinaikos[4] | K6: =F6 -> 0 - 1
A7: =Feuil5!A7 -> 18:00 Aalborg - Esbjerg 2:1 | B7: =Feuil5!B7 -> 2:1) | C7: IFK Goteborg | D7: AIK Solna[3] | E7: 1 - 0 | F7: 1 - 0 | H7: =C7 -> IFK Goteborg | I7: =E7 -> 1 - 0 | J7: =D7 -> AIK Solna[3] | K7: =F7 -> 1 - 0
A8: =Feuil5!A8 -> 17:00 Wisla Plock - Jagellonia 1:0 | B8: =Feuil5!B8 -> 1:0) | C8: Djurgardens | D8: Jonkopings Sodra[12] | E8: 0 - 2 | F8: 0 - 1 | H8: =C8 -> Djurgardens | I8: =E8 -> 0 - 2 | J8: =D8 -> Jonkopings Sodra[12] | K8: =F8 -> 0 - 1
A9: =Feuil5!A9 -> 18:00 Kristiansund - Sandnes 2:3 | B9: =Feuil5!B9 -> 2:1) | C9: America MG | D9: Atletico Paranaense[7] | E9: 1 - 0 | F9: 0 - 0 | H9: =C9 -> America MG | I9: =E9 -> 1 - 0 | J9: =D9 -> Atletico Paranaense[7] | K9: =F9 -> 0 - 0
A10: =Feuil5!A10 -> 18:00 Trelleborg - Atvidaberg 5:2 | B10: =Feuil5!B10 -> 2:1) | C10: Bury | D10: Bolton Wanderers[4] | E10: 0 - 2 | F10: 0 - 1 | H10: =C10 -> Bury | I10: =E10 -> 0 - 2 | J10: =D10 -> Bolton Wanderers[4] | K10: =F10 -> 0 - 1
A11: =Feuil5!A11 -> 18:00 Varnamo - Angelholms 1:1 | B11: =Feuil5!B11 -> 0:1) | C11: Curzon Ashton FC | D11: Chorley FC[3] | E11: 1 - 1 | F11: 1 - 1 | H11: =C11 -> Curzon Ashton FC | I11: =E11 -> 1 - 1 | J11: =D11 -> Chorley FC[3] | K11: =F11 -> 1 - 1
A12: =Feuil5!A12 -> 19:00 Jong Utrecht - Dordrecht 1:1 | B12: =Feuil5!B12 -> 1:1) | C12: Kingstonian | D12: Worthing[12] | E12: 1 - 3 | F12: 0 - 1 | H12: =C12 -> Kingstonian | I12: =E12 -> 1 - 3 | J12: =D12 -> Worthing[12] | K12: =F12 -> 0 - 1
... A98: =Feuil5!A98 -> 0 | B98: =Feuil5!B98 -> 0 | C98: NK Novigrad | D98: Slaven Koprivnica[8] | E98: 0 - 1 | F98: 0 - 1 | H98: =C98 -> NK Novigrad | I98: =E98 -> 0 - 1 | J98: =D98 -> Slaven Koprivnica[8] | K98: =F98 -> 0 - 1
A99: =Feuil5!A99 -> 0 | B99: =Feuil5!B99 -> 0 | D99: Dinamo Zagreb[2] | E99: 1 - 2 | F99: 0 - 1 | H99: =C99 -> 0 | I99: =E99 -> 1 - 2 | J99: =D99 -> Dinamo Zagreb[2] | K99: =F99 -> 0 - 1
A100: =Feuil5!A100 -> 0 | B100: =Feuil5!B100 -> 0 | C100: Istra 1961 Pula | D100: NK Split[9] | E100: 1 - 1 | F100: 0 - 0 | H100: =C100 -> Istra 1961 Pula | I100: =E100 -> 1 - 1 | J100: =D100 -> NK Split[9] | K100: =F100 -> 0 - 0
A101: =Feuil5!A101 -> 0 | B101: =Feuil5!B101 -> 0 | D101: Steinkjer U19 | E101: 3 - 2 | F101: 0 - 1 | H101: =C101 -> 0 | I101: =E101 -> 3 - 2 | J101: =D101 -> Steinkjer U19 | K101: =F101 -> 0 - 1
A102: =Feuil5!A102 -> 0 | B102: =Feuil5!B102 -> 0 | C102: St. Patricks Athletic | D102: Dundalk[1] | E102: 5 - 2 | F102: 4 - 0 | H102: =C102 -> St. Patricks Athletic | I102: =E102 -> 5 - 2 | J102: =D102 -> Dundalk[1] | K102: =F102 -> 4 - 0
A103: =Feuil5!A103 -> 0 | B103: =Feuil5!B103 -> 0 | D103: SOROKSAR[4] | E103: 0 - 1 | F103: 0 - 1 | H103: =C103 -> 0 | I103: =E103 -> 0 - 1 | J103: =D103 -> SOROKSAR[4] | K103: =F103 -> 0 - 1
A104: =Feuil5!A104 -> 0 | B104: =Feuil5!B104 -> 0 | C104: Dunaujvaros Palhalma Agrospecial | D104: Szolnoki MAV FC[16] | E104: 2 - 3 | F104: 1 - 0 | H104: =C104 -> Dunaujvaros Palhalma Agrospecial | I104: =E104 -> 2 - 3 | J104: =D104 -> Szolnoki MAV FC[16] | K104: =F104 -> 1 - 0
A105: =Feuil5!A105 -> 0 | B105: =Feuil5!B105 -> 0 | C105: Csakvari TK | D105: Bekescsaba[6] | E105: 1 - 1 | F105: 1 - 0 | H105: =C105 -> Csakvari TK | I105: =E105 -> 1 - 1 | J105: =D105 -> Bekescsaba[6] | K105: =F105 -> 1 - 0
A106: =Feuil5!A106 -> 0 | B106: =Feuil5!B106 -> 0 | C106: AEL Kalloni | D106: Agrotikos Asteras[10] | E106: 1 - 2 | F106: 1 - 0 | H106: =C106 -> AEL Kalloni | I106: =E106 -> 1 - 2 | J106: =D106 -> Agrotikos Asteras[10] | K106: =F106 -> 1 - 0
A107: =Feuil5!A107 -> 0 | B107: =Feuil5!B107 -> 0 | C107: Aiginiakos FC | D107: Aris Thessaloniki[12] | E107: 0 - 3 | F107: 0 - 1 | H107: =C107 -> Aiginiakos FC | I107: =E107 -> 0 - 3 | J107: =D107 -> Aris Thessaloniki[12] | K107: =F107 -> 0 - 1
A108: =Feuil5!A108 -> 0 | B108: =Feuil5!B108 -> 0 | C108: Apollon Smirnis | D108: OFI Crete[14] | E108: 1 - 0 | F108: 0 - 0 | H108: =C108 -> Apollon Smirnis | I108: =E108 -> 1 - 0 | J108: =D108 -> OFI Crete[14] | K108: =F108 -> 0 - 0
A109: =Feuil5!A109 -> 0 | B109: =Feuil5!B109 -> 0 | C109: Panthrakikos | D109: Kallithea[7] | E109: 3 - 0 | F109: 1 - 0 | H109: =C109 -> Panthrakikos | I109: =E109 -> 3 - 0 | J109: =D109 -> Kallithea[7] | K109: =F109 -> 1 - 0
A110: =Feuil5!A110 -> 0 | B110: =Feuil5!B110 -> 0 | C110: AEK Athens | D110: Kerkyra[12] | E110: 4 - 0 | F110: 1 - 0 | H110: =C110 -> AEK Athens | I110: =E110 -> 4 - 0 | J110: =D110 -> Kerkyra[12] | K110: =F110 -> 1 - 0
A111: =Feuil5!A111 -> 0 | B111: =Feuil5!B111 -> 0 | C111: Pendikspor | D111: Genclerbirligi[8] | E111: 0 - 1 | F111: 0 - 1 | H111: =C111 -> Pendikspor | I111: =E111 -> 0 - 1 | J111: =D111 -> Genclerbirligi[8] | K111: =F111 -> 0 - 1
A112: =Feuil5!A112 -> 0 | B112: =Feuil5!B112 -> 0 | C112: Diyarbakir B.S.Diskispor | D112: Keciorengucu[1] | E112: 2 - 1 | F112: 2 - 0 | H112: =C112 -> Diyarbakir B.S.Diskispor | I112: =E112 -> 2 - 1 | J112: =D112 -> Keciorengucu[1] | K112: =F112 -> 2 - 0
A113: =Feuil5!A113 -> 0 | B113: =Feuil5!B113 -> 0 | C113: Bandirmaspor | D113: Sancaktepe Belediye Spor[A-1] | E113: 1 - 1 | F113: 1 - 1 | H113: =C113 -> Bandirmaspor | I113: =E113 -> 1 - 1 | J113: =D113 -> Sancaktepe Belediye Spor[A-1] | K113: =F113 -> 1 - 1
A114: =Feuil5!A114 -> 0 | B114: =Feuil5!B114 -> 0 | C114: Kizilcabolukspor | D114: Kocaelispor[7] | E114: 1 - 1 | F114: 1 - 1 | H114: =C114 -> Kizilcabolukspor | I114: =E114 -> 1 - 1 | J114: =D114 -> Kocaelispor[7] | K114: =F114 -> 1 - 1
A115: =Feuil5!A115 -> 0 | B115: =Feuil5!B115 -> 0 | C115: Erzincanspor | D115: Yeni Malatyaspor[1] | E115: 2 - 1 | F115: 2 - 1 | H115: =C115 -> Erzincanspor | I115: =E115 -> 2 - 1 | J115: =D115 -> Yeni Malatyaspor[1] | K115: =F115 -> 2 - 1
... A131: =Feuil5!A131 -> 0 | B131: =Feuil5!B131 -> 0 | C131: Sepsi | D131: CS Universitatea Craiova[2] | E131: 0 - 0 | F131: 0 - 0 | H131: =C131 -> Sepsi | I131: =E131 -> 0 - 0 | J131: =D131 -> CS Universitatea Craiova[2] | K131: =F131 -> 0 - 0
A132: =Feuil5!A132 -> 0 | B132: =Feuil5!B132 -> 0 | D132: Beitar Haifa Yaacov[11] | E132: 1 - 0 | F132: 0 - 0 | H132: =C132 -> 0 | I132: =E132 -> 1 - 0 | J132: =D132 -> Beitar Haifa Yaacov[11] | K132: =F132 -> 0 - 0
A133: =Feuil5!A133 -> 0 | B133: =Feuil5!B133 -> 0 | C133: Moadon Zeirey Rahat | D133: AS Nordia Jerusalem[1] | E133: 3 - 1 | F133: 0 - 1 | H133: =C133 -> Moadon Zeirey Rahat | I133: =E133 -> 3 - 1 | J133: =D133 -> AS Nordia Jerusalem[1] | K133: =F133 -> 0 - 1
A134: =Feuil5!A134 -> 0 | B134: =Feuil5!B134 -> 0 | D134: Ihud Bnei Kfar Kara | E134: 0 - 2 | F134: 0 - 1 | H134: =C134 -> 0 | I134: =E134 -> 0 - 2 | J134: =D134 -> Ihud Bnei Kfar Kara | K134: =F134 -> 0 - 1
A135: =Feuil5!A135 -> 0 | B135: =Feuil5!B135 -> 0 | C135: AS Holon Mor | D135: Hapoel Ihud Bnei Gat[26] | E135: 3 - 2 | F135: 2 - 2 | H135: =C135 -> AS Holon Mor | I135: =E135 -> 3 - 2 | J135: =D135 -> Hapoel Ihud Bnei Gat[26] | K135: =F135 -> 2 - 2
A136: =Feuil5!A136 -> 0 | B136: =Feuil5!B136 -> 0 | C136: Domzale | D136: Krsko Posavlje[8] | E136: 2 - 1 | F136: 1 - 0 | H136: =C136 -> Domzale | I136: =E136 -> 2 - 1 | J136: =D136 -> Krsko Posavlje[8] | K136: =F136 -> 1 - 0
A137: =Feuil5!A137 -> 0 | B137: =Feuil5!B137 -> 0 | C137: Dynamo Dresden | D137: Arminia Bielefeld[17] | E137: 0 - 1 | F137: 0 - 0 | H137: =C137 -> Dynamo Dresden | I137: =E137 -> 0 - 1 | J137: =D137 -> Arminia Bielefeld[17] | K137: =F137 -> 0 - 0
A138: =Feuil5!A138 -> 0 | B138: =Feuil5!B138 -> 0 | C138: SC Freiburg | D138: SV Sandhausen[9] | E138: 3 - 3 | F138: 1 - 1 | H138: =C138 -> SC Freiburg | I138: =E138 -> 3 - 3 | J138: =D138 -> SV Sandhausen[9] | K138: =F138 -> 1 - 1
A139: =Feuil5!A139 -> 0 | B139: =Feuil5!B139 -> 0 | C139: Sportfreunde Lotte | D139: Bayer Leverkusen[11] | E139: 1 - 1 | F139: 0 - 1 | H139: =C139 -> Sportfreunde Lotte | I139: =E139 -> 1 - 1 | J139: =D139 -> Bayer Leverkusen[11] | K139: =F139 -> 0 - 1
A140: =Feuil5!A140 -> 0 | B140: =Feuil5!B140 -> 0 | C140: Wurzburger Kickers | D140: TSV 1860 Munchen[16] | E140: 0 - 0 | F140: 0 - 0 | H140: =C140 -> Wurzburger Kickers | I140: =E140 -> 0 - 0 | J140: =D140 -> TSV 1860 Munchen[16] | K140: =F140 -> 0 - 0
A141: =Feuil5!A141 -> 0 | B141: =Feuil5!B141 -> 0 | C141: Eintracht Frankfurt | D141: Ingolstadt[17] | E141: 0 - 0 | F141: 0 - 0 | H141: =C141 -> Eintracht Frankfurt | I141: =E141 -> 0 - 0 | J141: =D141 -> Ingolstadt[17] | K141: =F141 -> 0 - 0
A142: =Feuil5!A142 -> 0 | B142: =Feuil5!B142 -> 0 | C142: Hallescher FC | D142: Hamburger SV[18] | E142: 0 - 4 | F142: 0 - 2 | H142: =C142 -> Hallescher FC | I142: =E142 -> 0 - 4 | J142: =D142 -> Hamburger SV[18] | K142: =F142 -> 0 - 2
A143: =Feuil5!A143 -> 0 | B143: =Feuil5!B143 -> 0 | C143: Borussia Monchengladbach | D143: VfB Stuttgart[4] | E143: 2 - 0 | F143: 1 - 0 | H143: =C143 -> Borussia Monchengladbach | I143: =E143 -> 2 - 0 | J143: =D143 -> VfB Stuttgart[4] | K143: =F143 -> 1 - 0
A144: =Feuil5!A144 -> 0 | B144: =Feuil5!B144 -> 0 | C144: St. Pauli | D144: Hertha Berlin[3] | E144: 0 - 2 | F144: 0 - 1 | H144: =C144 -> St. Pauli | I144: =E144 -> 0 - 2 | J144: =D144 -> Hertha Berlin[3] | K144: =F144 -> 0 - 1
A145: =Feuil5!A145 -> 0 | B145: =Feuil5!B145 -> 0 | C145: FK Zarkovo | D145: Partizan Belgrade[3] | E145: 0 - 2 | F145: 0 - 0 | H145: =C145 -> FK Zarkovo | I145: =E145 -> 0 - 2 | J145: =D145 -> Partizan Belgrade[3] | K145: =F145 -> 0 - 0
A146: =Feuil5!A146 -> 0 | B146: =Feuil5!B146 -> 0 | C146: Stade Lavallois MFC | D146: Montpellier[17] | E146: 0 - 2 | F146: 0 - 1 | H146: =C146 -> Stade Lavallois MFC | I146: =E146 -> 0 - 2 | J146: =D146 -> Montpellier[17] | K146: =F146 -> 0 - 1
... A208: =Feuil5!A208 -> 0 | B208: =Feuil5!B208 -> 0 | C208: Rudes | D208: Rijeka[1] | E208: 3 - 3 | F208: 0 - 3 | H208: =C208 -> Rudes | I208: =E208 -> 3 - 3 | J208: =D208 -> Rijeka[1] | K208: =F208 -> 0 - 3
A209: =Feuil5!A209 -> 0 | B209: =Feuil5!B209 -> 0 | D209: NK Lokomotiva Zagreb[5] | E209: 1 - 2 | F209: 1 - 1 | H209: =C209 -> 0 | I209: =E209 -> 1 - 2 | J209: =D209 -> NK Lokomotiva Zagreb[5] | K209: =F209 -> 1 - 1
A210: =Feuil5!A210 -> 0 | B210: =Feuil5!B210 -> 0 | C210: HNK Sibenik | D210: ZNK Osijek[3] | E210: 1 - 2 | F210: 0 - 1 | H210: =C210 -> HNK Sibenik | I210: =E210 -> 1 - 2 | J210: =D210 -> ZNK Osijek[3] | K210: =F210 -> 0 - 1
A211: =Feuil5!A211 -> 0 | B211: =Feuil5!B211 -> 0 | C211: Inter Zapresic | D211: HNK Cibalia[10] | E211: 1 - 0 | F211: 1 - 0 | H211: =C211 -> Inter Zapresic | I211: =E211 -> 1 - 0 | J211: =D211 -> HNK Cibalia[10] | K211: =F211 -> 1 - 0
A212: =Feuil5!A212 -> 0 | B212: =Feuil5!B212 -> 0 | C212: Cerro Porteno | D212: Dep.Independiente Medellin[7] | E212: 2 - 0 | F212: 1 - 0 | H212: =C212 -> Cerro Porteno | I212: =E212 -> 2 - 0 | J212: =D212 -> Dep.Independiente Medellin[7] | K212: =F212 -> 1 - 0
A213: =Feuil5!A213 -> 0 | B213: =Feuil5!B213 -> 0 | C213: Atletico Nacional Medellin | D213: Coritiba PR[14] | E213: 3 - 1 | F213: 0 - 1 | H213: =C213 -> Atletico Nacional Medellin | I213: =E213 -> 3 - 1 | J213: =D213 -> Coritiba PR[14] | K213: =F213 -> 0 - 1
A214: =Feuil5!A214 -> 0 | B214: =Feuil5!B214 -> 0 | C214: Chapecoense SC | D214: Atletico Junior Barranquilla[18] | E214: 3 - 0 | F214: 2 - 0 | H214: =C214 -> Chapecoense SC | I214: =E214 -> 3 - 0 | J214: =D214 -> Atletico Junior Barranquilla[18] | K214: =F214 -> 2 - 0
A215: =Feuil5!A215 -> 0 | B215: =Feuil5!B215 -> 0 | C215: TPS Turku | D215: Inter Turku[11] | E215: 0 - 0 | F215: 0 - 0 | H215: =C215 -> TPS Turku | I215: =E215 -> 0 - 0 | J215: =D215 -> Inter Turku[11] | K215: =F215 -> 0 - 0
A216: =Feuil5!A216 -> 0 | B216: =Feuil5!B216 -> 0 | C216: FC Tuggen | D216: Basel[1] | E216: 1 - 4 | F216: 0 - 4 | H216: =C216 -> FC Tuggen | I216: =E216 -> 1 - 4 | J216: =D216 -> Basel[1] | K216: =F216 -> 0 - 4
A217: =Feuil5!A217 -> 0 | B217: =Feuil5!B217 -> 0 | C217: Aarau | D217: Lugano[6] | E217: 2 - 0 | F217: 1 - 0 | H217: =C217 -> Aarau | I217: =E217 -> 2 - 0 | J217: =D217 -> Lugano[6] | K217: =F217 -> 1 - 0
A218: =Feuil5!A218 -> 0 | B218: =Feuil5!B218 -> 0 | C218: Kriens | D218: Bruhl SG[9] | E218: 2 - 2 | F218: 1 - 1 | H218: =C218 -> Kriens | I218: =E218 -> 2 - 2 | J218: =D218 -> Bruhl SG[9] | K218: =F218 -> 1 - 1
A219: =Feuil5!A219 -> 0 | B219: =Feuil5!B219 -> 0 | C219: Winterthur | D219: Chiasso[8] | E219: 2 - 1 | F219: 0 - 1 | H219: =C219 -> Winterthur | I219: =E219 -> 2 - 1 | J219: =D219 -> Chiasso[8] | K219: =F219 -> 0 - 1
A220: =Feuil5!A220 -> 0 | B220: =Feuil5!B220 -> 0 | C220: Young Boys | D220: Grasshopper[7] | E220: 5 - 0 | F220: 2 - 0 | H220: =C220 -> Young Boys | I220: =E220 -> 5 - 0 | J220: =D220 -> Grasshopper[7] | K220: =F220 -> 2 - 0
A221: =Feuil5!A221 -> 0 | B221: =Feuil5!B221 -> 0 | D221: Vard Haugesund U19 | E221: 3 - 2 | F221: 0 - 1 | H221: =C221 -> 0 | I221: =E221 -> 3 - 2 | J221: =D221 -> Vard Haugesund U19 | K221: =F221 -> 0 - 1
A222: =Feuil5!A222 -> 0 | B222: =Feuil5!B222 -> 0 | D222: Heimdal FK U19 | E222: 5 - 3 | F222: 2 - 1 | H222: =C222 -> 0 | I222: =E222 -> 5 - 3 | J222: =D222 -> Heimdal FK U19 | K222: =F222 -> 2 - 1
A223: =Feuil5!A223 -> 0 | B223: =Feuil5!B223 -> 0 | C223: Rosenborg | D223: Bodo Glimt[13] | E223: 2 - 0 | F223: 1 - 0 | H223: =C223 -> Rosenborg | I223: =E223 -> 2 - 0 | J223: =D223 -> Bodo Glimt[13] | K223: =F223 -> 1 - 0
A224: =Feuil5!A224 -> 0 | B224: =Feuil5!B224 -> 0 | C224: Mlada Boleslav | D224: Hradec Kralove[14] | E224: 4 - 2 | F224: 2 - 1 | H224: =C224 -> Mlada Boleslav | I224: =E224 -> 4 - 2 | J224: =D224 -> Hradec Kralove[14] | K224: =F224 -> 2 - 1
A225: =Feuil5!A225 -> 0 | B225: =Feuil5!B225 -> 0 | C225: Opava | D225: FC Viktoria Plzen[2] | E225: 4 - 2 | F225: 1 - 1 | H225: =C225 -> Opava | I225: =E225 -> 4 - 2 | J225: =D225 -> FC Viktoria Plzen[2] | K225: =F225 -> 1 - 1
A226: =Feuil5!A226 -> 0 | B226: =Feuil5!B226 -> 0 | C226: Tescoma Zlin | D226: Sparta Praha[5] | E226: 1 - 1 | F226: 0 - 1 | H226: =C226 -> Tescoma Zlin | I226: =E226 -> 1 - 1 | J226: =D226 -> Sparta Praha[5] | K226: =F226 -> 0 - 1
A227: =Feuil5!A227 -> 0 | B227: =Feuil5!B227 -> 0 | C227: Brno | D227: Vysocina jihlava[15] | E227: 2 - 1 | F227: 1 - 0 | H227: =C227 -> Brno | I227: =E227 -> 2 - 1 | J227: =D227 -> Vysocina jihlava[15] | K227: =F227 -> 1 - 0
A228: =Feuil5!A228 -> 0 | B228: =Feuil5!B228 -> 0 | C228: Bohemians 1905 | D228: FK Kraluv Dvur[C-2] | E228: 3 - 1 | F228: 2 - 0 | H228: =C228 -> Bohemians 1905 | I228: =E228 -> 3 - 1 | J228: =D228 -> FK Kraluv Dvur[C-2] | K228: =F228 -> 2 - 0
A229: =Feuil5!A229 -> 0 | B229: =Feuil5!B229 -> 0 | C229: Slavia Praha | D229: Litomerice[C-9] | E229: 7 - 0 | F229: 4 - 0 | H229: =C229 -> Slavia Praha | I229: =E229 -> 7 - 0 | J229: =D229 -> Litomerice[C-9] | K229: =F229 -> 4 - 0
A230: =Feuil5!A230 -> 0 | B230: =Feuil5!B230 -> 0 | C230: MFK Karvina | D230: Slovan Liberec[11] | E230: 0 - 0 | F230: 0 - 0 | H230: =C230 -> MFK Karvina | I230: =E230 -> 0 - 0 | J230: =D230 -> Slovan Liberec[11] | K230: =F230 -> 0 - 0
A231: =Feuil5!A231 -> 0 | B231: =Feuil5!B231 -> 0 | C231: Banik Ostrava | D231: Vitkovice[15] | E231: 1 - 0 | F231: 0 - 0 | H231: =C231 -> Banik Ostrava | I231: =E231 -> 1 - 0 | J231: =D231 -> Vitkovice[15] | K231: =F231 -> 0 - 0
A232: =Feuil5!A232 -> 0 | B232: =Feuil5!B232 -> 0 | C232: Yenisey Krasnoyarsk | D232: Sibir Novosibirsk[17] | E232: 1 - 1 | F232: 0 - 0 | H232: =C232 -> Yenisey Krasnoyarsk | I232: =E232 -> 1 - 1 | J232: =D232 -> Sibir Novosibirsk[17] | K232: =F232 -> 0 - 0
A233: =Feuil5!A233 -> 0 | B233: =Feuil5!B233 -> 0 | C233: Amkar Perm | D233: Ural Sverdlovsk Oblast[12] | E233: 1 - 1 | F233: 0 - 1 | H233: =C233 -> Amkar Perm | I233: =E233 -> 1 - 1 | J233: =D233 -> Ural Sverdlovsk Oblast[12] | K233: =F233 -> 0 - 1
A234: =Feuil5!A234 -> 0 | B234: =Feuil5!B234 -> 0 | C234: Terek Grozny | D234: FC Ufa[9] | E234: 1 - 1 | F234: 0 - 1 | H234: =C234 -> Terek Grozny | I234: =E234 -> 1 - 1 | J234: =D234 -> FC Ufa[9] | K234: =F234 -> 0 - 1
... A244: =Feuil5!A244 -> 0 | B244: =Feuil5!B244 -> 0 | C244: FC Shakhtar Donetsk | D244: PFC Oleksandria[4] | E244: 2 - 1 | F244: 1 - 0 | H244: =C244 -> FC Shakhtar Donetsk | I244: =E244 -> 2 - 1 | J244: =D244 -> PFC Oleksandria[4] | K244: =F244 -> 1 - 0
A245: =Feuil5!A245 -> 0 | B245: =Feuil5!B245 -> 0 | D245: Ferencvarosi TC[3] | E245: 0 - 9 | F245: 0 - 3 | H245: =C245 -> 0 | I245: =E245 -> 0 - 9 | J245: =D245 -> Ferencvarosi TC[3] | K245: =F245 -> 0 - 3
A246: =Feuil5!A246 -> 0 | B246: =Feuil5!B246 -> 0 | C246: MTE Mosonmagyarovar | D246: Gyirmot SE[10] | E246: 2 - 3 | F246: 2 - 3 | H246: =C246 -> MTE Mosonmagyarovar | I246: =E246 -> 2 - 3 | J246: =D246 -> Gyirmot SE[10] | K246: =F246 -> 2 - 3
A247: =Feuil5!A247 -> 0 | B247: =Feuil5!B247 -> 0 | C247: Salgotarjani Baratok TC | D247: Diosgyor VTK[12] | E247: 0 - 1 | F247: 0 - 1 | H247: =C247 -> Salgotarjani Baratok TC | I247: =E247 -> 0 - 1 | J247: =D247 -> Diosgyor VTK[12] | K247: =F247 -> 0 - 1
A248: =Feuil5!A248 -> 0 | B248: =Feuil5!B248 -> 0 | D248: Fehervar Videoton[2] | E248: 1 - 6 | F248: 1 - 4 | H248: =C248 -> 0 | I248: =E248 -> 1 - 6 | J248: =D248 -> Fehervar Videoton[2] | K248: =F248 -> 1 - 4
A249: =Feuil5!A249 -> 0 | B249: =Feuil5!B249 -> 0 | D249: Vasas[1] | E249: 2 - 7 | F249: 0 - 3 | H249: =C249 -> 0 | I249: =E249 -> 2 - 7 | J249: =D249 -> Vasas[1] | K249: =F249 -> 0 - 3
A250: =Feuil5!A250 -> 0 | B250: =Feuil5!B250 -> 0 | D250: Budapest Honved[5] | E250: 1 - 6 | F250: 0 - 2 | H250: =C250 -> 0 | I250: =E250 -> 1 - 6 | J250: =D250 -> Budapest Honved[5] | K250: =F250 -> 0 - 2
A251: =Feuil5!A251 -> 0 | B251: =Feuil5!B251 -> 0 | D251: Ujpesti[6] | E251: 0 - 4 | F251: 0 - 2 | H251: =C251 -> 0 | I251: =E251 -> 0 - 4 | J251: =D251 -> Ujpesti[6] | K251: =F251 -> 0 - 2
A252: =Feuil5!A252 -> 0 | B252: =Feuil5!B252 -> 0 | D252: Mezokovesd-Zsory[7] | E252: 0 - 13 | F252: 0 - 4 | H252: =C252 -> 0 | I252: =E252 -> 0 - 13 | J252: =D252 -> Mezokovesd-Zsory[7] | K252: =F252 -> 0 - 4
A253: =Feuil5!A253 -> 0 | B253: =Feuil5!B253 -> 0 | C253: Balmazujvarosi FC | D253: Paksi SE Honlapja[11] | E253: 3 - 2 | F253: 1 - 0 | H253: =C253 -> Balmazujvarosi FC | I253: =E253 -> 3 - 2 | J253: =D253 -> Paksi SE Honlapja[11] | K253: =F253 -> 1 - 0
A254: =Feuil5!A254 -> 0 | B254: =Feuil5!B254 -> 0 | D254: MTK Hungaria[8] | E254: 1 - 3 | F254: 0 - 2 | H254: =C254 -> 0 | I254: =E254 -> 1 - 3 | J254: =D254 -> MTK Hungaria[8] | K254: =F254 -> 0 - 2
A255: =Feuil5!A255 -> 0 | B255: =Feuil5!B255 -> 0 | C255: Vac-Dunakanyar | D255: Szombathelyi Haladas[4] | E255: 0 - 3 | F255: 0 - 1 | H255: =C255 -> Vac-Dunakanyar | I255: =E255 -> 0 - 3 | J255: =D255 -> Szombathelyi Haladas[4] | K255: =F255 -> 0 - 1
A256: =Feuil5!A256 -> 0 | B256: =Feuil5!B256 -> 0 | D256: REAC[9] | E256: 0 - 4 | F256: 0 - 0 | H256: =C256 -> 0 | I256: =E256 -> 0 - 4 | J256: =D256 -> REAC[9] | K256: =F256 -> 0 - 0
A257: =Feuil5!A257 -> 0 | B257: =Feuil5!B257 -> 0 | D257: putnok Vse | E257: 1 - 2 | F257: 0 - 2 | H257: =C257 -> 0 | I257: =E257 -> 1 - 2 | J257: =D257 -> putnok Vse | K257: =F257 -> 0 - 2
A258: =Feuil5!A258 -> 0 | B258: =Feuil5!B258 -> 0 | D258: Dunaharaszti MTK[5] | E258: 5 - 0 | F258: 1 - 0 | H258: =C258 -> 0 | I258: =E258 -> 5 - 0 | J258: =D258 -> Dunaharaszti MTK[5] | K258: =F258 -> 1 - 0
A259: =Feuil5!A259 -> 0 | B259: =Feuil5!B259 -> 0 | C259: Szeol | D259: Soproni SVSE-GYSEV[11] | E259: 1 - 3 | F259: 1 - 2 | H259: =C259 -> Szeol | I259: =E259 -> 1 - 3 | J259: =D259 -> Soproni SVSE-GYSEV[11] | K259: =F259 -> 1 - 2
A260: =Feuil5!A260 -> 0 | B260: =Feuil5!B260 -> 0 | D260: Dorogi FC[10] | E260: 0 - 4 | F260: 0 - 0 | H260: =C260 -> 0 | I260: =E260 -> 0 - 4 | J260: =D260 -> Dorogi FC[10] | K260: =F260 -> 0 - 0
A261: =Feuil5!A261 -> 0 | B261: =Feuil5!B261 -> 0 | D261: Szentlorinc SE | E261: 2 - 5 | F261: 1 - 1 | H261: =C261 -> 0 | I261: =E261 -> 2 - 5 | J261: =D261 -> Szentlorinc SE | K261: =F261 -> 1 - 1
A262: =Feuil5!A262 -> 0 | B262: =Feuil5!B262 -> 0 | D262: Szigetszentmiklosi[4] | E262: 2 - 1 | F262: 0 - 1 | H262: =C262 -> 0 | I262: =E262 -> 2 - 1 | J262: =D262 -> Szigetszentmiklosi[4] | K262: =F262 -> 0 - 1
A263: =Feuil5!A263 -> 0 | B263: =Feuil5!B263 -> 0 | C263: Tallya | D263: Cegled[17] | E263: 1 - 3 | F263: 0 - 0 | H263: =C263 -> Tallya | I263: =E263 -> 1 - 3 | J263: =D263 -> Cegled[17] | K263: =F263 -> 0 - 0
A264: =Feuil5!A264 -> 0 | B264: =Feuil5!B264 -> 0 | D264: Celldomolk VSE | E264: 1 - 2 | F264: 0 - 0 | H264: =C264 -> 0 | I264: =E264 -> 1 - 2 | J264: =D264 -> Celldomolk VSE | K264: =F264 -> 0 - 0
A265: =Feuil5!A265 -> 0 | B265: =Feuil5!B265 -> 0 | D265: Kaposvar | E265: 0 - 0 | F265: 0 - 0 | H265: =C265 -> 0 | I265: =E265 -> 0 - 0 | J265: =D265 -> Kaposvar | K265: =F265 -> 0 - 0
A266: =Feuil5!A266 -> 0 | B266: =Feuil5!B266 -> 0 | D266: Varfurdo Gyulai Termal FC[10] | E266: 1 - 1 | F266: 1 - 0 | H266: =C266 -> 0 | I266: =E266 -> 1 - 1 | J266: =D266 -> Varfurdo Gyulai Termal FC[10] | K266: =F266 -> 1 - 0
A267: =Feuil5!A267 -> 0 | B267: =Feuil5!B267 -> 0 | C267: Hatvan | D267: Jaszberenyi | E267: 3 - 2 | F267: 2 - 1 | H267: =C267 -> Hatvan | I267: =E267 -> 3 - 2 | J267: =D267 -> Jaszberenyi | K267: =F267 -> 2 - 1
A268: =Feuil5!A268 -> 0 | B268: =Feuil5!B268 -> 0 | D268: Szeged 2011 FC[7] | E268: 2 - 1 | F268: 1 - 0 | H268: =C268 -> 0 | I268: =E268 -> 2 - 1 | J268: =D268 -> Szeged 2011 FC[7] | K268: =F268 -> 1 - 0
A269: =Feuil5!A269 -> 0 | B269: =Feuil5!B269 -> 0 | C269: Kozarmisleny SE | D269: Nyiregyhaza[9] | E269: 3 - 2 | F269: 1 - 1 | H269: =C269 -> Kozarmisleny SE | I269: =E269 -> 3 - 2 | J269: =D269 -> Nyiregyhaza[9] | K269: =F269 -> 1 - 1
A270: =Feuil5!A270 -> 0 | B270: =Feuil5!B270 -> 0 | D270: Budaorsi SC[18] | E270: 2 - 2 | F270: 1 - 1 | H270: =C270 -> 0 | I270: =E270 -> 2 - 2 | J270: =D270 -> Budaorsi SC[18] | K270: =F270 -> 1 - 1
...

Sheet Feuil2
A1: =Feuil1!B1 -> Zenit St. Petersburg | B1: =IFERROR(INDEX(E$1:E$338,MATCH(TRUE,ISNUMBER(SEARCH(E$1:E$338,A1)),0)),"") | C1: {=IFERROR(INDEX(F$1:F$338,MATCH(TRUE,ISNUMBER(SEARCH(E$1:E$338,A1)),0)),"")} -> 1 - 0 | D1: {=IFERROR(INDEX(H$1:H$338,MATCH(TRUE,ISNUMBER(SEARCH(E$1:E$338,A1)),0)),"")} -> 1 - 0 | E1: =Feuil7!H1 -> Spezia | F1: =Feuil7!E1 -> 1 - 1 | G1: =Feuil7!J1 -> Cittadella[2] | H1: =Feuil7!F1 -> 0 - 1 | I1: =Feuil7!H6 -> Veria FC | J1: =Feuil7!K1 -> 0 - 1 | K1: =Feuil7!J1 -> Cittadella[2] | M1: =B1 | N1: =C1 -> 1 - 0 | O1: =D1 -> 1 - 0
A2: =Feuil1!B2 -> Djurgardens | B2: {=IFERROR(INDEX(E$1:E$338,MATCH(TRUE,ISNUMBER(SEARCH(E$1:E$338,A2)),0)),"")} -> Djurgardens | C2: {=IFERROR(INDEX(F$1:F$338,MATCH(TRUE,ISNUMBER(SEARCH(E$1:E$338,A2)),0)),"")} -> 0 - 2 | D2: {=IFERROR(INDEX(H$1:H$338,MATCH(TRUE,ISNUMBER(SEARCH(E$1:E$338,A2)),0)),"")} -> 0 - 1 | E2: =Feuil7!H2 -> Kaiserslautern | F2: =Feuil7!E2 -> 3 - 0 | G2: =Feuil7!J2 -> VfL Bochum[11] | H2: =Feuil7!F2 -> 1 - 0 | I2: =Feuil7!H2 -> Kaiserslautern | J2: =Feuil7!K2 -> 1 - 0 | M2: =B2 -> Djurgardens | N2: =C2 -> 0 - 2 | O2: =D2 -> 0 - 1
A3: =Feuil1!B3 -> IFK Goteborg | B3: {=IFERROR(INDEX(E$1:E$338,MATCH(TRUE,ISNUMBER(SEARCH(E$1:E$338,A3)),0)),"")} -> IFK Goteborg | C3: {=IFERROR(INDEX(F$1:F$338,MATCH(TRUE,ISNUMBER(SEARCH(E$1:E$338,A3)),0)),"")} -> 1 - 0 | D3: {=IFERROR(INDEX(H$1:H$338,MATCH(TRUE,ISNUMBER(SEARCH(E$1:E$338,A3)),0)),"")} -> 1 - 0 | E3: =Feuil7!H3 -> Amiens | F3: =Feuil7!E3 -> 0 - 0 | G3: =Feuil7!J3 -> Red Star FC 93[16] | H3: =Feuil7!F3 -> 0 - 0 | I3: =Feuil7!H3 -> Amiens | J3: =Feuil7!K3 -> 0 - 0 | M3: =B3 -> IFK Goteborg | N3: =C3 -> 1 - 0 | O3: =D3 -> 1 - 0
A4: =Feuil1!B4 -> Atvidabergs | B4: {=IFERROR(INDEX(E$1:E$338,MATCH(TRUE,ISNUMBER(SEARCH(E$1:E$338,A4)),0)),"")} -> Atvidabergs | C4: {=IFERROR(INDEX(F$1:F$338,MATCH(TRUE,ISNUMBER(SEARCH(E$1:E$338,A4)),0)),"")} -> 4 - 2 | D4: {=IFERROR(INDEX(H$1:H$338,MATCH(TRUE,ISNUMBER(SEARCH(E$1:E$338,A4)),0)),"")} -> 2 - 0 | E4: =Feuil7!H4 -> Sporting Braga | F4: =Feuil7!E4 -> 1 - 0 | G4: =Feuil7!J4 -> GD Chaves[6] | H4: =Feuil7!F4 -> 0 - 0 | I4: =Feuil7!H4 -> Sporting Braga | J4: =Feuil7!K4 -> 0 - 0 | M4: =B4 -> Atvidabergs | N4: =C4 -> 4 - 2 | O4: =D4 -> 2 - 0
A5: =Feuil1!B5 -> Halmstads | B5: {=IFERROR(INDEX(E$1:E$338,MATCH(TRUE,ISNUMBER(SEARCH(E$1:E$338,A5)),0)),"")} -> Halmstads | C5: {=IFERROR(INDEX(F$1:F$338,MATCH(TRUE,ISNUMBER(SEARCH(E$1:E$338,A5)),0)),"")} -> 0 - 1 | D5: {=IFERROR(INDEX(H$1:H$338,MATCH(TRUE,ISNUMBER(SEARCH(E$1:E$338,A5)),0)),"")} -> 0 - 0 | E5: =Feuil7!H5 -> Zenit St. Petersburg | F5: =Feuil7!E5 -> 1 - 0 | G5: =Feuil7!J5 -> Gazovik Orenburg[15] | H5: =Feuil7!F5 -> 1 - 0 | I5: =Feuil7!H5 -> Zenit St. Petersburg | J5: =Feuil7!K5 -> 1 - 0 | M5: =B5 -> Halmstads | N5: =C5 -> 0 - 1 | O5: =D5 -> 0 - 0
A6: =Feuil1!B6 -> Konyaspor | B6: {=IFERROR(INDEX(E$1:E$338,MATCH(TRUE,ISNUMBER(SEARCH(E$1:E$338,A6)),0)),"")} -> Konyaspor | C6: {=IFERROR(INDEX(F$1:F$338,MATCH(TRUE,ISNUMBER(SEARCH(E$1:E$338,A6)),0)),"")} -> 0 - 1 | D6: {=IFERROR(INDEX(H$1:H$338,MATCH(TRUE,ISNUMBER(SEARCH(E$1:E$338,A6)),0)),"")} -> 0 - 1 | E6: =Feuil7!H6 -> Veria FC | F6: =Feuil7!E6 -> 1 - 1 | G6: =Feuil7!J6 -> Panathinaikos[4] | H6: =Feuil7!F6 -> 0 - 1 | I6: =Feuil7!H6 -> Veria FC | J6: =Feuil7!K6 -> 0 - 1 | M6: =B6 -> Konyaspor | N6: =C6 -> 0 - 1 | O6: =D6 -> 0 - 1
A7: =Feuil1!B7 -> Esbjerg | B7: {=IFERROR(INDEX(E$1:E$338,MATCH(TRUE,ISNUMBER(SEARCH(E$1:E$338,A7)),0)),"")} -> Esbjerg | C7: {=IFERROR(INDEX(F$1:F$338,MATCH(TRUE,ISNUMBER(SEARCH(E$1:E$338,A7)),0)),"")} -> 1 - 3 | D7: {=IFERROR(INDEX(H$1:H$338,MATCH(TRUE,ISNUMBER(SEARCH(E$1:E$338,A7)),0)),"")} -> 1 - 1 | E7: =Feuil7!H7 -> IFK Goteborg | F7: =Feuil7!E7 -> 1 - 0 | G7: =Feuil7!J7 -> AIK Solna[3] | H7: =Feuil7!F7 -> 1 - 0 | I7: =Feuil7!H7 -> IFK Goteborg | J7: =Feuil7!K7 -> 1 - 0 | M7: =B7 -> Esbjerg | N7: =C7 -> 1 - 3 | O7: =D7 -> 1 - 1
A8: =Feuil1!B8 | B8: {=IFERROR(INDEX(E$1:E$338,MATCH(TRUE,ISNUMBER(SEARCH(E$1:E$338,A8)),0)),"")} | C8: {=IFERROR(INDEX(F$1:F$338,MATCH(TRUE,ISNUMBER(SEARCH(E$1:E$338,A8)),0)),"")} | D8: {=IFERROR(INDEX(H$1:H$338,MATCH(TRUE,ISNUMBER(SEARCH(E$1:E$338,A8)),0)),"")} | E8: =Feuil7!H8 -> Djurgardens | F8: =Feuil7!E8 -> 0 - 2 | G8: =Feuil7!J8 -> Jonkopings Sodra[12] | H8: =Feuil7!F8 -> 0 - 1 | I8: =Feuil7!H8 -> Djurgardens | J8: =Feuil7!K8 -> 0 - 1 | M8: =B8 | N8: =C8 | O8: =D8
A9: =Feuil1!B9 | B9: {=IFERROR(INDEX(E$1:E$338,MATCH(TRUE,ISNUMBER(SEARCH(E$1:E$338,A9)),0)),"")} | C9: {=IFERROR(INDEX(F$1:F$338,MATCH(TRUE,ISNUMBER(SEARCH(E$1:E$338,A9)),0)),"")} | D9: {=IFERROR(INDEX(H$1:H$338,MATCH(TRUE,ISNUMBER(SEARCH(E$1:E$338,A9)),0)),"")} | E9: =Feuil7!H9 -> America MG | F9: =Feuil7!E9 -> 1 - 0 | G9: =Feuil7!J9 -> Atletico Paranaense[7] | H9: =Feuil7!F9 -> 0 - 0 | I9: =Feuil7!H9 -> America MG | J9: =Feuil7!K9 -> 0 - 0 | M9: =B9 | N9: =C9 | O9: =D9
A10: =Feuil1!B10 -> Spezia | B10: {=IFERROR(INDEX(E$1:E$338,MATCH(TRUE,ISNUMBER(SEARCH(E$1:E$338,A10)),0)),"")} -> Spezia | C10: {=IFERROR(INDEX(F$1:F$338,MATCH(TRUE,ISNUMBER(SEARCH(E$1:E$338,A10)),0)),"")} -> 1 - 1 | D10: {=IFERROR(INDEX(H$1:H$338,MATCH(TRUE,ISNUMBER(SEARCH(E$1:E$338,A10)),0)),"")} -> 0 - 1 | E10: =Feuil7!H10 -> Bury | F10: =Feuil7!E10 -> 0 - 2 | G10: =Feuil7!J10 -> Bolton Wanderers[4] | H10: =Feuil7!F10 -> 0 - 1 | I10: =Feuil7!H10 -> Bury | J10: =Feuil7!K10 -> 0 - 1 | M10: =B10 -> Spezia | N10: =C10 -> 1 - 1 | O10: =D10 -> 0 - 1
A11: =Feuil1!B11 -> Amiens | B11: {=IFERROR(INDEX(E$1:E$338,MATCH(TRUE,ISNUMBER(SEARCH(E$1:E$338,A11)),0)),"")} -> Amiens | C11: {=IFERROR(INDEX(F$1:F$338,MATCH(TRUE,ISNUMBER(SEARCH(E$1:E$338,A11)),0)),"")} -> 0 - 0 | D11: {=IFERROR(INDEX(H$1:H$338,MATCH(TRUE,ISNUMBER(SEARCH(E$1:E$338,A11)),0)),"")} -> 0 - 0 | E11: =Feuil7!H11 -> Curzon Ashton FC | F11: =Feuil7!E11 -> 1 - 1 | G11: =Feuil7!J11 -> Chorley FC[3] | H11: =Feuil7!F11 -> 1 - 1 | I11: =Feuil7!H11 -> Curzon Ashton FC | J11: =Feuil7!K11 -> 1 - 1 | M11: =B11 -> Amiens | N11: =C11 -> 0 - 0 | O11: =D11 -> 0 - 0
A12: =Feuil1!B12 -> Bury | B12: {=IFERROR(INDEX(E$1:E$338,MATCH(TRUE,ISNUMBER(SEARCH(E$1:E$338,A12)),0)),"")} -> Bury | C12: {=IFERROR(INDEX(F$1:F$338,MATCH(TRUE,ISNUMBER(SEARCH(E$1:E$338,A12)),0)),"")} -> 0 - 2 | D12: {=IFERROR(INDEX(H$1:H$338,MATCH(TRUE,ISNUMBER(SEARCH(E$1:E$338,A12)),0)),"")} -> 0 - 1 | E12: =Feuil7!H12 -> Kingstonian | F12: =Feuil7!E12 -> 1 - 3 | G12: =Feuil7!J12 -> Worthing[12] | H12: =Feuil7!F12 -> 0 - 1 | I12: =Feuil7!H12 -> Kingstonian | J12: =Feuil7!K12 -> 0 - 1 | M12: =B12 -> Bury | N12: =C12 -> 0 - 2 | O12: =D12 -> 0 - 1
A13: =Feuil1!B13 -> Cork City | B13: {=IFERROR(INDEX(E$1:E$338,MATCH(TRUE,ISNUMBER(SEARCH(E$1:E$338,A13)),0)),"")} -> Cork City | C13: {=IFERROR(INDEX(F$1:F$338,MATCH(TRUE,ISNUMBER(SEARCH(E$1:E$338,A13)),0)),"")} -> 5 - 0 | D13: {=IFERROR(INDEX(H$1:H$338,MATCH(TRUE,ISNUMBER(SEARCH(E$1:E$338,A13)),0)),"")} -> 4 - 0 | E13: =Feuil7!H13 -> Livorno | F13: =Feuil7!E13 -> 1 - 1 | G13: =Feuil7!J13 -> Arezzo[A-6] | H13: =Feuil7!F13 -> 0 - 0 | I13: =Feuil7!H13 -> Livorno | J13: =Feuil7!K13 -> 0 - 0 | M13: =B13 -> Cork City | N13: =C13 -> 5 - 0 | O13: =D13 -> 4 - 0
... A64: =Feuil1!B64 -> Red Bull Salzburg | B64: {=IFERROR(INDEX(E$1:E$338,MATCH(TRUE,ISNUMBER(SEARCH(E$1:E$338,A64)),0)),"")} | C64: {=IFERROR(INDEX(F$1:F$338,MATCH(TRUE,ISNUMBER(SEARCH(E$1:E$338,A64)),0)),"")} | D64: {=IFERROR(INDEX(H$1:H$338,MATCH(TRUE,ISNUMBER(SEARCH(E$1:E$338,A64)),0)),"")} | E64: =Feuil7!H64 -> Wrexham | F64: =Feuil7!E64 -> 2 - 2 | G64: =Feuil7!J64 -> Barrow[5] | H64: =Feuil7!F64 -> 1 - 1 | I64: =Feuil7!H64 -> Wrexham | J64: =Feuil7!K64 -> 1 - 1 | M64: =B64 | N64: =C64 | O64: =D64
A65: =Feuil1!B65 -> SKN St. Polten | B65: {=IFERROR(INDEX(E$1:E$338,MATCH(TRUE,ISNUMBER(SEARCH(E$1:E$338,A65)),0)),"")} | C65: {=IFERROR(INDEX(F$1:F$338,MATCH(TRUE,ISNUMBER(SEARCH(E$1:E$338,A65)),0)),"")} | D65: {=IFERROR(INDEX(H$1:H$338,MATCH(TRUE,ISNUMBER(SEARCH(E$1:E$338,A65)),0)),"")} | E65: =Feuil7!H65 -> Hemel Hempstead Town | F65: =Feuil7!E65 -> 2 - 1 | G65: =Feuil7!J65 -> Concord Rangers[20] | H65: =Feuil7!F65 -> 1 - 0 | I65: =Feuil7!H65 -> Hemel Hempstead Town | J65: =Feuil7!K65 -> 1 - 0 | K65: MALAGA | M65: =B65 | N65: =C65 | O65: =D65
A66: =Feuil1!B66 -> FC Blau Weiss Linz | B66: {=IFERROR(INDEX(E$1:E$338,MATCH(TRUE,ISNUMBER(SEARCH(E$1:E$338,A66)),0)),"")} | C66: {=IFERROR(INDEX(F$1:F$338,MATCH(TRUE,ISNUMBER(SEARCH(E$1:E$338,A66)),0)),"")} | D66: {=IFERROR(INDEX(H$1:H$338,MATCH(TRUE,ISNUMBER(SEARCH(E$1:E$338,A66)),0)),"")} | E66: =Feuil7!H66 -> Altrincham | F66: =Feuil7!E66 -> 2 - 3 | G66: =Feuil7!J66 -> Bradford Park Avenue[22] | H66: =Feuil7!F66 -> 1 - 0 | I66: =Feuil7!H66 -> Altrincham | J66: =Feuil7!K66 -> 1 - 0 | M66: =B66 | N66: =C66 | O66: =D66
A67: =Feuil1!B67 | B67: {=IFERROR(INDEX(E$1:E$338,MATCH(TRUE,ISNUMBER(SEARCH(E$1:E$338,A67)),0)),"")} | C67: {=IFERROR(INDEX(F$1:F$338,MATCH(TRUE,ISNUMBER(SEARCH(E$1:E$338,A67)),0)),"")} | D67: {=IFERROR(INDEX(H$1:H$338,MATCH(TRUE,ISNUMBER(SEARCH(E$1:E$338,A67)),0)),"")} | E67: =Feuil7!H67 -> Halifax Town | F67: =Feuil7!E67 -> 3 - 1 | G67: =Feuil7!J67 -> FC United of Manchester[13] | H67: =Feuil7!F67 -> 3 - 0 | I67: =Feuil7!H67 -> Halifax Town | J67: =Feuil7!K67 -> 3 - 0 | K67: Sampdoria de Gênes | M67: =B67 | N67: =C67 | O67: =D67
A68: =Feuil1!B68 -> Vitoria Setubal | B68: {=IFERROR(INDEX(E$1:E$338,MATCH(TRUE,ISNUMBER(SEARCH(E$1:E$338,A68)),0)),"")} | C68: {=IFERROR(INDEX(F$1:F$338,MATCH(TRUE,ISNUMBER(SEARCH(E$1:E$338,A68)),0)),"")} | D68: {=IFERROR(INDEX(H$1:H$338,MATCH(TRUE,ISNUMBER(SEARCH(E$1:E$338,A68)),0)),"")} | E68: =Feuil7!H68 -> Harrogate Town | F68: =Feuil7!E68 -> 0 - 2 | G68: =Feuil7!J68 -> Kidderminster Harriers[6] | H68: =Feuil7!F68 -> 0 - 1 | I68: =Feuil7!H68 -> Harrogate Town | J68: =Feuil7!K68 -> 0 - 1 | M68: =B68 | N68: =C68 | O68: =D68
A69: =Feuil1!B69 | B69: {=IFERROR(INDEX(E$1:E$338,MATCH(TRUE,ISNUMBER(SEARCH(E$1:E$338,A69)),0)),"")} | C69: {=IFERROR(INDEX(F$1:F$338,MATCH(TRUE,ISNUMBER(SEARCH(E$1:E$338,A69)),0)),"")} | D69: {=IFERROR(INDEX(H$1:H$338,MATCH(TRUE,ISNUMBER(SEARCH(E$1:E$338,A69)),0)),"")} | E69: =Feuil7!H69 -> Chesham United | F69: =Feuil7!E69 -> 1 - 0 | G69: =Feuil7!J69 -> Kettering Town[13] | H69: =Feuil7!F69 -> 1 - 0 | I69: =Feuil7!H69 -> Chesham United | J69: =Feuil7!K69 -> 1 - 0 | M69: =B69 | N69: =C69 | O69: =D69
A70: =Feuil1!B70 | B70: {=IFERROR(INDEX(E$1:E$338,MATCH(TRUE,ISNUMBER(SEARCH(E$1:E$338,A70)),0)),"")} | C70: {=IFERROR(INDEX(F$1:F$338,MATCH(TRUE,ISNUMBER(SEARCH(E$1:E$338,A70)),0)),"")} | D70: {=IFERROR(INDEX(H$1:H$338,MATCH(TRUE,ISNUMBER(SEARCH(E$1:E$338,A70)),0)),"")} | E70: =Feuil7!H70 -> Chippenham Town | F70: =Feuil7!E70 -> 2 - 0 | G70: =Feuil7!J70 -> Basingstoke Town[9] | H70: =Feuil7!F70 -> 1 - 0 | I70: =Feuil7!H70 -> Chippenham Town | J70: =Feuil7!K70 -> 1 - 0 | M70: =B70 | N70: =C70 | O70: =D70
A71: =Feuil1!B71 -> Maritimo Funchal | B71: {=IFERROR(INDEX(E$1:E$338,MATCH(TRUE,ISNUMBER(SEARCH(E$1:E$338,A71)),0)),"")} | C71: {=IFERROR(INDEX(F$1:F$338,MATCH(TRUE,ISNUMBER(SEARCH(E$1:E$338,A71)),0)),"")} | D71: {=IFERROR(INDEX(H$1:H$338,MATCH(TRUE,ISNUMBER(SEARCH(E$1:E$338,A71)),0)),"")} | E71: =Feuil7!H71 -> Cirencester | F71: =Feuil7!E71 -> 2 - 0 | G71: =Feuil7!J71 -> Dunstable Town[5] | H71: =Feuil7!F71 -> 1 - 0 | I71: =Feuil7!H71 -> Cirencester | J71: =Feuil7!K71 -> 1 - 0 | M71: =B71 | N71: =C71 | O71: =D71
A72: =Feuil1!B72 -> FC Arouca | B72: {=IFERROR(INDEX(E$1:E$338,MATCH(TRUE,ISNUMBER(SEARCH(E$1:E$338,A72)),0)),"")} | C72: {=IFERROR(INDEX(F$1:F$338,MATCH(TRUE,ISNUMBER(SEARCH(E$1:E$338,A72)),0)),"")} | D72: {=IFERROR(INDEX(H$1:H$338,MATCH(TRUE,ISNUMBER(SEARCH(E$1:E$338,A72)),0)),"")} | E72: =Feuil7!H72 -> Kings Langley | F72: =Feuil7!E72 -> 2 - 3 | G72: =Feuil7!J72 -> St Neots Town[22] | H72: =Feuil7!F72 -> 1 - 1 | I72: =Feuil7!H72 -> Kings Langley | J72: =Feuil7!K72 -> 1 - 1 | M72: =B72 | N72: =C72 | O72: =D72
A73: =Feuil1!B73 -> Moreirense | B73: {=IFERROR(INDEX(E$1:E$338,MATCH(TRUE,ISNUMBER(SEARCH(E$1:E$338,A73)),0)),"")} | C73: {=IFERROR(INDEX(F$1:F$338,MATCH(TRUE,ISNUMBER(SEARCH(E$1:E$338,A73)),0)),"")} | D73: {=IFERROR(INDEX(H$1:H$338,MATCH(TRUE,ISNUMBER(SEARCH(E$1:E$338,A73)),0)),"")} | E73: =Feuil7!H73 -> Kings Lynn | F73: =Feuil7!E73 -> 1 - 2 | G73: =Feuil7!J73 -> Hitchin Town[4] | H73: =Feuil7!F73 -> 0 - 1 | I73: =Feuil7!H73 -> Kings Lynn | J73: =Feuil7!K73 -> 0 - 1 | M73: =B73 | N73: =C73 | O73: =D73
A74: =Feuil1!B74 -> Hannover 96 | B74: {=IFERROR(INDEX(E$1:E$338,MATCH(TRUE,ISNUMBER(SEARCH(E$1:E$338,A74)),0)),"")} -> Hannover 96 | C74: {=IFERROR(INDEX(F$1:F$338,MATCH(TRUE,ISNUMBER(SEARCH(E$1:E$338,A74)),0)),"")} -> 6 - 1 | D74: {=IFERROR(INDEX(H$1:H$338,MATCH(TRUE,ISNUMBER(SEARCH(E$1:E$338,A74)),0)),"")} -> 5 - 1 | E74: =Feuil7!H74 -> Leamington | F74: =Feuil7!E74 -> 1 - 0 | G74: =Feuil7!J74 -> Cambridge City[23] | H74: =Feuil7!F74 -> 0 - 0 | I74: =Feuil7!H74 -> Leamington | J74: =Feuil7!K74 -> 0 - 0 | M74: =B74 -> Hannover 96 | N74: =C74 -> 6 - 1 | O74: =D74 -> 5 - 1
A75: =Feuil1!B75 -> Heidenheimer | B75: {=IFERROR(INDEX(E$1:E$338,MATCH(TRUE,ISNUMBER(SEARCH(E$1:E$338,A75)),0)),"")} -> Heidenheimer | C75: {=IFERROR(INDEX(F$1:F$338,MATCH(TRUE,ISNUMBER(SEARCH(E$1:E$338,A75)),0)),"")} -> 0 - 1 | D75: {=IFERROR(INDEX(H$1:H$338,MATCH(TRUE,ISNUMBER(SEARCH(E$1:E$338,A75)),0)),"")} -> 0 - 0 | E75: =Feuil7!H75 -> Slough Town | F75: =Feuil7!E75 -> 2 - 1 | G75: =Feuil7!J75 -> Dorchester Town[17] | H75: =Feuil7!F75 -> 1 - 1 | I75: =Feuil7!H75 -> Slough Town | J75: =Feuil7!K75 -> 1 - 1 | M75: =B75 -> Heidenheimer | N75: =C75 -> 0 - 1 | O75: =D75 -> 0 - 0
A76: =Feuil1!B76 -> Greuther Furth | B76: {=IFERROR(INDEX(E$1:E$338,MATCH(TRUE,ISNUMBER(SEARCH(E$1:E$338,A76)),0)),"")} -> Greuther Furth | C76: {=IFERROR(INDEX(F$1:F$338,MATCH(TRUE,ISNUMBER(SEARCH(E$1:E$338,A76)),0)),"")} -> 2 - 1 | D76: {=IFERROR(INDEX(H$1:H$338,MATCH(TRUE,ISNUMBER(SEARCH(E$1:E$338,A76)),0)),"")} -> 0 - 0 | E76: =Feuil7!H76 -> St Ives Town | F76: =Feuil7!E76 -> 1 - 1 | G76: =Feuil7!J76 -> Banbury United[8] | H76: =Feuil7!F76 -> 1 - 1 | I76: =Feuil7!H76 -> St Ives Town | J76: =Feuil7!K76 -> 1 - 1 | M76: =B76 -> Greuther Furth | N76: =C76 -> 2 - 1 | O76: =D76 -> 0 - 0
A77: =Feuil1!B77 | B77: {=IFERROR(INDEX(E$1:E$338,MATCH(TRUE,ISNUMBER(SEARCH(E$1:E$338,A77)),0)),"")} | C77: {=IFERROR(INDEX(F$1:F$338,MATCH(TRUE,ISNUMBER(SEARCH(E$1:E$338,A77)),0)),"")} | D77: {=IFERROR(INDEX(H$1:H$338,MATCH(TRUE,ISNUMBER(SEARCH(E$1:E$338,A77)),0)),"")} | E77: =Feuil7!H77 -> Burgess Hill Town | F77: =Feuil7!E77 -> 1 - 0 | G77: =Feuil7!J77 -> Hendon[21] | H77: =Feuil7!F77 -> 0 - 0 | I77: =Feuil7!H77 -> Burgess Hill Town | J77: =Feuil7!K77 -> 0 - 0 | M77: =B77 | N77: =C77 | O77: =D77
A78: =Feuil1!B78 -> FC Koln | B78: {=IFERROR(INDEX(E$1:E$338,MATCH(TRUE,ISNUMBER(SEARCH(E$1:E$338,A78)),0)),"")} -> FC Koln | C78: {=IFERROR(INDEX(F$1:F$338,MATCH(TRUE,ISNUMBER(SEARCH(E$1:E$338,A78)),0)),"")} -> 1 - 1 | D78: {=IFERROR(INDEX(H$1:H$338,MATCH(TRUE,ISNUMBER(SEARCH(E$1:E$338,A78)),0)),"")} -> 1 - 1 | E78: =Feuil7!H78 -> Billericay Town | F78: =Feuil7!E78 -> 3 - 0 | G78: =Feuil7!J78 -> Wingate Finchley[11] | H78: =Feuil7!F78 -> 0 - 0 | I78: =Feuil7!H78 -> Billericay Town | J78: =Feuil7!K78 -> 0 - 0 | M78: =B78 -> FC Koln | N78: =C78 -> 1 - 1 | O78: =D78 -> 1 - 1
A79: =Feuil1!B79 | B79: {=IFERROR(INDEX(E$1:E$338,MATCH(TRUE,ISNUMBER(SEARCH(E$1:E$338,A79)),0)),"")} | C79: {=IFERROR(INDEX(F$1:F$338,MATCH(TRUE,ISNUMBER(SEARCH(E$1:E$338,A79)),0)),"")} | D79: {=IFERROR(INDEX(H$1:H$338,MATCH(TRUE,ISNUMBER(SEARCH(E$1:E$338,A79)),0)),"")} | E79: =Feuil7!H79 -> Folkestone | F79: =Feuil7!E79 -> 1 - 1 | G79: =Feuil7!J79 -> Staines Town[14] | H79: =Feuil7!F79 -> 0 - 1 | I79: =Feuil7!H79 -> Folkestone | J79: =Feuil7!K79 -> 0 - 1 | M79: =B79 | N79: =C79 | O79: =D79
... A195: =Feuil1!B195 -> 0 | B195: {=IFERROR(INDEX(E$1:E$338,MATCH(TRUE,ISNUMBER(SEARCH(E$1:E$338,A195)),0)),"")} -> 0 | C195: {=IFERROR(INDEX(F$1:F$338,MATCH(TRUE,ISNUMBER(SEARCH(E$1:E$338,A195)),0)),"")} -> 1 - 2 | D195: {=IFERROR(INDEX(H$1:H$338,MATCH(TRUE,ISNUMBER(SEARCH(E$1:E$338,A195)),0)),"")} -> 0 - 1 | E195: =Feuil7!H195 -> Gibraltar U17(N) | F195: =Feuil7!E195 -> 0 - 2 | G195: =Feuil7!J195 -> Belgium U17[K2] | H195: =Feuil7!F195 -> 0 - 1 | I195: =Feuil7!H195 -> Gibraltar U17(N) | J195: =Feuil7!K195 -> 0 - 1 | M195: =B195 -> 0 | N195: =C195 -> 1 - 2 | O195: =D195 -> 0 - 1
A196: =Feuil1!B196 | B196: {=IFERROR(INDEX(E$1:E$338,MATCH(TRUE,ISNUMBER(SEARCH(E$1:E$338,A338)),0)),"")} | C196: {=IFERROR(INDEX(F$1:F$338,MATCH(TRUE,ISNUMBER(SEARCH(E$1:E$338,A338)),0)),"")} | D196: {=IFERROR(INDEX(H$1:H$338,MATCH(TRUE,ISNUMBER(SEARCH(E$1:E$338,A338)),0)),"")} | E196: =Feuil7!H196 -> Italy U17 | F196: =Feuil7!E196 -> 1 - 0 | G196: =Feuil7!J196 -> Albania U17[D4] | H196: =Feuil7!F196 -> 0 - 0 | I196: =Feuil7!H196 -> Italy U17 | J196: =Feuil7!K196 -> 0 - 0 | M196: =B196 | N196: =C196 | O196: =D196
A197: =Feuil1!B197 | B197: {=IFERROR(INDEX(E$1:E$338,MATCH(TRUE,ISNUMBER(SEARCH(E$1:E$338,A197)),0)),"")} | C197: {=IFERROR(INDEX(F$1:F$338,MATCH(TRUE,ISNUMBER(SEARCH(E$1:E$338,A197)),0)),"")} | D197: {=IFERROR(INDEX(H$1:H$338,MATCH(TRUE,ISNUMBER(SEARCH(E$1:E$338,A197)),0)),"")} | E197: =Feuil7!H197 -> luxembourg U17 | F197: =Feuil7!E197 -> 2 - 2 | G197: =Feuil7!J197 -> Faroe Islands U17[C3] | H197: =Feuil7!F197 -> 0 - 1 | I197: =Feuil7!H197 -> luxembourg U17 | J197: =Feuil7!K197 -> 0 - 1 | M197: =B197 | N197: =C197 | O197: =D197
A198: =Feuil1!B198 | B198: {=IFERROR(INDEX(E$1:E$338,MATCH(TRUE,ISNUMBER(SEARCH(E$1:E$338,A198)),0)),"")} | C198: {=IFERROR(INDEX(F$1:F$338,MATCH(TRUE,ISNUMBER(SEARCH(E$1:E$338,A198)),0)),"")} | D198: {=IFERROR(INDEX(H$1:H$338,MATCH(TRUE,ISNUMBER(SEARCH(E$1:E$338,A198)),0)),"")} | E198: =Feuil7!H198 -> Czech Republic U17(N) | F198: =Feuil7!E198 -> 3 - 3 | G198: =Feuil7!J198 -> Switzerland U17[C1] | H198: =Feuil7!F198 -> 2 - 1 | I198: =Feuil7!H198 -> Czech Republic U17(N) | J198: =Feuil7!K198 -> 2 - 1 | M198: =B198 | N198: =C198 | O198: =D198
A199: =Feuil1!B199 | B199: {=IFERROR(INDEX(E$1:E$338,MATCH(TRUE,ISNUMBER(SEARCH(E$1:E$338,A199)),0)),"")} | C199: {=IFERROR(INDEX(F$1:F$338,MATCH(TRUE,ISNUMBER(SEARCH(E$1:E$338,A199)),0)),"")} | D199: {=IFERROR(INDEX(H$1:H$338,MATCH(TRUE,ISNUMBER(SEARCH(E$1:E$338,A199)),0)),"")} | E199: =Feuil7!H199 -> Moldova (w) U17 | F199: =Feuil7!E199 -> 0 - 1 | G199: =Feuil7!J199 -> Bulgaria (w) U17[D3] | H199: =Feuil7!F199 -> 0 - 0 | I199: =Feuil7!H199 -> Moldova (w) U17 | J199: =Feuil7!K199 -> 0 - 0 | M199: =B199 | N199: =C199 | O199: =D199
A200: =Feuil1!B200 | B200: {=IFERROR(INDEX(E$1:E$338,MATCH(TRUE,ISNUMBER(SEARCH(E$1:E$338,A200)),0)),"")} | C200: {=IFERROR(INDEX(F$1:F$338,MATCH(TRUE,ISNUMBER(SEARCH(E$1:E$338,A200)),0)),"")} | D200: {=IFERROR(INDEX(H$1:H$338,MATCH(TRUE,ISNUMBER(SEARCH(E$1:E$338,A200)),0)),"")} | E200: =Feuil7!H200 -> Netherlands (w) U17(N) | F200: =Feuil7!E200 -> 0 - 2 | G200: =Feuil7!J200 -> Norway (w) U17[D2] | H200: =Feuil7!F200 -> 0 - 1 | I200: =Feuil7!H200 -> Netherlands (w) U17(N) | J200: =Feuil7!K200 -> 0 - 1 | M200: =B200 | N200: =C200 | O200: =D200
A201: =Feuil1!B201 | B201: {=IFERROR(INDEX(E$1:E$338,MATCH(TRUE,ISNUMBER(SEARCH(E$1:E$338,A201)),0)),"")} | C201: {=IFERROR(INDEX(F$1:F$338,MATCH(TRUE,ISNUMBER(SEARCH(E$1:E$338,A201)),0)),"")} | D201: {=IFERROR(INDEX(H$1:H$338,MATCH(TRUE,ISNUMBER(SEARCH(E$1:E$338,A201)),0)),"")} | E201: =Feuil7!H201 -> England (w) U17(N) | F201: =Feuil7!E201 -> 0 - 1 | G201: =Feuil7!J201 -> Slovenia (w) U17[H3] | H201: =Feuil7!F201 -> 0 - 1 | I201: =Feuil7!H201 -> England (w) U17(N) | J201: =Feuil7!K201 -> 0 - 1 | M201: =B201 | N201: =C201 | O201: =D201
A202: =Feuil1!B202 | B202: {=IFERROR(INDEX(E$1:E$338,MATCH(TRUE,ISNUMBER(SEARCH(E$1:E$338,A202)),0)),"")} | C202: {=IFERROR(INDEX(F$1:F$338,MATCH(TRUE,ISNUMBER(SEARCH(E$1:E$338,A202)),0)),"")} | D202: {=IFERROR(INDEX(H$1:H$338,MATCH(TRUE,ISNUMBER(SEARCH(E$1:E$338,A202)),0)),"")} | E202: =Feuil7!H202 -> Italy (w) U17(N) | F202: =Feuil7!E202 -> 8 - 0 | G202: =Feuil7!J202 -> Georgia (w) U17[E3] | H202: =Feuil7!F202 -> 7 - 0 | I202: =Feuil7!H202 -> Italy (w) U17(N) | J202: =Feuil7!K202 -> 7 - 0 | M202: =B202 | N202: =C202 | O202: =D202
A203: =Feuil1!B203 | B203: {=IFERROR(INDEX(E$1:E$338,MATCH(TRUE,ISNUMBER(SEARCH(E$1:E$338,A203)),0)),"")} | C203: {=IFERROR(INDEX(F$1:F$338,MATCH(TRUE,ISNUMBER(SEARCH(E$1:E$338,A203)),0)),"")} | D203: {=IFERROR(INDEX(H$1:H$338,MATCH(TRUE,ISNUMBER(SEARCH(E$1:E$338,A203)),0)),"")} | E203: =Feuil7!H203 -> Lithuania (w) U17(N) | F203: =Feuil7!E203 -> 0 - 2 | G203: =Feuil7!J203 -> Russia (w) U17[H2] | H203: =Feuil7!F203 -> 0 - 1 | I203: =Feuil7!H203 -> Lithuania (w) U17(N) | J203: =Feuil7!K203 -> 0 - 1 | M203: =B203 | N203: =C203 | O203: =D203
A204: =Feuil1!B204 | B204: {=IFERROR(INDEX(E$1:E$338,MATCH(TRUE,ISNUMBER(SEARCH(E$1:E$338,A204)),0)),"")} | C204: {=IFERROR(INDEX(F$1:F$338,MATCH(TRUE,ISNUMBER(SEARCH(E$1:E$338,A204)),0)),"")} | D204: {=IFERROR(INDEX(H$1:H$338,MATCH(TRUE,ISNUMBER(SEARCH(E$1:E$338,A204)),0)),"")} | E204: =Feuil7!H204 -> Belarus (w) U17(N) | F204: =Feuil7!E204 -> 0 - 4 | G204: =Feuil7!J204 -> Iceland (w) U17[J2] | H204: =Feuil7!F204 -> 0 - 3 | I204: =Feuil7!H204 -> Belarus (w) U17(N) | J204: =Feuil7!K204 -> 0 - 3 | M204: =B204 | N204: =C204 | O204: =D204
A205: =Feuil1!B205 | B205: {=IFERROR(INDEX(E$1:E$338,MATCH(TRUE,ISNUMBER(SEARCH(E$1:E$338,A205)),0)),"")} | C205: {=IFERROR(INDEX(F$1:F$338,MATCH(TRUE,ISNUMBER(SEARCH(E$1:E$338,A205)),0)),"")} | D205: {=IFERROR(INDEX(H$1:H$338,MATCH(TRUE,ISNUMBER(SEARCH(E$1:E$338,A205)),0)),"")} | E205: =Feuil7!H205 -> Portugal (w) U17 | F205: =Feuil7!E205 -> 1 - 1 | G205: =Feuil7!J205 -> Finland (w) U17[E1] | H205: =Feuil7!F205 -> 1 - 0 | I205: =Feuil7!H205 -> Portugal (w) U17 | J205: =Feuil7!K205 -> 1 - 0 | M205: =B205 | N205: =C205 | O205: =D205
A206: =Feuil1!B206 | B206: {=IFERROR(INDEX(E$1:E$338,MATCH(TRUE,ISNUMBER(SEARCH(E$1:E$338,A206)),0)),"")} | C206: {=IFERROR(INDEX(F$1:F$338,MATCH(TRUE,ISNUMBER(SEARCH(E$1:E$338,A206)),0)),"")} | D206: {=IFERROR(INDEX(H$1:H$338,MATCH(TRUE,ISNUMBER(SEARCH(E$1:E$338,A206)),0)),"")} | E206: =Feuil7!H206 -> Republic of Ireland (w) U17 | F206: =Feuil7!E206 -> 6 - 0 | G206: =Feuil7!J206 -> Faroe Islands (w) U17[J3] | H206: =Feuil7!F206 -> 2 - 0 | I206: =Feuil7!H206 -> Republic of Ireland (w) U17 | J206: =Feuil7!K206 -> 2 - 0 | M206: =B206 | N206: =C206 | O206: =D206
A207: =Feuil1!B207 | B207: {=IFERROR(INDEX(E$1:E$338,MATCH(TRUE,ISNUMBER(SEARCH(E$1:E$338,A207)),0)),"")} | C207: {=IFERROR(INDEX(F$1:F$338,MATCH(TRUE,ISNUMBER(SEARCH(E$1:E$338,A207)),0)),"")} | D207: {=IFERROR(INDEX(H$1:H$338,MATCH(TRUE,ISNUMBER(SEARCH(E$1:E$338,A207)),0)),"")} | E207: =Feuil7!H207 -> NK Solin | F207: =Feuil7!E207 -> 1 - 2 | G207: =Feuil7!J207 -> Hajduk Split[4] | H207: =Feuil7!F207 -> 1 - 0 | I207: =Feuil7!H207 -> NK Solin | J207: =Feuil7!K207 -> 1 - 0 | M207: =B207 | N207: =C207 | O207: =D207
A208: =Feuil1!B208 | B208: {=IFERROR(INDEX(E$1:E$338,MATCH(TRUE,ISNUMBER(SEARCH(E$1:E$338,A208)),0)),"")} | C208: {=IFERROR(INDEX(F$1:F$338,MATCH(TRUE,ISNUMBER(SEARCH(E$1:E$338,A208)),0)),"")} | D208: {=IFERROR(INDEX(H$1:H$338,MATCH(TRUE,ISNUMBER(SEARCH(E$1:E$338,A208)),0)),"")} | E208: =Feuil7!H208 -> Rudes | F208: =Feuil7!E208 -> 3 - 3 | G208: =Feuil7!J208 -> Rijeka[1] | H208: =Feuil7!F208 -> 0 - 3 | I208: =Feuil7!H208 -> Rudes | J208: =Feuil7!K208 -> 0 - 3 | M208: =B208 | N208: =C208 | O208: =D208
... A314: =Feuil1!B314 | B314: {=IFERROR(INDEX(E$1:E$338,MATCH(TRUE,ISNUMBER(SEARCH(E$1:E$338,A314)),0)),"")} | C314: {=IFERROR(INDEX(F$1:F$338,MATCH(TRUE,ISNUMBER(SEARCH(E$1:E$338,A314)),0)),"")} | D314: {=IFERROR(INDEX(H$1:H$338,MATCH(TRUE,ISNUMBER(SEARCH(E$1:E$338,A314)),0)),"")} | E314: =Feuil7!H314 -> Maribor | F314: =Feuil7!E314 -> 0 - 0 | G314: =Feuil7!J314 -> ND Gorica[5] | H314: =Feuil7!F314 -> 0 - 0 | I314: =Feuil7!H314 -> Maribor | J314: =Feuil7!K314 -> 0 - 0 | M314: =B314 | N314: =C314 | O314: =D314
A315: =Feuil1!B315 | E315: =Feuil7!H315 -> Cultural Leonesa | F315: =Feuil7!E315 -> 1 - 7 | G315: =Feuil7!J315 -> Real Madrid[1] | H315: =Feuil7!F315 -> 0 - 2 | I315: =Feuil7!H315 -> Cultural Leonesa | J315: =Feuil7!K315 -> 0 - 2 | M315: =B315 -> 0 | N315: =C315 -> 0 | O315: =D315 -> 0
A316: =Feuil1!B316 | E316: =Feuil7!H316 -> Astoria Walldorf | F316: =Feuil7!E316 -> 1 - 0 | G316: =Feuil7!J316 -> Darmstadt[13] | H316: =Feuil7!F316 -> 1 - 0 | I316: =Feuil7!H316 -> Astoria Walldorf | J316: =Feuil7!K316 -> 1 - 0 | M316: =B316 -> 0 | N316: =C316 -> 0 | O316: =D316 -> 0
A317: =Feuil1!B317 | E317: =Feuil7!H317 -> Greuther Furth | F317: =Feuil7!E317 -> 2 - 1 | G317: =Feuil7!J317 -> FSV Mainz 05[9] | H317: =Feuil7!F317 -> 0 - 0 | I317: =Feuil7!H317 -> Greuther Furth | J317: =Feuil7!K317 -> 0 - 0 | M317: =B317 -> 0 | N317: =C317 -> 0 | O317: =D317 -> 0
A318: =Feuil1!B318 | E318: =Feuil7!H318 -> Hannover 96 | F318: =Feuil7!E318 -> 6 - 1 | G318: =Feuil7!J318 -> Fortuna Dusseldorf[7] | H318: =Feuil7!F318 -> 5 - 1 | I318: =Feuil7!H318 -> Hannover 96 | J318: =Feuil7!K318 -> 5 - 1 | M318: =B318 -> 0 | N318: =C318 -> 0 | O318: =D318 -> 0
A319: =Feuil1!B319 | E319: =Feuil7!H319 -> Heidenheimer | F319: =Feuil7!E319 -> 0 - 1 | G319: =Feuil7!J319 -> VfL Wolfsburg[16] | H319: =Feuil7!F319 -> 0 - 0 | I319: =Feuil7!H319 -> Heidenheimer | J319: =Feuil7!K319 -> 0 - 0 | M319: =B319 -> 0 | N319: =C319 -> 0 | O319: =D319 -> 0
A320: =Feuil1!B320 | E320: =Feuil7!H320 -> FC Koln | F320: =Feuil7!E320 -> 1 - 1 | G320: =Feuil7!J320 -> TSG Hoffenheim[4] | H320: =Feuil7!F320 -> 1 - 1 | I320: =Feuil7!H320 -> FC Koln | J320: =Feuil7!K320 -> 1 - 1 | M320: =B320 -> 0 | N320: =C320 -> 0 | O320: =D320 -> 0
A321: =Feuil1!B321 | E321: =Feuil7!H321 -> Bayern Munchen | F321: =Feuil7!E321 -> 3 - 1 | G321: =Feuil7!J321 -> Augsburg[12] | H321: =Feuil7!F321 -> 2 - 0 | I321: =Feuil7!H321 -> Bayern Munchen | J321: =Feuil7!K321 -> 2 - 0 | M321: =B321 -> 0 | N321: =C321 -> 0 | O321: =D321 -> 0
A322: =Feuil1!B322 | E322: =Feuil7!H322 -> Nurnberg | F322: =Feuil7!E322 -> 2 - 3 | G322: =Feuil7!J322 -> Schalke 04[14] | H322: =Feuil7!F322 -> 0 - 3 | I322: =Feuil7!H322 -> Nurnberg | J322: =Feuil7!K322 -> 0 - 3 | M322: =B322 -> 0 | N322: =C322 -> 0 | O322: =D322 -> 0
A323: =Feuil1!B323 | E323: =Feuil7!H323 -> Borussia Dortmund | F323: =Feuil7!E323 -> 1 - 1 | G323: =Feuil7!J323 -> Union Berlin[2] | H323: =Feuil7!F323 -> 1 - 0 | I323: =Feuil7!H323 -> Borussia Dortmund | J323: =Feuil7!K323 -> 1 - 0 | M323: =B323 -> 0 | N323: =C323 -> 0 | O323: =D323 -> 0
A324: =Feuil1!B324 | E324: =Feuil7!H324 -> Jagodina | F324: =Feuil7!E324 -> 1 - 1 | G324: =Feuil7!J324 -> Borac Cacak[16] | H324: =Feuil7!F324 -> 1 - 0 | I324: =Feuil7!H324 -> Jagodina | J324: =Feuil7!K324 -> 1 - 0 | M324: =B324 -> 0 | N324: =C324 -> 0 | O324: =D324 -> 0
A325: =Feuil1!B325 | E325: =Feuil7!H325 -> FK Vozdovac Beograd | F325: =Feuil7!E325 -> 1 - 0 | G325: =Feuil7!J325 -> FK Spartak Zlatibor Voda[8] | H325: =Feuil7!F325 -> 1 - 0 | I325: =Feuil7!H325 -> FK Vozdovac Beograd | J325: =Feuil7!K325 -> 1 - 0 | M325: =B325 -> 0 | N325: =C325 -> 0 | O325: =D325 -> 0
A326: =Feuil1!B326 | E326: =Feuil7!H326 -> Cukaricki Stankom | F326: =Feuil7!E326 -> 1 - 0 | G326: =Feuil7!J326 -> Habitpharm Javor[13] | H326: =Feuil7!F326 -> 1 - 0 | I326: =Feuil7!H326 -> Cukaricki Stankom | J326: =Feuil7!K326 -> 1 - 0 | M326: =B326 -> 0 | N326: =C326 -> 0 | O326: =D326 -> 0
... A985: =Feuil1!B985 | E985: =Feuil7!H985 -> 0 | F985: =Feuil7!E985 -> 0 | G985: =Feuil7!J985 -> 0 | H985: =Feuil7!F985 -> 0 | I985: =Feuil7!H985 -> 0 | J985: =Feuil7!K985 -> 0 | M985: =B985 -> 0 | N985: =C985 -> 0 | O985: =D985 -> 0
A986: =Feuil1!B986 | E986: =Feuil7!H986 -> 0 | F986: =Feuil7!E986 -> 0 | G986: =Feuil7!J986 -> 0 | M986: =B986 -> 0 | N986: =C986 -> 0 | O986: =D986 -> 0
A987: =Feuil1!B987 | E987: =Feuil7!H987 -> 0 | F987: =Feuil7!E987 -> 0 | G987: =Feuil7!J987 -> 0 | M987: =B987 -> 0 | N987: =C987 -> 0 | O987: =D987 -> 0
A988: =Feuil1!B988 | E988: =Feuil7!D988 -> 0 | M988: =B988 -> 0 | N988: =C988 -> 0 | O988: =D988 -> 0
A989: =Feuil1!B989 | E989: =Feuil7!D989 -> 0 | M989: =B989 -> 0 | N989: =C989 -> 0 | O989: =D989 -> 0
A990: =Feuil1!B990 | E990: =Feuil7!D990 -> 0 | M990: =B990 -> 0 | N990: =C990 -> 0 | O990: =D990 -> 0
A991: =Feuil1!B991 | E991: =Feuil7!D991 -> 0 | M991: =B991 -> 0 | N991: =C991 -> 0 | O991: =D991 -> 0
A992: =Feuil1!B992 | E992: =Feuil7!D992 -> 0 | M992: =B992 -> 0 | N992: =C992 -> 0 | O992: =D992 -> 0
A993: =Feuil1!B993 | E993: =Feuil7!D993 -> 0 | M993: =B993 -> 0 | N993: =C993 -> 0 | O993: =D993 -> 0
A994: =Feuil1!B994 | E994: =Feuil7!D994 -> 0 | M994: =B994 -> 0 | N994: =C994 -> 0 | O994: =D994 -> 0
A995: =Feuil1!B995 | M995: =B995 -> 0 | N995: =C995 -> 0 | O995: =D995 -> 0
A996: =Feuil1!B996 | M996: =B996 -> 0 | N996: =C996 -> 0 | O996: =D996 -> 0
A997: =Feuil1!B997 | M997: =B997 -> 0 | N997: =C997 -> 0 | O997: =D997 -> 0
A998: =Feuil1!B998 | M998: =B998 -> 0 | N998: =C998 -> 0 | O998: =D998 -> 0
A999: =Feuil1!B999 | M999: =B999 -> 0 | N999: =C999 -> 0 | O999: =D999 -> 0
A1000: =Feuil1!B1000 | M1000: =B1000 -> 0 | N1000: =C1000 -> 0 | O1000: =D1000 -> 0
A1001: =Feuil1!B1001 | M1001: =B1001 -> 0 | N1001: =C1001 -> 0 | O1001: =D1001 -> 0
A1002: =Feuil1!B1002 | M1002: =B1002 -> 0 | N1002: =C1002 -> 0 | O1002: =D1002 -> 0
A1003: =Feuil1!B1003 | M1003: =B1003 -> 0 | N1003: =C1003 -> 0 | O1003: =D1003 -> 0
A1004: =Feuil1!B1004 | M1004: =B1004 -> 0 | N1004: =C1004 -> 0 | O1004: =D1004 -> 0
A1005: =Feuil1!B1005 | M1005: =B1005 -> 0 | N1005: =C1005 -> 0 | O1005: =D1005 -> 0
A1006: =Feuil1!B1006 | M1006: =B1006 -> 0 | N1006: =C1006 -> 0 | O1006: =D1006 -> 0
... A1160: =Feuil1!B1160 | M1160: =B1160 -> 0 | N1160: =C1160 -> 0 | O1160: =D1160 -> 0
A1161: =Feuil1!B1161
A1162: =Feuil1!B1162
A1163: =Feuil1!B1163
A1164: =Feuil1!B1164
A1165: =Feuil1!B1165
A1166: =Feuil1!B1166
A1167: =Feuil1!B1167
A1168: =Feuil1!B1168
A1169: =Feuil1!B1169
A1170: =Feuil1!B1170

Sheet Feuil3
A1: =Feuil2!B1 | B1: =Feuil2!C1 -> 1 - 0 | C1: =Feuil2!D1 -> 1 - 0 | F1: =SUBSTITUTE(B1," ","") -> 1-0 | G1: =IF(--LEFT(B1,FIND("-",B1)-1)+MID(B1,FIND("-",B1)+1,99)<2.5,"M","P") -> M | H1: =I1 & "-" & K1 -> 1-1 | I1: =IF(--LEFT(C1,FIND("-",C1)-1)=--MID(C1,FIND("-",C1)+1,99),"X",IF(--LEFT(C1,FIND("-",C1)-1)>--MID(C1,FIND("-",C1)+1,99),1,2)) -> 1 | K1: =IF(--LEFT(B1,FIND("-",B1)-1)=--MID(B1,FIND("-",B1)+1,99),"X",IF(--LEFT(B1,FIND("-",B1)-1)>--MID(B1,FIND("-",B1)+1,99),1,2)) -> 1 | M1: =IF(--LEFT(B1,FIND("-",B1)-1)+MID(B1,FIND("-",B1)+1,99)<1.5,"0-1",IF(--LEFT(B1,FIND("-",B1)-1)+MID(B1,FIND("-",B1)+1,99)<3.5,"2-3","+4")) -> 0-1 | N1: =IF(OR(I1="X",I1=1),"1X","") -> 1X | O1: =IF(OR(I1=1,I1=2),"12","") -> 12 | P1: =IF(OR(I1="X",I1=2),"X2","") | Q1: =IF(OR(K1="X",K1=1),"1X","") -> 1X | R1: =IF(OR(K1=1,K1=2),"12","") -> 12 | S1: =IF(OR(K1="X",K1=2),"X2","")
A2: =Feuil2!B2 -> Djurgardens | B2: =Feuil2!C2 -> 0 - 2 | C2: =Feuil2!D2 -> 0 - 1 | F2: =SUBSTITUTE(B2," ","") -> 0-2 | G2: =IF(--LEFT(B2,FIND("-",B2)-1)+MID(B2,FIND("-",B2)+1,99)<2.5,"M","P") -> M | H2: =I2 & "-" & K2 -> 2-2 | I2: =IF(--LEFT(C2,FIND("-",C2)-1)=--MID(C2,FIND("-",C2)+1,99),"X",IF(--LEFT(C2,FIND("-",C2)-1)>--MID(C2,FIND("-",C2)+1,99),1,2)) -> 2 | K2: =IF(--LEFT(B2,FIND("-",B2)-1)=--MID(B2,FIND("-",B2)+1,99),"X",IF(--LEFT(B2,FIND("-",B2)-1)>--MID(B2,FIND("-",B2)+1,99),1,2)) -> 2 | M2: =IF(--LEFT(B2,FIND("-",B2)-1)+MID(B2,FIND("-",B2)+1,99)<1.5,"0-1",IF(--LEFT(B2,FIND("-",B2)-1)+MID(B2,FIND("-",B2)+1,99)<3.5,"2-3","+4")) -> 2-3 | N2: =IF(OR(I2="X",I2=1),"1X","") | O2: =IF(OR(I2=1,I2=2),"12","") -> 12 | P2: =IF(OR(I2="X",I2=2),"X2","") -> X2 | Q2: =IF(OR(K2="X",K2=1),"1X","") | R2: =IF(OR(K2=1,K2=2),"12","") -> 12 | S2: =IF(OR(K2="X",K2=2),"X2","") -> X2
A3: =Feuil2!B3 -> IFK Goteborg | B3: =Feuil2!C3 -> 1 - 0 | C3: =Feuil2!D3 -> 1 - 0 | F3: =SUBSTITUTE(B3," ","") -> 1-0 | G3: =IF(--LEFT(B3,FIND("-",B3)-1)+MID(B3,FIND("-",B3)+1,99)<2.5,"M","P") -> M | H3: =I3 & "-" & K3 -> 1-1 | I3: =IF(--LEFT(C3,FIND("-",C3)-1)=--MID(C3,FIND("-",C3)+1,99),"X",IF(--LEFT(C3,FIND("-",C3)-1)>--MID(C3,FIND("-",C3)+1,99),1,2)) -> 1 | K3: =IF(--LEFT(B3,FIND("-",B3)-1)=--MID(B3,FIND("-",B3)+1,99),"X",IF(--LEFT(B3,FIND("-",B3)-1)>--MID(B3,FIND("-",B3)+1,99),1,2)) -> 1 | M3: =IF(--LEFT(B3,FIND("-",B3)-1)+MID(B3,FIND("-",B3)+1,99)<1.5,"0-1",IF(--LEFT(B3,FIND("-",B3)-1)+MID(B3,FIND("-",B3)+1,99)<3.5,"2-3","+4")) -> 0-1 | N3: =IF(OR(I3="X",I3=1),"1X","") -> 1X | O3: =IF(OR(I3=1,I3=2),"12","") -> 12 | P3: =IF(OR(I3="X",I3=2),"X2","") | Q3: =IF(OR(K3="X",K3=1),"1X","") -> 1X | R3: =IF(OR(K3=1,K3=2),"12","") -> 12 | S3: =IF(OR(K3="X",K3=2),"X2","")
A4: =Feuil2!B4 -> Atvidabergs | B4: =Feuil2!C4 -> 4 - 2 | C4: =Feuil2!D4 -> 2 - 0 | F4: =SUBSTITUTE(B4," ","") -> 4-2 | G4: =IF(--LEFT(B4,FIND("-",B4)-1)+MID(B4,FIND("-",B4)+1,99)<2.5,"M","P") -> P | H4: =I4 & "-" & K4 -> 1-1 | I4: =IF(--LEFT(C4,FIND("-",C4)-1)=--MID(C4,FIND("-",C4)+1,99),"X",IF(--LEFT(C4,FIND("-",C4)-1)>--MID(C4,FIND("-",C4)+1,99),1,2)) -> 1 | K4: =IF(--LEFT(B4,FIND("-",B4)-1)=--MID(B4,FIND("-",B4)+1,99),"X",IF(--LEFT(B4,FIND("-",B4)-1)>--MID(B4,FIND("-",B4)+1,99),1,2)) -> 1 | M4: =IF(--LEFT(B4,FIND("-",B4)-1)+MID(B4,FIND("-",B4)+1,99)<1.5,"0-1",IF(--LEFT(B4,FIND("-",B4)-1)+MID(B4,FIND("-",B4)+1,99)<3.5,"2-3","+4")) -> +4 | N4: =IF(OR(I4="X",I4=1),"1X","") -> 1X | O4: =IF(OR(I4=1,I4=2),"12","") -> 12 | P4: =IF(OR(I4="X",I4=2),"X2","") | Q4: =IF(OR(K4="X",K4=1),"1X","") -> 1X | R4: =IF(OR(K4=1,K4=2),"12","") -> 12 | S4: =IF(OR(K4="X",K4=2),"X2","")
A5: =Feuil2!B5 -> Halmstads | B5: =Feuil2!C5 -> 0 - 1 | C5: =Feuil2!D5 -> 0 - 0 | F5: =SUBSTITUTE(B5," ","") -> 0-1 | G5: =IF(--LEFT(B5,FIND("-",B5)-1)+MID(B5,FIND("-",B5)+1,99)<2.5,"M","P") -> M | H5: =I5 & "-" & K5 -> X-2 | I5: =IF(--LEFT(C5,FIND("-",C5)-1)=--MID(C5,FIND("-",C5)+1,99),"X",IF(--LEFT(C5,FIND("-",C5)-1)>--MID(C5,FIND("-",C5)+1,99),1,2)) -> X | K5: =IF(--LEFT(B5,FIND("-",B5)-1)=--MID(B5,FIND("-",B5)+1,99),"X",IF(--LEFT(B5,FIND("-",B5)-1)>--MID(B5,FIND("-",B5)+1,99),1,2)) -> 2 | M5: =IF(--LEFT(B5,FIND("-",B5)-1)+MID(B5,FIND("-",B5)+1,99)<1.5,"0-1",IF(--LEFT(B5,FIND("-",B5)-1)+MID(B5,FIND("-",B5)+1,99)<3.5,"2-3","+4")) -> 0-1 | N5: =IF(OR(I5="X",I5=1),"1X","") -> 1X | O5: =IF(OR(I5=1,I5=2),"12","") | P5: =IF(OR(I5="X",I5=2),"X2","") -> X2 | Q5: =IF(OR(K5="X",K5=1),"1X","") | R5: =IF(OR(K5=1,K5=2),"12","") -> 12 | S5: =IF(OR(K5="X",K5=2),"X2","") -> X2
A6: =Feuil2!B6 -> Konyaspor | B6: =Feuil2!C6 -> 0 - 1 | C6: =Feuil2!D6 -> 0 - 1 | F6: =SUBSTITUTE(B6," ","") -> 0-1 | G6: =IF(--LEFT(B6,FIND("-",B6)-1)+MID(B6,FIND("-",B6)+1,99)<2.5,"M","P") -> M | H6: =I6 & "-" & K6 -> 2-2 | I6: =IF(--LEFT(C6,FIND("-",C6)-1)=--MID(C6,FIND("-",C6)+1,99),"X",IF(--LEFT(C6,FIND("-",C6)-1)>--MID(C6,FIND("-",C6)+1,99),1,2)) -> 2 | K6: =IF(--LEFT(B6,FIND("-",B6)-1)=--MID(B6,FIND("-",B6)+1,99),"X",IF(--LEFT(B6,FIND("-",B6)-1)>--MID(B6,FIND("-",B6)+1,99),1,2)) -> 2 | M6: =IF(--LEFT(B6,FIND("-",B6)-1)+MID(B6,FIND("-",B6)+1,99)<1.5,"0-1",IF(--LEFT(B6,FIND("-",B6)-1)+MID(B6,FIND("-",B6)+1,99)<3.5,"2-3","+4")) -> 0-1 | N6: =IF(OR(I6="X",I6=1),"1X","") | O6: =IF(OR(I6=1,I6=2),"12","") -> 12 | P6: =IF(OR(I6="X",I6=2),"X2","") -> X2 | Q6: =IF(OR(K6="X",K6=1),"1X","") | R6: =IF(OR(K6=1,K6=2),"12","") -> 12 | S6: =IF(OR(K6="X",K6=2),"X2","") -> X2
A7: =Feuil2!B7 -> Esbjerg | B7: =Feuil2!C7 -> 1 - 3 | C7: =Feuil2!D7 -> 1 - 1 | F7: =SUBSTITUTE(B7," ","") -> 1-3 | G7: =IF(--LEFT(B7,FIND("-",B7)-1)+MID(B7,FIND("-",B7)+1,99)<2.5,"M","P") -> P | H7: =I7 & "-" & K7 -> X-2 | I7: =IF(--LEFT(C7,FIND("-",C7)-1)=--MID(C7,FIND("-",C7)+1,99),"X",IF(--LEFT(C7,FIND("-",C7)-1)>--MID(C7,FIND("-",C7)+1,99),1,2)) -> X | K7: =IF(--LEFT(B7,FIND("-",B7)-1)=--MID(B7,FIND("-",B7)+1,99),"X",IF(--LEFT(B7,FIND("-",B7)-1)>--MID(B7,FIND("-",B7)+1,99),1,2)) -> 2 | M7: =IF(--LEFT(B7,FIND("-",B7)-1)+MID(B7,FIND("-",B7)+1,99)<1.5,"0-1",IF(--LEFT(B7,FIND("-",B7)-1)+MID(B7,FIND("-",B7)+1,99)<3.5,"2-3","+4")) -> +4 | N7: =IF(OR(I7="X",I7=1),"1X","") -> 1X | O7: =IF(OR(I7=1,I7=2),"12","") | P7: =IF(OR(I7="X",I7=2),"X2","") -> X2 | Q7: =IF(OR(K7="X",K7=1),"1X","") | R7: =IF(OR(K7=1,K7=2),"12","") -> 12 | S7: =IF(OR(K7="X",K7=2),"X2","") -> X2
A8: =Feuil2!B8 | B8: =Feuil2!C8 | C8: =Feuil2!D8 | F8: =SUBSTITUTE(B8," ","") | G8: =IF(--LEFT(B8,FIND("-",B8)-1)+MID(B8,FIND("-",B8)+1,99)<2.5,"M","P") -> #VALUE! | H8: =I8 & "-" & K8 -> #VALUE! | I8: =IF(--LEFT(C8,FIND("-",C8)-1)=--MID(C8,FIND("-",C8)+1,99),"X",IF(--LEFT(C8,FIND("-",C8)-1)>--MID(C8,FIND("-",C8)+1,99),1,2)) -> #VALUE! | K8: =IF(--LEFT(B8,FIND("-",B8)-1)=--MID(B8,FIND("-",B8)+1,99),"X",IF(--LEFT(B8,FIND("-",B8)-1)>--MID(B8,FIND("-",B8)+1,99),1,2)) -> #VALUE! | M8: =IF(--LEFT(B8,FIND("-",B8)-1)+MID(B8,FIND("-",B8)+1,99)<1.5,"0-1",IF(--LEFT(B8,FIND("-",B8)-1)+MID(B8,FIND("-",B8)+1,99)<3.5,"2-3","+4")) -> #VALUE! | N8: =IF(OR(I8="X",I8=1),"1X","") -> #VALUE! | O8: =IF(OR(I8=1,I8=2),"12","") -> #VALUE! | P8: =IF(OR(I8="X",I8=2),"X2","") -> #VALUE! | Q8: =IF(OR(K8="X",K8=1),"1X","") -> #VALUE! | R8: =IF(OR(K8=1,K8=2),"12","") -> #VALUE! | S8: =IF(OR(K8="X",K8=2),"X2","") -> #VALUE!
A9: =Feuil2!B9 | B9: =Feuil2!C9 | C9: =Feuil2!D9 | F9: =SUBSTITUTE(B9," ","") | G9: =IF(--LEFT(B9,FIND("-",B9)-1)+MID(B9,FIND("-",B9)+1,99)<2.5,"M","P") -> #VALUE! | H9: =I9 & "-" & K9 -> #VALUE! | I9: =IF(--LEFT(C9,FIND("-",C9)-1)=--MID(C9,FIND("-",C9)+1,99),"X",IF(--LEFT(C9,FIND("-",C9)-1)>--MID(C9,FIND("-",C9)+1,99),1,2)) -> #VALUE! | K9: =IF(--LEFT(B9,FIND("-",B9)-1)=--MID(B9,FIND("-",B9)+1,99),"X",IF(--LEFT(B9,FIND("-",B9)-1)>--MID(B9,FIND("-",B9)+1,99),1,2)) -> #VALUE! | M9: =IF(--LEFT(B9,FIND("-",B9)-1)+MID(B9,FIND("-",B9)+1,99)<1.5,"0-1",IF(--LEFT(B9,FIND("-",B9)-1)+MID(B9,FIND("-",B9)+1,99)<3.5,"2-3","+4")) -> #VALUE! | N9: =IF(OR(I9="X",I9=1),"1X","") -> #VALUE! | O9: =IF(OR(I9=1,I9=2),"12","") -> #VALUE! | P9: =IF(OR(I9="X",I9=2),"X2","") -> #VALUE! | Q9: =IF(OR(K9="X",K9=1),"1X","") -> #VALUE! | R9: =IF(OR(K9=1,K9=2),"12","") -> #VALUE! | S9: =IF(OR(K9="X",K9=2),"X2","") -> #VALUE!
A10: =Feuil2!B10 -> Spezia | B10: =Feuil2!C10 -> 1 - 1 | C10: =Feuil2!D10 -> 0 - 1 | F10: =SUBSTITUTE(B10," ","") -> 1-1 | G10: =IF(--LEFT(B10,FIND("-",B10)-1)+MID(B10,FIND("-",B10)+1,99)<2.5,"M","P") -> M | H10: =I10 & "-" & K10 -> 2-X | I10: =IF(--LEFT(C10,FIND("-",C10)-1)=--MID(C10,FIND("-",C10)+1,99),"X",IF(--LEFT(C10,FIND("-",C10)-1)>--MID(C10,FIND("-",C10)+1,99),1,2)) -> 2 | K10: =IF(--LEFT(B10,FIND("-",B10)-1)=--MID(B10,FIND("-",B10)+1,99),"X",IF(--LEFT(B10,FIND("-",B10)-1)>--MID(B10,FIND("-",B10)+1,99),1,2)) -> X | M10: =IF(--LEFT(B10,FIND("-",B10)-1)+MID(B10,FIND("-",B10)+1,99)<1.5,"0-1",IF(--LEFT(B10,FIND("-",B10)-1)+MID(B10,FIND("-",B10)+1,99)<3.5,"2-3","+4")) -> 2-3 | N10: =IF(OR(I10="X",I10=1),"1X","") | O10: =IF(OR(I10=1,I10=2),"12","") -> 12 | P10: =IF(OR(I10="X",I10=2),"X2","") -> X2 | Q10: =IF(OR(K10="X",K10=1),"1X","") -> 1X | R10: =IF(OR(K10=1,K10=2),"12","") | S10: =IF(OR(K10="X",K10=2),"X2","") -> X2
A11: =Feuil2!B11 -> Amiens | B11: =Feuil2!C11 -> 0 - 0 | C11: =Feuil2!D11 -> 0 - 0 | F11: =SUBSTITUTE(B11," ","") -> 0-0 | G11: =IF(--LEFT(B11,FIND("-",B11)-1)+MID(B11,FIND("-",B11)+1,99)<2.5,"M","P") -> M | H11: =I11 & "-" & K11 -> X-X | I11: =IF(--LEFT(C11,FIND("-",C11)-1)=--MID(C11,FIND("-",C11)+1,99),"X",IF(--LEFT(C11,FIND("-",C11)-1)>--MID(C11,FIND("-",C11)+1,99),1,2)) -> X | K11: =IF(--LEFT(B11,FIND("-",B11)-1)=--MID(B11,FIND("-",B11)+1,99),"X",IF(--LEFT(B11,FIND("-",B11)-1)>--MID(B11,FIND("-",B11)+1,99),1,2)) -> X | M11: =IF(--LEFT(B11,FIND("-",B11)-1)+MID(B11,FIND("-",B11)+1,99)<1.5,"0-1",IF(--LEFT(B11,FIND("-",B11)-1)+MID(B11,FIND("-",B11)+1,99)<3.5,"2-3","+4")) -> 0-1 | N11: =IF(OR(I11="X",I11=1),"1X","") -> 1X | O11: =IF(OR(I11=1,I11=2),"12","") | P11: =IF(OR(I11="X",I11=2),"X2","") -> X2 | Q11: =IF(OR(K11="X",K11=1),"1X","") -> 1X | R11: =IF(OR(K11=1,K11=2),"12","") | S11: =IF(OR(K11="X",K11=2),"X2","") -> X2
A12: =Feuil2!B12 -> Bury | B12: =Feuil2!C12 -> 0 - 2 | C12: =Feuil2!D12 -> 0 - 1 | F12: =SUBSTITUTE(B12," ","") -> 0-2 | G12: =IF(--LEFT(B12,FIND("-",B12)-1)+MID(B12,FIND("-",B12)+1,99)<2.5,"M","P") -> M | H12: =I12 & "-" & K12 -> 2-2 | I12: =IF(--LEFT(C12,FIND("-",C12)-1)=--MID(C12,FIND("-",C12)+1,99),"X",IF(--LEFT(C12,FIND("-",C12)-1)>--MID(C12,FIND("-",C12)+1,99),1,2)) -> 2 | K12: =IF(--LEFT(B12,FIND("-",B12)-1)=--MID(B12,FIND("-",B12)+1,99),"X",IF(--LEFT(B12,FIND("-",B12)-1)>--MID(B12,FIND("-",B12)+1,99),1,2)) -> 2 | M12: =IF(--LEFT(B12,FIND("-",B12)-1)+MID(B12,FIND("-",B12)+1,99)<1.5,"0-1",IF(--LEFT(B12,FIND("-",B12)-1)+MID(B12,FIND("-",B12)+1,99)<3.5,"2-3","+4")) -> 2-3 | N12: =IF(OR(I12="X",I12=1),"1X","") | O12: =IF(OR(I12=1,I12=2),"12","") -> 12 | P12: =IF(OR(I12="X",I12=2),"X2","") -> X2 | Q12: =IF(OR(K12="X",K12=1),"1X","") | R12: =IF(OR(K12=1,K12=2),"12","") -> 12 | S12: =IF(OR(K12="X",K12=2),"X2","") -> X2
... A129: =Feuil2!B129 | B129: =Feuil2!C129 | C129: =Feuil2!D129 | F129: =SUBSTITUTE(B129," ","") | G129: =IF(--LEFT(B129,FIND("-",B129)-1)+MID(B129,FIND("-",B129)+1,99)<2.5,"M","P") -> #VALUE! | H129: =I129 & "-" & K129 -> #VALUE! | I129: =IF(--LEFT(C129,FIND("-",C129)-1)=--MID(C129,FIND("-",C129)+1,99),"X",IF(--LEFT(C129,FIND("-",C129)-1)>--MID(C129,FIND("-",C129)+1,99),1,2)) -> #VALUE! | K129: =IF(--LEFT(B129,FIND("-",B129)-1)=--MID(B129,FIND("-",B129)+1,99),"X",IF(--LEFT(B129,FIND("-",B129)-1)>--MID(B129,FIND("-",B129)+1,99),1,2)) -> #VALUE! | M129: =IF(--LEFT(B129,FIND("-",B129)-1)+MID(B129,FIND("-",B129)+1,99)<1.5,"0-1",IF(--LEFT(B129,FIND("-",B129)-1)+MID(B129,FIND("-",B129)+1,99)<3.5,"2-3","+4")) -> #VALUE! | N129: =IF(OR(I129="X",I129=1),"1X","") -> #VALUE! | O129: =IF(OR(I129=1,I129=2),"12","") -> #VALUE! | P129: =IF(OR(I129="X",I129=2),"X2","") -> #VALUE! | Q129: =IF(OR(K129="X",K129=1),"1X","") -> #VALUE! | R129: =IF(OR(K129=1,K129=2),"12","") -> #VALUE! | S129: =IF(OR(K129="X",K129=2),"X2","") -> #VALUE!
A130: =Feuil2!B130 | B130: =Feuil2!C130 | C130: =Feuil2!D130 | F130: =SUBSTITUTE(B130," ","") | G130: =IF(--LEFT(B130,FIND("-",B130)-1)+MID(B130,FIND("-",B130)+1,99)<2.5,"M","P") -> #VALUE! | H130: =I130 & "-" & K130 -> #VALUE! | I130: =IF(--LEFT(C130,FIND("-",C130)-1)=--MID(C130,FIND("-",C130)+1,99),"X",IF(--LEFT(C130,FIND("-",C130)-1)>--MID(C130,FIND("-",C130)+1,99),1,2)) -> #VALUE! | K130: =IF(--LEFT(B130,FIND("-",B130)-1)=--MID(B130,FIND("-",B130)+1,99),"X",IF(--LEFT(B130,FIND("-",B130)-1)>--MID(B130,FIND("-",B130)+1,99),1,2)) -> #VALUE! | M130: =IF(--LEFT(B130,FIND("-",B130)-1)+MID(B130,FIND("-",B130)+1,99)<1.5,"0-1",IF(--LEFT(B130,FIND("-",B130)-1)+MID(B130,FIND("-",B130)+1,99)<3.5,"2-3","+4")) -> #VALUE! | N130: =IF(OR(I130="X",I130=1),"1X","") -> #VALUE! | O130: =IF(OR(I130=1,I130=2),"12","") -> #VALUE! | P130: =IF(OR(I130="X",I130=2),"X2","") -> #VALUE! | Q130: =IF(OR(K130="X",K130=1),"1X","") -> #VALUE! | R130: =IF(OR(K130=1,K130=2),"12","") -> #VALUE! | S130: =V133I(OR(K130="X",K130=2),"X2","") -> #NAME?
A131: =Feuil2!B131 | B131: =Feuil2!C131 | C131: =Feuil2!D131 | F131: =SUBSTITUTE(B131," ","") | G131: =IF(--LEFT(B131,FIND("-",B131)-1)+MID(B131,FIND("-",B131)+1,99)<2.5,"M","P") -> #VALUE! | H131: =I131 & "-" & K131 -> #VALUE! | I131: =IF(--LEFT(C131,FIND("-",C131)-1)=--MID(C131,FIND("-",C131)+1,99),"X",IF(--LEFT(C131,FIND("-",C131)-1)>--MID(C131,FIND("-",C131)+1,99),1,2)) -> #VALUE! | K131: =IF(--LEFT(B131,FIND("-",B131)-1)=--MID(B131,FIND("-",B131)+1,99),"X",IF(--LEFT(B131,FIND("-",B131)-1)>--MID(B131,FIND("-",B131)+1,99),1,2)) -> #VALUE! | M131: =IF(--LEFT(B131,FIND("-",B131)-1)+MID(B131,FIND("-",B131)+1,99)<1.5,"0-1",IF(--LEFT(B131,FIND("-",B131)-1)+MID(B131,FIND("-",B131)+1,99)<3.5,"2-3","+4")) -> #VALUE! | N131: =IF(OR(I131="X",I131=1),"1X","") -> #VALUE! | O131: =IF(OR(I131=1,I131=2),"12","") -> #VALUE! | P131: =IF(OR(I131="X",I131=2),"X2","") -> #VALUE! | Q131: =IF(OR(K131="X",K131=1),"1X","") -> #VALUE! | R131: =IF(OR(K131=1,K131=2),"12","") -> #VALUE! | S131: =IF(OR(K131="X",K131=2),"X2","") -> #VALUE!
A132: =Feuil2!B132 | B132: =Feuil2!C132 | C132: =Feuil2!D132 | F132: =SUBSTITUTE(B132," ","") | G132: =IF(--LEFT(B132,FIND("-",B132)-1)+MID(B132,FIND("-",B132)+1,99)<2.5,"M","P") -> #VALUE! | H132: =I132 & "-" & K132 -> #VALUE! | I132: =IF(--LEFT(C132,FIND("-",C132)-1)=--MID(C132,FIND("-",C132)+1,99),"X",IF(--LEFT(C132,FIND("-",C132)-1)>--MID(C132,FIND("-",C132)+1,99),1,2)) -> #VALUE! | K132: =IF(--LEFT(B132,FIND("-",B132)-1)=--MID(B132,FIND("-",B132)+1,99),"X",IF(--LEFT(B132,FIND("-",B132)-1)>--MID(B132,FIND("-",B132)+1,99),1,2)) -> #VALUE! | M132: =IF(--LEFT(B132,FIND("-",B132)-1)+MID(B132,FIND("-",B132)+1,99)<1.5,"0-1",IF(--LEFT(B132,FIND("-",B132)-1)+MID(B132,FIND("-",B132)+1,99)<3.5,"2-3","+4")) -> #VALUE! | N132: =IF(OR(I132="X",I132=1),"1X","") -> #VALUE! | O132: =IF(OR(I132=1,I132=2),"12","") -> #VALUE! | P132: =IF(OR(I132="X",I132=2),"X2","") -> #VALUE! | Q132: =IF(OR(K132="X",K132=1),"1X","") -> #VALUE! | R132: =IF(OR(K132=1,K132=2),"12","") -> #VALUE! | S132: =IF(OR(K132="X",K132=2),"X2","") -> #VALUE!
A133: =Feuil2!B133 | B133: =Feuil2!C133 | C133: =Feuil2!D133 | F133: =SUBSTITUTE(B133," ","") | G133: =IF(--LEFT(B133,FIND("-",B133)-1)+MID(B133,FIND("-",B133)+1,99)<2.5,"M","P") -> #VALUE! | H133: =I133 & "-" & K133 -> #VALUE! | I133: =IF(--LEFT(C133,FIND("-",C133)-1)=--MID(C133,FIND("-",C133)+1,99),"X",IF(--LEFT(C133,FIND("-",C133)-1)>--MID(C133,FIND("-",C133)+1,99),1,2)) -> #VALUE! | K133: =IF(--LEFT(B133,FIND("-",B133)-1)=--MID(B133,FIND("-",B133)+1,99),"X",IF(--LEFT(B133,FIND("-",B133)-1)>--MID(B133,FIND("-",B133)+1,99),1,2)) -> #VALUE! | M133: =IF(--LEFT(B133,FIND("-",B133)-1)+MID(B133,FIND("-",B133)+1,99)<1.5,"0-1",IF(--LEFT(B133,FIND("-",B133)-1)+MID(B133,FIND("-",B133)+1,99)<3.5,"2-3","+4")) -> #VALUE! | N133: =IF(OR(I133="X",I133=1),"1X","") -> #VALUE! | O133: =IF(OR(I133=1,I133=2),"12","") -> #VALUE! | P133: =IF(OR(I133="X",I133=2),"X2","") -> #VALUE! | Q133: =IF(OR(K133="X",K133=1),"1X","") -> #VALUE! | R133: =IF(OR(K133=1,K133=2),"12","") -> #VALUE! | S133: =IF(OR(K133="X",K133=2),"X2","") -> #VALUE!
A134: =Feuil2!B134 | B134: =Feuil2!C134 | C134: =Feuil2!D134 | F134: =SUBSTITUTE(B134," ","") | G134: =IF(--LEFT(B134,FIND("-",B134)-1)+MID(B134,FIND("-",B134)+1,99)<2.5,"M","P") -> #VALUE! | H134: =I134 & "-" & K134 -> #VALUE! | I134: =IF(--LEFT(C134,FIND("-",C134)-1)=--MID(C134,FIND("-",C134)+1,99),"X",IF(--LEFT(C134,FIND("-",C134)-1)>--MID(C134,FIND("-",C134)+1,99),1,2)) -> #VALUE! | K134: =IF(--LEFT(B134,FIND("-",B134)-1)=--MID(B134,FIND("-",B134)+1,99),"X",IF(--LEFT(B134,FIND("-",B134)-1)>--MID(B134,FIND("-",B134)+1,99),1,2)) -> #VALUE! | M134: =IF(--LEFT(B134,FIND("-",B134)-1)+MID(B134,FIND("-",B134)+1,99)<1.5,"0-1",IF(--LEFT(B134,FIND("-",B134)-1)+MID(B134,FIND("-",B134)+1,99)<3.5,"2-3","+4")) -> #VALUE! | N134: =IF(OR(I134="X",I134=1),"1X","") -> #VALUE! | O134: =IF(OR(I134=1,I134=2),"12","") -> #VALUE! | P134: =IF(OR(I134="X",I134=2),"X2","") -> #VALUE! | Q134: =IF(OR(K134="X",K134=1),"1X","") -> #VALUE! | R134: =IF(OR(K134=1,K134=2),"12","") -> #VALUE! | S134: =IF(OR(K134="X",K134=2),"X2","") -> #VALUE!
A135: =Feuil2!B135 | B135: =Feuil2!C135 | C135: =Feuil2!D135 | F135: =SUBSTITUTE(B135," ","") | G135: =IF(--LEFT(B135,FIND("-",B135)-1)+MID(B135,FIND("-",B135)+1,99)<2.5,"M","P") -> #VALUE! | H135: =I135 & "-" & K135 -> #VALUE! | I135: =IF(--LEFT(C135,FIND("-",C135)-1)=--MID(C135,FIND("-",C135)+1,99),"X",IF(--LEFT(C135,FIND("-",C135)-1)>--MID(C135,FIND("-",C135)+1,99),1,2)) -> #VALUE! | K135: =IF(--LEFT(B135,FIND("-",B135)-1)=--MID(B135,FIND("-",B135)+1,99),"X",IF(--LEFT(B135,FIND("-",B135)-1)>--MID(B135,FIND("-",B135)+1,99),1,2)) -> #VALUE! | M135: =IF(--LEFT(B135,FIND("-",B135)-1)+MID(B135,FIND("-",B135)+1,99)<1.5,"0-1",IF(--LEFT(B135,FIND("-",B135)-1)+MID(B135,FIND("-",B135)+1,99)<3.5,"2-3","+4")) -> #VALUE! | N135: =IF(OR(I135="X",I135=1),"1X","") -> #VALUE! | O135: =IF(OR(I135=1,I135=2),"12","") -> #VALUE! | P135: =IF(OR(I135="X",I135=2),"X2","") -> #VALUE! | Q135: =IF(OR(K135="X",K135=1),"1X","") -> #VALUE! | R135: =IF(OR(K135=1,K135=2),"12","") -> #VALUE! | S135: =IF(OR(K135="X",K135=2),"X2","") -> #VALUE!
A136: =Feuil2!B136 | B136: =Feuil2!C136 | C136: =Feuil2!D136 | F136: =SUBSTITUTE(B136," ","") | G136: =IF(--LEFT(B136,FIND("-",B136)-1)+MID(B136,FIND("-",B136)+1,99)<2.5,"M","P") -> #VALUE! | H136: =I136 & "-" & K136 -> #VALUE! | I136: =IF(--LEFT(C136,FIND("-",C136)-1)=--MID(C136,FIND("-",C136)+1,99),"X",IF(--LEFT(C136,FIND("-",C136)-1)>--MID(C136,FIND("-",C136)+1,99),1,2)) -> #VALUE! | K136: =IF(--LEFT(B136,FIND("-",B136)-1)=--MID(B136,FIND("-",B136)+1,99),"X",IF(--LEFT(B136,FIND("-",B136)-1)>--MID(B136,FIND("-",B136)+1,99),1,2)) -> #VALUE! | M136: =IF(--LEFT(B136,FIND("-",B136)-1)+MID(B136,FIND("-",B136)+1,99)<1.5,"0-1",IF(--LEFT(B136,FIND("-",B136)-1)+MID(B136,FIND("-",B136)+1,99)<3.5,"2-3","+4")) -> #VALUE! | N136: =IF(OR(I136="X",I136=1),"1X","") -> #VALUE! | O136: =IF(OR(I136=1,I136=2),"12","") -> #VALUE! | P136: =IF(OR(I136="X",I136=2),"X2","") -> #VALUE! | Q136: =IF(OR(K136="X",K136=1),"1X","") -> #VALUE! | R136: =IF(OR(K136=1,K136=2),"12","") -> #VALUE! | S136: =IF(OR(K136="X",K136=2),"X2","") -> #VALUE!
A137: =Feuil2!B137 | B137: =Feuil2!C137 | C137: =Feuil2!D137 | F137: =SUBSTITUTE(B137," ","") | G137: =IF(--LEFT(B137,FIND("-",B137)-1)+MID(B137,FIND("-",B137)+1,99)<2.5,"M","P") -> #VALUE! | H137: =I137 & "-" & K137 -> #VALUE! | I137: =IF(--LEFT(C137,FIND("-",C137)-1)=--MID(C137,FIND("-",C137)+1,99),"X",IF(--LEFT(C137,FIND("-",C137)-1)>--MID(C137,FIND("-",C137)+1,99),1,2)) -> #VALUE! | K137: =IF(--LEFT(B137,FIND("-",B137)-1)=--MID(B137,FIND("-",B137)+1,99),"X",IF(--LEFT(B137,FIND("-",B137)-1)>--MID(B137,FIND("-",B137)+1,99),1,2)) -> #VALUE! | M137: =IF(--LEFT(B137,FIND("-",B137)-1)+MID(B137,FIND("-",B137)+1,99)<1.5,"0-1",IF(--LEFT(B137,FIND("-",B137)-1)+MID(B137,FIND("-",B137)+1,99)<3.5,"2-3","+4")) -> #VALUE! | N137: =IF(OR(I137="X",I137=1),"1X","") -> #VALUE! | O137: =IF(OR(I137=1,I137=2),"12","") -> #VALUE! | P137: =IF(OR(I137="X",I137=2),"X2","") -> #VALUE! | Q137: =IF(OR(K137="X",K137=1),"1X","") -> #VALUE! | R137: =IF(OR(K137=1,K137=2),"12","") -> #VALUE! | S137: =IF(OR(K137="X",K137=2),"X2","") -> #VALUE!
A138: =Feuil2!B138 -> 0 | B138: =Feuil2!C138 -> 1 - 2 | C138: =Feuil2!D138 -> 0 - 1 | F138: =SUBSTITUTE(B138," ","") -> 1-2 | G138: =IF(--LEFT(B138,FIND("-",B138)-1)+MID(B138,FIND("-",B138)+1,99)<2.5,"M","P") -> P | H138: =I138 & "-" & K138 -> 2-2 | I138: =IF(--LEFT(C138,FIND("-",C138)-1)=--MID(C138,FIND("-",C138)+1,99),"X",IF(--LEFT(C138,FIND("-",C138)-1)>--MID(C138,FIND("-",C138)+1,99),1,2)) -> 2 | K138: =IF(--LEFT(B138,FIND("-",B138)-1)=--MID(B138,FIND("-",B138)+1,99),"X",IF(--LEFT(B138,FIND("-",B138)-1)>--MID(B138,FIND("-",B138)+1,99),1,2)) -> 2 | M138: =IF(--LEFT(B138,FIND("-",B138)-1)+MID(B138,FIND("-",B138)+1,99)<1.5,"0-1",IF(--LEFT(B138,FIND("-",B138)-1)+MID(B138,FIND("-",B138)+1,99)<3.5,"2-3","+4")) -> 2-3 | N138: =IF(OR(I138="X",I138=1),"1X","") | O138: =IF(OR(I138=1,I138=2),"12","") -> 12 | P138: =IF(OR(I138="X",I138=2),"X2","") -> X2 | Q138: =IF(OR(K138="X",K138=1),"1X","") | R138: =IF(OR(K138=1,K138=2),"12","") -> 12 | S138: =IF(OR(K138="X",K138=2),"X2","") -> X2
A139: =Feuil2!B139 -> 0 | B139: =Feuil2!C139 -> 1 - 2 | C139: =Feuil2!D139 -> 0 - 1 | F139: =SUBSTITUTE(B139," ","") -> 1-2 | G139: =IF(--LEFT(B139,FIND("-",B139)-1)+MID(B139,FIND("-",B139)+1,99)<2.5,"M","P") -> P | H139: =I139 & "-" & K139 -> 2-2 | I139: =IF(--LEFT(C139,FIND("-",C139)-1)=--MID(C139,FIND("-",C139)+1,99),"X",IF(--LEFT(C139,FIND("-",C139)-1)>--MID(C139,FIND("-",C139)+1,99),1,2)) -> 2 | K139: =IF(--LEFT(B139,FIND("-",B139)-1)=--MID(B139,FIND("-",B139)+1,99),"X",IF(--LEFT(B139,FIND("-",B139)-1)>--MID(B139,FIND("-",B139)+1,99),1,2)) -> 2 | M139: =IF(--LEFT(B139,FIND("-",B139)-1)+MID(B139,FIND("-",B139)+1,99)<1.5,"0-1",IF(--LEFT(B139,FIND("-",B139)-1)+MID(B139,FIND("-",B139)+1,99)<3.5,"2-3","+4")) -> 2-3 | N139: =IF(OR(I139="X",I139=1),"1X","") | O139: =IF(OR(I139=1,I139=2),"12","") -> 12 | P139: =IF(OR(I139="X",I139=2),"X2","") -> X2 | Q139: =IF(OR(K139="X",K139=1),"1X","") | R139: =IF(OR(K139=1,K139=2),"12","") -> 12 | S139: =IF(OR(K139="X",K139=2),"X2","") -> X2
A140: =Feuil2!B140 -> 0 | B140: =Feuil2!C140 -> 1 - 2 | C140: =Feuil2!D140 -> 0 - 1 | F140: =SUBSTITUTE(B140," ","") -> 1-2 | G140: =IF(--LEFT(B140,FIND("-",B140)-1)+MID(B140,FIND("-",B140)+1,99)<2.5,"M","P") -> P | H140: =I140 & "-" & K140 -> 2-2 | I140: =IF(--LEFT(C140,FIND("-",C140)-1)=--MID(C140,FIND("-",C140)+1,99),"X",IF(--LEFT(C140,FIND("-",C140)-1)>--MID(C140,FIND("-",C140)+1,99),1,2)) -> 2 | K140: =IF(--LEFT(B140,FIND("-",B140)-1)=--MID(B140,FIND("-",B140)+1,99),"X",IF(--LEFT(B140,FIND("-",B140)-1)>--MID(B140,FIND("-",B140)+1,99),1,2)) -> 2 | M140: =IF(--LEFT(B140,FIND("-",B140)-1)+MID(B140,FIND("-",B140)+1,99)<1.5,"0-1",IF(--LEFT(B140,FIND("-",B140)-1)+MID(B140,FIND("-",B140)+1,99)<3.5,"2-3","+4")) -> 2-3 | N140: =IF(OR(I140="X",I140=1),"1X","") | O140: =IF(OR(I140=1,I140=2),"12","") -> 12 | P140: =IF(OR(I140="X",I140=2),"X2","") -> X2 | Q140: =IF(OR(K140="X",K140=1),"1X","") | R140: =IF(OR(K140=1,K140=2),"12","") -> 12 | S140: =IF(OR(K140="X",K140=2),"X2","") -> X2
A141: =Feuil2!B141 -> 0 | B141: =Feuil2!C141 -> 1 - 2 | C141: =Feuil2!D141 -> 0 - 1 | F141: =SUBSTITUTE(B141," ","") -> 1-2 | G141: =IF(--LEFT(B141,FIND("-",B141)-1)+MID(B141,FIND("-",B141)+1,99)<2.5,"M","P") -> P | H141: =I141 & "-" & K141 -> 2-2 | I141: =IF(--LEFT(C141,FIND("-",C141)-1)=--MID(C141,FIND("-",C141)+1,99),"X",IF(--LEFT(C141,FIND("-",C141)-1)>--MID(C141,FIND("-",C141)+1,99),1,2)) -> 2 | K141: =IF(--LEFT(B141,FIND("-",B141)-1)=--MID(B141,FIND("-",B141)+1,99),"X",IF(--LEFT(B141,FIND("-",B141)-1)>--MID(B141,FIND("-",B141)+1,99),1,2)) -> 2 | M141: =IF(--LEFT(B141,FIND("-",B141)-1)+MID(B141,FIND("-",B141)+1,99)<1.5,"0-1",IF(--LEFT(B141,FIND("-",B141)-1)+MID(B141,FIND("-",B141)+1,99)<3.5,"2-3","+4")) -> 2-3 | N141: =IF(OR(I141="X",I141=1),"1X","") | O141: =IF(OR(I141=1,I141=2),"12","") -> 12 | P141: =IF(OR(I141="X",I141=2),"X2","") -> X2 | Q141: =IF(OR(K141="X",K141=1),"1X","") | R141: =IF(OR(K141=1,K141=2),"12","") -> 12 | S141: =IF(OR(K141="X",K141=2),"X2","") -> X2
A142: =Feuil2!B142 -> 0 | B142: =Feuil2!C142 -> 1 - 2 | C142: =Feuil2!D142 -> 0 - 1 | F142: =SUBSTITUTE(B142," ","") -> 1-2 | G142: =IF(--LEFT(B142,FIND("-",B142)-1)+MID(B142,FIND("-",B142)+1,99)<2.5,"M","P") -> P | H142: =I142 & "-" & K142 -> 2-2 | I142: =IF(--LEFT(C142,FIND("-",C142)-1)=--MID(C142,FIND("-",C142)+1,99),"X",IF(--LEFT(C142,FIND("-",C142)-1)>--MID(C142,FIND("-",C142)+1,99),1,2)) -> 2 | K142: =IF(--LEFT(B142,FIND("-",B142)-1)=--MID(B142,FIND("-",B142)+1,99),"X",IF(--LEFT(B142,FIND("-",B142)-1)>--MID(B142,FIND("-",B142)+1,99),1,2)) -> 2 | M142: =IF(--LEFT(B142,FIND("-",B142)-1)+MID(B142,FIND("-",B142)+1,99)<1.5,"0-1",IF(--LEFT(B142,FIND("-",B142)-1)+MID(B142,FIND("-",B142)+1,99)<3.5,"2-3","+4")) -> 2-3 | N142: =IF(OR(I142="X",I142=1),"1X","") | O142: =IF(OR(I142=1,I142=2),"12","") -> 12 | P142: =IF(OR(I142="X",I142=2),"X2","") -> X2 | Q142: =IF(OR(K142="X",K142=1),"1X","") | R142: =IF(OR(K142=1,K142=2),"12","") -> 12 | S142: =IF(OR(K142="X",K142=2),"X2","") -> X2
... A443: =Feuil2!B443 -> 0 | B443: =Feuil2!C443 -> 0 | C443: =Feuil2!D443 -> 0 | F443: =SUBSTITUTE(B443," ","") -> 0 | G443: =IF(--LEFT(B443,FIND("-",B443)-1)+MID(B443,FIND("-",B443)+1,99)<2.5,"M","P") -> #VALUE! | H443: =I443 & "-" & K443 -> #VALUE! | I443: =IF(--LEFT(C443,FIND("-",C443)-1)=--MID(C443,FIND("-",C443)+1,99),"X",IF(--LEFT(C443,FIND("-",C443)-1)>--MID(C443,FIND("-",C443)+1,99),1,2)) -> #VALUE! | K443: =IF(--LEFT(B443,FIND("-",B443)-1)=--MID(B443,FIND("-",B443)+1,99),"X",IF(--LEFT(B443,FIND("-",B443)-1)>--MID(B443,FIND("-",B443)+1,99),1,2)) -> #VALUE! | M443: =IF(--LEFT(B443,FIND("-",B443)-1)+MID(B443,FIND("-",B443)+1,99)<1.5,"0-1",IF(--LEFT(B443,FIND("-",B443)-1)+MID(B443,FIND("-",B443)+1,99)<3.5,"2-3","+4")) -> #VALUE! | N443: =IF(OR(I443="X",I443=1),"1X","") -> #VALUE! | O443: =IF(OR(I443=1,I443=2),"12","") -> #VALUE! | P443: =IF(OR(I443="X",I443=2),"X2","") -> #VALUE! | Q443: =IF(OR(K443="X",K443=1),"1X","") -> #VALUE! | R443: =IF(OR(K443=1,K443=2),"12","") -> #VALUE! | S443: =IF(OR(K443="X",K443=2),"X2","") -> #VALUE!
A444: =Feuil2!B444 -> 0 | B444: =Feuil2!C444 -> 0 | C444: =Feuil2!D444 -> 0 | G444: =IF(--LEFT(B444,FIND("-",B444)-1)+MID(B444,FIND("-",B444)+1,99)<2.5,"M","P") -> #VALUE! | H444: =I444 & "-" & K444 -> #VALUE! | I444: =IF(--LEFT(C444,FIND("-",C444)-1)=--MID(C444,FIND("-",C444)+1,99),"X",IF(--LEFT(C444,FIND("-",C444)-1)>--MID(C444,FIND("-",C444)+1,99),1,2)) -> #VALUE! | K444: =IF(--LEFT(B444,FIND("-",B444)-1)=--MID(B444,FIND("-",B444)+1,99),"X",IF(--LEFT(B444,FIND("-",B444)-1)>--MID(B444,FIND("-",B444)+1,99),1,2)) -> #VALUE! | M444: =IF(--LEFT(B444,FIND("-",B444)-1)+MID(B444,FIND("-",B444)+1,99)<1.5,"0-1",IF(--LEFT(B444,FIND("-",B444)-1)+MID(B444,FIND("-",B444)+1,99)<3.5,"2-3","+4")) -> #VALUE! | N444: =IF(OR(I444="X",I444=1),"1X","") -> #VALUE! | O444: =IF(OR(I444=1,I444=2),"12","") -> #VALUE! | P444: =IF(OR(I444="X",I444=2),"X2","") -> #VALUE! | Q444: =IF(OR(K444="X",K444=1),"1X","") -> #VALUE! | R444: =IF(OR(K444=1,K444=2),"12","") -> #VALUE! | S444: =IF(OR(K444="X",K444=2),"X2","") -> #VALUE!
A445: =Feuil2!B445 -> 0 | B445: =Feuil2!C445 -> 0 | C445: =Feuil2!D445 -> 0 | G445: =IF(--LEFT(B445,FIND("-",B445)-1)+MID(B445,FIND("-",B445)+1,99)<2.5,"M","P") -> #VALUE! | H445: =I445 & "-" & K445 -> #VALUE! | I445: =IF(--LEFT(C445,FIND("-",C445)-1)=--MID(C445,FIND("-",C445)+1,99),"X",IF(--LEFT(C445,FIND("-",C445)-1)>--MID(C445,FIND("-",C445)+1,99),1,2)) -> #VALUE! | K445: =IF(--LEFT(B445,FIND("-",B445)-1)=--MID(B445,FIND("-",B445)+1,99),"X",IF(--LEFT(B445,FIND("-",B445)-1)>--MID(B445,FIND("-",B445)+1,99),1,2)) -> #VALUE! | M445: =IF(--LEFT(B445,FIND("-",B445)-1)+MID(B445,FIND("-",B445)+1,99)<1.5,"0-1",IF(--LEFT(B445,FIND("-",B445)-1)+MID(B445,FIND("-",B445)+1,99)<3.5,"2-3","+4")) -> #VALUE! | N445: =IF(OR(I445="X",I445=1),"1X","") -> #VALUE! | O445: =IF(OR(I445=1,I445=2),"12","") -> #VALUE! | P445: =IF(OR(I445="X",I445=2),"X2","") -> #VALUE! | Q445: =IF(OR(K445="X",K445=1),"1X","") -> #VALUE! | R445: =IF(OR(K445=1,K445=2),"12","") -> #VALUE! | S445: =IF(OR(K445="X",K445=2),"X2","") -> #VALUE!
A446: =Feuil2!B446 -> 0 | B446: =Feuil2!C446 -> 0 | C446: =Feuil2!D446 -> 0 | G446: =IF(--LEFT(B446,FIND("-",B446)-1)+MID(B446,FIND("-",B446)+1,99)<2.5,"M","P") -> #VALUE! | H446: =I446 & "-" & K446 -> #VALUE! | I446: =IF(--LEFT(C446,FIND("-",C446)-1)=--MID(C446,FIND("-",C446)+1,99),"X",IF(--LEFT(C446,FIND("-",C446)-1)>--MID(C446,FIND("-",C446)+1,99),1,2)) -> #VALUE! | K446: =IF(--LEFT(B446,FIND("-",B446)-1)=--MID(B446,FIND("-",B446)+1,99),"X",IF(--LEFT(B446,FIND("-",B446)-1)>--MID(B446,FIND("-",B446)+1,99),1,2)) -> #VALUE! | M446: =IF(--LEFT(B446,FIND("-",B446)-1)+MID(B446,FIND("-",B446)+1,99)<1.5,"0-1",IF(--LEFT(B446,FIND("-",B446)-1)+MID(B446,FIND("-",B446)+1,99)<3.5,"2-3","+4")) -> #VALUE! | N446: =IF(OR(I446="X",I446=1),"1X","") -> #VALUE! | O446: =IF(OR(I446=1,I446=2),"12","") -> #VALUE! | P446: =IF(OR(I446="X",I446=2),"X2","") -> #VALUE! | Q446: =IF(OR(K446="X",K446=1),"1X","") -> #VALUE! | R446: =IF(OR(K446=1,K446=2),"12","") -> #VALUE! | S446: =IF(OR(K446="X",K446=2),"X2","") -> #VALUE!
A447: =Feuil2!B447 -> 0 | B447: =Feuil2!C447 -> 0 | C447: =Feuil2!D447 -> 0 | G447: =IF(--LEFT(B447,FIND("-",B447)-1)+MID(B447,FIND("-",B447)+1,99)<2.5,"M","P") -> #VALUE! | H447: =I447 & "-" & K447 -> #VALUE! | I447: =IF(--LEFT(C447,FIND("-",C447)-1)=--MID(C447,FIND("-",C447)+1,99),"X",IF(--LEFT(C447,FIND("-",C447)-1)>--MID(C447,FIND("-",C447)+1,99),1,2)) -> #VALUE! | K447: =IF(--LEFT(B447,FIND("-",B447)-1)=--MID(B447,FIND("-",B447)+1,99),"X",IF(--LEFT(B447,FIND("-",B447)-1)>--MID(B447,FIND("-",B447)+1,99),1,2)) -> #VALUE! | M447: =IF(--LEFT(B447,FIND("-",B447)-1)+MID(B447,FIND("-",B447)+1,99)<1.5,"0-1",IF(--LEFT(B447,FIND("-",B447)-1)+MID(B447,FIND("-",B447)+1,99)<3.5,"2-3","+4")) -> #VALUE! | N447: =IF(OR(I447="X",I447=1),"1X","") -> #VALUE! | O447: =IF(OR(I447=1,I447=2),"12","") -> #VALUE! | P447: =IF(OR(I447="X",I447=2),"X2","") -> #VALUE! | Q447: =IF(OR(K447="X",K447=1),"1X","") -> #VALUE! | R447: =IF(OR(K447=1,K447=2),"12","") -> #VALUE! | S447: =IF(OR(K447="X",K447=2),"X2","") -> #VALUE!
A448: =Feuil2!B448 -> 0 | B448: =Feuil2!C448 -> 0 | C448: =Feuil2!D448 -> 0 | G448: =IF(--LEFT(B448,FIND("-",B448)-1)+MID(B448,FIND("-",B448)+1,99)<2.5,"M","P") -> #VALUE! | H448: =I448 & "-" & K448 -> #VALUE! | I448: =IF(--LEFT(C448,FIND("-",C448)-1)=--MID(C448,FIND("-",C448)+1,99),"X",IF(--LEFT(C448,FIND("-",C448)-1)>--MID(C448,FIND("-",C448)+1,99),1,2)) -> #VALUE! | K448: =IF(--LEFT(B448,FIND("-",B448)-1)=--MID(B448,FIND("-",B448)+1,99),"X",IF(--LEFT(B448,FIND("-",B448)-1)>--MID(B448,FIND("-",B448)+1,99),1,2)) -> #VALUE! | M448: =IF(--LEFT(B448,FIND("-",B448)-1)+MID(B448,FIND("-",B448)+1,99)<1.5,"0-1",IF(--LEFT(B448,FIND("-",B448)-1)+MID(B448,FIND("-",B448)+1,99)<3.5,"2-3","+4")) -> #VALUE! | N448: =IF(OR(I448="X",I448=1),"1X","") -> #VALUE! | O448: =IF(OR(I448=1,I448=2),"12","") -> #VALUE! | P448: =IF(OR(I448="X",I448=2),"X2","") -> #VALUE! | Q448: =IF(OR(K448="X",K448=1),"1X","") -> #VALUE! | R448: =IF(OR(K448=1,K448=2),"12","") -> #VALUE! | S448: =IF(OR(K448="X",K448=2),"X2","") -> #VALUE!
A449: =Feuil2!B449 -> 0 | B449: =Feuil2!C449 -> 0 | C449: =Feuil2!D449 -> 0 | G449: =IF(--LEFT(B449,FIND("-",B449)-1)+MID(B449,FIND("-",B449)+1,99)<2.5,"M","P") -> #VALUE! | H449: =I449 & "-" & K449 -> #VALUE! | I449: =IF(--LEFT(C449,FIND("-",C449)-1)=--MID(C449,FIND("-",C449)+1,99),"X",IF(--LEFT(C449,FIND("-",C449)-1)>--MID(C449,FIND("-",C449)+1,99),1,2)) -> #VALUE! | K449: =IF(--LEFT(B449,FIND("-",B449)-1)=--MID(B449,FIND("-",B449)+1,99),"X",IF(--LEFT(B449,FIND("-",B449)-1)>--MID(B449,FIND("-",B449)+1,99),1,2)) -> #VALUE! | M449: =IF(--LEFT(B449,FIND("-",B449)-1)+MID(B449,FIND("-",B449)+1,99)<1.5,"0-1",IF(--LEFT(B449,FIND("-",B449)-1)+MID(B449,FIND("-",B449)+1,99)<3.5,"2-3","+4")) -> #VALUE! | N449: =IF(OR(I449="X",I449=1),"1X","") -> #VALUE! | O449: =IF(OR(I449=1,I449=2),"12","") -> #VALUE! | P449: =IF(OR(I449="X",I449=2),"X2","") -> #VALUE! | Q449: =IF(OR(K449="X",K449=1),"1X","") -> #VALUE! | R449: =IF(OR(K449=1,K449=2),"12","") -> #VALUE! | S449: =IF(OR(K449="X",K449=2),"X2","") -> #VALUE!
A450: =Feuil2!B450 -> 0 | B450: =Feuil2!C450 -> 0 | C450: =Feuil2!D450 -> 0 | G450: =IF(--LEFT(B450,FIND("-",B450)-1)+MID(B450,FIND("-",B450)+1,99)<2.5,"M","P") -> #VALUE! | H450: =I450 & "-" & K450 -> #VALUE! | I450: =IF(--LEFT(C450,FIND("-",C450)-1)=--MID(C450,FIND("-",C450)+1,99),"X",IF(--LEFT(C450,FIND("-",C450)-1)>--MID(C450,FIND("-",C450)+1,99),1,2)) -> #VALUE! | K450: =IF(--LEFT(B450,FIND("-",B450)-1)=--MID(B450,FIND("-",B450)+1,99),"X",IF(--LEFT(B450,FIND("-",B450)-1)>--MID(B450,FIND("-",B450)+1,99),1,2)) -> #VALUE! | M450: =IF(--LEFT(B450,FIND("-",B450)-1)+MID(B450,FIND("-",B450)+1,99)<1.5,"0-1",IF(--LEFT(B450,FIND("-",B450)-1)+MID(B450,FIND("-",B450)+1,99)<3.5,"2-3","+4")) -> #VALUE! | N450: =IF(OR(I450="X",I450=1),"1X","") -> #VALUE! | O450: =IF(OR(I450=1,I450=2),"12","") -> #VALUE! | P450: =IF(OR(I450="X",I450=2),"X2","") -> #VALUE! | Q450: =IF(OR(K450="X",K450=1),"1X","") -> #VALUE! | R450: =IF(OR(K450=1,K450=2),"12","") -> #VALUE! | S450: =IF(OR(K450="X",K450=2),"X2","") -> #VALUE!
A451: =Feuil2!B451 -> 0 | B451: =Feuil2!C451 -> 0 | C451: =Feuil2!D451 -> 0 | G451: =IF(--LEFT(B451,FIND("-",B451)-1)+MID(B451,FIND("-",B451)+1,99)<2.5,"M","P") -> #VALUE! | H451: =I451 & "-" & K451 -> #VALUE! | I451: =IF(--LEFT(C451,FIND("-",C451)-1)=--MID(C451,FIND("-",C451)+1,99),"X",IF(--LEFT(C451,FIND("-",C451)-1)>--MID(C451,FIND("-",C451)+1,99),1,2)) -> #VALUE! | K451: =IF(--LEFT(B451,FIND("-",B451)-1)=--MID(B451,FIND("-",B451)+1,99),"X",IF(--LEFT(B451,FIND("-",B451)-1)>--MID(B451,FIND("-",B451)+1,99),1,2)) -> #VALUE! | M451: =IF(--LEFT(B451,FIND("-",B451)-1)+MID(B451,FIND("-",B451)+1,99)<1.5,"0-1",IF(--LEFT(B451,FIND("-",B451)-1)+MID(B451,FIND("-",B451)+1,99)<3.5,"2-3","+4")) -> #VALUE! | N451: =IF(OR(I451="X",I451=1),"1X","") -> #VALUE! | O451: =IF(OR(I451=1,I451=2),"12","") -> #VALUE! | P451: =IF(OR(I451="X",I451=2),"X2","") -> #VALUE! | Q451: =IF(OR(K451="X",K451=1),"1X","") -> #VALUE! | R451: =IF(OR(K451=1,K451=2),"12","") -> #VALUE! | S451: =IF(OR(K451="X",K451=2),"X2","") -> #VALUE!
A452: =Feuil2!B452 -> 0 | B452: =Feuil2!C452 -> 0 | C452: =Feuil2!D452 -> 0 | G452: =IF(--LEFT(B452,FIND("-",B452)-1)+MID(B452,FIND("-",B452)+1,99)<2.5,"M","P") -> #VALUE! | H452: =I452 & "-" & K452 -> #VALUE! | I452: =IF(--LEFT(C452,FIND("-",C452)-1)=--MID(C452,FIND("-",C452)+1,99),"X",IF(--LEFT(C452,FIND("-",C452)-1)>--MID(C452,FIND("-",C452)+1,99),1,2)) -> #VALUE! | K452: =IF(--LEFT(B452,FIND("-",B452)-1)=--MID(B452,FIND("-",B452)+1,99),"X",IF(--LEFT(B452,FIND("-",B452)-1)>--MID(B452,FIND("-",B452)+1,99),1,2)) -> #VALUE! | M452: =IF(--LEFT(B452,FIND("-",B452)-1)+MID(B452,FIND("-",B452)+1,99)<1.5,"0-1",IF(--LEFT(B452,FIND("-",B452)-1)+MID(B452,FIND("-",B452)+1,99)<3.5,"2-3","+4")) -> #VALUE! | N452: =IF(OR(I452="X",I452=1),"1X","") -> #VALUE! | O452: =IF(OR(I452=1,I452=2),"12","") -> #VALUE! | P452: =IF(OR(I452="X",I452=2),"X2","") -> #VALUE! | Q452: =IF(OR(K452="X",K452=1),"1X","") -> #VALUE! | R452: =IF(OR(K452=1,K452=2),"12","") -> #VALUE! | S452: =IF(OR(K452="X",K452=2),"X2","") -> #VALUE!
A453: =Feuil2!B453 -> 0 | B453: =Feuil2!C453 -> 0 | C453: =Feuil2!D453 -> 0 | G453: =IF(--LEFT(B453,FIND("-",B453)-1)+MID(B453,FIND("-",B453)+1,99)<2.5,"M","P") -> #VALUE! | H453: =I453 & "-" & K453 -> #VALUE! | I453: =IF(--LEFT(C453,FIND("-",C453)-1)=--MID(C453,FIND("-",C453)+1,99),"X",IF(--LEFT(C453,FIND("-",C453)-1)>--MID(C453,FIND("-",C453)+1,99),1,2)) -> #VALUE! | K453: =IF(--LEFT(B453,FIND("-",B453)-1)=--MID(B453,FIND("-",B453)+1,99),"X",IF(--LEFT(B453,FIND("-",B453)-1)>--MID(B453,FIND("-",B453)+1,99),1,2)) -> #VALUE! | M453: =IF(--LEFT(B453,FIND("-",B453)-1)+MID(B453,FIND("-",B453)+1,99)<1.5,"0-1",IF(--LEFT(B453,FIND("-",B453)-1)+MID(B453,FIND("-",B453)+1,99)<3.5,"2-3","+4")) -> #VALUE! | N453: =IF(OR(I453="X",I453=1),"1X","") -> #VALUE! | O453: =IF(OR(I453=1,I453=2),"12","") -> #VALUE! | P453: =IF(OR(I453="X",I453=2),"X2","") -> #VALUE! | Q453: =IF(OR(K453="X",K453=1),"1X","") -> #VALUE! | R453: =IF(OR(K453=1,K453=2),"12","") -> #VALUE! | S453: =IF(OR(K453="X",K453=2),"X2","") -> #VALUE!
A454: =Feuil2!B454 -> 0 | B454: =Feuil2!C454 -> 0 | C454: =Feuil2!D454 -> 0 | G454: =IF(--LEFT(B454,FIND("-",B454)-1)+MID(B454,FIND("-",B454)+1,99)<2.5,"M","P") -> #VALUE! | H454: =I454 & "-" & K454 -> #VALUE! | I454: =IF(--LEFT(C454,FIND("-",C454)-1)=--MID(C454,FIND("-",C454)+1,99),"X",IF(--LEFT(C454,FIND("-",C454)-1)>--MID(C454,FIND("-",C454)+1,99),1,2)) -> #VALUE! | K454: =IF(--LEFT(B454,FIND("-",B454)-1)=--MID(B454,FIND("-",B454)+1,99),"X",IF(--LEFT(B454,FIND("-",B454)-1)>--MID(B454,FIND("-",B454)+1,99),1,2)) -> #VALUE! | M454: =IF(--LEFT(B454,FIND("-",B454)-1)+MID(B454,FIND("-",B454)+1,99)<1.5,"0-1",IF(--LEFT(B454,FIND("-",B454)-1)+MID(B454,FIND("-",B454)+1,99)<3.5,"2-3","+4")) -> #VALUE! | N454: =IF(OR(I454="X",I454=1),"1X","") -> #VALUE! | O454: =IF(OR(I454=1,I454=2),"12","") -> #VALUE! | P454: =IF(OR(I454="X",I454=2),"X2","") -> #VALUE! | Q454: =IF(OR(K454="X",K454=1),"1X","") -> #VALUE! | R454: =IF(OR(K454=1,K454=2),"12","") -> #VALUE! | S454: =IF(OR(K454="X",K454=2),"X2","") -> #VALUE!
A455: =Feuil2!B455 -> 0 | B455: =Feuil2!C455 -> 0 | C455: =Feuil2!D455 -> 0 | G455: =IF(--LEFT(B455,FIND("-",B455)-1)+MID(B455,FIND("-",B455)+1,99)<2.5,"M","P") -> #VALUE! | H455: =I455 & "-" & K455 -> #VALUE! | I455: =IF(--LEFT(C455,FIND("-",C455)-1)=--MID(C455,FIND("-",C455)+1,99),"X",IF(--LEFT(C455,FIND("-",C455)-1)>--MID(C455,FIND("-",C455)+1,99),1,2)) -> #VALUE! | K455: =IF(--LEFT(B455,FIND("-",B455)-1)=--MID(B455,FIND("-",B455)+1,99),"X",IF(--LEFT(B455,FIND("-",B455)-1)>--MID(B455,FIND("-",B455)+1,99),1,2)) -> #VALUE! | M455: =IF(--LEFT(B455,FIND("-",B455)-1)+MID(B455,FIND("-",B455)+1,99)<1.5,"0-1",IF(--LEFT(B455,FIND("-",B455)-1)+MID(B455,FIND("-",B455)+1,99)<3.5,"2-3","+4")) -> #VALUE! | N455: =IF(OR(I455="X",I455=1),"1X","") -> #VALUE! | O455: =IF(OR(I455=1,I455=2),"12","") -> #VALUE! | P455: =IF(OR(I455="X",I455=2),"X2","") -> #VALUE! | Q455: =IF(OR(K455="X",K455=1),"1X","") -> #VALUE! | R455: =IF(OR(K455=1,K455=2),"12","") -> #VALUE! | S455: =IF(OR(K455="X",K455=2),"X2","") -> #VALUE!
... A710: =Feuil2!B710 -> 0 | B710: =Feuil2!C710 -> 0 | C710: =Feuil2!D710 -> 0 | G710: =IF(--LEFT(B710,FIND("-",B710)-1)+MID(B710,FIND("-",B710)+1,99)<2.5,"M","P") -> #VALUE! | H710: =I710 & "-" & K710 -> #VALUE! | I710: =IF(--LEFT(C710,FIND("-",C710)-1)=--MID(C710,FIND("-",C710)+1,99),"X",IF(--LEFT(C710,FIND("-",C710)-1)>--MID(C710,FIND("-",C710)+1,99),1,2)) -> #VALUE! | K710: =IF(--LEFT(B710,FIND("-",B710)-1)=--MID(B710,FIND("-",B710)+1,99),"X",IF(--LEFT(B710,FIND("-",B710)-1)>--MID(B710,FIND("-",B710)+1,99),1,2)) -> #VALUE! | M710: =IF(--LEFT(B710,FIND("-",B710)-1)+MID(B710,FIND("-",B710)+1,99)<1.5,"0-1",IF(--LEFT(B710,FIND("-",B710)-1)+MID(B710,FIND("-",B710)+1,99)<3.5,"2-3","+4")) -> #VALUE! | N710: =IF(OR(I710="X",I710=1),"1X","") -> #VALUE! | O710: =IF(OR(I710=1,I710=2),"12","") -> #VALUE! | P710: =IF(OR(I710="X",I710=2),"X2","") -> #VALUE! | Q710: =IF(OR(K710="X",K710=1),"1X","") -> #VALUE! | R710: =IF(OR(K710=1,K710=2),"12","") -> #VALUE! | S710: =IF(OR(K710="X",K710=2),"X2","") -> #VALUE!
A711: =Feuil2!B711 -> 0 | B711: =Feuil2!C711 -> 0 | C711: =Feuil2!D711 -> 0 | G711: =IF(--LEFT(B711,FIND("-",B711)-1)+MID(B711,FIND("-",B711)+1,99)<2.5,"M","P") -> #VALUE! | N711: =IF(OR(I711="X",I711=1),"1X","") | O711: =IF(OR(I711=1,I711=2),"12","") | P711: =IF(OR(I711="X",I711=2),"X2","") | Q711: =IF(OR(K711="X",K711=1),"1X","") | R711: =IF(OR(K711=1,K711=2),"12","") | S711: =IF(OR(K711="X",K711=2),"X2","")
A712: =Feuil2!B712 -> 0 | B712: =Feuil2!C712 -> 0 | C712: =Feuil2!D712 -> 0 | G712: =IF(--LEFT(B712,FIND("-",B712)-1)+MID(B712,FIND("-",B712)+1,99)<2.5,"M","P") -> #VALUE! | N712: =IF(OR(I712="X",I712=1),"1X","") | O712: =IF(OR(I712=1,I712=2),"12","") | P712: =IF(OR(I712="X",I712=2),"X2","") | Q712: =IF(OR(K712="X",K712=1),"1X","") | R712: =IF(OR(K712=1,K712=2),"12","") | S712: =IF(OR(K712="X",K712=2),"X2","")
A713: =Feuil2!B713 -> 0 | B713: =Feuil2!C713 -> 0 | C713: =Feuil2!D713 -> 0 | G713: =IF(--LEFT(B713,FIND("-",B713)-1)+MID(B713,FIND("-",B713)+1,99)<2.5,"M","P") -> #VALUE! | N713: =IF(OR(I713="X",I713=1),"1X","") | O713: =IF(OR(I713=1,I713=2),"12","") | P713: =IF(OR(I713="X",I713=2),"X2","") | Q713: =IF(OR(K713="X",K713=1),"1X","") | R713: =IF(OR(K713=1,K713=2),"12","") | S713: =IF(OR(K713="X",K713=2),"X2","")
A714: =Feuil2!B714 -> 0 | B714: =Feuil2!C714 -> 0 | C714: =Feuil2!D714 -> 0 | G714: =IF(--LEFT(B714,FIND("-",B714)-1)+MID(B714,FIND("-",B714)+1,99)<2.5,"M","P") -> #VALUE! | N714: =IF(OR(I714="X",I714=1),"1X","") | O714: =IF(OR(I714=1,I714=2),"12","") | P714: =IF(OR(I714="X",I714=2),"X2","") | Q714: =IF(OR(K714="X",K714=1),"1X","") | R714: =IF(OR(K714=1,K714=2),"12","") | S714: =IF(OR(K714="X",K714=2),"X2","")
A715: =Feuil2!B715 -> 0 | B715: =Feuil2!C715 -> 0 | C715: =Feuil2!D715 -> 0 | G715: =IF(--LEFT(B715,FIND("-",B715)-1)+MID(B715,FIND("-",B715)+1,99)<2.5,"M","P") -> #VALUE! | N715: =IF(OR(I715="X",I715=1),"1X","") | O715: =IF(OR(I715=1,I715=2),"12","") | P715: =IF(OR(I715="X",I715=2),"X2","") | Q715: =IF(OR(K715="X",K715=1),"1X","") | R715: =IF(OR(K715=1,K715=2),"12","") | S715: =IF(OR(K715="X",K715=2),"X2","")
A716: =Feuil2!B716 -> 0 | B716: =Feuil2!C716 -> 0 | C716: =Feuil2!D716 -> 0 | G716: =IF(--LEFT(B716,FIND("-",B716)-1)+MID(B716,FIND("-",B716)+1,99)<2.5,"M","P") -> #VALUE! | N716: =IF(OR(I716="X",I716=1),"1X","") | O716: =IF(OR(I716=1,I716=2),"12","") | P716: =IF(OR(I716="X",I716=2),"X2","") | Q716: =IF(OR(K716="X",K716=1),"1X","") | R716: =IF(OR(K716=1,K716=2),"12","") | S716: =IF(OR(K716="X",K716=2),"X2","")
A717: =Feuil2!B717 -> 0 | B717: =Feuil2!C717 -> 0 | C717: =Feuil2!D717 -> 0 | G717: =IF(--LEFT(B717,FIND("-",B717)-1)+MID(B717,FIND("-",B717)+1,99)<2.5,"M","P") -> #VALUE! | N717: =IF(OR(I717="X",I717=1),"1X","") | O717: =IF(OR(I717=1,I717=2),"12","") | P717: =IF(OR(I717="X",I717=2),"X2","") | Q717: =IF(OR(K717="X",K717=1),"1X","") | R717: =IF(OR(K717=1,K717=2),"12","") | S717: =IF(OR(K717="X",K717=2),"X2","")
A718: =Feuil2!B718 -> 0 | B718: =Feuil2!C718 -> 0 | C718: =Feuil2!D718 -> 0 | G718: =IF(--LEFT(B718,FIND("-",B718)-1)+MID(B718,FIND("-",B718)+1,99)<2.5,"M","P") -> #VALUE! | N718: =IF(OR(I718="X",I718=1),"1X","") | O718: =IF(OR(I718=1,I718=2),"12","") | P718: =IF(OR(I718="X",I718=2),"X2","") | Q718: =IF(OR(K718="X",K718=1),"1X","") | R718: =IF(OR(K718=1,K718=2),"12","") | S718: =IF(OR(K718="X",K718=2),"X2","")
A719: =Feuil2!B719 -> 0 | B719: =Feuil2!C719 -> 0 | C719: =Feuil2!D719 -> 0 | G719: =IF(--LEFT(B719,FIND("-",B719)-1)+MID(B719,FIND("-",B719)+1,99)<2.5,"M","P") -> #VALUE! | N719: =IF(OR(I719="X",I719=1),"1X","") | O719: =IF(OR(I719=1,I719=2),"12","") | P719: =IF(OR(I719="X",I719=2),"X2","") | Q719: =IF(OR(K719="X",K719=1),"1X","") | R719: =IF(OR(K719=1,K719=2),"12","") | S719: =IF(OR(K719="X",K719=2),"X2","")
A720: =Feuil2!B720 -> 0 | B720: =Feuil2!C720 -> 0 | C720: =Feuil2!D720 -> 0 | G720: =IF(--LEFT(B720,FIND("-",B720)-1)+MID(B720,FIND("-",B720)+1,99)<2.5,"M","P") -> #VALUE! | N720: =IF(OR(I720="X",I720=1),"1X","") | O720: =IF(OR(I720=1,I720=2),"12","") | P720: =IF(OR(I720="X",I720=2),"X2","") | Q720: =IF(OR(K720="X",K720=1),"1X","") | R720: =IF(OR(K720=1,K720=2),"12","") | S720: =IF(OR(K720="X",K720=2),"X2","")
A721: =Feuil2!B721 -> 0 | B721: =Feuil2!C721 -> 0 | C721: =Feuil2!D721 -> 0 | G721: =IF(--LEFT(B721,FIND("-",B721)-1)+MID(B721,FIND("-",B721)+1,99)<2.5,"M","P") -> #VALUE! | N721: =IF(OR(I721="X",I721=1),"1X","") | O721: =IF(OR(I721=1,I721=2),"12","") | P721: =IF(OR(I721="X",I721=2),"X2","") | Q721: =IF(OR(K721="X",K721=1),"1X","") | R721: =IF(OR(K721=1,K721=2),"12","") | S721: =IF(OR(K721="X",K721=2),"X2","")
A722: =Feuil2!B722 -> 0 | B722: =Feuil2!C722 -> 0 | C722: =Feuil2!D722 -> 0 | G722: =IF(--LEFT(B722,FIND("-",B722)-1)+MID(B722,FIND("-",B722)+1,99)<2.5,"M","P") -> #VALUE! | N722: =IF(OR(I722="X",I722=1),"1X","") | O722: =IF(OR(I722=1,I722=2),"12","") | P722: =IF(OR(I722="X",I722=2),"X2","") | Q722: =IF(OR(K722="X",K722=1),"1X","") | R722: =IF(OR(K722=1,K722=2),"12","") | S722: =IF(OR(K722="X",K722=2),"X2","")
... A990: =Feuil2!B990 -> 0 | B990: =Feuil2!C990 -> 0 | C990: =Feuil2!D990 -> 0 | G990: =IF(--LEFT(B990,FIND("-",B990)-1)+MID(B990,FIND("-",B990)+1,99)<2.5,"M","P") -> #VALUE! | N990: =IF(OR(I990="X",I990=1),"1X","") | O990: =IF(OR(I990=1,I990=2),"12","") | P990: =IF(OR(I990="X",I990=2),"X2","") | Q990: =IF(OR(K990="X",K990=1),"1X","") | R990: =IF(OR(K990=1,K990=2),"12","") | S990: =IF(OR(K990="X",K990=2),"X2","")
A991: =Feuil2!B991 -> 0 | B991: =Feuil2!C991 -> 0 | C991: =Feuil2!D991 -> 0 | G991: =IF(--LEFT(B991,FIND("-",B991)-1)+MID(B991,FIND("-",B991)+1,99)<2.5,"M","P") -> #VALUE! | Q991: =IF(OR(K991="X",K991=1),"1X","") | R991: =IF(OR(K991=1,K991=2),"12","") | S991: =IF(OR(K991="X",K991=2),"X2","")
A992: =Feuil2!B992 -> 0 | B992: =Feuil2!C992 -> 0 | C992: =Feuil2!D992 -> 0 | G992: =IF(--LEFT(B992,FIND("-",B992)-1)+MID(B992,FIND("-",B992)+1,99)<2.5,"M","P") -> #VALUE! | Q992: =IF(OR(K992="X",K992=1),"1X","") | R992: =IF(OR(K992=1,K992=2),"12","") | S992: =IF(OR(K992="X",K992=2),"X2","")
A993: =Feuil2!B993 -> 0 | B993: =Feuil2!C993 -> 0 | C993: =Feuil2!D993 -> 0 | G993: =IF(--LEFT(B993,FIND("-",B993)-1)+MID(B993,FIND("-",B993)+1,99)<2.5,"M","P") -> #VALUE! | Q993: =IF(OR(K993="X",K993=1),"1X","") | R993: =IF(OR(K993=1,K993=2),"12","") | S993: =IF(OR(K993="X",K993=2),"X2","")
A994: =Feuil2!B994 -> 0 | B994: =Feuil2!C994 -> 0 | C994: =Feuil2!D994 -> 0 | G994: =IF(--LEFT(B994,FIND("-",B994)-1)+MID(B994,FIND("-",B994)+1,99)<2.5,"M","P") -> #VALUE! | Q994: =IF(OR(K994="X",K994=1),"1X","") | R994: =IF(OR(K994=1,K994=2),"12","") | S994: =IF(OR(K994="X",K994=2),"X2","")
A995: =Feuil2!B995 -> 0 | B995: =Feuil2!C995 -> 0 | C995: =Feuil2!D995 -> 0 | G995: =IF(--LEFT(B995,FIND("-",B995)-1)+MID(B995,FIND("-",B995)+1,99)<2.5,"M","P") -> #VALUE! | Q995: =IF(OR(K995="X",K995=1),"1X","") | R995: =IF(OR(K995=1,K995=2),"12","") | S995: =IF(OR(K995="X",K995=2),"X2","")
A996: =Feuil2!B996 -> 0 | B996: =Feuil2!C996 -> 0 | C996: =Feuil2!D996 -> 0 | G996: =IF(--LEFT(B996,FIND("-",B996)-1)+MID(B996,FIND("-",B996)+1,99)<2.5,"M","P") -> #VALUE! | Q996: =IF(OR(K996="X",K996=1),"1X","") | R996: =IF(OR(K996=1,K996=2),"12","") | S996: =IF(OR(K996="X",K996=2),"X2","")
A997: =Feuil2!B997 -> 0 | B997: =Feuil2!C997 -> 0 | C997: =Feuil2!D997 -> 0 | G997: =IF(--LEFT(B997,FIND("-",B997)-1)+MID(B997,FIND("-",B997)+1,99)<2.5,"M","P") -> #VALUE! | Q997: =IF(OR(K997="X",K997=1),"1X","") | R997: =IF(OR(K997=1,K997=2),"12","") | S997: =IF(OR(K997="X",K997=2),"X2","")
A998: =Feuil2!B998 -> 0 | B998: =Feuil2!C998 -> 0 | C998: =Feuil2!D998 -> 0 | G998: =IF(--LEFT(B998,FIND("-",B998)-1)+MID(B998,FIND("-",B998)+1,99)<2.5,"M","P") -> #VALUE! | Q998: =IF(OR(K998="X",K998=1),"1X","") | R998: =IF(OR(K998=1,K998=2),"12","") | S998: =IF(OR(K998="X",K998=2),"X2","")
A999: =Feuil2!B999 -> 0 | B999: =Feuil2!C999 -> 0 | C999: =Feuil2!D999 -> 0 | G999: =IF(--LEFT(B999,FIND("-",B999)-1)+MID(B999,FIND("-",B999)+1,99)<2.5,"M","P") -> #VALUE! | Q999: =IF(OR(K999="X",K999=1),"1X","") | R999: =IF(OR(K999=1,K999=2),"12","") | S999: =IF(OR(K999="X",K999=2),"X2","")
A1000: =Feuil2!B1000 -> 0 | B1000: =Feuil2!C1000 -> 0 | C1000: =Feuil2!D1000 -> 0 | G1000: =IF(--LEFT(B1000,FIND("-",B1000)-1)+MID(B1000,FIND("-",B1000)+1,99)<2.5,"M","P") -> #VALUE! | Q1000: =IF(OR(K1000="X",K1000=1),"1X","") | R1000: =IF(OR(K1000=1,K1000=2),"12","") | S1000: =IF(OR(K1000="X",K1000=2),"X2","")
G1001: =IF(--LEFT(B1001,FIND("-",B1001)-1)+MID(B1001,FIND("-",B1001)+1,99)<2.5,"M","P") -> #VALUE! | Q1001: =IF(OR(K1001="X",K1001=1),"1X","") | R1001: =IF(OR(K1001=1,K1001=2),"12","") | S1001: =IF(OR(K1001="X",K1001=2),"X2","")
G1002: =IF(--LEFT(B1002,FIND("-",B1002)-1)+MID(B1002,FIND("-",B1002)+1,99)<2.5,"M","P") -> #VALUE! | Q1002: =IF(OR(K1002="X",K1002=1),"1X","") | R1002: =IF(OR(K1002=1,K1002=2),"12","") | S1002: =IF(OR(K1002="X",K1002=2),"X2","")
G1003: =IF(--LEFT(B1003,FIND("-",B1003)-1)+MID(B1003,FIND("-",B1003)+1,99)<2.5,"M","P") -> #VALUE! | Q1003: =IF(OR(K1003="X",K1003=1),"1X","") | R1003: =IF(OR(K1003=1,K1003=2),"12","") | S1003: =IF(OR(K1003="X",K1003=2),"X2","")
G1004: =IF(--LEFT(B1004,FIND("-",B1004)-1)+MID(B1004,FIND("-",B1004)+1,99)<2.5,"M","P") -> #VALUE! | Q1004: =IF(OR(K1004="X",K1004=1),"1X","") | R1004: =IF(OR(K1004=1,K1004=2),"12","") | S1004: =IF(OR(K1004="X",K1004=2),"X2","")
G1005: =IF(--LEFT(B1005,FIND("-",B1005)-1)+MID(B1005,FIND("-",B1005)+1,99)<2.5,"M","P") -> #VALUE! | Q1005: =IF(OR(K1005="X",K1005=1),"1X","") | R1005: =IF(OR(K1005=1,K1005=2),"12","") | S1005: =IF(OR(K1005="X",K1005=2),"X2","")
G1006: =IF(--LEFT(B1006,FIND("-",B1006)-1)+MID(B1006,FIND("-",B1006)+1,99)<2.5,"M","P") -> #VALUE! | Q1006: =IF(OR(K1006="X",K1006=1),"1X","") | R1006: =IF(OR(K1006=1,K1006=2),"12","") | S1006: =IF(OR(K1006="X",K1006=2),"X2","")
G1007: =IF(--LEFT(B1007,FIND("-",B1007)-1)+MID(B1007,FIND("-",B1007)+1,99)<2.5,"M","P") -> #VALUE! | Q1007: =IF(OR(K1007="X",K1007=1),"1X","") | R1007: =IF(OR(K1007=1,K1007=2),"12","") | S1007: =IF(OR(K1007="X",K1007=2),"X2","")
G1008: =IF(--LEFT(B1008,FIND("-",B1008)-1)+MID(B1008,FIND("-",B1008)+1,99)<2.5,"M","P") -> #VALUE! | Q1008: =IF(OR(K1008="X",K1008=1),"1X","") | R1008: =IF(OR(K1008=1,K1008=2),"12","") | S1008: =IF(OR(K1008="X",K1008=2),"X2","")
G1009: =IF(--LEFT(B1009,FIND("-",B1009)-1)+MID(B1009,FIND("-",B1009)+1,99)<2.5,"M","P") -> #VALUE! | Q1009: =IF(OR(K1009="X",K1009=1),"1X","") | R1009: =IF(OR(K1009=1,K1009=2),"12","") | S1009: =IF(OR(K1009="X",K1009=2),"X2","")
G1010: =IF(--LEFT(B1010,FIND("-",B1010)-1)+MID(B1010,FIND("-",B1010)+1,99)<2.5,"M","P") -> #VALUE! | Q1010: =IF(OR(K1010="X",K1010=1),"1X","") | R1010: =IF(OR(K1010=1,K1010=2),"12","") | S1010: =IF(OR(K1010="X",K1010=2),"X2","")
G1011: =IF(--LEFT(B1011,FIND("-",B1011)-1)+MID(B1011,FIND("-",B1011)+1,99)<2.5,"M","P") -> #VALUE! | Q1011: =IF(OR(K1011="X",K1011=1),"1X","") | R1011: =IF(OR(K1011=1,K1011=2),"12","") | S1011: =IF(OR(K1011="X",K1011=2),"X2","")
G1012: =IF(--LEFT(B1012,FIND("-",B1012)-1)+MID(B1012,FIND("-",B1012)+1,99)<2.5,"M","P") -> #VALUE! | Q1012: =IF(OR(K1012="X",K1012=1),"1X","") | R1012: =IF(OR(K1012=1,K1012=2),"12","") | S1012: =IF(OR(K1012="X",K1012=2),"X2","")
... G1122: =IF(--LEFT(B1122,FIND("-",B1122)-1)+MID(B1122,FIND("-",B1122)+1,99)<2.5,"M","P") -> #VALUE! | Q1122: =IF(OR(K1122="X",K1122=1),"1X","") | R1122: =IF(OR(K1122=1,K1122=2),"12","") | S1122: =IF(OR(K1122="X",K1122=2),"X2","")
Q1123: =IF(OR(K1123="X",K1123=1),"1X","") | R1123: =IF(OR(K1123=1,K1123=2),"12","") | S1123: =IF(OR(K1123="X",K1123=2),"X2","")
Q1124: =IF(OR(K1124="X",K1124=1),"1X","") | R1124: =IF(OR(K1124=1,K1124=2),"12","") | S1124: =IF(OR(K1124="X",K1124=2),"X2","")
Q1125: =IF(OR(K1125="X",K1125=1),"1X","") | R1125: =IF(OR(K1125=1,K1125=2),"12","") | S1125: =IF(OR(K1125="X",K1125=2),"X2","")
Q1126: =IF(OR(K1126="X",K1126=1),"1X","") | R1126: =IF(OR(K1126=1,K1126=2),"12","") | S1126: =IF(OR(K1126="X",K1126=2),"X2","")
Q1127: =IF(OR(K1127="X",K1127=1),"1X","") | R1127: =IF(OR(K1127=1,K1127=2),"12","") | S1127: =IF(OR(K1127="X",K1127=2),"X2","")
Q1128: =IF(OR(K1128="X",K1128=1),"1X","") | R1128: =IF(OR(K1128=1,K1128=2),"12","") | S1128: =IF(OR(K1128="X",K1128=2),"X2","")
Q1129: =IF(OR(K1129="X",K1129=1),"1X","") | R1129: =IF(OR(K1129=1,K1129=2),"12","") | S1129: =IF(OR(K1129="X",K1129=2),"X2","")
Q1130: =IF(OR(K1130="X",K1130=1),"1X","") | R1130: =IF(OR(K1130=1,K1130=2),"12","") | S1130: =IF(OR(K1130="X",K1130=2),"X2","")
Q1131: =IF(OR(K1131="X",K1131=1),"1X","") | R1131: =IF(OR(K1131=1,K1131=2),"12","") | S1131: =IF(OR(K1131="X",K1131=2),"X2","")
Q1132: =IF(OR(K1132="X",K1132=1),"1X","") | R1132: =IF(OR(K1132=1,K1132=2),"12","") | S1132: =IF(OR(K1132="X",K1132=2),"X2","")
Q1133: =IF(OR(K1133="X",K1133=1),"1X","") | R1133: =IF(OR(K1133=1,K1133=2),"12","") | S1133: =IF(OR(K1133="X",K1133=2),"X2","")
Q1134: =IF(OR(K1134="X",K1134=1),"1X","") | R1134: =IF(OR(K1134=1,K1134=2),"12","") | S1134: =IF(OR(K1134="X",K1134=2),"X2","")
... Q1142: =IF(OR(K1142="X",K1142=1),"1X","") | R1142: =IF(OR(K1142=1,K1142=2),"12","") | S1142: =IF(OR(K1142="X",K1142=2),"X2","")
