Workbook
Name Année: [1]Année!$A$2
Name jours_fériés: [1]Année!$C$2:$C$19

Sheet Novembre
F8: Accueil | G8: =$AW$8 -> 42675 | I8: =DAY(DATE(YEAR(AW8),MONTH(AW8)+1,1)-1) -> 30 | L8: =(G8+I8)-1 -> 42704 | O8: 11 | U8: =NETWORKDAYS((G8),(L8),jours_fériés) -> 20 | AW8: =DATE(Année,O8,1) -> 42675
AW9: =INT((AW$10-SUM(MOD(DATE(YEAR(AW$10-MOD(AW$10-2,7)+3),1,2),{1E+99;7})*{1;-1})+5)/7) -> 44 | AX9: =INT((AX$10-SUM(MOD(DATE(YEAR(AX$10-MOD(AX$10-2,7)+3),1,2),{1E+99;7})*{1;-1})+5)/7) -> 44 | AY9: =INT((AY$10-SUM(MOD(DATE(YEAR(AY$10-MOD(AY$10-2,7)+3),1,2),{1E+99;7})*{1;-1})+5)/7) -> 44 | AZ9: =INT((AZ$10-SUM(MOD(DATE(YEAR(AZ$10-MOD(AZ$10-2,7)+3),1,2),{1E+99;7})*{1;-1})+5)/7) -> 44 | BA9: =INT((BA$10-SUM(MOD(DATE(YEAR(BA$10-MOD(BA$10-2,7)+3),1,2),{1E+99;7})*{1;-1})+5)/7) -> 44 | BB9: =INT((BB$10-SUM(MOD(DATE(YEAR(BB$10-MOD(BB$10-2,7)+3),1,2),{1E+99;7})*{1;-1})+5)/7) -> 44 | BC9: =INT((BC$10-SUM(MOD(DATE(YEAR(BC$10-MOD(BC$10-2,7)+3),1,2),{1E+99;7})*{1;-1})+5)/7) -> 45 | BD9: =INT((BD$10-SUM(MOD(DATE(YEAR(BD$10-MOD(BD$10-2,7)+3),1,2),{1E+99;7})*{1;-1})+5)/7) -> 45 | ... CA9: =INT((CA$10-SUM(MOD(DATE(YEAR(CA$10-MOD(CA$10-2,7)+3),1,2),{1E+99;7})*{1;-1})+5)/7) -> 48
A10: SECTION | B10: GRADE | C10: NOM | D10: PRENOM | E10: FONCTION | F10: ALERTE | G10: MOIS | H10: Permission | I10: 1/2 P | J10: somme permission | K10: OPInt | L10: OPEX | M10: Stage | N10: EI/CP | O10: PAF | P10: Semaine | Q10: Armurier | R10: Soutier | S10: P.Chenil | T10: ALERTES DU AU | U10: AI | V10: AT | W10: missions chronophages | X10: Prépa ops | Y10: Non/plus Affecté | Z10: Récupération | AA10: Encadrement | AB10: Temps de dressage | AC10: OPInt | AD10: OPEX | AE10: Stage | AF10: EI/CP | AG10: PAF | AH10: Semaine | AI10: Armurier | AJ10: Soutier | AK10: P.Chenil | AL10: Services | AM10: ALERTES DU AU | AN10: AI | AO10: AT | AP10: missions chronophages | AQ10: Prépa ops | AR10: Non/plus Affecté | AS10: Tir | AT10: Reconvertion | AU10: Déta.1erRPIMa | AV10: Encadrement | AW10: =DATE(Année,O8,1) -> 42675 | AX10: =AW10+1 -> 42676 | AY10: =AX10+1 -> 42677 | AZ10: =AY10+1 -> 42678 | BA10: =AZ10+1 -> 42679 | BB10: =BA10+1 -> 42680 | BC10: =BB10+1 -> 42681 | BD10: =BC10+1 -> 42682 | BE10: =BD10+1 -> 42683 | ... CA10: =BZ10+1 -> 42705 | CB10: =[1]ParamètresCouleurs!W5 -> 0 | CC10: =[1]ParamètresCouleurs!X5 -> 0 | CD10: =[1]ParamètresCouleurs!Y5 -> 0 | CE10: =[1]ParamètresCouleurs!Z5 -> 0 | CF10: =[1]ParamètresCouleurs!AA5 -> 0 | CG10: =[1]ParamètresCouleurs!AB5 -> 0 | CH10: =[1]ParamètresCouleurs!AC5 -> 0 | CI10: =[1]ParamètresCouleurs!AD5 -> 0 | ... CL10: =[1]ParamètresCouleurs!AG5 -> 0
A11: =[1]PERSONNELS!B6 -> SK | B11: =[1]PERSONNELS!C6 -> CNE | E11: =[1]PERSONNELS!F6 -> CDU | G11: =$AW$8 -> 42675 | H11: =SUMPRODUCT(COUNTIF($H$10,$AW11:$CA11)*(WEEKDAY($AW$10:$CA$10,2)<6)*(COUNTIF(jours_fériés,$AW$10:$CA$10)=0)) -> 0 | I11: =SUMPRODUCT(COUNTIF($I$10,$AW11:$CA11)*(WEEKDAY($AW$10:$CA$10,2)<6)*(COUNTIF(jours_fériés,$AW$10:$CA$10)=0))/2 -> 0 | J11: =SUM(H11:I11) -> 0 | K11: =SUMPRODUCT(COUNTIF($K$10,$AW11:$CA11)*(WEEKDAY($AW$10:$CA$10,2)<6)*(COUNTIF(jours_fériés,$AW$10:$CA$10)=0)) -> 0 | L11: =SUMPRODUCT(COUNTIF($L$10,$AW11:$CA11)*(WEEKDAY($AW$10:$CA$10,2)<6)*(COUNTIF(jours_fériés,$AW$10:$CA$10)=0)) -> 0 | M11: =SUMPRODUCT(COUNTIF($M$10,$AW11:$CA11)*(WEEKDAY($AW$10:$CA$10,2)<6)*(COUNTIF(jours_fériés,$AW$10:$CA$10)=0)) -> 0 | N11: =SUMPRODUCT(COUNTIF($N$10,$AW11:$CA11)*(WEEKDAY($AW$10:$CA$10,2)<6)*(COUNTIF(jours_fériés,$AW$10:$CA$10)=0)) -> 0 | O11: =SUMPRODUCT(COUNTIF($O$10,$AW11:$CA11)*(WEEKDAY($AW$10:$CA$10,2)<6)*(COUNTIF(jours_fériés,$AW$10:$CA$10)=0)) -> 0 | P11: =SUMPRODUCT(COUNTIF($P$10,$AW11:$CA11)*(WEEKDAY($AW$10:$CA$10,2)<6)*(COUNTIF(jours_fériés,$AW$10:$CA$10)=0)) -> 0 | Q11: =SUMPRODUCT(COUNTIF($Q$10,$AW11:$CA11)*(WEEKDAY($AW$10:$CA$10,2)<6)*(COUNTIF(jours_fériés,$AW$10:$CA$10)=0)) -> 0 | R11: =SUMPRODUCT(COUNTIF($R$10,$AW11:$CA11)*(WEEKDAY($AW$10:$CA$10,2)<6)*(COUNTIF(jours_fériés,$AW$10:$CA$10)=0)) -> 0 | S11: =SUMPRODUCT(COUNTIF($S$10,$AW11:$CA11)*(WEEKDAY($AW$10:$CA$10,2)<6)*(COUNTIF(jours_fériés,$AW$10:$CA$10)=0)) -> 0 | T11: =SUMPRODUCT(COUNTIF($T$10,$AW11:$CA11)*(WEEKDAY($AW$10:$CA$10,2)<6)*(COUNTIF(jours_fériés,$AW$10:$CA$10)=0)) -> 0 | U11: =SUMPRODUCT(COUNTIF($U$10,$AW11:$CA11)*(WEEKDAY($AW$10:$CA$10,2)<6)*(COUNTIF(jours_fériés,$AW$10:$CA$10)=0)) -> 0 | V11: =SUMPRODUCT(COUNTIF($V$10,$AW11:$CA11)*(WEEKDAY($AW$10:$CA$10,2)<6)*(COUNTIF(jours_fériés,$AW$10:$CA$10)=0)) -> 0 | W11: =SUMPRODUCT(COUNTIF($W$10,$AW11:$CA11)*(WEEKDAY($AW$10:$CA$10,2)<6)*(COUNTIF(jours_fériés,$AW$10:$CA$10)=0)) -> 0 | X11: =SUMPRODUCT(COUNTIF($X$10,$AW11:$CA11)*(WEEKDAY($AW$10:$CA$10,2)<6)*(COUNTIF(jours_fériés,$AW$10:$CA$10)=0)) -> 0 | Y11: =SUMPRODUCT(COUNTIF($Y$10,$AW11:$CA11)*(WEEKDAY($AW$10:$CA$10,2)<6)*(COUNTIF(jours_fériés,$AW$10:$CA$10)=0)) -> 0 | Z11: =SUMPRODUCT(COUNTIF($Z$10,$AW11:$CA11)*(WEEKDAY($AW$10:$CA$10,2)<6)*(COUNTIF(jours_fériés,$AW$10:$CA$10)=0)) -> 0 | AA11: =SUMPRODUCT(COUNTIF($AA$10,$AW11:$CA11)*(WEEKDAY($AW$10:$CA$10,2)<6)*(COUNTIF(jours_fériés,$AW$10:$CA$10)=0)) -> 0 | AB11: =($U$8)-SUM($J11:$AA11) -> 20 | AC11: =SUMPRODUCT(COUNTIF($AC$10,$AW11:$CA11)) -> 0 | AD11: =SUMPRODUCT(COUNTIF($AD$10,$AW11:$CA11)) -> 0 | AE11: =SUMPRODUCT(COUNTIF($AE$10,$AW11:$CA11)) -> 0 | AF11: =SUMPRODUCT(COUNTIF($AF$10,$AW11:$CA11)) -> 0 | AG11: =SUMPRODUCT(COUNTIF($AG$10,$AW11:$CA11)) -> 0 | AH11: =SUMPRODUCT(COUNTIF($AH$10,$AW11:$CA11)) -> 0 | AI11: =SUMPRODUCT(COUNTIF($AI$10,$AW11:$CA11)) -> 0 | AJ11: =SUMPRODUCT(COUNTIF($AJ$10,$AW11:$CA11)) -> 0 | AK11: =SUMPRODUCT(COUNTIF($AK$10,$AW11:$CA11)) -> 0 | AL11: =SUM($AF11:$AK11) -> 0 | AM11: =SUMPRODUCT(COUNTIF($AM$10,$AW11:$CA11)) -> 0 | AN11: =SUMPRODUCT(COUNTIF($AN$10,$AW11:$CA11)) -> 0 | AO11: =SUMPRODUCT(COUNTIF($AO$10,$AW11:$CA11)) -> 0 | AP11: =SUMPRODUCT(COUNTIF($AP$10,$AW11:$CA11)) -> 0 | AQ11: =SUMPRODUCT(COUNTIF($AQ$10,$AW11:$CA11)) -> 0 | AR11: =SUMPRODUCT(COUNTIF($AR$10,$AW11:$CA11)) -> 0 | AS11: =SUMPRODUCT(COUNTIF($AS$10,$AW11:$CA11)) -> 0 | AT11: =SUMPRODUCT(COUNTIF($AT$10,$AW11:$CA11)) -> 0 | AU11: =SUMPRODUCT(COUNTIF($AU$10,$AW11:$CA11)) -> 0 | AV11: =SUMPRODUCT(COUNTIF($AV$10,$AW11:$CA11)) -> 0
A12: =[1]PERSONNELS!B7 -> SK | B12: =[1]PERSONNELS!C7 -> ADJ | E12: =[1]PERSONNELS!F7 -> ADU | G12: =$AW$8 -> 42675 | H12: =SUMPRODUCT(COUNTIF($H$10,$AW12:$CA12)*(WEEKDAY($AW$10:$CA$10,2)<6)*(COUNTIF(jours_fériés,$AW$10:$CA$10)=0)) -> 0 | I12: =SUMPRODUCT(COUNTIF($I$10,$AW12:$CA12)*(WEEKDAY($AW$10:$CA$10,2)<6)*(COUNTIF(jours_fériés,$AW$10:$CA$10)=0))/2 -> 0 | J12: =SUM(H12:I12) -> 0 | K12: =SUMPRODUCT(COUNTIF($K$10,$AW12:$CA12)*(WEEKDAY($AW$10:$CA$10,2)<6)*(COUNTIF(jours_fériés,$AW$10:$CA$10)=0)) -> 0 | L12: =SUMPRODUCT(COUNTIF($L$10,$AW12:$CA12)*(WEEKDAY($AW$10:$CA$10,2)<6)*(COUNTIF(jours_fériés,$AW$10:$CA$10)=0)) -> 0 | M12: =SUMPRODUCT(COUNTIF($M$10,$AW12:$CA12)*(WEEKDAY($AW$10:$CA$10,2)<6)*(COUNTIF(jours_fériés,$AW$10:$CA$10)=0)) -> 0 | N12: =SUMPRODUCT(COUNTIF($N$10,$AW12:$CA12)*(WEEKDAY($AW$10:$CA$10,2)<6)*(COUNTIF(jours_fériés,$AW$10:$CA$10)=0)) -> 0 | O12: =SUMPRODUCT(COUNTIF($O$10,$AW12:$CA12)*(WEEKDAY($AW$10:$CA$10,2)<6)*(COUNTIF(jours_fériés,$AW$10:$CA$10)=0)) -> 0 | P12: =SUMPRODUCT(COUNTIF($P$10,$AW12:$CA12)*(WEEKDAY($AW$10:$CA$10,2)<6)*(COUNTIF(jours_fériés,$AW$10:$CA$10)=0)) -> 0 | Q12: =SUMPRODUCT(COUNTIF($Q$10,$AW12:$CA12)*(WEEKDAY($AW$10:$CA$10,2)<6)*(COUNTIF(jours_fériés,$AW$10:$CA$10)=0)) -> 0 | R12: =SUMPRODUCT(COUNTIF($R$10,$AW12:$CA12)*(WEEKDAY($AW$10:$CA$10,2)<6)*(COUNTIF(jours_fériés,$AW$10:$CA$10)=0)) -> 0 | S12: =SUMPRODUCT(COUNTIF($S$10,$AW12:$CA12)*(WEEKDAY($AW$10:$CA$10,2)<6)*(COUNTIF(jours_fériés,$AW$10:$CA$10)=0)) -> 0 | T12: =SUMPRODUCT(COUNTIF($T$10,$AW12:$CA12)*(WEEKDAY($AW$10:$CA$10,2)<6)*(COUNTIF(jours_fériés,$AW$10:$CA$10)=0)) -> 0 | U12: =SUMPRODUCT(COUNTIF($U$10,$AW12:$CA12)*(WEEKDAY($AW$10:$CA$10,2)<6)*(COUNTIF(jours_fériés,$AW$10:$CA$10)=0)) -> 0 | V12: =SUMPRODUCT(COUNTIF($V$10,$AW12:$CA12)*(WEEKDAY($AW$10:$CA$10,2)<6)*(COUNTIF(jours_fériés,$AW$10:$CA$10)=0)) -> 0 | W12: =SUMPRODUCT(COUNTIF($W$10,$AW12:$CA12)*(WEEKDAY($AW$10:$CA$10,2)<6)*(COUNTIF(jours_fériés,$AW$10:$CA$10)=0)) -> 0 | X12: =SUMPRODUCT(COUNTIF($X$10,$AW12:$CA12)*(WEEKDAY($AW$10:$CA$10,2)<6)*(COUNTIF(jours_fériés,$AW$10:$CA$10)=0)) -> 0 | Y12: =SUMPRODUCT(COUNTIF($Y$10,$AW12:$CA12)*(WEEKDAY($AW$10:$CA$10,2)<6)*(COUNTIF(jours_fériés,$AW$10:$CA$10)=0)) -> 0 | Z12: =SUMPRODUCT(COUNTIF($Z$10,$AW12:$CA12)*(WEEKDAY($AW$10:$CA$10,2)<6)*(COUNTIF(jours_fériés,$AW$10:$CA$10)=0)) -> 0 | AA12: =SUMPRODUCT(COUNTIF($AA$10,$AW12:$CA12)*(WEEKDAY($AW$10:$CA$10,2)<6)*(COUNTIF(jours_fériés,$AW$10:$CA$10)=0)) -> 0 | AB12: =($U$8)-SUM($J12:$AA12) -> 20 | AC12: =SUMPRODUCT(COUNTIF($AC$10,$AW12:$CA12)) -> 0 | AD12: =SUMPRODUCT(COUNTIF($AD$10,$AW12:$CA12)) -> 0 | AE12: =SUMPRODUCT(COUNTIF($AE$10,$AW12:$CA12)) -> 0 | AF12: =SUMPRODUCT(COUNTIF($AF$10,$AW12:$CA12)) -> 0 | AG12: =SUMPRODUCT(COUNTIF($AG$10,$AW12:$CA12)) -> 0 | AH12: =SUMPRODUCT(COUNTIF($AH$10,$AW12:$CA12)) -> 0 | AI12: =SUMPRODUCT(COUNTIF($AI$10,$AW12:$CA12)) -> 0 | AJ12: =SUMPRODUCT(COUNTIF($AJ$10,$AW12:$CA12)) -> 0 | AK12: =SUMPRODUCT(COUNTIF($AK$10,$AW12:$CA12)) -> 0 | AL12: =SUM($AF12:$AK12) -> 0 | AM12: =SUMPRODUCT(COUNTIF($AM$10,$AW12:$CA12)) -> 0 | AN12: =SUMPRODUCT(COUNTIF($AN$10,$AW12:$CA12)) -> 0 | AO12: =SUMPRODUCT(COUNTIF($AO$10,$AW12:$CA12)) -> 0 | AP12: =SUMPRODUCT(COUNTIF($AP$10,$AW12:$CA12)) -> 0 | AQ12: =SUMPRODUCT(COUNTIF($AQ$10,$AW12:$CA12)) -> 0 | AR12: =SUMPRODUCT(COUNTIF($AR$10,$AW12:$CA12)) -> 0 | AS12: =SUMPRODUCT(COUNTIF($AS$10,$AW12:$CA12)) -> 0 | AT12: =SUMPRODUCT(COUNTIF($AT$10,$AW12:$CA12)) -> 0 | AU12: =SUMPRODUCT(COUNTIF($AU$10,$AW12:$CA12)) -> 0 | AV12: =SUMPRODUCT(COUNTIF($AV$10,$AW12:$CA12)) -> 0 | CB12: =SUMPRODUCT(COUNTIF(AW11:CA11,CA12)) -> 0
A13: =[1]PERSONNELS!B8 -> SK | B13: =[1]PERSONNELS!C8 -> ADJ | E13: =[1]PERSONNELS!F8 -> 0 | G13: =$AW$8 -> 42675 | H13: =SUMPRODUCT(COUNTIF($H$10,$AW13:$CA13)*(WEEKDAY($AW$10:$CA$10,2)<6)*(COUNTIF(jours_fériés,$AW$10:$CA$10)=0)) -> 0 | I13: =SUMPRODUCT(COUNTIF($I$10,$AW13:$CA13)*(WEEKDAY($AW$10:$CA$10,2)<6)*(COUNTIF(jours_fériés,$AW$10:$CA$10)=0))/2 -> 0 | J13: =SUM(H13:I13) -> 0 | K13: =SUMPRODUCT(COUNTIF($K$10,$AW13:$CA13)*(WEEKDAY($AW$10:$CA$10,2)<6)*(COUNTIF(jours_fériés,$AW$10:$CA$10)=0)) -> 0 | L13: =SUMPRODUCT(COUNTIF($L$10,$AW13:$CA13)*(WEEKDAY($AW$10:$CA$10,2)<6)*(COUNTIF(jours_fériés,$AW$10:$CA$10)=0)) -> 0 | M13: =SUMPRODUCT(COUNTIF($M$10,$AW13:$CA13)*(WEEKDAY($AW$10:$CA$10,2)<6)*(COUNTIF(jours_fériés,$AW$10:$CA$10)=0)) -> 0 | N13: =SUMPRODUCT(COUNTIF($N$10,$AW13:$CA13)*(WEEKDAY($AW$10:$CA$10,2)<6)*(COUNTIF(jours_fériés,$AW$10:$CA$10)=0)) -> 0 | O13: =SUMPRODUCT(COUNTIF($O$10,$AW13:$CA13)*(WEEKDAY($AW$10:$CA$10,2)<6)*(COUNTIF(jours_fériés,$AW$10:$CA$10)=0)) -> 0 | P13: =SUMPRODUCT(COUNTIF($P$10,$AW13:$CA13)*(WEEKDAY($AW$10:$CA$10,2)<6)*(COUNTIF(jours_fériés,$AW$10:$CA$10)=0)) -> 0 | Q13: =SUMPRODUCT(COUNTIF($Q$10,$AW13:$CA13)*(WEEKDAY($AW$10:$CA$10,2)<6)*(COUNTIF(jours_fériés,$AW$10:$CA$10)=0)) -> 0 | R13: =SUMPRODUCT(COUNTIF($R$10,$AW13:$CA13)*(WEEKDAY($AW$10:$CA$10,2)<6)*(COUNTIF(jours_fériés,$AW$10:$CA$10)=0)) -> 0 | S13: =SUMPRODUCT(COUNTIF($S$10,$AW13:$CA13)*(WEEKDAY($AW$10:$CA$10,2)<6)*(COUNTIF(jours_fériés,$AW$10:$CA$10)=0)) -> 0 | T13: =SUMPRODUCT(COUNTIF($T$10,$AW13:$CA13)*(WEEKDAY($AW$10:$CA$10,2)<6)*(COUNTIF(jours_fériés,$AW$10:$CA$10)=0)) -> 0 | U13: =SUMPRODUCT(COUNTIF($U$10,$AW13:$CA13)*(WEEKDAY($AW$10:$CA$10,2)<6)*(COUNTIF(jours_fériés,$AW$10:$CA$10)=0)) -> 0 | V13: =SUMPRODUCT(COUNTIF($V$10,$AW13:$CA13)*(WEEKDAY($AW$10:$CA$10,2)<6)*(COUNTIF(jours_fériés,$AW$10:$CA$10)=0)) -> 0 | W13: =SUMPRODUCT(COUNTIF($W$10,$AW13:$CA13)*(WEEKDAY($AW$10:$CA$10,2)<6)*(COUNTIF(jours_fériés,$AW$10:$CA$10)=0)) -> 0 | X13: =SUMPRODUCT(COUNTIF($X$10,$AW13:$CA13)*(WEEKDAY($AW$10:$CA$10,2)<6)*(COUNTIF(jours_fériés,$AW$10:$CA$10)=0)) -> 0 | Y13: =SUMPRODUCT(COUNTIF($Y$10,$AW13:$CA13)*(WEEKDAY($AW$10:$CA$10,2)<6)*(COUNTIF(jours_fériés,$AW$10:$CA$10)=0)) -> 0 | Z13: =SUMPRODUCT(COUNTIF($Z$10,$AW13:$CA13)*(WEEKDAY($AW$10:$CA$10,2)<6)*(COUNTIF(jours_fériés,$AW$10:$CA$10)=0)) -> 0 | AA13: =SUMPRODUCT(COUNTIF($AA$10,$AW13:$CA13)*(WEEKDAY($AW$10:$CA$10,2)<6)*(COUNTIF(jours_fériés,$AW$10:$CA$10)=0)) -> 0 | AB13: =($U$8)-SUM($J13:$AA13) -> 20 | AC13: =SUMPRODUCT(COUNTIF($AC$10,$AW13:$CA13)) -> 0 | AD13: =SUMPRODUCT(COUNTIF($AD$10,$AW13:$CA13)) -> 0 | AE13: =SUMPRODUCT(COUNTIF($AE$10,$AW13:$CA13)) -> 0 | AF13: =SUMPRODUCT(COUNTIF($AF$10,$AW13:$CA13)) -> 0 | AG13: =SUMPRODUCT(COUNTIF($AG$10,$AW13:$CA13)) -> 0 | AH13: =SUMPRODUCT(COUNTIF($AH$10,$AW13:$CA13)) -> 0 | AI13: =SUMPRODUCT(COUNTIF($AI$10,$AW13:$CA13)) -> 0 | AJ13: =SUMPRODUCT(COUNTIF($AJ$10,$AW13:$CA13)) -> 0 | AK13: =SUMPRODUCT(COUNTIF($AK$10,$AW13:$CA13)) -> 0 | AL13: =SUM($AF13:$AK13) -> 0 | AM13: =SUMPRODUCT(COUNTIF($AM$10,$AW13:$CA13)) -> 0 | AN13: =SUMPRODUCT(COUNTIF($AN$10,$AW13:$CA13)) -> 0 | AO13: =SUMPRODUCT(COUNTIF($AO$10,$AW13:$CA13)) -> 0 | AP13: =SUMPRODUCT(COUNTIF($AP$10,$AW13:$CA13)) -> 0 | AQ13: =SUMPRODUCT(COUNTIF($AQ$10,$AW13:$CA13)) -> 0 | AR13: =SUMPRODUCT(COUNTIF($AR$10,$AW13:$CA13)) -> 0 | AS13: =SUMPRODUCT(COUNTIF($AS$10,$AW13:$CA13)) -> 0 | AT13: =SUMPRODUCT(COUNTIF($AT$10,$AW13:$CA13)) -> 0 | AU13: =SUMPRODUCT(COUNTIF($AU$10,$AW13:$CA13)) -> 0 | AV13: =SUMPRODUCT(COUNTIF($AV$10,$AW13:$CA13)) -> 0
A14: =[1]PERSONNELS!B9 -> SK | B14: =[1]PERSONNELS!C9 -> CC1 | E14: =[1]PERSONNELS!F9 -> 0 | G14: =$AW$8 -> 42675 | H14: =SUMPRODUCT(COUNTIF($H$10,$AW14:$CA14)*(WEEKDAY($AW$10:$CA$10,2)<6)*(COUNTIF(jours_fériés,$AW$10:$CA$10)=0)) -> 0 | I14: =SUMPRODUCT(COUNTIF($I$10,$AW14:$CA14)*(WEEKDAY($AW$10:$CA$10,2)<6)*(COUNTIF(jours_fériés,$AW$10:$CA$10)=0))/2 -> 0 | J14: =SUM(H14:I14) -> 0 | K14: =SUMPRODUCT(COUNTIF($K$10,$AW14:$CA14)*(WEEKDAY($AW$10:$CA$10,2)<6)*(COUNTIF(jours_fériés,$AW$10:$CA$10)=0)) -> 0 | L14: =SUMPRODUCT(COUNTIF($L$10,$AW14:$CA14)*(WEEKDAY($AW$10:$CA$10,2)<6)*(COUNTIF(jours_fériés,$AW$10:$CA$10)=0)) -> 0 | M14: =SUMPRODUCT(COUNTIF($M$10,$AW14:$CA14)*(WEEKDAY($AW$10:$CA$10,2)<6)*(COUNTIF(jours_fériés,$AW$10:$CA$10)=0)) -> 0 | N14: =SUMPRODUCT(COUNTIF($N$10,$AW14:$CA14)*(WEEKDAY($AW$10:$CA$10,2)<6)*(COUNTIF(jours_fériés,$AW$10:$CA$10)=0)) -> 0 | O14: =SUMPRODUCT(COUNTIF($O$10,$AW14:$CA14)*(WEEKDAY($AW$10:$CA$10,2)<6)*(COUNTIF(jours_fériés,$AW$10:$CA$10)=0)) -> 0 | P14: =SUMPRODUCT(COUNTIF($P$10,$AW14:$CA14)*(WEEKDAY($AW$10:$CA$10,2)<6)*(COUNTIF(jours_fériés,$AW$10:$CA$10)=0)) -> 0 | Q14: =SUMPRODUCT(COUNTIF($Q$10,$AW14:$CA14)*(WEEKDAY($AW$10:$CA$10,2)<6)*(COUNTIF(jours_fériés,$AW$10:$CA$10)=0)) -> 0 | R14: =SUMPRODUCT(COUNTIF($R$10,$AW14:$CA14)*(WEEKDAY($AW$10:$CA$10,2)<6)*(COUNTIF(jours_fériés,$AW$10:$CA$10)=0)) -> 0 | S14: =SUMPRODUCT(COUNTIF($S$10,$AW14:$CA14)*(WEEKDAY($AW$10:$CA$10,2)<6)*(COUNTIF(jours_fériés,$AW$10:$CA$10)=0)) -> 0 | T14: =SUMPRODUCT(COUNTIF($T$10,$AW14:$CA14)*(WEEKDAY($AW$10:$CA$10,2)<6)*(COUNTIF(jours_fériés,$AW$10:$CA$10)=0)) -> 0 | U14: =SUMPRODUCT(COUNTIF($U$10,$AW14:$CA14)*(WEEKDAY($AW$10:$CA$10,2)<6)*(COUNTIF(jours_fériés,$AW$10:$CA$10)=0)) -> 0 | V14: =SUMPRODUCT(COUNTIF($V$10,$AW14:$CA14)*(WEEKDAY($AW$10:$CA$10,2)<6)*(COUNTIF(jours_fériés,$AW$10:$CA$10)=0)) -> 0 | W14: =SUMPRODUCT(COUNTIF($W$10,$AW14:$CA14)*(WEEKDAY($AW$10:$CA$10,2)<6)*(COUNTIF(jours_fériés,$AW$10:$CA$10)=0)) -> 0 | X14: =SUMPRODUCT(COUNTIF($X$10,$AW14:$CA14)*(WEEKDAY($AW$10:$CA$10,2)<6)*(COUNTIF(jours_fériés,$AW$10:$CA$10)=0)) -> 0 | Y14: =SUMPRODUCT(COUNTIF($Y$10,$AW14:$CA14)*(WEEKDAY($AW$10:$CA$10,2)<6)*(COUNTIF(jours_fériés,$AW$10:$CA$10)=0)) -> 0 | Z14: =SUMPRODUCT(COUNTIF($Z$10,$AW14:$CA14)*(WEEKDAY($AW$10:$CA$10,2)<6)*(COUNTIF(jours_fériés,$AW$10:$CA$10)=0)) -> 0 | AA14: =SUMPRODUCT(COUNTIF($AA$10,$AW14:$CA14)*(WEEKDAY($AW$10:$CA$10,2)<6)*(COUNTIF(jours_fériés,$AW$10:$CA$10)=0)) -> 0 | AB14: =($U$8)-SUM($J14:$AA14) -> 20 | AC14: =SUMPRODUCT(COUNTIF($AC$10,$AW14:$CA14)) -> 0 | AD14: =SUMPRODUCT(COUNTIF($AD$10,$AW14:$CA14)) -> 0 | AE14: =SUMPRODUCT(COUNTIF($AE$10,$AW14:$CA14)) -> 0 | AF14: =SUMPRODUCT(COUNTIF($AF$10,$AW14:$CA14)) -> 0 | AG14: =SUMPRODUCT(COUNTIF($AG$10,$AW14:$CA14)) -> 0 | AH14: =SUMPRODUCT(COUNTIF($AH$10,$AW14:$CA14)) -> 0 | AI14: =SUMPRODUCT(COUNTIF($AI$10,$AW14:$CA14)) -> 0 | AJ14: =SUMPRODUCT(COUNTIF($AJ$10,$AW14:$CA14)) -> 0 | AK14: =SUMPRODUCT(COUNTIF($AK$10,$AW14:$CA14)) -> 0 | AL14: =SUM($AF14:$AK14) -> 0 | AM14: =SUMPRODUCT(COUNTIF($AM$10,$AW14:$CA14)) -> 0 | AN14: =SUMPRODUCT(COUNTIF($AN$10,$AW14:$CA14)) -> 0 | AO14: =SUMPRODUCT(COUNTIF($AO$10,$AW14:$CA14)) -> 0 | AP14: =SUMPRODUCT(COUNTIF($AP$10,$AW14:$CA14)) -> 0 | AQ14: =SUMPRODUCT(COUNTIF($AQ$10,$AW14:$CA14)) -> 0 | AR14: =SUMPRODUCT(COUNTIF($AR$10,$AW14:$CA14)) -> 0 | AS14: =SUMPRODUCT(COUNTIF($AS$10,$AW14:$CA14)) -> 0 | AT14: =SUMPRODUCT(COUNTIF($AT$10,$AW14:$CA14)) -> 0 | AU14: =SUMPRODUCT(COUNTIF($AU$10,$AW14:$CA14)) -> 0 | AV14: =SUMPRODUCT(COUNTIF($AV$10,$AW14:$CA14)) -> 0
A15: =[1]PERSONNELS!B11 -> SK | B15: =[1]PERSONNELS!C11 -> CC1 | E15: =[1]PERSONNELS!F11 -> 0 | G15: =$AW$8 -> 42675 | H15: =SUMPRODUCT(COUNTIF($H$10,$AW15:$CA15)*(WEEKDAY($AW$10:$CA$10,2)<6)*(COUNTIF(jours_fériés,$AW$10:$CA$10)=0)) -> 0 | I15: =SUMPRODUCT(COUNTIF($I$10,$AW15:$CA15)*(WEEKDAY($AW$10:$CA$10,2)<6)*(COUNTIF(jours_fériés,$AW$10:$CA$10)=0))/2 -> 0 | J15: =SUM(H15:I15) -> 0 | K15: =SUMPRODUCT(COUNTIF($K$10,$AW15:$CA15)*(WEEKDAY($AW$10:$CA$10,2)<6)*(COUNTIF(jours_fériés,$AW$10:$CA$10)=0)) -> 0 | L15: =SUMPRODUCT(COUNTIF($L$10,$AW15:$CA15)*(WEEKDAY($AW$10:$CA$10,2)<6)*(COUNTIF(jours_fériés,$AW$10:$CA$10)=0)) -> 0 | M15: =SUMPRODUCT(COUNTIF($M$10,$AW15:$CA15)*(WEEKDAY($AW$10:$CA$10,2)<6)*(COUNTIF(jours_fériés,$AW$10:$CA$10)=0)) -> 0 | N15: =SUMPRODUCT(COUNTIF($N$10,$AW15:$CA15)*(WEEKDAY($AW$10:$CA$10,2)<6)*(COUNTIF(jours_fériés,$AW$10:$CA$10)=0)) -> 0 | O15: =SUMPRODUCT(COUNTIF($O$10,$AW15:$CA15)*(WEEKDAY($AW$10:$CA$10,2)<6)*(COUNTIF(jours_fériés,$AW$10:$CA$10)=0)) -> 0 | P15: =SUMPRODUCT(COUNTIF($P$10,$AW15:$CA15)*(WEEKDAY($AW$10:$CA$10,2)<6)*(COUNTIF(jours_fériés,$AW$10:$CA$10)=0)) -> 0 | Q15: =SUMPRODUCT(COUNTIF($Q$10,$AW15:$CA15)*(WEEKDAY($AW$10:$CA$10,2)<6)*(COUNTIF(jours_fériés,$AW$10:$CA$10)=0)) -> 0 | R15: =SUMPRODUCT(COUNTIF($R$10,$AW15:$CA15)*(WEEKDAY($AW$10:$CA$10,2)<6)*(COUNTIF(jours_fériés,$AW$10:$CA$10)=0)) -> 0 | S15: =SUMPRODUCT(COUNTIF($S$10,$AW15:$CA15)*(WEEKDAY($AW$10:$CA$10,2)<6)*(COUNTIF(jours_fériés,$AW$10:$CA$10)=0)) -> 0 | T15: =SUMPRODUCT(COUNTIF($T$10,$AW15:$CA15)*(WEEKDAY($AW$10:$CA$10,2)<6)*(COUNTIF(jours_fériés,$AW$10:$CA$10)=0)) -> 0 | U15: =SUMPRODUCT(COUNTIF($U$10,$AW15:$CA15)*(WEEKDAY($AW$10:$CA$10,2)<6)*(COUNTIF(jours_fériés,$AW$10:$CA$10)=0)) -> 0 | V15: =SUMPRODUCT(COUNTIF($V$10,$AW15:$CA15)*(WEEKDAY($AW$10:$CA$10,2)<6)*(COUNTIF(jours_fériés,$AW$10:$CA$10)=0)) -> 0 | W15: =SUMPRODUCT(COUNTIF($W$10,$AW15:$CA15)*(WEEKDAY($AW$10:$CA$10,2)<6)*(COUNTIF(jours_fériés,$AW$10:$CA$10)=0)) -> 0 | X15: =SUMPRODUCT(COUNTIF($X$10,$AW15:$CA15)*(WEEKDAY($AW$10:$CA$10,2)<6)*(COUNTIF(jours_fériés,$AW$10:$CA$10)=0)) -> 0 | Y15: =SUMPRODUCT(COUNTIF($Y$10,$AW15:$CA15)*(WEEKDAY($AW$10:$CA$10,2)<6)*(COUNTIF(jours_fériés,$AW$10:$CA$10)=0)) -> 0 | Z15: =SUMPRODUCT(COUNTIF($Z$10,$AW15:$CA15)*(WEEKDAY($AW$10:$CA$10,2)<6)*(COUNTIF(jours_fériés,$AW$10:$CA$10)=0)) -> 0 | AA15: =SUMPRODUCT(COUNTIF($AA$10,$AW15:$CA15)*(WEEKDAY($AW$10:$CA$10,2)<6)*(COUNTIF(jours_fériés,$AW$10:$CA$10)=0)) -> 0 | AB15: =($U$8)-SUM($J15:$AA15) -> 20 | AC15: =SUMPRODUCT(COUNTIF($AC$10,$AW15:$CA15)) -> 0 | AD15: =SUMPRODUCT(COUNTIF($AD$10,$AW15:$CA15)) -> 0 | AE15: =SUMPRODUCT(COUNTIF($AE$10,$AW15:$CA15)) -> 0 | AF15: =SUMPRODUCT(COUNTIF($AF$10,$AW15:$CA15)) -> 0 | AG15: =SUMPRODUCT(COUNTIF($AG$10,$AW15:$CA15)) -> 0 | AH15: =SUMPRODUCT(COUNTIF($AH$10,$AW15:$CA15)) -> 0 | AI15: =SUMPRODUCT(COUNTIF($AI$10,$AW15:$CA15)) -> 0 | AJ15: =SUMPRODUCT(COUNTIF($AJ$10,$AW15:$CA15)) -> 0 | AK15: =SUMPRODUCT(COUNTIF($AK$10,$AW15:$CA15)) -> 0 | AL15: =SUM($AF15:$AK15) -> 0 | AM15: =SUMPRODUCT(COUNTIF($AM$10,$AW15:$CA15)) -> 0 | AN15: =SUMPRODUCT(COUNTIF($AN$10,$AW15:$CA15)) -> 0 | AO15: =SUMPRODUCT(COUNTIF($AO$10,$AW15:$CA15)) -> 0 | AP15: =SUMPRODUCT(COUNTIF($AP$10,$AW15:$CA15)) -> 0 | AQ15: =SUMPRODUCT(COUNTIF($AQ$10,$AW15:$CA15)) -> 0 | AR15: =SUMPRODUCT(COUNTIF($AR$10,$AW15:$CA15)) -> 0 | AS15: =SUMPRODUCT(COUNTIF($AS$10,$AW15:$CA15)) -> 0 | AT15: =SUMPRODUCT(COUNTIF($AT$10,$AW15:$CA15)) -> 0 | AU15: =SUMPRODUCT(COUNTIF($AU$10,$AW15:$CA15)) -> 0 | AV15: =SUMPRODUCT(COUNTIF($AV$10,$AW15:$CA15)) -> 0
A16: =[1]PERSONNELS!B10 -> SK | B16: =[1]PERSONNELS!C10 -> CCH | E16: =[1]PERSONNELS!F10 -> 0 | G16: =$AW$8 -> 42675 | H16: =SUMPRODUCT(COUNTIF($H$10,$AW16:$CA16)*(WEEKDAY($AW$10:$CA$10,2)<6)*(COUNTIF(jours_fériés,$AW$10:$CA$10)=0)) -> 0 | I16: =SUMPRODUCT(COUNTIF($I$10,$AW16:$CA16)*(WEEKDAY($AW$10:$CA$10,2)<6)*(COUNTIF(jours_fériés,$AW$10:$CA$10)=0))/2 -> 0 | J16: =SUM(H16:I16) -> 0 | K16: =SUMPRODUCT(COUNTIF($K$10,$AW16:$CA16)*(WEEKDAY($AW$10:$CA$10,2)<6)*(COUNTIF(jours_fériés,$AW$10:$CA$10)=0)) -> 0 | L16: =SUMPRODUCT(COUNTIF($L$10,$AW16:$CA16)*(WEEKDAY($AW$10:$CA$10,2)<6)*(COUNTIF(jours_fériés,$AW$10:$CA$10)=0)) -> 0 | M16: =SUMPRODUCT(COUNTIF($M$10,$AW16:$CA16)*(WEEKDAY($AW$10:$CA$10,2)<6)*(COUNTIF(jours_fériés,$AW$10:$CA$10)=0)) -> 0 | N16: =SUMPRODUCT(COUNTIF($N$10,$AW16:$CA16)*(WEEKDAY($AW$10:$CA$10,2)<6)*(COUNTIF(jours_fériés,$AW$10:$CA$10)=0)) -> 0 | O16: =SUMPRODUCT(COUNTIF($O$10,$AW16:$CA16)*(WEEKDAY($AW$10:$CA$10,2)<6)*(COUNTIF(jours_fériés,$AW$10:$CA$10)=0)) -> 0 | P16: =SUMPRODUCT(COUNTIF($P$10,$AW16:$CA16)*(WEEKDAY($AW$10:$CA$10,2)<6)*(COUNTIF(jours_fériés,$AW$10:$CA$10)=0)) -> 0 | Q16: =SUMPRODUCT(COUNTIF($Q$10,$AW16:$CA16)*(WEEKDAY($AW$10:$CA$10,2)<6)*(COUNTIF(jours_fériés,$AW$10:$CA$10)=0)) -> 0 | R16: =SUMPRODUCT(COUNTIF($R$10,$AW16:$CA16)*(WEEKDAY($AW$10:$CA$10,2)<6)*(COUNTIF(jours_fériés,$AW$10:$CA$10)=0)) -> 0 | S16: =SUMPRODUCT(COUNTIF($S$10,$AW16:$CA16)*(WEEKDAY($AW$10:$CA$10,2)<6)*(COUNTIF(jours_fériés,$AW$10:$CA$10)=0)) -> 0 | T16: =SUMPRODUCT(COUNTIF($T$10,$AW16:$CA16)*(WEEKDAY($AW$10:$CA$10,2)<6)*(COUNTIF(jours_fériés,$AW$10:$CA$10)=0)) -> 0 | U16: =SUMPRODUCT(COUNTIF($U$10,$AW16:$CA16)*(WEEKDAY($AW$10:$CA$10,2)<6)*(COUNTIF(jours_fériés,$AW$10:$CA$10)=0)) -> 0 | V16: =SUMPRODUCT(COUNTIF($V$10,$AW16:$CA16)*(WEEKDAY($AW$10:$CA$10,2)<6)*(COUNTIF(jours_fériés,$AW$10:$CA$10)=0)) -> 0 | W16: =SUMPRODUCT(COUNTIF($W$10,$AW16:$CA16)*(WEEKDAY($AW$10:$CA$10,2)<6)*(COUNTIF(jours_fériés,$AW$10:$CA$10)=0)) -> 0 | X16: =SUMPRODUCT(COUNTIF($X$10,$AW16:$CA16)*(WEEKDAY($AW$10:$CA$10,2)<6)*(COUNTIF(jours_fériés,$AW$10:$CA$10)=0)) -> 0 | Y16: =SUMPRODUCT(COUNTIF($Y$10,$AW16:$CA16)*(WEEKDAY($AW$10:$CA$10,2)<6)*(COUNTIF(jours_fériés,$AW$10:$CA$10)=0)) -> 21 | Z16: =SUMPRODUCT(COUNTIF($Z$10,$AW16:$CA16)*(WEEKDAY($AW$10:$CA$10,2)<6)*(COUNTIF(jours_fériés,$AW$10:$CA$10)=0)) -> 0 | AA16: =SUMPRODUCT(COUNTIF($AA$10,$AW16:$CA16)*(WEEKDAY($AW$10:$CA$10,2)<6)*(COUNTIF(jours_fériés,$AW$10:$CA$10)=0)) -> 0 | AB16: =($U$8)-SUM($J16:$AA16) -> -1 | AC16: =SUMPRODUCT(COUNTIF($AC$10,$AW16:$CA16)) -> 0 | AD16: =SUMPRODUCT(COUNTIF($AD$10,$AW16:$CA16)) -> 0 | AE16: =SUMPRODUCT(COUNTIF($AE$10,$AW16:$CA16)) -> 0 | AF16: =SUMPRODUCT(COUNTIF($AF$10,$AW16:$CA16)) -> 0 | AG16: =SUMPRODUCT(COUNTIF($AG$10,$AW16:$CA16)) -> 0 | AH16: =SUMPRODUCT(COUNTIF($AH$10,$AW16:$CA16)) -> 0 | AI16: =SUMPRODUCT(COUNTIF($AI$10,$AW16:$CA16)) -> 0 | AJ16: =SUMPRODUCT(COUNTIF($AJ$10,$AW16:$CA16)) -> 0 | AK16: =SUMPRODUCT(COUNTIF($AK$10,$AW16:$CA16)) -> 0 | AL16: =SUM($AF16:$AK16) -> 0 | AM16: =SUMPRODUCT(COUNTIF($AM$10,$AW16:$CA16)) -> 0 | AN16: =SUMPRODUCT(COUNTIF($AN$10,$AW16:$CA16)) -> 0 | AO16: =SUMPRODUCT(COUNTIF($AO$10,$AW16:$CA16)) -> 0 | AP16: =SUMPRODUCT(COUNTIF($AP$10,$AW16:$CA16)) -> 0 | AQ16: =SUMPRODUCT(COUNTIF($AQ$10,$AW16:$CA16)) -> 0 | AR16: =SUMPRODUCT(COUNTIF($AR$10,$AW16:$CA16)) -> 31 | AS16: =SUMPRODUCT(COUNTIF($AS$10,$AW16:$CA16)) -> 0 | AT16: =SUMPRODUCT(COUNTIF($AT$10,$AW16:$CA16)) -> 0 | AU16: =SUMPRODUCT(COUNTIF($AU$10,$AW16:$CA16)) -> 0 | AV16: =SUMPRODUCT(COUNTIF($AV$10,$AW16:$CA16)) -> 0 | AW16: Non/plus Affecté | AX16: Non/plus Affecté | AY16: Non/plus Affecté | AZ16: Non/plus Affecté | BA16: Non/plus Affecté | BB16: Non/plus Affecté | BC16: Non/plus Affecté | BD16: Non/plus Affecté | BE16: Non/plus Affecté | BF16: Non/plus Affecté | BG16: Non/plus Affecté | BH16: Non/plus Affecté | BI16: Non/plus Affecté | BJ16: Non/plus Affecté | BK16: Non/plus Affecté | BL16: Non/plus Affecté | BM16: Non/plus Affecté | BN16: Non/plus Affecté | BO16: Non/plus Affecté | BP16: Non/plus Affecté | BQ16: Non/plus Affecté | BR16: Non/plus Affecté | BS16: Non/plus Affecté | BT16: Non/plus Affecté | BU16: Non/plus Affecté | BV16: Non/plus Affecté | BW16: Non/plus Affecté | BX16: Non/plus Affecté | BY16: Non/plus Affecté | BZ16: Non/plus Affecté | CA16: Non/plus Affecté
A17: =[1]PERSONNELS!B12 -> SK | B17: =[1]PERSONNELS!C12 -> CPL | E17: =[1]PERSONNELS!F12 -> 0 | G17: =$AW$8 -> 42675 | H17: =SUMPRODUCT(COUNTIF($H$10,$AW17:$CA17)*(WEEKDAY($AW$10:$CA$10,2)<6)*(COUNTIF(jours_fériés,$AW$10:$CA$10)=0)) -> 0 | I17: =SUMPRODUCT(COUNTIF($I$10,$AW17:$CA17)*(WEEKDAY($AW$10:$CA$10,2)<6)*(COUNTIF(jours_fériés,$AW$10:$CA$10)=0))/2 -> 0 | J17: =SUM(H17:I17) -> 0 | K17: =SUMPRODUCT(COUNTIF($K$10,$AW17:$CA17)*(WEEKDAY($AW$10:$CA$10,2)<6)*(COUNTIF(jours_fériés,$AW$10:$CA$10)=0)) -> 0 | L17: =SUMPRODUCT(COUNTIF($L$10,$AW17:$CA17)*(WEEKDAY($AW$10:$CA$10,2)<6)*(COUNTIF(jours_fériés,$AW$10:$CA$10)=0)) -> 0 | M17: =SUMPRODUCT(COUNTIF($M$10,$AW17:$CA17)*(WEEKDAY($AW$10:$CA$10,2)<6)*(COUNTIF(jours_fériés,$AW$10:$CA$10)=0)) -> 0 | N17: =SUMPRODUCT(COUNTIF($N$10,$AW17:$CA17)*(WEEKDAY($AW$10:$CA$10,2)<6)*(COUNTIF(jours_fériés,$AW$10:$CA$10)=0)) -> 0 | O17: =SUMPRODUCT(COUNTIF($O$10,$AW17:$CA17)*(WEEKDAY($AW$10:$CA$10,2)<6)*(COUNTIF(jours_fériés,$AW$10:$CA$10)=0)) -> 0 | P17: =SUMPRODUCT(COUNTIF($P$10,$AW17:$CA17)*(WEEKDAY($AW$10:$CA$10,2)<6)*(COUNTIF(jours_fériés,$AW$10:$CA$10)=0)) -> 0 | Q17: =SUMPRODUCT(COUNTIF($Q$10,$AW17:$CA17)*(WEEKDAY($AW$10:$CA$10,2)<6)*(COUNTIF(jours_fériés,$AW$10:$CA$10)=0)) -> 0 | R17: =SUMPRODUCT(COUNTIF($R$10,$AW17:$CA17)*(WEEKDAY($AW$10:$CA$10,2)<6)*(COUNTIF(jours_fériés,$AW$10:$CA$10)=0)) -> 0 | S17: =SUMPRODUCT(COUNTIF($S$10,$AW17:$CA17)*(WEEKDAY($AW$10:$CA$10,2)<6)*(COUNTIF(jours_fériés,$AW$10:$CA$10)=0)) -> 0 | T17: =SUMPRODUCT(COUNTIF($T$10,$AW17:$CA17)*(WEEKDAY($AW$10:$CA$10,2)<6)*(COUNTIF(jours_fériés,$AW$10:$CA$10)=0)) -> 0 | U17: =SUMPRODUCT(COUNTIF($U$10,$AW17:$CA17)*(WEEKDAY($AW$10:$CA$10,2)<6)*(COUNTIF(jours_fériés,$AW$10:$CA$10)=0)) -> 0 | V17: =SUMPRODUCT(COUNTIF($V$10,$AW17:$CA17)*(WEEKDAY($AW$10:$CA$10,2)<6)*(COUNTIF(jours_fériés,$AW$10:$CA$10)=0)) -> 0 | W17: =SUMPRODUCT(COUNTIF($W$10,$AW17:$CA17)*(WEEKDAY($AW$10:$CA$10,2)<6)*(COUNTIF(jours_fériés,$AW$10:$CA$10)=0)) -> 0 | X17: =SUMPRODUCT(COUNTIF($X$10,$AW17:$CA17)*(WEEKDAY($AW$10:$CA$10,2)<6)*(COUNTIF(jours_fériés,$AW$10:$CA$10)=0)) -> 0 | Y17: =SUMPRODUCT(COUNTIF($Y$10,$AW17:$CA17)*(WEEKDAY($AW$10:$CA$10,2)<6)*(COUNTIF(jours_fériés,$AW$10:$CA$10)=0)) -> 0 | Z17: =SUMPRODUCT(COUNTIF($Z$10,$AW17:$CA17)*(WEEKDAY($AW$10:$CA$10,2)<6)*(COUNTIF(jours_fériés,$AW$10:$CA$10)=0)) -> 0 | AA17: =SUMPRODUCT(COUNTIF($AA$10,$AW17:$CA17)*(WEEKDAY($AW$10:$CA$10,2)<6)*(COUNTIF(jours_fériés,$AW$10:$CA$10)=0)) -> 0 | AB17: =($U$8)-SUM($J17:$AA17) -> 20 | AC17: =SUMPRODUCT(COUNTIF($AC$10,$AW17:$CA17)) -> 0 | AD17: =SUMPRODUCT(COUNTIF($AD$10,$AW17:$CA17)) -> 0 | AE17: =SUMPRODUCT(COUNTIF($AE$10,$AW17:$CA17)) -> 0 | AF17: =SUMPRODUCT(COUNTIF($AF$10,$AW17:$CA17)) -> 0 | AG17: =SUMPRODUCT(COUNTIF($AG$10,$AW17:$CA17)) -> 0 | AH17: =SUMPRODUCT(COUNTIF($AH$10,$AW17:$CA17)) -> 0 | AI17: =SUMPRODUCT(COUNTIF($AI$10,$AW17:$CA17)) -> 0 | AJ17: =SUMPRODUCT(COUNTIF($AJ$10,$AW17:$CA17)) -> 0 | AK17: =SUMPRODUCT(COUNTIF($AK$10,$AW17:$CA17)) -> 0 | AL17: =SUM($AF17:$AK17) -> 0 | AM17: =SUMPRODUCT(COUNTIF($AM$10,$AW17:$CA17)) -> 0 | AN17: =SUMPRODUCT(COUNTIF($AN$10,$AW17:$CA17)) -> 0 | AO17: =SUMPRODUCT(COUNTIF($AO$10,$AW17:$CA17)) -> 0 | AP17: =SUMPRODUCT(COUNTIF($AP$10,$AW17:$CA17)) -> 0 | AQ17: =SUMPRODUCT(COUNTIF($AQ$10,$AW17:$CA17)) -> 0 | AR17: =SUMPRODUCT(COUNTIF($AR$10,$AW17:$CA17)) -> 0 | AS17: =SUMPRODUCT(COUNTIF($AS$10,$AW17:$CA17)) -> 0 | AT17: =SUMPRODUCT(COUNTIF($AT$10,$AW17:$CA17)) -> 0 | AU17: =SUMPRODUCT(COUNTIF($AU$10,$AW17:$CA17)) -> 0 | AV17: =SUMPRODUCT(COUNTIF($AV$10,$AW17:$CA17)) -> 0
A18: =[1]PERSONNELS!B13 -> S1 | B18: =[1]PERSONNELS!C13 -> ADJ | E18: =[1]PERSONNELS!F13 -> CDS | G18: =$AW$8 -> 42675 | H18: =SUMPRODUCT(COUNTIF($H$10,$AW18:$CA18)*(WEEKDAY($AW$10:$CA$10,2)<6)*(COUNTIF(jours_fériés,$AW$10:$CA$10)=0)) -> 0 | I18: =SUMPRODUCT(COUNTIF($I$10,$AW18:$CA18)*(WEEKDAY($AW$10:$CA$10,2)<6)*(COUNTIF(jours_fériés,$AW$10:$CA$10)=0))/2 -> 0 | J18: =SUM(H18:I18) -> 0 | K18: =SUMPRODUCT(COUNTIF($K$10,$AW18:$CA18)*(WEEKDAY($AW$10:$CA$10,2)<6)*(COUNTIF(jours_fériés,$AW$10:$CA$10)=0)) -> 0 | L18: =SUMPRODUCT(COUNTIF($L$10,$AW18:$CA18)*(WEEKDAY($AW$10:$CA$10,2)<6)*(COUNTIF(jours_fériés,$AW$10:$CA$10)=0)) -> 0 | M18: =SUMPRODUCT(COUNTIF($M$10,$AW18:$CA18)*(WEEKDAY($AW$10:$CA$10,2)<6)*(COUNTIF(jours_fériés,$AW$10:$CA$10)=0)) -> 0 | N18: =SUMPRODUCT(COUNTIF($N$10,$AW18:$CA18)*(WEEKDAY($AW$10:$CA$10,2)<6)*(COUNTIF(jours_fériés,$AW$10:$CA$10)=0)) -> 0 | O18: =SUMPRODUCT(COUNTIF($O$10,$AW18:$CA18)*(WEEKDAY($AW$10:$CA$10,2)<6)*(COUNTIF(jours_fériés,$AW$10:$CA$10)=0)) -> 0 | P18: =SUMPRODUCT(COUNTIF($P$10,$AW18:$CA18)*(WEEKDAY($AW$10:$CA$10,2)<6)*(COUNTIF(jours_fériés,$AW$10:$CA$10)=0)) -> 0 | Q18: =SUMPRODUCT(COUNTIF($Q$10,$AW18:$CA18)*(WEEKDAY($AW$10:$CA$10,2)<6)*(COUNTIF(jours_fériés,$AW$10:$CA$10)=0)) -> 0 | R18: =SUMPRODUCT(COUNTIF($R$10,$AW18:$CA18)*(WEEKDAY($AW$10:$CA$10,2)<6)*(COUNTIF(jours_fériés,$AW$10:$CA$10)=0)) -> 0 | S18: =SUMPRODUCT(COUNTIF($S$10,$AW18:$CA18)*(WEEKDAY($AW$10:$CA$10,2)<6)*(COUNTIF(jours_fériés,$AW$10:$CA$10)=0)) -> 0 | T18: =SUMPRODUCT(COUNTIF($T$10,$AW18:$CA18)*(WEEKDAY($AW$10:$CA$10,2)<6)*(COUNTIF(jours_fériés,$AW$10:$CA$10)=0)) -> 0 | U18: =SUMPRODUCT(COUNTIF($U$10,$AW18:$CA18)*(WEEKDAY($AW$10:$CA$10,2)<6)*(COUNTIF(jours_fériés,$AW$10:$CA$10)=0)) -> 0 | V18: =SUMPRODUCT(COUNTIF($V$10,$AW18:$CA18)*(WEEKDAY($AW$10:$CA$10,2)<6)*(COUNTIF(jours_fériés,$AW$10:$CA$10)=0)) -> 0 | W18: =SUMPRODUCT(COUNTIF($W$10,$AW18:$CA18)*(WEEKDAY($AW$10:$CA$10,2)<6)*(COUNTIF(jours_fériés,$AW$10:$CA$10)=0)) -> 0 | X18: =SUMPRODUCT(COUNTIF($X$10,$AW18:$CA18)*(WEEKDAY($AW$10:$CA$10,2)<6)*(COUNTIF(jours_fériés,$AW$10:$CA$10)=0)) -> 0 | Y18: =SUMPRODUCT(COUNTIF($Y$10,$AW18:$CA18)*(WEEKDAY($AW$10:$CA$10,2)<6)*(COUNTIF(jours_fériés,$AW$10:$CA$10)=0)) -> 0 | Z18: =SUMPRODUCT(COUNTIF($Z$10,$AW18:$CA18)*(WEEKDAY($AW$10:$CA$10,2)<6)*(COUNTIF(jours_fériés,$AW$10:$CA$10)=0)) -> 0 | AA18: =SUMPRODUCT(COUNTIF($AA$10,$AW18:$CA18)*(WEEKDAY($AW$10:$CA$10,2)<6)*(COUNTIF(jours_fériés,$AW$10:$CA$10)=0)) -> 0 | AB18: =($U$8)-SUM($J18:$AA18) -> 20 | AC18: =SUMPRODUCT(COUNTIF($AC$10,$AW18:$CA18)) -> 0 | AD18: =SUMPRODUCT(COUNTIF($AD$10,$AW18:$CA18)) -> 0 | AE18: =SUMPRODUCT(COUNTIF($AE$10,$AW18:$CA18)) -> 0 | AF18: =SUMPRODUCT(COUNTIF($AF$10,$AW18:$CA18)) -> 0 | AG18: =SUMPRODUCT(COUNTIF($AG$10,$AW18:$CA18)) -> 0 | AH18: =SUMPRODUCT(COUNTIF($AH$10,$AW18:$CA18)) -> 0 | AI18: =SUMPRODUCT(COUNTIF($AI$10,$AW18:$CA18)) -> 0 | AJ18: =SUMPRODUCT(COUNTIF($AJ$10,$AW18:$CA18)) -> 0 | AK18: =SUMPRODUCT(COUNTIF($AK$10,$AW18:$CA18)) -> 0 | AL18: =SUM($AF18:$AK18) -> 0 | AM18: =SUMPRODUCT(COUNTIF($AM$10,$AW18:$CA18)) -> 0 | AN18: =SUMPRODUCT(COUNTIF($AN$10,$AW18:$CA18)) -> 0 | AO18: =SUMPRODUCT(COUNTIF($AO$10,$AW18:$CA18)) -> 0 | AP18: =SUMPRODUCT(COUNTIF($AP$10,$AW18:$CA18)) -> 0 | AQ18: =SUMPRODUCT(COUNTIF($AQ$10,$AW18:$CA18)) -> 0 | AR18: =SUMPRODUCT(COUNTIF($AR$10,$AW18:$CA18)) -> 0 | AS18: =SUMPRODUCT(COUNTIF($AS$10,$AW18:$CA18)) -> 0 | AT18: =SUMPRODUCT(COUNTIF($AT$10,$AW18:$CA18)) -> 0 | AU18: =SUMPRODUCT(COUNTIF($AU$10,$AW18:$CA18)) -> 0 | AV18: =SUMPRODUCT(COUNTIF($AV$10,$AW18:$CA18)) -> 0
A19: =[1]PERSONNELS!B14 -> S1 | B19: =[1]PERSONNELS!C14 -> SGT | E19: =[1]PERSONNELS!F14 -> 0 | G19: =$AW$8 -> 42675 | H19: =SUMPRODUCT(COUNTIF($H$10,$AW19:$CA19)*(WEEKDAY($AW$10:$CA$10,2)<6)*(COUNTIF(jours_fériés,$AW$10:$CA$10)=0)) -> 0 | I19: =SUMPRODUCT(COUNTIF($I$10,$AW19:$CA19)*(WEEKDAY($AW$10:$CA$10,2)<6)*(COUNTIF(jours_fériés,$AW$10:$CA$10)=0))/2 -> 0 | J19: =SUM(H19:I19) -> 0 | K19: =SUMPRODUCT(COUNTIF($K$10,$AW19:$CA19)*(WEEKDAY($AW$10:$CA$10,2)<6)*(COUNTIF(jours_fériés,$AW$10:$CA$10)=0)) -> 0 | L19: =SUMPRODUCT(COUNTIF($L$10,$AW19:$CA19)*(WEEKDAY($AW$10:$CA$10,2)<6)*(COUNTIF(jours_fériés,$AW$10:$CA$10)=0)) -> 0 | M19: =SUMPRODUCT(COUNTIF($M$10,$AW19:$CA19)*(WEEKDAY($AW$10:$CA$10,2)<6)*(COUNTIF(jours_fériés,$AW$10:$CA$10)=0)) -> 0 | N19: =SUMPRODUCT(COUNTIF($N$10,$AW19:$CA19)*(WEEKDAY($AW$10:$CA$10,2)<6)*(COUNTIF(jours_fériés,$AW$10:$CA$10)=0)) -> 0 | O19: =SUMPRODUCT(COUNTIF($O$10,$AW19:$CA19)*(WEEKDAY($AW$10:$CA$10,2)<6)*(COUNTIF(jours_fériés,$AW$10:$CA$10)=0)) -> 0 | P19: =SUMPRODUCT(COUNTIF($P$10,$AW19:$CA19)*(WEEKDAY($AW$10:$CA$10,2)<6)*(COUNTIF(jours_fériés,$AW$10:$CA$10)=0)) -> 0 | Q19: =SUMPRODUCT(COUNTIF($Q$10,$AW19:$CA19)*(WEEKDAY($AW$10:$CA$10,2)<6)*(COUNTIF(jours_fériés,$AW$10:$CA$10)=0)) -> 0 | R19: =SUMPRODUCT(COUNTIF($R$10,$AW19:$CA19)*(WEEKDAY($AW$10:$CA$10,2)<6)*(COUNTIF(jours_fériés,$AW$10:$CA$10)=0)) -> 0 | S19: =SUMPRODUCT(COUNTIF($S$10,$AW19:$CA19)*(WEEKDAY($AW$10:$CA$10,2)<6)*(COUNTIF(jours_fériés,$AW$10:$CA$10)=0)) -> 0 | T19: =SUMPRODUCT(COUNTIF($T$10,$AW19:$CA19)*(WEEKDAY($AW$10:$CA$10,2)<6)*(COUNTIF(jours_fériés,$AW$10:$CA$10)=0)) -> 0 | U19: =SUMPRODUCT(COUNTIF($U$10,$AW19:$CA19)*(WEEKDAY($AW$10:$CA$10,2)<6)*(COUNTIF(jours_fériés,$AW$10:$CA$10)=0)) -> 0 | V19: =SUMPRODUCT(COUNTIF($V$10,$AW19:$CA19)*(WEEKDAY($AW$10:$CA$10,2)<6)*(COUNTIF(jours_fériés,$AW$10:$CA$10)=0)) -> 0 | W19: =SUMPRODUCT(COUNTIF($W$10,$AW19:$CA19)*(WEEKDAY($AW$10:$CA$10,2)<6)*(COUNTIF(jours_fériés,$AW$10:$CA$10)=0)) -> 0 | X19: =SUMPRODUCT(COUNTIF($X$10,$AW19:$CA19)*(WEEKDAY($AW$10:$CA$10,2)<6)*(COUNTIF(jours_fériés,$AW$10:$CA$10)=0)) -> 0 | Y19: =SUMPRODUCT(COUNTIF($Y$10,$AW19:$CA19)*(WEEKDAY($AW$10:$CA$10,2)<6)*(COUNTIF(jours_fériés,$AW$10:$CA$10)=0)) -> 0 | Z19: =SUMPRODUCT(COUNTIF($Z$10,$AW19:$CA19)*(WEEKDAY($AW$10:$CA$10,2)<6)*(COUNTIF(jours_fériés,$AW$10:$CA$10)=0)) -> 0 | AA19: =SUMPRODUCT(COUNTIF($AA$10,$AW19:$CA19)*(WEEKDAY($AW$10:$CA$10,2)<6)*(COUNTIF(jours_fériés,$AW$10:$CA$10)=0)) -> 0 | AB19: =($U$8)-SUM($J19:$AA19) -> 20 | AC19: =SUMPRODUCT(COUNTIF($AC$10,$AW19:$CA19)) -> 0 | AD19: =SUMPRODUCT(COUNTIF($AD$10,$AW19:$CA19)) -> 0 | AE19: =SUMPRODUCT(COUNTIF($AE$10,$AW19:$CA19)) -> 0 | AF19: =SUMPRODUCT(COUNTIF($AF$10,$AW19:$CA19)) -> 0 | AG19: =SUMPRODUCT(COUNTIF($AG$10,$AW19:$CA19)) -> 0 | AH19: =SUMPRODUCT(COUNTIF($AH$10,$AW19:$CA19)) -> 0 | AI19: =SUMPRODUCT(COUNTIF($AI$10,$AW19:$CA19)) -> 0 | AJ19: =SUMPRODUCT(COUNTIF($AJ$10,$AW19:$CA19)) -> 0 | AK19: =SUMPRODUCT(COUNTIF($AK$10,$AW19:$CA19)) -> 0 | AL19: =SUM($AF19:$AK19) -> 0 | AM19: =SUMPRODUCT(COUNTIF($AM$10,$AW19:$CA19)) -> 0 | AN19: =SUMPRODUCT(COUNTIF($AN$10,$AW19:$CA19)) -> 0 | AO19: =SUMPRODUCT(COUNTIF($AO$10,$AW19:$CA19)) -> 0 | AP19: =SUMPRODUCT(COUNTIF($AP$10,$AW19:$CA19)) -> 0 | AQ19: =SUMPRODUCT(COUNTIF($AQ$10,$AW19:$CA19)) -> 0 | AR19: =SUMPRODUCT(COUNTIF($AR$10,$AW19:$CA19)) -> 0 | AS19: =SUMPRODUCT(COUNTIF($AS$10,$AW19:$CA19)) -> 0 | AT19: =SUMPRODUCT(COUNTIF($AT$10,$AW19:$CA19)) -> 0 | AU19: =SUMPRODUCT(COUNTIF($AU$10,$AW19:$CA19)) -> 0 | AV19: =SUMPRODUCT(COUNTIF($AV$10,$AW19:$CA19)) -> 0
A20: =[1]PERSONNELS!B15 -> S1 | B20: =[1]PERSONNELS!C15 -> SGT | E20: =[1]PERSONNELS!F15 -> 0 | G20: =$AW$8 -> 42675 | H20: =SUMPRODUCT(COUNTIF($H$10,$AW20:$CA20)*(WEEKDAY($AW$10:$CA$10,2)<6)*(COUNTIF(jours_fériés,$AW$10:$CA$10)=0)) -> 0 | I20: =SUMPRODUCT(COUNTIF($I$10,$AW20:$CA20)*(WEEKDAY($AW$10:$CA$10,2)<6)*(COUNTIF(jours_fériés,$AW$10:$CA$10)=0))/2 -> 0 | J20: =SUM(H20:I20) -> 0 | K20: =SUMPRODUCT(COUNTIF($K$10,$AW20:$CA20)*(WEEKDAY($AW$10:$CA$10,2)<6)*(COUNTIF(jours_fériés,$AW$10:$CA$10)=0)) -> 0 | L20: =SUMPRODUCT(COUNTIF($L$10,$AW20:$CA20)*(WEEKDAY($AW$10:$CA$10,2)<6)*(COUNTIF(jours_fériés,$AW$10:$CA$10)=0)) -> 0 | M20: =SUMPRODUCT(COUNTIF($M$10,$AW20:$CA20)*(WEEKDAY($AW$10:$CA$10,2)<6)*(COUNTIF(jours_fériés,$AW$10:$CA$10)=0)) -> 0 | N20: =SUMPRODUCT(COUNTIF($N$10,$AW20:$CA20)*(WEEKDAY($AW$10:$CA$10,2)<6)*(COUNTIF(jours_fériés,$AW$10:$CA$10)=0)) -> 0 | O20: =SUMPRODUCT(COUNTIF($O$10,$AW20:$CA20)*(WEEKDAY($AW$10:$CA$10,2)<6)*(COUNTIF(jours_fériés,$AW$10:$CA$10)=0)) -> 0 | P20: =SUMPRODUCT(COUNTIF($P$10,$AW20:$CA20)*(WEEKDAY($AW$10:$CA$10,2)<6)*(COUNTIF(jours_fériés,$AW$10:$CA$10)=0)) -> 0 | Q20: =SUMPRODUCT(COUNTIF($Q$10,$AW20:$CA20)*(WEEKDAY($AW$10:$CA$10,2)<6)*(COUNTIF(jours_fériés,$AW$10:$CA$10)=0)) -> 0 | R20: =SUMPRODUCT(COUNTIF($R$10,$AW20:$CA20)*(WEEKDAY($AW$10:$CA$10,2)<6)*(COUNTIF(jours_fériés,$AW$10:$CA$10)=0)) -> 0 | S20: =SUMPRODUCT(COUNTIF($S$10,$AW20:$CA20)*(WEEKDAY($AW$10:$CA$10,2)<6)*(COUNTIF(jours_fériés,$AW$10:$CA$10)=0)) -> 0 | T20: =SUMPRODUCT(COUNTIF($T$10,$AW20:$CA20)*(WEEKDAY($AW$10:$CA$10,2)<6)*(COUNTIF(jours_fériés,$AW$10:$CA$10)=0)) -> 0 | U20: =SUMPRODUCT(COUNTIF($U$10,$AW20:$CA20)*(WEEKDAY($AW$10:$CA$10,2)<6)*(COUNTIF(jours_fériés,$AW$10:$CA$10)=0)) -> 0 | V20: =SUMPRODUCT(COUNTIF($V$10,$AW20:$CA20)*(WEEKDAY($AW$10:$CA$10,2)<6)*(COUNTIF(jours_fériés,$AW$10:$CA$10)=0)) -> 0 | W20: =SUMPRODUCT(COUNTIF($W$10,$AW20:$CA20)*(WEEKDAY($AW$10:$CA$10,2)<6)*(COUNTIF(jours_fériés,$AW$10:$CA$10)=0)) -> 0 | X20: =SUMPRODUCT(COUNTIF($X$10,$AW20:$CA20)*(WEEKDAY($AW$10:$CA$10,2)<6)*(COUNTIF(jours_fériés,$AW$10:$CA$10)=0)) -> 0 | Y20: =SUMPRODUCT(COUNTIF($Y$10,$AW20:$CA20)*(WEEKDAY($AW$10:$CA$10,2)<6)*(COUNTIF(jours_fériés,$AW$10:$CA$10)=0)) -> 0 | Z20: =SUMPRODUCT(COUNTIF($Z$10,$AW20:$CA20)*(WEEKDAY($AW$10:$CA$10,2)<6)*(COUNTIF(jours_fériés,$AW$10:$CA$10)=0)) -> 0 | AA20: =SUMPRODUCT(COUNTIF($AA$10,$AW20:$CA20)*(WEEKDAY($AW$10:$CA$10,2)<6)*(COUNTIF(jours_fériés,$AW$10:$CA$10)=0)) -> 0 | AB20: =($U$8)-SUM($J20:$AA20) -> 20 | AC20: =SUMPRODUCT(COUNTIF($AC$10,$AW20:$CA20)) -> 0 | AD20: =SUMPRODUCT(COUNTIF($AD$10,$AW20:$CA20)) -> 0 | AE20: =SUMPRODUCT(COUNTIF($AE$10,$AW20:$CA20)) -> 0 | AF20: =SUMPRODUCT(COUNTIF($AF$10,$AW20:$CA20)) -> 0 | AG20: =SUMPRODUCT(COUNTIF($AG$10,$AW20:$CA20)) -> 0 | AH20: =SUMPRODUCT(COUNTIF($AH$10,$AW20:$CA20)) -> 0 | AI20: =SUMPRODUCT(COUNTIF($AI$10,$AW20:$CA20)) -> 0 | AJ20: =SUMPRODUCT(COUNTIF($AJ$10,$AW20:$CA20)) -> 0 | AK20: =SUMPRODUCT(COUNTIF($AK$10,$AW20:$CA20)) -> 0 | AL20: =SUM($AF20:$AK20) -> 0 | AM20: =SUMPRODUCT(COUNTIF($AM$10,$AW20:$CA20)) -> 0 | AN20: =SUMPRODUCT(COUNTIF($AN$10,$AW20:$CA20)) -> 0 | AO20: =SUMPRODUCT(COUNTIF($AO$10,$AW20:$CA20)) -> 0 | AP20: =SUMPRODUCT(COUNTIF($AP$10,$AW20:$CA20)) -> 0 | AQ20: =SUMPRODUCT(COUNTIF($AQ$10,$AW20:$CA20)) -> 0 | AR20: =SUMPRODUCT(COUNTIF($AR$10,$AW20:$CA20)) -> 0 | AS20: =SUMPRODUCT(COUNTIF($AS$10,$AW20:$CA20)) -> 0 | AT20: =SUMPRODUCT(COUNTIF($AT$10,$AW20:$CA20)) -> 0 | AU20: =SUMPRODUCT(COUNTIF($AU$10,$AW20:$CA20)) -> 0 | AV20: =SUMPRODUCT(COUNTIF($AV$10,$AW20:$CA20)) -> 0
A21: =[1]PERSONNELS!B16 -> S1 | B21: =[1]PERSONNELS!C16 -> SGT | E21: =[1]PERSONNELS!F16 -> 0 | G21: =$AW$8 -> 42675 | H21: =SUMPRODUCT(COUNTIF($H$10,$AW21:$CA21)*(WEEKDAY($AW$10:$CA$10,2)<6)*(COUNTIF(jours_fériés,$AW$10:$CA$10)=0)) -> 0 | I21: =SUMPRODUCT(COUNTIF($I$10,$AW21:$CA21)*(WEEKDAY($AW$10:$CA$10,2)<6)*(COUNTIF(jours_fériés,$AW$10:$CA$10)=0))/2 -> 0 | J21: =SUM(H21:I21) -> 0 | K21: =SUMPRODUCT(COUNTIF($K$10,$AW21:$CA21)*(WEEKDAY($AW$10:$CA$10,2)<6)*(COUNTIF(jours_fériés,$AW$10:$CA$10)=0)) -> 0 | L21: =SUMPRODUCT(COUNTIF($L$10,$AW21:$CA21)*(WEEKDAY($AW$10:$CA$10,2)<6)*(COUNTIF(jours_fériés,$AW$10:$CA$10)=0)) -> 0 | M21: =SUMPRODUCT(COUNTIF($M$10,$AW21:$CA21)*(WEEKDAY($AW$10:$CA$10,2)<6)*(COUNTIF(jours_fériés,$AW$10:$CA$10)=0)) -> 0 | N21: =SUMPRODUCT(COUNTIF($N$10,$AW21:$CA21)*(WEEKDAY($AW$10:$CA$10,2)<6)*(COUNTIF(jours_fériés,$AW$10:$CA$10)=0)) -> 0 | O21: =SUMPRODUCT(COUNTIF($O$10,$AW21:$CA21)*(WEEKDAY($AW$10:$CA$10,2)<6)*(COUNTIF(jours_fériés,$AW$10:$CA$10)=0)) -> 0 | P21: =SUMPRODUCT(COUNTIF($P$10,$AW21:$CA21)*(WEEKDAY($AW$10:$CA$10,2)<6)*(COUNTIF(jours_fériés,$AW$10:$CA$10)=0)) -> 0 | Q21: =SUMPRODUCT(COUNTIF($Q$10,$AW21:$CA21)*(WEEKDAY($AW$10:$CA$10,2)<6)*(COUNTIF(jours_fériés,$AW$10:$CA$10)=0)) -> 0 | R21: =SUMPRODUCT(COUNTIF($R$10,$AW21:$CA21)*(WEEKDAY($AW$10:$CA$10,2)<6)*(COUNTIF(jours_fériés,$AW$10:$CA$10)=0)) -> 0 | S21: =SUMPRODUCT(COUNTIF($S$10,$AW21:$CA21)*(WEEKDAY($AW$10:$CA$10,2)<6)*(COUNTIF(jours_fériés,$AW$10:$CA$10)=0)) -> 0 | T21: =SUMPRODUCT(COUNTIF($T$10,$AW21:$CA21)*(WEEKDAY($AW$10:$CA$10,2)<6)*(COUNTIF(jours_fériés,$AW$10:$CA$10)=0)) -> 0 | U21: =SUMPRODUCT(COUNTIF($U$10,$AW21:$CA21)*(WEEKDAY($AW$10:$CA$10,2)<6)*(COUNTIF(jours_fériés,$AW$10:$CA$10)=0)) -> 0 | V21: =SUMPRODUCT(COUNTIF($V$10,$AW21:$CA21)*(WEEKDAY($AW$10:$CA$10,2)<6)*(COUNTIF(jours_fériés,$AW$10:$CA$10)=0)) -> 0 | W21: =SUMPRODUCT(COUNTIF($W$10,$AW21:$CA21)*(WEEKDAY($AW$10:$CA$10,2)<6)*(COUNTIF(jours_fériés,$AW$10:$CA$10)=0)) -> 0 | X21: =SUMPRODUCT(COUNTIF($X$10,$AW21:$CA21)*(WEEKDAY($AW$10:$CA$10,2)<6)*(COUNTIF(jours_fériés,$AW$10:$CA$10)=0)) -> 0 | Y21: =SUMPRODUCT(COUNTIF($Y$10,$AW21:$CA21)*(WEEKDAY($AW$10:$CA$10,2)<6)*(COUNTIF(jours_fériés,$AW$10:$CA$10)=0)) -> 0 | Z21: =SUMPRODUCT(COUNTIF($Z$10,$AW21:$CA21)*(WEEKDAY($AW$10:$CA$10,2)<6)*(COUNTIF(jours_fériés,$AW$10:$CA$10)=0)) -> 0 | AA21: =SUMPRODUCT(COUNTIF($AA$10,$AW21:$CA21)*(WEEKDAY($AW$10:$CA$10,2)<6)*(COUNTIF(jours_fériés,$AW$10:$CA$10)=0)) -> 0 | AB21: =($U$8)-SUM($J21:$AA21) -> 20 | AC21: =SUMPRODUCT(COUNTIF($AC$10,$AW21:$CA21)) -> 0 | AD21: =SUMPRODUCT(COUNTIF($AD$10,$AW21:$CA21)) -> 0 | AE21: =SUMPRODUCT(COUNTIF($AE$10,$AW21:$CA21)) -> 0 | AF21: =SUMPRODUCT(COUNTIF($AF$10,$AW21:$CA21)) -> 0 | AG21: =SUMPRODUCT(COUNTIF($AG$10,$AW21:$CA21)) -> 0 | AH21: =SUMPRODUCT(COUNTIF($AH$10,$AW21:$CA21)) -> 0 | AI21: =SUMPRODUCT(COUNTIF($AI$10,$AW21:$CA21)) -> 0 | AJ21: =SUMPRODUCT(COUNTIF($AJ$10,$AW21:$CA21)) -> 0 | AK21: =SUMPRODUCT(COUNTIF($AK$10,$AW21:$CA21)) -> 0 | AL21: =SUM($AF21:$AK21) -> 0 | AM21: =SUMPRODUCT(COUNTIF($AM$10,$AW21:$CA21)) -> 0 | AN21: =SUMPRODUCT(COUNTIF($AN$10,$AW21:$CA21)) -> 0 | AO21: =SUMPRODUCT(COUNTIF($AO$10,$AW21:$CA21)) -> 0 | AP21: =SUMPRODUCT(COUNTIF($AP$10,$AW21:$CA21)) -> 0 | AQ21: =SUMPRODUCT(COUNTIF($AQ$10,$AW21:$CA21)) -> 0 | AR21: =SUMPRODUCT(COUNTIF($AR$10,$AW21:$CA21)) -> 0 | AS21: =SUMPRODUCT(COUNTIF($AS$10,$AW21:$CA21)) -> 0 | AT21: =SUMPRODUCT(COUNTIF($AT$10,$AW21:$CA21)) -> 0 | AU21: =SUMPRODUCT(COUNTIF($AU$10,$AW21:$CA21)) -> 0 | AV21: =SUMPRODUCT(COUNTIF($AV$10,$AW21:$CA21)) -> 0
A22: =[1]PERSONNELS!B17 -> S1 | B22: =[1]PERSONNELS!C17 -> SGT | E22: =[1]PERSONNELS!F17 -> 0 | G22: =$AW$8 -> 42675 | H22: =SUMPRODUCT(COUNTIF($H$10,$AW22:$CA22)*(WEEKDAY($AW$10:$CA$10,2)<6)*(COUNTIF(jours_fériés,$AW$10:$CA$10)=0)) -> 0 | I22: =SUMPRODUCT(COUNTIF($I$10,$AW22:$CA22)*(WEEKDAY($AW$10:$CA$10,2)<6)*(COUNTIF(jours_fériés,$AW$10:$CA$10)=0))/2 -> 0 | J22: =SUM(H22:I22) -> 0 | K22: =SUMPRODUCT(COUNTIF($K$10,$AW22:$CA22)*(WEEKDAY($AW$10:$CA$10,2)<6)*(COUNTIF(jours_fériés,$AW$10:$CA$10)=0)) -> 0 | L22: =SUMPRODUCT(COUNTIF($L$10,$AW22:$CA22)*(WEEKDAY($AW$10:$CA$10,2)<6)*(COUNTIF(jours_fériés,$AW$10:$CA$10)=0)) -> 0 | M22: =SUMPRODUCT(COUNTIF($M$10,$AW22:$CA22)*(WEEKDAY($AW$10:$CA$10,2)<6)*(COUNTIF(jours_fériés,$AW$10:$CA$10)=0)) -> 0 | N22: =SUMPRODUCT(COUNTIF($N$10,$AW22:$CA22)*(WEEKDAY($AW$10:$CA$10,2)<6)*(COUNTIF(jours_fériés,$AW$10:$CA$10)=0)) -> 0 | O22: =SUMPRODUCT(COUNTIF($O$10,$AW22:$CA22)*(WEEKDAY($AW$10:$CA$10,2)<6)*(COUNTIF(jours_fériés,$AW$10:$CA$10)=0)) -> 0 | P22: =SUMPRODUCT(COUNTIF($P$10,$AW22:$CA22)*(WEEKDAY($AW$10:$CA$10,2)<6)*(COUNTIF(jours_fériés,$AW$10:$CA$10)=0)) -> 0 | Q22: =SUMPRODUCT(COUNTIF($Q$10,$AW22:$CA22)*(WEEKDAY($AW$10:$CA$10,2)<6)*(COUNTIF(jours_fériés,$AW$10:$CA$10)=0)) -> 0 | R22: =SUMPRODUCT(COUNTIF($R$10,$AW22:$CA22)*(WEEKDAY($AW$10:$CA$10,2)<6)*(COUNTIF(jours_fériés,$AW$10:$CA$10)=0)) -> 0 | S22: =SUMPRODUCT(COUNTIF($S$10,$AW22:$CA22)*(WEEKDAY($AW$10:$CA$10,2)<6)*(COUNTIF(jours_fériés,$AW$10:$CA$10)=0)) -> 0 | T22: =SUMPRODUCT(COUNTIF($T$10,$AW22:$CA22)*(WEEKDAY($AW$10:$CA$10,2)<6)*(COUNTIF(jours_fériés,$AW$10:$CA$10)=0)) -> 0 | U22: =SUMPRODUCT(COUNTIF($U$10,$AW22:$CA22)*(WEEKDAY($AW$10:$CA$10,2)<6)*(COUNTIF(jours_fériés,$AW$10:$CA$10)=0)) -> 0 | V22: =SUMPRODUCT(COUNTIF($V$10,$AW22:$CA22)*(WEEKDAY($AW$10:$CA$10,2)<6)*(COUNTIF(jours_fériés,$AW$10:$CA$10)=0)) -> 0 | W22: =SUMPRODUCT(COUNTIF($W$10,$AW22:$CA22)*(WEEKDAY($AW$10:$CA$10,2)<6)*(COUNTIF(jours_fériés,$AW$10:$CA$10)=0)) -> 0 | X22: =SUMPRODUCT(COUNTIF($X$10,$AW22:$CA22)*(WEEKDAY($AW$10:$CA$10,2)<6)*(COUNTIF(jours_fériés,$AW$10:$CA$10)=0)) -> 0 | Y22: =SUMPRODUCT(COUNTIF($Y$10,$AW22:$CA22)*(WEEKDAY($AW$10:$CA$10,2)<6)*(COUNTIF(jours_fériés,$AW$10:$CA$10)=0)) -> 0 | Z22: =SUMPRODUCT(COUNTIF($Z$10,$AW22:$CA22)*(WEEKDAY($AW$10:$CA$10,2)<6)*(COUNTIF(jours_fériés,$AW$10:$CA$10)=0)) -> 0 | AA22: =SUMPRODUCT(COUNTIF($AA$10,$AW22:$CA22)*(WEEKDAY($AW$10:$CA$10,2)<6)*(COUNTIF(jours_fériés,$AW$10:$CA$10)=0)) -> 0 | AB22: =($U$8)-SUM($J22:$AA22) -> 20 | AC22: =SUMPRODUCT(COUNTIF($AC$10,$AW22:$CA22)) -> 0 | AD22: =SUMPRODUCT(COUNTIF($AD$10,$AW22:$CA22)) -> 0 | AE22: =SUMPRODUCT(COUNTIF($AE$10,$AW22:$CA22)) -> 0 | AF22: =SUMPRODUCT(COUNTIF($AF$10,$AW22:$CA22)) -> 0 | AG22: =SUMPRODUCT(COUNTIF($AG$10,$AW22:$CA22)) -> 0 | AH22: =SUMPRODUCT(COUNTIF($AH$10,$AW22:$CA22)) -> 0 | AI22: =SUMPRODUCT(COUNTIF($AI$10,$AW22:$CA22)) -> 0 | AJ22: =SUMPRODUCT(COUNTIF($AJ$10,$AW22:$CA22)) -> 0 | AK22: =SUMPRODUCT(COUNTIF($AK$10,$AW22:$CA22)) -> 0 | AL22: =SUM($AF22:$AK22) -> 0 | AM22: =SUMPRODUCT(COUNTIF($AM$10,$AW22:$CA22)) -> 0 | AN22: =SUMPRODUCT(COUNTIF($AN$10,$AW22:$CA22)) -> 0 | AO22: =SUMPRODUCT(COUNTIF($AO$10,$AW22:$CA22)) -> 0 | AP22: =SUMPRODUCT(COUNTIF($AP$10,$AW22:$CA22)) -> 0 | AQ22: =SUMPRODUCT(COUNTIF($AQ$10,$AW22:$CA22)) -> 0 | AR22: =SUMPRODUCT(COUNTIF($AR$10,$AW22:$CA22)) -> 0 | AS22: =SUMPRODUCT(COUNTIF($AS$10,$AW22:$CA22)) -> 0 | AT22: =SUMPRODUCT(COUNTIF($AT$10,$AW22:$CA22)) -> 0 | AU22: =SUMPRODUCT(COUNTIF($AU$10,$AW22:$CA22)) -> 0 | AV22: =SUMPRODUCT(COUNTIF($AV$10,$AW22:$CA22)) -> 0
A23: =[1]PERSONNELS!B18 -> S1 | B23: =[1]PERSONNELS!C18 -> CC1 | E23: =[1]PERSONNELS!F18 -> 0 | G23: =$AW$8 -> 42675 | H23: =SUMPRODUCT(COUNTIF($H$10,$AW23:$CA23)*(WEEKDAY($AW$10:$CA$10,2)<6)*(COUNTIF(jours_fériés,$AW$10:$CA$10)=0)) -> 0 | I23: =SUMPRODUCT(COUNTIF($I$10,$AW23:$CA23)*(WEEKDAY($AW$10:$CA$10,2)<6)*(COUNTIF(jours_fériés,$AW$10:$CA$10)=0))/2 -> 0 | J23: =SUM(H23:I23) -> 0 | K23: =SUMPRODUCT(COUNTIF($K$10,$AW23:$CA23)*(WEEKDAY($AW$10:$CA$10,2)<6)*(COUNTIF(jours_fériés,$AW$10:$CA$10)=0)) -> 0 | L23: =SUMPRODUCT(COUNTIF($L$10,$AW23:$CA23)*(WEEKDAY($AW$10:$CA$10,2)<6)*(COUNTIF(jours_fériés,$AW$10:$CA$10)=0)) -> 0 | M23: =SUMPRODUCT(COUNTIF($M$10,$AW23:$CA23)*(WEEKDAY($AW$10:$CA$10,2)<6)*(COUNTIF(jours_fériés,$AW$10:$CA$10)=0)) -> 0 | N23: =SUMPRODUCT(COUNTIF($N$10,$AW23:$CA23)*(WEEKDAY($AW$10:$CA$10,2)<6)*(COUNTIF(jours_fériés,$AW$10:$CA$10)=0)) -> 0 | O23: =SUMPRODUCT(COUNTIF($O$10,$AW23:$CA23)*(WEEKDAY($AW$10:$CA$10,2)<6)*(COUNTIF(jours_fériés,$AW$10:$CA$10)=0)) -> 0 | P23: =SUMPRODUCT(COUNTIF($P$10,$AW23:$CA23)*(WEEKDAY($AW$10:$CA$10,2)<6)*(COUNTIF(jours_fériés,$AW$10:$CA$10)=0)) -> 0 | Q23: =SUMPRODUCT(COUNTIF($Q$10,$AW23:$CA23)*(WEEKDAY($AW$10:$CA$10,2)<6)*(COUNTIF(jours_fériés,$AW$10:$CA$10)=0)) -> 0 | R23: =SUMPRODUCT(COUNTIF($R$10,$AW23:$CA23)*(WEEKDAY($AW$10:$CA$10,2)<6)*(COUNTIF(jours_fériés,$AW$10:$CA$10)=0)) -> 0 | S23: =SUMPRODUCT(COUNTIF($S$10,$AW23:$CA23)*(WEEKDAY($AW$10:$CA$10,2)<6)*(COUNTIF(jours_fériés,$AW$10:$CA$10)=0)) -> 0 | T23: =SUMPRODUCT(COUNTIF($T$10,$AW23:$CA23)*(WEEKDAY($AW$10:$CA$10,2)<6)*(COUNTIF(jours_fériés,$AW$10:$CA$10)=0)) -> 0 | U23: =SUMPRODUCT(COUNTIF($U$10,$AW23:$CA23)*(WEEKDAY($AW$10:$CA$10,2)<6)*(COUNTIF(jours_fériés,$AW$10:$CA$10)=0)) -> 0 | V23: =SUMPRODUCT(COUNTIF($V$10,$AW23:$CA23)*(WEEKDAY($AW$10:$CA$10,2)<6)*(COUNTIF(jours_fériés,$AW$10:$CA$10)=0)) -> 0 | W23: =SUMPRODUCT(COUNTIF($W$10,$AW23:$CA23)*(WEEKDAY($AW$10:$CA$10,2)<6)*(COUNTIF(jours_fériés,$AW$10:$CA$10)=0)) -> 0 | X23: =SUMPRODUCT(COUNTIF($X$10,$AW23:$CA23)*(WEEKDAY($AW$10:$CA$10,2)<6)*(COUNTIF(jours_fériés,$AW$10:$CA$10)=0)) -> 0 | Y23: =SUMPRODUCT(COUNTIF($Y$10,$AW23:$CA23)*(WEEKDAY($AW$10:$CA$10,2)<6)*(COUNTIF(jours_fériés,$AW$10:$CA$10)=0)) -> 0 | Z23: =SUMPRODUCT(COUNTIF($Z$10,$AW23:$CA23)*(WEEKDAY($AW$10:$CA$10,2)<6)*(COUNTIF(jours_fériés,$AW$10:$CA$10)=0)) -> 0 | AA23: =SUMPRODUCT(COUNTIF($AA$10,$AW23:$CA23)*(WEEKDAY($AW$10:$CA$10,2)<6)*(COUNTIF(jours_fériés,$AW$10:$CA$10)=0)) -> 0 | AB23: =($U$8)-SUM($J23:$AA23) -> 20 | AC23: =SUMPRODUCT(COUNTIF($AC$10,$AW23:$CA23)) -> 0 | AD23: =SUMPRODUCT(COUNTIF($AD$10,$AW23:$CA23)) -> 0 | AE23: =SUMPRODUCT(COUNTIF($AE$10,$AW23:$CA23)) -> 0 | AF23: =SUMPRODUCT(COUNTIF($AF$10,$AW23:$CA23)) -> 0 | AG23: =SUMPRODUCT(COUNTIF($AG$10,$AW23:$CA23)) -> 0 | AH23: =SUMPRODUCT(COUNTIF($AH$10,$AW23:$CA23)) -> 0 | AI23: =SUMPRODUCT(COUNTIF($AI$10,$AW23:$CA23)) -> 0 | AJ23: =SUMPRODUCT(COUNTIF($AJ$10,$AW23:$CA23)) -> 0 | AK23: =SUMPRODUCT(COUNTIF($AK$10,$AW23:$CA23)) -> 0 | AL23: =SUM($AF23:$AK23) -> 0 | AM23: =SUMPRODUCT(COUNTIF($AM$10,$AW23:$CA23)) -> 0 | AN23: =SUMPRODUCT(COUNTIF($AN$10,$AW23:$CA23)) -> 0 | AO23: =SUMPRODUCT(COUNTIF($AO$10,$AW23:$CA23)) -> 0 | AP23: =SUMPRODUCT(COUNTIF($AP$10,$AW23:$CA23)) -> 0 | AQ23: =SUMPRODUCT(COUNTIF($AQ$10,$AW23:$CA23)) -> 0 | AR23: =SUMPRODUCT(COUNTIF($AR$10,$AW23:$CA23)) -> 0 | AS23: =SUMPRODUCT(COUNTIF($AS$10,$AW23:$CA23)) -> 0 | AT23: =SUMPRODUCT(COUNTIF($AT$10,$AW23:$CA23)) -> 0 | AU23: =SUMPRODUCT(COUNTIF($AU$10,$AW23:$CA23)) -> 0 | AV23: =SUMPRODUCT(COUNTIF($AV$10,$AW23:$CA23)) -> 0
A24: =[1]PERSONNELS!B19 -> S1 | B24: =[1]PERSONNELS!C19 -> CC1 | E24: =[1]PERSONNELS!F19 -> 0 | G24: =$AW$8 -> 42675 | H24: =SUMPRODUCT(COUNTIF($H$10,$AW24:$CA24)*(WEEKDAY($AW$10:$CA$10,2)<6)*(COUNTIF(jours_fériés,$AW$10:$CA$10)=0)) -> 0 | I24: =SUMPRODUCT(COUNTIF($I$10,$AW24:$CA24)*(WEEKDAY($AW$10:$CA$10,2)<6)*(COUNTIF(jours_fériés,$AW$10:$CA$10)=0))/2 -> 0 | J24: =SUM(H24:I24) -> 0 | K24: =SUMPRODUCT(COUNTIF($K$10,$AW24:$CA24)*(WEEKDAY($AW$10:$CA$10,2)<6)*(COUNTIF(jours_fériés,$AW$10:$CA$10)=0)) -> 0 | L24: =SUMPRODUCT(COUNTIF($L$10,$AW24:$CA24)*(WEEKDAY($AW$10:$CA$10,2)<6)*(COUNTIF(jours_fériés,$AW$10:$CA$10)=0)) -> 0 | M24: =SUMPRODUCT(COUNTIF($M$10,$AW24:$CA24)*(WEEKDAY($AW$10:$CA$10,2)<6)*(COUNTIF(jours_fériés,$AW$10:$CA$10)=0)) -> 0 | N24: =SUMPRODUCT(COUNTIF($N$10,$AW24:$CA24)*(WEEKDAY($AW$10:$CA$10,2)<6)*(COUNTIF(jours_fériés,$AW$10:$CA$10)=0)) -> 0 | O24: =SUMPRODUCT(COUNTIF($O$10,$AW24:$CA24)*(WEEKDAY($AW$10:$CA$10,2)<6)*(COUNTIF(jours_fériés,$AW$10:$CA$10)=0)) -> 0 | P24: =SUMPRODUCT(COUNTIF($P$10,$AW24:$CA24)*(WEEKDAY($AW$10:$CA$10,2)<6)*(COUNTIF(jours_fériés,$AW$10:$CA$10)=0)) -> 0 | Q24: =SUMPRODUCT(COUNTIF($Q$10,$AW24:$CA24)*(WEEKDAY($AW$10:$CA$10,2)<6)*(COUNTIF(jours_fériés,$AW$10:$CA$10)=0)) -> 0 | R24: =SUMPRODUCT(COUNTIF($R$10,$AW24:$CA24)*(WEEKDAY($AW$10:$CA$10,2)<6)*(COUNTIF(jours_fériés,$AW$10:$CA$10)=0)) -> 0 | S24: =SUMPRODUCT(COUNTIF($S$10,$AW24:$CA24)*(WEEKDAY($AW$10:$CA$10,2)<6)*(COUNTIF(jours_fériés,$AW$10:$CA$10)=0)) -> 0 | T24: =SUMPRODUCT(COUNTIF($T$10,$AW24:$CA24)*(WEEKDAY($AW$10:$CA$10,2)<6)*(COUNTIF(jours_fériés,$AW$10:$CA$10)=0)) -> 0 | U24: =SUMPRODUCT(COUNTIF($U$10,$AW24:$CA24)*(WEEKDAY($AW$10:$CA$10,2)<6)*(COUNTIF(jours_fériés,$AW$10:$CA$10)=0)) -> 0 | V24: =SUMPRODUCT(COUNTIF($V$10,$AW24:$CA24)*(WEEKDAY($AW$10:$CA$10,2)<6)*(COUNTIF(jours_fériés,$AW$10:$CA$10)=0)) -> 0 | W24: =SUMPRODUCT(COUNTIF($W$10,$AW24:$CA24)*(WEEKDAY($AW$10:$CA$10,2)<6)*(COUNTIF(jours_fériés,$AW$10:$CA$10)=0)) -> 0 | X24: =SUMPRODUCT(COUNTIF($X$10,$AW24:$CA24)*(WEEKDAY($AW$10:$CA$10,2)<6)*(COUNTIF(jours_fériés,$AW$10:$CA$10)=0)) -> 0 | Y24: =SUMPRODUCT(COUNTIF($Y$10,$AW24:$CA24)*(WEEKDAY($AW$10:$CA$10,2)<6)*(COUNTIF(jours_fériés,$AW$10:$CA$10)=0)) -> 0 | Z24: =SUMPRODUCT(COUNTIF($Z$10,$AW24:$CA24)*(WEEKDAY($AW$10:$CA$10,2)<6)*(COUNTIF(jours_fériés,$AW$10:$CA$10)=0)) -> 0 | AA24: =SUMPRODUCT(COUNTIF($AA$10,$AW24:$CA24)*(WEEKDAY($AW$10:$CA$10,2)<6)*(COUNTIF(jours_fériés,$AW$10:$CA$10)=0)) -> 0 | AB24: =($U$8)-SUM($J24:$AA24) -> 20 | AC24: =SUMPRODUCT(COUNTIF($AC$10,$AW24:$CA24)) -> 0 | AD24: =SUMPRODUCT(COUNTIF($AD$10,$AW24:$CA24)) -> 0 | AE24: =SUMPRODUCT(COUNTIF($AE$10,$AW24:$CA24)) -> 0 | AF24: =SUMPRODUCT(COUNTIF($AF$10,$AW24:$CA24)) -> 0 | AG24: =SUMPRODUCT(COUNTIF($AG$10,$AW24:$CA24)) -> 0 | AH24: =SUMPRODUCT(COUNTIF($AH$10,$AW24:$CA24)) -> 0 | AI24: =SUMPRODUCT(COUNTIF($AI$10,$AW24:$CA24)) -> 0 | AJ24: =SUMPRODUCT(COUNTIF($AJ$10,$AW24:$CA24)) -> 0 | AK24: =SUMPRODUCT(COUNTIF($AK$10,$AW24:$CA24)) -> 0 | AL24: =SUM($AF24:$AK24) -> 0 | AM24: =SUMPRODUCT(COUNTIF($AM$10,$AW24:$CA24)) -> 0 | AN24: =SUMPRODUCT(COUNTIF($AN$10,$AW24:$CA24)) -> 0 | AO24: =SUMPRODUCT(COUNTIF($AO$10,$AW24:$CA24)) -> 0 | AP24: =SUMPRODUCT(COUNTIF($AP$10,$AW24:$CA24)) -> 0 | AQ24: =SUMPRODUCT(COUNTIF($AQ$10,$AW24:$CA24)) -> 0 | AR24: =SUMPRODUCT(COUNTIF($AR$10,$AW24:$CA24)) -> 0 | AS24: =SUMPRODUCT(COUNTIF($AS$10,$AW24:$CA24)) -> 0 | AT24: =SUMPRODUCT(COUNTIF($AT$10,$AW24:$CA24)) -> 0 | AU24: =SUMPRODUCT(COUNTIF($AU$10,$AW24:$CA24)) -> 0 | AV24: =SUMPRODUCT(COUNTIF($AV$10,$AW24:$CA24)) -> 0
A25: =[1]PERSONNELS!B20 -> S1 | B25: =[1]PERSONNELS!C20 -> CC1 | E25: =[1]PERSONNELS!F20 -> 0 | G25: =$AW$8 -> 42675 | H25: =SUMPRODUCT(COUNTIF($H$10,$AW25:$CA25)*(WEEKDAY($AW$10:$CA$10,2)<6)*(COUNTIF(jours_fériés,$AW$10:$CA$10)=0)) -> 0 | I25: =SUMPRODUCT(COUNTIF($I$10,$AW25:$CA25)*(WEEKDAY($AW$10:$CA$10,2)<6)*(COUNTIF(jours_fériés,$AW$10:$CA$10)=0))/2 -> 0 | J25: =SUM(H25:I25) -> 0 | K25: =SUMPRODUCT(COUNTIF($K$10,$AW25:$CA25)*(WEEKDAY($AW$10:$CA$10,2)<6)*(COUNTIF(jours_fériés,$AW$10:$CA$10)=0)) -> 0 | L25: =SUMPRODUCT(COUNTIF($L$10,$AW25:$CA25)*(WEEKDAY($AW$10:$CA$10,2)<6)*(COUNTIF(jours_fériés,$AW$10:$CA$10)=0)) -> 0 | M25: =SUMPRODUCT(COUNTIF($M$10,$AW25:$CA25)*(WEEKDAY($AW$10:$CA$10,2)<6)*(COUNTIF(jours_fériés,$AW$10:$CA$10)=0)) -> 0 | N25: =SUMPRODUCT(COUNTIF($N$10,$AW25:$CA25)*(WEEKDAY($AW$10:$CA$10,2)<6)*(COUNTIF(jours_fériés,$AW$10:$CA$10)=0)) -> 0 | O25: =SUMPRODUCT(COUNTIF($O$10,$AW25:$CA25)*(WEEKDAY($AW$10:$CA$10,2)<6)*(COUNTIF(jours_fériés,$AW$10:$CA$10)=0)) -> 0 | P25: =SUMPRODUCT(COUNTIF($P$10,$AW25:$CA25)*(WEEKDAY($AW$10:$CA$10,2)<6)*(COUNTIF(jours_fériés,$AW$10:$CA$10)=0)) -> 0 | Q25: =SUMPRODUCT(COUNTIF($Q$10,$AW25:$CA25)*(WEEKDAY($AW$10:$CA$10,2)<6)*(COUNTIF(jours_fériés,$AW$10:$CA$10)=0)) -> 0 | R25: =SUMPRODUCT(COUNTIF($R$10,$AW25:$CA25)*(WEEKDAY($AW$10:$CA$10,2)<6)*(COUNTIF(jours_fériés,$AW$10:$CA$10)=0)) -> 0 | S25: =SUMPRODUCT(COUNTIF($S$10,$AW25:$CA25)*(WEEKDAY($AW$10:$CA$10,2)<6)*(COUNTIF(jours_fériés,$AW$10:$CA$10)=0)) -> 0 | T25: =SUMPRODUCT(COUNTIF($T$10,$AW25:$CA25)*(WEEKDAY($AW$10:$CA$10,2)<6)*(COUNTIF(jours_fériés,$AW$10:$CA$10)=0)) -> 0 | U25: =SUMPRODUCT(COUNTIF($U$10,$AW25:$CA25)*(WEEKDAY($AW$10:$CA$10,2)<6)*(COUNTIF(jours_fériés,$AW$10:$CA$10)=0)) -> 0 | V25: =SUMPRODUCT(COUNTIF($V$10,$AW25:$CA25)*(WEEKDAY($AW$10:$CA$10,2)<6)*(COUNTIF(jours_fériés,$AW$10:$CA$10)=0)) -> 0 | W25: =SUMPRODUCT(COUNTIF($W$10,$AW25:$CA25)*(WEEKDAY($AW$10:$CA$10,2)<6)*(COUNTIF(jours_fériés,$AW$10:$CA$10)=0)) -> 0 | X25: =SUMPRODUCT(COUNTIF($X$10,$AW25:$CA25)*(WEEKDAY($AW$10:$CA$10,2)<6)*(COUNTIF(jours_fériés,$AW$10:$CA$10)=0)) -> 0 | Y25: =SUMPRODUCT(COUNTIF($Y$10,$AW25:$CA25)*(WEEKDAY($AW$10:$CA$10,2)<6)*(COUNTIF(jours_fériés,$AW$10:$CA$10)=0)) -> 0 | Z25: =SUMPRODUCT(COUNTIF($Z$10,$AW25:$CA25)*(WEEKDAY($AW$10:$CA$10,2)<6)*(COUNTIF(jours_fériés,$AW$10:$CA$10)=0)) -> 0 | AA25: =SUMPRODUCT(COUNTIF($AA$10,$AW25:$CA25)*(WEEKDAY($AW$10:$CA$10,2)<6)*(COUNTIF(jours_fériés,$AW$10:$CA$10)=0)) -> 0 | AB25: =($U$8)-SUM($J25:$AA25) -> 20 | AC25: =SUMPRODUCT(COUNTIF($AC$10,$AW25:$CA25)) -> 0 | AD25: =SUMPRODUCT(COUNTIF($AD$10,$AW25:$CA25)) -> 0 | AE25: =SUMPRODUCT(COUNTIF($AE$10,$AW25:$CA25)) -> 0 | AF25: =SUMPRODUCT(COUNTIF($AF$10,$AW25:$CA25)) -> 0 | AG25: =SUMPRODUCT(COUNTIF($AG$10,$AW25:$CA25)) -> 0 | AH25: =SUMPRODUCT(COUNTIF($AH$10,$AW25:$CA25)) -> 0 | AI25: =SUMPRODUCT(COUNTIF($AI$10,$AW25:$CA25)) -> 0 | AJ25: =SUMPRODUCT(COUNTIF($AJ$10,$AW25:$CA25)) -> 0 | AK25: =SUMPRODUCT(COUNTIF($AK$10,$AW25:$CA25)) -> 0 | AL25: =SUM($AF25:$AK25) -> 0 | AM25: =SUMPRODUCT(COUNTIF($AM$10,$AW25:$CA25)) -> 0 | AN25: =SUMPRODUCT(COUNTIF($AN$10,$AW25:$CA25)) -> 0 | AO25: =SUMPRODUCT(COUNTIF($AO$10,$AW25:$CA25)) -> 0 | AP25: =SUMPRODUCT(COUNTIF($AP$10,$AW25:$CA25)) -> 0 | AQ25: =SUMPRODUCT(COUNTIF($AQ$10,$AW25:$CA25)) -> 0 | AR25: =SUMPRODUCT(COUNTIF($AR$10,$AW25:$CA25)) -> 0 | AS25: =SUMPRODUCT(COUNTIF($AS$10,$AW25:$CA25)) -> 0 | AT25: =SUMPRODUCT(COUNTIF($AT$10,$AW25:$CA25)) -> 0 | AU25: =SUMPRODUCT(COUNTIF($AU$10,$AW25:$CA25)) -> 0 | AV25: =SUMPRODUCT(COUNTIF($AV$10,$AW25:$CA25)) -> 0
A26: =[1]PERSONNELS!B21 -> S1 | B26: =[1]PERSONNELS!C21 -> CCH | E26: =[1]PERSONNELS!F21 -> 0 | G26: =$AW$8 -> 42675 | H26: =SUMPRODUCT(COUNTIF($H$10,$AW26:$CA26)*(WEEKDAY($AW$10:$CA$10,2)<6)*(COUNTIF(jours_fériés,$AW$10:$CA$10)=0)) -> 0 | I26: =SUMPRODUCT(COUNTIF($I$10,$AW26:$CA26)*(WEEKDAY($AW$10:$CA$10,2)<6)*(COUNTIF(jours_fériés,$AW$10:$CA$10)=0))/2 -> 0 | J26: =SUM(H26:I26) -> 0 | K26: =SUMPRODUCT(COUNTIF($K$10,$AW26:$CA26)*(WEEKDAY($AW$10:$CA$10,2)<6)*(COUNTIF(jours_fériés,$AW$10:$CA$10)=0)) -> 0 | L26: =SUMPRODUCT(COUNTIF($L$10,$AW26:$CA26)*(WEEKDAY($AW$10:$CA$10,2)<6)*(COUNTIF(jours_fériés,$AW$10:$CA$10)=0)) -> 0 | M26: =SUMPRODUCT(COUNTIF($M$10,$AW26:$CA26)*(WEEKDAY($AW$10:$CA$10,2)<6)*(COUNTIF(jours_fériés,$AW$10:$CA$10)=0)) -> 0 | N26: =SUMPRODUCT(COUNTIF($N$10,$AW26:$CA26)*(WEEKDAY($AW$10:$CA$10,2)<6)*(COUNTIF(jours_fériés,$AW$10:$CA$10)=0)) -> 0 | O26: =SUMPRODUCT(COUNTIF($O$10,$AW26:$CA26)*(WEEKDAY($AW$10:$CA$10,2)<6)*(COUNTIF(jours_fériés,$AW$10:$CA$10)=0)) -> 0 | P26: =SUMPRODUCT(COUNTIF($P$10,$AW26:$CA26)*(WEEKDAY($AW$10:$CA$10,2)<6)*(COUNTIF(jours_fériés,$AW$10:$CA$10)=0)) -> 0 | Q26: =SUMPRODUCT(COUNTIF($Q$10,$AW26:$CA26)*(WEEKDAY($AW$10:$CA$10,2)<6)*(COUNTIF(jours_fériés,$AW$10:$CA$10)=0)) -> 0 | R26: =SUMPRODUCT(COUNTIF($R$10,$AW26:$CA26)*(WEEKDAY($AW$10:$CA$10,2)<6)*(COUNTIF(jours_fériés,$AW$10:$CA$10)=0)) -> 0 | S26: =SUMPRODUCT(COUNTIF($S$10,$AW26:$CA26)*(WEEKDAY($AW$10:$CA$10,2)<6)*(COUNTIF(jours_fériés,$AW$10:$CA$10)=0)) -> 0 | T26: =SUMPRODUCT(COUNTIF($T$10,$AW26:$CA26)*(WEEKDAY($AW$10:$CA$10,2)<6)*(COUNTIF(jours_fériés,$AW$10:$CA$10)=0)) -> 0 | U26: =SUMPRODUCT(COUNTIF($U$10,$AW26:$CA26)*(WEEKDAY($AW$10:$CA$10,2)<6)*(COUNTIF(jours_fériés,$AW$10:$CA$10)=0)) -> 0 | V26: =SUMPRODUCT(COUNTIF($V$10,$AW26:$CA26)*(WEEKDAY($AW$10:$CA$10,2)<6)*(COUNTIF(jours_fériés,$AW$10:$CA$10)=0)) -> 0 | W26: =SUMPRODUCT(COUNTIF($W$10,$AW26:$CA26)*(WEEKDAY($AW$10:$CA$10,2)<6)*(COUNTIF(jours_fériés,$AW$10:$CA$10)=0)) -> 0 | X26: =SUMPRODUCT(COUNTIF($X$10,$AW26:$CA26)*(WEEKDAY($AW$10:$CA$10,2)<6)*(COUNTIF(jours_fériés,$AW$10:$CA$10)=0)) -> 0 | Y26: =SUMPRODUCT(COUNTIF($Y$10,$AW26:$CA26)*(WEEKDAY($AW$10:$CA$10,2)<6)*(COUNTIF(jours_fériés,$AW$10:$CA$10)=0)) -> 0 | Z26: =SUMPRODUCT(COUNTIF($Z$10,$AW26:$CA26)*(WEEKDAY($AW$10:$CA$10,2)<6)*(COUNTIF(jours_fériés,$AW$10:$CA$10)=0)) -> 0 | AA26: =SUMPRODUCT(COUNTIF($AA$10,$AW26:$CA26)*(WEEKDAY($AW$10:$CA$10,2)<6)*(COUNTIF(jours_fériés,$AW$10:$CA$10)=0)) -> 0 | AB26: =($U$8)-SUM($J26:$AA26) -> 20 | AC26: =SUMPRODUCT(COUNTIF($AC$10,$AW26:$CA26)) -> 0 | AD26: =SUMPRODUCT(COUNTIF($AD$10,$AW26:$CA26)) -> 0 | AE26: =SUMPRODUCT(COUNTIF($AE$10,$AW26:$CA26)) -> 0 | AF26: =SUMPRODUCT(COUNTIF($AF$10,$AW26:$CA26)) -> 0 | AG26: =SUMPRODUCT(COUNTIF($AG$10,$AW26:$CA26)) -> 0 | AH26: =SUMPRODUCT(COUNTIF($AH$10,$AW26:$CA26)) -> 0 | AI26: =SUMPRODUCT(COUNTIF($AI$10,$AW26:$CA26)) -> 0 | AJ26: =SUMPRODUCT(COUNTIF($AJ$10,$AW26:$CA26)) -> 0 | AK26: =SUMPRODUCT(COUNTIF($AK$10,$AW26:$CA26)) -> 0 | AL26: =SUM($AF26:$AK26) -> 0 | AM26: =SUMPRODUCT(COUNTIF($AM$10,$AW26:$CA26)) -> 0 | AN26: =SUMPRODUCT(COUNTIF($AN$10,$AW26:$CA26)) -> 0 | AO26: =SUMPRODUCT(COUNTIF($AO$10,$AW26:$CA26)) -> 0 | AP26: =SUMPRODUCT(COUNTIF($AP$10,$AW26:$CA26)) -> 0 | AQ26: =SUMPRODUCT(COUNTIF($AQ$10,$AW26:$CA26)) -> 0 | AR26: =SUMPRODUCT(COUNTIF($AR$10,$AW26:$CA26)) -> 0 | AS26: =SUMPRODUCT(COUNTIF($AS$10,$AW26:$CA26)) -> 0 | AT26: =SUMPRODUCT(COUNTIF($AT$10,$AW26:$CA26)) -> 0 | AU26: =SUMPRODUCT(COUNTIF($AU$10,$AW26:$CA26)) -> 0 | AV26: =SUMPRODUCT(COUNTIF($AV$10,$AW26:$CA26)) -> 0
A27: =[1]PERSONNELS!B22 -> S1 | B27: =[1]PERSONNELS!C22 -> CCH | E27: =[1]PERSONNELS!F22 -> 0 | G27: =$AW$8 -> 42675 | H27: =SUMPRODUCT(COUNTIF($H$10,$AW27:$CA27)*(WEEKDAY($AW$10:$CA$10,2)<6)*(COUNTIF(jours_fériés,$AW$10:$CA$10)=0)) -> 0 | I27: =SUMPRODUCT(COUNTIF($I$10,$AW27:$CA27)*(WEEKDAY($AW$10:$CA$10,2)<6)*(COUNTIF(jours_fériés,$AW$10:$CA$10)=0))/2 -> 0 | J27: =SUM(H27:I27) -> 0 | K27: =SUMPRODUCT(COUNTIF($K$10,$AW27:$CA27)*(WEEKDAY($AW$10:$CA$10,2)<6)*(COUNTIF(jours_fériés,$AW$10:$CA$10)=0)) -> 0 | L27: =SUMPRODUCT(COUNTIF($L$10,$AW27:$CA27)*(WEEKDAY($AW$10:$CA$10,2)<6)*(COUNTIF(jours_fériés,$AW$10:$CA$10)=0)) -> 0 | M27: =SUMPRODUCT(COUNTIF($M$10,$AW27:$CA27)*(WEEKDAY($AW$10:$CA$10,2)<6)*(COUNTIF(jours_fériés,$AW$10:$CA$10)=0)) -> 0 | N27: =SUMPRODUCT(COUNTIF($N$10,$AW27:$CA27)*(WEEKDAY($AW$10:$CA$10,2)<6)*(COUNTIF(jours_fériés,$AW$10:$CA$10)=0)) -> 0 | O27: =SUMPRODUCT(COUNTIF($O$10,$AW27:$CA27)*(WEEKDAY($AW$10:$CA$10,2)<6)*(COUNTIF(jours_fériés,$AW$10:$CA$10)=0)) -> 0 | P27: =SUMPRODUCT(COUNTIF($P$10,$AW27:$CA27)*(WEEKDAY($AW$10:$CA$10,2)<6)*(COUNTIF(jours_fériés,$AW$10:$CA$10)=0)) -> 0 | Q27: =SUMPRODUCT(COUNTIF($Q$10,$AW27:$CA27)*(WEEKDAY($AW$10:$CA$10,2)<6)*(COUNTIF(jours_fériés,$AW$10:$CA$10)=0)) -> 0 | R27: =SUMPRODUCT(COUNTIF($R$10,$AW27:$CA27)*(WEEKDAY($AW$10:$CA$10,2)<6)*(COUNTIF(jours_fériés,$AW$10:$CA$10)=0)) -> 0 | S27: =SUMPRODUCT(COUNTIF($S$10,$AW27:$CA27)*(WEEKDAY($AW$10:$CA$10,2)<6)*(COUNTIF(jours_fériés,$AW$10:$CA$10)=0)) -> 0 | T27: =SUMPRODUCT(COUNTIF($T$10,$AW27:$CA27)*(WEEKDAY($AW$10:$CA$10,2)<6)*(COUNTIF(jours_fériés,$AW$10:$CA$10)=0)) -> 0 | U27: =SUMPRODUCT(COUNTIF($U$10,$AW27:$CA27)*(WEEKDAY($AW$10:$CA$10,2)<6)*(COUNTIF(jours_fériés,$AW$10:$CA$10)=0)) -> 0 | V27: =SUMPRODUCT(COUNTIF($V$10,$AW27:$CA27)*(WEEKDAY($AW$10:$CA$10,2)<6)*(COUNTIF(jours_fériés,$AW$10:$CA$10)=0)) -> 0 | W27: =SUMPRODUCT(COUNTIF($W$10,$AW27:$CA27)*(WEEKDAY($AW$10:$CA$10,2)<6)*(COUNTIF(jours_fériés,$AW$10:$CA$10)=0)) -> 0 | X27: =SUMPRODUCT(COUNTIF($X$10,$AW27:$CA27)*(WEEKDAY($AW$10:$CA$10,2)<6)*(COUNTIF(jours_fériés,$AW$10:$CA$10)=0)) -> 0 | Y27: =SUMPRODUCT(COUNTIF($Y$10,$AW27:$CA27)*(WEEKDAY($AW$10:$CA$10,2)<6)*(COUNTIF(jours_fériés,$AW$10:$CA$10)=0)) -> 0 | Z27: =SUMPRODUCT(COUNTIF($Z$10,$AW27:$CA27)*(WEEKDAY($AW$10:$CA$10,2)<6)*(COUNTIF(jours_fériés,$AW$10:$CA$10)=0)) -> 0 | AA27: =SUMPRODUCT(COUNTIF($AA$10,$AW27:$CA27)*(WEEKDAY($AW$10:$CA$10,2)<6)*(COUNTIF(jours_fériés,$AW$10:$CA$10)=0)) -> 0 | AB27: =($U$8)-SUM($J27:$AA27) -> 20 | AC27: =SUMPRODUCT(COUNTIF($AC$10,$AW27:$CA27)) -> 0 | AD27: =SUMPRODUCT(COUNTIF($AD$10,$AW27:$CA27)) -> 0 | AE27: =SUMPRODUCT(COUNTIF($AE$10,$AW27:$CA27)) -> 0 | AF27: =SUMPRODUCT(COUNTIF($AF$10,$AW27:$CA27)) -> 0 | AG27: =SUMPRODUCT(COUNTIF($AG$10,$AW27:$CA27)) -> 0 | AH27: =SUMPRODUCT(COUNTIF($AH$10,$AW27:$CA27)) -> 0 | AI27: =SUMPRODUCT(COUNTIF($AI$10,$AW27:$CA27)) -> 0 | AJ27: =SUMPRODUCT(COUNTIF($AJ$10,$AW27:$CA27)) -> 0 | AK27: =SUMPRODUCT(COUNTIF($AK$10,$AW27:$CA27)) -> 0 | AL27: =SUM($AF27:$AK27) -> 0 | AM27: =SUMPRODUCT(COUNTIF($AM$10,$AW27:$CA27)) -> 0 | AN27: =SUMPRODUCT(COUNTIF($AN$10,$AW27:$CA27)) -> 0 | AO27: =SUMPRODUCT(COUNTIF($AO$10,$AW27:$CA27)) -> 0 | AP27: =SUMPRODUCT(COUNTIF($AP$10,$AW27:$CA27)) -> 0 | AQ27: =SUMPRODUCT(COUNTIF($AQ$10,$AW27:$CA27)) -> 0 | AR27: =SUMPRODUCT(COUNTIF($AR$10,$AW27:$CA27)) -> 0 | AS27: =SUMPRODUCT(COUNTIF($AS$10,$AW27:$CA27)) -> 0 | AT27: =SUMPRODUCT(COUNTIF($AT$10,$AW27:$CA27)) -> 0 | AU27: =SUMPRODUCT(COUNTIF($AU$10,$AW27:$CA27)) -> 0 | AV27: =SUMPRODUCT(COUNTIF($AV$10,$AW27:$CA27)) -> 0
A28: =[1]PERSONNELS!B23 -> S1 | B28: =[1]PERSONNELS!C23 -> CCH | E28: =[1]PERSONNELS!F23 -> 0 | G28: =$AW$8 -> 42675 | H28: =SUMPRODUCT(COUNTIF($H$10,$AW28:$CA28)*(WEEKDAY($AW$10:$CA$10,2)<6)*(COUNTIF(jours_fériés,$AW$10:$CA$10)=0)) -> 0 | I28: =SUMPRODUCT(COUNTIF($I$10,$AW28:$CA28)*(WEEKDAY($AW$10:$CA$10,2)<6)*(COUNTIF(jours_fériés,$AW$10:$CA$10)=0))/2 -> 0 | J28: =SUM(H28:I28) -> 0 | K28: =SUMPRODUCT(COUNTIF($K$10,$AW28:$CA28)*(WEEKDAY($AW$10:$CA$10,2)<6)*(COUNTIF(jours_fériés,$AW$10:$CA$10)=0)) -> 0 | L28: =SUMPRODUCT(COUNTIF($L$10,$AW28:$CA28)*(WEEKDAY($AW$10:$CA$10,2)<6)*(COUNTIF(jours_fériés,$AW$10:$CA$10)=0)) -> 0 | M28: =SUMPRODUCT(COUNTIF($M$10,$AW28:$CA28)*(WEEKDAY($AW$10:$CA$10,2)<6)*(COUNTIF(jours_fériés,$AW$10:$CA$10)=0)) -> 0 | N28: =SUMPRODUCT(COUNTIF($N$10,$AW28:$CA28)*(WEEKDAY($AW$10:$CA$10,2)<6)*(COUNTIF(jours_fériés,$AW$10:$CA$10)=0)) -> 0 | O28: =SUMPRODUCT(COUNTIF($O$10,$AW28:$CA28)*(WEEKDAY($AW$10:$CA$10,2)<6)*(COUNTIF(jours_fériés,$AW$10:$CA$10)=0)) -> 0 | P28: =SUMPRODUCT(COUNTIF($P$10,$AW28:$CA28)*(WEEKDAY($AW$10:$CA$10,2)<6)*(COUNTIF(jours_fériés,$AW$10:$CA$10)=0)) -> 0 | Q28: =SUMPRODUCT(COUNTIF($Q$10,$AW28:$CA28)*(WEEKDAY($AW$10:$CA$10,2)<6)*(COUNTIF(jours_fériés,$AW$10:$CA$10)=0)) -> 0 | R28: =SUMPRODUCT(COUNTIF($R$10,$AW28:$CA28)*(WEEKDAY($AW$10:$CA$10,2)<6)*(COUNTIF(jours_fériés,$AW$10:$CA$10)=0)) -> 0 | S28: =SUMPRODUCT(COUNTIF($S$10,$AW28:$CA28)*(WEEKDAY($AW$10:$CA$10,2)<6)*(COUNTIF(jours_fériés,$AW$10:$CA$10)=0)) -> 0 | T28: =SUMPRODUCT(COUNTIF($T$10,$AW28:$CA28)*(WEEKDAY($AW$10:$CA$10,2)<6)*(COUNTIF(jours_fériés,$AW$10:$CA$10)=0)) -> 0 | U28: =SUMPRODUCT(COUNTIF($U$10,$AW28:$CA28)*(WEEKDAY($AW$10:$CA$10,2)<6)*(COUNTIF(jours_fériés,$AW$10:$CA$10)=0)) -> 0 | V28: =SUMPRODUCT(COUNTIF($V$10,$AW28:$CA28)*(WEEKDAY($AW$10:$CA$10,2)<6)*(COUNTIF(jours_fériés,$AW$10:$CA$10)=0)) -> 0 | W28: =SUMPRODUCT(COUNTIF($W$10,$AW28:$CA28)*(WEEKDAY($AW$10:$CA$10,2)<6)*(COUNTIF(jours_fériés,$AW$10:$CA$10)=0)) -> 0 | X28: =SUMPRODUCT(COUNTIF($X$10,$AW28:$CA28)*(WEEKDAY($AW$10:$CA$10,2)<6)*(COUNTIF(jours_fériés,$AW$10:$CA$10)=0)) -> 0 | Y28: =SUMPRODUCT(COUNTIF($Y$10,$AW28:$CA28)*(WEEKDAY($AW$10:$CA$10,2)<6)*(COUNTIF(jours_fériés,$AW$10:$CA$10)=0)) -> 0 | Z28: =SUMPRODUCT(COUNTIF($Z$10,$AW28:$CA28)*(WEEKDAY($AW$10:$CA$10,2)<6)*(COUNTIF(jours_fériés,$AW$10:$CA$10)=0)) -> 0 | AA28: =SUMPRODUCT(COUNTIF($AA$10,$AW28:$CA28)*(WEEKDAY($AW$10:$CA$10,2)<6)*(COUNTIF(jours_fériés,$AW$10:$CA$10)=0)) -> 0 | AB28: =($U$8)-SUM($J28:$AA28) -> 20 | AC28: =SUMPRODUCT(COUNTIF($AC$10,$AW28:$CA28)) -> 0 | AD28: =SUMPRODUCT(COUNTIF($AD$10,$AW28:$CA28)) -> 0 | AE28: =SUMPRODUCT(COUNTIF($AE$10,$AW28:$CA28)) -> 0 | AF28: =SUMPRODUCT(COUNTIF($AF$10,$AW28:$CA28)) -> 0 | AG28: =SUMPRODUCT(COUNTIF($AG$10,$AW28:$CA28)) -> 0 | AH28: =SUMPRODUCT(COUNTIF($AH$10,$AW28:$CA28)) -> 0 | AI28: =SUMPRODUCT(COUNTIF($AI$10,$AW28:$CA28)) -> 0 | AJ28: =SUMPRODUCT(COUNTIF($AJ$10,$AW28:$CA28)) -> 0 | AK28: =SUMPRODUCT(COUNTIF($AK$10,$AW28:$CA28)) -> 0 | AL28: =SUM($AF28:$AK28) -> 0 | AM28: =SUMPRODUCT(COUNTIF($AM$10,$AW28:$CA28)) -> 0 | AN28: =SUMPRODUCT(COUNTIF($AN$10,$AW28:$CA28)) -> 0 | AO28: =SUMPRODUCT(COUNTIF($AO$10,$AW28:$CA28)) -> 0 | AP28: =SUMPRODUCT(COUNTIF($AP$10,$AW28:$CA28)) -> 0 | AQ28: =SUMPRODUCT(COUNTIF($AQ$10,$AW28:$CA28)) -> 0 | AR28: =SUMPRODUCT(COUNTIF($AR$10,$AW28:$CA28)) -> 0 | AS28: =SUMPRODUCT(COUNTIF($AS$10,$AW28:$CA28)) -> 0 | AT28: =SUMPRODUCT(COUNTIF($AT$10,$AW28:$CA28)) -> 0 | AU28: =SUMPRODUCT(COUNTIF($AU$10,$AW28:$CA28)) -> 0 | AV28: =SUMPRODUCT(COUNTIF($AV$10,$AW28:$CA28)) -> 0
... A61: =[1]PERSONNELS!B56 -> S2 | B61: =[1]PERSONNELS!C56 -> 1CL | E61: =[1]PERSONNELS!F56 -> 0 | G61: =$AW$8 -> 42675 | H61: =SUMPRODUCT(COUNTIF($H$10,$AW61:$CA61)*(WEEKDAY($AW$10:$CA$10,2)<6)*(COUNTIF(jours_fériés,$AW$10:$CA$10)=0)) -> 0 | I61: =SUMPRODUCT(COUNTIF($I$10,$AW61:$CA61)*(WEEKDAY($AW$10:$CA$10,2)<6)*(COUNTIF(jours_fériés,$AW$10:$CA$10)=0))/2 -> 0 | J61: =SUM(H61:I61) -> 0 | K61: =SUMPRODUCT(COUNTIF($K$10,$AW61:$CA61)*(WEEKDAY($AW$10:$CA$10,2)<6)*(COUNTIF(jours_fériés,$AW$10:$CA$10)=0)) -> 0 | L61: =SUMPRODUCT(COUNTIF($L$10,$AW61:$CA61)*(WEEKDAY($AW$10:$CA$10,2)<6)*(COUNTIF(jours_fériés,$AW$10:$CA$10)=0)) -> 0 | M61: =SUMPRODUCT(COUNTIF($M$10,$AW61:$CA61)*(WEEKDAY($AW$10:$CA$10,2)<6)*(COUNTIF(jours_fériés,$AW$10:$CA$10)=0)) -> 0 | N61: =SUMPRODUCT(COUNTIF($N$10,$AW61:$CA61)*(WEEKDAY($AW$10:$CA$10,2)<6)*(COUNTIF(jours_fériés,$AW$10:$CA$10)=0)) -> 0 | O61: =SUMPRODUCT(COUNTIF($O$10,$AW61:$CA61)*(WEEKDAY($AW$10:$CA$10,2)<6)*(COUNTIF(jours_fériés,$AW$10:$CA$10)=0)) -> 0 | P61: =SUMPRODUCT(COUNTIF($P$10,$AW61:$CA61)*(WEEKDAY($AW$10:$CA$10,2)<6)*(COUNTIF(jours_fériés,$AW$10:$CA$10)=0)) -> 0 | Q61: =SUMPRODUCT(COUNTIF($Q$10,$AW61:$CA61)*(WEEKDAY($AW$10:$CA$10,2)<6)*(COUNTIF(jours_fériés,$AW$10:$CA$10)=0)) -> 0 | R61: =SUMPRODUCT(COUNTIF($R$10,$AW61:$CA61)*(WEEKDAY($AW$10:$CA$10,2)<6)*(COUNTIF(jours_fériés,$AW$10:$CA$10)=0)) -> 0 | S61: =SUMPRODUCT(COUNTIF($S$10,$AW61:$CA61)*(WEEKDAY($AW$10:$CA$10,2)<6)*(COUNTIF(jours_fériés,$AW$10:$CA$10)=0)) -> 0 | T61: =SUMPRODUCT(COUNTIF($T$10,$AW61:$CA61)*(WEEKDAY($AW$10:$CA$10,2)<6)*(COUNTIF(jours_fériés,$AW$10:$CA$10)=0)) -> 0 | U61: =SUMPRODUCT(COUNTIF($U$10,$AW61:$CA61)*(WEEKDAY($AW$10:$CA$10,2)<6)*(COUNTIF(jours_fériés,$AW$10:$CA$10)=0)) -> 0 | V61: =SUMPRODUCT(COUNTIF($V$10,$AW61:$CA61)*(WEEKDAY($AW$10:$CA$10,2)<6)*(COUNTIF(jours_fériés,$AW$10:$CA$10)=0)) -> 0 | W61: =SUMPRODUCT(COUNTIF($W$10,$AW61:$CA61)*(WEEKDAY($AW$10:$CA$10,2)<6)*(COUNTIF(jours_fériés,$AW$10:$CA$10)=0)) -> 0 | X61: =SUMPRODUCT(COUNTIF($X$10,$AW61:$CA61)*(WEEKDAY($AW$10:$CA$10,2)<6)*(COUNTIF(jours_fériés,$AW$10:$CA$10)=0)) -> 0 | Y61: =SUMPRODUCT(COUNTIF($Y$10,$AW61:$CA61)*(WEEKDAY($AW$10:$CA$10,2)<6)*(COUNTIF(jours_fériés,$AW$10:$CA$10)=0)) -> 0 | Z61: =SUMPRODUCT(COUNTIF($Z$10,$AW61:$CA61)*(WEEKDAY($AW$10:$CA$10,2)<6)*(COUNTIF(jours_fériés,$AW$10:$CA$10)=0)) -> 0 | AA61: =SUMPRODUCT(COUNTIF($AA$10,$AW61:$CA61)*(WEEKDAY($AW$10:$CA$10,2)<6)*(COUNTIF(jours_fériés,$AW$10:$CA$10)=0)) -> 0 | AB61: =($U$8)-SUM($J61:$AA61) -> 20 | AC61: =SUMPRODUCT(COUNTIF($AC$10,$AW61:$CA61)) -> 0 | AD61: =SUMPRODUCT(COUNTIF($AD$10,$AW61:$CA61)) -> 0 | AE61: =SUMPRODUCT(COUNTIF($AE$10,$AW61:$CA61)) -> 0 | AF61: =SUMPRODUCT(COUNTIF($AF$10,$AW61:$CA61)) -> 0 | AG61: =SUMPRODUCT(COUNTIF($AG$10,$AW61:$CA61)) -> 0 | AH61: =SUMPRODUCT(COUNTIF($AH$10,$AW61:$CA61)) -> 0 | AI61: =SUMPRODUCT(COUNTIF($AI$10,$AW61:$CA61)) -> 0 | AJ61: =SUMPRODUCT(COUNTIF($AJ$10,$AW61:$CA61)) -> 0 | AK61: =SUMPRODUCT(COUNTIF($AK$10,$AW61:$CA61)) -> 0 | AL61: =SUM($AF61:$AK61) -> 0 | AM61: =SUMPRODUCT(COUNTIF($AM$10,$AW61:$CA61)) -> 0 | AN61: =SUMPRODUCT(COUNTIF($AN$10,$AW61:$CA61)) -> 0 | AO61: =SUMPRODUCT(COUNTIF($AO$10,$AW61:$CA61)) -> 0 | AP61: =SUMPRODUCT(COUNTIF($AP$10,$AW61:$CA61)) -> 0 | AQ61: =SUMPRODUCT(COUNTIF($AQ$10,$AW61:$CA61)) -> 0 | AR61: =SUMPRODUCT(COUNTIF($AR$10,$AW61:$CA61)) -> 0 | AS61: =SUMPRODUCT(COUNTIF($AS$10,$AW61:$CA61)) -> 0 | AT61: =SUMPRODUCT(COUNTIF($AT$10,$AW61:$CA61)) -> 0 | AU61: =SUMPRODUCT(COUNTIF($AU$10,$AW61:$CA61)) -> 0 | AV61: =SUMPRODUCT(COUNTIF($AV$10,$AW61:$CA61)) -> 0
A62: =[1]PERSONNELS!B57 -> SCAOS | B62: =[1]PERSONNELS!C57 -> LTN | G62: =$AW$8 -> 42675 | H62: =SUMPRODUCT(COUNTIF($H$10,$AW62:$CA62)*(WEEKDAY($AW$10:$CA$10,2)<6)*(COUNTIF(jours_fériés,$AW$10:$CA$10)=0)) -> 0 | I62: =SUMPRODUCT(COUNTIF($I$10,$AW62:$CA62)*(WEEKDAY($AW$10:$CA$10,2)<6)*(COUNTIF(jours_fériés,$AW$10:$CA$10)=0))/2 -> 0 | J62: =SUM(H62:I62) -> 0 | K62: =SUMPRODUCT(COUNTIF($K$10,$AW62:$CA62)*(WEEKDAY($AW$10:$CA$10,2)<6)*(COUNTIF(jours_fériés,$AW$10:$CA$10)=0)) -> 0 | L62: =SUMPRODUCT(COUNTIF($L$10,$AW62:$CA62)*(WEEKDAY($AW$10:$CA$10,2)<6)*(COUNTIF(jours_fériés,$AW$10:$CA$10)=0)) -> 0 | M62: =SUMPRODUCT(COUNTIF($M$10,$AW62:$CA62)*(WEEKDAY($AW$10:$CA$10,2)<6)*(COUNTIF(jours_fériés,$AW$10:$CA$10)=0)) -> 0 | N62: =SUMPRODUCT(COUNTIF($N$10,$AW62:$CA62)*(WEEKDAY($AW$10:$CA$10,2)<6)*(COUNTIF(jours_fériés,$AW$10:$CA$10)=0)) -> 0 | O62: =SUMPRODUCT(COUNTIF($O$10,$AW62:$CA62)*(WEEKDAY($AW$10:$CA$10,2)<6)*(COUNTIF(jours_fériés,$AW$10:$CA$10)=0)) -> 0 | P62: =SUMPRODUCT(COUNTIF($P$10,$AW62:$CA62)*(WEEKDAY($AW$10:$CA$10,2)<6)*(COUNTIF(jours_fériés,$AW$10:$CA$10)=0)) -> 0 | Q62: =SUMPRODUCT(COUNTIF($Q$10,$AW62:$CA62)*(WEEKDAY($AW$10:$CA$10,2)<6)*(COUNTIF(jours_fériés,$AW$10:$CA$10)=0)) -> 0 | R62: =SUMPRODUCT(COUNTIF($R$10,$AW62:$CA62)*(WEEKDAY($AW$10:$CA$10,2)<6)*(COUNTIF(jours_fériés,$AW$10:$CA$10)=0)) -> 0 | S62: =SUMPRODUCT(COUNTIF($S$10,$AW62:$CA62)*(WEEKDAY($AW$10:$CA$10,2)<6)*(COUNTIF(jours_fériés,$AW$10:$CA$10)=0)) -> 0 | T62: =SUMPRODUCT(COUNTIF($T$10,$AW62:$CA62)*(WEEKDAY($AW$10:$CA$10,2)<6)*(COUNTIF(jours_fériés,$AW$10:$CA$10)=0)) -> 0 | U62: =SUMPRODUCT(COUNTIF($U$10,$AW62:$CA62)*(WEEKDAY($AW$10:$CA$10,2)<6)*(COUNTIF(jours_fériés,$AW$10:$CA$10)=0)) -> 0 | V62: =SUMPRODUCT(COUNTIF($V$10,$AW62:$CA62)*(WEEKDAY($AW$10:$CA$10,2)<6)*(COUNTIF(jours_fériés,$AW$10:$CA$10)=0)) -> 0 | W62: =SUMPRODUCT(COUNTIF($W$10,$AW62:$CA62)*(WEEKDAY($AW$10:$CA$10,2)<6)*(COUNTIF(jours_fériés,$AW$10:$CA$10)=0)) -> 0 | X62: =SUMPRODUCT(COUNTIF($X$10,$AW62:$CA62)*(WEEKDAY($AW$10:$CA$10,2)<6)*(COUNTIF(jours_fériés,$AW$10:$CA$10)=0)) -> 0 | Y62: =SUMPRODUCT(COUNTIF($Y$10,$AW62:$CA62)*(WEEKDAY($AW$10:$CA$10,2)<6)*(COUNTIF(jours_fériés,$AW$10:$CA$10)=0)) -> 0 | Z62: =SUMPRODUCT(COUNTIF($Z$10,$AW62:$CA62)*(WEEKDAY($AW$10:$CA$10,2)<6)*(COUNTIF(jours_fériés,$AW$10:$CA$10)=0)) -> 0 | AA62: =SUMPRODUCT(COUNTIF($AA$10,$AW62:$CA62)*(WEEKDAY($AW$10:$CA$10,2)<6)*(COUNTIF(jours_fériés,$AW$10:$CA$10)=0)) -> 0 | AB62: =($U$8)-SUM($J62:$AA62) -> 20 | AC62: =SUMPRODUCT(COUNTIF($AC$10,$AW62:$CA62)) -> 0 | AD62: =SUMPRODUCT(COUNTIF($AD$10,$AW62:$CA62)) -> 0 | AE62: =SUMPRODUCT(COUNTIF($AE$10,$AW62:$CA62)) -> 0 | AF62: =SUMPRODUCT(COUNTIF($AF$10,$AW62:$CA62)) -> 0 | AG62: =SUMPRODUCT(COUNTIF($AG$10,$AW62:$CA62)) -> 0 | AH62: =SUMPRODUCT(COUNTIF($AH$10,$AW62:$CA62)) -> 0 | AI62: =SUMPRODUCT(COUNTIF($AI$10,$AW62:$CA62)) -> 0 | AJ62: =SUMPRODUCT(COUNTIF($AJ$10,$AW62:$CA62)) -> 0 | AK62: =SUMPRODUCT(COUNTIF($AK$10,$AW62:$CA62)) -> 0 | AL62: =SUM($AF62:$AK62) -> 0 | AM62: =SUMPRODUCT(COUNTIF($AM$10,$AW62:$CA62)) -> 0 | AN62: =SUMPRODUCT(COUNTIF($AN$10,$AW62:$CA62)) -> 0 | AO62: =SUMPRODUCT(COUNTIF($AO$10,$AW62:$CA62)) -> 0 | AP62: =SUMPRODUCT(COUNTIF($AP$10,$AW62:$CA62)) -> 0 | AQ62: =SUMPRODUCT(COUNTIF($AQ$10,$AW62:$CA62)) -> 0 | AR62: =SUMPRODUCT(COUNTIF($AR$10,$AW62:$CA62)) -> 0 | AS62: =SUMPRODUCT(COUNTIF($AS$10,$AW62:$CA62)) -> 0 | AT62: =SUMPRODUCT(COUNTIF($AT$10,$AW62:$CA62)) -> 0 | AU62: =SUMPRODUCT(COUNTIF($AU$10,$AW62:$CA62)) -> 0 | AV62: =SUMPRODUCT(COUNTIF($AV$10,$AW62:$CA62)) -> 0
A63: =[1]PERSONNELS!B58 -> SCAOS | B63: =[1]PERSONNELS!C58 -> SCH | G63: =$AW$8 -> 42675 | H63: =SUMPRODUCT(COUNTIF($H$10,$AW63:$CA63)*(WEEKDAY($AW$10:$CA$10,2)<6)*(COUNTIF(jours_fériés,$AW$10:$CA$10)=0)) -> 0 | I63: =SUMPRODUCT(COUNTIF($I$10,$AW63:$CA63)*(WEEKDAY($AW$10:$CA$10,2)<6)*(COUNTIF(jours_fériés,$AW$10:$CA$10)=0))/2 -> 0 | J63: =SUM(H63:I63) -> 0 | K63: =SUMPRODUCT(COUNTIF($K$10,$AW63:$CA63)*(WEEKDAY($AW$10:$CA$10,2)<6)*(COUNTIF(jours_fériés,$AW$10:$CA$10)=0)) -> 0 | L63: =SUMPRODUCT(COUNTIF($L$10,$AW63:$CA63)*(WEEKDAY($AW$10:$CA$10,2)<6)*(COUNTIF(jours_fériés,$AW$10:$CA$10)=0)) -> 0 | M63: =SUMPRODUCT(COUNTIF($M$10,$AW63:$CA63)*(WEEKDAY($AW$10:$CA$10,2)<6)*(COUNTIF(jours_fériés,$AW$10:$CA$10)=0)) -> 0 | N63: =SUMPRODUCT(COUNTIF($N$10,$AW63:$CA63)*(WEEKDAY($AW$10:$CA$10,2)<6)*(COUNTIF(jours_fériés,$AW$10:$CA$10)=0)) -> 0 | O63: =SUMPRODUCT(COUNTIF($O$10,$AW63:$CA63)*(WEEKDAY($AW$10:$CA$10,2)<6)*(COUNTIF(jours_fériés,$AW$10:$CA$10)=0)) -> 0 | P63: =SUMPRODUCT(COUNTIF($P$10,$AW63:$CA63)*(WEEKDAY($AW$10:$CA$10,2)<6)*(COUNTIF(jours_fériés,$AW$10:$CA$10)=0)) -> 0 | Q63: =SUMPRODUCT(COUNTIF($Q$10,$AW63:$CA63)*(WEEKDAY($AW$10:$CA$10,2)<6)*(COUNTIF(jours_fériés,$AW$10:$CA$10)=0)) -> 0 | R63: =SUMPRODUCT(COUNTIF($R$10,$AW63:$CA63)*(WEEKDAY($AW$10:$CA$10,2)<6)*(COUNTIF(jours_fériés,$AW$10:$CA$10)=0)) -> 0 | S63: =SUMPRODUCT(COUNTIF($S$10,$AW63:$CA63)*(WEEKDAY($AW$10:$CA$10,2)<6)*(COUNTIF(jours_fériés,$AW$10:$CA$10)=0)) -> 0 | T63: =SUMPRODUCT(COUNTIF($T$10,$AW63:$CA63)*(WEEKDAY($AW$10:$CA$10,2)<6)*(COUNTIF(jours_fériés,$AW$10:$CA$10)=0)) -> 0 | U63: =SUMPRODUCT(COUNTIF($U$10,$AW63:$CA63)*(WEEKDAY($AW$10:$CA$10,2)<6)*(COUNTIF(jours_fériés,$AW$10:$CA$10)=0)) -> 0 | V63: =SUMPRODUCT(COUNTIF($V$10,$AW63:$CA63)*(WEEKDAY($AW$10:$CA$10,2)<6)*(COUNTIF(jours_fériés,$AW$10:$CA$10)=0)) -> 0 | W63: =SUMPRODUCT(COUNTIF($W$10,$AW63:$CA63)*(WEEKDAY($AW$10:$CA$10,2)<6)*(COUNTIF(jours_fériés,$AW$10:$CA$10)=0)) -> 0 | X63: =SUMPRODUCT(COUNTIF($X$10,$AW63:$CA63)*(WEEKDAY($AW$10:$CA$10,2)<6)*(COUNTIF(jours_fériés,$AW$10:$CA$10)=0)) -> 0 | Y63: =SUMPRODUCT(COUNTIF($Y$10,$AW63:$CA63)*(WEEKDAY($AW$10:$CA$10,2)<6)*(COUNTIF(jours_fériés,$AW$10:$CA$10)=0)) -> 0 | Z63: =SUMPRODUCT(COUNTIF($Z$10,$AW63:$CA63)*(WEEKDAY($AW$10:$CA$10,2)<6)*(COUNTIF(jours_fériés,$AW$10:$CA$10)=0)) -> 0 | AA63: =SUMPRODUCT(COUNTIF($AA$10,$AW63:$CA63)*(WEEKDAY($AW$10:$CA$10,2)<6)*(COUNTIF(jours_fériés,$AW$10:$CA$10)=0)) -> 0 | AB63: =($U$8)-SUM($J63:$AA63) -> 20 | AC63: =SUMPRODUCT(COUNTIF($AC$10,$AW63:$CA63)) -> 0 | AD63: =SUMPRODUCT(COUNTIF($AD$10,$AW63:$CA63)) -> 0 | AE63: =SUMPRODUCT(COUNTIF($AE$10,$AW63:$CA63)) -> 0 | AF63: =SUMPRODUCT(COUNTIF($AF$10,$AW63:$CA63)) -> 0 | AG63: =SUMPRODUCT(COUNTIF($AG$10,$AW63:$CA63)) -> 0 | AH63: =SUMPRODUCT(COUNTIF($AH$10,$AW63:$CA63)) -> 0 | AI63: =SUMPRODUCT(COUNTIF($AI$10,$AW63:$CA63)) -> 0 | AJ63: =SUMPRODUCT(COUNTIF($AJ$10,$AW63:$CA63)) -> 0 | AK63: =SUMPRODUCT(COUNTIF($AK$10,$AW63:$CA63)) -> 0 | AL63: =SUM($AF63:$AK63) -> 0 | AM63: =SUMPRODUCT(COUNTIF($AM$10,$AW63:$CA63)) -> 0 | AN63: =SUMPRODUCT(COUNTIF($AN$10,$AW63:$CA63)) -> 0 | AO63: =SUMPRODUCT(COUNTIF($AO$10,$AW63:$CA63)) -> 0 | AP63: =SUMPRODUCT(COUNTIF($AP$10,$AW63:$CA63)) -> 0 | AQ63: =SUMPRODUCT(COUNTIF($AQ$10,$AW63:$CA63)) -> 0 | AR63: =SUMPRODUCT(COUNTIF($AR$10,$AW63:$CA63)) -> 0 | AS63: =SUMPRODUCT(COUNTIF($AS$10,$AW63:$CA63)) -> 0 | AT63: =SUMPRODUCT(COUNTIF($AT$10,$AW63:$CA63)) -> 0 | AU63: =SUMPRODUCT(COUNTIF($AU$10,$AW63:$CA63)) -> 0 | AV63: =SUMPRODUCT(COUNTIF($AV$10,$AW63:$CA63)) -> 0
A64: =[1]PERSONNELS!B59 -> SCAOS | B64: =[1]PERSONNELS!C59 -> SGT | G64: =$AW$8 -> 42675 | H64: =SUMPRODUCT(COUNTIF($H$10,$AW64:$CA64)*(WEEKDAY($AW$10:$CA$10,2)<6)*(COUNTIF(jours_fériés,$AW$10:$CA$10)=0)) -> 0 | I64: =SUMPRODUCT(COUNTIF($I$10,$AW64:$CA64)*(WEEKDAY($AW$10:$CA$10,2)<6)*(COUNTIF(jours_fériés,$AW$10:$CA$10)=0))/2 -> 0 | J64: =SUM(H64:I64) -> 0 | K64: =SUMPRODUCT(COUNTIF($K$10,$AW64:$CA64)*(WEEKDAY($AW$10:$CA$10,2)<6)*(COUNTIF(jours_fériés,$AW$10:$CA$10)=0)) -> 0 | L64: =SUMPRODUCT(COUNTIF($L$10,$AW64:$CA64)*(WEEKDAY($AW$10:$CA$10,2)<6)*(COUNTIF(jours_fériés,$AW$10:$CA$10)=0)) -> 0 | M64: =SUMPRODUCT(COUNTIF($M$10,$AW64:$CA64)*(WEEKDAY($AW$10:$CA$10,2)<6)*(COUNTIF(jours_fériés,$AW$10:$CA$10)=0)) -> 0 | N64: =SUMPRODUCT(COUNTIF($N$10,$AW64:$CA64)*(WEEKDAY($AW$10:$CA$10,2)<6)*(COUNTIF(jours_fériés,$AW$10:$CA$10)=0)) -> 0 | O64: =SUMPRODUCT(COUNTIF($O$10,$AW64:$CA64)*(WEEKDAY($AW$10:$CA$10,2)<6)*(COUNTIF(jours_fériés,$AW$10:$CA$10)=0)) -> 0 | P64: =SUMPRODUCT(COUNTIF($P$10,$AW64:$CA64)*(WEEKDAY($AW$10:$CA$10,2)<6)*(COUNTIF(jours_fériés,$AW$10:$CA$10)=0)) -> 0 | Q64: =SUMPRODUCT(COUNTIF($Q$10,$AW64:$CA64)*(WEEKDAY($AW$10:$CA$10,2)<6)*(COUNTIF(jours_fériés,$AW$10:$CA$10)=0)) -> 0 | R64: =SUMPRODUCT(COUNTIF($R$10,$AW64:$CA64)*(WEEKDAY($AW$10:$CA$10,2)<6)*(COUNTIF(jours_fériés,$AW$10:$CA$10)=0)) -> 0 | S64: =SUMPRODUCT(COUNTIF($S$10,$AW64:$CA64)*(WEEKDAY($AW$10:$CA$10,2)<6)*(COUNTIF(jours_fériés,$AW$10:$CA$10)=0)) -> 0 | T64: =SUMPRODUCT(COUNTIF($T$10,$AW64:$CA64)*(WEEKDAY($AW$10:$CA$10,2)<6)*(COUNTIF(jours_fériés,$AW$10:$CA$10)=0)) -> 0 | U64: =SUMPRODUCT(COUNTIF($U$10,$AW64:$CA64)*(WEEKDAY($AW$10:$CA$10,2)<6)*(COUNTIF(jours_fériés,$AW$10:$CA$10)=0)) -> 0 | V64: =SUMPRODUCT(COUNTIF($V$10,$AW64:$CA64)*(WEEKDAY($AW$10:$CA$10,2)<6)*(COUNTIF(jours_fériés,$AW$10:$CA$10)=0)) -> 0 | W64: =SUMPRODUCT(COUNTIF($W$10,$AW64:$CA64)*(WEEKDAY($AW$10:$CA$10,2)<6)*(COUNTIF(jours_fériés,$AW$10:$CA$10)=0)) -> 0 | X64: =SUMPRODUCT(COUNTIF($X$10,$AW64:$CA64)*(WEEKDAY($AW$10:$CA$10,2)<6)*(COUNTIF(jours_fériés,$AW$10:$CA$10)=0)) -> 0 | Y64: =SUMPRODUCT(COUNTIF($Y$10,$AW64:$CA64)*(WEEKDAY($AW$10:$CA$10,2)<6)*(COUNTIF(jours_fériés,$AW$10:$CA$10)=0)) -> 0 | Z64: =SUMPRODUCT(COUNTIF($Z$10,$AW64:$CA64)*(WEEKDAY($AW$10:$CA$10,2)<6)*(COUNTIF(jours_fériés,$AW$10:$CA$10)=0)) -> 0 | AA64: =SUMPRODUCT(COUNTIF($AA$10,$AW64:$CA64)*(WEEKDAY($AW$10:$CA$10,2)<6)*(COUNTIF(jours_fériés,$AW$10:$CA$10)=0)) -> 0 | AB64: =($U$8)-SUM($J64:$AA64) -> 20 | AC64: =SUMPRODUCT(COUNTIF($AC$10,$AW64:$CA64)) -> 0 | AD64: =SUMPRODUCT(COUNTIF($AD$10,$AW64:$CA64)) -> 0 | AE64: =SUMPRODUCT(COUNTIF($AE$10,$AW64:$CA64)) -> 0 | AF64: =SUMPRODUCT(COUNTIF($AF$10,$AW64:$CA64)) -> 0 | AG64: =SUMPRODUCT(COUNTIF($AG$10,$AW64:$CA64)) -> 0 | AH64: =SUMPRODUCT(COUNTIF($AH$10,$AW64:$CA64)) -> 0 | AI64: =SUMPRODUCT(COUNTIF($AI$10,$AW64:$CA64)) -> 0 | AJ64: =SUMPRODUCT(COUNTIF($AJ$10,$AW64:$CA64)) -> 0 | AK64: =SUMPRODUCT(COUNTIF($AK$10,$AW64:$CA64)) -> 0 | AL64: =SUM($AF64:$AK64) -> 0 | AM64: =SUMPRODUCT(COUNTIF($AM$10,$AW64:$CA64)) -> 0 | AN64: =SUMPRODUCT(COUNTIF($AN$10,$AW64:$CA64)) -> 0 | AO64: =SUMPRODUCT(COUNTIF($AO$10,$AW64:$CA64)) -> 0 | AP64: =SUMPRODUCT(COUNTIF($AP$10,$AW64:$CA64)) -> 0 | AQ64: =SUMPRODUCT(COUNTIF($AQ$10,$AW64:$CA64)) -> 0 | AR64: =SUMPRODUCT(COUNTIF($AR$10,$AW64:$CA64)) -> 0 | AS64: =SUMPRODUCT(COUNTIF($AS$10,$AW64:$CA64)) -> 0 | AT64: =SUMPRODUCT(COUNTIF($AT$10,$AW64:$CA64)) -> 0 | AU64: =SUMPRODUCT(COUNTIF($AU$10,$AW64:$CA64)) -> 0 | AV64: =SUMPRODUCT(COUNTIF($AV$10,$AW64:$CA64)) -> 0
A65: =[1]PERSONNELS!B60 -> SCAOS | B65: =[1]PERSONNELS!C60 -> SGT | G65: =$AW$8 -> 42675 | H65: =SUMPRODUCT(COUNTIF($H$10,$AW65:$CA65)*(WEEKDAY($AW$10:$CA$10,2)<6)*(COUNTIF(jours_fériés,$AW$10:$CA$10)=0)) -> 0 | I65: =SUMPRODUCT(COUNTIF($I$10,$AW65:$CA65)*(WEEKDAY($AW$10:$CA$10,2)<6)*(COUNTIF(jours_fériés,$AW$10:$CA$10)=0))/2 -> 0 | J65: =SUM(H65:I65) -> 0 | K65: =SUMPRODUCT(COUNTIF($K$10,$AW65:$CA65)*(WEEKDAY($AW$10:$CA$10,2)<6)*(COUNTIF(jours_fériés,$AW$10:$CA$10)=0)) -> 0 | L65: =SUMPRODUCT(COUNTIF($L$10,$AW65:$CA65)*(WEEKDAY($AW$10:$CA$10,2)<6)*(COUNTIF(jours_fériés,$AW$10:$CA$10)=0)) -> 0 | M65: =SUMPRODUCT(COUNTIF($M$10,$AW65:$CA65)*(WEEKDAY($AW$10:$CA$10,2)<6)*(COUNTIF(jours_fériés,$AW$10:$CA$10)=0)) -> 0 | N65: =SUMPRODUCT(COUNTIF($N$10,$AW65:$CA65)*(WEEKDAY($AW$10:$CA$10,2)<6)*(COUNTIF(jours_fériés,$AW$10:$CA$10)=0)) -> 0 | O65: =SUMPRODUCT(COUNTIF($O$10,$AW65:$CA65)*(WEEKDAY($AW$10:$CA$10,2)<6)*(COUNTIF(jours_fériés,$AW$10:$CA$10)=0)) -> 0 | P65: =SUMPRODUCT(COUNTIF($P$10,$AW65:$CA65)*(WEEKDAY($AW$10:$CA$10,2)<6)*(COUNTIF(jours_fériés,$AW$10:$CA$10)=0)) -> 0 | Q65: =SUMPRODUCT(COUNTIF($Q$10,$AW65:$CA65)*(WEEKDAY($AW$10:$CA$10,2)<6)*(COUNTIF(jours_fériés,$AW$10:$CA$10)=0)) -> 0 | R65: =SUMPRODUCT(COUNTIF($R$10,$AW65:$CA65)*(WEEKDAY($AW$10:$CA$10,2)<6)*(COUNTIF(jours_fériés,$AW$10:$CA$10)=0)) -> 0 | S65: =SUMPRODUCT(COUNTIF($S$10,$AW65:$CA65)*(WEEKDAY($AW$10:$CA$10,2)<6)*(COUNTIF(jours_fériés,$AW$10:$CA$10)=0)) -> 0 | T65: =SUMPRODUCT(COUNTIF($T$10,$AW65:$CA65)*(WEEKDAY($AW$10:$CA$10,2)<6)*(COUNTIF(jours_fériés,$AW$10:$CA$10)=0)) -> 0 | U65: =SUMPRODUCT(COUNTIF($U$10,$AW65:$CA65)*(WEEKDAY($AW$10:$CA$10,2)<6)*(COUNTIF(jours_fériés,$AW$10:$CA$10)=0)) -> 0 | V65: =SUMPRODUCT(COUNTIF($V$10,$AW65:$CA65)*(WEEKDAY($AW$10:$CA$10,2)<6)*(COUNTIF(jours_fériés,$AW$10:$CA$10)=0)) -> 0 | W65: =SUMPRODUCT(COUNTIF($W$10,$AW65:$CA65)*(WEEKDAY($AW$10:$CA$10,2)<6)*(COUNTIF(jours_fériés,$AW$10:$CA$10)=0)) -> 0 | X65: =SUMPRODUCT(COUNTIF($X$10,$AW65:$CA65)*(WEEKDAY($AW$10:$CA$10,2)<6)*(COUNTIF(jours_fériés,$AW$10:$CA$10)=0)) -> 0 | Y65: =SUMPRODUCT(COUNTIF($Y$10,$AW65:$CA65)*(WEEKDAY($AW$10:$CA$10,2)<6)*(COUNTIF(jours_fériés,$AW$10:$CA$10)=0)) -> 0 | Z65: =SUMPRODUCT(COUNTIF($Z$10,$AW65:$CA65)*(WEEKDAY($AW$10:$CA$10,2)<6)*(COUNTIF(jours_fériés,$AW$10:$CA$10)=0)) -> 0 | AA65: =SUMPRODUCT(COUNTIF($AA$10,$AW65:$CA65)*(WEEKDAY($AW$10:$CA$10,2)<6)*(COUNTIF(jours_fériés,$AW$10:$CA$10)=0)) -> 0 | AB65: =($U$8)-SUM($J65:$AA65) -> 20 | AC65: =SUMPRODUCT(COUNTIF($AC$10,$AW65:$CA65)) -> 0 | AD65: =SUMPRODUCT(COUNTIF($AD$10,$AW65:$CA65)) -> 0 | AE65: =SUMPRODUCT(COUNTIF($AE$10,$AW65:$CA65)) -> 0 | AF65: =SUMPRODUCT(COUNTIF($AF$10,$AW65:$CA65)) -> 0 | AG65: =SUMPRODUCT(COUNTIF($AG$10,$AW65:$CA65)) -> 0 | AH65: =SUMPRODUCT(COUNTIF($AH$10,$AW65:$CA65)) -> 0 | AI65: =SUMPRODUCT(COUNTIF($AI$10,$AW65:$CA65)) -> 0 | AJ65: =SUMPRODUCT(COUNTIF($AJ$10,$AW65:$CA65)) -> 0 | AK65: =SUMPRODUCT(COUNTIF($AK$10,$AW65:$CA65)) -> 0 | AL65: =SUM($AF65:$AK65) -> 0 | AM65: =SUMPRODUCT(COUNTIF($AM$10,$AW65:$CA65)) -> 0 | AN65: =SUMPRODUCT(COUNTIF($AN$10,$AW65:$CA65)) -> 0 | AO65: =SUMPRODUCT(COUNTIF($AO$10,$AW65:$CA65)) -> 0 | AP65: =SUMPRODUCT(COUNTIF($AP$10,$AW65:$CA65)) -> 0 | AQ65: =SUMPRODUCT(COUNTIF($AQ$10,$AW65:$CA65)) -> 0 | AR65: =SUMPRODUCT(COUNTIF($AR$10,$AW65:$CA65)) -> 0 | AS65: =SUMPRODUCT(COUNTIF($AS$10,$AW65:$CA65)) -> 0 | AT65: =SUMPRODUCT(COUNTIF($AT$10,$AW65:$CA65)) -> 0 | AU65: =SUMPRODUCT(COUNTIF($AU$10,$AW65:$CA65)) -> 0 | AV65: =SUMPRODUCT(COUNTIF($AV$10,$AW65:$CA65)) -> 0
A66: =[1]PERSONNELS!B61 -> SCAOS | B66: =[1]PERSONNELS!C61 -> SGT | G66: =$AW$8 -> 42675 | H66: =SUMPRODUCT(COUNTIF($H$10,$AW66:$CA66)*(WEEKDAY($AW$10:$CA$10,2)<6)*(COUNTIF(jours_fériés,$AW$10:$CA$10)=0)) -> 0 | I66: =SUMPRODUCT(COUNTIF($I$10,$AW66:$CA66)*(WEEKDAY($AW$10:$CA$10,2)<6)*(COUNTIF(jours_fériés,$AW$10:$CA$10)=0))/2 -> 0 | J66: =SUM(H66:I66) -> 0 | K66: =SUMPRODUCT(COUNTIF($K$10,$AW66:$CA66)*(WEEKDAY($AW$10:$CA$10,2)<6)*(COUNTIF(jours_fériés,$AW$10:$CA$10)=0)) -> 0 | L66: =SUMPRODUCT(COUNTIF($L$10,$AW66:$CA66)*(WEEKDAY($AW$10:$CA$10,2)<6)*(COUNTIF(jours_fériés,$AW$10:$CA$10)=0)) -> 0 | M66: =SUMPRODUCT(COUNTIF($M$10,$AW66:$CA66)*(WEEKDAY($AW$10:$CA$10,2)<6)*(COUNTIF(jours_fériés,$AW$10:$CA$10)=0)) -> 0 | N66: =SUMPRODUCT(COUNTIF($N$10,$AW66:$CA66)*(WEEKDAY($AW$10:$CA$10,2)<6)*(COUNTIF(jours_fériés,$AW$10:$CA$10)=0)) -> 0 | O66: =SUMPRODUCT(COUNTIF($O$10,$AW66:$CA66)*(WEEKDAY($AW$10:$CA$10,2)<6)*(COUNTIF(jours_fériés,$AW$10:$CA$10)=0)) -> 0 | P66: =SUMPRODUCT(COUNTIF($P$10,$AW66:$CA66)*(WEEKDAY($AW$10:$CA$10,2)<6)*(COUNTIF(jours_fériés,$AW$10:$CA$10)=0)) -> 0 | Q66: =SUMPRODUCT(COUNTIF($Q$10,$AW66:$CA66)*(WEEKDAY($AW$10:$CA$10,2)<6)*(COUNTIF(jours_fériés,$AW$10:$CA$10)=0)) -> 0 | R66: =SUMPRODUCT(COUNTIF($R$10,$AW66:$CA66)*(WEEKDAY($AW$10:$CA$10,2)<6)*(COUNTIF(jours_fériés,$AW$10:$CA$10)=0)) -> 0 | S66: =SUMPRODUCT(COUNTIF($S$10,$AW66:$CA66)*(WEEKDAY($AW$10:$CA$10,2)<6)*(COUNTIF(jours_fériés,$AW$10:$CA$10)=0)) -> 0 | T66: =SUMPRODUCT(COUNTIF($T$10,$AW66:$CA66)*(WEEKDAY($AW$10:$CA$10,2)<6)*(COUNTIF(jours_fériés,$AW$10:$CA$10)=0)) -> 0 | U66: =SUMPRODUCT(COUNTIF($U$10,$AW66:$CA66)*(WEEKDAY($AW$10:$CA$10,2)<6)*(COUNTIF(jours_fériés,$AW$10:$CA$10)=0)) -> 0 | V66: =SUMPRODUCT(COUNTIF($V$10,$AW66:$CA66)*(WEEKDAY($AW$10:$CA$10,2)<6)*(COUNTIF(jours_fériés,$AW$10:$CA$10)=0)) -> 0 | W66: =SUMPRODUCT(COUNTIF($W$10,$AW66:$CA66)*(WEEKDAY($AW$10:$CA$10,2)<6)*(COUNTIF(jours_fériés,$AW$10:$CA$10)=0)) -> 0 | X66: =SUMPRODUCT(COUNTIF($X$10,$AW66:$CA66)*(WEEKDAY($AW$10:$CA$10,2)<6)*(COUNTIF(jours_fériés,$AW$10:$CA$10)=0)) -> 0 | Y66: =SUMPRODUCT(COUNTIF($Y$10,$AW66:$CA66)*(WEEKDAY($AW$10:$CA$10,2)<6)*(COUNTIF(jours_fériés,$AW$10:$CA$10)=0)) -> 0 | Z66: =SUMPRODUCT(COUNTIF($Z$10,$AW66:$CA66)*(WEEKDAY($AW$10:$CA$10,2)<6)*(COUNTIF(jours_fériés,$AW$10:$CA$10)=0)) -> 0 | AA66: =SUMPRODUCT(COUNTIF($AA$10,$AW66:$CA66)*(WEEKDAY($AW$10:$CA$10,2)<6)*(COUNTIF(jours_fériés,$AW$10:$CA$10)=0)) -> 0 | AB66: =($U$8)-SUM($J66:$AA66) -> 20 | AC66: =SUMPRODUCT(COUNTIF($AC$10,$AW66:$CA66)) -> 0 | AD66: =SUMPRODUCT(COUNTIF($AD$10,$AW66:$CA66)) -> 0 | AE66: =SUMPRODUCT(COUNTIF($AE$10,$AW66:$CA66)) -> 0 | AF66: =SUMPRODUCT(COUNTIF($AF$10,$AW66:$CA66)) -> 0 | AG66: =SUMPRODUCT(COUNTIF($AG$10,$AW66:$CA66)) -> 0 | AH66: =SUMPRODUCT(COUNTIF($AH$10,$AW66:$CA66)) -> 0 | AI66: =SUMPRODUCT(COUNTIF($AI$10,$AW66:$CA66)) -> 0 | AJ66: =SUMPRODUCT(COUNTIF($AJ$10,$AW66:$CA66)) -> 0 | AK66: =SUMPRODUCT(COUNTIF($AK$10,$AW66:$CA66)) -> 0 | AL66: =SUM($AF66:$AK66) -> 0 | AM66: =SUMPRODUCT(COUNTIF($AM$10,$AW66:$CA66)) -> 0 | AN66: =SUMPRODUCT(COUNTIF($AN$10,$AW66:$CA66)) -> 0 | AO66: =SUMPRODUCT(COUNTIF($AO$10,$AW66:$CA66)) -> 0 | AP66: =SUMPRODUCT(COUNTIF($AP$10,$AW66:$CA66)) -> 0 | AQ66: =SUMPRODUCT(COUNTIF($AQ$10,$AW66:$CA66)) -> 0 | AR66: =SUMPRODUCT(COUNTIF($AR$10,$AW66:$CA66)) -> 0 | AS66: =SUMPRODUCT(COUNTIF($AS$10,$AW66:$CA66)) -> 0 | AT66: =SUMPRODUCT(COUNTIF($AT$10,$AW66:$CA66)) -> 0 | AU66: =SUMPRODUCT(COUNTIF($AU$10,$AW66:$CA66)) -> 0 | AV66: =SUMPRODUCT(COUNTIF($AV$10,$AW66:$CA66)) -> 0
A67: =[1]PERSONNELS!B62 -> SCAOS | B67: =[1]PERSONNELS!C62 -> SGT | G67: =$AW$8 -> 42675 | H67: =SUMPRODUCT(COUNTIF($H$10,$AW67:$CA67)*(WEEKDAY($AW$10:$CA$10,2)<6)*(COUNTIF(jours_fériés,$AW$10:$CA$10)=0)) -> 0 | I67: =SUMPRODUCT(COUNTIF($I$10,$AW67:$CA67)*(WEEKDAY($AW$10:$CA$10,2)<6)*(COUNTIF(jours_fériés,$AW$10:$CA$10)=0))/2 -> 0 | J67: =SUM(H67:I67) -> 0 | K67: =SUMPRODUCT(COUNTIF($K$10,$AW67:$CA67)*(WEEKDAY($AW$10:$CA$10,2)<6)*(COUNTIF(jours_fériés,$AW$10:$CA$10)=0)) -> 0 | L67: =SUMPRODUCT(COUNTIF($L$10,$AW67:$CA67)*(WEEKDAY($AW$10:$CA$10,2)<6)*(COUNTIF(jours_fériés,$AW$10:$CA$10)=0)) -> 0 | M67: =SUMPRODUCT(COUNTIF($M$10,$AW67:$CA67)*(WEEKDAY($AW$10:$CA$10,2)<6)*(COUNTIF(jours_fériés,$AW$10:$CA$10)=0)) -> 0 | N67: =SUMPRODUCT(COUNTIF($N$10,$AW67:$CA67)*(WEEKDAY($AW$10:$CA$10,2)<6)*(COUNTIF(jours_fériés,$AW$10:$CA$10)=0)) -> 0 | O67: =SUMPRODUCT(COUNTIF($O$10,$AW67:$CA67)*(WEEKDAY($AW$10:$CA$10,2)<6)*(COUNTIF(jours_fériés,$AW$10:$CA$10)=0)) -> 0 | P67: =SUMPRODUCT(COUNTIF($P$10,$AW67:$CA67)*(WEEKDAY($AW$10:$CA$10,2)<6)*(COUNTIF(jours_fériés,$AW$10:$CA$10)=0)) -> 0 | Q67: =SUMPRODUCT(COUNTIF($Q$10,$AW67:$CA67)*(WEEKDAY($AW$10:$CA$10,2)<6)*(COUNTIF(jours_fériés,$AW$10:$CA$10)=0)) -> 0 | R67: =SUMPRODUCT(COUNTIF($R$10,$AW67:$CA67)*(WEEKDAY($AW$10:$CA$10,2)<6)*(COUNTIF(jours_fériés,$AW$10:$CA$10)=0)) -> 0 | S67: =SUMPRODUCT(COUNTIF($S$10,$AW67:$CA67)*(WEEKDAY($AW$10:$CA$10,2)<6)*(COUNTIF(jours_fériés,$AW$10:$CA$10)=0)) -> 0 | T67: =SUMPRODUCT(COUNTIF($T$10,$AW67:$CA67)*(WEEKDAY($AW$10:$CA$10,2)<6)*(COUNTIF(jours_fériés,$AW$10:$CA$10)=0)) -> 0 | U67: =SUMPRODUCT(COUNTIF($U$10,$AW67:$CA67)*(WEEKDAY($AW$10:$CA$10,2)<6)*(COUNTIF(jours_fériés,$AW$10:$CA$10)=0)) -> 0 | V67: =SUMPRODUCT(COUNTIF($V$10,$AW67:$CA67)*(WEEKDAY($AW$10:$CA$10,2)<6)*(COUNTIF(jours_fériés,$AW$10:$CA$10)=0)) -> 0 | W67: =SUMPRODUCT(COUNTIF($W$10,$AW67:$CA67)*(WEEKDAY($AW$10:$CA$10,2)<6)*(COUNTIF(jours_fériés,$AW$10:$CA$10)=0)) -> 0 | X67: =SUMPRODUCT(COUNTIF($X$10,$AW67:$CA67)*(WEEKDAY($AW$10:$CA$10,2)<6)*(COUNTIF(jours_fériés,$AW$10:$CA$10)=0)) -> 0 | Y67: =SUMPRODUCT(COUNTIF($Y$10,$AW67:$CA67)*(WEEKDAY($AW$10:$CA$10,2)<6)*(COUNTIF(jours_fériés,$AW$10:$CA$10)=0)) -> 0 | Z67: =SUMPRODUCT(COUNTIF($Z$10,$AW67:$CA67)*(WEEKDAY($AW$10:$CA$10,2)<6)*(COUNTIF(jours_fériés,$AW$10:$CA$10)=0)) -> 0 | AA67: =SUMPRODUCT(COUNTIF($AA$10,$AW67:$CA67)*(WEEKDAY($AW$10:$CA$10,2)<6)*(COUNTIF(jours_fériés,$AW$10:$CA$10)=0)) -> 0 | AB67: =($U$8)-SUM($J67:$AA67) -> 20 | AC67: =SUMPRODUCT(COUNTIF($AC$10,$AW67:$CA67)) -> 0 | AD67: =SUMPRODUCT(COUNTIF($AD$10,$AW67:$CA67)) -> 0 | AE67: =SUMPRODUCT(COUNTIF($AE$10,$AW67:$CA67)) -> 0 | AF67: =SUMPRODUCT(COUNTIF($AF$10,$AW67:$CA67)) -> 0 | AG67: =SUMPRODUCT(COUNTIF($AG$10,$AW67:$CA67)) -> 0 | AH67: =SUMPRODUCT(COUNTIF($AH$10,$AW67:$CA67)) -> 0 | AI67: =SUMPRODUCT(COUNTIF($AI$10,$AW67:$CA67)) -> 0 | AJ67: =SUMPRODUCT(COUNTIF($AJ$10,$AW67:$CA67)) -> 0 | AK67: =SUMPRODUCT(COUNTIF($AK$10,$AW67:$CA67)) -> 0 | AL67: =SUM($AF67:$AK67) -> 0 | AM67: =SUMPRODUCT(COUNTIF($AM$10,$AW67:$CA67)) -> 0 | AN67: =SUMPRODUCT(COUNTIF($AN$10,$AW67:$CA67)) -> 0 | AO67: =SUMPRODUCT(COUNTIF($AO$10,$AW67:$CA67)) -> 0 | AP67: =SUMPRODUCT(COUNTIF($AP$10,$AW67:$CA67)) -> 0 | AQ67: =SUMPRODUCT(COUNTIF($AQ$10,$AW67:$CA67)) -> 0 | AR67: =SUMPRODUCT(COUNTIF($AR$10,$AW67:$CA67)) -> 0 | AS67: =SUMPRODUCT(COUNTIF($AS$10,$AW67:$CA67)) -> 0 | AT67: =SUMPRODUCT(COUNTIF($AT$10,$AW67:$CA67)) -> 0 | AU67: =SUMPRODUCT(COUNTIF($AU$10,$AW67:$CA67)) -> 0 | AV67: =SUMPRODUCT(COUNTIF($AV$10,$AW67:$CA67)) -> 0
A68: =[1]PERSONNELS!B63 -> SCAOS | B68: =[1]PERSONNELS!C63 -> CC1 | G68: =$AW$8 -> 42675 | H68: =SUMPRODUCT(COUNTIF($H$10,$AW68:$CA68)*(WEEKDAY($AW$10:$CA$10,2)<6)*(COUNTIF(jours_fériés,$AW$10:$CA$10)=0)) -> 0 | I68: =SUMPRODUCT(COUNTIF($I$10,$AW68:$CA68)*(WEEKDAY($AW$10:$CA$10,2)<6)*(COUNTIF(jours_fériés,$AW$10:$CA$10)=0))/2 -> 0 | J68: =SUM(H68:I68) -> 0 | K68: =SUMPRODUCT(COUNTIF($K$10,$AW68:$CA68)*(WEEKDAY($AW$10:$CA$10,2)<6)*(COUNTIF(jours_fériés,$AW$10:$CA$10)=0)) -> 0 | L68: =SUMPRODUCT(COUNTIF($L$10,$AW68:$CA68)*(WEEKDAY($AW$10:$CA$10,2)<6)*(COUNTIF(jours_fériés,$AW$10:$CA$10)=0)) -> 0 | M68: =SUMPRODUCT(COUNTIF($M$10,$AW68:$CA68)*(WEEKDAY($AW$10:$CA$10,2)<6)*(COUNTIF(jours_fériés,$AW$10:$CA$10)=0)) -> 0 | N68: =SUMPRODUCT(COUNTIF($N$10,$AW68:$CA68)*(WEEKDAY($AW$10:$CA$10,2)<6)*(COUNTIF(jours_fériés,$AW$10:$CA$10)=0)) -> 0 | O68: =SUMPRODUCT(COUNTIF($O$10,$AW68:$CA68)*(WEEKDAY($AW$10:$CA$10,2)<6)*(COUNTIF(jours_fériés,$AW$10:$CA$10)=0)) -> 0 | P68: =SUMPRODUCT(COUNTIF($P$10,$AW68:$CA68)*(WEEKDAY($AW$10:$CA$10,2)<6)*(COUNTIF(jours_fériés,$AW$10:$CA$10)=0)) -> 0 | Q68: =SUMPRODUCT(COUNTIF($Q$10,$AW68:$CA68)*(WEEKDAY($AW$10:$CA$10,2)<6)*(COUNTIF(jours_fériés,$AW$10:$CA$10)=0)) -> 0 | R68: =SUMPRODUCT(COUNTIF($R$10,$AW68:$CA68)*(WEEKDAY($AW$10:$CA$10,2)<6)*(COUNTIF(jours_fériés,$AW$10:$CA$10)=0)) -> 0 | S68: =SUMPRODUCT(COUNTIF($S$10,$AW68:$CA68)*(WEEKDAY($AW$10:$CA$10,2)<6)*(COUNTIF(jours_fériés,$AW$10:$CA$10)=0)) -> 0 | T68: =SUMPRODUCT(COUNTIF($T$10,$AW68:$CA68)*(WEEKDAY($AW$10:$CA$10,2)<6)*(COUNTIF(jours_fériés,$AW$10:$CA$10)=0)) -> 0 | U68: =SUMPRODUCT(COUNTIF($U$10,$AW68:$CA68)*(WEEKDAY($AW$10:$CA$10,2)<6)*(COUNTIF(jours_fériés,$AW$10:$CA$10)=0)) -> 0 | V68: =SUMPRODUCT(COUNTIF($V$10,$AW68:$CA68)*(WEEKDAY($AW$10:$CA$10,2)<6)*(COUNTIF(jours_fériés,$AW$10:$CA$10)=0)) -> 0 | W68: =SUMPRODUCT(COUNTIF($W$10,$AW68:$CA68)*(WEEKDAY($AW$10:$CA$10,2)<6)*(COUNTIF(jours_fériés,$AW$10:$CA$10)=0)) -> 0 | X68: =SUMPRODUCT(COUNTIF($X$10,$AW68:$CA68)*(WEEKDAY($AW$10:$CA$10,2)<6)*(COUNTIF(jours_fériés,$AW$10:$CA$10)=0)) -> 0 | Y68: =SUMPRODUCT(COUNTIF($Y$10,$AW68:$CA68)*(WEEKDAY($AW$10:$CA$10,2)<6)*(COUNTIF(jours_fériés,$AW$10:$CA$10)=0)) -> 0 | Z68: =SUMPRODUCT(COUNTIF($Z$10,$AW68:$CA68)*(WEEKDAY($AW$10:$CA$10,2)<6)*(COUNTIF(jours_fériés,$AW$10:$CA$10)=0)) -> 0 | AA68: =SUMPRODUCT(COUNTIF($AA$10,$AW68:$CA68)*(WEEKDAY($AW$10:$CA$10,2)<6)*(COUNTIF(jours_fériés,$AW$10:$CA$10)=0)) -> 0 | AB68: =($U$8)-SUM($J68:$AA68) -> 20 | AC68: =SUMPRODUCT(COUNTIF($AC$10,$AW68:$CA68)) -> 0 | AD68: =SUMPRODUCT(COUNTIF($AD$10,$AW68:$CA68)) -> 0 | AE68: =SUMPRODUCT(COUNTIF($AE$10,$AW68:$CA68)) -> 0 | AF68: =SUMPRODUCT(COUNTIF($AF$10,$AW68:$CA68)) -> 0 | AG68: =SUMPRODUCT(COUNTIF($AG$10,$AW68:$CA68)) -> 0 | AH68: =SUMPRODUCT(COUNTIF($AH$10,$AW68:$CA68)) -> 0 | AI68: =SUMPRODUCT(COUNTIF($AI$10,$AW68:$CA68)) -> 0 | AJ68: =SUMPRODUCT(COUNTIF($AJ$10,$AW68:$CA68)) -> 0 | AK68: =SUMPRODUCT(COUNTIF($AK$10,$AW68:$CA68)) -> 0 | AL68: =SUM($AF68:$AK68) -> 0 | AM68: =SUMPRODUCT(COUNTIF($AM$10,$AW68:$CA68)) -> 0 | AN68: =SUMPRODUCT(COUNTIF($AN$10,$AW68:$CA68)) -> 0 | AO68: =SUMPRODUCT(COUNTIF($AO$10,$AW68:$CA68)) -> 0 | AP68: =SUMPRODUCT(COUNTIF($AP$10,$AW68:$CA68)) -> 0 | AQ68: =SUMPRODUCT(COUNTIF($AQ$10,$AW68:$CA68)) -> 0 | AR68: =SUMPRODUCT(COUNTIF($AR$10,$AW68:$CA68)) -> 0 | AS68: =SUMPRODUCT(COUNTIF($AS$10,$AW68:$CA68)) -> 0 | AT68: =SUMPRODUCT(COUNTIF($AT$10,$AW68:$CA68)) -> 0 | AU68: =SUMPRODUCT(COUNTIF($AU$10,$AW68:$CA68)) -> 0 | AV68: =SUMPRODUCT(COUNTIF($AV$10,$AW68:$CA68)) -> 0
A69: =[1]PERSONNELS!B64 -> SCAOS | B69: =[1]PERSONNELS!C64 -> CCH | G69: =$AW$8 -> 42675 | H69: =SUMPRODUCT(COUNTIF($H$10,$AW69:$CA69)*(WEEKDAY($AW$10:$CA$10,2)<6)*(COUNTIF(jours_fériés,$AW$10:$CA$10)=0)) -> 0 | I69: =SUMPRODUCT(COUNTIF($I$10,$AW69:$CA69)*(WEEKDAY($AW$10:$CA$10,2)<6)*(COUNTIF(jours_fériés,$AW$10:$CA$10)=0))/2 -> 0 | J69: =SUM(H69:I69) -> 0 | K69: =SUMPRODUCT(COUNTIF($K$10,$AW69:$CA69)*(WEEKDAY($AW$10:$CA$10,2)<6)*(COUNTIF(jours_fériés,$AW$10:$CA$10)=0)) -> 0 | L69: =SUMPRODUCT(COUNTIF($L$10,$AW69:$CA69)*(WEEKDAY($AW$10:$CA$10,2)<6)*(COUNTIF(jours_fériés,$AW$10:$CA$10)=0)) -> 0 | M69: =SUMPRODUCT(COUNTIF($M$10,$AW69:$CA69)*(WEEKDAY($AW$10:$CA$10,2)<6)*(COUNTIF(jours_fériés,$AW$10:$CA$10)=0)) -> 0 | N69: =SUMPRODUCT(COUNTIF($N$10,$AW69:$CA69)*(WEEKDAY($AW$10:$CA$10,2)<6)*(COUNTIF(jours_fériés,$AW$10:$CA$10)=0)) -> 0 | O69: =SUMPRODUCT(COUNTIF($O$10,$AW69:$CA69)*(WEEKDAY($AW$10:$CA$10,2)<6)*(COUNTIF(jours_fériés,$AW$10:$CA$10)=0)) -> 0 | P69: =SUMPRODUCT(COUNTIF($P$10,$AW69:$CA69)*(WEEKDAY($AW$10:$CA$10,2)<6)*(COUNTIF(jours_fériés,$AW$10:$CA$10)=0)) -> 0 | Q69: =SUMPRODUCT(COUNTIF($Q$10,$AW69:$CA69)*(WEEKDAY($AW$10:$CA$10,2)<6)*(COUNTIF(jours_fériés,$AW$10:$CA$10)=0)) -> 0 | R69: =SUMPRODUCT(COUNTIF($R$10,$AW69:$CA69)*(WEEKDAY($AW$10:$CA$10,2)<6)*(COUNTIF(jours_fériés,$AW$10:$CA$10)=0)) -> 0 | S69: =SUMPRODUCT(COUNTIF($S$10,$AW69:$CA69)*(WEEKDAY($AW$10:$CA$10,2)<6)*(COUNTIF(jours_fériés,$AW$10:$CA$10)=0)) -> 0 | T69: =SUMPRODUCT(COUNTIF($T$10,$AW69:$CA69)*(WEEKDAY($AW$10:$CA$10,2)<6)*(COUNTIF(jours_fériés,$AW$10:$CA$10)=0)) -> 0 | U69: =SUMPRODUCT(COUNTIF($U$10,$AW69:$CA69)*(WEEKDAY($AW$10:$CA$10,2)<6)*(COUNTIF(jours_fériés,$AW$10:$CA$10)=0)) -> 0 | V69: =SUMPRODUCT(COUNTIF($V$10,$AW69:$CA69)*(WEEKDAY($AW$10:$CA$10,2)<6)*(COUNTIF(jours_fériés,$AW$10:$CA$10)=0)) -> 0 | W69: =SUMPRODUCT(COUNTIF($W$10,$AW69:$CA69)*(WEEKDAY($AW$10:$CA$10,2)<6)*(COUNTIF(jours_fériés,$AW$10:$CA$10)=0)) -> 0 | X69: =SUMPRODUCT(COUNTIF($X$10,$AW69:$CA69)*(WEEKDAY($AW$10:$CA$10,2)<6)*(COUNTIF(jours_fériés,$AW$10:$CA$10)=0)) -> 0 | Y69: =SUMPRODUCT(COUNTIF($Y$10,$AW69:$CA69)*(WEEKDAY($AW$10:$CA$10,2)<6)*(COUNTIF(jours_fériés,$AW$10:$CA$10)=0)) -> 0 | Z69: =SUMPRODUCT(COUNTIF($Z$10,$AW69:$CA69)*(WEEKDAY($AW$10:$CA$10,2)<6)*(COUNTIF(jours_fériés,$AW$10:$CA$10)=0)) -> 0 | AA69: =SUMPRODUCT(COUNTIF($AA$10,$AW69:$CA69)*(WEEKDAY($AW$10:$CA$10,2)<6)*(COUNTIF(jours_fériés,$AW$10:$CA$10)=0)) -> 0 | AB69: =($U$8)-SUM($J69:$AA69) -> 20 | AC69: =SUMPRODUCT(COUNTIF($AC$10,$AW69:$CA69)) -> 0 | AD69: =SUMPRODUCT(COUNTIF($AD$10,$AW69:$CA69)) -> 0 | AE69: =SUMPRODUCT(COUNTIF($AE$10,$AW69:$CA69)) -> 0 | AF69: =SUMPRODUCT(COUNTIF($AF$10,$AW69:$CA69)) -> 0 | AG69: =SUMPRODUCT(COUNTIF($AG$10,$AW69:$CA69)) -> 0 | AH69: =SUMPRODUCT(COUNTIF($AH$10,$AW69:$CA69)) -> 0 | AI69: =SUMPRODUCT(COUNTIF($AI$10,$AW69:$CA69)) -> 0 | AJ69: =SUMPRODUCT(COUNTIF($AJ$10,$AW69:$CA69)) -> 0 | AK69: =SUMPRODUCT(COUNTIF($AK$10,$AW69:$CA69)) -> 0 | AL69: =SUM($AF69:$AK69) -> 0 | AM69: =SUMPRODUCT(COUNTIF($AM$10,$AW69:$CA69)) -> 0 | AN69: =SUMPRODUCT(COUNTIF($AN$10,$AW69:$CA69)) -> 0 | AO69: =SUMPRODUCT(COUNTIF($AO$10,$AW69:$CA69)) -> 0 | AP69: =SUMPRODUCT(COUNTIF($AP$10,$AW69:$CA69)) -> 0 | AQ69: =SUMPRODUCT(COUNTIF($AQ$10,$AW69:$CA69)) -> 0 | AR69: =SUMPRODUCT(COUNTIF($AR$10,$AW69:$CA69)) -> 0 | AS69: =SUMPRODUCT(COUNTIF($AS$10,$AW69:$CA69)) -> 0 | AT69: =SUMPRODUCT(COUNTIF($AT$10,$AW69:$CA69)) -> 0 | AU69: =SUMPRODUCT(COUNTIF($AU$10,$AW69:$CA69)) -> 0 | AV69: =SUMPRODUCT(COUNTIF($AV$10,$AW69:$CA69)) -> 0
A70: =[1]PERSONNELS!B65 -> SCAOS | B70: =[1]PERSONNELS!C65 -> SGT | G70: =$AW$8 -> 42675 | H70: =SUMPRODUCT(COUNTIF($H$10,$AW70:$CA70)*(WEEKDAY($AW$10:$CA$10,2)<6)*(COUNTIF(jours_fériés,$AW$10:$CA$10)=0)) -> 0 | I70: =SUMPRODUCT(COUNTIF($I$10,$AW70:$CA70)*(WEEKDAY($AW$10:$CA$10,2)<6)*(COUNTIF(jours_fériés,$AW$10:$CA$10)=0))/2 -> 0 | J70: =SUM(H70:I70) -> 0 | K70: =SUMPRODUCT(COUNTIF($K$10,$AW70:$CA70)*(WEEKDAY($AW$10:$CA$10,2)<6)*(COUNTIF(jours_fériés,$AW$10:$CA$10)=0)) -> 0 | L70: =SUMPRODUCT(COUNTIF($L$10,$AW70:$CA70)*(WEEKDAY($AW$10:$CA$10,2)<6)*(COUNTIF(jours_fériés,$AW$10:$CA$10)=0)) -> 0 | M70: =SUMPRODUCT(COUNTIF($M$10,$AW70:$CA70)*(WEEKDAY($AW$10:$CA$10,2)<6)*(COUNTIF(jours_fériés,$AW$10:$CA$10)=0)) -> 0 | N70: =SUMPRODUCT(COUNTIF($N$10,$AW70:$CA70)*(WEEKDAY($AW$10:$CA$10,2)<6)*(COUNTIF(jours_fériés,$AW$10:$CA$10)=0)) -> 0 | O70: =SUMPRODUCT(COUNTIF($O$10,$AW70:$CA70)*(WEEKDAY($AW$10:$CA$10,2)<6)*(COUNTIF(jours_fériés,$AW$10:$CA$10)=0)) -> 0 | P70: =SUMPRODUCT(COUNTIF($P$10,$AW70:$CA70)*(WEEKDAY($AW$10:$CA$10,2)<6)*(COUNTIF(jours_fériés,$AW$10:$CA$10)=0)) -> 0 | Q70: =SUMPRODUCT(COUNTIF($Q$10,$AW70:$CA70)*(WEEKDAY($AW$10:$CA$10,2)<6)*(COUNTIF(jours_fériés,$AW$10:$CA$10)=0)) -> 0 | R70: =SUMPRODUCT(COUNTIF($R$10,$AW70:$CA70)*(WEEKDAY($AW$10:$CA$10,2)<6)*(COUNTIF(jours_fériés,$AW$10:$CA$10)=0)) -> 0 | S70: =SUMPRODUCT(COUNTIF($S$10,$AW70:$CA70)*(WEEKDAY($AW$10:$CA$10,2)<6)*(COUNTIF(jours_fériés,$AW$10:$CA$10)=0)) -> 0 | T70: =SUMPRODUCT(COUNTIF($T$10,$AW70:$CA70)*(WEEKDAY($AW$10:$CA$10,2)<6)*(COUNTIF(jours_fériés,$AW$10:$CA$10)=0)) -> 0 | U70: =SUMPRODUCT(COUNTIF($U$10,$AW70:$CA70)*(WEEKDAY($AW$10:$CA$10,2)<6)*(COUNTIF(jours_fériés,$AW$10:$CA$10)=0)) -> 0 | V70: =SUMPRODUCT(COUNTIF($V$10,$AW70:$CA70)*(WEEKDAY($AW$10:$CA$10,2)<6)*(COUNTIF(jours_fériés,$AW$10:$CA$10)=0)) -> 0 | W70: =SUMPRODUCT(COUNTIF($W$10,$AW70:$CA70)*(WEEKDAY($AW$10:$CA$10,2)<6)*(COUNTIF(jours_fériés,$AW$10:$CA$10)=0)) -> 0 | X70: =SUMPRODUCT(COUNTIF($X$10,$AW70:$CA70)*(WEEKDAY($AW$10:$CA$10,2)<6)*(COUNTIF(jours_fériés,$AW$10:$CA$10)=0)) -> 0 | Y70: =SUMPRODUCT(COUNTIF($Y$10,$AW70:$CA70)*(WEEKDAY($AW$10:$CA$10,2)<6)*(COUNTIF(jours_fériés,$AW$10:$CA$10)=0)) -> 0 | Z70: =SUMPRODUCT(COUNTIF($Z$10,$AW70:$CA70)*(WEEKDAY($AW$10:$CA$10,2)<6)*(COUNTIF(jours_fériés,$AW$10:$CA$10)=0)) -> 0 | AA70: =SUMPRODUCT(COUNTIF($AA$10,$AW70:$CA70)*(WEEKDAY($AW$10:$CA$10,2)<6)*(COUNTIF(jours_fériés,$AW$10:$CA$10)=0)) -> 0 | AB70: =($U$8)-SUM($J70:$AA70) -> 20 | AC70: =SUMPRODUCT(COUNTIF($AC$10,$AW70:$CA70)) -> 0 | AD70: =SUMPRODUCT(COUNTIF($AD$10,$AW70:$CA70)) -> 0 | AE70: =SUMPRODUCT(COUNTIF($AE$10,$AW70:$CA70)) -> 0 | AF70: =SUMPRODUCT(COUNTIF($AF$10,$AW70:$CA70)) -> 0 | AG70: =SUMPRODUCT(COUNTIF($AG$10,$AW70:$CA70)) -> 0 | AH70: =SUMPRODUCT(COUNTIF($AH$10,$AW70:$CA70)) -> 0 | AI70: =SUMPRODUCT(COUNTIF($AI$10,$AW70:$CA70)) -> 0 | AJ70: =SUMPRODUCT(COUNTIF($AJ$10,$AW70:$CA70)) -> 0 | AK70: =SUMPRODUCT(COUNTIF($AK$10,$AW70:$CA70)) -> 0 | AL70: =SUM($AF70:$AK70) -> 0 | AM70: =SUMPRODUCT(COUNTIF($AM$10,$AW70:$CA70)) -> 0 | AN70: =SUMPRODUCT(COUNTIF($AN$10,$AW70:$CA70)) -> 0 | AO70: =SUMPRODUCT(COUNTIF($AO$10,$AW70:$CA70)) -> 0 | AP70: =SUMPRODUCT(COUNTIF($AP$10,$AW70:$CA70)) -> 0 | AQ70: =SUMPRODUCT(COUNTIF($AQ$10,$AW70:$CA70)) -> 0 | AR70: =SUMPRODUCT(COUNTIF($AR$10,$AW70:$CA70)) -> 0 | AS70: =SUMPRODUCT(COUNTIF($AS$10,$AW70:$CA70)) -> 0 | AT70: =SUMPRODUCT(COUNTIF($AT$10,$AW70:$CA70)) -> 0 | AU70: =SUMPRODUCT(COUNTIF($AU$10,$AW70:$CA70)) -> 0 | AV70: =SUMPRODUCT(COUNTIF($AV$10,$AW70:$CA70)) -> 0
A71: =[1]PERSONNELS!B66 -> SCAOS | B71: =[1]PERSONNELS!C66 -> SGT | G71: =$AW$8 -> 42675 | H71: =SUMPRODUCT(COUNTIF($H$10,$AW71:$CA71)*(WEEKDAY($AW$10:$CA$10,2)<6)*(COUNTIF(jours_fériés,$AW$10:$CA$10)=0)) -> 0 | I71: =SUMPRODUCT(COUNTIF($I$10,$AW71:$CA71)*(WEEKDAY($AW$10:$CA$10,2)<6)*(COUNTIF(jours_fériés,$AW$10:$CA$10)=0))/2 -> 0 | J71: =SUM(H71:I71) -> 0 | K71: =SUMPRODUCT(COUNTIF($K$10,$AW71:$CA71)*(WEEKDAY($AW$10:$CA$10,2)<6)*(COUNTIF(jours_fériés,$AW$10:$CA$10)=0)) -> 0 | L71: =SUMPRODUCT(COUNTIF($L$10,$AW71:$CA71)*(WEEKDAY($AW$10:$CA$10,2)<6)*(COUNTIF(jours_fériés,$AW$10:$CA$10)=0)) -> 0 | M71: =SUMPRODUCT(COUNTIF($M$10,$AW71:$CA71)*(WEEKDAY($AW$10:$CA$10,2)<6)*(COUNTIF(jours_fériés,$AW$10:$CA$10)=0)) -> 0 | N71: =SUMPRODUCT(COUNTIF($N$10,$AW71:$CA71)*(WEEKDAY($AW$10:$CA$10,2)<6)*(COUNTIF(jours_fériés,$AW$10:$CA$10)=0)) -> 0 | O71: =SUMPRODUCT(COUNTIF($O$10,$AW71:$CA71)*(WEEKDAY($AW$10:$CA$10,2)<6)*(COUNTIF(jours_fériés,$AW$10:$CA$10)=0)) -> 0 | P71: =SUMPRODUCT(COUNTIF($P$10,$AW71:$CA71)*(WEEKDAY($AW$10:$CA$10,2)<6)*(COUNTIF(jours_fériés,$AW$10:$CA$10)=0)) -> 0 | Q71: =SUMPRODUCT(COUNTIF($Q$10,$AW71:$CA71)*(WEEKDAY($AW$10:$CA$10,2)<6)*(COUNTIF(jours_fériés,$AW$10:$CA$10)=0)) -> 0 | R71: =SUMPRODUCT(COUNTIF($R$10,$AW71:$CA71)*(WEEKDAY($AW$10:$CA$10,2)<6)*(COUNTIF(jours_fériés,$AW$10:$CA$10)=0)) -> 0 | S71: =SUMPRODUCT(COUNTIF($S$10,$AW71:$CA71)*(WEEKDAY($AW$10:$CA$10,2)<6)*(COUNTIF(jours_fériés,$AW$10:$CA$10)=0)) -> 0 | T71: =SUMPRODUCT(COUNTIF($T$10,$AW71:$CA71)*(WEEKDAY($AW$10:$CA$10,2)<6)*(COUNTIF(jours_fériés,$AW$10:$CA$10)=0)) -> 0 | U71: =SUMPRODUCT(COUNTIF($U$10,$AW71:$CA71)*(WEEKDAY($AW$10:$CA$10,2)<6)*(COUNTIF(jours_fériés,$AW$10:$CA$10)=0)) -> 0 | V71: =SUMPRODUCT(COUNTIF($V$10,$AW71:$CA71)*(WEEKDAY($AW$10:$CA$10,2)<6)*(COUNTIF(jours_fériés,$AW$10:$CA$10)=0)) -> 0 | W71: =SUMPRODUCT(COUNTIF($W$10,$AW71:$CA71)*(WEEKDAY($AW$10:$CA$10,2)<6)*(COUNTIF(jours_fériés,$AW$10:$CA$10)=0)) -> 0 | X71: =SUMPRODUCT(COUNTIF($X$10,$AW71:$CA71)*(WEEKDAY($AW$10:$CA$10,2)<6)*(COUNTIF(jours_fériés,$AW$10:$CA$10)=0)) -> 0 | Y71: =SUMPRODUCT(COUNTIF($Y$10,$AW71:$CA71)*(WEEKDAY($AW$10:$CA$10,2)<6)*(COUNTIF(jours_fériés,$AW$10:$CA$10)=0)) -> 0 | Z71: =SUMPRODUCT(COUNTIF($Z$10,$AW71:$CA71)*(WEEKDAY($AW$10:$CA$10,2)<6)*(COUNTIF(jours_fériés,$AW$10:$CA$10)=0)) -> 0 | AA71: =SUMPRODUCT(COUNTIF($AA$10,$AW71:$CA71)*(WEEKDAY($AW$10:$CA$10,2)<6)*(COUNTIF(jours_fériés,$AW$10:$CA$10)=0)) -> 0 | AB71: =($U$8)-SUM($J71:$AA71) -> 20 | AC71: =SUMPRODUCT(COUNTIF($AC$10,$AW71:$CA71)) -> 0 | AD71: =SUMPRODUCT(COUNTIF($AD$10,$AW71:$CA71)) -> 0 | AE71: =SUMPRODUCT(COUNTIF($AE$10,$AW71:$CA71)) -> 0 | AF71: =SUMPRODUCT(COUNTIF($AF$10,$AW71:$CA71)) -> 0 | AG71: =SUMPRODUCT(COUNTIF($AG$10,$AW71:$CA71)) -> 0 | AH71: =SUMPRODUCT(COUNTIF($AH$10,$AW71:$CA71)) -> 0 | AI71: =SUMPRODUCT(COUNTIF($AI$10,$AW71:$CA71)) -> 0 | AJ71: =SUMPRODUCT(COUNTIF($AJ$10,$AW71:$CA71)) -> 0 | AK71: =SUMPRODUCT(COUNTIF($AK$10,$AW71:$CA71)) -> 0 | AL71: =SUM($AF71:$AK71) -> 0 | AM71: =SUMPRODUCT(COUNTIF($AM$10,$AW71:$CA71)) -> 0 | AN71: =SUMPRODUCT(COUNTIF($AN$10,$AW71:$CA71)) -> 0 | AO71: =SUMPRODUCT(COUNTIF($AO$10,$AW71:$CA71)) -> 0 | AP71: =SUMPRODUCT(COUNTIF($AP$10,$AW71:$CA71)) -> 0 | AQ71: =SUMPRODUCT(COUNTIF($AQ$10,$AW71:$CA71)) -> 0 | AR71: =SUMPRODUCT(COUNTIF($AR$10,$AW71:$CA71)) -> 0 | AS71: =SUMPRODUCT(COUNTIF($AS$10,$AW71:$CA71)) -> 0 | AT71: =SUMPRODUCT(COUNTIF($AT$10,$AW71:$CA71)) -> 0 | AU71: =SUMPRODUCT(COUNTIF($AU$10,$AW71:$CA71)) -> 0 | AV71: =SUMPRODUCT(COUNTIF($AV$10,$AW71:$CA71)) -> 0
A72: =[1]PERSONNELS!B67 -> SCAOS | B72: =[1]PERSONNELS!C67 -> CPL | G72: =$AW$8 -> 42675 | H72: =SUMPRODUCT(COUNTIF($H$10,$AW72:$CA72)*(WEEKDAY($AW$10:$CA$10,2)<6)*(COUNTIF(jours_fériés,$AW$10:$CA$10)=0)) -> 0 | I72: =SUMPRODUCT(COUNTIF($I$10,$AW72:$CA72)*(WEEKDAY($AW$10:$CA$10,2)<6)*(COUNTIF(jours_fériés,$AW$10:$CA$10)=0))/2 -> 0 | J72: =SUM(H72:I72) -> 0 | K72: =SUMPRODUCT(COUNTIF($K$10,$AW72:$CA72)*(WEEKDAY($AW$10:$CA$10,2)<6)*(COUNTIF(jours_fériés,$AW$10:$CA$10)=0)) -> 0 | L72: =SUMPRODUCT(COUNTIF($L$10,$AW72:$CA72)*(WEEKDAY($AW$10:$CA$10,2)<6)*(COUNTIF(jours_fériés,$AW$10:$CA$10)=0)) -> 0 | M72: =SUMPRODUCT(COUNTIF($M$10,$AW72:$CA72)*(WEEKDAY($AW$10:$CA$10,2)<6)*(COUNTIF(jours_fériés,$AW$10:$CA$10)=0)) -> 0 | N72: =SUMPRODUCT(COUNTIF($N$10,$AW72:$CA72)*(WEEKDAY($AW$10:$CA$10,2)<6)*(COUNTIF(jours_fériés,$AW$10:$CA$10)=0)) -> 0 | O72: =SUMPRODUCT(COUNTIF($O$10,$AW72:$CA72)*(WEEKDAY($AW$10:$CA$10,2)<6)*(COUNTIF(jours_fériés,$AW$10:$CA$10)=0)) -> 0 | P72: =SUMPRODUCT(COUNTIF($P$10,$AW72:$CA72)*(WEEKDAY($AW$10:$CA$10,2)<6)*(COUNTIF(jours_fériés,$AW$10:$CA$10)=0)) -> 0 | Q72: =SUMPRODUCT(COUNTIF($Q$10,$AW72:$CA72)*(WEEKDAY($AW$10:$CA$10,2)<6)*(COUNTIF(jours_fériés,$AW$10:$CA$10)=0)) -> 0 | R72: =SUMPRODUCT(COUNTIF($R$10,$AW72:$CA72)*(WEEKDAY($AW$10:$CA$10,2)<6)*(COUNTIF(jours_fériés,$AW$10:$CA$10)=0)) -> 0 | S72: =SUMPRODUCT(COUNTIF($S$10,$AW72:$CA72)*(WEEKDAY($AW$10:$CA$10,2)<6)*(COUNTIF(jours_fériés,$AW$10:$CA$10)=0)) -> 0 | T72: =SUMPRODUCT(COUNTIF($T$10,$AW72:$CA72)*(WEEKDAY($AW$10:$CA$10,2)<6)*(COUNTIF(jours_fériés,$AW$10:$CA$10)=0)) -> 0 | U72: =SUMPRODUCT(COUNTIF($U$10,$AW72:$CA72)*(WEEKDAY($AW$10:$CA$10,2)<6)*(COUNTIF(jours_fériés,$AW$10:$CA$10)=0)) -> 0 | V72: =SUMPRODUCT(COUNTIF($V$10,$AW72:$CA72)*(WEEKDAY($AW$10:$CA$10,2)<6)*(COUNTIF(jours_fériés,$AW$10:$CA$10)=0)) -> 0 | W72: =SUMPRODUCT(COUNTIF($W$10,$AW72:$CA72)*(WEEKDAY($AW$10:$CA$10,2)<6)*(COUNTIF(jours_fériés,$AW$10:$CA$10)=0)) -> 0 | X72: =SUMPRODUCT(COUNTIF($X$10,$AW72:$CA72)*(WEEKDAY($AW$10:$CA$10,2)<6)*(COUNTIF(jours_fériés,$AW$10:$CA$10)=0)) -> 0 | Y72: =SUMPRODUCT(COUNTIF($Y$10,$AW72:$CA72)*(WEEKDAY($AW$10:$CA$10,2)<6)*(COUNTIF(jours_fériés,$AW$10:$CA$10)=0)) -> 0 | Z72: =SUMPRODUCT(COUNTIF($Z$10,$AW72:$CA72)*(WEEKDAY($AW$10:$CA$10,2)<6)*(COUNTIF(jours_fériés,$AW$10:$CA$10)=0)) -> 0 | AA72: =SUMPRODUCT(COUNTIF($AA$10,$AW72:$CA72)*(WEEKDAY($AW$10:$CA$10,2)<6)*(COUNTIF(jours_fériés,$AW$10:$CA$10)=0)) -> 0 | AB72: =($U$8)-SUM($J72:$AA72) -> 20 | AC72: =SUMPRODUCT(COUNTIF($AC$10,$AW72:$CA72)) -> 0 | AD72: =SUMPRODUCT(COUNTIF($AD$10,$AW72:$CA72)) -> 0 | AE72: =SUMPRODUCT(COUNTIF($AE$10,$AW72:$CA72)) -> 0 | AF72: =SUMPRODUCT(COUNTIF($AF$10,$AW72:$CA72)) -> 0 | AG72: =SUMPRODUCT(COUNTIF($AG$10,$AW72:$CA72)) -> 0 | AH72: =SUMPRODUCT(COUNTIF($AH$10,$AW72:$CA72)) -> 0 | AI72: =SUMPRODUCT(COUNTIF($AI$10,$AW72:$CA72)) -> 0 | AJ72: =SUMPRODUCT(COUNTIF($AJ$10,$AW72:$CA72)) -> 0 | AK72: =SUMPRODUCT(COUNTIF($AK$10,$AW72:$CA72)) -> 0 | AL72: =SUM($AF72:$AK72) -> 0 | AM72: =SUMPRODUCT(COUNTIF($AM$10,$AW72:$CA72)) -> 0 | AN72: =SUMPRODUCT(COUNTIF($AN$10,$AW72:$CA72)) -> 0 | AO72: =SUMPRODUCT(COUNTIF($AO$10,$AW72:$CA72)) -> 0 | AP72: =SUMPRODUCT(COUNTIF($AP$10,$AW72:$CA72)) -> 0 | AQ72: =SUMPRODUCT(COUNTIF($AQ$10,$AW72:$CA72)) -> 0 | AR72: =SUMPRODUCT(COUNTIF($AR$10,$AW72:$CA72)) -> 0 | AS72: =SUMPRODUCT(COUNTIF($AS$10,$AW72:$CA72)) -> 0 | AT72: =SUMPRODUCT(COUNTIF($AT$10,$AW72:$CA72)) -> 0 | AU72: =SUMPRODUCT(COUNTIF($AU$10,$AW72:$CA72)) -> 0 | AV72: =SUMPRODUCT(COUNTIF($AV$10,$AW72:$CA72)) -> 0
A73: =[1]PERSONNELS!B68 -> S4 | B73: =[1]PERSONNELS!C68 -> LTN | G73: =$AW$8 -> 42675 | H73: =SUMPRODUCT(COUNTIF($H$10,$AW73:$CA73)*(WEEKDAY($AW$10:$CA$10,2)<6)*(COUNTIF(jours_fériés,$AW$10:$CA$10)=0)) -> 0 | I73: =SUMPRODUCT(COUNTIF($I$10,$AW73:$CA73)*(WEEKDAY($AW$10:$CA$10,2)<6)*(COUNTIF(jours_fériés,$AW$10:$CA$10)=0))/2 -> 0 | J73: =SUM(H73:I73) -> 0 | K73: =SUMPRODUCT(COUNTIF($K$10,$AW73:$CA73)*(WEEKDAY($AW$10:$CA$10,2)<6)*(COUNTIF(jours_fériés,$AW$10:$CA$10)=0)) -> 0 | L73: =SUMPRODUCT(COUNTIF($L$10,$AW73:$CA73)*(WEEKDAY($AW$10:$CA$10,2)<6)*(COUNTIF(jours_fériés,$AW$10:$CA$10)=0)) -> 0 | M73: =SUMPRODUCT(COUNTIF($M$10,$AW73:$CA73)*(WEEKDAY($AW$10:$CA$10,2)<6)*(COUNTIF(jours_fériés,$AW$10:$CA$10)=0)) -> 0 | N73: =SUMPRODUCT(COUNTIF($N$10,$AW73:$CA73)*(WEEKDAY($AW$10:$CA$10,2)<6)*(COUNTIF(jours_fériés,$AW$10:$CA$10)=0)) -> 0 | O73: =SUMPRODUCT(COUNTIF($O$10,$AW73:$CA73)*(WEEKDAY($AW$10:$CA$10,2)<6)*(COUNTIF(jours_fériés,$AW$10:$CA$10)=0)) -> 0 | P73: =SUMPRODUCT(COUNTIF($P$10,$AW73:$CA73)*(WEEKDAY($AW$10:$CA$10,2)<6)*(COUNTIF(jours_fériés,$AW$10:$CA$10)=0)) -> 0 | Q73: =SUMPRODUCT(COUNTIF($Q$10,$AW73:$CA73)*(WEEKDAY($AW$10:$CA$10,2)<6)*(COUNTIF(jours_fériés,$AW$10:$CA$10)=0)) -> 0 | R73: =SUMPRODUCT(COUNTIF($R$10,$AW73:$CA73)*(WEEKDAY($AW$10:$CA$10,2)<6)*(COUNTIF(jours_fériés,$AW$10:$CA$10)=0)) -> 0 | S73: =SUMPRODUCT(COUNTIF($S$10,$AW73:$CA73)*(WEEKDAY($AW$10:$CA$10,2)<6)*(COUNTIF(jours_fériés,$AW$10:$CA$10)=0)) -> 0 | T73: =SUMPRODUCT(COUNTIF($T$10,$AW73:$CA73)*(WEEKDAY($AW$10:$CA$10,2)<6)*(COUNTIF(jours_fériés,$AW$10:$CA$10)=0)) -> 0 | U73: =SUMPRODUCT(COUNTIF($U$10,$AW73:$CA73)*(WEEKDAY($AW$10:$CA$10,2)<6)*(COUNTIF(jours_fériés,$AW$10:$CA$10)=0)) -> 0 | V73: =SUMPRODUCT(COUNTIF($V$10,$AW73:$CA73)*(WEEKDAY($AW$10:$CA$10,2)<6)*(COUNTIF(jours_fériés,$AW$10:$CA$10)=0)) -> 0 | W73: =SUMPRODUCT(COUNTIF($W$10,$AW73:$CA73)*(WEEKDAY($AW$10:$CA$10,2)<6)*(COUNTIF(jours_fériés,$AW$10:$CA$10)=0)) -> 0 | X73: =SUMPRODUCT(COUNTIF($X$10,$AW73:$CA73)*(WEEKDAY($AW$10:$CA$10,2)<6)*(COUNTIF(jours_fériés,$AW$10:$CA$10)=0)) -> 0 | Y73: =SUMPRODUCT(COUNTIF($Y$10,$AW73:$CA73)*(WEEKDAY($AW$10:$CA$10,2)<6)*(COUNTIF(jours_fériés,$AW$10:$CA$10)=0)) -> 0 | Z73: =SUMPRODUCT(COUNTIF($Z$10,$AW73:$CA73)*(WEEKDAY($AW$10:$CA$10,2)<6)*(COUNTIF(jours_fériés,$AW$10:$CA$10)=0)) -> 0 | AA73: =SUMPRODUCT(COUNTIF($AA$10,$AW73:$CA73)*(WEEKDAY($AW$10:$CA$10,2)<6)*(COUNTIF(jours_fériés,$AW$10:$CA$10)=0)) -> 0 | AB73: =($U$8)-SUM($J73:$AA73) -> 20 | AC73: =SUMPRODUCT(COUNTIF($AC$10,$AW73:$CA73)) -> 0 | AD73: =SUMPRODUCT(COUNTIF($AD$10,$AW73:$CA73)) -> 0 | AE73: =SUMPRODUCT(COUNTIF($AE$10,$AW73:$CA73)) -> 0 | AF73: =SUMPRODUCT(COUNTIF($AF$10,$AW73:$CA73)) -> 0 | AG73: =SUMPRODUCT(COUNTIF($AG$10,$AW73:$CA73)) -> 0 | AH73: =SUMPRODUCT(COUNTIF($AH$10,$AW73:$CA73)) -> 0 | AI73: =SUMPRODUCT(COUNTIF($AI$10,$AW73:$CA73)) -> 0 | AJ73: =SUMPRODUCT(COUNTIF($AJ$10,$AW73:$CA73)) -> 0 | AK73: =SUMPRODUCT(COUNTIF($AK$10,$AW73:$CA73)) -> 0 | AL73: =SUM($AF73:$AK73) -> 0 | AM73: =SUMPRODUCT(COUNTIF($AM$10,$AW73:$CA73)) -> 0 | AN73: =SUMPRODUCT(COUNTIF($AN$10,$AW73:$CA73)) -> 0 | AO73: =SUMPRODUCT(COUNTIF($AO$10,$AW73:$CA73)) -> 0 | AP73: =SUMPRODUCT(COUNTIF($AP$10,$AW73:$CA73)) -> 0 | AQ73: =SUMPRODUCT(COUNTIF($AQ$10,$AW73:$CA73)) -> 0 | AR73: =SUMPRODUCT(COUNTIF($AR$10,$AW73:$CA73)) -> 0 | AS73: =SUMPRODUCT(COUNTIF($AS$10,$AW73:$CA73)) -> 0 | AT73: =SUMPRODUCT(COUNTIF($AT$10,$AW73:$CA73)) -> 0 | AU73: =SUMPRODUCT(COUNTIF($AU$10,$AW73:$CA73)) -> 0 | AV73: =SUMPRODUCT(COUNTIF($AV$10,$AW73:$CA73)) -> 0
... A80: =[1]PERSONNELS!B75 -> S4 | B80: =[1]PERSONNELS!C75 -> CCH | G80: =$AW$8 -> 42675 | H80: =SUMPRODUCT(COUNTIF($H$10,$AW80:$CA80)*(WEEKDAY($AW$10:$CA$10,2)<6)*(COUNTIF(jours_fériés,$AW$10:$CA$10)=0)) -> 0 | I80: =SUMPRODUCT(COUNTIF($I$10,$AW80:$CA80)*(WEEKDAY($AW$10:$CA$10,2)<6)*(COUNTIF(jours_fériés,$AW$10:$CA$10)=0))/2 -> 0 | J80: =SUM(H80:I80) -> 0 | K80: =SUMPRODUCT(COUNTIF($K$10,$AW80:$CA80)*(WEEKDAY($AW$10:$CA$10,2)<6)*(COUNTIF(jours_fériés,$AW$10:$CA$10)=0)) -> 0 | L80: =SUMPRODUCT(COUNTIF($L$10,$AW80:$CA80)*(WEEKDAY($AW$10:$CA$10,2)<6)*(COUNTIF(jours_fériés,$AW$10:$CA$10)=0)) -> 0 | M80: =SUMPRODUCT(COUNTIF($M$10,$AW80:$CA80)*(WEEKDAY($AW$10:$CA$10,2)<6)*(COUNTIF(jours_fériés,$AW$10:$CA$10)=0)) -> 0 | N80: =SUMPRODUCT(COUNTIF($N$10,$AW80:$CA80)*(WEEKDAY($AW$10:$CA$10,2)<6)*(COUNTIF(jours_fériés,$AW$10:$CA$10)=0)) -> 0 | O80: =SUMPRODUCT(COUNTIF($O$10,$AW80:$CA80)*(WEEKDAY($AW$10:$CA$10,2)<6)*(COUNTIF(jours_fériés,$AW$10:$CA$10)=0)) -> 0 | P80: =SUMPRODUCT(COUNTIF($P$10,$AW80:$CA80)*(WEEKDAY($AW$10:$CA$10,2)<6)*(COUNTIF(jours_fériés,$AW$10:$CA$10)=0)) -> 0 | Q80: =SUMPRODUCT(COUNTIF($Q$10,$AW80:$CA80)*(WEEKDAY($AW$10:$CA$10,2)<6)*(COUNTIF(jours_fériés,$AW$10:$CA$10)=0)) -> 0 | R80: =SUMPRODUCT(COUNTIF($R$10,$AW80:$CA80)*(WEEKDAY($AW$10:$CA$10,2)<6)*(COUNTIF(jours_fériés,$AW$10:$CA$10)=0)) -> 0 | S80: =SUMPRODUCT(COUNTIF($S$10,$AW80:$CA80)*(WEEKDAY($AW$10:$CA$10,2)<6)*(COUNTIF(jours_fériés,$AW$10:$CA$10)=0)) -> 0 | T80: =SUMPRODUCT(COUNTIF($T$10,$AW80:$CA80)*(WEEKDAY($AW$10:$CA$10,2)<6)*(COUNTIF(jours_fériés,$AW$10:$CA$10)=0)) -> 0 | U80: =SUMPRODUCT(COUNTIF($U$10,$AW80:$CA80)*(WEEKDAY($AW$10:$CA$10,2)<6)*(COUNTIF(jours_fériés,$AW$10:$CA$10)=0)) -> 0 | V80: =SUMPRODUCT(COUNTIF($V$10,$AW80:$CA80)*(WEEKDAY($AW$10:$CA$10,2)<6)*(COUNTIF(jours_fériés,$AW$10:$CA$10)=0)) -> 0 | W80: =SUMPRODUCT(COUNTIF($W$10,$AW80:$CA80)*(WEEKDAY($AW$10:$CA$10,2)<6)*(COUNTIF(jours_fériés,$AW$10:$CA$10)=0)) -> 0 | X80: =SUMPRODUCT(COUNTIF($X$10,$AW80:$CA80)*(WEEKDAY($AW$10:$CA$10,2)<6)*(COUNTIF(jours_fériés,$AW$10:$CA$10)=0)) -> 0 | Y80: =SUMPRODUCT(COUNTIF($Y$10,$AW80:$CA80)*(WEEKDAY($AW$10:$CA$10,2)<6)*(COUNTIF(jours_fériés,$AW$10:$CA$10)=0)) -> 0 | Z80: =SUMPRODUCT(COUNTIF($Z$10,$AW80:$CA80)*(WEEKDAY($AW$10:$CA$10,2)<6)*(COUNTIF(jours_fériés,$AW$10:$CA$10)=0)) -> 0 | AA80: =SUMPRODUCT(COUNTIF($AA$10,$AW80:$CA80)*(WEEKDAY($AW$10:$CA$10,2)<6)*(COUNTIF(jours_fériés,$AW$10:$CA$10)=0)) -> 0 | AB80: =($U$8)-SUM($J80:$AA80) -> 20 | AC80: =SUMPRODUCT(COUNTIF($AC$10,$AW80:$CA80)) -> 0 | AD80: =SUMPRODUCT(COUNTIF($AD$10,$AW80:$CA80)) -> 0 | AE80: =SUMPRODUCT(COUNTIF($AE$10,$AW80:$CA80)) -> 0 | AF80: =SUMPRODUCT(COUNTIF($AF$10,$AW80:$CA80)) -> 0 | AG80: =SUMPRODUCT(COUNTIF($AG$10,$AW80:$CA80)) -> 0 | AH80: =SUMPRODUCT(COUNTIF($AH$10,$AW80:$CA80)) -> 0 | AI80: =SUMPRODUCT(COUNTIF($AI$10,$AW80:$CA80)) -> 0 | AJ80: =SUMPRODUCT(COUNTIF($AJ$10,$AW80:$CA80)) -> 0 | AK80: =SUMPRODUCT(COUNTIF($AK$10,$AW80:$CA80)) -> 0 | AL80: =SUM($AF80:$AK80) -> 0 | AM80: =SUMPRODUCT(COUNTIF($AM$10,$AW80:$CA80)) -> 0 | AN80: =SUMPRODUCT(COUNTIF($AN$10,$AW80:$CA80)) -> 0 | AO80: =SUMPRODUCT(COUNTIF($AO$10,$AW80:$CA80)) -> 0 | AP80: =SUMPRODUCT(COUNTIF($AP$10,$AW80:$CA80)) -> 0 | AQ80: =SUMPRODUCT(COUNTIF($AQ$10,$AW80:$CA80)) -> 0 | AR80: =SUMPRODUCT(COUNTIF($AR$10,$AW80:$CA80)) -> 0 | AS80: =SUMPRODUCT(COUNTIF($AS$10,$AW80:$CA80)) -> 0 | AT80: =SUMPRODUCT(COUNTIF($AT$10,$AW80:$CA80)) -> 0 | AU80: =SUMPRODUCT(COUNTIF($AU$10,$AW80:$CA80)) -> 0 | AV80: =SUMPRODUCT(COUNTIF($AV$10,$AW80:$CA80)) -> 0
A81: =[1]PERSONNELS!B76 -> S4 | B81: =[1]PERSONNELS!C76 -> CCH | G81: =$AW$8 -> 42675 | H81: =SUMPRODUCT(COUNTIF($H$10,$AW81:$CA81)*(WEEKDAY($AW$10:$CA$10,2)<6)*(COUNTIF(jours_fériés,$AW$10:$CA$10)=0)) -> 0 | I81: =SUMPRODUCT(COUNTIF($I$10,$AW81:$CA81)*(WEEKDAY($AW$10:$CA$10,2)<6)*(COUNTIF(jours_fériés,$AW$10:$CA$10)=0))/2 -> 0 | J81: =SUM(H81:I81) -> 0 | K81: =SUMPRODUCT(COUNTIF($K$10,$AW81:$CA81)*(WEEKDAY($AW$10:$CA$10,2)<6)*(COUNTIF(jours_fériés,$AW$10:$CA$10)=0)) -> 0 | L81: =SUMPRODUCT(COUNTIF($L$10,$AW81:$CA81)*(WEEKDAY($AW$10:$CA$10,2)<6)*(COUNTIF(jours_fériés,$AW$10:$CA$10)=0)) -> 0 | M81: =SUMPRODUCT(COUNTIF($M$10,$AW81:$CA81)*(WEEKDAY($AW$10:$CA$10,2)<6)*(COUNTIF(jours_fériés,$AW$10:$CA$10)=0)) -> 0 | N81: =SUMPRODUCT(COUNTIF($N$10,$AW81:$CA81)*(WEEKDAY($AW$10:$CA$10,2)<6)*(COUNTIF(jours_fériés,$AW$10:$CA$10)=0)) -> 0 | O81: =SUMPRODUCT(COUNTIF($O$10,$AW81:$CA81)*(WEEKDAY($AW$10:$CA$10,2)<6)*(COUNTIF(jours_fériés,$AW$10:$CA$10)=0)) -> 0 | P81: =SUMPRODUCT(COUNTIF($P$10,$AW81:$CA81)*(WEEKDAY($AW$10:$CA$10,2)<6)*(COUNTIF(jours_fériés,$AW$10:$CA$10)=0)) -> 0 | Q81: =SUMPRODUCT(COUNTIF($Q$10,$AW81:$CA81)*(WEEKDAY($AW$10:$CA$10,2)<6)*(COUNTIF(jours_fériés,$AW$10:$CA$10)=0)) -> 0 | R81: =SUMPRODUCT(COUNTIF($R$10,$AW81:$CA81)*(WEEKDAY($AW$10:$CA$10,2)<6)*(COUNTIF(jours_fériés,$AW$10:$CA$10)=0)) -> 0 | S81: =SUMPRODUCT(COUNTIF($S$10,$AW81:$CA81)*(WEEKDAY($AW$10:$CA$10,2)<6)*(COUNTIF(jours_fériés,$AW$10:$CA$10)=0)) -> 0 | T81: =SUMPRODUCT(COUNTIF($T$10,$AW81:$CA81)*(WEEKDAY($AW$10:$CA$10,2)<6)*(COUNTIF(jours_fériés,$AW$10:$CA$10)=0)) -> 0 | U81: =SUMPRODUCT(COUNTIF($U$10,$AW81:$CA81)*(WEEKDAY($AW$10:$CA$10,2)<6)*(COUNTIF(jours_fériés,$AW$10:$CA$10)=0)) -> 0 | V81: =SUMPRODUCT(COUNTIF($V$10,$AW81:$CA81)*(WEEKDAY($AW$10:$CA$10,2)<6)*(COUNTIF(jours_fériés,$AW$10:$CA$10)=0)) -> 0 | W81: =SUMPRODUCT(COUNTIF($W$10,$AW81:$CA81)*(WEEKDAY($AW$10:$CA$10,2)<6)*(COUNTIF(jours_fériés,$AW$10:$CA$10)=0)) -> 0 | X81: =SUMPRODUCT(COUNTIF($X$10,$AW81:$CA81)*(WEEKDAY($AW$10:$CA$10,2)<6)*(COUNTIF(jours_fériés,$AW$10:$CA$10)=0)) -> 0 | Y81: =SUMPRODUCT(COUNTIF($Y$10,$AW81:$CA81)*(WEEKDAY($AW$10:$CA$10,2)<6)*(COUNTIF(jours_fériés,$AW$10:$CA$10)=0)) -> 1 | Z81: =SUMPRODUCT(COUNTIF($Z$10,$AW81:$CA81)*(WEEKDAY($AW$10:$CA$10,2)<6)*(COUNTIF(jours_fériés,$AW$10:$CA$10)=0)) -> 0 | AA81: =SUMPRODUCT(COUNTIF($AA$10,$AW81:$CA81)*(WEEKDAY($AW$10:$CA$10,2)<6)*(COUNTIF(jours_fériés,$AW$10:$CA$10)=0)) -> 0 | AB81: =($U$8)-SUM($J81:$AA81) -> 19 | AC81: =SUMPRODUCT(COUNTIF($AC$10,$AW81:$CA81)) -> 0 | AD81: =SUMPRODUCT(COUNTIF($AD$10,$AW81:$CA81)) -> 0 | AE81: =SUMPRODUCT(COUNTIF($AE$10,$AW81:$CA81)) -> 0 | AF81: =SUMPRODUCT(COUNTIF($AF$10,$AW81:$CA81)) -> 0 | AG81: =SUMPRODUCT(COUNTIF($AG$10,$AW81:$CA81)) -> 0 | AH81: =SUMPRODUCT(COUNTIF($AH$10,$AW81:$CA81)) -> 0 | AI81: =SUMPRODUCT(COUNTIF($AI$10,$AW81:$CA81)) -> 0 | AJ81: =SUMPRODUCT(COUNTIF($AJ$10,$AW81:$CA81)) -> 0 | AK81: =SUMPRODUCT(COUNTIF($AK$10,$AW81:$CA81)) -> 0 | AL81: =SUM($AF81:$AK81) -> 0 | AM81: =SUMPRODUCT(COUNTIF($AM$10,$AW81:$CA81)) -> 0 | AN81: =SUMPRODUCT(COUNTIF($AN$10,$AW81:$CA81)) -> 0 | AO81: =SUMPRODUCT(COUNTIF($AO$10,$AW81:$CA81)) -> 0 | AP81: =SUMPRODUCT(COUNTIF($AP$10,$AW81:$CA81)) -> 0 | AQ81: =SUMPRODUCT(COUNTIF($AQ$10,$AW81:$CA81)) -> 0 | AR81: =SUMPRODUCT(COUNTIF($AR$10,$AW81:$CA81)) -> 1 | AS81: =SUMPRODUCT(COUNTIF($AS$10,$AW81:$CA81)) -> 0 | AT81: =SUMPRODUCT(COUNTIF($AT$10,$AW81:$CA81)) -> 0 | AU81: =SUMPRODUCT(COUNTIF($AU$10,$AW81:$CA81)) -> 0 | AV81: =SUMPRODUCT(COUNTIF($AV$10,$AW81:$CA81)) -> 0 | CA81: Non/plus Affecté
A82: =[1]PERSONNELS!B77 -> S4 | B82: =[1]PERSONNELS!C77 -> CCH | G82: =$AW$8 -> 42675 | H82: =SUMPRODUCT(COUNTIF($H$10,$AW82:$CA82)*(WEEKDAY($AW$10:$CA$10,2)<6)*(COUNTIF(jours_fériés,$AW$10:$CA$10)=0)) -> 0 | I82: =SUMPRODUCT(COUNTIF($I$10,$AW82:$CA82)*(WEEKDAY($AW$10:$CA$10,2)<6)*(COUNTIF(jours_fériés,$AW$10:$CA$10)=0))/2 -> 0 | J82: =SUM(H82:I82) -> 0 | K82: =SUMPRODUCT(COUNTIF($K$10,$AW82:$CA82)*(WEEKDAY($AW$10:$CA$10,2)<6)*(COUNTIF(jours_fériés,$AW$10:$CA$10)=0)) -> 0 | L82: =SUMPRODUCT(COUNTIF($L$10,$AW82:$CA82)*(WEEKDAY($AW$10:$CA$10,2)<6)*(COUNTIF(jours_fériés,$AW$10:$CA$10)=0)) -> 0 | M82: =SUMPRODUCT(COUNTIF($M$10,$AW82:$CA82)*(WEEKDAY($AW$10:$CA$10,2)<6)*(COUNTIF(jours_fériés,$AW$10:$CA$10)=0)) -> 0 | N82: =SUMPRODUCT(COUNTIF($N$10,$AW82:$CA82)*(WEEKDAY($AW$10:$CA$10,2)<6)*(COUNTIF(jours_fériés,$AW$10:$CA$10)=0)) -> 0 | O82: =SUMPRODUCT(COUNTIF($O$10,$AW82:$CA82)*(WEEKDAY($AW$10:$CA$10,2)<6)*(COUNTIF(jours_fériés,$AW$10:$CA$10)=0)) -> 0 | P82: =SUMPRODUCT(COUNTIF($P$10,$AW82:$CA82)*(WEEKDAY($AW$10:$CA$10,2)<6)*(COUNTIF(jours_fériés,$AW$10:$CA$10)=0)) -> 0 | Q82: =SUMPRODUCT(COUNTIF($Q$10,$AW82:$CA82)*(WEEKDAY($AW$10:$CA$10,2)<6)*(COUNTIF(jours_fériés,$AW$10:$CA$10)=0)) -> 0 | R82: =SUMPRODUCT(COUNTIF($R$10,$AW82:$CA82)*(WEEKDAY($AW$10:$CA$10,2)<6)*(COUNTIF(jours_fériés,$AW$10:$CA$10)=0)) -> 0 | S82: =SUMPRODUCT(COUNTIF($S$10,$AW82:$CA82)*(WEEKDAY($AW$10:$CA$10,2)<6)*(COUNTIF(jours_fériés,$AW$10:$CA$10)=0)) -> 0 | T82: =SUMPRODUCT(COUNTIF($T$10,$AW82:$CA82)*(WEEKDAY($AW$10:$CA$10,2)<6)*(COUNTIF(jours_fériés,$AW$10:$CA$10)=0)) -> 0 | U82: =SUMPRODUCT(COUNTIF($U$10,$AW82:$CA82)*(WEEKDAY($AW$10:$CA$10,2)<6)*(COUNTIF(jours_fériés,$AW$10:$CA$10)=0)) -> 0 | V82: =SUMPRODUCT(COUNTIF($V$10,$AW82:$CA82)*(WEEKDAY($AW$10:$CA$10,2)<6)*(COUNTIF(jours_fériés,$AW$10:$CA$10)=0)) -> 0 | W82: =SUMPRODUCT(COUNTIF($W$10,$AW82:$CA82)*(WEEKDAY($AW$10:$CA$10,2)<6)*(COUNTIF(jours_fériés,$AW$10:$CA$10)=0)) -> 0 | X82: =SUMPRODUCT(COUNTIF($X$10,$AW82:$CA82)*(WEEKDAY($AW$10:$CA$10,2)<6)*(COUNTIF(jours_fériés,$AW$10:$CA$10)=0)) -> 0 | Y82: =SUMPRODUCT(COUNTIF($Y$10,$AW82:$CA82)*(WEEKDAY($AW$10:$CA$10,2)<6)*(COUNTIF(jours_fériés,$AW$10:$CA$10)=0)) -> 0 | Z82: =SUMPRODUCT(COUNTIF($Z$10,$AW82:$CA82)*(WEEKDAY($AW$10:$CA$10,2)<6)*(COUNTIF(jours_fériés,$AW$10:$CA$10)=0)) -> 0 | AA82: =SUMPRODUCT(COUNTIF($AA$10,$AW82:$CA82)*(WEEKDAY($AW$10:$CA$10,2)<6)*(COUNTIF(jours_fériés,$AW$10:$CA$10)=0)) -> 0 | AB82: =($U$8)-SUM($J82:$AA82) -> 20 | AC82: =SUMPRODUCT(COUNTIF($AC$10,$AW82:$CA82)) -> 0 | AD82: =SUMPRODUCT(COUNTIF($AD$10,$AW82:$CA82)) -> 0 | AE82: =SUMPRODUCT(COUNTIF($AE$10,$AW82:$CA82)) -> 0 | AF82: =SUMPRODUCT(COUNTIF($AF$10,$AW82:$CA82)) -> 0 | AG82: =SUMPRODUCT(COUNTIF($AG$10,$AW82:$CA82)) -> 0 | AH82: =SUMPRODUCT(COUNTIF($AH$10,$AW82:$CA82)) -> 0 | AI82: =SUMPRODUCT(COUNTIF($AI$10,$AW82:$CA82)) -> 0 | AJ82: =SUMPRODUCT(COUNTIF($AJ$10,$AW82:$CA82)) -> 0 | AK82: =SUMPRODUCT(COUNTIF($AK$10,$AW82:$CA82)) -> 0 | AL82: =SUM($AF82:$AK82) -> 0 | AM82: =SUMPRODUCT(COUNTIF($AM$10,$AW82:$CA82)) -> 0 | AN82: =SUMPRODUCT(COUNTIF($AN$10,$AW82:$CA82)) -> 0 | AO82: =SUMPRODUCT(COUNTIF($AO$10,$AW82:$CA82)) -> 0 | AP82: =SUMPRODUCT(COUNTIF($AP$10,$AW82:$CA82)) -> 0 | AQ82: =SUMPRODUCT(COUNTIF($AQ$10,$AW82:$CA82)) -> 0 | AR82: =SUMPRODUCT(COUNTIF($AR$10,$AW82:$CA82)) -> 0 | AS82: =SUMPRODUCT(COUNTIF($AS$10,$AW82:$CA82)) -> 0 | AT82: =SUMPRODUCT(COUNTIF($AT$10,$AW82:$CA82)) -> 0 | AU82: =SUMPRODUCT(COUNTIF($AU$10,$AW82:$CA82)) -> 0 | AV82: =SUMPRODUCT(COUNTIF($AV$10,$AW82:$CA82)) -> 0
A83: =[1]PERSONNELS!B78 -> S4 | B83: =[1]PERSONNELS!C78 -> CCH | G83: =$AW$8 -> 42675 | H83: =SUMPRODUCT(COUNTIF($H$10,$AW83:$CA83)*(WEEKDAY($AW$10:$CA$10,2)<6)*(COUNTIF(jours_fériés,$AW$10:$CA$10)=0)) -> 0 | I83: =SUMPRODUCT(COUNTIF($I$10,$AW83:$CA83)*(WEEKDAY($AW$10:$CA$10,2)<6)*(COUNTIF(jours_fériés,$AW$10:$CA$10)=0))/2 -> 0 | J83: =SUM(H83:I83) -> 0 | K83: =SUMPRODUCT(COUNTIF($K$10,$AW83:$CA83)*(WEEKDAY($AW$10:$CA$10,2)<6)*(COUNTIF(jours_fériés,$AW$10:$CA$10)=0)) -> 0 | L83: =SUMPRODUCT(COUNTIF($L$10,$AW83:$CA83)*(WEEKDAY($AW$10:$CA$10,2)<6)*(COUNTIF(jours_fériés,$AW$10:$CA$10)=0)) -> 0 | M83: =SUMPRODUCT(COUNTIF($M$10,$AW83:$CA83)*(WEEKDAY($AW$10:$CA$10,2)<6)*(COUNTIF(jours_fériés,$AW$10:$CA$10)=0)) -> 0 | N83: =SUMPRODUCT(COUNTIF($N$10,$AW83:$CA83)*(WEEKDAY($AW$10:$CA$10,2)<6)*(COUNTIF(jours_fériés,$AW$10:$CA$10)=0)) -> 0 | O83: =SUMPRODUCT(COUNTIF($O$10,$AW83:$CA83)*(WEEKDAY($AW$10:$CA$10,2)<6)*(COUNTIF(jours_fériés,$AW$10:$CA$10)=0)) -> 0 | P83: =SUMPRODUCT(COUNTIF($P$10,$AW83:$CA83)*(WEEKDAY($AW$10:$CA$10,2)<6)*(COUNTIF(jours_fériés,$AW$10:$CA$10)=0)) -> 0 | Q83: =SUMPRODUCT(COUNTIF($Q$10,$AW83:$CA83)*(WEEKDAY($AW$10:$CA$10,2)<6)*(COUNTIF(jours_fériés,$AW$10:$CA$10)=0)) -> 0 | R83: =SUMPRODUCT(COUNTIF($R$10,$AW83:$CA83)*(WEEKDAY($AW$10:$CA$10,2)<6)*(COUNTIF(jours_fériés,$AW$10:$CA$10)=0)) -> 0 | S83: =SUMPRODUCT(COUNTIF($S$10,$AW83:$CA83)*(WEEKDAY($AW$10:$CA$10,2)<6)*(COUNTIF(jours_fériés,$AW$10:$CA$10)=0)) -> 0 | T83: =SUMPRODUCT(COUNTIF($T$10,$AW83:$CA83)*(WEEKDAY($AW$10:$CA$10,2)<6)*(COUNTIF(jours_fériés,$AW$10:$CA$10)=0)) -> 0 | U83: =SUMPRODUCT(COUNTIF($U$10,$AW83:$CA83)*(WEEKDAY($AW$10:$CA$10,2)<6)*(COUNTIF(jours_fériés,$AW$10:$CA$10)=0)) -> 0 | V83: =SUMPRODUCT(COUNTIF($V$10,$AW83:$CA83)*(WEEKDAY($AW$10:$CA$10,2)<6)*(COUNTIF(jours_fériés,$AW$10:$CA$10)=0)) -> 0 | W83: =SUMPRODUCT(COUNTIF($W$10,$AW83:$CA83)*(WEEKDAY($AW$10:$CA$10,2)<6)*(COUNTIF(jours_fériés,$AW$10:$CA$10)=0)) -> 0 | X83: =SUMPRODUCT(COUNTIF($X$10,$AW83:$CA83)*(WEEKDAY($AW$10:$CA$10,2)<6)*(COUNTIF(jours_fériés,$AW$10:$CA$10)=0)) -> 0 | Y83: =SUMPRODUCT(COUNTIF($Y$10,$AW83:$CA83)*(WEEKDAY($AW$10:$CA$10,2)<6)*(COUNTIF(jours_fériés,$AW$10:$CA$10)=0)) -> 1 | Z83: =SUMPRODUCT(COUNTIF($Z$10,$AW83:$CA83)*(WEEKDAY($AW$10:$CA$10,2)<6)*(COUNTIF(jours_fériés,$AW$10:$CA$10)=0)) -> 0 | AA83: =SUMPRODUCT(COUNTIF($AA$10,$AW83:$CA83)*(WEEKDAY($AW$10:$CA$10,2)<6)*(COUNTIF(jours_fériés,$AW$10:$CA$10)=0)) -> 0 | AB83: =($U$8)-SUM($J83:$AA83) -> 19 | AC83: =SUMPRODUCT(COUNTIF($AC$10,$AW83:$CA83)) -> 0 | AD83: =SUMPRODUCT(COUNTIF($AD$10,$AW83:$CA83)) -> 0 | AE83: =SUMPRODUCT(COUNTIF($AE$10,$AW83:$CA83)) -> 0 | AF83: =SUMPRODUCT(COUNTIF($AF$10,$AW83:$CA83)) -> 0 | AG83: =SUMPRODUCT(COUNTIF($AG$10,$AW83:$CA83)) -> 0 | AH83: =SUMPRODUCT(COUNTIF($AH$10,$AW83:$CA83)) -> 0 | AI83: =SUMPRODUCT(COUNTIF($AI$10,$AW83:$CA83)) -> 0 | AJ83: =SUMPRODUCT(COUNTIF($AJ$10,$AW83:$CA83)) -> 0 | AK83: =SUMPRODUCT(COUNTIF($AK$10,$AW83:$CA83)) -> 0 | AL83: =SUM($AF83:$AK83) -> 0 | AM83: =SUMPRODUCT(COUNTIF($AM$10,$AW83:$CA83)) -> 0 | AN83: =SUMPRODUCT(COUNTIF($AN$10,$AW83:$CA83)) -> 0 | AO83: =SUMPRODUCT(COUNTIF($AO$10,$AW83:$CA83)) -> 0 | AP83: =SUMPRODUCT(COUNTIF($AP$10,$AW83:$CA83)) -> 0 | AQ83: =SUMPRODUCT(COUNTIF($AQ$10,$AW83:$CA83)) -> 0 | AR83: =SUMPRODUCT(COUNTIF($AR$10,$AW83:$CA83)) -> 1 | AS83: =SUMPRODUCT(COUNTIF($AS$10,$AW83:$CA83)) -> 0 | AT83: =SUMPRODUCT(COUNTIF($AT$10,$AW83:$CA83)) -> 0 | AU83: =SUMPRODUCT(COUNTIF($AU$10,$AW83:$CA83)) -> 0 | AV83: =SUMPRODUCT(COUNTIF($AV$10,$AW83:$CA83)) -> 0 | CA83: Non/plus Affecté
A84: =[1]PERSONNELS!B79 -> S4 | B84: =[1]PERSONNELS!C79 -> CCH | G84: =$AW$8 -> 42675 | H84: =SUMPRODUCT(COUNTIF($H$10,$AW84:$CA84)*(WEEKDAY($AW$10:$CA$10,2)<6)*(COUNTIF(jours_fériés,$AW$10:$CA$10)=0)) -> 0 | I84: =SUMPRODUCT(COUNTIF($I$10,$AW84:$CA84)*(WEEKDAY($AW$10:$CA$10,2)<6)*(COUNTIF(jours_fériés,$AW$10:$CA$10)=0))/2 -> 0 | J84: =SUM(H84:I84) -> 0 | K84: =SUMPRODUCT(COUNTIF($K$10,$AW84:$CA84)*(WEEKDAY($AW$10:$CA$10,2)<6)*(COUNTIF(jours_fériés,$AW$10:$CA$10)=0)) -> 0 | L84: =SUMPRODUCT(COUNTIF($L$10,$AW84:$CA84)*(WEEKDAY($AW$10:$CA$10,2)<6)*(COUNTIF(jours_fériés,$AW$10:$CA$10)=0)) -> 0 | M84: =SUMPRODUCT(COUNTIF($M$10,$AW84:$CA84)*(WEEKDAY($AW$10:$CA$10,2)<6)*(COUNTIF(jours_fériés,$AW$10:$CA$10)=0)) -> 0 | N84: =SUMPRODUCT(COUNTIF($N$10,$AW84:$CA84)*(WEEKDAY($AW$10:$CA$10,2)<6)*(COUNTIF(jours_fériés,$AW$10:$CA$10)=0)) -> 0 | O84: =SUMPRODUCT(COUNTIF($O$10,$AW84:$CA84)*(WEEKDAY($AW$10:$CA$10,2)<6)*(COUNTIF(jours_fériés,$AW$10:$CA$10)=0)) -> 0 | P84: =SUMPRODUCT(COUNTIF($P$10,$AW84:$CA84)*(WEEKDAY($AW$10:$CA$10,2)<6)*(COUNTIF(jours_fériés,$AW$10:$CA$10)=0)) -> 0 | Q84: =SUMPRODUCT(COUNTIF($Q$10,$AW84:$CA84)*(WEEKDAY($AW$10:$CA$10,2)<6)*(COUNTIF(jours_fériés,$AW$10:$CA$10)=0)) -> 0 | R84: =SUMPRODUCT(COUNTIF($R$10,$AW84:$CA84)*(WEEKDAY($AW$10:$CA$10,2)<6)*(COUNTIF(jours_fériés,$AW$10:$CA$10)=0)) -> 0 | S84: =SUMPRODUCT(COUNTIF($S$10,$AW84:$CA84)*(WEEKDAY($AW$10:$CA$10,2)<6)*(COUNTIF(jours_fériés,$AW$10:$CA$10)=0)) -> 0 | T84: =SUMPRODUCT(COUNTIF($T$10,$AW84:$CA84)*(WEEKDAY($AW$10:$CA$10,2)<6)*(COUNTIF(jours_fériés,$AW$10:$CA$10)=0)) -> 0 | U84: =SUMPRODUCT(COUNTIF($U$10,$AW84:$CA84)*(WEEKDAY($AW$10:$CA$10,2)<6)*(COUNTIF(jours_fériés,$AW$10:$CA$10)=0)) -> 0 | V84: =SUMPRODUCT(COUNTIF($V$10,$AW84:$CA84)*(WEEKDAY($AW$10:$CA$10,2)<6)*(COUNTIF(jours_fériés,$AW$10:$CA$10)=0)) -> 0 | W84: =SUMPRODUCT(COUNTIF($W$10,$AW84:$CA84)*(WEEKDAY($AW$10:$CA$10,2)<6)*(COUNTIF(jours_fériés,$AW$10:$CA$10)=0)) -> 0 | X84: =SUMPRODUCT(COUNTIF($X$10,$AW84:$CA84)*(WEEKDAY($AW$10:$CA$10,2)<6)*(COUNTIF(jours_fériés,$AW$10:$CA$10)=0)) -> 0 | Y84: =SUMPRODUCT(COUNTIF($Y$10,$AW84:$CA84)*(WEEKDAY($AW$10:$CA$10,2)<6)*(COUNTIF(jours_fériés,$AW$10:$CA$10)=0)) -> 0 | Z84: =SUMPRODUCT(COUNTIF($Z$10,$AW84:$CA84)*(WEEKDAY($AW$10:$CA$10,2)<6)*(COUNTIF(jours_fériés,$AW$10:$CA$10)=0)) -> 0 | AA84: =SUMPRODUCT(COUNTIF($AA$10,$AW84:$CA84)*(WEEKDAY($AW$10:$CA$10,2)<6)*(COUNTIF(jours_fériés,$AW$10:$CA$10)=0)) -> 0 | AB84: =($U$8)-SUM($J84:$AA84) -> 20 | AC84: =SUMPRODUCT(COUNTIF($AC$10,$AW84:$CA84)) -> 0 | AD84: =SUMPRODUCT(COUNTIF($AD$10,$AW84:$CA84)) -> 0 | AE84: =SUMPRODUCT(COUNTIF($AE$10,$AW84:$CA84)) -> 0 | AF84: =SUMPRODUCT(COUNTIF($AF$10,$AW84:$CA84)) -> 0 | AG84: =SUMPRODUCT(COUNTIF($AG$10,$AW84:$CA84)) -> 0 | AH84: =SUMPRODUCT(COUNTIF($AH$10,$AW84:$CA84)) -> 0 | AI84: =SUMPRODUCT(COUNTIF($AI$10,$AW84:$CA84)) -> 0 | AJ84: =SUMPRODUCT(COUNTIF($AJ$10,$AW84:$CA84)) -> 0 | AK84: =SUMPRODUCT(COUNTIF($AK$10,$AW84:$CA84)) -> 0 | AL84: =SUM($AF84:$AK84) -> 0 | AM84: =SUMPRODUCT(COUNTIF($AM$10,$AW84:$CA84)) -> 0 | AN84: =SUMPRODUCT(COUNTIF($AN$10,$AW84:$CA84)) -> 0 | AO84: =SUMPRODUCT(COUNTIF($AO$10,$AW84:$CA84)) -> 0 | AP84: =SUMPRODUCT(COUNTIF($AP$10,$AW84:$CA84)) -> 0 | AQ84: =SUMPRODUCT(COUNTIF($AQ$10,$AW84:$CA84)) -> 0 | AR84: =SUMPRODUCT(COUNTIF($AR$10,$AW84:$CA84)) -> 0 | AS84: =SUMPRODUCT(COUNTIF($AS$10,$AW84:$CA84)) -> 0 | AT84: =SUMPRODUCT(COUNTIF($AT$10,$AW84:$CA84)) -> 0 | AU84: =SUMPRODUCT(COUNTIF($AU$10,$AW84:$CA84)) -> 0 | AV84: =SUMPRODUCT(COUNTIF($AV$10,$AW84:$CA84)) -> 0
A85: =[1]PERSONNELS!B80 -> S4 | B85: =[1]PERSONNELS!C80 -> CCH | G85: =$AW$8 -> 42675 | H85: =SUMPRODUCT(COUNTIF($H$10,$AW85:$CA85)*(WEEKDAY($AW$10:$CA$10,2)<6)*(COUNTIF(jours_fériés,$AW$10:$CA$10)=0)) -> 0 | I85: =SUMPRODUCT(COUNTIF($I$10,$AW85:$CA85)*(WEEKDAY($AW$10:$CA$10,2)<6)*(COUNTIF(jours_fériés,$AW$10:$CA$10)=0))/2 -> 0 | J85: =SUM(H85:I85) -> 0 | K85: =SUMPRODUCT(COUNTIF($K$10,$AW85:$CA85)*(WEEKDAY($AW$10:$CA$10,2)<6)*(COUNTIF(jours_fériés,$AW$10:$CA$10)=0)) -> 0 | L85: =SUMPRODUCT(COUNTIF($L$10,$AW85:$CA85)*(WEEKDAY($AW$10:$CA$10,2)<6)*(COUNTIF(jours_fériés,$AW$10:$CA$10)=0)) -> 0 | M85: =SUMPRODUCT(COUNTIF($M$10,$AW85:$CA85)*(WEEKDAY($AW$10:$CA$10,2)<6)*(COUNTIF(jours_fériés,$AW$10:$CA$10)=0)) -> 0 | N85: =SUMPRODUCT(COUNTIF($N$10,$AW85:$CA85)*(WEEKDAY($AW$10:$CA$10,2)<6)*(COUNTIF(jours_fériés,$AW$10:$CA$10)=0)) -> 0 | O85: =SUMPRODUCT(COUNTIF($O$10,$AW85:$CA85)*(WEEKDAY($AW$10:$CA$10,2)<6)*(COUNTIF(jours_fériés,$AW$10:$CA$10)=0)) -> 0 | P85: =SUMPRODUCT(COUNTIF($P$10,$AW85:$CA85)*(WEEKDAY($AW$10:$CA$10,2)<6)*(COUNTIF(jours_fériés,$AW$10:$CA$10)=0)) -> 0 | Q85: =SUMPRODUCT(COUNTIF($Q$10,$AW85:$CA85)*(WEEKDAY($AW$10:$CA$10,2)<6)*(COUNTIF(jours_fériés,$AW$10:$CA$10)=0)) -> 0 | R85: =SUMPRODUCT(COUNTIF($R$10,$AW85:$CA85)*(WEEKDAY($AW$10:$CA$10,2)<6)*(COUNTIF(jours_fériés,$AW$10:$CA$10)=0)) -> 0 | S85: =SUMPRODUCT(COUNTIF($S$10,$AW85:$CA85)*(WEEKDAY($AW$10:$CA$10,2)<6)*(COUNTIF(jours_fériés,$AW$10:$CA$10)=0)) -> 0 | T85: =SUMPRODUCT(COUNTIF($T$10,$AW85:$CA85)*(WEEKDAY($AW$10:$CA$10,2)<6)*(COUNTIF(jours_fériés,$AW$10:$CA$10)=0)) -> 0 | U85: =SUMPRODUCT(COUNTIF($U$10,$AW85:$CA85)*(WEEKDAY($AW$10:$CA$10,2)<6)*(COUNTIF(jours_fériés,$AW$10:$CA$10)=0)) -> 0 | V85: =SUMPRODUCT(COUNTIF($V$10,$AW85:$CA85)*(WEEKDAY($AW$10:$CA$10,2)<6)*(COUNTIF(jours_fériés,$AW$10:$CA$10)=0)) -> 0 | W85: =SUMPRODUCT(COUNTIF($W$10,$AW85:$CA85)*(WEEKDAY($AW$10:$CA$10,2)<6)*(COUNTIF(jours_fériés,$AW$10:$CA$10)=0)) -> 0 | X85: =SUMPRODUCT(COUNTIF($X$10,$AW85:$CA85)*(WEEKDAY($AW$10:$CA$10,2)<6)*(COUNTIF(jours_fériés,$AW$10:$CA$10)=0)) -> 0 | Y85: =SUMPRODUCT(COUNTIF($Y$10,$AW85:$CA85)*(WEEKDAY($AW$10:$CA$10,2)<6)*(COUNTIF(jours_fériés,$AW$10:$CA$10)=0)) -> 0 | Z85: =SUMPRODUCT(COUNTIF($Z$10,$AW85:$CA85)*(WEEKDAY($AW$10:$CA$10,2)<6)*(COUNTIF(jours_fériés,$AW$10:$CA$10)=0)) -> 0 | AA85: =SUMPRODUCT(COUNTIF($AA$10,$AW85:$CA85)*(WEEKDAY($AW$10:$CA$10,2)<6)*(COUNTIF(jours_fériés,$AW$10:$CA$10)=0)) -> 0 | AB85: =($U$8)-SUM($J85:$AA85) -> 20 | AC85: =SUMPRODUCT(COUNTIF($AC$10,$AW85:$CA85)) -> 0 | AD85: =SUMPRODUCT(COUNTIF($AD$10,$AW85:$CA85)) -> 0 | AE85: =SUMPRODUCT(COUNTIF($AE$10,$AW85:$CA85)) -> 0 | AF85: =SUMPRODUCT(COUNTIF($AF$10,$AW85:$CA85)) -> 0 | AG85: =SUMPRODUCT(COUNTIF($AG$10,$AW85:$CA85)) -> 0 | AH85: =SUMPRODUCT(COUNTIF($AH$10,$AW85:$CA85)) -> 0 | AI85: =SUMPRODUCT(COUNTIF($AI$10,$AW85:$CA85)) -> 0 | AJ85: =SUMPRODUCT(COUNTIF($AJ$10,$AW85:$CA85)) -> 0 | AK85: =SUMPRODUCT(COUNTIF($AK$10,$AW85:$CA85)) -> 0 | AL85: =SUM($AF85:$AK85) -> 0 | AM85: =SUMPRODUCT(COUNTIF($AM$10,$AW85:$CA85)) -> 0 | AN85: =SUMPRODUCT(COUNTIF($AN$10,$AW85:$CA85)) -> 0 | AO85: =SUMPRODUCT(COUNTIF($AO$10,$AW85:$CA85)) -> 0 | AP85: =SUMPRODUCT(COUNTIF($AP$10,$AW85:$CA85)) -> 0 | AQ85: =SUMPRODUCT(COUNTIF($AQ$10,$AW85:$CA85)) -> 0 | AR85: =SUMPRODUCT(COUNTIF($AR$10,$AW85:$CA85)) -> 0 | AS85: =SUMPRODUCT(COUNTIF($AS$10,$AW85:$CA85)) -> 0 | AT85: =SUMPRODUCT(COUNTIF($AT$10,$AW85:$CA85)) -> 0 | AU85: =SUMPRODUCT(COUNTIF($AU$10,$AW85:$CA85)) -> 0 | AV85: =SUMPRODUCT(COUNTIF($AV$10,$AW85:$CA85)) -> 0
A86: =[1]PERSONNELS!B81 -> S4 | B86: =[1]PERSONNELS!C81 -> CPL | G86: =$AW$8 -> 42675 | H86: =SUMPRODUCT(COUNTIF($H$10,$AW86:$CA86)*(WEEKDAY($AW$10:$CA$10,2)<6)*(COUNTIF(jours_fériés,$AW$10:$CA$10)=0)) -> 0 | I86: =SUMPRODUCT(COUNTIF($I$10,$AW86:$CA86)*(WEEKDAY($AW$10:$CA$10,2)<6)*(COUNTIF(jours_fériés,$AW$10:$CA$10)=0))/2 -> 0 | J86: =SUM(H86:I86) -> 0 | K86: =SUMPRODUCT(COUNTIF($K$10,$AW86:$CA86)*(WEEKDAY($AW$10:$CA$10,2)<6)*(COUNTIF(jours_fériés,$AW$10:$CA$10)=0)) -> 0 | L86: =SUMPRODUCT(COUNTIF($L$10,$AW86:$CA86)*(WEEKDAY($AW$10:$CA$10,2)<6)*(COUNTIF(jours_fériés,$AW$10:$CA$10)=0)) -> 0 | M86: =SUMPRODUCT(COUNTIF($M$10,$AW86:$CA86)*(WEEKDAY($AW$10:$CA$10,2)<6)*(COUNTIF(jours_fériés,$AW$10:$CA$10)=0)) -> 0 | N86: =SUMPRODUCT(COUNTIF($N$10,$AW86:$CA86)*(WEEKDAY($AW$10:$CA$10,2)<6)*(COUNTIF(jours_fériés,$AW$10:$CA$10)=0)) -> 0 | O86: =SUMPRODUCT(COUNTIF($O$10,$AW86:$CA86)*(WEEKDAY($AW$10:$CA$10,2)<6)*(COUNTIF(jours_fériés,$AW$10:$CA$10)=0)) -> 0 | P86: =SUMPRODUCT(COUNTIF($P$10,$AW86:$CA86)*(WEEKDAY($AW$10:$CA$10,2)<6)*(COUNTIF(jours_fériés,$AW$10:$CA$10)=0)) -> 0 | Q86: =SUMPRODUCT(COUNTIF($Q$10,$AW86:$CA86)*(WEEKDAY($AW$10:$CA$10,2)<6)*(COUNTIF(jours_fériés,$AW$10:$CA$10)=0)) -> 0 | R86: =SUMPRODUCT(COUNTIF($R$10,$AW86:$CA86)*(WEEKDAY($AW$10:$CA$10,2)<6)*(COUNTIF(jours_fériés,$AW$10:$CA$10)=0)) -> 0 | S86: =SUMPRODUCT(COUNTIF($S$10,$AW86:$CA86)*(WEEKDAY($AW$10:$CA$10,2)<6)*(COUNTIF(jours_fériés,$AW$10:$CA$10)=0)) -> 0 | T86: =SUMPRODUCT(COUNTIF($T$10,$AW86:$CA86)*(WEEKDAY($AW$10:$CA$10,2)<6)*(COUNTIF(jours_fériés,$AW$10:$CA$10)=0)) -> 0 | U86: =SUMPRODUCT(COUNTIF($U$10,$AW86:$CA86)*(WEEKDAY($AW$10:$CA$10,2)<6)*(COUNTIF(jours_fériés,$AW$10:$CA$10)=0)) -> 0 | V86: =SUMPRODUCT(COUNTIF($V$10,$AW86:$CA86)*(WEEKDAY($AW$10:$CA$10,2)<6)*(COUNTIF(jours_fériés,$AW$10:$CA$10)=0)) -> 0 | W86: =SUMPRODUCT(COUNTIF($W$10,$AW86:$CA86)*(WEEKDAY($AW$10:$CA$10,2)<6)*(COUNTIF(jours_fériés,$AW$10:$CA$10)=0)) -> 0 | X86: =SUMPRODUCT(COUNTIF($X$10,$AW86:$CA86)*(WEEKDAY($AW$10:$CA$10,2)<6)*(COUNTIF(jours_fériés,$AW$10:$CA$10)=0)) -> 0 | Y86: =SUMPRODUCT(COUNTIF($Y$10,$AW86:$CA86)*(WEEKDAY($AW$10:$CA$10,2)<6)*(COUNTIF(jours_fériés,$AW$10:$CA$10)=0)) -> 0 | Z86: =SUMPRODUCT(COUNTIF($Z$10,$AW86:$CA86)*(WEEKDAY($AW$10:$CA$10,2)<6)*(COUNTIF(jours_fériés,$AW$10:$CA$10)=0)) -> 0 | AA86: =SUMPRODUCT(COUNTIF($AA$10,$AW86:$CA86)*(WEEKDAY($AW$10:$CA$10,2)<6)*(COUNTIF(jours_fériés,$AW$10:$CA$10)=0)) -> 0 | AB86: =($U$8)-SUM($J86:$AA86) -> 20 | AC86: =SUMPRODUCT(COUNTIF($AC$10,$AW86:$CA86)) -> 0 | AD86: =SUMPRODUCT(COUNTIF($AD$10,$AW86:$CA86)) -> 0 | AE86: =SUMPRODUCT(COUNTIF($AE$10,$AW86:$CA86)) -> 0 | AF86: =SUMPRODUCT(COUNTIF($AF$10,$AW86:$CA86)) -> 0 | AG86: =SUMPRODUCT(COUNTIF($AG$10,$AW86:$CA86)) -> 0 | AH86: =SUMPRODUCT(COUNTIF($AH$10,$AW86:$CA86)) -> 0 | AI86: =SUMPRODUCT(COUNTIF($AI$10,$AW86:$CA86)) -> 0 | AJ86: =SUMPRODUCT(COUNTIF($AJ$10,$AW86:$CA86)) -> 0 | AK86: =SUMPRODUCT(COUNTIF($AK$10,$AW86:$CA86)) -> 0 | AL86: =SUM($AF86:$AK86) -> 0 | AM86: =SUMPRODUCT(COUNTIF($AM$10,$AW86:$CA86)) -> 0 | AN86: =SUMPRODUCT(COUNTIF($AN$10,$AW86:$CA86)) -> 0 | AO86: =SUMPRODUCT(COUNTIF($AO$10,$AW86:$CA86)) -> 0 | AP86: =SUMPRODUCT(COUNTIF($AP$10,$AW86:$CA86)) -> 0 | AQ86: =SUMPRODUCT(COUNTIF($AQ$10,$AW86:$CA86)) -> 0 | AR86: =SUMPRODUCT(COUNTIF($AR$10,$AW86:$CA86)) -> 0 | AS86: =SUMPRODUCT(COUNTIF($AS$10,$AW86:$CA86)) -> 0 | AT86: =SUMPRODUCT(COUNTIF($AT$10,$AW86:$CA86)) -> 0 | AU86: =SUMPRODUCT(COUNTIF($AU$10,$AW86:$CA86)) -> 0 | AV86: =SUMPRODUCT(COUNTIF($AV$10,$AW86:$CA86)) -> 0
A87: =[1]PERSONNELS!B82 -> S4 | B87: =[1]PERSONNELS!C82 -> CPL | G87: =$AW$8 -> 42675 | H87: =SUMPRODUCT(COUNTIF($H$10,$AW87:$CA87)*(WEEKDAY($AW$10:$CA$10,2)<6)*(COUNTIF(jours_fériés,$AW$10:$CA$10)=0)) -> 0 | I87: =SUMPRODUCT(COUNTIF($I$10,$AW87:$CA87)*(WEEKDAY($AW$10:$CA$10,2)<6)*(COUNTIF(jours_fériés,$AW$10:$CA$10)=0))/2 -> 0 | J87: =SUM(H87:I87) -> 0 | K87: =SUMPRODUCT(COUNTIF($K$10,$AW87:$CA87)*(WEEKDAY($AW$10:$CA$10,2)<6)*(COUNTIF(jours_fériés,$AW$10:$CA$10)=0)) -> 0 | L87: =SUMPRODUCT(COUNTIF($L$10,$AW87:$CA87)*(WEEKDAY($AW$10:$CA$10,2)<6)*(COUNTIF(jours_fériés,$AW$10:$CA$10)=0)) -> 0 | M87: =SUMPRODUCT(COUNTIF($M$10,$AW87:$CA87)*(WEEKDAY($AW$10:$CA$10,2)<6)*(COUNTIF(jours_fériés,$AW$10:$CA$10)=0)) -> 0 | N87: =SUMPRODUCT(COUNTIF($N$10,$AW87:$CA87)*(WEEKDAY($AW$10:$CA$10,2)<6)*(COUNTIF(jours_fériés,$AW$10:$CA$10)=0)) -> 0 | O87: =SUMPRODUCT(COUNTIF($O$10,$AW87:$CA87)*(WEEKDAY($AW$10:$CA$10,2)<6)*(COUNTIF(jours_fériés,$AW$10:$CA$10)=0)) -> 0 | P87: =SUMPRODUCT(COUNTIF($P$10,$AW87:$CA87)*(WEEKDAY($AW$10:$CA$10,2)<6)*(COUNTIF(jours_fériés,$AW$10:$CA$10)=0)) -> 0 | Q87: =SUMPRODUCT(COUNTIF($Q$10,$AW87:$CA87)*(WEEKDAY($AW$10:$CA$10,2)<6)*(COUNTIF(jours_fériés,$AW$10:$CA$10)=0)) -> 0 | R87: =SUMPRODUCT(COUNTIF($R$10,$AW87:$CA87)*(WEEKDAY($AW$10:$CA$10,2)<6)*(COUNTIF(jours_fériés,$AW$10:$CA$10)=0)) -> 0 | S87: =SUMPRODUCT(COUNTIF($S$10,$AW87:$CA87)*(WEEKDAY($AW$10:$CA$10,2)<6)*(COUNTIF(jours_fériés,$AW$10:$CA$10)=0)) -> 0 | T87: =SUMPRODUCT(COUNTIF($T$10,$AW87:$CA87)*(WEEKDAY($AW$10:$CA$10,2)<6)*(COUNTIF(jours_fériés,$AW$10:$CA$10)=0)) -> 0 | U87: =SUMPRODUCT(COUNTIF($U$10,$AW87:$CA87)*(WEEKDAY($AW$10:$CA$10,2)<6)*(COUNTIF(jours_fériés,$AW$10:$CA$10)=0)) -> 0 | V87: =SUMPRODUCT(COUNTIF($V$10,$AW87:$CA87)*(WEEKDAY($AW$10:$CA$10,2)<6)*(COUNTIF(jours_fériés,$AW$10:$CA$10)=0)) -> 0 | W87: =SUMPRODUCT(COUNTIF($W$10,$AW87:$CA87)*(WEEKDAY($AW$10:$CA$10,2)<6)*(COUNTIF(jours_fériés,$AW$10:$CA$10)=0)) -> 0 | X87: =SUMPRODUCT(COUNTIF($X$10,$AW87:$CA87)*(WEEKDAY($AW$10:$CA$10,2)<6)*(COUNTIF(jours_fériés,$AW$10:$CA$10)=0)) -> 0 | Y87: =SUMPRODUCT(COUNTIF($Y$10,$AW87:$CA87)*(WEEKDAY($AW$10:$CA$10,2)<6)*(COUNTIF(jours_fériés,$AW$10:$CA$10)=0)) -> 0 | Z87: =SUMPRODUCT(COUNTIF($Z$10,$AW87:$CA87)*(WEEKDAY($AW$10:$CA$10,2)<6)*(COUNTIF(jours_fériés,$AW$10:$CA$10)=0)) -> 0 | AA87: =SUMPRODUCT(COUNTIF($AA$10,$AW87:$CA87)*(WEEKDAY($AW$10:$CA$10,2)<6)*(COUNTIF(jours_fériés,$AW$10:$CA$10)=0)) -> 0 | AB87: =($U$8)-SUM($J87:$AA87) -> 20 | AC87: =SUMPRODUCT(COUNTIF($AC$10,$AW87:$CA87)) -> 0 | AD87: =SUMPRODUCT(COUNTIF($AD$10,$AW87:$CA87)) -> 0 | AE87: =SUMPRODUCT(COUNTIF($AE$10,$AW87:$CA87)) -> 0 | AF87: =SUMPRODUCT(COUNTIF($AF$10,$AW87:$CA87)) -> 0 | AG87: =SUMPRODUCT(COUNTIF($AG$10,$AW87:$CA87)) -> 0 | AH87: =SUMPRODUCT(COUNTIF($AH$10,$AW87:$CA87)) -> 0 | AI87: =SUMPRODUCT(COUNTIF($AI$10,$AW87:$CA87)) -> 0 | AJ87: =SUMPRODUCT(COUNTIF($AJ$10,$AW87:$CA87)) -> 0 | AK87: =SUMPRODUCT(COUNTIF($AK$10,$AW87:$CA87)) -> 0 | AL87: =SUM($AF87:$AK87) -> 0 | AM87: =SUMPRODUCT(COUNTIF($AM$10,$AW87:$CA87)) -> 0 | AN87: =SUMPRODUCT(COUNTIF($AN$10,$AW87:$CA87)) -> 0 | AO87: =SUMPRODUCT(COUNTIF($AO$10,$AW87:$CA87)) -> 0 | AP87: =SUMPRODUCT(COUNTIF($AP$10,$AW87:$CA87)) -> 0 | AQ87: =SUMPRODUCT(COUNTIF($AQ$10,$AW87:$CA87)) -> 0 | AR87: =SUMPRODUCT(COUNTIF($AR$10,$AW87:$CA87)) -> 0 | AS87: =SUMPRODUCT(COUNTIF($AS$10,$AW87:$CA87)) -> 0 | AT87: =SUMPRODUCT(COUNTIF($AT$10,$AW87:$CA87)) -> 0 | AU87: =SUMPRODUCT(COUNTIF($AU$10,$AW87:$CA87)) -> 0 | AV87: =SUMPRODUCT(COUNTIF($AV$10,$AW87:$CA87)) -> 0
A88: =[1]PERSONNELS!B83 -> S4 | B88: =[1]PERSONNELS!C83 -> CPL | G88: =$AW$8 -> 42675 | H88: =SUMPRODUCT(COUNTIF($H$10,$AW88:$CA88)*(WEEKDAY($AW$10:$CA$10,2)<6)*(COUNTIF(jours_fériés,$AW$10:$CA$10)=0)) -> 0 | I88: =SUMPRODUCT(COUNTIF($I$10,$AW88:$CA88)*(WEEKDAY($AW$10:$CA$10,2)<6)*(COUNTIF(jours_fériés,$AW$10:$CA$10)=0))/2 -> 0 | J88: =SUM(H88:I88) -> 0 | K88: =SUMPRODUCT(COUNTIF($K$10,$AW88:$CA88)*(WEEKDAY($AW$10:$CA$10,2)<6)*(COUNTIF(jours_fériés,$AW$10:$CA$10)=0)) -> 0 | L88: =SUMPRODUCT(COUNTIF($L$10,$AW88:$CA88)*(WEEKDAY($AW$10:$CA$10,2)<6)*(COUNTIF(jours_fériés,$AW$10:$CA$10)=0)) -> 0 | M88: =SUMPRODUCT(COUNTIF($M$10,$AW88:$CA88)*(WEEKDAY($AW$10:$CA$10,2)<6)*(COUNTIF(jours_fériés,$AW$10:$CA$10)=0)) -> 0 | N88: =SUMPRODUCT(COUNTIF($N$10,$AW88:$CA88)*(WEEKDAY($AW$10:$CA$10,2)<6)*(COUNTIF(jours_fériés,$AW$10:$CA$10)=0)) -> 0 | O88: =SUMPRODUCT(COUNTIF($O$10,$AW88:$CA88)*(WEEKDAY($AW$10:$CA$10,2)<6)*(COUNTIF(jours_fériés,$AW$10:$CA$10)=0)) -> 0 | P88: =SUMPRODUCT(COUNTIF($P$10,$AW88:$CA88)*(WEEKDAY($AW$10:$CA$10,2)<6)*(COUNTIF(jours_fériés,$AW$10:$CA$10)=0)) -> 0 | Q88: =SUMPRODUCT(COUNTIF($Q$10,$AW88:$CA88)*(WEEKDAY($AW$10:$CA$10,2)<6)*(COUNTIF(jours_fériés,$AW$10:$CA$10)=0)) -> 0 | R88: =SUMPRODUCT(COUNTIF($R$10,$AW88:$CA88)*(WEEKDAY($AW$10:$CA$10,2)<6)*(COUNTIF(jours_fériés,$AW$10:$CA$10)=0)) -> 0 | S88: =SUMPRODUCT(COUNTIF($S$10,$AW88:$CA88)*(WEEKDAY($AW$10:$CA$10,2)<6)*(COUNTIF(jours_fériés,$AW$10:$CA$10)=0)) -> 0 | T88: =SUMPRODUCT(COUNTIF($T$10,$AW88:$CA88)*(WEEKDAY($AW$10:$CA$10,2)<6)*(COUNTIF(jours_fériés,$AW$10:$CA$10)=0)) -> 0 | U88: =SUMPRODUCT(COUNTIF($U$10,$AW88:$CA88)*(WEEKDAY($AW$10:$CA$10,2)<6)*(COUNTIF(jours_fériés,$AW$10:$CA$10)=0)) -> 0 | V88: =SUMPRODUCT(COUNTIF($V$10,$AW88:$CA88)*(WEEKDAY($AW$10:$CA$10,2)<6)*(COUNTIF(jours_fériés,$AW$10:$CA$10)=0)) -> 0 | W88: =SUMPRODUCT(COUNTIF($W$10,$AW88:$CA88)*(WEEKDAY($AW$10:$CA$10,2)<6)*(COUNTIF(jours_fériés,$AW$10:$CA$10)=0)) -> 0 | X88: =SUMPRODUCT(COUNTIF($X$10,$AW88:$CA88)*(WEEKDAY($AW$10:$CA$10,2)<6)*(COUNTIF(jours_fériés,$AW$10:$CA$10)=0)) -> 0 | Y88: =SUMPRODUCT(COUNTIF($Y$10,$AW88:$CA88)*(WEEKDAY($AW$10:$CA$10,2)<6)*(COUNTIF(jours_fériés,$AW$10:$CA$10)=0)) -> 0 | Z88: =SUMPRODUCT(COUNTIF($Z$10,$AW88:$CA88)*(WEEKDAY($AW$10:$CA$10,2)<6)*(COUNTIF(jours_fériés,$AW$10:$CA$10)=0)) -> 0 | AA88: =SUMPRODUCT(COUNTIF($AA$10,$AW88:$CA88)*(WEEKDAY($AW$10:$CA$10,2)<6)*(COUNTIF(jours_fériés,$AW$10:$CA$10)=0)) -> 0 | AB88: =($U$8)-SUM($J88:$AA88) -> 20 | AC88: =SUMPRODUCT(COUNTIF($AC$10,$AW88:$CA88)) -> 0 | AD88: =SUMPRODUCT(COUNTIF($AD$10,$AW88:$CA88)) -> 0 | AE88: =SUMPRODUCT(COUNTIF($AE$10,$AW88:$CA88)) -> 0 | AF88: =SUMPRODUCT(COUNTIF($AF$10,$AW88:$CA88)) -> 0 | AG88: =SUMPRODUCT(COUNTIF($AG$10,$AW88:$CA88)) -> 0 | AH88: =SUMPRODUCT(COUNTIF($AH$10,$AW88:$CA88)) -> 0 | AI88: =SUMPRODUCT(COUNTIF($AI$10,$AW88:$CA88)) -> 0 | AJ88: =SUMPRODUCT(COUNTIF($AJ$10,$AW88:$CA88)) -> 0 | AK88: =SUMPRODUCT(COUNTIF($AK$10,$AW88:$CA88)) -> 0 | AL88: =SUM($AF88:$AK88) -> 0 | AM88: =SUMPRODUCT(COUNTIF($AM$10,$AW88:$CA88)) -> 0 | AN88: =SUMPRODUCT(COUNTIF($AN$10,$AW88:$CA88)) -> 0 | AO88: =SUMPRODUCT(COUNTIF($AO$10,$AW88:$CA88)) -> 0 | AP88: =SUMPRODUCT(COUNTIF($AP$10,$AW88:$CA88)) -> 0 | AQ88: =SUMPRODUCT(COUNTIF($AQ$10,$AW88:$CA88)) -> 0 | AR88: =SUMPRODUCT(COUNTIF($AR$10,$AW88:$CA88)) -> 0 | AS88: =SUMPRODUCT(COUNTIF($AS$10,$AW88:$CA88)) -> 0 | AT88: =SUMPRODUCT(COUNTIF($AT$10,$AW88:$CA88)) -> 0 | AU88: =SUMPRODUCT(COUNTIF($AU$10,$AW88:$CA88)) -> 0 | AV88: =SUMPRODUCT(COUNTIF($AV$10,$AW88:$CA88)) -> 0
A89: =[1]PERSONNELS!B84 -> S4 | B89: =[1]PERSONNELS!C84 -> CPL | G89: =$AW$8 -> 42675 | H89: =SUMPRODUCT(COUNTIF($H$10,$AW89:$CA89)*(WEEKDAY($AW$10:$CA$10,2)<6)*(COUNTIF(jours_fériés,$AW$10:$CA$10)=0)) -> 0 | I89: =SUMPRODUCT(COUNTIF($I$10,$AW89:$CA89)*(WEEKDAY($AW$10:$CA$10,2)<6)*(COUNTIF(jours_fériés,$AW$10:$CA$10)=0))/2 -> 0 | J89: =SUM(H89:I89) -> 0 | K89: =SUMPRODUCT(COUNTIF($K$10,$AW89:$CA89)*(WEEKDAY($AW$10:$CA$10,2)<6)*(COUNTIF(jours_fériés,$AW$10:$CA$10)=0)) -> 0 | L89: =SUMPRODUCT(COUNTIF($L$10,$AW89:$CA89)*(WEEKDAY($AW$10:$CA$10,2)<6)*(COUNTIF(jours_fériés,$AW$10:$CA$10)=0)) -> 0 | M89: =SUMPRODUCT(COUNTIF($M$10,$AW89:$CA89)*(WEEKDAY($AW$10:$CA$10,2)<6)*(COUNTIF(jours_fériés,$AW$10:$CA$10)=0)) -> 0 | N89: =SUMPRODUCT(COUNTIF($N$10,$AW89:$CA89)*(WEEKDAY($AW$10:$CA$10,2)<6)*(COUNTIF(jours_fériés,$AW$10:$CA$10)=0)) -> 0 | O89: =SUMPRODUCT(COUNTIF($O$10,$AW89:$CA89)*(WEEKDAY($AW$10:$CA$10,2)<6)*(COUNTIF(jours_fériés,$AW$10:$CA$10)=0)) -> 0 | P89: =SUMPRODUCT(COUNTIF($P$10,$AW89:$CA89)*(WEEKDAY($AW$10:$CA$10,2)<6)*(COUNTIF(jours_fériés,$AW$10:$CA$10)=0)) -> 0 | Q89: =SUMPRODUCT(COUNTIF($Q$10,$AW89:$CA89)*(WEEKDAY($AW$10:$CA$10,2)<6)*(COUNTIF(jours_fériés,$AW$10:$CA$10)=0)) -> 0 | R89: =SUMPRODUCT(COUNTIF($R$10,$AW89:$CA89)*(WEEKDAY($AW$10:$CA$10,2)<6)*(COUNTIF(jours_fériés,$AW$10:$CA$10)=0)) -> 0 | S89: =SUMPRODUCT(COUNTIF($S$10,$AW89:$CA89)*(WEEKDAY($AW$10:$CA$10,2)<6)*(COUNTIF(jours_fériés,$AW$10:$CA$10)=0)) -> 0 | T89: =SUMPRODUCT(COUNTIF($T$10,$AW89:$CA89)*(WEEKDAY($AW$10:$CA$10,2)<6)*(COUNTIF(jours_fériés,$AW$10:$CA$10)=0)) -> 0 | U89: =SUMPRODUCT(COUNTIF($U$10,$AW89:$CA89)*(WEEKDAY($AW$10:$CA$10,2)<6)*(COUNTIF(jours_fériés,$AW$10:$CA$10)=0)) -> 0 | V89: =SUMPRODUCT(COUNTIF($V$10,$AW89:$CA89)*(WEEKDAY($AW$10:$CA$10,2)<6)*(COUNTIF(jours_fériés,$AW$10:$CA$10)=0)) -> 0 | W89: =SUMPRODUCT(COUNTIF($W$10,$AW89:$CA89)*(WEEKDAY($AW$10:$CA$10,2)<6)*(COUNTIF(jours_fériés,$AW$10:$CA$10)=0)) -> 0 | X89: =SUMPRODUCT(COUNTIF($X$10,$AW89:$CA89)*(WEEKDAY($AW$10:$CA$10,2)<6)*(COUNTIF(jours_fériés,$AW$10:$CA$10)=0)) -> 0 | Y89: =SUMPRODUCT(COUNTIF($Y$10,$AW89:$CA89)*(WEEKDAY($AW$10:$CA$10,2)<6)*(COUNTIF(jours_fériés,$AW$10:$CA$10)=0)) -> 0 | Z89: =SUMPRODUCT(COUNTIF($Z$10,$AW89:$CA89)*(WEEKDAY($AW$10:$CA$10,2)<6)*(COUNTIF(jours_fériés,$AW$10:$CA$10)=0)) -> 0 | AA89: =SUMPRODUCT(COUNTIF($AA$10,$AW89:$CA89)*(WEEKDAY($AW$10:$CA$10,2)<6)*(COUNTIF(jours_fériés,$AW$10:$CA$10)=0)) -> 0 | AB89: =($U$8)-SUM($J89:$AA89) -> 20 | AC89: =SUMPRODUCT(COUNTIF($AC$10,$AW89:$CA89)) -> 0 | AD89: =SUMPRODUCT(COUNTIF($AD$10,$AW89:$CA89)) -> 0 | AE89: =SUMPRODUCT(COUNTIF($AE$10,$AW89:$CA89)) -> 0 | AF89: =SUMPRODUCT(COUNTIF($AF$10,$AW89:$CA89)) -> 0 | AG89: =SUMPRODUCT(COUNTIF($AG$10,$AW89:$CA89)) -> 0 | AH89: =SUMPRODUCT(COUNTIF($AH$10,$AW89:$CA89)) -> 0 | AI89: =SUMPRODUCT(COUNTIF($AI$10,$AW89:$CA89)) -> 0 | AJ89: =SUMPRODUCT(COUNTIF($AJ$10,$AW89:$CA89)) -> 0 | AK89: =SUMPRODUCT(COUNTIF($AK$10,$AW89:$CA89)) -> 0 | AL89: =SUM($AF89:$AK89) -> 0 | AM89: =SUMPRODUCT(COUNTIF($AM$10,$AW89:$CA89)) -> 0 | AN89: =SUMPRODUCT(COUNTIF($AN$10,$AW89:$CA89)) -> 0 | AO89: =SUMPRODUCT(COUNTIF($AO$10,$AW89:$CA89)) -> 0 | AP89: =SUMPRODUCT(COUNTIF($AP$10,$AW89:$CA89)) -> 0 | AQ89: =SUMPRODUCT(COUNTIF($AQ$10,$AW89:$CA89)) -> 0 | AR89: =SUMPRODUCT(COUNTIF($AR$10,$AW89:$CA89)) -> 0 | AS89: =SUMPRODUCT(COUNTIF($AS$10,$AW89:$CA89)) -> 0 | AT89: =SUMPRODUCT(COUNTIF($AT$10,$AW89:$CA89)) -> 0 | AU89: =SUMPRODUCT(COUNTIF($AU$10,$AW89:$CA89)) -> 0 | AV89: =SUMPRODUCT(COUNTIF($AV$10,$AW89:$CA89)) -> 0
A90: =[1]PERSONNELS!B85 -> S4 | B90: =[1]PERSONNELS!C85 -> CPL | G90: =$AW$8 -> 42675 | H90: =SUMPRODUCT(COUNTIF($H$10,$AW90:$CA90)*(WEEKDAY($AW$10:$CA$10,2)<6)*(COUNTIF(jours_fériés,$AW$10:$CA$10)=0)) -> 0 | I90: =SUMPRODUCT(COUNTIF($I$10,$AW90:$CA90)*(WEEKDAY($AW$10:$CA$10,2)<6)*(COUNTIF(jours_fériés,$AW$10:$CA$10)=0))/2 -> 0 | J90: =SUM(H90:I90) -> 0 | K90: =SUMPRODUCT(COUNTIF($K$10,$AW90:$CA90)*(WEEKDAY($AW$10:$CA$10,2)<6)*(COUNTIF(jours_fériés,$AW$10:$CA$10)=0)) -> 0 | L90: =SUMPRODUCT(COUNTIF($L$10,$AW90:$CA90)*(WEEKDAY($AW$10:$CA$10,2)<6)*(COUNTIF(jours_fériés,$AW$10:$CA$10)=0)) -> 0 | M90: =SUMPRODUCT(COUNTIF($M$10,$AW90:$CA90)*(WEEKDAY($AW$10:$CA$10,2)<6)*(COUNTIF(jours_fériés,$AW$10:$CA$10)=0)) -> 0 | N90: =SUMPRODUCT(COUNTIF($N$10,$AW90:$CA90)*(WEEKDAY($AW$10:$CA$10,2)<6)*(COUNTIF(jours_fériés,$AW$10:$CA$10)=0)) -> 0 | O90: =SUMPRODUCT(COUNTIF($O$10,$AW90:$CA90)*(WEEKDAY($AW$10:$CA$10,2)<6)*(COUNTIF(jours_fériés,$AW$10:$CA$10)=0)) -> 0 | P90: =SUMPRODUCT(COUNTIF($P$10,$AW90:$CA90)*(WEEKDAY($AW$10:$CA$10,2)<6)*(COUNTIF(jours_fériés,$AW$10:$CA$10)=0)) -> 0 | Q90: =SUMPRODUCT(COUNTIF($Q$10,$AW90:$CA90)*(WEEKDAY($AW$10:$CA$10,2)<6)*(COUNTIF(jours_fériés,$AW$10:$CA$10)=0)) -> 0 | R90: =SUMPRODUCT(COUNTIF($R$10,$AW90:$CA90)*(WEEKDAY($AW$10:$CA$10,2)<6)*(COUNTIF(jours_fériés,$AW$10:$CA$10)=0)) -> 0 | S90: =SUMPRODUCT(COUNTIF($S$10,$AW90:$CA90)*(WEEKDAY($AW$10:$CA$10,2)<6)*(COUNTIF(jours_fériés,$AW$10:$CA$10)=0)) -> 0 | T90: =SUMPRODUCT(COUNTIF($T$10,$AW90:$CA90)*(WEEKDAY($AW$10:$CA$10,2)<6)*(COUNTIF(jours_fériés,$AW$10:$CA$10)=0)) -> 0 | U90: =SUMPRODUCT(COUNTIF($U$10,$AW90:$CA90)*(WEEKDAY($AW$10:$CA$10,2)<6)*(COUNTIF(jours_fériés,$AW$10:$CA$10)=0)) -> 0 | V90: =SUMPRODUCT(COUNTIF($V$10,$AW90:$CA90)*(WEEKDAY($AW$10:$CA$10,2)<6)*(COUNTIF(jours_fériés,$AW$10:$CA$10)=0)) -> 0 | W90: =SUMPRODUCT(COUNTIF($W$10,$AW90:$CA90)*(WEEKDAY($AW$10:$CA$10,2)<6)*(COUNTIF(jours_fériés,$AW$10:$CA$10)=0)) -> 0 | X90: =SUMPRODUCT(COUNTIF($X$10,$AW90:$CA90)*(WEEKDAY($AW$10:$CA$10,2)<6)*(COUNTIF(jours_fériés,$AW$10:$CA$10)=0)) -> 0 | Y90: =SUMPRODUCT(COUNTIF($Y$10,$AW90:$CA90)*(WEEKDAY($AW$10:$CA$10,2)<6)*(COUNTIF(jours_fériés,$AW$10:$CA$10)=0)) -> 0 | Z90: =SUMPRODUCT(COUNTIF($Z$10,$AW90:$CA90)*(WEEKDAY($AW$10:$CA$10,2)<6)*(COUNTIF(jours_fériés,$AW$10:$CA$10)=0)) -> 0 | AA90: =SUMPRODUCT(COUNTIF($AA$10,$AW90:$CA90)*(WEEKDAY($AW$10:$CA$10,2)<6)*(COUNTIF(jours_fériés,$AW$10:$CA$10)=0)) -> 0 | AB90: =($U$8)-SUM($J90:$AA90) -> 20 | AC90: =SUMPRODUCT(COUNTIF($AC$10,$AW90:$CA90)) -> 0 | AD90: =SUMPRODUCT(COUNTIF($AD$10,$AW90:$CA90)) -> 0 | AE90: =SUMPRODUCT(COUNTIF($AE$10,$AW90:$CA90)) -> 0 | AF90: =SUMPRODUCT(COUNTIF($AF$10,$AW90:$CA90)) -> 0 | AG90: =SUMPRODUCT(COUNTIF($AG$10,$AW90:$CA90)) -> 0 | AH90: =SUMPRODUCT(COUNTIF($AH$10,$AW90:$CA90)) -> 0 | AI90: =SUMPRODUCT(COUNTIF($AI$10,$AW90:$CA90)) -> 0 | AJ90: =SUMPRODUCT(COUNTIF($AJ$10,$AW90:$CA90)) -> 0 | AK90: =SUMPRODUCT(COUNTIF($AK$10,$AW90:$CA90)) -> 0 | AL90: =SUM($AF90:$AK90) -> 0 | AM90: =SUMPRODUCT(COUNTIF($AM$10,$AW90:$CA90)) -> 0 | AN90: =SUMPRODUCT(COUNTIF($AN$10,$AW90:$CA90)) -> 0 | AO90: =SUMPRODUCT(COUNTIF($AO$10,$AW90:$CA90)) -> 0 | AP90: =SUMPRODUCT(COUNTIF($AP$10,$AW90:$CA90)) -> 0 | AQ90: =SUMPRODUCT(COUNTIF($AQ$10,$AW90:$CA90)) -> 0 | AR90: =SUMPRODUCT(COUNTIF($AR$10,$AW90:$CA90)) -> 0 | AS90: =SUMPRODUCT(COUNTIF($AS$10,$AW90:$CA90)) -> 0 | AT90: =SUMPRODUCT(COUNTIF($AT$10,$AW90:$CA90)) -> 0 | AU90: =SUMPRODUCT(COUNTIF($AU$10,$AW90:$CA90)) -> 0 | AV90: =SUMPRODUCT(COUNTIF($AV$10,$AW90:$CA90)) -> 0
A91: =[1]PERSONNELS!B86 -> S4 | B91: =[1]PERSONNELS!C86 -> 1CL | G91: =$AW$8 -> 42675 | H91: =SUMPRODUCT(COUNTIF($H$10,$AW91:$CA91)*(WEEKDAY($AW$10:$CA$10,2)<6)*(COUNTIF(jours_fériés,$AW$10:$CA$10)=0)) -> 0 | I91: =SUMPRODUCT(COUNTIF($I$10,$AW91:$CA91)*(WEEKDAY($AW$10:$CA$10,2)<6)*(COUNTIF(jours_fériés,$AW$10:$CA$10)=0))/2 -> 0 | J91: =SUM(H91:I91) -> 0 | K91: =SUMPRODUCT(COUNTIF($K$10,$AW91:$CA91)*(WEEKDAY($AW$10:$CA$10,2)<6)*(COUNTIF(jours_fériés,$AW$10:$CA$10)=0)) -> 0 | L91: =SUMPRODUCT(COUNTIF($L$10,$AW91:$CA91)*(WEEKDAY($AW$10:$CA$10,2)<6)*(COUNTIF(jours_fériés,$AW$10:$CA$10)=0)) -> 0 | M91: =SUMPRODUCT(COUNTIF($M$10,$AW91:$CA91)*(WEEKDAY($AW$10:$CA$10,2)<6)*(COUNTIF(jours_fériés,$AW$10:$CA$10)=0)) -> 0 | N91: =SUMPRODUCT(COUNTIF($N$10,$AW91:$CA91)*(WEEKDAY($AW$10:$CA$10,2)<6)*(COUNTIF(jours_fériés,$AW$10:$CA$10)=0)) -> 0 | O91: =SUMPRODUCT(COUNTIF($O$10,$AW91:$CA91)*(WEEKDAY($AW$10:$CA$10,2)<6)*(COUNTIF(jours_fériés,$AW$10:$CA$10)=0)) -> 0 | P91: =SUMPRODUCT(COUNTIF($P$10,$AW91:$CA91)*(WEEKDAY($AW$10:$CA$10,2)<6)*(COUNTIF(jours_fériés,$AW$10:$CA$10)=0)) -> 0 | Q91: =SUMPRODUCT(COUNTIF($Q$10,$AW91:$CA91)*(WEEKDAY($AW$10:$CA$10,2)<6)*(COUNTIF(jours_fériés,$AW$10:$CA$10)=0)) -> 0 | R91: =SUMPRODUCT(COUNTIF($R$10,$AW91:$CA91)*(WEEKDAY($AW$10:$CA$10,2)<6)*(COUNTIF(jours_fériés,$AW$10:$CA$10)=0)) -> 0 | S91: =SUMPRODUCT(COUNTIF($S$10,$AW91:$CA91)*(WEEKDAY($AW$10:$CA$10,2)<6)*(COUNTIF(jours_fériés,$AW$10:$CA$10)=0)) -> 0 | T91: =SUMPRODUCT(COUNTIF($T$10,$AW91:$CA91)*(WEEKDAY($AW$10:$CA$10,2)<6)*(COUNTIF(jours_fériés,$AW$10:$CA$10)=0)) -> 0 | U91: =SUMPRODUCT(COUNTIF($U$10,$AW91:$CA91)*(WEEKDAY($AW$10:$CA$10,2)<6)*(COUNTIF(jours_fériés,$AW$10:$CA$10)=0)) -> 0 | V91: =SUMPRODUCT(COUNTIF($V$10,$AW91:$CA91)*(WEEKDAY($AW$10:$CA$10,2)<6)*(COUNTIF(jours_fériés,$AW$10:$CA$10)=0)) -> 0 | W91: =SUMPRODUCT(COUNTIF($W$10,$AW91:$CA91)*(WEEKDAY($AW$10:$CA$10,2)<6)*(COUNTIF(jours_fériés,$AW$10:$CA$10)=0)) -> 0 | X91: =SUMPRODUCT(COUNTIF($X$10,$AW91:$CA91)*(WEEKDAY($AW$10:$CA$10,2)<6)*(COUNTIF(jours_fériés,$AW$10:$CA$10)=0)) -> 0 | Y91: =SUMPRODUCT(COUNTIF($Y$10,$AW91:$CA91)*(WEEKDAY($AW$10:$CA$10,2)<6)*(COUNTIF(jours_fériés,$AW$10:$CA$10)=0)) -> 0 | Z91: =SUMPRODUCT(COUNTIF($Z$10,$AW91:$CA91)*(WEEKDAY($AW$10:$CA$10,2)<6)*(COUNTIF(jours_fériés,$AW$10:$CA$10)=0)) -> 0 | AA91: =SUMPRODUCT(COUNTIF($AA$10,$AW91:$CA91)*(WEEKDAY($AW$10:$CA$10,2)<6)*(COUNTIF(jours_fériés,$AW$10:$CA$10)=0)) -> 0 | AB91: =($U$8)-SUM($J91:$AA91) -> 20 | AC91: =SUMPRODUCT(COUNTIF($AC$10,$AW91:$CA91)) -> 0 | AD91: =SUMPRODUCT(COUNTIF($AD$10,$AW91:$CA91)) -> 0 | AE91: =SUMPRODUCT(COUNTIF($AE$10,$AW91:$CA91)) -> 0 | AF91: =SUMPRODUCT(COUNTIF($AF$10,$AW91:$CA91)) -> 0 | AG91: =SUMPRODUCT(COUNTIF($AG$10,$AW91:$CA91)) -> 0 | AH91: =SUMPRODUCT(COUNTIF($AH$10,$AW91:$CA91)) -> 0 | AI91: =SUMPRODUCT(COUNTIF($AI$10,$AW91:$CA91)) -> 0 | AJ91: =SUMPRODUCT(COUNTIF($AJ$10,$AW91:$CA91)) -> 0 | AK91: =SUMPRODUCT(COUNTIF($AK$10,$AW91:$CA91)) -> 0 | AL91: =SUM($AF91:$AK91) -> 0 | AM91: =SUMPRODUCT(COUNTIF($AM$10,$AW91:$CA91)) -> 0 | AN91: =SUMPRODUCT(COUNTIF($AN$10,$AW91:$CA91)) -> 0 | AO91: =SUMPRODUCT(COUNTIF($AO$10,$AW91:$CA91)) -> 0 | AP91: =SUMPRODUCT(COUNTIF($AP$10,$AW91:$CA91)) -> 0 | AQ91: =SUMPRODUCT(COUNTIF($AQ$10,$AW91:$CA91)) -> 0 | AR91: =SUMPRODUCT(COUNTIF($AR$10,$AW91:$CA91)) -> 0 | AS91: =SUMPRODUCT(COUNTIF($AS$10,$AW91:$CA91)) -> 0 | AT91: =SUMPRODUCT(COUNTIF($AT$10,$AW91:$CA91)) -> 0 | AU91: =SUMPRODUCT(COUNTIF($AU$10,$AW91:$CA91)) -> 0 | AV91: =SUMPRODUCT(COUNTIF($AV$10,$AW91:$CA91)) -> 0
A92: =[1]PERSONNELS!B87 -> S4 | B92: =[1]PERSONNELS!C87 -> 1CL | G92: =$AW$8 -> 42675 | H92: =SUMPRODUCT(COUNTIF($H$10,$AW92:$CA92)*(WEEKDAY($AW$10:$CA$10,2)<6)*(COUNTIF(jours_fériés,$AW$10:$CA$10)=0)) -> 0 | I92: =SUMPRODUCT(COUNTIF($I$10,$AW92:$CA92)*(WEEKDAY($AW$10:$CA$10,2)<6)*(COUNTIF(jours_fériés,$AW$10:$CA$10)=0))/2 -> 0 | J92: =SUM(H92:I92) -> 0 | K92: =SUMPRODUCT(COUNTIF($K$10,$AW92:$CA92)*(WEEKDAY($AW$10:$CA$10,2)<6)*(COUNTIF(jours_fériés,$AW$10:$CA$10)=0)) -> 0 | L92: =SUMPRODUCT(COUNTIF($L$10,$AW92:$CA92)*(WEEKDAY($AW$10:$CA$10,2)<6)*(COUNTIF(jours_fériés,$AW$10:$CA$10)=0)) -> 0 | M92: =SUMPRODUCT(COUNTIF($M$10,$AW92:$CA92)*(WEEKDAY($AW$10:$CA$10,2)<6)*(COUNTIF(jours_fériés,$AW$10:$CA$10)=0)) -> 0 | N92: =SUMPRODUCT(COUNTIF($N$10,$AW92:$CA92)*(WEEKDAY($AW$10:$CA$10,2)<6)*(COUNTIF(jours_fériés,$AW$10:$CA$10)=0)) -> 0 | O92: =SUMPRODUCT(COUNTIF($O$10,$AW92:$CA92)*(WEEKDAY($AW$10:$CA$10,2)<6)*(COUNTIF(jours_fériés,$AW$10:$CA$10)=0)) -> 0 | P92: =SUMPRODUCT(COUNTIF($P$10,$AW92:$CA92)*(WEEKDAY($AW$10:$CA$10,2)<6)*(COUNTIF(jours_fériés,$AW$10:$CA$10)=0)) -> 0 | Q92: =SUMPRODUCT(COUNTIF($Q$10,$AW92:$CA92)*(WEEKDAY($AW$10:$CA$10,2)<6)*(COUNTIF(jours_fériés,$AW$10:$CA$10)=0)) -> 0 | R92: =SUMPRODUCT(COUNTIF($R$10,$AW92:$CA92)*(WEEKDAY($AW$10:$CA$10,2)<6)*(COUNTIF(jours_fériés,$AW$10:$CA$10)=0)) -> 0 | S92: =SUMPRODUCT(COUNTIF($S$10,$AW92:$CA92)*(WEEKDAY($AW$10:$CA$10,2)<6)*(COUNTIF(jours_fériés,$AW$10:$CA$10)=0)) -> 0 | T92: =SUMPRODUCT(COUNTIF($T$10,$AW92:$CA92)*(WEEKDAY($AW$10:$CA$10,2)<6)*(COUNTIF(jours_fériés,$AW$10:$CA$10)=0)) -> 0 | U92: =SUMPRODUCT(COUNTIF($U$10,$AW92:$CA92)*(WEEKDAY($AW$10:$CA$10,2)<6)*(COUNTIF(jours_fériés,$AW$10:$CA$10)=0)) -> 0 | V92: =SUMPRODUCT(COUNTIF($V$10,$AW92:$CA92)*(WEEKDAY($AW$10:$CA$10,2)<6)*(COUNTIF(jours_fériés,$AW$10:$CA$10)=0)) -> 0 | W92: =SUMPRODUCT(COUNTIF($W$10,$AW92:$CA92)*(WEEKDAY($AW$10:$CA$10,2)<6)*(COUNTIF(jours_fériés,$AW$10:$CA$10)=0)) -> 0 | X92: =SUMPRODUCT(COUNTIF($X$10,$AW92:$CA92)*(WEEKDAY($AW$10:$CA$10,2)<6)*(COUNTIF(jours_fériés,$AW$10:$CA$10)=0)) -> 0 | Y92: =SUMPRODUCT(COUNTIF($Y$10,$AW92:$CA92)*(WEEKDAY($AW$10:$CA$10,2)<6)*(COUNTIF(jours_fériés,$AW$10:$CA$10)=0)) -> 0 | Z92: =SUMPRODUCT(COUNTIF($Z$10,$AW92:$CA92)*(WEEKDAY($AW$10:$CA$10,2)<6)*(COUNTIF(jours_fériés,$AW$10:$CA$10)=0)) -> 0 | AA92: =SUMPRODUCT(COUNTIF($AA$10,$AW92:$CA92)*(WEEKDAY($AW$10:$CA$10,2)<6)*(COUNTIF(jours_fériés,$AW$10:$CA$10)=0)) -> 0 | AB92: =($U$8)-SUM($J92:$AA92) -> 20 | AC92: =SUMPRODUCT(COUNTIF($AC$10,$AW92:$CA92)) -> 0 | AD92: =SUMPRODUCT(COUNTIF($AD$10,$AW92:$CA92)) -> 0 | AE92: =SUMPRODUCT(COUNTIF($AE$10,$AW92:$CA92)) -> 0 | AF92: =SUMPRODUCT(COUNTIF($AF$10,$AW92:$CA92)) -> 0 | AG92: =SUMPRODUCT(COUNTIF($AG$10,$AW92:$CA92)) -> 0 | AH92: =SUMPRODUCT(COUNTIF($AH$10,$AW92:$CA92)) -> 0 | AI92: =SUMPRODUCT(COUNTIF($AI$10,$AW92:$CA92)) -> 0 | AJ92: =SUMPRODUCT(COUNTIF($AJ$10,$AW92:$CA92)) -> 0 | AK92: =SUMPRODUCT(COUNTIF($AK$10,$AW92:$CA92)) -> 0 | AL92: =SUM($AF92:$AK92) -> 0 | AM92: =SUMPRODUCT(COUNTIF($AM$10,$AW92:$CA92)) -> 0 | AN92: =SUMPRODUCT(COUNTIF($AN$10,$AW92:$CA92)) -> 0 | AO92: =SUMPRODUCT(COUNTIF($AO$10,$AW92:$CA92)) -> 0 | AP92: =SUMPRODUCT(COUNTIF($AP$10,$AW92:$CA92)) -> 0 | AQ92: =SUMPRODUCT(COUNTIF($AQ$10,$AW92:$CA92)) -> 0 | AR92: =SUMPRODUCT(COUNTIF($AR$10,$AW92:$CA92)) -> 0 | AS92: =SUMPRODUCT(COUNTIF($AS$10,$AW92:$CA92)) -> 0 | AT92: =SUMPRODUCT(COUNTIF($AT$10,$AW92:$CA92)) -> 0 | AU92: =SUMPRODUCT(COUNTIF($AU$10,$AW92:$CA92)) -> 0 | AV92: =SUMPRODUCT(COUNTIF($AV$10,$AW92:$CA92)) -> 0
A93: =[1]PERSONNELS!B88 -> S4 | B93: =[1]PERSONNELS!C88 -> 1CL | G93: =$AW$8 -> 42675 | H93: =SUMPRODUCT(COUNTIF($H$10,$AW93:$CA93)*(WEEKDAY($AW$10:$CA$10,2)<6)*(COUNTIF(jours_fériés,$AW$10:$CA$10)=0)) -> 0 | I93: =SUMPRODUCT(COUNTIF($I$10,$AW93:$CA93)*(WEEKDAY($AW$10:$CA$10,2)<6)*(COUNTIF(jours_fériés,$AW$10:$CA$10)=0))/2 -> 0 | J93: =SUM(H93:I93) -> 0 | K93: =SUMPRODUCT(COUNTIF($K$10,$AW93:$CA93)*(WEEKDAY($AW$10:$CA$10,2)<6)*(COUNTIF(jours_fériés,$AW$10:$CA$10)=0)) -> 0 | L93: =SUMPRODUCT(COUNTIF($L$10,$AW93:$CA93)*(WEEKDAY($AW$10:$CA$10,2)<6)*(COUNTIF(jours_fériés,$AW$10:$CA$10)=0)) -> 0 | M93: =SUMPRODUCT(COUNTIF($M$10,$AW93:$CA93)*(WEEKDAY($AW$10:$CA$10,2)<6)*(COUNTIF(jours_fériés,$AW$10:$CA$10)=0)) -> 0 | N93: =SUMPRODUCT(COUNTIF($N$10,$AW93:$CA93)*(WEEKDAY($AW$10:$CA$10,2)<6)*(COUNTIF(jours_fériés,$AW$10:$CA$10)=0)) -> 0 | O93: =SUMPRODUCT(COUNTIF($O$10,$AW93:$CA93)*(WEEKDAY($AW$10:$CA$10,2)<6)*(COUNTIF(jours_fériés,$AW$10:$CA$10)=0)) -> 0 | P93: =SUMPRODUCT(COUNTIF($P$10,$AW93:$CA93)*(WEEKDAY($AW$10:$CA$10,2)<6)*(COUNTIF(jours_fériés,$AW$10:$CA$10)=0)) -> 0 | Q93: =SUMPRODUCT(COUNTIF($Q$10,$AW93:$CA93)*(WEEKDAY($AW$10:$CA$10,2)<6)*(COUNTIF(jours_fériés,$AW$10:$CA$10)=0)) -> 0 | R93: =SUMPRODUCT(COUNTIF($R$10,$AW93:$CA93)*(WEEKDAY($AW$10:$CA$10,2)<6)*(COUNTIF(jours_fériés,$AW$10:$CA$10)=0)) -> 0 | S93: =SUMPRODUCT(COUNTIF($S$10,$AW93:$CA93)*(WEEKDAY($AW$10:$CA$10,2)<6)*(COUNTIF(jours_fériés,$AW$10:$CA$10)=0)) -> 0 | T93: =SUMPRODUCT(COUNTIF($T$10,$AW93:$CA93)*(WEEKDAY($AW$10:$CA$10,2)<6)*(COUNTIF(jours_fériés,$AW$10:$CA$10)=0)) -> 0 | U93: =SUMPRODUCT(COUNTIF($U$10,$AW93:$CA93)*(WEEKDAY($AW$10:$CA$10,2)<6)*(COUNTIF(jours_fériés,$AW$10:$CA$10)=0)) -> 0 | V93: =SUMPRODUCT(COUNTIF($V$10,$AW93:$CA93)*(WEEKDAY($AW$10:$CA$10,2)<6)*(COUNTIF(jours_fériés,$AW$10:$CA$10)=0)) -> 0 | W93: =SUMPRODUCT(COUNTIF($W$10,$AW93:$CA93)*(WEEKDAY($AW$10:$CA$10,2)<6)*(COUNTIF(jours_fériés,$AW$10:$CA$10)=0)) -> 0 | X93: =SUMPRODUCT(COUNTIF($X$10,$AW93:$CA93)*(WEEKDAY($AW$10:$CA$10,2)<6)*(COUNTIF(jours_fériés,$AW$10:$CA$10)=0)) -> 0 | Y93: =SUMPRODUCT(COUNTIF($Y$10,$AW93:$CA93)*(WEEKDAY($AW$10:$CA$10,2)<6)*(COUNTIF(jours_fériés,$AW$10:$CA$10)=0)) -> 0 | Z93: =SUMPRODUCT(COUNTIF($Z$10,$AW93:$CA93)*(WEEKDAY($AW$10:$CA$10,2)<6)*(COUNTIF(jours_fériés,$AW$10:$CA$10)=0)) -> 0 | AA93: =SUMPRODUCT(COUNTIF($AA$10,$AW93:$CA93)*(WEEKDAY($AW$10:$CA$10,2)<6)*(COUNTIF(jours_fériés,$AW$10:$CA$10)=0)) -> 0 | AB93: =($U$8)-SUM($J93:$AA93) -> 20 | AC93: =SUMPRODUCT(COUNTIF($AC$10,$AW93:$CA93)) -> 0 | AD93: =SUMPRODUCT(COUNTIF($AD$10,$AW93:$CA93)) -> 0 | AE93: =SUMPRODUCT(COUNTIF($AE$10,$AW93:$CA93)) -> 0 | AF93: =SUMPRODUCT(COUNTIF($AF$10,$AW93:$CA93)) -> 0 | AG93: =SUMPRODUCT(COUNTIF($AG$10,$AW93:$CA93)) -> 0 | AH93: =SUMPRODUCT(COUNTIF($AH$10,$AW93:$CA93)) -> 0 | AI93: =SUMPRODUCT(COUNTIF($AI$10,$AW93:$CA93)) -> 0 | AJ93: =SUMPRODUCT(COUNTIF($AJ$10,$AW93:$CA93)) -> 0 | AK93: =SUMPRODUCT(COUNTIF($AK$10,$AW93:$CA93)) -> 0 | AL93: =SUM($AF93:$AK93) -> 0 | AM93: =SUMPRODUCT(COUNTIF($AM$10,$AW93:$CA93)) -> 0 | AN93: =SUMPRODUCT(COUNTIF($AN$10,$AW93:$CA93)) -> 0 | AO93: =SUMPRODUCT(COUNTIF($AO$10,$AW93:$CA93)) -> 0 | AP93: =SUMPRODUCT(COUNTIF($AP$10,$AW93:$CA93)) -> 0 | AQ93: =SUMPRODUCT(COUNTIF($AQ$10,$AW93:$CA93)) -> 0 | AR93: =SUMPRODUCT(COUNTIF($AR$10,$AW93:$CA93)) -> 0 | AS93: =SUMPRODUCT(COUNTIF($AS$10,$AW93:$CA93)) -> 0 | AT93: =SUMPRODUCT(COUNTIF($AT$10,$AW93:$CA93)) -> 0 | AU93: =SUMPRODUCT(COUNTIF($AU$10,$AW93:$CA93)) -> 0 | AV93: =SUMPRODUCT(COUNTIF($AV$10,$AW93:$CA93)) -> 0
A94: =[1]PERSONNELS!B89 -> S4 | B94: =[1]PERSONNELS!C89 -> 1CL | G94: =$AW$8 -> 42675 | H94: =SUMPRODUCT(COUNTIF($H$10,$AW94:$CA94)*(WEEKDAY($AW$10:$CA$10,2)<6)*(COUNTIF(jours_fériés,$AW$10:$CA$10)=0)) -> 0 | I94: =SUMPRODUCT(COUNTIF($I$10,$AW94:$CA94)*(WEEKDAY($AW$10:$CA$10,2)<6)*(COUNTIF(jours_fériés,$AW$10:$CA$10)=0))/2 -> 0 | J94: =SUM(H94:I94) -> 0 | K94: =SUMPRODUCT(COUNTIF($K$10,$AW94:$CA94)*(WEEKDAY($AW$10:$CA$10,2)<6)*(COUNTIF(jours_fériés,$AW$10:$CA$10)=0)) -> 0 | L94: =SUMPRODUCT(COUNTIF($L$10,$AW94:$CA94)*(WEEKDAY($AW$10:$CA$10,2)<6)*(COUNTIF(jours_fériés,$AW$10:$CA$10)=0)) -> 0 | M94: =SUMPRODUCT(COUNTIF($M$10,$AW94:$CA94)*(WEEKDAY($AW$10:$CA$10,2)<6)*(COUNTIF(jours_fériés,$AW$10:$CA$10)=0)) -> 0 | N94: =SUMPRODUCT(COUNTIF($N$10,$AW94:$CA94)*(WEEKDAY($AW$10:$CA$10,2)<6)*(COUNTIF(jours_fériés,$AW$10:$CA$10)=0)) -> 0 | O94: =SUMPRODUCT(COUNTIF($O$10,$AW94:$CA94)*(WEEKDAY($AW$10:$CA$10,2)<6)*(COUNTIF(jours_fériés,$AW$10:$CA$10)=0)) -> 0 | P94: =SUMPRODUCT(COUNTIF($P$10,$AW94:$CA94)*(WEEKDAY($AW$10:$CA$10,2)<6)*(COUNTIF(jours_fériés,$AW$10:$CA$10)=0)) -> 0 | Q94: =SUMPRODUCT(COUNTIF($Q$10,$AW94:$CA94)*(WEEKDAY($AW$10:$CA$10,2)<6)*(COUNTIF(jours_fériés,$AW$10:$CA$10)=0)) -> 0 | R94: =SUMPRODUCT(COUNTIF($R$10,$AW94:$CA94)*(WEEKDAY($AW$10:$CA$10,2)<6)*(COUNTIF(jours_fériés,$AW$10:$CA$10)=0)) -> 0 | S94: =SUMPRODUCT(COUNTIF($S$10,$AW94:$CA94)*(WEEKDAY($AW$10:$CA$10,2)<6)*(COUNTIF(jours_fériés,$AW$10:$CA$10)=0)) -> 0 | T94: =SUMPRODUCT(COUNTIF($T$10,$AW94:$CA94)*(WEEKDAY($AW$10:$CA$10,2)<6)*(COUNTIF(jours_fériés,$AW$10:$CA$10)=0)) -> 0 | U94: =SUMPRODUCT(COUNTIF($U$10,$AW94:$CA94)*(WEEKDAY($AW$10:$CA$10,2)<6)*(COUNTIF(jours_fériés,$AW$10:$CA$10)=0)) -> 0 | V94: =SUMPRODUCT(COUNTIF($V$10,$AW94:$CA94)*(WEEKDAY($AW$10:$CA$10,2)<6)*(COUNTIF(jours_fériés,$AW$10:$CA$10)=0)) -> 0 | W94: =SUMPRODUCT(COUNTIF($W$10,$AW94:$CA94)*(WEEKDAY($AW$10:$CA$10,2)<6)*(COUNTIF(jours_fériés,$AW$10:$CA$10)=0)) -> 0 | X94: =SUMPRODUCT(COUNTIF($X$10,$AW94:$CA94)*(WEEKDAY($AW$10:$CA$10,2)<6)*(COUNTIF(jours_fériés,$AW$10:$CA$10)=0)) -> 0 | Y94: =SUMPRODUCT(COUNTIF($Y$10,$AW94:$CA94)*(WEEKDAY($AW$10:$CA$10,2)<6)*(COUNTIF(jours_fériés,$AW$10:$CA$10)=0)) -> 0 | Z94: =SUMPRODUCT(COUNTIF($Z$10,$AW94:$CA94)*(WEEKDAY($AW$10:$CA$10,2)<6)*(COUNTIF(jours_fériés,$AW$10:$CA$10)=0)) -> 0 | AA94: =SUMPRODUCT(COUNTIF($AA$10,$AW94:$CA94)*(WEEKDAY($AW$10:$CA$10,2)<6)*(COUNTIF(jours_fériés,$AW$10:$CA$10)=0)) -> 0 | AB94: =($U$8)-SUM($J94:$AA94) -> 20 | AC94: =SUMPRODUCT(COUNTIF($AC$10,$AW94:$CA94)) -> 0 | AD94: =SUMPRODUCT(COUNTIF($AD$10,$AW94:$CA94)) -> 0 | AE94: =SUMPRODUCT(COUNTIF($AE$10,$AW94:$CA94)) -> 0 | AF94: =SUMPRODUCT(COUNTIF($AF$10,$AW94:$CA94)) -> 0 | AG94: =SUMPRODUCT(COUNTIF($AG$10,$AW94:$CA94)) -> 0 | AH94: =SUMPRODUCT(COUNTIF($AH$10,$AW94:$CA94)) -> 0 | AI94: =SUMPRODUCT(COUNTIF($AI$10,$AW94:$CA94)) -> 0 | AJ94: =SUMPRODUCT(COUNTIF($AJ$10,$AW94:$CA94)) -> 0 | AK94: =SUMPRODUCT(COUNTIF($AK$10,$AW94:$CA94)) -> 0 | AL94: =SUM($AF94:$AK94) -> 0 | AM94: =SUMPRODUCT(COUNTIF($AM$10,$AW94:$CA94)) -> 0 | AN94: =SUMPRODUCT(COUNTIF($AN$10,$AW94:$CA94)) -> 0 | AO94: =SUMPRODUCT(COUNTIF($AO$10,$AW94:$CA94)) -> 0 | AP94: =SUMPRODUCT(COUNTIF($AP$10,$AW94:$CA94)) -> 0 | AQ94: =SUMPRODUCT(COUNTIF($AQ$10,$AW94:$CA94)) -> 0 | AR94: =SUMPRODUCT(COUNTIF($AR$10,$AW94:$CA94)) -> 0 | AS94: =SUMPRODUCT(COUNTIF($AS$10,$AW94:$CA94)) -> 0 | AT94: =SUMPRODUCT(COUNTIF($AT$10,$AW94:$CA94)) -> 0 | AU94: =SUMPRODUCT(COUNTIF($AU$10,$AW94:$CA94)) -> 0 | AV94: =SUMPRODUCT(COUNTIF($AV$10,$AW94:$CA94)) -> 0
A95: =[1]PERSONNELS!B90 -> S4 | B95: =[1]PERSONNELS!C90 -> 1CL | G95: =$AW$8 -> 42675 | H95: =SUMPRODUCT(COUNTIF($H$10,$AW95:$CA95)*(WEEKDAY($AW$10:$CA$10,2)<6)*(COUNTIF(jours_fériés,$AW$10:$CA$10)=0)) -> 0 | I95: =SUMPRODUCT(COUNTIF($I$10,$AW95:$CA95)*(WEEKDAY($AW$10:$CA$10,2)<6)*(COUNTIF(jours_fériés,$AW$10:$CA$10)=0))/2 -> 0 | J95: =SUM(H95:I95) -> 0 | K95: =SUMPRODUCT(COUNTIF($K$10,$AW95:$CA95)*(WEEKDAY($AW$10:$CA$10,2)<6)*(COUNTIF(jours_fériés,$AW$10:$CA$10)=0)) -> 0 | L95: =SUMPRODUCT(COUNTIF($L$10,$AW95:$CA95)*(WEEKDAY($AW$10:$CA$10,2)<6)*(COUNTIF(jours_fériés,$AW$10:$CA$10)=0)) -> 0 | M95: =SUMPRODUCT(COUNTIF($M$10,$AW95:$CA95)*(WEEKDAY($AW$10:$CA$10,2)<6)*(COUNTIF(jours_fériés,$AW$10:$CA$10)=0)) -> 0 | N95: =SUMPRODUCT(COUNTIF($N$10,$AW95:$CA95)*(WEEKDAY($AW$10:$CA$10,2)<6)*(COUNTIF(jours_fériés,$AW$10:$CA$10)=0)) -> 0 | O95: =SUMPRODUCT(COUNTIF($O$10,$AW95:$CA95)*(WEEKDAY($AW$10:$CA$10,2)<6)*(COUNTIF(jours_fériés,$AW$10:$CA$10)=0)) -> 0 | P95: =SUMPRODUCT(COUNTIF($P$10,$AW95:$CA95)*(WEEKDAY($AW$10:$CA$10,2)<6)*(COUNTIF(jours_fériés,$AW$10:$CA$10)=0)) -> 0 | Q95: =SUMPRODUCT(COUNTIF($Q$10,$AW95:$CA95)*(WEEKDAY($AW$10:$CA$10,2)<6)*(COUNTIF(jours_fériés,$AW$10:$CA$10)=0)) -> 0 | R95: =SUMPRODUCT(COUNTIF($R$10,$AW95:$CA95)*(WEEKDAY($AW$10:$CA$10,2)<6)*(COUNTIF(jours_fériés,$AW$10:$CA$10)=0)) -> 0 | S95: =SUMPRODUCT(COUNTIF($S$10,$AW95:$CA95)*(WEEKDAY($AW$10:$CA$10,2)<6)*(COUNTIF(jours_fériés,$AW$10:$CA$10)=0)) -> 0 | T95: =SUMPRODUCT(COUNTIF($T$10,$AW95:$CA95)*(WEEKDAY($AW$10:$CA$10,2)<6)*(COUNTIF(jours_fériés,$AW$10:$CA$10)=0)) -> 0 | U95: =SUMPRODUCT(COUNTIF($U$10,$AW95:$CA95)*(WEEKDAY($AW$10:$CA$10,2)<6)*(COUNTIF(jours_fériés,$AW$10:$CA$10)=0)) -> 0 | V95: =SUMPRODUCT(COUNTIF($V$10,$AW95:$CA95)*(WEEKDAY($AW$10:$CA$10,2)<6)*(COUNTIF(jours_fériés,$AW$10:$CA$10)=0)) -> 0 | W95: =SUMPRODUCT(COUNTIF($W$10,$AW95:$CA95)*(WEEKDAY($AW$10:$CA$10,2)<6)*(COUNTIF(jours_fériés,$AW$10:$CA$10)=0)) -> 0 | X95: =SUMPRODUCT(COUNTIF($X$10,$AW95:$CA95)*(WEEKDAY($AW$10:$CA$10,2)<6)*(COUNTIF(jours_fériés,$AW$10:$CA$10)=0)) -> 0 | Y95: =SUMPRODUCT(COUNTIF($Y$10,$AW95:$CA95)*(WEEKDAY($AW$10:$CA$10,2)<6)*(COUNTIF(jours_fériés,$AW$10:$CA$10)=0)) -> 0 | Z95: =SUMPRODUCT(COUNTIF($Z$10,$AW95:$CA95)*(WEEKDAY($AW$10:$CA$10,2)<6)*(COUNTIF(jours_fériés,$AW$10:$CA$10)=0)) -> 0 | AA95: =SUMPRODUCT(COUNTIF($AA$10,$AW95:$CA95)*(WEEKDAY($AW$10:$CA$10,2)<6)*(COUNTIF(jours_fériés,$AW$10:$CA$10)=0)) -> 0 | AB95: =($U$8)-SUM($J95:$AA95) -> 20 | AC95: =SUMPRODUCT(COUNTIF($AC$10,$AW95:$CA95)) -> 0 | AD95: =SUMPRODUCT(COUNTIF($AD$10,$AW95:$CA95)) -> 0 | AE95: =SUMPRODUCT(COUNTIF($AE$10,$AW95:$CA95)) -> 0 | AF95: =SUMPRODUCT(COUNTIF($AF$10,$AW95:$CA95)) -> 0 | AG95: =SUMPRODUCT(COUNTIF($AG$10,$AW95:$CA95)) -> 0 | AH95: =SUMPRODUCT(COUNTIF($AH$10,$AW95:$CA95)) -> 0 | AI95: =SUMPRODUCT(COUNTIF($AI$10,$AW95:$CA95)) -> 0 | AJ95: =SUMPRODUCT(COUNTIF($AJ$10,$AW95:$CA95)) -> 0 | AK95: =SUMPRODUCT(COUNTIF($AK$10,$AW95:$CA95)) -> 0 | AL95: =SUM($AF95:$AK95) -> 0 | AM95: =SUMPRODUCT(COUNTIF($AM$10,$AW95:$CA95)) -> 0 | AN95: =SUMPRODUCT(COUNTIF($AN$10,$AW95:$CA95)) -> 0 | AO95: =SUMPRODUCT(COUNTIF($AO$10,$AW95:$CA95)) -> 0 | AP95: =SUMPRODUCT(COUNTIF($AP$10,$AW95:$CA95)) -> 0 | AQ95: =SUMPRODUCT(COUNTIF($AQ$10,$AW95:$CA95)) -> 0 | AR95: =SUMPRODUCT(COUNTIF($AR$10,$AW95:$CA95)) -> 0 | AS95: =SUMPRODUCT(COUNTIF($AS$10,$AW95:$CA95)) -> 0 | AT95: =SUMPRODUCT(COUNTIF($AT$10,$AW95:$CA95)) -> 0 | AU95: =SUMPRODUCT(COUNTIF($AU$10,$AW95:$CA95)) -> 0 | AV95: =SUMPRODUCT(COUNTIF($AV$10,$AW95:$CA95)) -> 0
... A102: =[1]PERSONNELS!B97 -> SK | B102: =[1]PERSONNELS!C97 -> CCH | G102: =$AW$8 -> 42675 | H102: =SUMPRODUCT(COUNTIF($H$10,$AW102:$CA102)*(WEEKDAY($AW$10:$CA$10,2)<6)*(COUNTIF(jours_fériés,$AW$10:$CA$10)=0)) -> 0 | I102: =SUMPRODUCT(COUNTIF($I$10,$AW102:$CA102)*(WEEKDAY($AW$10:$CA$10,2)<6)*(COUNTIF(jours_fériés,$AW$10:$CA$10)=0))/2 -> 0 | J102: =SUM(H102:I102) -> 0 | K102: =SUMPRODUCT(COUNTIF($K$10,$AW102:$CA102)*(WEEKDAY($AW$10:$CA$10,2)<6)*(COUNTIF(jours_fériés,$AW$10:$CA$10)=0)) -> 0 | L102: =SUMPRODUCT(COUNTIF($L$10,$AW102:$CA102)*(WEEKDAY($AW$10:$CA$10,2)<6)*(COUNTIF(jours_fériés,$AW$10:$CA$10)=0)) -> 0 | M102: =SUMPRODUCT(COUNTIF($M$10,$AW102:$CA102)*(WEEKDAY($AW$10:$CA$10,2)<6)*(COUNTIF(jours_fériés,$AW$10:$CA$10)=0)) -> 0 | N102: =SUMPRODUCT(COUNTIF($N$10,$AW102:$CA102)*(WEEKDAY($AW$10:$CA$10,2)<6)*(COUNTIF(jours_fériés,$AW$10:$CA$10)=0)) -> 0 | O102: =SUMPRODUCT(COUNTIF($O$10,$AW102:$CA102)*(WEEKDAY($AW$10:$CA$10,2)<6)*(COUNTIF(jours_fériés,$AW$10:$CA$10)=0)) -> 0 | P102: =SUMPRODUCT(COUNTIF($P$10,$AW102:$CA102)*(WEEKDAY($AW$10:$CA$10,2)<6)*(COUNTIF(jours_fériés,$AW$10:$CA$10)=0)) -> 0 | Q102: =SUMPRODUCT(COUNTIF($Q$10,$AW102:$CA102)*(WEEKDAY($AW$10:$CA$10,2)<6)*(COUNTIF(jours_fériés,$AW$10:$CA$10)=0)) -> 0 | R102: =SUMPRODUCT(COUNTIF($R$10,$AW102:$CA102)*(WEEKDAY($AW$10:$CA$10,2)<6)*(COUNTIF(jours_fériés,$AW$10:$CA$10)=0)) -> 0 | S102: =SUMPRODUCT(COUNTIF($S$10,$AW102:$CA102)*(WEEKDAY($AW$10:$CA$10,2)<6)*(COUNTIF(jours_fériés,$AW$10:$CA$10)=0)) -> 0 | T102: =SUMPRODUCT(COUNTIF($T$10,$AW102:$CA102)*(WEEKDAY($AW$10:$CA$10,2)<6)*(COUNTIF(jours_fériés,$AW$10:$CA$10)=0)) -> 0 | U102: =SUMPRODUCT(COUNTIF($U$10,$AW102:$CA102)*(WEEKDAY($AW$10:$CA$10,2)<6)*(COUNTIF(jours_fériés,$AW$10:$CA$10)=0)) -> 0 | V102: =SUMPRODUCT(COUNTIF($V$10,$AW102:$CA102)*(WEEKDAY($AW$10:$CA$10,2)<6)*(COUNTIF(jours_fériés,$AW$10:$CA$10)=0)) -> 0 | W102: =SUMPRODUCT(COUNTIF($W$10,$AW102:$CA102)*(WEEKDAY($AW$10:$CA$10,2)<6)*(COUNTIF(jours_fériés,$AW$10:$CA$10)=0)) -> 0 | X102: =SUMPRODUCT(COUNTIF($X$10,$AW102:$CA102)*(WEEKDAY($AW$10:$CA$10,2)<6)*(COUNTIF(jours_fériés,$AW$10:$CA$10)=0)) -> 0 | Y102: =SUMPRODUCT(COUNTIF($Y$10,$AW102:$CA102)*(WEEKDAY($AW$10:$CA$10,2)<6)*(COUNTIF(jours_fériés,$AW$10:$CA$10)=0)) -> 0 | Z102: =SUMPRODUCT(COUNTIF($Z$10,$AW102:$CA102)*(WEEKDAY($AW$10:$CA$10,2)<6)*(COUNTIF(jours_fériés,$AW$10:$CA$10)=0)) -> 0 | AA102: =SUMPRODUCT(COUNTIF($AA$10,$AW102:$CA102)*(WEEKDAY($AW$10:$CA$10,2)<6)*(COUNTIF(jours_fériés,$AW$10:$CA$10)=0)) -> 0 | AB102: =($U$8)-SUM($J102:$AA102) -> 20 | AC102: =SUMPRODUCT(COUNTIF($AC$10,$AW102:$CA102)) -> 0 | AD102: =SUMPRODUCT(COUNTIF($AD$10,$AW102:$CA102)) -> 0 | AE102: =SUMPRODUCT(COUNTIF($AE$10,$AW102:$CA102)) -> 0 | AF102: =SUMPRODUCT(COUNTIF($AF$10,$AW102:$CA102)) -> 0 | AG102: =SUMPRODUCT(COUNTIF($AG$10,$AW102:$CA102)) -> 0 | AH102: =SUMPRODUCT(COUNTIF($AH$10,$AW102:$CA102)) -> 0 | AI102: =SUMPRODUCT(COUNTIF($AI$10,$AW102:$CA102)) -> 0 | AJ102: =SUMPRODUCT(COUNTIF($AJ$10,$AW102:$CA102)) -> 0 | AK102: =SUMPRODUCT(COUNTIF($AK$10,$AW102:$CA102)) -> 0 | AL102: =SUM($AF102:$AK102) -> 0 | AM102: =SUMPRODUCT(COUNTIF($AM$10,$AW102:$CA102)) -> 0 | AN102: =SUMPRODUCT(COUNTIF($AN$10,$AW102:$CA102)) -> 0 | AO102: =SUMPRODUCT(COUNTIF($AO$10,$AW102:$CA102)) -> 0 | AP102: =SUMPRODUCT(COUNTIF($AP$10,$AW102:$CA102)) -> 0 | AQ102: =SUMPRODUCT(COUNTIF($AQ$10,$AW102:$CA102)) -> 0 | AR102: =SUMPRODUCT(COUNTIF($AR$10,$AW102:$CA102)) -> 0 | AS102: =SUMPRODUCT(COUNTIF($AS$10,$AW102:$CA102)) -> 0 | AT102: =SUMPRODUCT(COUNTIF($AT$10,$AW102:$CA102)) -> 0 | AU102: =SUMPRODUCT(COUNTIF($AU$10,$AW102:$CA102)) -> 0 | AV102: =SUMPRODUCT(COUNTIF($AV$10,$AW102:$CA102)) -> 0
A103: =[1]PERSONNELS!B98 -> 0 | B103: =[1]PERSONNELS!C98 -> 0 | C103: =[1]PERSONNELS!D98 -> 0 | D103: =[1]PERSONNELS!E98 -> 0 | G103: =$AW$8 -> 42675 | H103: =SUMPRODUCT(COUNTIF($H$10,$AW103:$CA103)*(WEEKDAY($AW$10:$CA$10,2)<6)*(COUNTIF(jours_fériés,$AW$10:$CA$10)=0)) -> 0 | I103: =SUMPRODUCT(COUNTIF($I$10,$AW103:$CA103)*(WEEKDAY($AW$10:$CA$10,2)<6)*(COUNTIF(jours_fériés,$AW$10:$CA$10)=0))/2 -> 0 | J103: =SUM(H103:I103) -> 0 | K103: =SUMPRODUCT(COUNTIF($K$10,$AW103:$CA103)*(WEEKDAY($AW$10:$CA$10,2)<6)*(COUNTIF(jours_fériés,$AW$10:$CA$10)=0)) -> 0 | L103: =SUMPRODUCT(COUNTIF($L$10,$AW103:$CA103)*(WEEKDAY($AW$10:$CA$10,2)<6)*(COUNTIF(jours_fériés,$AW$10:$CA$10)=0)) -> 0 | M103: =SUMPRODUCT(COUNTIF($M$10,$AW103:$CA103)*(WEEKDAY($AW$10:$CA$10,2)<6)*(COUNTIF(jours_fériés,$AW$10:$CA$10)=0)) -> 0 | N103: =SUMPRODUCT(COUNTIF($N$10,$AW103:$CA103)*(WEEKDAY($AW$10:$CA$10,2)<6)*(COUNTIF(jours_fériés,$AW$10:$CA$10)=0)) -> 0 | O103: =SUMPRODUCT(COUNTIF($O$10,$AW103:$CA103)*(WEEKDAY($AW$10:$CA$10,2)<6)*(COUNTIF(jours_fériés,$AW$10:$CA$10)=0)) -> 0 | P103: =SUMPRODUCT(COUNTIF($P$10,$AW103:$CA103)*(WEEKDAY($AW$10:$CA$10,2)<6)*(COUNTIF(jours_fériés,$AW$10:$CA$10)=0)) -> 0 | Q103: =SUMPRODUCT(COUNTIF($Q$10,$AW103:$CA103)*(WEEKDAY($AW$10:$CA$10,2)<6)*(COUNTIF(jours_fériés,$AW$10:$CA$10)=0)) -> 0 | R103: =SUMPRODUCT(COUNTIF($R$10,$AW103:$CA103)*(WEEKDAY($AW$10:$CA$10,2)<6)*(COUNTIF(jours_fériés,$AW$10:$CA$10)=0)) -> 0 | S103: =SUMPRODUCT(COUNTIF($S$10,$AW103:$CA103)*(WEEKDAY($AW$10:$CA$10,2)<6)*(COUNTIF(jours_fériés,$AW$10:$CA$10)=0)) -> 0 | T103: =SUMPRODUCT(COUNTIF($T$10,$AW103:$CA103)*(WEEKDAY($AW$10:$CA$10,2)<6)*(COUNTIF(jours_fériés,$AW$10:$CA$10)=0)) -> 0 | U103: =SUMPRODUCT(COUNTIF($U$10,$AW103:$CA103)*(WEEKDAY($AW$10:$CA$10,2)<6)*(COUNTIF(jours_fériés,$AW$10:$CA$10)=0)) -> 0 | V103: =SUMPRODUCT(COUNTIF($V$10,$AW103:$CA103)*(WEEKDAY($AW$10:$CA$10,2)<6)*(COUNTIF(jours_fériés,$AW$10:$CA$10)=0)) -> 0 | W103: =SUMPRODUCT(COUNTIF($W$10,$AW103:$CA103)*(WEEKDAY($AW$10:$CA$10,2)<6)*(COUNTIF(jours_fériés,$AW$10:$CA$10)=0)) -> 0 | X103: =SUMPRODUCT(COUNTIF($X$10,$AW103:$CA103)*(WEEKDAY($AW$10:$CA$10,2)<6)*(COUNTIF(jours_fériés,$AW$10:$CA$10)=0)) -> 0 | Y103: =SUMPRODUCT(COUNTIF($Y$10,$AW103:$CA103)*(WEEKDAY($AW$10:$CA$10,2)<6)*(COUNTIF(jours_fériés,$AW$10:$CA$10)=0)) -> 0 | Z103: =SUMPRODUCT(COUNTIF($Z$10,$AW103:$CA103)*(WEEKDAY($AW$10:$CA$10,2)<6)*(COUNTIF(jours_fériés,$AW$10:$CA$10)=0)) -> 0 | AA103: =SUMPRODUCT(COUNTIF($AA$10,$AW103:$CA103)*(WEEKDAY($AW$10:$CA$10,2)<6)*(COUNTIF(jours_fériés,$AW$10:$CA$10)=0)) -> 0 | AB103: =($U$8)-SUM($J103:$AA103) -> 20 | AC103: =SUMPRODUCT(COUNTIF($AC$10,$AW103:$CA103)) -> 0 | AD103: =SUMPRODUCT(COUNTIF($AD$10,$AW103:$CA103)) -> 0 | AE103: =SUMPRODUCT(COUNTIF($AE$10,$AW103:$CA103)) -> 0 | AF103: =SUMPRODUCT(COUNTIF($AF$10,$AW103:$CA103)) -> 0 | AG103: =SUMPRODUCT(COUNTIF($AG$10,$AW103:$CA103)) -> 0 | AH103: =SUMPRODUCT(COUNTIF($AH$10,$AW103:$CA103)) -> 0 | AI103: =SUMPRODUCT(COUNTIF($AI$10,$AW103:$CA103)) -> 0 | AJ103: =SUMPRODUCT(COUNTIF($AJ$10,$AW103:$CA103)) -> 0 | AK103: =SUMPRODUCT(COUNTIF($AK$10,$AW103:$CA103)) -> 0 | AL103: =SUM($AF103:$AK103) -> 0 | AM103: =SUMPRODUCT(COUNTIF($AM$10,$AW103:$CA103)) -> 0 | AN103: =SUMPRODUCT(COUNTIF($AN$10,$AW103:$CA103)) -> 0 | AO103: =SUMPRODUCT(COUNTIF($AO$10,$AW103:$CA103)) -> 0 | AP103: =SUMPRODUCT(COUNTIF($AP$10,$AW103:$CA103)) -> 0 | AQ103: =SUMPRODUCT(COUNTIF($AQ$10,$AW103:$CA103)) -> 0 | AR103: =SUMPRODUCT(COUNTIF($AR$10,$AW103:$CA103)) -> 0 | AS103: =SUMPRODUCT(COUNTIF($AS$10,$AW103:$CA103)) -> 0 | AT103: =SUMPRODUCT(COUNTIF($AT$10,$AW103:$CA103)) -> 0 | AU103: =SUMPRODUCT(COUNTIF($AU$10,$AW103:$CA103)) -> 0 | AV103: =SUMPRODUCT(COUNTIF($AV$10,$AW103:$CA103)) -> 0
A104: =[1]PERSONNELS!B99 -> 0 | B104: =[1]PERSONNELS!C99 -> 0 | C104: =[1]PERSONNELS!D99 -> 0 | D104: =[1]PERSONNELS!E99 -> 0 | G104: =$AW$8 -> 42675 | H104: =SUMPRODUCT(COUNTIF($H$10,$AW104:$CA104)*(WEEKDAY($AW$10:$CA$10,2)<6)*(COUNTIF(jours_fériés,$AW$10:$CA$10)=0)) -> 0 | I104: =SUMPRODUCT(COUNTIF($I$10,$AW104:$CA104)*(WEEKDAY($AW$10:$CA$10,2)<6)*(COUNTIF(jours_fériés,$AW$10:$CA$10)=0))/2 -> 0 | J104: =SUM(H104:I104) -> 0 | K104: =SUMPRODUCT(COUNTIF($K$10,$AW104:$CA104)*(WEEKDAY($AW$10:$CA$10,2)<6)*(COUNTIF(jours_fériés,$AW$10:$CA$10)=0)) -> 0 | L104: =SUMPRODUCT(COUNTIF($L$10,$AW104:$CA104)*(WEEKDAY($AW$10:$CA$10,2)<6)*(COUNTIF(jours_fériés,$AW$10:$CA$10)=0)) -> 0 | M104: =SUMPRODUCT(COUNTIF($M$10,$AW104:$CA104)*(WEEKDAY($AW$10:$CA$10,2)<6)*(COUNTIF(jours_fériés,$AW$10:$CA$10)=0)) -> 0 | N104: =SUMPRODUCT(COUNTIF($N$10,$AW104:$CA104)*(WEEKDAY($AW$10:$CA$10,2)<6)*(COUNTIF(jours_fériés,$AW$10:$CA$10)=0)) -> 0 | O104: =SUMPRODUCT(COUNTIF($O$10,$AW104:$CA104)*(WEEKDAY($AW$10:$CA$10,2)<6)*(COUNTIF(jours_fériés,$AW$10:$CA$10)=0)) -> 0 | P104: =SUMPRODUCT(COUNTIF($P$10,$AW104:$CA104)*(WEEKDAY($AW$10:$CA$10,2)<6)*(COUNTIF(jours_fériés,$AW$10:$CA$10)=0)) -> 0 | Q104: =SUMPRODUCT(COUNTIF($Q$10,$AW104:$CA104)*(WEEKDAY($AW$10:$CA$10,2)<6)*(COUNTIF(jours_fériés,$AW$10:$CA$10)=0)) -> 0 | R104: =SUMPRODUCT(COUNTIF($R$10,$AW104:$CA104)*(WEEKDAY($AW$10:$CA$10,2)<6)*(COUNTIF(jours_fériés,$AW$10:$CA$10)=0)) -> 0 | S104: =SUMPRODUCT(COUNTIF($S$10,$AW104:$CA104)*(WEEKDAY($AW$10:$CA$10,2)<6)*(COUNTIF(jours_fériés,$AW$10:$CA$10)=0)) -> 0 | T104: =SUMPRODUCT(COUNTIF($T$10,$AW104:$CA104)*(WEEKDAY($AW$10:$CA$10,2)<6)*(COUNTIF(jours_fériés,$AW$10:$CA$10)=0)) -> 0 | U104: =SUMPRODUCT(COUNTIF($U$10,$AW104:$CA104)*(WEEKDAY($AW$10:$CA$10,2)<6)*(COUNTIF(jours_fériés,$AW$10:$CA$10)=0)) -> 0 | V104: =SUMPRODUCT(COUNTIF($V$10,$AW104:$CA104)*(WEEKDAY($AW$10:$CA$10,2)<6)*(COUNTIF(jours_fériés,$AW$10:$CA$10)=0)) -> 0 | W104: =SUMPRODUCT(COUNTIF($W$10,$AW104:$CA104)*(WEEKDAY($AW$10:$CA$10,2)<6)*(COUNTIF(jours_fériés,$AW$10:$CA$10)=0)) -> 0 | X104: =SUMPRODUCT(COUNTIF($X$10,$AW104:$CA104)*(WEEKDAY($AW$10:$CA$10,2)<6)*(COUNTIF(jours_fériés,$AW$10:$CA$10)=0)) -> 0 | Y104: =SUMPRODUCT(COUNTIF($Y$10,$AW104:$CA104)*(WEEKDAY($AW$10:$CA$10,2)<6)*(COUNTIF(jours_fériés,$AW$10:$CA$10)=0)) -> 0 | Z104: =SUMPRODUCT(COUNTIF($Z$10,$AW104:$CA104)*(WEEKDAY($AW$10:$CA$10,2)<6)*(COUNTIF(jours_fériés,$AW$10:$CA$10)=0)) -> 0 | AA104: =SUMPRODUCT(COUNTIF($AA$10,$AW104:$CA104)*(WEEKDAY($AW$10:$CA$10,2)<6)*(COUNTIF(jours_fériés,$AW$10:$CA$10)=0)) -> 0 | AB104: =($U$8)-SUM($J104:$AA104) -> 20 | AC104: =SUMPRODUCT(COUNTIF($AC$10,$AW104:$CA104)) -> 0 | AD104: =SUMPRODUCT(COUNTIF($AD$10,$AW104:$CA104)) -> 0 | AE104: =SUMPRODUCT(COUNTIF($AE$10,$AW104:$CA104)) -> 0 | AF104: =SUMPRODUCT(COUNTIF($AF$10,$AW104:$CA104)) -> 0 | AG104: =SUMPRODUCT(COUNTIF($AG$10,$AW104:$CA104)) -> 0 | AH104: =SUMPRODUCT(COUNTIF($AH$10,$AW104:$CA104)) -> 0 | AI104: =SUMPRODUCT(COUNTIF($AI$10,$AW104:$CA104)) -> 0 | AJ104: =SUMPRODUCT(COUNTIF($AJ$10,$AW104:$CA104)) -> 0 | AK104: =SUMPRODUCT(COUNTIF($AK$10,$AW104:$CA104)) -> 0 | AL104: =SUM($AF104:$AK104) -> 0 | AM104: =SUMPRODUCT(COUNTIF($AM$10,$AW104:$CA104)) -> 0 | AN104: =SUMPRODUCT(COUNTIF($AN$10,$AW104:$CA104)) -> 0 | AO104: =SUMPRODUCT(COUNTIF($AO$10,$AW104:$CA104)) -> 0 | AP104: =SUMPRODUCT(COUNTIF($AP$10,$AW104:$CA104)) -> 0 | AQ104: =SUMPRODUCT(COUNTIF($AQ$10,$AW104:$CA104)) -> 0 | AR104: =SUMPRODUCT(COUNTIF($AR$10,$AW104:$CA104)) -> 0 | AS104: =SUMPRODUCT(COUNTIF($AS$10,$AW104:$CA104)) -> 0 | AT104: =SUMPRODUCT(COUNTIF($AT$10,$AW104:$CA104)) -> 0 | AU104: =SUMPRODUCT(COUNTIF($AU$10,$AW104:$CA104)) -> 0 | AV104: =SUMPRODUCT(COUNTIF($AV$10,$AW104:$CA104)) -> 0
A105: =[1]PERSONNELS!B100 -> 0 | B105: =[1]PERSONNELS!C100 -> 0 | C105: =[1]PERSONNELS!D100 -> 0 | D105: =[1]PERSONNELS!E100 -> 0 | G105: =$AW$8 -> 42675 | H105: =SUMPRODUCT(COUNTIF($H$10,$AW105:$CA105)*(WEEKDAY($AW$10:$CA$10,2)<6)*(COUNTIF(jours_fériés,$AW$10:$CA$10)=0)) -> 0 | I105: =SUMPRODUCT(COUNTIF($I$10,$AW105:$CA105)*(WEEKDAY($AW$10:$CA$10,2)<6)*(COUNTIF(jours_fériés,$AW$10:$CA$10)=0))/2 -> 0 | J105: =SUM(H105:I105) -> 0 | K105: =SUMPRODUCT(COUNTIF($K$10,$AW105:$CA105)*(WEEKDAY($AW$10:$CA$10,2)<6)*(COUNTIF(jours_fériés,$AW$10:$CA$10)=0)) -> 0 | L105: =SUMPRODUCT(COUNTIF($L$10,$AW105:$CA105)*(WEEKDAY($AW$10:$CA$10,2)<6)*(COUNTIF(jours_fériés,$AW$10:$CA$10)=0)) -> 0 | M105: =SUMPRODUCT(COUNTIF($M$10,$AW105:$CA105)*(WEEKDAY($AW$10:$CA$10,2)<6)*(COUNTIF(jours_fériés,$AW$10:$CA$10)=0)) -> 0 | N105: =SUMPRODUCT(COUNTIF($N$10,$AW105:$CA105)*(WEEKDAY($AW$10:$CA$10,2)<6)*(COUNTIF(jours_fériés,$AW$10:$CA$10)=0)) -> 0 | O105: =SUMPRODUCT(COUNTIF($O$10,$AW105:$CA105)*(WEEKDAY($AW$10:$CA$10,2)<6)*(COUNTIF(jours_fériés,$AW$10:$CA$10)=0)) -> 0 | P105: =SUMPRODUCT(COUNTIF($P$10,$AW105:$CA105)*(WEEKDAY($AW$10:$CA$10,2)<6)*(COUNTIF(jours_fériés,$AW$10:$CA$10)=0)) -> 0 | Q105: =SUMPRODUCT(COUNTIF($Q$10,$AW105:$CA105)*(WEEKDAY($AW$10:$CA$10,2)<6)*(COUNTIF(jours_fériés,$AW$10:$CA$10)=0)) -> 0 | R105: =SUMPRODUCT(COUNTIF($R$10,$AW105:$CA105)*(WEEKDAY($AW$10:$CA$10,2)<6)*(COUNTIF(jours_fériés,$AW$10:$CA$10)=0)) -> 0 | S105: =SUMPRODUCT(COUNTIF($S$10,$AW105:$CA105)*(WEEKDAY($AW$10:$CA$10,2)<6)*(COUNTIF(jours_fériés,$AW$10:$CA$10)=0)) -> 0 | T105: =SUMPRODUCT(COUNTIF($T$10,$AW105:$CA105)*(WEEKDAY($AW$10:$CA$10,2)<6)*(COUNTIF(jours_fériés,$AW$10:$CA$10)=0)) -> 0 | U105: =SUMPRODUCT(COUNTIF($U$10,$AW105:$CA105)*(WEEKDAY($AW$10:$CA$10,2)<6)*(COUNTIF(jours_fériés,$AW$10:$CA$10)=0)) -> 0 | V105: =SUMPRODUCT(COUNTIF($V$10,$AW105:$CA105)*(WEEKDAY($AW$10:$CA$10,2)<6)*(COUNTIF(jours_fériés,$AW$10:$CA$10)=0)) -> 0 | W105: =SUMPRODUCT(COUNTIF($W$10,$AW105:$CA105)*(WEEKDAY($AW$10:$CA$10,2)<6)*(COUNTIF(jours_fériés,$AW$10:$CA$10)=0)) -> 0 | X105: =SUMPRODUCT(COUNTIF($X$10,$AW105:$CA105)*(WEEKDAY($AW$10:$CA$10,2)<6)*(COUNTIF(jours_fériés,$AW$10:$CA$10)=0)) -> 0 | Y105: =SUMPRODUCT(COUNTIF($Y$10,$AW105:$CA105)*(WEEKDAY($AW$10:$CA$10,2)<6)*(COUNTIF(jours_fériés,$AW$10:$CA$10)=0)) -> 0 | Z105: =SUMPRODUCT(COUNTIF($Z$10,$AW105:$CA105)*(WEEKDAY($AW$10:$CA$10,2)<6)*(COUNTIF(jours_fériés,$AW$10:$CA$10)=0)) -> 0 | AA105: =SUMPRODUCT(COUNTIF($AA$10,$AW105:$CA105)*(WEEKDAY($AW$10:$CA$10,2)<6)*(COUNTIF(jours_fériés,$AW$10:$CA$10)=0)) -> 0 | AB105: =($U$8)-SUM($J105:$AA105) -> 20 | AC105: =SUMPRODUCT(COUNTIF($AC$10,$AW105:$CA105)) -> 0 | AD105: =SUMPRODUCT(COUNTIF($AD$10,$AW105:$CA105)) -> 0 | AE105: =SUMPRODUCT(COUNTIF($AE$10,$AW105:$CA105)) -> 0 | AF105: =SUMPRODUCT(COUNTIF($AF$10,$AW105:$CA105)) -> 0 | AG105: =SUMPRODUCT(COUNTIF($AG$10,$AW105:$CA105)) -> 0 | AH105: =SUMPRODUCT(COUNTIF($AH$10,$AW105:$CA105)) -> 0 | AI105: =SUMPRODUCT(COUNTIF($AI$10,$AW105:$CA105)) -> 0 | AJ105: =SUMPRODUCT(COUNTIF($AJ$10,$AW105:$CA105)) -> 0 | AK105: =SUMPRODUCT(COUNTIF($AK$10,$AW105:$CA105)) -> 0 | AL105: =SUM($AF105:$AK105) -> 0 | AM105: =SUMPRODUCT(COUNTIF($AM$10,$AW105:$CA105)) -> 0 | AN105: =SUMPRODUCT(COUNTIF($AN$10,$AW105:$CA105)) -> 0 | AO105: =SUMPRODUCT(COUNTIF($AO$10,$AW105:$CA105)) -> 0 | AP105: =SUMPRODUCT(COUNTIF($AP$10,$AW105:$CA105)) -> 0 | AQ105: =SUMPRODUCT(COUNTIF($AQ$10,$AW105:$CA105)) -> 0 | AR105: =SUMPRODUCT(COUNTIF($AR$10,$AW105:$CA105)) -> 0 | AS105: =SUMPRODUCT(COUNTIF($AS$10,$AW105:$CA105)) -> 0 | AT105: =SUMPRODUCT(COUNTIF($AT$10,$AW105:$CA105)) -> 0 | AU105: =SUMPRODUCT(COUNTIF($AU$10,$AW105:$CA105)) -> 0 | AV105: =SUMPRODUCT(COUNTIF($AV$10,$AW105:$CA105)) -> 0
A106: =[1]PERSONNELS!B101 -> 0 | B106: =[1]PERSONNELS!C101 -> 0 | C106: =[1]PERSONNELS!D101 -> 0 | D106: =[1]PERSONNELS!E101 -> 0 | G106: =$AW$8 -> 42675 | H106: =SUMPRODUCT(COUNTIF($H$10,$AW106:$CA106)*(WEEKDAY($AW$10:$CA$10,2)<6)*(COUNTIF(jours_fériés,$AW$10:$CA$10)=0)) -> 0 | I106: =SUMPRODUCT(COUNTIF($I$10,$AW106:$CA106)*(WEEKDAY($AW$10:$CA$10,2)<6)*(COUNTIF(jours_fériés,$AW$10:$CA$10)=0))/2 -> 0 | J106: =SUM(H106:I106) -> 0 | K106: =SUMPRODUCT(COUNTIF($K$10,$AW106:$CA106)*(WEEKDAY($AW$10:$CA$10,2)<6)*(COUNTIF(jours_fériés,$AW$10:$CA$10)=0)) -> 0 | L106: =SUMPRODUCT(COUNTIF($L$10,$AW106:$CA106)*(WEEKDAY($AW$10:$CA$10,2)<6)*(COUNTIF(jours_fériés,$AW$10:$CA$10)=0)) -> 0 | M106: =SUMPRODUCT(COUNTIF($M$10,$AW106:$CA106)*(WEEKDAY($AW$10:$CA$10,2)<6)*(COUNTIF(jours_fériés,$AW$10:$CA$10)=0)) -> 0 | N106: =SUMPRODUCT(COUNTIF($N$10,$AW106:$CA106)*(WEEKDAY($AW$10:$CA$10,2)<6)*(COUNTIF(jours_fériés,$AW$10:$CA$10)=0)) -> 0 | O106: =SUMPRODUCT(COUNTIF($O$10,$AW106:$CA106)*(WEEKDAY($AW$10:$CA$10,2)<6)*(COUNTIF(jours_fériés,$AW$10:$CA$10)=0)) -> 0 | P106: =SUMPRODUCT(COUNTIF($P$10,$AW106:$CA106)*(WEEKDAY($AW$10:$CA$10,2)<6)*(COUNTIF(jours_fériés,$AW$10:$CA$10)=0)) -> 0 | Q106: =SUMPRODUCT(COUNTIF($Q$10,$AW106:$CA106)*(WEEKDAY($AW$10:$CA$10,2)<6)*(COUNTIF(jours_fériés,$AW$10:$CA$10)=0)) -> 0 | R106: =SUMPRODUCT(COUNTIF($R$10,$AW106:$CA106)*(WEEKDAY($AW$10:$CA$10,2)<6)*(COUNTIF(jours_fériés,$AW$10:$CA$10)=0)) -> 0 | S106: =SUMPRODUCT(COUNTIF($S$10,$AW106:$CA106)*(WEEKDAY($AW$10:$CA$10,2)<6)*(COUNTIF(jours_fériés,$AW$10:$CA$10)=0)) -> 0 | T106: =SUMPRODUCT(COUNTIF($T$10,$AW106:$CA106)*(WEEKDAY($AW$10:$CA$10,2)<6)*(COUNTIF(jours_fériés,$AW$10:$CA$10)=0)) -> 0 | U106: =SUMPRODUCT(COUNTIF($U$10,$AW106:$CA106)*(WEEKDAY($AW$10:$CA$10,2)<6)*(COUNTIF(jours_fériés,$AW$10:$CA$10)=0)) -> 0 | V106: =SUMPRODUCT(COUNTIF($V$10,$AW106:$CA106)*(WEEKDAY($AW$10:$CA$10,2)<6)*(COUNTIF(jours_fériés,$AW$10:$CA$10)=0)) -> 0 | W106: =SUMPRODUCT(COUNTIF($W$10,$AW106:$CA106)*(WEEKDAY($AW$10:$CA$10,2)<6)*(COUNTIF(jours_fériés,$AW$10:$CA$10)=0)) -> 0 | X106: =SUMPRODUCT(COUNTIF($X$10,$AW106:$CA106)*(WEEKDAY($AW$10:$CA$10,2)<6)*(COUNTIF(jours_fériés,$AW$10:$CA$10)=0)) -> 0 | Y106: =SUMPRODUCT(COUNTIF($Y$10,$AW106:$CA106)*(WEEKDAY($AW$10:$CA$10,2)<6)*(COUNTIF(jours_fériés,$AW$10:$CA$10)=0)) -> 0 | Z106: =SUMPRODUCT(COUNTIF($Z$10,$AW106:$CA106)*(WEEKDAY($AW$10:$CA$10,2)<6)*(COUNTIF(jours_fériés,$AW$10:$CA$10)=0)) -> 0 | AA106: =SUMPRODUCT(COUNTIF($AA$10,$AW106:$CA106)*(WEEKDAY($AW$10:$CA$10,2)<6)*(COUNTIF(jours_fériés,$AW$10:$CA$10)=0)) -> 0 | AB106: =($U$8)-SUM($J106:$AA106) -> 20 | AC106: =SUMPRODUCT(COUNTIF($AC$10,$AW106:$CA106)) -> 0 | AD106: =SUMPRODUCT(COUNTIF($AD$10,$AW106:$CA106)) -> 0 | AE106: =SUMPRODUCT(COUNTIF($AE$10,$AW106:$CA106)) -> 0 | AF106: =SUMPRODUCT(COUNTIF($AF$10,$AW106:$CA106)) -> 0 | AG106: =SUMPRODUCT(COUNTIF($AG$10,$AW106:$CA106)) -> 0 | AH106: =SUMPRODUCT(COUNTIF($AH$10,$AW106:$CA106)) -> 0 | AI106: =SUMPRODUCT(COUNTIF($AI$10,$AW106:$CA106)) -> 0 | AJ106: =SUMPRODUCT(COUNTIF($AJ$10,$AW106:$CA106)) -> 0 | AK106: =SUMPRODUCT(COUNTIF($AK$10,$AW106:$CA106)) -> 0 | AL106: =SUM($AF106:$AK106) -> 0 | AM106: =SUMPRODUCT(COUNTIF($AM$10,$AW106:$CA106)) -> 0 | AN106: =SUMPRODUCT(COUNTIF($AN$10,$AW106:$CA106)) -> 0 | AO106: =SUMPRODUCT(COUNTIF($AO$10,$AW106:$CA106)) -> 0 | AP106: =SUMPRODUCT(COUNTIF($AP$10,$AW106:$CA106)) -> 0 | AQ106: =SUMPRODUCT(COUNTIF($AQ$10,$AW106:$CA106)) -> 0 | AR106: =SUMPRODUCT(COUNTIF($AR$10,$AW106:$CA106)) -> 0 | AS106: =SUMPRODUCT(COUNTIF($AS$10,$AW106:$CA106)) -> 0 | AT106: =SUMPRODUCT(COUNTIF($AT$10,$AW106:$CA106)) -> 0 | AU106: =SUMPRODUCT(COUNTIF($AU$10,$AW106:$CA106)) -> 0 | AV106: =SUMPRODUCT(COUNTIF($AV$10,$AW106:$CA106)) -> 0
A107: =[1]PERSONNELS!B102 -> 0 | B107: =[1]PERSONNELS!C102 -> 0 | C107: =[1]PERSONNELS!D102 -> 0 | D107: =[1]PERSONNELS!E102 -> 0 | E107: =[1]PERSONNELS!F102 -> 0 | G107: =$AW$8 -> 42675 | H107: =SUMPRODUCT(COUNTIF($H$10,$AW107:$CA107)*(WEEKDAY($AW$10:$CA$10,2)<6)*(COUNTIF(jours_fériés,$AW$10:$CA$10)=0)) -> 0 | I107: =SUMPRODUCT(COUNTIF($I$10,$AW107:$CA107)*(WEEKDAY($AW$10:$CA$10,2)<6)*(COUNTIF(jours_fériés,$AW$10:$CA$10)=0))/2 -> 0 | J107: =SUM(H107:I107) -> 0 | K107: =SUMPRODUCT(COUNTIF($K$10,$AW107:$CA107)*(WEEKDAY($AW$10:$CA$10,2)<6)*(COUNTIF(jours_fériés,$AW$10:$CA$10)=0)) -> 0 | L107: =SUMPRODUCT(COUNTIF($L$10,$AW107:$CA107)*(WEEKDAY($AW$10:$CA$10,2)<6)*(COUNTIF(jours_fériés,$AW$10:$CA$10)=0)) -> 0 | M107: =SUMPRODUCT(COUNTIF($M$10,$AW107:$CA107)*(WEEKDAY($AW$10:$CA$10,2)<6)*(COUNTIF(jours_fériés,$AW$10:$CA$10)=0)) -> 0 | N107: =SUMPRODUCT(COUNTIF($N$10,$AW107:$CA107)*(WEEKDAY($AW$10:$CA$10,2)<6)*(COUNTIF(jours_fériés,$AW$10:$CA$10)=0)) -> 0 | O107: =SUMPRODUCT(COUNTIF($O$10,$AW107:$CA107)*(WEEKDAY($AW$10:$CA$10,2)<6)*(COUNTIF(jours_fériés,$AW$10:$CA$10)=0)) -> 0 | P107: =SUMPRODUCT(COUNTIF($P$10,$AW107:$CA107)*(WEEKDAY($AW$10:$CA$10,2)<6)*(COUNTIF(jours_fériés,$AW$10:$CA$10)=0)) -> 0 | Q107: =SUMPRODUCT(COUNTIF($Q$10,$AW107:$CA107)*(WEEKDAY($AW$10:$CA$10,2)<6)*(COUNTIF(jours_fériés,$AW$10:$CA$10)=0)) -> 0 | R107: =SUMPRODUCT(COUNTIF($R$10,$AW107:$CA107)*(WEEKDAY($AW$10:$CA$10,2)<6)*(COUNTIF(jours_fériés,$AW$10:$CA$10)=0)) -> 0 | S107: =SUMPRODUCT(COUNTIF($S$10,$AW107:$CA107)*(WEEKDAY($AW$10:$CA$10,2)<6)*(COUNTIF(jours_fériés,$AW$10:$CA$10)=0)) -> 0 | T107: =SUMPRODUCT(COUNTIF($T$10,$AW107:$CA107)*(WEEKDAY($AW$10:$CA$10,2)<6)*(COUNTIF(jours_fériés,$AW$10:$CA$10)=0)) -> 0 | U107: =SUMPRODUCT(COUNTIF($U$10,$AW107:$CA107)*(WEEKDAY($AW$10:$CA$10,2)<6)*(COUNTIF(jours_fériés,$AW$10:$CA$10)=0)) -> 0 | V107: =SUMPRODUCT(COUNTIF($V$10,$AW107:$CA107)*(WEEKDAY($AW$10:$CA$10,2)<6)*(COUNTIF(jours_fériés,$AW$10:$CA$10)=0)) -> 0 | W107: =SUMPRODUCT(COUNTIF($W$10,$AW107:$CA107)*(WEEKDAY($AW$10:$CA$10,2)<6)*(COUNTIF(jours_fériés,$AW$10:$CA$10)=0)) -> 0 | X107: =SUMPRODUCT(COUNTIF($X$10,$AW107:$CA107)*(WEEKDAY($AW$10:$CA$10,2)<6)*(COUNTIF(jours_fériés,$AW$10:$CA$10)=0)) -> 0 | Y107: =SUMPRODUCT(COUNTIF($Y$10,$AW107:$CA107)*(WEEKDAY($AW$10:$CA$10,2)<6)*(COUNTIF(jours_fériés,$AW$10:$CA$10)=0)) -> 0 | Z107: =SUMPRODUCT(COUNTIF($Z$10,$AW107:$CA107)*(WEEKDAY($AW$10:$CA$10,2)<6)*(COUNTIF(jours_fériés,$AW$10:$CA$10)=0)) -> 0 | AA107: =SUMPRODUCT(COUNTIF($AA$10,$AW107:$CA107)*(WEEKDAY($AW$10:$CA$10,2)<6)*(COUNTIF(jours_fériés,$AW$10:$CA$10)=0)) -> 0 | AB107: =($U$8)-SUM($J107:$AA107) -> 20 | AC107: =SUMPRODUCT(COUNTIF($AC$10,$AW107:$CA107)) -> 0 | AD107: =SUMPRODUCT(COUNTIF($AD$10,$AW107:$CA107)) -> 0 | AE107: =SUMPRODUCT(COUNTIF($AE$10,$AW107:$CA107)) -> 0 | AF107: =SUMPRODUCT(COUNTIF($AF$10,$AW107:$CA107)) -> 0 | AG107: =SUMPRODUCT(COUNTIF($AG$10,$AW107:$CA107)) -> 0 | AH107: =SUMPRODUCT(COUNTIF($AH$10,$AW107:$CA107)) -> 0 | AI107: =SUMPRODUCT(COUNTIF($AI$10,$AW107:$CA107)) -> 0 | AJ107: =SUMPRODUCT(COUNTIF($AJ$10,$AW107:$CA107)) -> 0 | AK107: =SUMPRODUCT(COUNTIF($AK$10,$AW107:$CA107)) -> 0 | AL107: =SUM($AF107:$AK107) -> 0 | AM107: =SUMPRODUCT(COUNTIF($AM$10,$AW107:$CA107)) -> 0 | AN107: =SUMPRODUCT(COUNTIF($AN$10,$AW107:$CA107)) -> 0 | AO107: =SUMPRODUCT(COUNTIF($AO$10,$AW107:$CA107)) -> 0 | AP107: =SUMPRODUCT(COUNTIF($AP$10,$AW107:$CA107)) -> 0 | AQ107: =SUMPRODUCT(COUNTIF($AQ$10,$AW107:$CA107)) -> 0 | AR107: =SUMPRODUCT(COUNTIF($AR$10,$AW107:$CA107)) -> 0 | AS107: =SUMPRODUCT(COUNTIF($AS$10,$AW107:$CA107)) -> 0 | AT107: =SUMPRODUCT(COUNTIF($AT$10,$AW107:$CA107)) -> 0 | AU107: =SUMPRODUCT(COUNTIF($AU$10,$AW107:$CA107)) -> 0 | AV107: =SUMPRODUCT(COUNTIF($AV$10,$AW107:$CA107)) -> 0
A108: =[1]PERSONNELS!B103 -> 0 | B108: =[1]PERSONNELS!C103 -> 0 | C108: =[1]PERSONNELS!D103 -> 0 | D108: =[1]PERSONNELS!E103 -> 0 | E108: =[1]PERSONNELS!F103 -> 0 | G108: =$AW$8 -> 42675 | H108: =SUMPRODUCT(COUNTIF($H$10,$AW108:$CA108)*(WEEKDAY($AW$10:$CA$10,2)<6)*(COUNTIF(jours_fériés,$AW$10:$CA$10)=0)) -> 0 | I108: =SUMPRODUCT(COUNTIF($I$10,$AW108:$CA108)*(WEEKDAY($AW$10:$CA$10,2)<6)*(COUNTIF(jours_fériés,$AW$10:$CA$10)=0))/2 -> 0 | J108: =SUM(H108:I108) -> 0 | K108: =SUMPRODUCT(COUNTIF($K$10,$AW108:$CA108)*(WEEKDAY($AW$10:$CA$10,2)<6)*(COUNTIF(jours_fériés,$AW$10:$CA$10)=0)) -> 0 | L108: =SUMPRODUCT(COUNTIF($L$10,$AW108:$CA108)*(WEEKDAY($AW$10:$CA$10,2)<6)*(COUNTIF(jours_fériés,$AW$10:$CA$10)=0)) -> 0 | M108: =SUMPRODUCT(COUNTIF($M$10,$AW108:$CA108)*(WEEKDAY($AW$10:$CA$10,2)<6)*(COUNTIF(jours_fériés,$AW$10:$CA$10)=0)) -> 0 | N108: =SUMPRODUCT(COUNTIF($N$10,$AW108:$CA108)*(WEEKDAY($AW$10:$CA$10,2)<6)*(COUNTIF(jours_fériés,$AW$10:$CA$10)=0)) -> 0 | O108: =SUMPRODUCT(COUNTIF($O$10,$AW108:$CA108)*(WEEKDAY($AW$10:$CA$10,2)<6)*(COUNTIF(jours_fériés,$AW$10:$CA$10)=0)) -> 0 | P108: =SUMPRODUCT(COUNTIF($P$10,$AW108:$CA108)*(WEEKDAY($AW$10:$CA$10,2)<6)*(COUNTIF(jours_fériés,$AW$10:$CA$10)=0)) -> 0 | Q108: =SUMPRODUCT(COUNTIF($Q$10,$AW108:$CA108)*(WEEKDAY($AW$10:$CA$10,2)<6)*(COUNTIF(jours_fériés,$AW$10:$CA$10)=0)) -> 0 | R108: =SUMPRODUCT(COUNTIF($R$10,$AW108:$CA108)*(WEEKDAY($AW$10:$CA$10,2)<6)*(COUNTIF(jours_fériés,$AW$10:$CA$10)=0)) -> 0 | S108: =SUMPRODUCT(COUNTIF($S$10,$AW108:$CA108)*(WEEKDAY($AW$10:$CA$10,2)<6)*(COUNTIF(jours_fériés,$AW$10:$CA$10)=0)) -> 0 | T108: =SUMPRODUCT(COUNTIF($T$10,$AW108:$CA108)*(WEEKDAY($AW$10:$CA$10,2)<6)*(COUNTIF(jours_fériés,$AW$10:$CA$10)=0)) -> 0 | U108: =SUMPRODUCT(COUNTIF($U$10,$AW108:$CA108)*(WEEKDAY($AW$10:$CA$10,2)<6)*(COUNTIF(jours_fériés,$AW$10:$CA$10)=0)) -> 0 | V108: =SUMPRODUCT(COUNTIF($V$10,$AW108:$CA108)*(WEEKDAY($AW$10:$CA$10,2)<6)*(COUNTIF(jours_fériés,$AW$10:$CA$10)=0)) -> 0 | W108: =SUMPRODUCT(COUNTIF($W$10,$AW108:$CA108)*(WEEKDAY($AW$10:$CA$10,2)<6)*(COUNTIF(jours_fériés,$AW$10:$CA$10)=0)) -> 0 | X108: =SUMPRODUCT(COUNTIF($X$10,$AW108:$CA108)*(WEEKDAY($AW$10:$CA$10,2)<6)*(COUNTIF(jours_fériés,$AW$10:$CA$10)=0)) -> 0 | Y108: =SUMPRODUCT(COUNTIF($Y$10,$AW108:$CA108)*(WEEKDAY($AW$10:$CA$10,2)<6)*(COUNTIF(jours_fériés,$AW$10:$CA$10)=0)) -> 0 | Z108: =SUMPRODUCT(COUNTIF($Z$10,$AW108:$CA108)*(WEEKDAY($AW$10:$CA$10,2)<6)*(COUNTIF(jours_fériés,$AW$10:$CA$10)=0)) -> 0 | AA108: =SUMPRODUCT(COUNTIF($AA$10,$AW108:$CA108)*(WEEKDAY($AW$10:$CA$10,2)<6)*(COUNTIF(jours_fériés,$AW$10:$CA$10)=0)) -> 0 | AB108: =($U$8)-SUM($J108:$AA108) -> 20 | AC108: =SUMPRODUCT(COUNTIF($AC$10,$AW108:$CA108)) -> 0 | AD108: =SUMPRODUCT(COUNTIF($AD$10,$AW108:$CA108)) -> 0 | AE108: =SUMPRODUCT(COUNTIF($AE$10,$AW108:$CA108)) -> 0 | AF108: =SUMPRODUCT(COUNTIF($AF$10,$AW108:$CA108)) -> 0 | AG108: =SUMPRODUCT(COUNTIF($AG$10,$AW108:$CA108)) -> 0 | AH108: =SUMPRODUCT(COUNTIF($AH$10,$AW108:$CA108)) -> 0 | AI108: =SUMPRODUCT(COUNTIF($AI$10,$AW108:$CA108)) -> 0 | AJ108: =SUMPRODUCT(COUNTIF($AJ$10,$AW108:$CA108)) -> 0 | AK108: =SUMPRODUCT(COUNTIF($AK$10,$AW108:$CA108)) -> 0 | AL108: =SUM($AF108:$AK108) -> 0 | AM108: =SUMPRODUCT(COUNTIF($AM$10,$AW108:$CA108)) -> 0 | AN108: =SUMPRODUCT(COUNTIF($AN$10,$AW108:$CA108)) -> 0 | AO108: =SUMPRODUCT(COUNTIF($AO$10,$AW108:$CA108)) -> 0 | AP108: =SUMPRODUCT(COUNTIF($AP$10,$AW108:$CA108)) -> 0 | AQ108: =SUMPRODUCT(COUNTIF($AQ$10,$AW108:$CA108)) -> 0 | AR108: =SUMPRODUCT(COUNTIF($AR$10,$AW108:$CA108)) -> 0 | AS108: =SUMPRODUCT(COUNTIF($AS$10,$AW108:$CA108)) -> 0 | AT108: =SUMPRODUCT(COUNTIF($AT$10,$AW108:$CA108)) -> 0 | AU108: =SUMPRODUCT(COUNTIF($AU$10,$AW108:$CA108)) -> 0 | AV108: =SUMPRODUCT(COUNTIF($AV$10,$AW108:$CA108)) -> 0
A109: =[1]PERSONNELS!B104 -> 0 | B109: =[1]PERSONNELS!C104 -> 0 | C109: =[1]PERSONNELS!D104 -> 0 | D109: =[1]PERSONNELS!E104 -> 0 | E109: =[1]PERSONNELS!F104 -> 0 | G109: =$AW$8 -> 42675 | H109: =SUMPRODUCT(COUNTIF($H$10,$AW109:$CA109)*(WEEKDAY($AW$10:$CA$10,2)<6)*(COUNTIF(jours_fériés,$AW$10:$CA$10)=0)) -> 0 | I109: =SUMPRODUCT(COUNTIF($I$10,$AW109:$CA109)*(WEEKDAY($AW$10:$CA$10,2)<6)*(COUNTIF(jours_fériés,$AW$10:$CA$10)=0))/2 -> 0 | J109: =SUM(H109:I109) -> 0 | K109: =SUMPRODUCT(COUNTIF($K$10,$AW109:$CA109)*(WEEKDAY($AW$10:$CA$10,2)<6)*(COUNTIF(jours_fériés,$AW$10:$CA$10)=0)) -> 0 | L109: =SUMPRODUCT(COUNTIF($L$10,$AW109:$CA109)*(WEEKDAY($AW$10:$CA$10,2)<6)*(COUNTIF(jours_fériés,$AW$10:$CA$10)=0)) -> 0 | M109: =SUMPRODUCT(COUNTIF($M$10,$AW109:$CA109)*(WEEKDAY($AW$10:$CA$10,2)<6)*(COUNTIF(jours_fériés,$AW$10:$CA$10)=0)) -> 0 | N109: =SUMPRODUCT(COUNTIF($N$10,$AW109:$CA109)*(WEEKDAY($AW$10:$CA$10,2)<6)*(COUNTIF(jours_fériés,$AW$10:$CA$10)=0)) -> 0 | O109: =SUMPRODUCT(COUNTIF($O$10,$AW109:$CA109)*(WEEKDAY($AW$10:$CA$10,2)<6)*(COUNTIF(jours_fériés,$AW$10:$CA$10)=0)) -> 0 | P109: =SUMPRODUCT(COUNTIF($P$10,$AW109:$CA109)*(WEEKDAY($AW$10:$CA$10,2)<6)*(COUNTIF(jours_fériés,$AW$10:$CA$10)=0)) -> 0 | Q109: =SUMPRODUCT(COUNTIF($Q$10,$AW109:$CA109)*(WEEKDAY($AW$10:$CA$10,2)<6)*(COUNTIF(jours_fériés,$AW$10:$CA$10)=0)) -> 0 | R109: =SUMPRODUCT(COUNTIF($R$10,$AW109:$CA109)*(WEEKDAY($AW$10:$CA$10,2)<6)*(COUNTIF(jours_fériés,$AW$10:$CA$10)=0)) -> 0 | S109: =SUMPRODUCT(COUNTIF($S$10,$AW109:$CA109)*(WEEKDAY($AW$10:$CA$10,2)<6)*(COUNTIF(jours_fériés,$AW$10:$CA$10)=0)) -> 0 | T109: =SUMPRODUCT(COUNTIF($T$10,$AW109:$CA109)*(WEEKDAY($AW$10:$CA$10,2)<6)*(COUNTIF(jours_fériés,$AW$10:$CA$10)=0)) -> 0 | U109: =SUMPRODUCT(COUNTIF($U$10,$AW109:$CA109)*(WEEKDAY($AW$10:$CA$10,2)<6)*(COUNTIF(jours_fériés,$AW$10:$CA$10)=0)) -> 0 | V109: =SUMPRODUCT(COUNTIF($V$10,$AW109:$CA109)*(WEEKDAY($AW$10:$CA$10,2)<6)*(COUNTIF(jours_fériés,$AW$10:$CA$10)=0)) -> 0 | W109: =SUMPRODUCT(COUNTIF($W$10,$AW109:$CA109)*(WEEKDAY($AW$10:$CA$10,2)<6)*(COUNTIF(jours_fériés,$AW$10:$CA$10)=0)) -> 0 | X109: =SUMPRODUCT(COUNTIF($X$10,$AW109:$CA109)*(WEEKDAY($AW$10:$CA$10,2)<6)*(COUNTIF(jours_fériés,$AW$10:$CA$10)=0)) -> 0 | Y109: =SUMPRODUCT(COUNTIF($Y$10,$AW109:$CA109)*(WEEKDAY($AW$10:$CA$10,2)<6)*(COUNTIF(jours_fériés,$AW$10:$CA$10)=0)) -> 0 | Z109: =SUMPRODUCT(COUNTIF($Z$10,$AW109:$CA109)*(WEEKDAY($AW$10:$CA$10,2)<6)*(COUNTIF(jours_fériés,$AW$10:$CA$10)=0)) -> 0 | AA109: =SUMPRODUCT(COUNTIF($AA$10,$AW109:$CA109)*(WEEKDAY($AW$10:$CA$10,2)<6)*(COUNTIF(jours_fériés,$AW$10:$CA$10)=0)) -> 0 | AB109: =($U$8)-SUM($J109:$AA109) -> 20 | AC109: =SUMPRODUCT(COUNTIF($AC$10,$AW109:$CA109)) -> 0 | AD109: =SUMPRODUCT(COUNTIF($AD$10,$AW109:$CA109)) -> 0 | AE109: =SUMPRODUCT(COUNTIF($AE$10,$AW109:$CA109)) -> 0 | AF109: =SUMPRODUCT(COUNTIF($AF$10,$AW109:$CA109)) -> 0 | AG109: =SUMPRODUCT(COUNTIF($AG$10,$AW109:$CA109)) -> 0 | AH109: =SUMPRODUCT(COUNTIF($AH$10,$AW109:$CA109)) -> 0 | AI109: =SUMPRODUCT(COUNTIF($AI$10,$AW109:$CA109)) -> 0 | AJ109: =SUMPRODUCT(COUNTIF($AJ$10,$AW109:$CA109)) -> 0 | AK109: =SUMPRODUCT(COUNTIF($AK$10,$AW109:$CA109)) -> 0 | AL109: =SUM($AF109:$AK109) -> 0 | AM109: =SUMPRODUCT(COUNTIF($AM$10,$AW109:$CA109)) -> 0 | AN109: =SUMPRODUCT(COUNTIF($AN$10,$AW109:$CA109)) -> 0 | AO109: =SUMPRODUCT(COUNTIF($AO$10,$AW109:$CA109)) -> 0 | AP109: =SUMPRODUCT(COUNTIF($AP$10,$AW109:$CA109)) -> 0 | AQ109: =SUMPRODUCT(COUNTIF($AQ$10,$AW109:$CA109)) -> 0 | AR109: =SUMPRODUCT(COUNTIF($AR$10,$AW109:$CA109)) -> 0 | AS109: =SUMPRODUCT(COUNTIF($AS$10,$AW109:$CA109)) -> 0 | AT109: =SUMPRODUCT(COUNTIF($AT$10,$AW109:$CA109)) -> 0 | AU109: =SUMPRODUCT(COUNTIF($AU$10,$AW109:$CA109)) -> 0 | AV109: =SUMPRODUCT(COUNTIF($AV$10,$AW109:$CA109)) -> 0
