Workbook
Name Année: [1]Année!$A$2
Name jours_fériés: [1]Année!$C$2:$C$19

Sheet Novembre
F8: Accueil | G8: =$AW$8 -> 42675 | I8: =DAY(DATE(YEAR(AW8),MONTH(AW8)+1,1)-1) -> 30 | L8: =(G8+I8)-1 -> 42704 | O8: 11 | U8: =NETWORKDAYS((G8),(L8),jours_fériés) -> 20 | AW8: =DATE(Année,O8,1) -> 42675
AW9: =INT((AW$10-SUM(MOD(DATE(YEAR(AW$10-MOD(AW$10-2,7)+3),1,2),{1E+99;7})*{1;-1})+5)/7) -> 44 | AX9: =INT((AX$10-SUM(MOD(DATE(YEAR(AX$10-MOD(AX$10-2,7)+3),1,2),{1E+99;7})*{1;-1})+5)/7) -> 44 | AY9: =INT((AY$10-SUM(MOD(DATE(YEAR(AY$10-MOD(AY$10-2,7)+3),1,2),{1E+99;7})*{1;-1})+5)/7) -> 44 | AZ9: =INT((AZ$10-SUM(MOD(DATE(YEAR(AZ$10-MOD(AZ$10-2,7)+3),1,2),{1E+99;7})*{1;-1})+5)/7) -> 44 | BA9: =INT((BA$10-SUM(MOD(DATE(YEAR(BA$10-MOD(BA$10-2,7)+3),1,2),{1E+99;7})*{1;-1})+5)/7) -> 44 | BB9: =INT((BB$10-SUM(MOD(DATE(YEAR(BB$10-MOD(BB$10-2,7)+3),1,2),{1E+99;7})*{1;-1})+5)/7) -> 44 | BC9: =INT((BC$10-SUM(MOD(DATE(YEAR(BC$10-MOD(BC$10-2,7)+3),1,2),{1E+99;7})*{1;-1})+5)/7) -> 45 | BD9: =INT((BD$10-SUM(MOD(DATE(YEAR(BD$10-MOD(BD$10-2,7)+3),1,2),{1E+99;7})*{1;-1})+5)/7) -> 45 | ... CA9: =INT((CA$10-SUM(MOD(DATE(YEAR(CA$10-MOD(CA$10-2,7)+3),1,2),{1E+99;7})*{1;-1})+5)/7) -> 48
A10: SECTION | B10: GRADE | C10: NOM | D10: PRENOM | E10: FONCTION | F10: ALERTE | G10: MOIS | H10: Permission | I10: 1/2 P | J10: somme permission | K10: OPInt | L10: OPEX | M10: Stage | N10: EI/CP | O10: PAF | P10: Semaine | Q10: Armurier | R10: Soutier | S10: P.Chenil | T10: ALERTES DU AU | U10: AI | V10: AT | W10: missions chronophages | X10: Prépa ops | Y10: Non/plus Affecté | Z10: Récupération | AA10: Encadrement | AB10: Temps de dressage | AC10: OPInt | AD10: OPEX | AE10: Stage | AF10: EI/CP | AG10: PAF | AH10: Semaine | AI10: Armurier | AJ10: Soutier | AK10: P.Chenil | AL10: Services | AM10: ALERTES DU AU | AN10: AI | AO10: AT | AP10: missions chronophages | AQ10: Prépa ops | AR10: Non/plus Affecté | AS10: Tir | AT10: Reconvertion | AU10: Déta.1erRPIMa | AV10: Encadrement | AW10: =DATE(Année,O8,1) -> 42675 | AX10: =AW10+1 -> 42676 | AY10: =AX10+1 -> 42677 | AZ10: =AY10+1 -> 42678 | BA10: =AZ10+1 -> 42679 | BB10: =BA10+1 -> 42680 | BC10: =BB10+1 -> 42681 | BD10: =BC10+1 -> 42682 | BE10: =BD10+1 -> 42683 | ... CA10: =BZ10+1 -> 42705 | CB10: =[1]ParamètresCouleurs!W5 -> 0 | CC10: =[1]ParamètresCouleurs!X5 -> 0 | CD10: =[1]ParamètresCouleurs!Y5 -> 0 | CE10: =[1]ParamètresCouleurs!Z5 -> 0 | CF10: =[1]ParamètresCouleurs!AA5 -> 0 | CG10: =[1]ParamètresCouleurs!AB5 -> 0 | CH10: =[1]ParamètresCouleurs!AC5 -> 0 | CI10: =[1]ParamètresCouleurs!AD5 -> 0 | ... CL10: =[1]ParamètresCouleurs!AG5 -> 0
A11: =[1]PERSONNELS!B6 -> SK | B11: =[1]PERSONNELS!C6 -> CNE | E11: =[1]PERSONNELS!F6 -> CDU | G11: =$AW$8 -> 42675 | H11: =SUMPRODUCT(COUNTIF($H$10,$AW11:$CA11)*(WEEKDAY($AW$10:$CA$10,2)<6)*(COUNTIF(jours_fériés,$AW$10:$CA$10)=0)) -> 0 | I11: =SUMPRODUCT(COUNTIF($I$10,$AW11:$CA11)*(WEEKDAY($AW$10:$CA$10,2)<6)*(COUNTIF(jours_fériés,$AW$10:$CA$10)=0))/2 -> 0 | J11: =SUM(H11:I11) -> 0 | K11: =SUMPRODUCT(COUNTIF($K$10,$AW11:$CA11)*(WEEKDAY($AW$10:$CA$10,2)<6)*(COUNTIF(jours_fériés,$AW$10:$CA$10)=0)) -> 0 | L11: =SUMPRODUCT(COUNTIF($L$10,$AW11:$CA11)*(WEEKDAY($AW$10:$CA$10,2)<6)*(COUNTIF(jours_fériés,$AW$10:$CA$10)=0)) -> 0 | M11: =SUMPRODUCT(COUNTIF($M$10,$AW11:$CA11)*(WEEKDAY($AW$10:$CA$10,2)<6)*(COUNTIF(jours_fériés,$AW$10:$CA$10)=0)) -> 0 | N11: =SUMPRODUCT(COUNTIF($N$10,$AW11:$CA11)*(WEEKDAY($AW$10:$CA$10,2)<6)*(COUNTIF(jours_fériés,$AW$10:$CA$10)=0)) -> 0 | O11: =SUMPRODUCT(COUNTIF($O$10,$AW11:$CA11)*(WEEKDAY($AW$10:$CA$10,2)<6)*(COUNTIF(jours_fériés,$AW$10:$CA$10)=0)) -> 0 | P11: =SUMPRODUCT(COUNTIF($P$10,$AW11:$CA11)*(WEEKDAY($AW$10:$CA$10,2)<6)*(COUNTIF(jours_fériés,$AW$10:$CA$10)=0)) -> 0 | Q11: =SUMPRODUCT(COUNTIF($Q$10,$AW11:$CA11)*(WEEKDAY($AW$10:$CA$10,2)<6)*(COUNTIF(jours_fériés,$AW$10:$CA$10)=0)) -> 0 | R11: =SUMPRODUCT(COUNTIF($R$10,$AW11:$CA11)*(WEEKDAY($AW$10:$CA$10,2)<6)*(COUNTIF(jours_fériés,$AW$10:$CA$10)=0)) -> 0 | S11: =SUMPRODUCT(COUNTIF($S$10,$AW11:$CA11)*(WEEKDAY($AW$10:$CA$10,2)<6)*(COUNTIF(jours_fériés,$AW$10:$CA$10)=0)) -> 0 | T11: =SUMPRODUCT(COUNTIF($T$10,$AW11:$CA11)*(WEEKDAY($AW$10:$CA$10,2)<6)*(COUNTIF(jours_fériés,$AW$10:$CA$10)=0)) -> 0 | U11: =SUMPRODUCT(COUNTIF($U$10,$AW11:$CA11)*(WEEKDAY($AW$10:$CA$10,2)<6)*(COUNTIF(jours_fériés,$AW$10:$CA$10)=0)) -> 0 | V11: =SUMPRODUCT(COUNTIF($V$10,$AW11:$CA11)*(WEEKDAY($AW$10:$CA$10,2)<6)*(COUNTIF(jours_fériés,$AW$10:$CA$10)=0)) -> 0 | W11: =SUMPRODUCT(COUNTIF($W$10,$AW11:$CA11)*(WEEKDAY($AW$10:$CA$10,2)<6)*(COUNTIF(jours_fériés,$AW$10:$CA$10)=0)) -> 0 | X11: =SUMPRODUCT(COUNTIF($X$10,$AW11:$CA11)*(WEEKDAY($AW$10:$CA$10,2)<6)*(COUNTIF(jours_fériés,$AW$10:$CA$10)=0)) -> 0 | Y11: =SUMPRODUCT(COUNTIF($Y$10,$AW11:$CA11)*(WEEKDAY($AW$10:$CA$10,2)<6)*(COUNTIF(jours_fériés,$AW$10:$CA$10)=0)) -> 0 | Z11: =SUMPRODUCT(COUNTIF($Z$10,$AW11:$CA11)*(WEEKDAY($AW$10:$CA$10,2)<6)*(COUNTIF(jours_fériés,$AW$10:$CA$10)=0)) -> 0 | AA11: =SUMPRODUCT(COUNTIF($AA$10,$AW11:$CA11)*(WEEKDAY($AW$10:$CA$10,2)<6)*(COUNTIF(jours_fériés,$AW$10:$CA$10)=0)) -> 0 | AB11: =($U$8)-SUM($J11:$AA11) -> 20 | AC11: =SUMPRODUCT(COUNTIF($AC$10,$AW11:$CA11)) -> 0 | AD11: =SUMPRODUCT(COUNTIF($AD$10,$AW11:$CA11)) -> 0 | AE11: =SUMPRODUCT(COUNTIF($AE$10,$AW11:$CA11)) -> 0 | AF11: =SUMPRODUCT(COUNTIF($AF$10,$AW11:$CA11)) -> 0 | AG11: =SUMPRODUCT(COUNTIF($AG$10,$AW11:$CA11)) -> 0 | AH11: =SUMPRODUCT(COUNTIF($AH$10,$AW11:$CA11)) -> 0 | AI11: =SUMPRODUCT(COUNTIF($AI$10,$AW11:$CA11)) -> 0 | AJ11: =SUMPRODUCT(COUNTIF($AJ$10,$AW11:$CA11)) -> 0 | AK11: =SUMPRODUCT(COUNTIF($AK$10,$AW11:$CA11)) -> 0 | AL11: =SUM($AF11:$AK11) -> 0 | AM11: =SUMPRODUCT(COUNTIF($AM$10,$AW11:$CA11)) -> 0 | AN11: =SUMPRODUCT(COUNTIF($AN$10,$AW11:$CA11)) -> 0 | AO11: =SUMPRODUCT(COUNTIF($AO$10,$AW11:$CA11)) -> 0 | AP11: =SUMPRODUCT(COUNTIF($AP$10,$AW11:$CA11)) -> 0 | AQ11: =SUMPRODUCT(COUNTIF($AQ$10,$AW11:$CA11)) -> 0 | AR11: =SUMPRODUCT(COUNTIF($AR$10,$AW11:$CA11)) -> 0 | AS11: =SUMPRODUCT(COUNTIF($AS$10,$AW11:$CA11)) -> 0 | AT11: =SUMPRODUCT(COUNTIF($AT$10,$AW11:$CA11)) -> 0 | AU11: =SUMPRODUCT(COUNTIF($AU$10,$AW11:$CA11)) -> 0 | AV11: =SUMPRODUCT(COUNTIF($AV$10,$AW11:$CA11)) -> 0
A12: =[1]PERSONNELS!B7 -> SK | B12: =[1]PERSONNELS!C7 -> ADJ | E12: =[1]PERSONNELS!F7 -> ADU | G12: =$AW$8 -> 42675 | H12: =SUMPRODUCT(COUNTIF($H$10,$AW12:$CA12)*(WEEKDAY($AW$10:$CA$10,2)<6)*(COUNTIF(jours_fériés,$AW$10:$CA$10)=0)) -> 0 | I12: =SUMPRODUCT(COUNTIF($I$10,$AW12:$CA12)*(WEEKDAY($AW$10:$CA$10,2)<6)*(COUNTIF(jours_fériés,$AW$10:$CA$10)=0))/2 -> 0 | J12: =SUM(H12:I12) -> 0 | K12: =SUMPRODUCT(COUNTIF($K$10,$AW12:$CA12)*(WEEKDAY($AW$10:$CA$10,2)<6)*(COUNTIF(jours_fériés,$AW$10:$CA$10)=0)) -> 0 | L12: =SUMPRODUCT(COUNTIF($L$10,$AW12:$CA12)*(WEEKDAY($AW$10:$CA$10,2)<6)*(COUNTIF(jours_fériés,$AW$10:$CA$10)=0)) -> 0 | M12: =SUMPRODUCT(COUNTIF($M$10,$AW12:$CA12)*(WEEKDAY($AW$10:$CA$10,2)<6)*(COUNTIF(jours_fériés,$AW$10:$CA$10)=0)) -> 0 | N12: =SUMPRODUCT(COUNTIF($N$10,$AW12:$CA12)*(WEEKDAY($AW$10:$CA$10,2)<6)*(COUNTIF(jours_fériés,$AW$10:$CA$10)=0)) -> 0 | O12: =SUMPRODUCT(COUNTIF($O$10,$AW12:$CA12)*(WEEKDAY($AW$10:$CA$10,2)<6)*(COUNTIF(jours_fériés,$AW$10:$CA$10)=0)) -> 0 | P12: =SUMPRODUCT(COUNTIF($P$10,$AW12:$CA12)*(WEEKDAY($AW$10:$CA$10,2)<6)*(COUNTIF(jours_fériés,$AW$10:$CA$10)=0)) -> 0 | Q12: =SUMPRODUCT(COUNTIF($Q$10,$AW12:$CA12)*(WEEKDAY($AW$10:$CA$10,2)<6)*(COUNTIF(jours_fériés,$AW$10:$CA$10)=0)) -> 0 | R12: =SUMPRODUCT(COUNTIF($R$10,$AW12:$CA12)*(WEEKDAY($AW$10:$CA$10,2)<6)*(COUNTIF(jours_fériés,$AW$10:$CA$10)=0)) -> 0 | S12: =SUMPRODUCT(COUNTIF($S$10,$AW12:$CA12)*(WEEKDAY($AW$10:$CA$10,2)<6)*(COUNTIF(jours_fériés,$AW$10:$CA$10)=0)) -> 0 | T12: =SUMPRODUCT(COUNTIF($T$10,$AW12:$CA12)*(WEEKDAY($AW$10:$CA$10,2)<6)*(COUNTIF(jours_fériés,$AW$10:$CA$10)=0)) -> 0 | U12: =SUMPRODUCT(COUNTIF($U$10,$AW12:$CA12)*(WEEKDAY($AW$10:$CA$10,2)<6)*(COUNTIF(jours_fériés,$AW$10:$CA$10)=0)) -> 0 | V12: =SUMPRODUCT(COUNTIF($V$10,$AW12:$CA12)*(WEEKDAY($AW$10:$CA$10,2)<6)*(COUNTIF(jours_fériés,$AW$10:$CA$10)=0)) -> 0 | W12: =SUMPRODUCT(COUNTIF($W$10,$AW12:$CA12)*(WEEKDAY($AW$10:$CA$10,2)<6)*(COUNTIF(jours_fériés,$AW$10:$CA$10)=0)) -> 0 | X12: =SUMPRODUCT(COUNTIF($X$10,$AW12:$CA12)*(WEEKDAY($AW$10:$CA$10,2)<6)*(COUNTIF(jours_fériés,$AW$10:$CA$10)=0)) -> 0 | Y12: =SUMPRODUCT(COUNTIF($Y$10,$AW12:$CA12)*(WEEKDAY($AW$10:$CA$10,2)<6)*(COUNTIF(jours_fériés,$AW$10:$CA$10)=0)) -> 0 | Z12: =SUMPRODUCT(COUNTIF($Z$10,$AW12:$CA12)*(WEEKDAY($AW$10:$CA$10,2)<6)*(COUNTIF(jours_fériés,$AW$10:$CA$10)=0)) -> 0 | AA12: =SUMPRODUCT(COUNTIF($AA$10,$AW12:$CA12)*(WEEKDAY($AW$10:$CA$10,2)<6)*(COUNTIF(jours_fériés,$AW$10:$CA$10)=0)) -> 0 | AB12: =($U$8)-SUM($J12:$AA12) -> 20 | AC12: =SUMPRODUCT(COUNTIF($AC$10,$AW12:$CA12)) -> 0 | AD12: =SUMPRODUCT(COUNTIF($AD$10,$AW12:$CA12)) -> 0 | AE12: =SUMPRODUCT(COUNTIF($AE$10,$AW12:$CA12)) -> 0 | AF12: =SUMPRODUCT(COUNTIF($AF$10,$AW12:$CA12)) -> 0 | AG12: =SUMPRODUCT(COUNTIF($AG$10,$AW12:$CA12)) -> 0 | AH12: =SUMPRODUCT(COUNTIF($AH$10,$AW12:$CA12)) -> 0 | AI12: =SUMPRODUCT(COUNTIF($AI$10,$AW12:$CA12)) -> 0 | AJ12: =SUMPRODUCT(COUNTIF($AJ$10,$AW12:$CA12)) -> 0 | AK12: =SUMPRODUCT(COUNTIF($AK$10,$AW12:$CA12)) -> 0 | AL12: =SUM($AF12:$AK12) -> 0 | AM12: =SUMPRODUCT(COUNTIF($AM$10,$AW12:$CA12)) -> 0 | AN12: =SUMPRODUCT(COUNTIF($AN$10,$AW12:$CA12)) -> 0 | AO12: =SUMPRODUCT(COUNTIF($AO$10,$AW12:$CA12)) -> 0 | AP12: =SUMPRODUCT(COUNTIF($AP$10,$AW12:$CA12)) -> 0 | AQ12: =SUMPRODUCT(COUNTIF($AQ$10,$AW12:$CA12)) -> 0 | AR12: =SUMPRODUCT(COUNTIF($AR$10,$AW12:$CA12)) -> 0 | AS12: =SUMPRODUCT(COUNTIF($AS$10,$AW12:$CA12)) -> 0 | AT12: =SUMPRODUCT(COUNTIF($AT$10,$AW12:$CA12)) -> 0 | AU12: =SUMPRODUCT(COUNTIF($AU$10,$AW12:$CA12)) -> 0 | AV12: =SUMPRODUCT(COUNTIF($AV$10,$AW12:$CA12)) -> 0 | CB12: =SUMPRODUCT(COUNTIF(AW11:CA11,CA12)) -> 0
A13: =[1]PERSONNELS!B8 -> SK | B13: =[1]PERSONNELS!C8 -> ADJ | E13: =[1]PERSONNELS!F8 -> 0 | G13: =$AW$8 -> 42675 | H13: =SUMPRODUCT(COUNTIF($H$10,$AW13:$CA13)*(WEEKDAY($AW$10:$CA$10,2)<6)*(COUNTIF(jours_fériés,$AW$10:$CA$10)=0)) -> 0 | I13: =SUMPRODUCT(COUNTIF($I$10,$AW13:$CA13)*(WEEKDAY($AW$10:$CA$10,2)<6)*(COUNTIF(jours_fériés,$AW$10:$CA$10)=0))/2 -> 0 | J13: =SUM(H13:I13) -> 0 | K13: =SUMPRODUCT(COUNTIF($K$10,$AW13:$CA13)*(WEEKDAY($AW$10:$CA$10,2)<6)*(COUNTIF(jours_fériés,$AW$10:$CA$10)=0)) -> 0 | L13: =SUMPRODUCT(COUNTIF($L$10,$AW13:$CA13)*(WEEKDAY($AW$10:$CA$10,2)<6)*(COUNTIF(jours_fériés,$AW$10:$CA$10)=0)) -> 0 | M13: =SUMPRODUCT(COUNTIF($M$10,$AW13:$CA13)*(WEEKDAY($AW$10:$CA$10,2)<6)*(COUNTIF(jours_fériés,$AW$10:$CA$10)=0)) -> 0 | N13: =SUMPRODUCT(COUNTIF($N$10,$AW13:$CA13)*(WEEKDAY($AW$10:$CA$10,2)<6)*(COUNTIF(jours_fériés,$AW$10:$CA$10)=0)) -> 0 | O13: =SUMPRODUCT(COUNTIF($O$10,$AW13:$CA13)*(WEEKDAY($AW$10:$CA$10,2)<6)*(COUNTIF(jours_fériés,$AW$10:$CA$10)=0)) -> 0 | P13: =SUMPRODUCT(COUNTIF($P$10,$AW13:$CA13)*(WEEKDAY($AW$10:$CA$10,2)<6)*(COUNTIF(jours_fériés,$AW$10:$CA$10)=0)) -> 0 | Q13: =SUMPRODUCT(COUNTIF($Q$10,$AW13:$CA13)*(WEEKDAY($AW$10:$CA$10,2)<6)*(COUNTIF(jours_fériés,$AW$10:$CA$10)=0)) -> 0 | R13: =SUMPRODUCT(COUNTIF($R$10,$AW13:$CA13)*(WEEKDAY($AW$10:$CA$10,2)<6)*(COUNTIF(jours_fériés,$AW$10:$CA$10)=0)) -> 0 | S13: =SUMPRODUCT(COUNTIF($S$10,$AW13:$CA13)*(WEEKDAY($AW$10:$CA$10,2)<6)*(COUNTIF(jours_fériés,$AW$10:$CA$10)=0)) -> 0 | T13: =SUMPRODUCT(COUNTIF($T$10,$AW13:$CA13)*(WEEKDAY($AW$10:$CA$10,2)<6)*(COUNTIF(jours_fériés,$AW$10:$CA$10)=0)) -> 0 | U13: =SUMPRODUCT(COUNTIF($U$10,$AW13:$CA13)*(WEEKDAY($AW$10:$CA$10,2)<6)*(COUNTIF(jours_fériés,$AW$10:$CA$10)=0)) -> 0 | V13: =SUMPRODUCT(COUNTIF($V$10,$AW13:$CA13)*(WEEKDAY($AW$10:$CA$10,2)<6)*(COUNTIF(jours_fériés,$AW$10:$CA$10)=0)) -> 0 | W13: =SUMPRODUCT(COUNTIF($W$10,$AW13:$CA13)*(WEEKDAY($AW$10:$CA$10,2)<6)*(COUNTIF(jours_fériés,$AW$10:$CA$10)=0)) -> 0 | X13: =SUMPRODUCT(COUNTIF($X$10,$AW13:$CA13)*(WEEKDAY($AW$10:$CA$10,2)<6)*(COUNTIF(jours_fériés,$AW$10:$CA$10)=0)) -> 0 | Y13: =SUMPRODUCT(COUNTIF($Y$10,$AW13:$CA13)*(WEEKDAY($AW$10:$CA$10,2)<6)*(COUNTIF(jours_fériés,$AW$10:$CA$10)=0)) -> 0 | Z13: =SUMPRODUCT(COUNTIF($Z$10,$AW13:$CA13)*(WEEKDAY($AW$10:$CA$10,2)<6)*(COUNTIF(jours_fériés,$AW$10:$CA$10)=0)) -> 0 | AA13: =SUMPRODUCT(COUNTIF($AA$10,$AW13:$CA13)*(WEEKDAY($AW$10:$CA$10,2)<6)*(COUNTIF(jours_fériés,$AW$10:$CA$10)=0)) -> 0 | AB13: =($U$8)-SUM($J13:$AA13) -> 20 | AC13: =SUMPRODUCT(COUNTIF($AC$10,$AW13:$CA13)) -> 0 | AD13: =SUMPRODUCT(COUNTIF($AD$10,$AW13:$CA13)) -> 0 | AE13: =SUMPRODUCT(COUNTIF($AE$10,$AW13:$CA13)) -> 0 | AF13: =SUMPRODUCT(COUNTIF($AF$10,$AW13:$CA13)) -> 0 | AG13: =SUMPRODUCT(COUNTIF($AG$10,$AW13:$CA13)) -> 0 | AH13: =SUMPRODUCT(COUNTIF($AH$10,$AW13:$CA13)) -> 0 | AI13: =SUMPRODUCT(COUNTIF($AI$10,$AW13:$CA13)) -> 0 | AJ13: =SUMPRODUCT(COUNTIF($AJ$10,$AW13:$CA13)) -> 0 | AK13: =SUMPRODUCT(COUNTIF($AK$10,$AW13:$CA13)) -> 0 | AL13: =SUM($AF13:$AK13) -> 0 | AM13: =SUMPRODUCT(COUNTIF($AM$10,$AW13:$CA13)) -> 0 | AN13: =SUMPRODUCT(COUNTIF($AN$10,$AW13:$CA13)) -> 0 | AO13: =SUMPRODUCT(COUNTIF($AO$10,$AW13:$CA13)) -> 0 | AP13: =SUMPRODUCT(COUNTIF($AP$10,$AW13:$CA13)) -> 0 | AQ13: =SUMPRODUCT(COUNTIF($AQ$10,$AW13:$CA13)) -> 0 | AR13: =SUMPRODUCT(COUNTIF($AR$10,$AW13:$CA13)) -> 0 | AS13: =SUMPRODUCT(COUNTIF($AS$10,$AW13:$CA13)) -> 0 | AT13: =SUMPRODUCT(COUNTIF($AT$10,$AW13:$CA13)) -> 0 | AU13: =SUMPRODUCT(COUNTIF($AU$10,$AW13:$CA13)) -> 0 | AV13: =SUMPRODUCT(COUNTIF($AV$10,$AW13:$CA13)) -> 0
A14: =[1]PERSONNELS!B9 -> SK | B14: =[1]PERSONNELS!C9 -> CC1 | E14: =[1]PERSONNELS!F9 -> 0 | G14: =$AW$8 -> 42675 | H14: =SUMPRODUCT(COUNTIF($H$10,$AW14:$CA14)*(WEEKDAY($AW$10:$CA$10,2)<6)*(COUNTIF(jours_fériés,$AW$10:$CA$10)=0)) -> 0 | I14: =SUMPRODUCT(COUNTIF($I$10,$AW14:$CA14)*(WEEKDAY($AW$10:$CA$10,2)<6)*(COUNTIF(jours_fériés,$AW$10:$CA$10)=0))/2 -> 0 | J14: =SUM(H14:I14) -> 0 | K14: =SUMPRODUCT(COUNTIF($K$10,$AW14:$CA14)*(WEEKDAY($AW$10:$CA$10,2)<6)*(COUNTIF(jours_fériés,$AW$10:$CA$10)=0)) -> 0 | L14: =SUMPRODUCT(COUNTIF($L$10,$AW14:$CA14)*(WEEKDAY($AW$10:$CA$10,2)<6)*(COUNTIF(jours_fériés,$AW$10:$CA$10)=0)) -> 0 | M14: =SUMPRODUCT(COUNTIF($M$10,$AW14:$CA14)*(WEEKDAY($AW$10:$CA$10,2)<6)*(COUNTIF(jours_fériés,$AW$10:$CA$10)=0)) -> 0 | N14: =SUMPRODUCT(COUNTIF($N$10,$AW14:$CA14)*(WEEKDAY($AW$10:$CA$10,2)<6)*(COUNTIF(jours_fériés,$AW$10:$CA$10)=0)) -> 0 | O14: =SUMPRODUCT(COUNTIF($O$10,$AW14:$CA14)*(WEEKDAY($AW$10:$CA$10,2)<6)*(COUNTIF(jours_fériés,$AW$10:$CA$10)=0)) -> 0 | P14: =SUMPRODUCT(COUNTIF($P$10,$AW14:$CA14)*(WEEKDAY($AW$10:$CA$10,2)<6)*(COUNTIF(jours_fériés,$AW$10:$CA$10)=0)) -> 0 | Q14: =SUMPRODUCT(COUNTIF($Q$10,$AW14:$CA14)*(WEEKDAY($AW$10:$CA$10,2)<6)*(COUNTIF(jours_fériés,$AW$10:$CA$10)=0)) -> 0 | R14: =SUMPRODUCT(COUNTIF($R$10,$AW14:$CA14)*(WEEKDAY($AW$10:$CA$10,2)<6)*(COUNTIF(jours_fériés,$AW$10:$CA$10)=0)) -> 0 | S14: =SUMPRODUCT(COUNTIF($S$10,$AW14:$CA14)*(WEEKDAY($AW$10:$CA$10,2)<6)*(COUNTIF(jours_fériés,$AW$10:$CA$10)=0)) -> 0 | T14: =SUMPRODUCT(COUNTIF($T$10,$AW14:$CA14)*(WEEKDAY($AW$10:$CA$10,2)<6)*(COUNTIF(jours_fériés,$AW$10:$CA$10)=0)) -> 0 | U14: =SUMPRODUCT(COUNTIF($U$10,$AW14:$CA14)*(WEEKDAY($AW$10:$CA$10,2)<6)*(COUNTIF(jours_fériés,$AW$10:$CA$10)=0)) -> 0 | V14: =SUMPRODUCT(COUNTIF($V$10,$AW14:$CA14)*(WEEKDAY($AW$10:$CA$10,2)<6)*(COUNTIF(jours_fériés,$AW$10:$CA$10)=0)) -> 0 | W14: =SUMPRODUCT(COUNTIF($W$10,$AW14:$CA14)*(WEEKDAY($AW$10:$CA$10,2)<6)*(COUNTIF(jours_fériés,$AW$10:$CA$10)=0)) -> 0 | X14: =SUMPRODUCT(COUNTIF($X$10,$AW14:$CA14)*(WEEKDAY($AW$10:$CA$10,2)<6)*(COUNTIF(jours_fériés,$AW$10:$CA$10)=0)) -> 0 | Y14: =SUMPRODUCT(COUNTIF($Y$10,$AW14:$CA14)*(WEEKDAY($AW$10:$CA$10,2)<6)*(COUNTIF(jours_fériés,$AW$10:$CA$10)=0)) -> 0 | Z14: =SUMPRODUCT(COUNTIF($Z$10,$AW14:$CA14)*(WEEKDAY($AW$10:$CA$10,2)<6)*(COUNTIF(jours_fériés,$AW$10:$CA$10)=0)) -> 0 | AA14: =SUMPRODUCT(COUNTIF($AA$10,$AW14:$CA14)*(WEEKDAY($AW$10:$CA$10,2)<6)*(COUNTIF(jours_fériés,$AW$10:$CA$10)=0)) -> 0 | AB14: =($U$8)-SUM($J14:$AA14) -> 20 | AC14: =SUMPRODUCT(COUNTIF($AC$10,$AW14:$CA14)) -> 0 | AD14: =SUMPRODUCT(COUNTIF($AD$10,$AW14:$CA14)) -> 0 | AE14: =SUMPRODUCT(COUNTIF($AE$10,$AW14:$CA14)) -> 0 | AF14: =SUMPRODUCT(COUNTIF($AF$10,$AW14:$CA14)) -> 0 | AG14: =SUMPRODUCT(COUNTIF($AG$10,$AW14:$CA14)) -> 0 | AH14: =SUMPRODUCT(COUNTIF($AH$10,$AW14:$CA14)) -> 0 | AI14: =SUMPRODUCT(COUNTIF($AI$10,$AW14:$CA14)) -> 0 | AJ14: =SUMPRODUCT(COUNTIF($AJ$10,$AW14:$CA14)) -> 0 | AK14: =SUMPRODUCT(COUNTIF($AK$10,$AW14:$CA14)) -> 0 | AL14: =SUM($AF14:$AK14) -> 0 | AM14: =SUMPRODUCT(COUNTIF($AM$10,$AW14:$CA14)) -> 0 | AN14: =SUMPRODUCT(COUNTIF($AN$10,$AW14:$CA14)) -> 0 | AO14: =SUMPRODUCT(COUNTIF($AO$10,$AW14:$CA14)) -> 0 | AP14: =SUMPRODUCT(COUNTIF($AP$10,$AW14:$CA14)) -> 0 | AQ14: =SUMPRODUCT(COUNTIF($AQ$10,$AW14:$CA14)) -> 0 | AR14: =SUMPRODUCT(COUNTIF($AR$10,$AW14:$CA14)) -> 0 | AS14: =SUMPRODUCT(COUNTIF($AS$10,$AW14:$CA14)) -> 0 | AT14: =SUMPRODUCT(COUNTIF($AT$10,$AW14:$CA14)) -> 0 | AU14: =SUMPRODUCT(COUNTIF($AU$10,$AW14:$CA14)) -> 0 | AV14: =SUMPRODUCT(COUNTIF($AV$10,$AW14:$CA14)) -> 0
A15: =[1]PERSONNELS!B11 -> SK | B15: =[1]PERSONNELS!C11 -> CC1 | E15: =[1]PERSONNELS!F11 -> 0 | G15: =$AW$8 -> 42675 | H15: =SUMPRODUCT(COUNTIF($H$10,$AW15:$CA15)*(WEEKDAY($AW$10:$CA$10,2)<6)*(COUNTIF(jours_fériés,$AW$10:$CA$10)=0)) -> 0 | I15: =SUMPRODUCT(COUNTIF($I$10,$AW15:$CA15)*(WEEKDAY($AW$10:$CA$10,2)<6)*(COUNTIF(jours_fériés,$AW$10:$CA$10)=0))/2 -> 0 | J15: =SUM(H15:I15) -> 0 | K15: =SUMPRODUCT(COUNTIF($K$10,$AW15:$CA15)*(WEEKDAY($AW$10:$CA$10,2)<6)*(COUNTIF(jours_fériés,$AW$10:$CA$10)=0)) -> 0 | L15: =SUMPRODUCT(COUNTIF($L$10,$AW15:$CA15)*(WEEKDAY($AW$10:$CA$10,2)<6)*(COUNTIF(jours_fériés,$AW$10:$CA$10)=0)) -> 0 | M15: =SUMPRODUCT(COUNTIF($M$10,$AW15:$CA15)*(WEEKDAY($AW$10:$CA$10,2)<6)*(COUNTIF(jours_fériés,$AW$10:$CA$10)=0)) -> 0 | N15: =SUMPRODUCT(COUNTIF($N$10,$AW15:$CA15)*(WEEKDAY($AW$10:$CA$10,2)<6)*(COUNTIF(jours_fériés,$AW$10:$CA$10)=0)) -> 0 | O15: =SUMPRODUCT(COUNTIF($O$10,$AW15:$CA15)*(WEEKDAY($AW$10:$CA$10,2)<6)*(COUNTIF(jours_fériés,$AW$10:$CA$10)=0)) -> 0 | P15: =SUMPRODUCT(COUNTIF($P$10,$AW15:$CA15)*(WEEKDAY($AW$10:$CA$10,2)<6)*(COUNTIF(jours_fériés,$AW$10:$CA$10)=0)) -> 0 | Q15: =SUMPRODUCT(COUNTIF($Q$10,$AW15:$CA15)*(WEEKDAY($AW$10:$CA$10,2)<6)*(COUNTIF(jours_fériés,$AW$10:$CA$10)=0)) -> 0 | R15: =SUMPRODUCT(COUNTIF($R$10,$AW15:$CA15)*(WEEKDAY($AW$10:$CA$10,2)<6)*(COUNTIF(jours_fériés,$AW$10:$CA$10)=0)) -> 0 | S15: =SUMPRODUCT(COUNTIF($S$10,$AW15:$CA15)*(WEEKDAY($AW$10:$CA$10,2)<6)*(COUNTIF(jours_fériés,$AW$10:$CA$10)=0)) -> 0 | T15: =SUMPRODUCT(COUNTIF($T$10,$AW15:$CA15)*(WEEKDAY($AW$10:$CA$10,2)<6)*(COUNTIF(jours_fériés,$AW$10:$CA$10)=0)) -> 0 | U15: =SUMPRODUCT(COUNTIF($U$10,$AW15:$CA15)*(WEEKDAY($AW$10:$CA$10,2)<6)*(COUNTIF(jours_fériés,$AW$10:$CA$10)=0)) -> 0 | V15: =SUMPRODUCT(COUNTIF($V$10,$AW15:$CA15)*(WEEKDAY($AW$10:$CA$10,2)<6)*(COUNTIF(jours_fériés,$AW$10:$CA$10)=0)) -> 0 | W15: =SUMPRODUCT(COUNTIF($W$10,$AW15:$CA15)*(WEEKDAY($AW$10:$CA$10,2)<6)*(COUNTIF(jours_fériés,$AW$10:$CA$10)=0)) -> 0 | X15: =SUMPRODUCT(COUNTIF($X$10,$AW15:$CA15)*(WEEKDAY($AW$10:$CA$10,2)<6)*(COUNTIF(jours_fériés,$AW$10:$CA$10)=0)) -> 0 | Y15: =SUMPRODUCT(COUNTIF($Y$10,$AW15:$CA15)*(WEEKDAY($AW$10:$CA$10,2)<6)*(COUNTIF(jours_fériés,$AW$10:$CA$10)=0)) -> 0 | Z15: =SUMPRODUCT(COUNTIF($Z$10,$AW15:$CA15)*(WEEKDAY($AW$10:$CA$10,2)<6)*(COUNTIF(jours_fériés,$AW$10:$CA$10)=0)) -> 0 | AA15: =SUMPRODUCT(COUNTIF($AA$10,$AW15:$CA15)*(WEEKDAY($AW$10:$CA$10,2)<6)*(COUNTIF(jours_fériés,$AW$10:$CA$10)=0)) -> 0 | AB15: =($U$8)-SUM($J15:$AA15) -> 20 | AC15: =SUMPRODUCT(COUNTIF($AC$10,$AW15:$CA15)) -> 0 | AD15: =SUMPRODUCT(COUNTIF($AD$10,$AW15:$CA15)) -> 0 | AE15: =SUMPRODUCT(COUNTIF($AE$10,$AW15:$CA15)) -> 0 | AF15: =SUMPRODUCT(COUNTIF($AF$10,$AW15:$CA15)) -> 0 | AG15: =SUMPRODUCT(COUNTIF($AG$10,$AW15:$CA15)) -> 0 | AH15: =SUMPRODUCT(COUNTIF($AH$10,$AW15:$CA15)) -> 0 | AI15: =SUMPRODUCT(COUNTIF($AI$10,$AW15:$CA15)) -> 0 | AJ15: =SUMPRODUCT(COUNTIF($AJ$10,$AW15:$CA15)) -> 0 | AK15: =SUMPRODUCT(COUNTIF($AK$10,$AW15:$CA15)) -> 0 | AL15: =SUM($AF15:$AK15) -> 0 | AM15: =SUMPRODUCT(COUNTIF($AM$10,$AW15:$CA15)) -> 0 | AN15: =SUMPRODUCT(COUNTIF($AN$10,$AW15:$CA15)) -> 0 | AO15: =SUMPRODUCT(COUNTIF($AO$10,$AW15:$CA15)) -> 0 | AP15: =SUMPRODUCT(COUNTIF($AP$10,$AW15:$CA15)) -> 0 | AQ15: =SUMPRODUCT(COUNTIF($AQ$10,$AW15:$CA15)) -> 0 | AR15: =SUMPRODUCT(COUNTIF($AR$10,$AW15:$CA15)) -> 0 | AS15: =SUMPRODUCT(COUNTIF($AS$10,$AW15:$CA15)) -> 0 | AT15: =SUMPRODUCT(COUNTIF($AT$10,$AW15:$CA15)) -> 0 | AU15: =SUMPRODUCT(COUNTIF($AU$10,$AW15:$CA15)) -> 0 | AV15: =SUMPRODUCT(COUNTIF($AV$10,$AW15:$CA15)) -> 0
A16: =[1]PERSONNELS!B10 -> SK | B16: =[1]PERSONNELS!C10 -> CCH | E16: =[1]PERSONNELS!F10 -> 0 | G16: =$AW$8 -> 42675 | H16: =SUMPRODUCT(COUNTIF($H$10,$AW16:$CA16)*(WEEKDAY($AW$10:$CA$10,2)<6)*(COUNTIF(jours_fériés,$AW$10:$CA$10)=0)) -> 0 | I16: =SUMPRODUCT(COUNTIF($I$10,$AW16:$CA16)*(WEEKDAY($AW$10:$CA$10,2)<6)*(COUNTIF(jours_fériés,$AW$10:$CA$10)=0))/2 -> 0 | J16: =SUM(H16:I16) -> 0 | K16: =SUMPRODUCT(COUNTIF($K$10,$AW16:$CA16)*(WEEKDAY($AW$10:$CA$10,2)<6)*(COUNTIF(jours_fériés,$AW$10:$CA$10)=0)) -> 0 | L16: =SUMPRODUCT(COUNTIF($L$10,$AW16:$CA16)*(WEEKDAY($AW$10:$CA$10,2)<6)*(COUNTIF(jours_fériés,$AW$10:$CA$10)=0)) -> 0 | M16: =SUMPRODUCT(COUNTIF($M$10,$AW16:$CA16)*(WEEKDAY($AW$10:$CA$10,2)<6)*(COUNTIF(jours_fériés,$AW$10:$CA$10)=0)) -> 0 | N16: =SUMPRODUCT(COUNTIF($N$10,$AW16:$CA16)*(WEEKDAY($AW$10:$CA$10,2)<6)*(COUNTIF(jours_fériés,$AW$10:$CA$10)=0)) -> 0 | O16: =SUMPRODUCT(COUNTIF($O$10,$AW16:$CA16)*(WEEKDAY($AW$10:$CA$10,2)<6)*(COUNTIF(jours_fériés,$AW$10:$CA$10)=0)) -> 0 | P16: =SUMPRODUCT(COUNTIF($P$10,$AW16:$CA16)*(WEEKDAY($AW$10:$CA$10,2)<6)*(COUNTIF(jours_fériés,$AW$10:$CA$10)=0)) -> 0 | Q16: =SUMPRODUCT(COUNTIF($Q$10,$AW16:$CA16)*(WEEKDAY($AW$10:$CA$10,2)<6)*(COUNTIF(jours_fériés,$AW$10:$CA$10)=0)) -> 0 | R16: =SUMPRODUCT(COUNTIF($R$10,$AW16:$CA16)*(WEEKDAY($AW$10:$CA$10,2)<6)*(COUNTIF(jours_fériés,$AW$10:$CA$10)=0)) -> 0 | S16: =SUMPRODUCT(COUNTIF($S$10,$AW16:$CA16)*(WEEKDAY($AW$10:$CA$10,2)<6)*(COUNTIF(jours_fériés,$AW$10:$CA$10)=0)) -> 0 | T16: =SUMPRODUCT(COUNTIF($T$10,$AW16:$CA16)*(WEEKDAY($AW$10:$CA$10,2)<6)*(COUNTIF(jours_fériés,$AW$10:$CA$10)=0)) -> 0 | U16: =SUMPRODUCT(COUNTIF($U$10,$AW16:$CA16)*(WEEKDAY($AW$10:$CA$10,2)<6)*(COUNTIF(jours_fériés,$AW$10:$CA$10)=0)) -> 0 | V16: =SUMPRODUCT(COUNTIF($V$10,$AW16:$CA16)*(WEEKDAY($AW$10:$CA$10,2)<6)*(COUNTIF(jours_fériés,$AW$10:$CA$10)=0)) -> 0 | W16: =SUMPRODUCT(COUNTIF($W$10,$AW16:$CA16)*(WEEKDAY($AW$10:$CA$10,2)<6)*(COUNTIF(jours_fériés,$AW$10:$CA$10)=0)) -> 0 | X16: =SUMPRODUCT(COUNTIF($X$10,$AW16:$CA16)*(WEEKDAY($AW$10:$CA$10,2)<6)*(COUNTIF(jours_fériés,$AW$10:$CA$10)=0)) -> 0 | Y16: =SUMPRODUCT(COUNTIF($Y$10,$AW16:$CA16)*(WEEKDAY($AW$10:$CA$10,2)<6)*(COUNTIF(jours_fériés,$AW$10:$CA$10)=0)) -> 21 | Z16: =SUMPRODUCT(COUNTIF($Z$10,$AW16:$CA16)*(WEEKDAY($AW$10:$CA$10,2)<6)*(COUNTIF(jours_fériés,$AW$10:$CA$10)=0)) -> 0 | AA16: =SUMPRODUCT(COUNTIF($AA$10,$AW16:$CA16)*(WEEKDAY($AW$10:$CA$10,2)<6)*(COUNTIF(jours_fériés,$AW$10:$CA$10)=0)) -> 0 | AB16: =($U$8)-SUM($J16:$AA16) -> -1 | AC16: =SUMPRODUCT(COUNTIF($AC$10,$AW16:$CA16)) -> 0 | AD16: =SUMPRODUCT(COUNTIF($AD$10,$AW16:$CA16)) -> 0 | AE16: =SUMPRODUCT(COUNTIF($AE$10,$AW16:$CA16)) -> 0 | AF16: =SUMPRODUCT(COUNTIF($AF$10,$AW16:$CA16)) -> 0 | AG16: =SUMPRODUCT(COUNTIF($AG$10,$AW16:$CA16)) -> 0 | AH16: =SUMPRODUCT(COUNTIF($AH$10,$AW16:$CA16)) -> 0 | AI16: =SUMPRODUCT(COUNTIF($AI$10,$AW16:$CA16)) -> 0 | AJ16: =SUMPRODUCT(COUNTIF($AJ$10,$AW16:$CA16)) -> 0 | AK16: =SUMPRODUCT(COUNTIF($AK$10,$AW16:$CA16)) -> 0 | AL16: =SUM($AF16:$AK16) -> 0 | AM16: =SUMPRODUCT(COUNTIF($AM$10,$AW16:$CA16)) -> 0 | AN16: =SUMPRODUCT(COUNTIF($AN$10,$AW16:$CA16)) -> 0 | AO16: =SUMPRODUCT(COUNTIF($AO$10,$AW16:$CA16)) -> 0 | AP16: =SUMPRODUCT(COUNTIF($AP$10,$AW16:$CA16)) -> 0 | AQ16: =SUMPRODUCT(COUNTIF($AQ$10,$AW16:$CA16)) -> 0 | AR16: =SUMPRODUCT(COUNTIF($AR$10,$AW16:$CA16)) -> 31 | AS16: =SUMPRODUCT(COUNTIF($AS$10,$AW16:$CA16)) -> 0 | AT16: =SUMPRODUCT(COUNTIF($AT$10,$AW16:$CA16)) -> 0 | AU16: =SUMPRODUCT(COUNTIF($AU$10,$AW16:$CA16)) -> 0 | AV16: =SUMPRODUCT(COUNTIF($AV$10,$AW16:$CA16)) -> 0 | AW16: Non/plus Affecté | AX16: Non/plus Affecté | AY16: Non/plus Affecté | AZ16: Non/plus Affecté | BA16: Non/plus Affecté | BB16: Non/plus Affecté | BC16: Non/plus Affecté | BD16: Non/plus Affecté | BE16: Non/plus Affecté | BF16: Non/plus Affecté | BG16: Non/plus Affecté | BH16: Non/plus Affecté | BI16: Non/plus Affecté | BJ16: Non/plus Affecté | BK16: Non/plus Affecté | BL16: Non/plus Affecté | BM16: Non/plus Affecté | BN16: Non/plus Affecté | BO16: Non/plus Affecté | BP16: Non/plus Affecté | BQ16: Non/plus Affecté | BR16: Non/plus Affecté | BS16: Non/plus Affecté | BT16: Non/plus Affecté | BU16: Non/plus Affecté | BV16: Non/plus Affecté | BW16: Non/plus Affecté | BX16: Non/plus Affecté | BY16: Non/plus Affecté | BZ16: Non/plus Affecté | CA16: Non/plus Affecté
A17: =[1]PERSONNELS!B12 -> SK | B17: =[1]PERSONNELS!C12 -> CPL | E17: =[1]PERSONNELS!F12 -> 0 | G17: =$AW$8 -> 42675 | H17: =SUMPRODUCT(COUNTIF($H$10,$AW17:$CA17)*(WEEKDAY($AW$10:$CA$10,2)<6)*(COUNTIF(jours_fériés,$AW$10:$CA$10)=0)) -> 0 | I17: =SUMPRODUCT(COUNTIF($I$10,$AW17:$CA17)*(WEEKDAY($AW$10:$CA$10,2)<6)*(COUNTIF(jours_fériés,$AW$10:$CA$10)=0))/2 -> 0 | J17: =SUM(H17:I17) -> 0 | K17: =SUMPRODUCT(COUNTIF($K$10,$AW17:$CA17)*(WEEKDAY($AW$10:$CA$10,2)<6)*(COUNTIF(jours_fériés,$AW$10:$CA$10)=0)) -> 0 | L17: =SUMPRODUCT(COUNTIF($L$10,$AW17:$CA17)*(WEEKDAY($AW$10:$CA$10,2)<6)*(COUNTIF(jours_fériés,$AW$10:$CA$10)=0)) -> 0 | M17: =SUMPRODUCT(COUNTIF($M$10,$AW17:$CA17)*(WEEKDAY($AW$10:$CA$10,2)<6)*(COUNTIF(jours_fériés,$AW$10:$CA$10)=0)) -> 0 | N17: =SUMPRODUCT(COUNTIF($N$10,$AW17:$CA17)*(WEEKDAY($AW$10:$CA$10,2)<6)*(COUNTIF(jours_fériés,$AW$10:$CA$10)=0)) -> 0 | O17: =SUMPRODUCT(COUNTIF($O$10,$AW17:$CA17)*(WEEKDAY($AW$10:$CA$10,2)<6)*(COUNTIF(jours_fériés,$AW$10:$CA$10)=0)) -> 0 | P17: =SUMPRODUCT(COUNTIF($P$10,$AW17:$CA17)*(WEEKDAY($AW$10:$CA$10,2)<6)*(COUNTIF(jours_fériés,$AW$10:$CA$10)=0)) -> 0 | Q17: =SUMPRODUCT(COUNTIF($Q$10,$AW17:$CA17)*(WEEKDAY($AW$10:$CA$10,2)<6)*(COUNTIF(jours_fériés,$AW$10:$CA$10)=0)) -> 0 | R17: =SUMPRODUCT(COUNTIF($R$10,$AW17:$CA17)*(WEEKDAY($AW$10:$CA$10,2)<6)*(COUNTIF(jours_fériés,$AW$10:$CA$10)=0)) -> 0 | S17: =SUMPRODUCT(COUNTIF($S$10,$AW17:$CA17)*(WEEKDAY($AW$10:$CA$10,2)<6)*(COUNTIF(jours_fériés,$AW$10:$CA$10)=0)) -> 0 | T17: =SUMPRODUCT(COUNTIF($T$10,$AW17:$CA17)*(WEEKDAY($AW$10:$CA$10,2)<6)*(COUNTIF(jours_fériés,$AW$10:$CA$10)=0)) -> 0 | U17: =SUMPRODUCT(COUNTIF($U$10,$AW17:$CA17)*(WEEKDAY($AW$10:$CA$10,2)<6)*(COUNTIF(jours_fériés,$AW$10:$CA$10)=0)) -> 0 | V17: =SUMPRODUCT(COUNTIF($V$10,$AW17:$CA17)*(WEEKDAY($AW$10:$CA$10,2)<6)*(COUNTIF(jours_fériés,$AW$10:$CA$10)=0)) -> 0 | W17: =SUMPRODUCT(COUNTIF($W$10,$AW17:$CA17)*(WEEKDAY($AW$10:$CA$10,2)<6)*(COUNTIF(jours_fériés,$AW$10:$CA$10)=0)) -> 0 | X17: =SUMPRODUCT(COUNTIF($X$10,$AW17:$CA17)*(WEEKDAY($AW$10:$CA$10,2)<6)*(COUNTIF(jours_fériés,$AW$10:$CA$10)=0)) -> 0 | Y17: =SUMPRODUCT(COUNTIF($Y$10,$AW17:$CA17)*(WEEKDAY($AW$10:$CA$10,2)<6)*(COUNTIF(jours_fériés,$AW$10:$CA$10)=0)) -> 0 | Z17: =SUMPRODUCT(COUNTIF($Z$10,$AW17:$CA17)*(WEEKDAY($AW$10:$CA$10,2)<6)*(COUNTIF(jours_fériés,$AW$10:$CA$10)=0)) -> 0 | AA17: =SUMPRODUCT(COUNTIF($AA$10,$AW17:$CA17)*(WEEKDAY($AW$10:$CA$10,2)<6)*(COUNTIF(jours_fériés,$AW$10:$CA$10)=0)) -> 0 | AB17: =($U$8)-SUM($J17:$AA17) -> 20 | AC17: =SUMPRODUCT(COUNTIF($AC$10,$AW17:$CA17)) -> 0 | AD17: =SUMPRODUCT(COUNTIF($AD$10,$AW17:$CA17)) -> 0 | AE17: =SUMPRODUCT(COUNTIF($AE$10,$AW17:$CA17)) -> 0 | AF17: =SUMPRODUCT(COUNTIF($AF$10,$AW17:$CA17)) -> 0 | AG17: =SUMPRODUCT(COUNTIF($AG$10,$AW17:$CA17)) -> 0 | AH17: =SUMPRODUCT(COUNTIF($AH$10,$AW17:$CA17)) -> 0 | AI17: =SUMPRODUCT(COUNTIF($AI$10,$AW17:$CA17)) -> 0 | AJ17: =SUMPRODUCT(COUNTIF($AJ$10,$AW17:$CA17)) -> 0 | AK17: =SUMPRODUCT(COUNTIF($AK$10,$AW17:$CA17)) -> 0 | AL17: =SUM($AF17:$AK17) -> 0 | AM17: =SUMPRODUCT(COUNTIF($AM$10,$AW17:$CA17)) -> 0 | AN17: =SUMPRODUCT(COUNTIF($AN$10,$AW17:$CA17)) -> 0 | AO17: =SUMPRODUCT(COUNTIF($AO$10,$AW17:$CA17)) -> 0 | AP17: =SUMPRODUCT(COUNTIF($AP$10,$AW17:$CA17)) -> 0 | AQ17: =SUMPRODUCT(COUNTIF($AQ$10,$AW17:$CA17)) -> 0 | AR17: =SUMPRODUCT(COUNTIF($AR$10,$AW17:$CA17)) -> 0 | AS17: =SUMPRODUCT(COUNTIF($AS$10,$AW17:$CA17)) -> 0 | AT17: =SUMPRODUCT(COUNTIF($AT$10,$AW17:$CA17)) -> 0 | AU17: =SUMPRODUCT(COUNTIF($AU$10,$AW17:$CA17)) -> 0 | AV17: =SUMPRODUCT(COUNTIF($AV$10,$AW17:$CA17)) -> 0
A18: =[1]PERSONNELS!B13 -> S1 | B18: =[1]PERSONNELS!C13 -> ADJ | E18: =[1]PERSONNELS!F13 -> CDS | G18: =$AW$8 -> 42675 | H18: =SUMPRODUCT(COUNTIF($H$10,$AW18:$CA18)*(WEEKDAY($AW$10:$CA$10,2)<6)*(COUNTIF(jours_fériés,$AW$10:$CA$10)=0)) -> 0 | I18: =SUMPRODUCT(COUNTIF($I$10,$AW18:$CA18)*(WEEKDAY($AW$10:$CA$10,2)<6)*(COUNTIF(jours_fériés,$AW$10:$CA$10)=0))/2 -> 0 | J18: =SUM(H18:I18) -> 0 | K18: =SUMPRODUCT(COUNTIF($K$10,$AW18:$CA18)*(WEEKDAY($AW$10:$CA$10,2)<6)*(COUNTIF(jours_fériés,$AW$10:$CA$10)=0)) -> 0 | L18: =SUMPRODUCT(COUNTIF($L$10,$AW18:$CA18)*(WEEKDAY($AW$10:$CA$10,2)<6)*(COUNTIF(jours_fériés,$AW$10:$CA$10)=0)) -> 0 | M18: =SUMPRODUCT(COUNTIF($M$10,$AW18:$CA18)*(WEEKDAY($AW$10:$CA$10,2)<6)*(COUNTIF(jours_fériés,$AW$10:$CA$10)=0)) -> 0 | N18: =SUMPRODUCT(COUNTIF($N$10,$AW18:$CA18)*(WEEKDAY($AW$10:$CA$10,2)<6)*(COUNTIF(jours_fériés,$AW$10:$CA$10)=0)) -> 0 | O18: =SUMPRODUCT(COUNTIF($O$10,$AW18:$CA18)*(WEEKDAY($AW$10:$CA$10,2)<6)*(COUNTIF(jours_fériés,$AW$10:$CA$10)=0)) -> 0 | P18: =SUMPRODUCT(COUNTIF($P$10,$AW18:$CA18)*(WEEKDAY($AW$10:$CA$10,2)<6)*(COUNTIF(jours_fériés,$AW$10:$CA$10)=0)) -> 0 | Q18: =SUMPRODUCT(COUNTIF($Q$10,$AW18:$CA18)*(WEEKDAY($AW$10:$CA$10,2)<6)*(COUNTIF(jours_fériés,$AW$10:$CA$10)=0)) -> 0 | R18: =SUMPRODUCT(COUNTIF($R$10,$AW18:$CA18)*(WEEKDAY($AW$10:$CA$10,2)<6)*(COUNTIF(jours_fériés,$AW$10:$CA$10)=0)) -> 0 | S18: =SUMPRODUCT(COUNTIF($S$10,$AW18:$CA18)*(WEEKDAY($AW$10:$CA$10,2)<6)*(COUNTIF(jours_fériés,$AW$10:$CA$10)=0)) -> 0 | T18: =SUMPRODUCT(COUNTIF($T$10,$AW18:$CA18)*(WEEKDAY($AW$10:$CA$10,2)<6)*(COUNTIF(jours_fériés,$AW$10:$CA$10)=0)) -> 0 | U18: =SUMPRODUCT(COUNTIF($U$10,$AW18:$CA18)*(WEEKDAY($AW$10:$CA$10,2)<6)*(COUNTIF(jours_fériés,$AW$10:$CA$10)=0)) -> 0 | V18: =SUMPRODUCT(COUNTIF($V$10,$AW18:$CA18)*(WEEKDAY($AW$10:$CA$10,2)<6)*(COUNTIF(jours_fériés,$AW$10:$CA$10)=0)) -> 0 | W18: =SUMPRODUCT(COUNTIF($W$10,$AW18:$CA18)*(WEEKDAY($AW$10:$CA$10,2)<6)*(COUNTIF(jours_fériés,$AW$10:$CA$10)=0)) -> 0 | X18: =SUMPRODUCT(COUNTIF($X$10,$AW18:$CA18)*(WEEKDAY($AW$10:$CA$10,2)<6)*(COUNTIF(jours_fériés,$AW$10:$CA$10)=0)) -> 0 | Y18: =SUMPRODUCT(COUNTIF($Y$10,$AW18:$CA18)*(WEEKDAY($AW$10:$CA$10,2)<6)*(COUNTIF(jours_fériés,$AW$10:$CA$10)=0)) -> 0 | Z18: =SUMPRODUCT(COUNTIF($Z$10,$AW18:$CA18)*(WEEKDAY($AW$10:$CA$10,2)<6)*(COUNTIF(jours_fériés,$AW$10:$CA$10)=0)) -> 0 | AA18: =SUMPRODUCT(COUNTIF($AA$10,$AW18:$CA18)*(WEEKDAY($AW$10:$CA$10,2)<6)*(COUNTIF(jours_fériés,$AW$10:$CA$10)=0)) -> 0 | AB18: =($U$8)-SUM($J18:$AA18) -> 20 | AC18: =SUMPRODUCT(COUNTIF($AC$10,$AW18:$CA18)) -> 0 | AD18: =SUMPRODUCT(COUNTIF($AD$10,$AW18:$CA18)) -> 0 | AE18: =SUMPRODUCT(COUNTIF($AE$10,$AW18:$CA18)) -> 0 | AF18: =SUMPRODUCT(COUNTIF($AF$10,$AW18:$CA18)) -> 0 | AG18: =SUMPRODUCT(COUNTIF($AG$10,$AW18:$CA18)) -> 0 | AH18: =SUMPRODUCT(COUNTIF($AH$10,$AW18:$CA18)) -> 0 | AI18: =SUMPRODUCT(COUNTIF($AI$10,$AW18:$CA18)) -> 0 | AJ18: =SUMPRODUCT(COUNTIF($AJ$10,$AW18:$CA18)) -> 0 | AK18: =SUMPRODUCT(COUNTIF($AK$10,$AW18:$CA18)) -> 0 | AL18: =SUM($AF18:$AK18) -> 0 | AM18: =SUMPRODUCT(COUNTIF($AM$10,$AW18:$CA18)) -> 0 | AN18: =SUMPRODUCT(COUNTIF($AN$10,$AW18:$CA18)) -> 0 | AO18: =SUMPRODUCT(COUNTIF($AO$10,$AW18:$CA18)) -> 0 | AP18: =SUMPRODUCT(COUNTIF($AP$10,$AW18:$CA18)) -> 0 | AQ18: =SUMPRODUCT(COUNTIF($AQ$10,$AW18:$CA18)) -> 0 | AR18: =SUMPRODUCT(COUNTIF($AR$10,$AW18:$CA18)) -> 0 | AS18: =SUMPRODUCT(COUNTIF($AS$10,$AW18:$CA18)) -> 0 | AT18: =SUMPRODUCT(COUNTIF($AT$10,$AW18:$CA18)) -> 0 | AU18: =SUMPRODUCT(COUNTIF($AU$10,$AW18:$CA18)) -> 0 | AV18: =SUMPRODUCT(COUNTIF($AV$10,$AW18:$CA18)) -> 0
A19: =[1]PERSONNELS!B14 -> S1 | B19: =[1]PERSONNELS!C14 -> SGT | E19: =[1]PERSONNELS!F14 -> 0 | G19: =$AW$8 -> 42675 | H19: =SUMPRODUCT(COUNTIF($H$10,$AW19:$CA19)*(WEEKDAY($AW$10:$CA$10,2)<6)*(COUNTIF(jours_fériés,$AW$10:$CA$10)=0)) -> 0 | I19: =SUMPRODUCT(COUNTIF($I$10,$AW19:$CA19)*(WEEKDAY($AW$10:$CA$10,2)<6)*(COUNTIF(jours_fériés,$AW$10:$CA$10)=0))/2 -> 0 | J19: =SUM(H19:I19) -> 0 | K19: =SUMPRODUCT(COUNTIF($K$10,$AW19:$CA19)*(WEEKDAY($AW$10:$CA$10,2)<6)*(COUNTIF(jours_fériés,$AW$10:$CA$10)=0)) -> 0 | L19: =SUMPRODUCT(COUNTIF($L$10,$AW19:$CA19)*(WEEKDAY($AW$10:$CA$10,2)<6)*(COUNTIF(jours_fériés,$AW$10:$CA$10)=0)) -> 0 | M19: =SUMPRODUCT(COUNTIF($M$10,$AW19:$CA19)*(WEEKDAY($AW$10:$CA$10,2)<6)*(COUNTIF(jours_fériés,$AW$10:$CA$10)=0)) -> 0 | N19: =SUMPRODUCT(COUNTIF($N$10,$AW19:$CA19)*(WEEKDAY($AW$10:$CA$10,2)<6)*(COUNTIF(jours_fériés,$AW$10:$CA$10)=0)) -> 0 | O19: =SUMPRODUCT(COUNTIF($O$10,$AW19:$CA19)*(WEEKDAY($AW$10:$CA$10,2)<6)*(COUNTIF(jours_fériés,$AW$10:$CA$10)=0)) -> 0 | P19: =SUMPRODUCT(COUNTIF($P$10,$AW19:$CA19)*(WEEKDAY($AW$10:$CA$10,2)<6)*(COUNTIF(jours_fériés,$AW$10:$CA$10)=0)) -> 0 | Q19: =SUMPRODUCT(COUNTIF($Q$10,$AW19:$CA19)*(WEEKDAY($AW$10:$CA$10,2)<6)*(COUNTIF(jours_fériés,$AW$10:$CA$10)=0)) -> 0 | R19: =SUMPRODUCT(COUNTIF($R$10,$AW19:$CA19)*(WEEKDAY($AW$10:$CA$10,2)<6)*(COUNTIF(jours_fériés,$AW$10:$CA$10)=0)) -> 0 | S19: =SUMPRODUCT(COUNTIF($S$10,$AW19:$CA19)*(WEEKDAY($AW$10:$CA$10,2)<6)*(COUNTIF(jours_fériés,$AW$10:$CA$10)=0)) -> 0 | T19: =SUMPRODUCT(COUNTIF($T$10,$AW19:$CA19)*(WEEKDAY($AW$10:$CA$10,2)<6)*(COUNTIF(jours_fériés,$AW$10:$CA$10)=0)) -> 0 | U19: =SUMPRODUCT(COUNTIF($U$10,$AW19:$CA19)*(WEEKDAY($AW$10:$CA$10,2)<6)*(COUNTIF(jours_fériés,$AW$10:$CA$10)=0)) -> 0 | V19: =SUMPRODUCT(COUNTIF($V$10,$AW19:$CA19)*(WEEKDAY($AW$10:$CA$10,2)<6)*(COUNTIF(jours_fériés,$AW$10:$CA$10)=0)) -> 0 | W19: =SUMPRODUCT(COUNTIF($W$10,$AW19:$CA19)*(WEEKDAY($AW$10:$CA$10,2)<6)*(COUNTIF(jours_fériés,$AW$10:$CA$10)=0)) -> 0 | X19: =SUMPRODUCT(COUNTIF($X$10,$AW19:$CA19)*(WEEKDAY($AW$10:$CA$10,2)<6)*(COUNTIF(jours_fériés,$AW$10:$CA$10)=0)) -> 0 | Y19: =SUMPRODUCT(COUNTIF($Y$10,$AW19:$CA19)*(WEEKDAY($AW$10:$CA$10,2)<6)*(COUNTIF(jours_fériés,$AW$10:$CA$10)=0)) -> 0 | Z19: =SUMPRODUCT(COUNTIF($Z$10,$AW19:$CA19)*(WEEKDAY($AW$10:$CA$10,2)<6)*(COUNTIF(jours_fériés,$AW$10:$CA$10)=0)) -> 0 | AA19: =SUMPRODUCT(COUNTIF($AA$10,$AW19:$CA19)*(WEEKDAY($AW$10:$CA$10,2)<6)*(COUNTIF(jours_fériés,$AW$10:$CA$10)=0)) -> 0 | AB19: =($U$8)-SUM($J19:$AA19) -> 20 | AC19: =SUMPRODUCT(COUNTIF($AC$10,$AW19:$CA19)) -> 0 | AD19: =SUMPRODUCT(COUNTIF($AD$10,$AW19:$CA19)) -> 0 | AE19: =SUMPRODUCT(COUNTIF($AE$10,$AW19:$CA19)) -> 0 | AF19: =SUMPRODUCT(COUNTIF($AF$10,$AW19:$CA19)) -> 0 | AG19: =SUMPRODUCT(COUNTIF($AG$10,$AW19:$CA19)) -> 0 | AH19: =SUMPRODUCT(COUNTIF($AH$10,$AW19:$CA19)) -> 0 | AI19: =SUMPRODUCT(COUNTIF($AI$10,$AW19:$CA19)) -> 0 | AJ19: =SUMPRODUCT(COUNTIF($AJ$10,$AW19:$CA19)) -> 0 | AK19: =SUMPRODUCT(COUNTIF($AK$10,$AW19:$CA19)) -> 0 | AL19: =SUM($AF19:$AK19) -> 0 | AM19: =SUMPRODUCT(COUNTIF($AM$10,$AW19:$CA19)) -> 0 | AN19: =SUMPRODUCT(COUNTIF($AN$10,$AW19:$CA19)) -> 0 | AO19: =SUMPRODUCT(COUNTIF($AO$10,$AW19:$CA19)) -> 0 | AP19: =SUMPRODUCT(COUNTIF($AP$10,$AW19:$CA19)) -> 0 | AQ19: =SUMPRODUCT(COUNTIF($AQ$10,$AW19:$CA19)) -> 0 | AR19: =SUMPRODUCT(COUNTIF($AR$10,$AW19:$CA19)) -> 0 | AS19: =SUMPRODUCT(COUNTIF($AS$10,$AW19:$CA19)) -> 0 | AT19: =SUMPRODUCT(COUNTIF($AT$10,$AW19:$CA19)) -> 0 | AU19: =SUMPRODUCT(COUNTIF($AU$10,$AW19:$CA19)) -> 0 | AV19: =SUMPRODUCT(COUNTIF($AV$10,$AW19:$CA19)) -> 0
A20: =[1]PERSONNELS!B15 -> S1 | B20: =[1]PERSONNELS!C15 -> SGT | E20: =[1]PERSONNELS!F15 -> 0 | G20: =$AW$8 -> 42675 | H20: =SUMPRODUCT(COUNTIF($H$10,$AW20:$CA20)*(WEEKDAY($AW$10:$CA$10,2)<6)*(COUNTIF(jours_fériés,$AW$10:$CA$10)=0)) -> 0 | I20: =SUMPRODUCT(COUNTIF($I$10,$AW20:$CA20)*(WEEKDAY($AW$10:$CA$10,2)<6)*(COUNTIF(jours_fériés,$AW$10:$CA$10)=0))/2 -> 0 | J20: =SUM(H20:I20) -> 0 | K20: =SUMPRODUCT(COUNTIF($K$10,$AW20:$CA20)*(WEEKDAY($AW$10:$CA$10,2)<6)*(COUNTIF(jours_fériés,$AW$10:$CA$10)=0)) -> 0 | L20: =SUMPRODUCT(COUNTIF($L$10,$AW20:$CA20)*(WEEKDAY($AW$10:$CA$10,2)<6)*(COUNTIF(jours_fériés,$AW$10:$CA$10)=0)) -> 0 | M20: =SUMPRODUCT(COUNTIF($M$10,$AW20:$CA20)*(WEEKDAY($AW$10:$CA$10,2)<6)*(COUNTIF(jours_fériés,$AW$10:$CA$10)=0)) -> 0 | N20: =SUMPRODUCT(COUNTIF($N$10,$AW20:$CA20)*(WEEKDAY($AW$10:$CA$10,2)<6)*(COUNTIF(jours_fériés,$AW$10:$CA$10)=0)) -> 0 | O20: =SUMPRODUCT(COUNTIF($O$10,$AW20:$CA20)*(WEEKDAY($AW$10:$CA$10,2)<6)*(COUNTIF(jours_fériés,$AW$10:$CA$10)=0)) -> 0 | P20: =SUMPRODUCT(COUNTIF($P$10,$AW20:$CA20)*(WEEKDAY($AW$10:$CA$10,2)<6)*(COUNTIF(jours_fériés,$AW$10:$CA$10)=0)) -> 0 | Q20: =SUMPRODUCT(COUNTIF($Q$10,$AW20:$CA20)*(WEEKDAY($AW$10:$CA$10,2)<6)*(COUNTIF(jours_fériés,$AW$10:$CA$10)=0)) -> 0 | R20: =SUMPRODUCT(COUNTIF($R$10,$AW20:$CA20)*(WEEKDAY($AW$10:$CA$10,2)<6)*(COUNTIF(jours_fériés,$AW$10:$CA$10)=0)) -> 0 | S20: =SUMPRODUCT(COUNTIF($S$10,$AW20:$CA20)*(WEEKDAY($AW$10:$CA$10,2)<6)*(COUNTIF(jours_fériés,$AW$10:$CA$10)=0)) -> 0 | T20: =SUMPRODUCT(COUNTIF($T$10,$AW20:$CA20)*(WEEKDAY($AW$10:$CA$10,2)<6)*(COUNTIF(jours_fériés,$AW$10:$CA$10)=0)) -> 0 | U20: =SUMPRODUCT(COUNTIF($U$10,$AW20:$CA20)*(WEEKDAY($AW$10:$CA$10,2)<6)*(COUNTIF(jours_fériés,$AW$10:$CA$10)=0)) -> 0 | V20: =SUMPRODUCT(COUNTIF($V$10,$AW20:$CA20)*(WEEKDAY($AW$10:$CA$10,2)<6)*(COUNTIF(jours_fériés,$AW$10:$CA$10)=0)) -> 0 | W20: =SUMPRODUCT(COUNTIF($W$10,$AW20:$CA20)*(WEEKDAY($AW$10:$CA$10,2)<6)*(COUNTIF(jours_fériés,$AW$10:$CA$10)=0)) -> 0 | X20: =SUMPRODUCT(COUNTIF($X$10,$AW20:$CA20)*(WEEKDAY($AW$10:$CA$10,2)<6)*(COUNTIF(jours_fériés,$AW$10:$CA$10)=0)) -> 0 | Y20: =SUMPRODUCT(COUNTIF($Y$10,$AW20:$CA20)*(WEEKDAY($AW$10:$CA$10,2)<6)*(COUNTIF(jours_fériés,$AW$10:$CA$10)=0)) -> 0 | Z20: =SUMPRODUCT(COUNTIF($Z$10,$AW20:$CA20)*(WEEKDAY($AW$10:$CA$10,2)<6)*(COUNTIF(jours_fériés,$AW$10:$CA$10)=0)) -> 0 | AA20: =SUMPRODUCT(COUNTIF($AA$10,$AW20:$CA20)*(WEEKDAY($AW$10:$CA$10,2)<6)*(COUNTIF(jours_fériés,$AW$10:$CA$10)=0)) -> 0 | AB20: =($U$8)-SUM($J20:$AA20) -> 20 | AC20: =SUMPRODUCT(COUNTIF($AC$10,$AW20:$CA20)) -> 0 | AD20: =SUMPRODUCT(COUNTIF($AD$10,$AW20:$CA20)) -> 0 | AE20: =SUMPRODUCT(COUNTIF($AE$10,$AW20:$CA20)) -> 0 | AF20: =SUMPRODUCT(COUNTIF($AF$10,$AW20:$CA20)) -> 0 | AG20: =SUMPRODUCT(COUNTIF($AG$10,$AW20:$CA20)) -> 0 | AH20: =SUMPRODUCT(COUNTIF($AH$10,$AW20:$CA20)) -> 0 | AI20: =SUMPRODUCT(COUNTIF($AI$10,$AW20:$CA20)) -> 0 | AJ20: =SUMPRODUCT(COUNTIF($AJ$10,$AW20:$CA20)) -> 0 | AK20: =SUMPRODUCT(COUNTIF($AK$10,$AW20:$CA20)) -> 0 | AL20: =SUM($AF20:$AK20) -> 0 | AM20: =SUMPRODUCT(COUNTIF($AM$10,$AW20:$CA20)) -> 0 | AN20: =SUMPRODUCT(COUNTIF($AN$10,$AW20:$CA20)) -> 0 | AO20: =SUMPRODUCT(COUNTIF($AO$10,$AW20:$CA20)) -> 0 | AP20: =SUMPRODUCT(COUNTIF($AP$10,$AW20:$CA20)) -> 0 | AQ20: =SUMPRODUCT(COUNTIF($AQ$10,$AW20:$CA20)) -> 0 | AR20: =SUMPRODUCT(COUNTIF($AR$10,$AW20:$CA20)) -> 0 | AS20: =SUMPRODUCT(COUNTIF($AS$10,$AW20:$CA20)) -> 0 | AT20: =SUMPRODUCT(COUNTIF($AT$10,$AW20:$CA20)) -> 0 | AU20: =SUMPRODUCT(COUNTIF($AU$10,$AW20:$CA20)) -> 0 | AV20: =SUMPRODUCT(COUNTIF($AV$10,$AW20:$CA20)) -> 0
A21: =[1]PERSONNELS!B16 -> S1 | B21: =[1]PERSONNELS!C16 -> SGT | E21: =[1]PERSONNELS!F16 -> 0 | G21: =$AW$8 -> 42675 | H21: =SUMPRODUCT(COUNTIF($H$10,$AW21:$CA21)*(WEEKDAY($AW$10:$CA$10,2)<6)*(COUNTIF(jours_fériés,$AW$10:$CA$10)=0)) -> 0 | I21: =SUMPRODUCT(COUNTIF($I$10,$AW21:$CA21)*(WEEKDAY($AW$10:$CA$10,2)<6)*(COUNTIF(jours_fériés,$AW$10:$CA$10)=0))/2 -> 0 | J21: =SUM(H21:I21) -> 0 | K21: =SUMPRODUCT(COUNTIF($K$10,$AW21:$CA21)*(WEEKDAY($AW$10:$CA$10,2)<6)*(COUNTIF(jours_fériés,$AW$10:$CA$10)=0)) -> 0 | L21: =SUMPRODUCT(COUNTIF($L$10,$AW21:$CA21)*(WEEKDAY($AW$10:$CA$10,2)<6)*(COUNTIF(jours_fériés,$AW$10:$CA$10)=0)) -> 0 | M21: =SUMPRODUCT(COUNTIF($M$10,$AW21:$CA21)*(WEEKDAY($AW$10:$CA$10,2)<6)*(COUNTIF(jours_fériés,$AW$10:$CA$10)=0)) -> 0 | N21: =SUMPRODUCT(COUNTIF($N$10,$AW21:$CA21)*(WEEKDAY($AW$10:$CA$10,2)<6)*(COUNTIF(jours_fériés,$AW$10:$CA$10)=0)) -> 0 | O21: =SUMPRODUCT(COUNTIF($O$10,$AW21:$CA21)*(WEEKDAY($AW$10:$CA$10,2)<6)*(COUNTIF(jours_fériés,$AW$10:$CA$10)=0)) -> 0 | P21: =SUMPRODUCT(COUNTIF($P$10,$AW21:$CA21)*(WEEKDAY($AW$10:$CA$10,2)<6)*(COUNTIF(jours_fériés,$AW$10:$CA$10)=0)) -> 0 | Q21: =SUMPRODUCT(COUNTIF($Q$10,$AW21:$CA21)*(WEEKDAY($AW$10:$CA$10,2)<6)*(COUNTIF(jours_fériés,$AW$10:$CA$10)=0)) -> 0 | R21: =SUMPRODUCT(COUNTIF($R$10,$AW21:$CA21)*(WEEKDAY($AW$10:$CA$10,2)<6)*(COUNTIF(jours_fériés,$AW$10:$CA$10)=0)) -> 0 | S21: =SUMPRODUCT(COUNTIF($S$10,$AW21:$CA21)*(WEEKDAY($AW$10:$CA$10,2)<6)*(COUNTIF(jours_fériés,$AW$10:$CA$10)=0)) -> 0 | T21: =SUMPRODUCT(COUNTIF($T$10,$AW21:$CA21)*(WEEKDAY($AW$10:$CA$10,2)<6)*(COUNTIF(jours_fériés,$AW$10:$CA$10)=0)) -> 0 | U21: =SUMPRODUCT(COUNTIF($U$10,$AW21:$CA21)*(WEEKDAY($AW$10:$CA$10,2)<6)*(COUNTIF(jours_fériés,$AW$10:$CA$10)=0)) -> 0 | V21: =SUMPRODUCT(COUNTIF($V$10,$AW21:$CA21)*(WEEKDAY($AW$10:$CA$10,2)<6)*(COUNTIF(jours_fériés,$AW$10:$CA$10)=0)) -> 0 | W21: =SUMPRODUCT(COUNTIF($W$10,$AW21:$CA21)*(WEEKDAY($AW$10:$CA$10,2)<6)*(COUNTIF(jours_fériés,$AW$10:$CA$10)=0)) -> 0 | X21: =SUMPRODUCT(COUNTIF($X$10,$AW21:$CA21)*(WEEKDAY($AW$10:$CA$10,2)<6)*(COUNTIF(jours_fériés,$AW$10:$CA$10)=0)) -> 0 | Y21: =SUMPRODUCT(COUNTIF($Y$10,$AW21:$CA21)*(WEEKDAY($AW$10:$CA$10,2)<6)*(COUNTIF(jours_fériés,$AW$10:$CA$10)=0)) -> 0 | Z21: =SUMPRODUCT(COUNTIF($Z$10,$AW21:$CA21)*(WEEKDAY($AW$10:$CA$10,2)<6)*(COUNTIF(jours_fériés,$AW$10:$CA$10)=0)) -> 0 | AA21: =SUMPRODUCT(COUNTIF($AA$10,$AW21:$CA21)*(WEEKDAY($AW$10:$CA$10,2)<6)*(COUNTIF(jours_fériés,$AW$10:$CA$10)=0)) -> 0 | AB21: =($U$8)-SUM($J21:$AA21) -> 20 | AC21: =SUMPRODUCT(COUNTIF($AC$10,$AW21:$CA21)) -> 0 | AD21: =SUMPRODUCT(COUNTIF($AD$10,$AW21:$CA21)) -> 0 | AE21: =SUMPRODUCT(COUNTIF($AE$10,$AW21:$CA21)) -> 0 | AF21: =SUMPRODUCT(COUNTIF($AF$10,$AW21:$CA21)) -> 0 | AG21: =SUMPRODUCT(COUNTIF($AG$10,$AW21:$CA21)) -> 0 | AH21: =SUMPRODUCT(COUNTIF($AH$10,$AW21:$CA21)) -> 0 | AI21: =SUMPRODUCT(COUNTIF($AI$10,$AW21:$CA21)) -> 0 | AJ21: =SUMPRODUCT(COUNTIF($AJ$10,$AW21:$CA21)) -> 0 | AK21: =SUMPRODUCT(COUNTIF($AK$10,$AW21:$CA21)) -> 0 | AL21: =SUM($AF21:$AK21) -> 0 | AM21: =SUMPRODUCT(COUNTIF($AM$10,$AW21:$CA21)) -> 0 | AN21: =SUMPRODUCT(COUNTIF($AN$10,$AW21:$CA21)) -> 0 | AO21: =SUMPRODUCT(COUNTIF($AO$10,$AW21:$CA21)) -> 0 | AP21: =SUMPRODUCT(COUNTIF($AP$10,$AW21:$CA21)) -> 0 | AQ21: =SUMPRODUCT(COUNTIF($AQ$10,$AW21:$CA21)) -> 0 | AR21: =SUMPRODUCT(COUNTIF($AR$10,$AW21:$CA21)) -> 0 | AS21: =SUMPRODUCT(COUNTIF($AS$10,$AW21:$CA21)) -> 0 | AT21: =SUMPRODUCT(COUNTIF($AT$10,$AW21:$CA21)) -> 0 | AU21: =SUMPRODUCT(COUNTIF($AU$10,$AW21:$CA21)) -> 0 | AV21: =SUMPRODUCT(COUNTIF($AV$10,$AW21:$CA21)) -> 0
A22: =[1]PERSONNELS!B17 -> S1 | B22: =[1]PERSONNELS!C17 -> SGT | E22: =[1]PERSONNELS!F17 -> 0 | G22: =$AW$8 -> 42675 | H22: =SUMPRODUCT(COUNTIF($H$10,$AW22:$CA22)*(WEEKDAY($AW$10:$CA$10,2)<6)*(COUNTIF(jours_fériés,$AW$10:$CA$10)=0)) -> 0 | I22: =SUMPRODUCT(COUNTIF($I$10,$AW22:$CA22)*(WEEKDAY($AW$10:$CA$10,2)<6)*(COUNTIF(jours_fériés,$AW$10:$CA$10)=0))/2 -> 0 | J22: =SUM(H22:I22) -> 0 | K22: =SUMPRODUCT(COUNTIF($K$10,$AW22:$CA22)*(WEEKDAY($AW$10:$CA$10,2)<6)*(COUNTIF(jours_fériés,$AW$10:$CA$10)=0)) -> 0 | L22: =SUMPRODUCT(COUNTIF($L$10,$AW22:$CA22)*(WEEKDAY($AW$10:$CA$10,2)<6)*(COUNTIF(jours_fériés,$AW$10:$CA$10)=0)) -> 0 | M22: =SUMPRODUCT(COUNTIF($M$10,$AW22:$CA22)*(WEEKDAY($AW$10:$CA$10,2)<6)*(COUNTIF(jours_fériés,$AW$10:$CA$10)=0)) -> 0 | N22: =SUMPRODUCT(COUNTIF($N$10,$AW22:$CA22)*(WEEKDAY($AW$10:$CA$10,2)<6)*(COUNTIF(jours_fériés,$AW$10:$CA$10)=0)) -> 0 | O22: =SUMPRODUCT(COUNTIF($O$10,$AW22:$CA22)*(WEEKDAY($AW$10:$CA$10,2)<6)*(COUNTIF(jours_fériés,$AW$10:$CA$10)=0)) -> 0 | P22: =SUMPRODUCT(COUNTIF($P$10,$AW22:$CA22)*(WEEKDAY($AW$10:$CA$10,2)<6)*(COUNTIF(jours_fériés,$AW$10:$CA$10)=0)) -> 0 | Q22: =SUMPRODUCT(COUNTIF($Q$10,$AW22:$CA22)*(WEEKDAY($AW$10:$CA$10,2)<6)*(COUNTIF(jours_fériés,$AW$10:$CA$10)=0)) -> 0 | R22: =SUMPRODUCT(COUNTIF($R$10,$AW22:$CA22)*(WEEKDAY($AW$10:$CA$10,2)<6)*(COUNTIF(jours_fériés,$AW$10:$CA$10)=0)) -> 0 | S22: =SUMPRODUCT(COUNTIF($S$10,$AW22:$CA22)*(WEEKDAY($AW$10:$CA$10,2)<6)*(COUNTIF(jours_fériés,$AW$10:$CA$10)=0)) -> 0 | T22: =SUMPRODUCT(COUNTIF($T$10,$AW22:$CA22)*(WEEKDAY($AW$10:$CA$10,2)<6)*(COUNTIF(jours_fériés,$AW$10:$CA$10)=0)) -> 0 | U22: =SUMPRODUCT(COUNTIF($U$10,$AW22:$CA22)*(WEEKDAY($AW$10:$CA$10,2)<6)*(COUNTIF(jours_fériés,$AW$10:$CA$10)=0)) -> 0 | V22: =SUMPRODUCT(COUNTIF($V$10,$AW22:$CA22)*(WEEKDAY($AW$10:$CA$10,2)<6)*(COUNTIF(jours_fériés,$AW$10:$CA$10)=0)) -> 0 | W22: =SUMPRODUCT(COUNTIF($W$10,$AW22:$CA22)*(WEEKDAY($AW$10:$CA$10,2)<6)*(COUNTIF(jours_fériés,$AW$10:$CA$10)=0)) -> 0 | X22: =SUMPRODUCT(COUNTIF($X$10,$AW22:$CA22)*(WEEKDAY($AW$10:$CA$10,2)<6)*(COUNTIF(jours_fériés,$AW$10:$CA$10)=0)) -> 0 | Y22: =SUMPRODUCT(COUNTIF($Y$10,$AW22:$CA22)*(WEEKDAY($AW$10:$CA$10,2)<6)*(COUNTIF(jours_fériés,$AW$10:$CA$10)=0)) -> 0 | Z22: =SUMPRODUCT(COUNTIF($Z$10,$AW22:$CA22)*(WEEKDAY($AW$10:$CA$10,2)<6)*(COUNTIF(jours_fériés,$AW$10:$CA$10)=0)) -> 0 | AA22: =SUMPRODUCT(COUNTIF($AA$10,$AW22:$CA22)*(WEEKDAY($AW$10:$CA$10,2)<6)*(COUNTIF(jours_fériés,$AW$10:$CA$10)=0)) -> 0 | AB22: =($U$8)-SUM($J22:$AA22) -> 20 | AC22: =SUMPRODUCT(COUNTIF($AC$10,$AW22:$CA22)) -> 0 | AD22: =SUMPRODUCT(COUNTIF($AD$10,$AW22:$CA22)) -> 0 | AE22: =SUMPRODUCT(COUNTIF($AE$10,$AW22:$CA22)) -> 0 | AF22: =SUMPRODUCT(COUNTIF($AF$10,$AW22:$CA22)) -> 0 | AG22: =SUMPRODUCT(COUNTIF($AG$10,$AW22:$CA22)) -> 0 | AH22: =SUMPRODUCT(COUNTIF($AH$10,$AW22:$CA22)) -> 0 | AI22: =SUMPRODUCT(COUNTIF($AI$10,$AW22:$CA22)) -> 0 | AJ22: =SUMPRODUCT(COUNTIF($AJ$10,$AW22:$CA22)) -> 0 | AK22: =SUMPRODUCT(COUNTIF($AK$10,$AW22:$CA22)) -> 0 | AL22: =SUM($AF22:$AK22) -> 0 | AM22: =SUMPRODUCT(COUNTIF($AM$10,$AW22:$CA22)) -> 0 | AN22: =SUMPRODUCT(COUNTIF($AN$10,$AW22:$CA22)) -> 0 | AO22: =SUMPRODUCT(COUNTIF($AO$10,$AW22:$CA22)) -> 0 | AP22: =SUMPRODUCT(COUNTIF($AP$10,$AW22:$CA22)) -> 0 | AQ22: =SUMPRODUCT(COUNTIF($AQ$10,$AW22:$CA22)) -> 0 | AR22: =SUMPRODUCT(COUNTIF($AR$10,$AW22:$CA22)) -> 0 | AS22: =SUMPRODUCT(COUNTIF($AS$10,$AW22:$CA22)) -> 0 | AT22: =SUMPRODUCT(COUNTIF($AT$10,$AW22:$CA22)) -> 0 | AU22: =SUMPRODUCT(COUNTIF($AU$10,$AW22:$CA22)) -> 0 | AV22: =SUMPRODUCT(COUNTIF($AV$10,$AW22:$CA22)) -> 0
A23: =[1]PERSONNELS!B18 -> S1 | B23: =[1]PERSONNELS!C18 -> CC1 | E23: =[1]PERSONNELS!F18 -> 0 | G23: =$AW$8 -> 42675 | H23: =SUMPRODUCT(COUNTIF($H$10,$AW23:$CA23)*(WEEKDAY($AW$10:$CA$10,2)<6)*(COUNTIF(jours_fériés,$AW$10:$CA$10)=0)) -> 0 | I23: =SUMPRODUCT(COUNTIF($I$10,$AW23:$CA23)*(WEEKDAY($AW$10:$CA$10,2)<6)*(COUNTIF(jours_fériés,$AW$10:$CA$10)=0))/2 -> 0 | J23: =SUM(H23:I23) -> 0 | K23: =SUMPRODUCT(COUNTIF($K$10,$AW23:$CA23)*(WEEKDAY($AW$10:$CA$10,2)<6)*(COUNTIF(jours_fériés,$AW$10:$CA$10)=0)) -> 0 | L23: =SUMPRODUCT(COUNTIF($L$10,$AW23:$CA23)*(WEEKDAY($AW$10:$CA$10,2)<6)*(COUNTIF(jours_fériés,$AW$10:$CA$10)=0)) -> 0 | M23: =SUMPRODUCT(COUNTIF($M$10,$AW23:$CA23)*(WEEKDAY($AW$10:$CA$10,2)<6)*(COUNTIF(jours_fériés,$AW$10:$CA$10)=0)) -> 0 | N23: =SUMPRODUCT(COUNTIF($N$10,$AW23:$CA23)*(WEEKDAY($AW$10:$CA$10,2)<6)*(COUNTIF(jours_fériés,$AW$10:$CA$10)=0)) -> 0 | O23: =SUMPRODUCT(COUNTIF($O$10,$AW23:$CA23)*(WEEKDAY($AW$10:$CA$10,2)<6)*(COUNTIF(jours_fériés,$AW$10:$CA$10)=0)) -> 0 | P23: =SUMPRODUCT(COUNTIF($P$10,$AW23:$CA23)*(WEEKDAY($AW$10:$CA$10,2)<6)*(COUNTIF(jours_fériés,$AW$10:$CA$10)=0)) -> 0 | Q23: =SUMPRODUCT(COUNTIF($Q$10,$AW23:$CA23)*(WEEKDAY($AW$10:$CA$10,2)<6)*(COUNTIF(jours_fériés,$AW$10:$CA$10)=0)) -> 0 | R23: =SUMPRODUCT(COUNTIF($R$10,$AW23:$CA23)*(WEEKDAY($AW$10:$CA$10,2)<6)*(COUNTIF(jours_fériés,$AW$10:$CA$10)=0)) -> 0 | S23: =SUMPRODUCT(COUNTIF($S$10,$AW23:$CA23)*(WEEKDAY($AW$10:$CA$10,2)<6)*(COUNTIF(jours_fériés,$AW$10:$CA$10)=0)) -> 0 | T23: =SUMPRODUCT(COUNTIF($T$10,$AW23:$CA23)*(WEEKDAY($AW$10:$CA$10,2)<6)*(COUNTIF(jours_fériés,$AW$10:$CA$10)=0)) -> 0 | U23: =SUMPRODUCT(COUNTIF($U$10,$AW23:$CA23)*(WEEKDAY($AW$10:$CA$10,2)<6)*(COUNTIF(jours_fériés,$AW$10:$CA$10)=0)) -> 0 | V23: =SUMPRODUCT(COUNTIF($V$10,$AW23:$CA23)*(WEEKDAY($AW$10:$CA$10,2)<6)*(COUNTIF(jours_fériés,$AW$10:$CA$10)=0)) -> 0 | W23: =SUMPRODUCT(COUNTIF($W$10,$AW23:$CA23)*(WEEKDAY($AW$10:$CA$10,2)<6)*(COUNTIF(jours_fériés,$AW$10:$CA$10)=0)) -> 0 | X23: =SUMPRODUCT(COUNTIF($X$10,$AW23:$CA23)*(WEEKDAY($AW$10:$CA$10,2)<6)*(COUNTIF(jours_fériés,$AW$10:$CA$10)=0)) -> 0 | Y23: =SUMPRODUCT(COUNTIF($Y$10,$AW23:$CA23)*(WEEKDAY($AW$10:$CA$10,2)<6)*(COUNTIF(jours_fériés,$AW$10:$CA$10)=0)) -> 0 | Z23: =SUMPRODUCT(COUNTIF($Z$10,$AW23:$CA23)*(WEEKDAY($AW$10:$CA$10,2)<6)*(COUNTIF(jours_fériés,$AW$10:$CA$10)=0)) -> 0 | AA23: =SUMPRODUCT(COUNTIF($AA$10,$AW23:$CA23)*(WEEKDAY($AW$10:$CA$10,2)<6)*(COUNTIF(jours_fériés,$AW$10:$CA$10)=0)) -> 0 | AB23: =($U$8)-SUM($J23:$AA23) -> 20 | AC23: =SUMPRODUCT(COUNTIF($AC$10,$AW23:$CA23)) -> 0 | AD23: =SUMPRODUCT(COUNTIF($AD$10,$AW23:$CA23)) -> 0 | AE23: =SUMPRODUCT(COUNTIF($AE$10,$AW23:$CA23)) -> 0 | AF23: =SUMPRODUCT(COUNTIF($AF$10,$AW23:$CA23)) -> 0 | AG23: =SUMPRODUCT(COUNTIF($AG$10,$AW23:$CA23)) -> 0 | AH23: =SUMPRODUCT(COUNTIF($AH$10,$AW23:$CA23)) -> 0 | AI23: =SUMPRODUCT(COUNTIF($AI$10,$AW23:$CA23)) -> 0 | AJ23: =SUMPRODUCT(COUNTIF($AJ$10,$AW23:$CA23)) -> 0 | AK23: =SUMPRODUCT(COUNTIF($AK$10,$AW23:$CA23)) -> 0 | AL23: =SUM($AF23:$AK23) -> 0 | AM23: =SUMPRODUCT(COUNTIF($AM$10,$AW23:$CA23)) -> 0 | AN23: =SUMPRODUCT(COUNTIF($AN$10,$AW23:$CA23)) -> 0 | AO23: =SUMPRODUCT(COUNTIF($AO$10,$AW23:$CA23)) -> 0 | AP23: =SUMPRODUCT(COUNTIF($AP$10,$AW23:$CA23)) -> 0 | AQ23: =SUMPRODUCT(COUNTIF($AQ$10,$AW23:$CA23)) -> 0 | AR23: =SUMPRODUCT(COUNTIF($AR$10,$AW23:$CA23)) -> 0 | AS23: =SUMPRODUCT(COUNTIF($AS$10,$AW23:$CA23)) -> 0 | AT23: =SUMPRODUCT(COUNTIF($AT$10,$AW23:$CA23)) -> 0 | AU23: =SUMPRODUCT(COUNTIF($AU$10,$AW23:$CA23)) -> 0 | AV23: =SUMPRODUCT(COUNTIF($AV$10,$AW23:$CA23)) -> 0
A24: =[1]PERSONNELS!B19 -> S1 | B24: =[1]PERSONNELS!C19 -> CC1 | E24: =[1]PERSONNELS!F19 -> 0 | G24: =$AW$8 -> 42675 | H24: =SUMPRODUCT(COUNTIF($H$10,$AW24:$CA24)*(WEEKDAY($AW$10:$CA$10,2)<6)*(COUNTIF(jours_fériés,$AW$10:$CA$10)=0)) -> 0 | I24: =SUMPRODUCT(COUNTIF($I$10,$AW24:$CA24)*(WEEKDAY($AW$10:$CA$10,2)<6)*(COUNTIF(jours_fériés,$AW$10:$CA$10)=0))/2 -> 0 | J24: =SUM(H24:I24) -> 0 | K24: =SUMPRODUCT(COUNTIF($K$10,$AW24:$CA24)*(WEEKDAY($AW$10:$CA$10,2)<6)*(COUNTIF(jours_fériés,$AW$10:$CA$10)=0)) -> 0 | L24: =SUMPRODUCT(COUNTIF($L$10,$AW24:$CA24)*(WEEKDAY($AW$10:$CA$10,2)<6)*(COUNTIF(jours_fériés,$AW$10:$CA$10)=0)) -> 0 | M24: =SUMPRODUCT(COUNTIF($M$10,$AW24:$CA24)*(WEEKDAY($AW$10:$CA$10,2)<6)*(COUNTIF(jours_fériés,$AW$10:$CA$10)=0)) -> 0 | N24: =SUMPRODUCT(COUNTIF($N$10,$AW24:$CA24)*(WEEKDAY($AW$10:$CA$10,2)<6)*(COUNTIF(jours_fériés,$AW$10:$CA$10)=0)) -> 0 | O24: =SUMPRODUCT(COUNTIF($O$10,$AW24:$CA24)*(WEEKDAY($AW$10:$CA$10,2)<6)*(COUNTIF(jours_fériés,$AW$10:$CA$10)=0)) -> 0 | P24: =SUMPRODUCT(COUNTIF($P$10,$AW24:$CA24)*(WEEKDAY($AW$10:$CA$10,2)<6)*(COUNTIF(jours_fériés,$AW$10:$CA$10)=0)) -> 0 | Q24: =SUMPRODUCT(COUNTIF($Q$10,$AW24:$CA24)*(WEEKDAY($AW$10:$CA$10,2)<6)*(COUNTIF(jours_fériés,$AW$10:$CA$10)=0)) -> 0 | R24: =SUMPRODUCT(COUNTIF($R$10,$AW24:$CA24)*(WEEKDAY($AW$10:$CA$10,2)<6)*(COUNTIF(jours_fériés,$AW$10:$CA$10)=0)) -> 0 | S24: =SUMPRODUCT(COUNTIF($S$10,$AW24:$CA24)*(WEEKDAY($AW$10:$CA$10,2)<6)*(COUNTIF(jours_fériés,$AW$10:$CA$10)=0)) -> 0 | T24: =SUMPRODUCT(COUNTIF($T$10,$AW24:$CA24)*(WEEKDAY($AW$10:$CA$10,2)<6)*(COUNTIF(jours_fériés,$AW$10:$CA$10)=0)) -> 0 | U24: =SUMPRODUCT(COUNTIF($U$10,$AW24:$CA24)*(WEEKDAY($AW$10:$CA$10,2)<6)*(COUNTIF(jours_fériés,$AW$10:$CA$10)=0)) -> 0 | V24: =SUMPRODUCT(COUNTIF($V$10,$AW24:$CA24)*(WEEKDAY($AW$10:$CA$10,2)<6)*(COUNTIF(jours_fériés,$AW$10:$CA$10)=0)) -> 0 | W24: =SUMPRODUCT(COUNTIF($W$10,$AW24:$CA24)*(WEEKDAY($AW$10:$CA$10,2)<6)*(COUNTIF(jours_fériés,$AW$10:$CA$10)=0)) -> 0 | X24: =SUMPRODUCT(COUNTIF($X$10,$AW24:$CA24)*(WEEKDAY($AW$10:$CA$10,2)<6)*(COUNTIF(jours_fériés,$AW$10:$CA$10)=0)) -> 0 | Y24: =SUMPRODUCT(COUNTIF($Y$10,$AW24:$CA24)*(WEEKDAY($AW$10:$CA$10,2)<6)*(COUNTIF(jours_fériés,$AW$10:$CA$10)=0)) -> 0 | Z24: =SUMPRODUCT(COUNTIF($Z$10,$AW24:$CA24)*(WEEKDAY($AW$10:$CA$10,2)<6)*(COUNTIF(jours_fériés,$AW$10:$CA$10)=0)) -> 0 | AA24: =SUMPRODUCT(COUNTIF($AA$10,$AW24:$CA24)*(WEEKDAY($AW$10:$CA$10,2)<6)*(COUNTIF(jours_fériés,$AW$10:$CA$10)=0)) -> 0 | AB24: =($U$8)-SUM($J24:$AA24) -> 20 | AC24: =SUMPRODUCT(COUNTIF($AC$10,$AW24:$CA24)) -> 0 | AD24: =SUMPRODUCT(COUNTIF($AD$10,$AW24:$CA24)) -> 0 | AE24: =SUMPRODUCT(COUNTIF($AE$10,$AW24:$CA24)) -> 0 | AF24: =SUMPRODUCT(COUNTIF($AF$10,$AW24:$CA24)) -> 0 | AG24: =SUMPRODUCT(COUNTIF($AG$10,$AW24:$CA24)) -> 0 | AH24: =SUMPRODUCT(COUNTIF($AH$10,$AW24:$CA24)) -> 0 | AI24: =SUMPRODUCT(COUNTIF($AI$10,$AW24:$CA24)) -> 0 | AJ24: =SUMPRODUCT(COUNTIF($AJ$10,$AW24:$CA24)) -> 0 | AK24: =SUMPRODUCT(COUNTIF($AK$10,$AW24:$CA24)) -> 0 | AL24: =SUM($AF24:$AK24) -> 0 | AM24: =SUMPRODUCT(COUNTIF($AM$10,$AW24:$CA24)) -> 0 | AN24: =SUMPRODUCT(COUNTIF($AN$10,$AW24:$CA24)) -> 0 | AO24: =SUMPRODUCT(COUNTIF($AO$10,$AW24:$CA24)) -> 0 | AP24: =SUMPRODUCT(COUNTIF($AP$10,$AW24:$CA24)) -> 0 | AQ24: =SUMPRODUCT(COUNTIF($AQ$10,$AW24:$CA24)) -> 0 | AR24: =SUMPRODUCT(COUNTIF($AR$10,$AW24:$CA24)) -> 0 | AS24: =SUMPRODUCT(COUNTIF($AS$10,$AW24:$CA24)) -> 0 | AT24: =SUMPRODUCT(COUNTIF($AT$10,$AW24:$CA24)) -> 0 | AU24: =SUMPRODUCT(COUNTIF($AU$10,$AW24:$CA24)) -> 0 | AV24: =SUMPRODUCT(COUNTIF($AV$10,$AW24:$CA24)) -> 0
A25: =[1]PERSONNELS!B20 -> S1 | B25: =[1]PERSONNELS!C20 -> CC1 | E25: =[1]PERSONNELS!F20 -> 0 | G25: =$AW$8 -> 42675 | H25: =SUMPRODUCT(COUNTIF($H$10,$AW25:$CA25)*(WEEKDAY($AW$10:$CA$10,2)<6)*(COUNTIF(jours_fériés,$AW$10:$CA$10)=0)) -> 0 | I25: =SUMPRODUCT(COUNTIF($I$10,$AW25:$CA25)*(WEEKDAY($AW$10:$CA$10,2)<6)*(COUNTIF(jours_fériés,$AW$10:$CA$10)=0))/2 -> 0 | J25: =SUM(H25:I25) -> 0 | K25: =SUMPRODUCT(COUNTIF($K$10,$AW25:$CA25)*(WEEKDAY($AW$10:$CA$10,2)<6)*(COUNTIF(jours_fériés,$AW$10:$CA$10)=0)) -> 0 | L25: =SUMPRODUCT(COUNTIF($L$10,$AW25:$CA25)*(WEEKDAY($AW$10:$CA$10,2)<6)*(COUNTIF(jours_fériés,$AW$10:$CA$10)=0)) -> 0 | M25: =SUMPRODUCT(COUNTIF($M$10,$AW25:$CA25)*(WEEKDAY($AW$10:$CA$10,2)<6)*(COUNTIF(jours_fériés,$AW$10:$CA$10)=0)) -> 0 | N25: =SUMPRODUCT(COUNTIF($N$10,$AW25:$CA25)*(WEEKDAY($AW$10:$CA$10,2)<6)*(COUNTIF(jours_fériés,$AW$10:$CA$10)=0)) -> 0 | O25: =SUMPRODUCT(COUNTIF($O$10,$AW25:$CA25)*(WEEKDAY($AW$10:$CA$10,2)<6)*(COUNTIF(jours_fériés,$AW$10:$CA$10)=0)) -> 0 | P25: =SUMPRODUCT(COUNTIF($P$10,$AW25:$CA25)*(WEEKDAY($AW$10:$CA$10,2)<6)*(COUNTIF(jours_fériés,$AW$10:$CA$10)=0)) -> 0 | Q25: =SUMPRODUCT(COUNTIF($Q$10,$AW25:$CA25)*(WEEKDAY($AW$10:$CA$10,2)<6)*(COUNTIF(jours_fériés,$AW$10:$CA$10)=0)) -> 0 | R25: =SUMPRODUCT(COUNTIF($R$10,$AW25:$CA25)*(WEEKDAY($AW$10:$CA$10,2)<6)*(COUNTIF(jours_fériés,$AW$10:$CA$10)=0)) -> 0 | S25: =SUMPRODUCT(COUNTIF($S$10,$AW25:$CA25)*(WEEKDAY($AW$10:$CA$10,2)<6)*(COUNTIF(jours_fériés,$AW$10:$CA$10)=0)) -> 0 | T25: =SUMPRODUCT(COUNTIF($T$10,$AW25:$CA25)*(WEEKDAY($AW$10:$CA$10,2)<6)*(COUNTIF(jours_fériés,$AW$10:$CA$10)=0)) -> 0 | U25: =SUMPRODUCT(COUNTIF($U$10,$AW25:$CA25)*(WEEKDAY($AW$10:$CA$10,2)<6)*(COUNTIF(jours_fériés,$AW$10:$CA$10)=0)) -> 0 | V25: =SUMPRODUCT(COUNTIF($V$10,$AW25:$CA25)*(WEEKDAY($AW$10:$CA$10,2)<6)*(COUNTIF(jours_fériés,$AW$10:$CA$10)=0)) -> 0 | W25: =SUMPRODUCT(COUNTIF($W$10,$AW25:$CA25)*(WEEKDAY($AW$10:$CA$10,2)<6)*(COUNTIF(jours_fériés,$AW$10:$CA$10)=0)) -> 0 | X25: =SUMPRODUCT(COUNTIF($X$10,$AW25:$CA25)*(WEEKDAY($AW$10:$CA$10,2)<6)*(COUNTIF(jours_fériés,$AW$10:$CA$10)=0)) -> 0 | Y25: =SUMPRODUCT(COUNTIF($Y$10,$AW25:$CA25)*(WEEKDAY($AW$10:$CA$10,2)<6)*(COUNTIF(jours_fériés,$AW$10:$CA$10)=0)) -> 0 | Z25: =SUMPRODUCT(COUNTIF($Z$10,$AW25:$CA25)*(WEEKDAY($AW$10:$CA$10,2)<6)*(COUNTIF(jours_fériés,$AW$10:$CA$10)=0)) -> 0 | AA25: =SUMPRODUCT(COUNTIF($AA$10,$AW25:$CA25)*(WEEKDAY($AW$10:$CA$10,2)<6)*(COUNTIF(jours_fériés,$AW$10:$CA$10)=0)) -> 0 | AB25: =($U$8)-SUM($J25:$AA25) -> 20 | AC25: =SUMPRODUCT(COUNTIF($AC$10,$AW25:$CA25)) -> 0 | AD25: =SUMPRODUCT(COUNTIF($AD$10,$AW25:$CA25)) -> 0 | AE25: =SUMPRODUCT(COUNTIF($AE$10,$AW25:$CA25)) -> 0 | AF25: =SUMPRODUCT(COUNTIF($AF$10,$AW25:$CA25)) -> 0 | AG25: =SUMPRODUCT(COUNTIF($AG$10,$AW25:$CA25)) -> 0 | AH25: =SUMPRODUCT(COUNTIF($AH$10,$AW25:$CA25)) -> 0 | AI25: =SUMPRODUCT(COUNTIF($AI$10,$AW25:$CA25)) -> 0 | AJ25: =SUMPRODUCT(COUNTIF($AJ$10,$AW25:$CA25)) -> 0 | AK25: =SUMPRODUCT(COUNTIF($AK$10,$AW25:$CA25)) -> 0 | AL25: =SUM($AF25:$AK25) -> 0 | AM25: =SUMPRODUCT(COUNTIF($AM$10,$AW25:$CA25)) -> 0 | AN25: =SUMPRODUCT(COUNTIF($AN$10,$AW25:$CA25)) -> 0 | AO25: =SUMPRODUCT(COUNTIF($AO$10,$AW25:$CA25)) -> 0 | AP25: =SUMPRODUCT(COUNTIF($AP$10,$AW25:$CA25)) -> 0 | AQ25: =SUMPRODUCT(COUNTIF($AQ$10,$AW25:$CA25)) -> 0 | AR25: =SUMPRODUCT(COUNTIF($AR$10,$AW25:$CA25)) -> 0 | AS25: =SUMPRODUCT(COUNTIF($AS$10,$AW25:$CA25)) -> 0 | AT25: =SUMPRODUCT(COUNTIF($AT$10,$AW25:$CA25)) -> 0 | AU25: =SUMPRODUCT(COUNTIF($AU$10,$AW25:$CA25)) -> 0 | AV25: =SUMPRODUCT(COUNTIF($AV$10,$AW25:$CA25)) -> 0
