Workbook
Name AAN: #REF!
Name AAN: #REF!
Name AmendDate: #REF!
Name AmendDate: #REF!
Name AmendExplain: #REF!
Name AmendExplain: #REF!
Name AmendNetProjBen: #REF!
Name AmendNetProjBen: #REF!
Name AN: #REF!
Name AN: #REF!
Name Ann: '[1]Facturation Mensuelle'!$A$1
Name Annee: #REF!
Name Annee: #REF!
Name Année: #REF!
Name Année: #REF!
Name AppCBBDate: #REF!
Name AppCBBDate: #REF!
Name AppCBBName: #REF!
Name AppCBBName: #REF!
Name AppCCorpSCName: #REF!
Name AppCCorpSCName: #REF!
Name AppCDeployChpDate: #REF!
Name AppCDeployChpDate: #REF!
Name AppCDeployChpName: #REF!
Name AppCDeployChpName: #REF!
Name AppCFinCcpName: #REF!
Name AppCFinCcpName: #REF!
Name AppCFInChpDate: #REF!
Name AppCFInChpDate: #REF!
Name AppCPODate: #REF!
Name AppCPODate: #REF!
Name AppCPOName: #REF!
Name AppCPOName: #REF!
Name AppCSCDate: #REF!
Name AppCSCDate: #REF!
Name AppCSSADate: #REF!
Name AppCSSADate: #REF!
Name AppCSSANAme: #REF!
Name AppCSSANAme: #REF!
Name AppDeployChpDate: #REF!
Name AppDeployChpDate: #REF!
Name AppFinChpDate: #REF!
Name AppFinChpDate: #REF!
Name AppFinChpName: #REF!
Name AppFinChpName: #REF!
Name AppProcOwnDate: #REF!
Name AppProcOwnDate: #REF!
Name ApproveBBDate: #REF!
Name ApproveBBDate: #REF!
Name ApproveBBName: #REF!
Name ApproveBBName: #REF!
Name ApproveProcOwner: #REF!
Name ApproveProcOwner: #REF!
Name AppSSADate: #REF!
Name AppSSADate: #REF!
Name AppSSANAme: #REF!
Name AppSSANAme: #REF!
Name BaselinePeriod: #REF!
Name BaselinePeriod: #REF!
Name BaseRevEbitMarginPct: #REF!

Sheet Donnée
A1: Société | B1: Nom | C1: Prénom | D1: Début | E1: Fin | F1: N° Semaine
A2: CRIT | B2: ABELTRAN | C2: Jawad | D2: 42887 | E2: 42888 | F2: 22 | G2: la formule que je cherche est :
A3: CRIT | B3: ABELTRAN | C3: Jawad | D3: 42891 | E3: 42895 | F3: 23 | G3: si N°Semaine =22;si Nom Société =Crit;alors affichage nom et prénom
A4: CRIT | B4: ABELTRAN | C4: Jawad | D4: 42898 | E4: 42902 | F4: 24
A5: CRIT | B5: ABELTRAN | C5: Jawad | D5: 42905 | E5: 42909 | F5: 25 | G5: Ci dessous le résultat attendue
A6: CRIT | B6: ABELTRAN | C6: Jawad | D6: 42912 | E6: 42916 | F6: 26 | G6: Nom | H6: Prénom
A7: CRIT | B7: AIT ABDELMALEK | C7: Larbi | D7: 42887 | E7: 42888 | F7: 22 | G7: ABELTRAN | H7: Jawad
A8: CRIT | B8: AIT ABDELMALEK | C8: Larbi | D8: 42891 | E8: 42895 | F8: 23 | G8: AIT ABDELMALEK | H8: Larbi
A9: CRIT | B9: AIT ABDELMALEK | C9: Larbi | D9: 42898 | E9: 42902 | F9: 24 | G9: AOUED | H9: Fatma Nadia
A10: CRIT | B10: AIT ABDELMALEK | C10: Larbi | D10: 42905 | E10: 42909 | F10: 25 | G10: BILA | H10: Cédric
A11: CRIT | B11: AIT ABDELMALEK | C11: Larbi | D11: 42912 | E11: 42916 | F11: 26 | G11: CAMPOSANO | H11: Aurélie
A12: CRIT | B12: AOUED | C12: Fatma Nadia | D12: 42887 | E12: 42888 | F12: 22 | G12: CANCAN | H12: Jeremy
A13: CRIT | B13: AOUED | C13: Fatma Nadia | D13: 42891 | E13: 42895 | F13: 23 | G13: CASONATO | H13: Charlène
A14: CRIT | B14: AOUED | C14: Fatma Nadia | D14: 42898 | E14: 42902 | F14: 24 | G14: DE BALINCOURT | H14: Thibaud
A15: CRIT | B15: AOUED | C15: Fatma Nadia | D15: 42905 | E15: 42909 | F15: 25 | G15: DELCRUZEL | H15: Marc
A16: CRIT | B16: AOUED | C16: Fatma Nadia | D16: 42912 | E16: 42916 | F16: 26 | G16: DERNI | H16: Laura
A17: CRIT | B17: BILA | C17: Cédric | D17: 42887 | E17: 42888 | F17: 22 | G17: DUHAMEL | H17: Mickael
... A38: CRIT | B38: Charles | C38: Helena | D38: 42912 | E38: 42916 | F38: 26 | G38: VINCENT | H38: Laurent
A39: CRIT | B39: DE BALINCOURT | C39: Thibaud | D39: 42887 | E39: 42888 | F39: 22
A40: CRIT | B40: DE BALINCOURT | C40: Thibaud | D40: 42891 | E40: 42895 | F40: 23
A41: CRIT | B41: DE BALINCOURT | C41: Thibaud | D41: 42898 | E41: 42902 | F41: 24
A42: CRIT | B42: DE BALINCOURT | C42: Thibaud | D42: 42905 | E42: 42909 | F42: 25
A43: CRIT | B43: DE BALINCOURT | C43: Thibaud | D43: 42912 | E43: 42916 | F43: 26
A44: CRIT | B44: DELCRUZEL | C44: Marc | D44: 42887 | E44: 42888 | F44: 22
A45: CRIT | B45: DELCRUZEL | C45: Marc | D45: 42891 | E45: 42895 | F45: 23
A46: CRIT | B46: DELCRUZEL | C46: Marc | D46: 42898 | E46: 42902 | F46: 24
A47: CRIT | B47: DELCRUZEL | C47: Marc | D47: 42905 | E47: 42909 | F47: 25
A48: CRIT | B48: DELCRUZEL | C48: Marc | D48: 42912 | E48: 42916 | F48: 26
A49: CRIT | B49: DERNI | C49: Laura | D49: 42887 | E49: 42888 | F49: 22
A50: CRIT | B50: DERNI | C50: Laura | D50: 42891 | E50: 42895 | F50: 23
... A196: CRIT | B196: VINCENT | C196: Laurent | D196: 42912 | E196: 42916 | F196: 26

Sheet Résultat
A1: Relevé des heures hebdomadaires intérimaires | AS1: CRIT | BA1: 2017 | BD1: CRIT | BE1: ABELTRAN | BF1: Jawad | BG1: 1 | BH1: 42887 | BI1: 42888 | BJ1: 22
A2: Mois : | C2: =+TEXT(B4,"MMMM")&"/"&TEXT(B4,"AAAA") -> mai/2017 | BD2: CRIT | BE2: ABELTRAN | BF2: Jawad | BG2: 1 | BH2: 42891 | BI2: 42895 | BJ2: 23
A3: Semaine : | C3: 22 | K3: =+C3 -> 22 | BD3: CRIT | BE3: ABELTRAN | BF3: Jawad | BG3: 1 | BH3: 42898 | BI3: 42902 | BJ3: 24
A4: DU: | B4: =+IF(ISNA(VLOOKUP($C$3,[2]Feuil4!$B$1:$F$31,4,FALSE)),"",VLOOKUP($C$3,[2]Feuil4!B1:F31,4,FALSE)) -> 42884 | BD4: CRIT | BE4: ABELTRAN | BF4: Jawad | BG4: 1 | BH4: 42905 | BI4: 42909 | BJ4: 25
A5: AU : | B5: {=+IF(ISNA(VLOOKUP($C$3,[2]Feuil4!$B$1:$F$31,5,FALSE)),"",VLOOKUP($C$3,[2]Feuil4!B1:F31,5,FALSE))} -> 42888 | BD5: CRIT | BE5: ABELTRAN | BF5: Jawad | BG5: 1 | BH5: 42912 | BI5: 42916 | BJ5: 26
BD6: CRIT | BE6: AIT ABDELMALEK | BF6: Larbi | BG6: 1 | BH6: 42887 | BI6: 42888 | BJ6: 22
K7: Lundi | P7: Mardi | U7: Mercredi | Z7: Jeudi | AE7: Vendredi | AT7: Total | BD7: CRIT | BE7: AIT ABDELMALEK | BF7: Larbi | BG7: 1 | BH7: 42891 | BI7: 42895 | BJ7: 23
A8: Nom | C8: Prénom | K8: Heures | M8: HS | N8: H Nuits | O8: TR | P8: Heures | R8: HS | S8: H Nuits | T8: TR | U8: Heures | W8: HS | X8: H Nuits | Y8: TR | Z8: Heures | AB8: HS | AC8: H Nuits | AD8: TR | AE8: Heures | AG8: HS | AH8: H Nuits | AI8: TR | AJ8: Samedi | AO8: Dimanche | AT8: Heures | AV8: HS | AW8: H Nuits | AX8: TR | BD8: CRIT | BE8: AIT ABDELMALEK | BF8: Larbi | BG8: 1 | BH8: 42898 | BI8: 42902 | BJ8: 24
A9: {=IFERROR(INDEX(D:D,SMALL($F$1:$F$203,ROW(INDIRECT("1:"&ROWS(D8:D202))))),"")} -> ABELTRAN | D9: =IF(AND('[2]Interimaire Juin 2017'!D15=Résultat!$AS$1,'[2]Interimaire Juin 2017'!J15=Résultat!$C$3),'[2]Interimaire Juin 2017'!E15,"") -> ABELTRAN | E9: =IF(AND('[2]Interimaire Juin 2017'!D15=Résultat!$AS$1,'[2]Interimaire Juin 2017'!J15=Résultat!$C$3),'[2]Interimaire Juin 2017'!F15,"") -> Jawad | F9: =IF(E9="","",ROW()) -> 9 | BD9: CRIT | BE9: AIT ABDELMALEK | BF9: Larbi | BG9: 1 | BH9: 42905 | BI9: 42909 | BJ9: 25
A10: {=IFERROR(INDEX(D:D,SMALL($F$1:$F$203,ROW(INDIRECT("1:"&ROWS(D9:D203))))),"")} -> ABELTRAN | C10: =+IF('[2]Interimaire Juin 2017'!J15=Résultat!$C$3,IF('[2]Interimaire Juin 2017'!D15=Résultat!$AS$1,'[2]Interimaire Juin 2017'!F15,"")) -> Jawad | D10: =IF(AND('[2]Interimaire Juin 2017'!D16=Résultat!$AS$1,'[2]Interimaire Juin 2017'!J16=Résultat!$C$3),'[2]Interimaire Juin 2017'!E16,"") | E10: =IF(AND('[2]Interimaire Juin 2017'!D16=Résultat!$AS$1,'[2]Interimaire Juin 2017'!J16=Résultat!$C$3),'[2]Interimaire Juin 2017'!F16,"") | F10: =IF(E10="","",ROW()) | K10: 6.3 | L10: =+IF(K10>=6,1,0) -> 1 | O10: =+L10 -> 1 | P10: =+IF(A10="",0,7) -> 7 | Q10: =+IF(P10>=6,1,0) -> 1 | T10: =+Q10 -> 1 | U10: =+IF(A10="",0,7) -> 7 | V10: =+IF(U10>=6,1,0) -> 1 | Y10: =+V10 -> 1 | Z10: =+IF(A10="",0,7) -> 7 | AA10: =+IF(Z10>=6,1,0) -> 1 | AD10: =+AA10 -> 1 | AE10: =+IF(A10="",0,7) -> 7 | AF10: =+IF(AE10>=6,1,0) -> 1 | AI10: =+AF10 -> 1 | AK10: =+IF(AJ10>=6,1,0) -> 0 | AN10: =+AK10 -> 0 | AP10: =+IF(AO10>=6,1,0) -> 0 | AS10: =+AP10 -> 0 | AT10: =+AO10+AJ10+AE10+Z10+U10+P10+K10 -> 34.3 | AU10: =+AQ10+AL10+AG10+AB10+W10+R10+M10 -> 0 | AV10: =+AR10+AM10+AG10+AB10+W10+R10+M10 -> 0 | AW10: =+AS10+AN10+AH10+AC10+X10+S10+N10 -> 0 | AX10: =+O10+T10+Y10+AD10+AI10 -> 5 | BD10: CRIT | BE10: AIT ABDELMALEK | BF10: Larbi | BG10: 1 | BH10: 42912 | BI10: 42916 | BJ10: 26
A11: {=IFERROR(INDEX(D:D,SMALL($F$1:$F$203,ROW(INDIRECT("1:"&ROWS(D11:D205))))),"")} -> ABELTRAN | C11: =+IF('[2]Interimaire Juin 2017'!J16=Résultat!$C$3,IF('[2]Interimaire Juin 2017'!D16=Résultat!$AS$1,'[2]Interimaire Juin 2017'!F16,"")) -> FALSE | D11: =IF(AND('[2]Interimaire Juin 2017'!D17=Résultat!$AS$1,'[2]Interimaire Juin 2017'!J17=Résultat!$C$3),'[2]Interimaire Juin 2017'!E17,"") | E11: =IF(AND('[2]Interimaire Juin 2017'!D17=Résultat!$AS$1,'[2]Interimaire Juin 2017'!J17=Résultat!$C$3),'[2]Interimaire Juin 2017'!F17,"") | F11: =IF(E11="","",ROW()) | K11: =+IF(A11="",0,7) -> 7 | L11: =+IF(K11>=6,1,0) -> 1 | O11: =+L11 -> 1 | P11: =+IF(A11="",0,7) -> 7 | Q11: =+IF(P11>=6,1,0) -> 1 | T11: =+Q11 -> 1 | U11: =+IF(A11="",0,7) -> 7 | V11: =+IF(U11>=6,1,0) -> 1 | Y11: =+V11 -> 1 | Z11: =+IF(A11="",0,7) -> 7 | AA11: =+IF(Z11>=6,1,0) -> 1 | AD11: =+AA11 -> 1 | AE11: =+IF(A11="",0,7) -> 7 | AF11: =+IF(AE11>=6,1,0) -> 1 | AI11: =+AF11 -> 1 | AK11: =+IF(AJ11>=6,1,0) -> 0 | AN11: =+AK11 -> 0 | AP11: =+IF(AO11>=6,1,0) -> 0 | AS11: =+AP11 -> 0 | AT11: =+AO11+AJ11+AE11+Z11+U11+P11+K11 -> 35 | AU11: =+AQ11+AL11+AG11+AB11+W11+R11+M11 -> 0 | AV11: =+AR11+AM11+AG11+AB11+W11+R11+M11 -> 0 | AW11: =+AS11+AN11+AH11+AC11+X11+S11+N11 -> 0 | AX11: =+O11+T11+Y11+AD11+AI11 -> 5 | BD11: CRIT | BE11: AOUED | BF11: Fatma Nadia | BG11: 1 | BH11: 42887 | BI11: 42888 | BJ11: 22
A12: {=IFERROR(INDEX(D:D,SMALL($F$1:$F$203,ROW(INDIRECT("1:"&ROWS(D12:D206))))),"")} -> ABELTRAN | C12: =+IF('[2]Interimaire Juin 2017'!J17=Résultat!$C$3,IF('[2]Interimaire Juin 2017'!D17=Résultat!$AS$1,'[2]Interimaire Juin 2017'!F17,"")) -> FALSE | D12: =IF(AND('[2]Interimaire Juin 2017'!D18=Résultat!$AS$1,'[2]Interimaire Juin 2017'!J18=Résultat!$C$3),'[2]Interimaire Juin 2017'!E18,"") | E12: =IF(AND('[2]Interimaire Juin 2017'!D18=Résultat!$AS$1,'[2]Interimaire Juin 2017'!J18=Résultat!$C$3),'[2]Interimaire Juin 2017'!F18,"") | F12: =IF(E12="","",ROW()) | K12: =+IF(A12="",0,7) -> 7 | L12: =+IF(K12>=6,1,0) -> 1 | O12: =+L12 -> 1 | P12: =+IF(A12="",0,7) -> 7 | Q12: =+IF(P12>=6,1,0) -> 1 | T12: =+Q12 -> 1 | U12: =+IF(A12="",0,7) -> 7 | V12: =+IF(U12>=6,1,0) -> 1 | Y12: =+V12 -> 1 | Z12: =+IF(A12="",0,7) -> 7 | AA12: =+IF(Z12>=6,1,0) -> 1 | AD12: =+AA12 -> 1 | AE12: =+IF(A12="",0,7) -> 7 | AF12: =+IF(AE12>=6,1,0) -> 1 | AI12: =+AF12 -> 1 | AK12: =+IF(AJ12>=6,1,0) -> 0 | AN12: =+AK12 -> 0 | AP12: =+IF(AO12>=6,1,0) -> 0 | AS12: =+AP12 -> 0 | AT12: =+AO12+AJ12+AE12+Z12+U12+P12+K12 -> 35 | AU12: =+AQ12+AL12+AG12+AB12+W12+R12+M12 -> 0 | AV12: =+AR12+AM12+AG12+AB12+W12+R12+M12 -> 0 | AW12: =+AS12+AN12+AH12+AC12+X12+S12+N12 -> 0 | AX12: =+O12+T12+Y12+AD12+AI12 -> 5 | BD12: CRIT | BE12: AOUED | BF12: Fatma Nadia | BG12: 1 | BH12: 42891 | BI12: 42895 | BJ12: 23
A13: {=IFERROR(INDEX(D:D,SMALL($F$1:$F$203,ROW(INDIRECT("1:"&ROWS(D13:D207))))),"")} -> ABELTRAN | C13: =+IF('[2]Interimaire Juin 2017'!J18=Résultat!$C$3,IF('[2]Interimaire Juin 2017'!D18=Résultat!$AS$1,'[2]Interimaire Juin 2017'!F18,"")) -> FALSE | D13: =IF(AND('[2]Interimaire Juin 2017'!D19=Résultat!$AS$1,'[2]Interimaire Juin 2017'!J19=Résultat!$C$3),'[2]Interimaire Juin 2017'!E19,"") | E13: =IF(AND('[2]Interimaire Juin 2017'!D19=Résultat!$AS$1,'[2]Interimaire Juin 2017'!J19=Résultat!$C$3),'[2]Interimaire Juin 2017'!F19,"") | F13: =IF(E13="","",ROW()) | K13: =+IF(A13="",0,7) -> 7 | L13: =+IF(K13>=6,1,0) -> 1 | O13: =+L13 -> 1 | P13: =+IF(A13="",0,7) -> 7 | Q13: =+IF(P13>=6,1,0) -> 1 | T13: =+Q13 -> 1 | U13: =+IF(A13="",0,7) -> 7 | V13: =+IF(U13>=6,1,0) -> 1 | Y13: =+V13 -> 1 | Z13: =+IF(A13="",0,7) -> 7 | AA13: =+IF(Z13>=6,1,0) -> 1 | AD13: =+AA13 -> 1 | AE13: =+IF(A13="",0,7) -> 7 | AF13: =+IF(AE13>=6,1,0) -> 1 | AI13: =+AF13 -> 1 | AK13: =+IF(AJ13>=6,1,0) -> 0 | AN13: =+AK13 -> 0 | AP13: =+IF(AO13>=6,1,0) -> 0 | AS13: =+AP13 -> 0 | AT13: =+AO13+AJ13+AE13+Z13+U13+P13+K13 -> 35 | AU13: =+AQ13+AL13+AG13+AB13+W13+R13+M13 -> 0 | AV13: =+AR13+AM13+AG13+AB13+W13+R13+M13 -> 0 | AW13: =+AS13+AN13+AH13+AC13+X13+S13+N13 -> 0 | AX13: =+O13+T13+Y13+AD13+AI13 -> 5 | BD13: CRIT | BE13: AOUED | BF13: Fatma Nadia | BG13: 1 | BH13: 42898 | BI13: 42902 | BJ13: 24
A14: {=IFERROR(INDEX(D:D,SMALL($F$1:$F$203,ROW(INDIRECT("1:"&ROWS(D14:D208))))),"")} -> ABELTRAN | C14: =+IF('[2]Interimaire Juin 2017'!J19=Résultat!$C$3,IF('[2]Interimaire Juin 2017'!D19=Résultat!$AS$1,'[2]Interimaire Juin 2017'!F19,"")) -> FALSE | D14: =IF(AND('[2]Interimaire Juin 2017'!D20=Résultat!$AS$1,'[2]Interimaire Juin 2017'!J20=Résultat!$C$3),'[2]Interimaire Juin 2017'!E20,"") -> AIT ABDELMALEK | E14: =IF(AND('[2]Interimaire Juin 2017'!D20=Résultat!$AS$1,'[2]Interimaire Juin 2017'!J20=Résultat!$C$3),'[2]Interimaire Juin 2017'!F20,"") -> Larbi | F14: =IF(E14="","",ROW()) -> 14 | K14: =+IF(A14="",0,7) -> 7 | L14: =+IF(K14>=6,1,0) -> 1 | O14: =+L14 -> 1 | P14: =+IF(A14="",0,7) -> 7 | Q14: =+IF(P14>=6,1,0) -> 1 | T14: =+Q14 -> 1 | U14: =+IF(A14="",0,7) -> 7 | V14: =+IF(U14>=6,1,0) -> 1 | Y14: =+V14 -> 1 | Z14: =+IF(A14="",0,7) -> 7 | AA14: =+IF(Z14>=6,1,0) -> 1 | AD14: =+AA14 -> 1 | AE14: =+IF(A14="",0,7) -> 7 | AF14: =+IF(AE14>=6,1,0) -> 1 | AI14: =+AF14 -> 1 | AK14: =+IF(AJ14>=6,1,0) -> 0 | AN14: =+AK14 -> 0 | AP14: =+IF(AO14>=6,1,0) -> 0 | AS14: =+AP14 -> 0 | AT14: =+AO14+AJ14+AE14+Z14+U14+P14+K14 -> 35 | AU14: =+AQ14+AL14+AG14+AB14+W14+R14+M14 -> 0 | AV14: =+AR14+AM14+AG14+AB14+W14+R14+M14 -> 0 | AW14: =+AS14+AN14+AH14+AC14+X14+S14+N14 -> 0 | AX14: =+O14+T14+Y14+AD14+AI14 -> 5 | BD14: CRIT | BE14: AOUED | BF14: Fatma Nadia | BG14: 1 | BH14: 42905 | BI14: 42909 | BJ14: 25
A15: {=IFERROR(INDEX(D:D,SMALL($F$1:$F$203,ROW(INDIRECT("1:"&ROWS(D15:D209))))),"")} -> ABELTRAN | C15: =+IF('[2]Interimaire Juin 2017'!J20=Résultat!$C$3,IF('[2]Interimaire Juin 2017'!D20=Résultat!$AS$1,'[2]Interimaire Juin 2017'!F20,"")) -> Larbi | D15: =IF(AND('[2]Interimaire Juin 2017'!D21=Résultat!$AS$1,'[2]Interimaire Juin 2017'!J21=Résultat!$C$3),'[2]Interimaire Juin 2017'!E21,"") | E15: =IF(AND('[2]Interimaire Juin 2017'!D21=Résultat!$AS$1,'[2]Interimaire Juin 2017'!J21=Résultat!$C$3),'[2]Interimaire Juin 2017'!F21,"") | F15: =IF(E15="","",ROW()) | K15: =+IF(A15="",0,7) -> 7 | L15: =+IF(K15>=6,1,0) -> 1 | O15: =+L15 -> 1 | P15: =+IF(A15="",0,7) -> 7 | Q15: =+IF(P15>=6,1,0) -> 1 | T15: =+Q15 -> 1 | U15: =+IF(A15="",0,7) -> 7 | V15: =+IF(U15>=6,1,0) -> 1 | Y15: =+V15 -> 1 | Z15: =+IF(A15="",0,7) -> 7 | AA15: =+IF(Z15>=6,1,0) -> 1 | AD15: =+AA15 -> 1 | AE15: =+IF(A15="",0,7) -> 7 | AF15: =+IF(AE15>=6,1,0) -> 1 | AI15: =+AF15 -> 1 | AK15: =+IF(AJ15>=6,1,0) -> 0 | AN15: =+AK15 -> 0 | AP15: =+IF(AO15>=6,1,0) -> 0 | AS15: =+AP15 -> 0 | AT15: =+AO15+AJ15+AE15+Z15+U15+P15+K15 -> 35 | AU15: =+AQ15+AL15+AG15+AB15+W15+R15+M15 -> 0 | AV15: =+AR15+AM15+AG15+AB15+W15+R15+M15 -> 0 | AW15: =+AS15+AN15+AH15+AC15+X15+S15+N15 -> 0 | AX15: =+O15+T15+Y15+AD15+AI15 -> 5 | BD15: CRIT | BE15: AOUED | BF15: Fatma Nadia | BG15: 1 | BH15: 42912 | BI15: 42916 | BJ15: 26
A16: {=IFERROR(INDEX(D:D,SMALL($F$1:$F$203,ROW(INDIRECT("1:"&ROWS(D16:D210))))),"")} -> ABELTRAN | C16: =+IF('[2]Interimaire Juin 2017'!J21=Résultat!$C$3,IF('[2]Interimaire Juin 2017'!D21=Résultat!$AS$1,'[2]Interimaire Juin 2017'!F21,"")) -> FALSE | D16: =IF(AND('[2]Interimaire Juin 2017'!D22=Résultat!$AS$1,'[2]Interimaire Juin 2017'!J22=Résultat!$C$3),'[2]Interimaire Juin 2017'!E22,"") | E16: =IF(AND('[2]Interimaire Juin 2017'!D22=Résultat!$AS$1,'[2]Interimaire Juin 2017'!J22=Résultat!$C$3),'[2]Interimaire Juin 2017'!F22,"") | F16: =IF(E16="","",ROW()) | K16: =+IF(A16="",0,7) -> 7 | L16: =+IF(K16>=6,1,0) -> 1 | O16: =+L16 -> 1 | P16: =+IF(A16="",0,7) -> 7 | Q16: =+IF(P16>=6,1,0) -> 1 | T16: =+Q16 -> 1 | U16: =+IF(A16="",0,7) -> 7 | V16: =+IF(U16>=6,1,0) -> 1 | Y16: =+V16 -> 1 | Z16: =+IF(A16="",0,7) -> 7 | AA16: =+IF(Z16>=6,1,0) -> 1 | AD16: =+AA16 -> 1 | AE16: =+IF(A16="",0,7) -> 7 | AF16: =+IF(AE16>=6,1,0) -> 1 | AI16: =+AF16 -> 1 | AK16: =+IF(AJ16>=6,1,0) -> 0 | AN16: =+AK16 -> 0 | AP16: =+IF(AO16>=6,1,0) -> 0 | AS16: =+AP16 -> 0 | AT16: =+AO16+AJ16+AE16+Z16+U16+P16+K16 -> 35 | AU16: =+AQ16+AL16+AG16+AB16+W16+R16+M16 -> 0 | AV16: =+AR16+AM16+AG16+AB16+W16+R16+M16 -> 0 | AW16: =+AS16+AN16+AH16+AC16+X16+S16+N16 -> 0 | AX16: =+O16+T16+Y16+AD16+AI16 -> 5 | BD16: CRIT | BE16: BILA | BF16: Cédric | BG16: 1 | BH16: 42887 | BI16: 42888 | BJ16: 22
A17: {=IFERROR(INDEX(D:D,SMALL($F$1:$F$203,ROW(INDIRECT("1:"&ROWS(D17:D211))))),"")} -> ABELTRAN | C17: =+IF('[2]Interimaire Juin 2017'!J22=Résultat!$C$3,IF('[2]Interimaire Juin 2017'!D22=Résultat!$AS$1,'[2]Interimaire Juin 2017'!F22,"")) -> FALSE | D17: =IF(AND('[2]Interimaire Juin 2017'!D23=Résultat!$AS$1,'[2]Interimaire Juin 2017'!J23=Résultat!$C$3),'[2]Interimaire Juin 2017'!E23,"") | E17: =IF(AND('[2]Interimaire Juin 2017'!D23=Résultat!$AS$1,'[2]Interimaire Juin 2017'!J23=Résultat!$C$3),'[2]Interimaire Juin 2017'!F23,"") | F17: =IF(E17="","",ROW()) | K17: =+IF(A17="",0,7) -> 7 | L17: =+IF(K17>=6,1,0) -> 1 | O17: =+L17 -> 1 | P17: =+IF(A17="",0,7) -> 7 | Q17: =+IF(P17>=6,1,0) -> 1 | T17: =+Q17 -> 1 | U17: =+IF(A17="",0,7) -> 7 | V17: =+IF(U17>=6,1,0) -> 1 | Y17: =+V17 -> 1 | Z17: =+IF(A17="",0,7) -> 7 | AA17: =+IF(Z17>=6,1,0) -> 1 | AD17: =+AA17 -> 1 | AE17: =+IF(A17="",0,7) -> 7 | AF17: =+IF(AE17>=6,1,0) -> 1 | AI17: =+AF17 -> 1 | AK17: =+IF(AJ17>=6,1,0) -> 0 | AN17: =+AK17 -> 0 | AP17: =+IF(AO17>=6,1,0) -> 0 | AS17: =+AP17 -> 0 | AT17: =+AO17+AJ17+AE17+Z17+U17+P17+K17 -> 35 | AU17: =+AQ17+AL17+AG17+AB17+W17+R17+M17 -> 0 | AV17: =+AR17+AM17+AG17+AB17+W17+R17+M17 -> 0 | AW17: =+AS17+AN17+AH17+AC17+X17+S17+N17 -> 0 | AX17: =+O17+T17+Y17+AD17+AI17 -> 5 | BD17: CRIT | BE17: BILA | BF17: Cédric | BG17: 1 | BH17: 42891 | BI17: 42895 | BJ17: 23
A18: {=IFERROR(INDEX(D:D,SMALL($F$1:$F$203,ROW(INDIRECT("1:"&ROWS(D18:D212))))),"")} -> ABELTRAN | C18: =+IF('[2]Interimaire Juin 2017'!J23=Résultat!$C$3,IF('[2]Interimaire Juin 2017'!D23=Résultat!$AS$1,'[2]Interimaire Juin 2017'!F23,"")) -> FALSE | D18: =IF(AND('[2]Interimaire Juin 2017'!D24=Résultat!$AS$1,'[2]Interimaire Juin 2017'!J24=Résultat!$C$3),'[2]Interimaire Juin 2017'!E24,"") | E18: =IF(AND('[2]Interimaire Juin 2017'!D24=Résultat!$AS$1,'[2]Interimaire Juin 2017'!J24=Résultat!$C$3),'[2]Interimaire Juin 2017'!F24,"") | F18: =IF(E18="","",ROW()) | K18: =+IF(A18="",0,7) -> 7 | L18: =+IF(K18>=6,1,0) -> 1 | O18: =+L18 -> 1 | P18: =+IF(A18="",0,7) -> 7 | Q18: =+IF(P18>=6,1,0) -> 1 | T18: =+Q18 -> 1 | U18: =+IF(A18="",0,7) -> 7 | V18: =+IF(U18>=6,1,0) -> 1 | Y18: =+V18 -> 1 | Z18: =+IF(A18="",0,7) -> 7 | AA18: =+IF(Z18>=6,1,0) -> 1 | AD18: =+AA18 -> 1 | AE18: =+IF(A18="",0,7) -> 7 | AF18: =+IF(AE18>=6,1,0) -> 1 | AI18: =+AF18 -> 1 | AK18: =+IF(AJ18>=6,1,0) -> 0 | AN18: =+AK18 -> 0 | AP18: =+IF(AO18>=6,1,0) -> 0 | AS18: =+AP18 -> 0 | AT18: =+AO18+AJ18+AE18+Z18+U18+P18+K18 -> 35 | AU18: =+AQ18+AL18+AG18+AB18+W18+R18+M18 -> 0 | AV18: =+AR18+AM18+AG18+AB18+W18+R18+M18 -> 0 | AW18: =+AS18+AN18+AH18+AC18+X18+S18+N18 -> 0 | AX18: =+O18+T18+Y18+AD18+AI18 -> 5 | BD18: CRIT | BE18: BILA | BF18: Cédric | BG18: 1 | BH18: 42898 | BI18: 42902 | BJ18: 24
A19: {=IFERROR(INDEX(D:D,SMALL($F$1:$F$203,ROW(INDIRECT("1:"&ROWS(D19:D213))))),"")} -> ABELTRAN | C19: =+IF('[2]Interimaire Juin 2017'!J24=Résultat!$C$3,IF('[2]Interimaire Juin 2017'!D24=Résultat!$AS$1,'[2]Interimaire Juin 2017'!F24,"")) -> FALSE | D19: =IF(AND('[2]Interimaire Juin 2017'!D25=Résultat!$AS$1,'[2]Interimaire Juin 2017'!J25=Résultat!$C$3),'[2]Interimaire Juin 2017'!E25,"") -> AOUED | E19: =IF(AND('[2]Interimaire Juin 2017'!D25=Résultat!$AS$1,'[2]Interimaire Juin 2017'!J25=Résultat!$C$3),'[2]Interimaire Juin 2017'!F25,"") -> Fatma Nadia | F19: =IF(E19="","",ROW()) -> 19 | K19: =+IF(A19="",0,7) -> 7 | L19: =+IF(K19>=6,1,0) -> 1 | O19: =+L19 -> 1 | P19: =+IF(A19="",0,7) -> 7 | Q19: =+IF(P19>=6,1,0) -> 1 | T19: =+Q19 -> 1 | U19: =+IF(A19="",0,7) -> 7 | V19: =+IF(U19>=6,1,0) -> 1 | Y19: =+V19 -> 1 | Z19: =+IF(A19="",0,7) -> 7 | AA19: =+IF(Z19>=6,1,0) -> 1 | AD19: =+AA19 -> 1 | AE19: =+IF(A19="",0,7) -> 7 | AF19: =+IF(AE19>=6,1,0) -> 1 | AI19: =+AF19 -> 1 | AK19: =+IF(AJ19>=6,1,0) -> 0 | AN19: =+AK19 -> 0 | AP19: =+IF(AO19>=6,1,0) -> 0 | AS19: =+AP19 -> 0 | AT19: =+AO19+AJ19+AE19+Z19+U19+P19+K19 -> 35 | AU19: =+AQ19+AL19+AG19+AB19+W19+R19+M19 -> 0 | AV19: =+AR19+AM19+AG19+AB19+W19+R19+M19 -> 0 | AW19: =+AS19+AN19+AH19+AC19+X19+S19+N19 -> 0 | AX19: =+O19+T19+Y19+AD19+AI19 -> 5 | BD19: CRIT | BE19: BILA | BF19: Cédric | BG19: 1 | BH19: 42905 | BI19: 42909 | BJ19: 25
A20: {=IFERROR(INDEX(D:D,SMALL($F$1:$F$203,ROW(INDIRECT("1:"&ROWS(D20:D214))))),"")} -> ABELTRAN | C20: =+IF('[2]Interimaire Juin 2017'!J25=Résultat!$C$3,IF('[2]Interimaire Juin 2017'!D25=Résultat!$AS$1,'[2]Interimaire Juin 2017'!F25,"")) -> Fatma Nadia | D20: =IF(AND('[2]Interimaire Juin 2017'!D26=Résultat!$AS$1,'[2]Interimaire Juin 2017'!J26=Résultat!$C$3),'[2]Interimaire Juin 2017'!E26,"") | E20: =IF(AND('[2]Interimaire Juin 2017'!D26=Résultat!$AS$1,'[2]Interimaire Juin 2017'!J26=Résultat!$C$3),'[2]Interimaire Juin 2017'!F26,"") | F20: =IF(E20="","",ROW()) | K20: =+IF(A20="",0,7) -> 7 | L20: =+IF(K20>=6,1,0) -> 1 | O20: =+L20 -> 1 | P20: =+IF(A20="",0,7) -> 7 | Q20: =+IF(P20>=6,1,0) -> 1 | T20: =+Q20 -> 1 | U20: =+IF(A20="",0,7) -> 7 | V20: =+IF(U20>=6,1,0) -> 1 | Y20: =+V20 -> 1 | Z20: =+IF(A20="",0,7) -> 7 | AA20: =+IF(Z20>=6,1,0) -> 1 | AD20: =+AA20 -> 1 | AE20: =+IF(A20="",0,7) -> 7 | AF20: =+IF(AE20>=6,1,0) -> 1 | AI20: =+AF20 -> 1 | AK20: =+IF(AJ20>=6,1,0) -> 0 | AN20: =+AK20 -> 0 | AP20: =+IF(AO20>=6,1,0) -> 0 | AS20: =+AP20 -> 0 | AT20: =+AO20+AJ20+AE20+Z20+U20+P20+K20 -> 35 | AU20: =+AQ20+AL20+AG20+AB20+W20+R20+M20 -> 0 | AV20: =+AR20+AM20+AG20+AB20+W20+R20+M20 -> 0 | AW20: =+AS20+AN20+AH20+AC20+X20+S20+N20 -> 0 | AX20: =+O20+T20+Y20+AD20+AI20 -> 5 | BD20: CRIT | BE20: BILA | BF20: Cédric | BG20: 1 | BH20: 42912 | BI20: 42916 | BJ20: 26
A21: {=IFERROR(INDEX(D:D,SMALL($F$1:$F$203,ROW(INDIRECT("1:"&ROWS(D21:D215))))),"")} -> ABELTRAN | C21: =+IF('[2]Interimaire Juin 2017'!J26=Résultat!$C$3,IF('[2]Interimaire Juin 2017'!D26=Résultat!$AS$1,'[2]Interimaire Juin 2017'!F26,"")) -> FALSE | D21: =IF(AND('[2]Interimaire Juin 2017'!D27=Résultat!$AS$1,'[2]Interimaire Juin 2017'!J27=Résultat!$C$3),'[2]Interimaire Juin 2017'!E27,"") | E21: =IF(AND('[2]Interimaire Juin 2017'!D27=Résultat!$AS$1,'[2]Interimaire Juin 2017'!J27=Résultat!$C$3),'[2]Interimaire Juin 2017'!F27,"") | F21: =IF(E21="","",ROW()) | K21: =+IF(A21="",0,7) -> 7 | L21: =+IF(K21>=6,1,0) -> 1 | O21: =+L21 -> 1 | P21: =+IF(A21="",0,7) -> 7 | Q21: =+IF(P21>=6,1,0) -> 1 | T21: =+Q21 -> 1 | U21: =+IF(A21="",0,7) -> 7 | V21: =+IF(U21>=6,1,0) -> 1 | Y21: =+V21 -> 1 | Z21: =+IF(A21="",0,7) -> 7 | AA21: =+IF(Z21>=6,1,0) -> 1 | AD21: =+AA21 -> 1 | AE21: =+IF(A21="",0,7) -> 7 | AF21: =+IF(AE21>=6,1,0) -> 1 | AI21: =+AF21 -> 1 | AK21: =+IF(AJ21>=6,1,0) -> 0 | AN21: =+AK21 -> 0 | AP21: =+IF(AO21>=6,1,0) -> 0 | AS21: =+AP21 -> 0 | AT21: =+AO21+AJ21+AE21+Z21+U21+P21+K21 -> 35 | AU21: =+AQ21+AL21+AG21+AB21+W21+R21+M21 -> 0 | AV21: =+AR21+AM21+AG21+AB21+W21+R21+M21 -> 0 | AW21: =+AS21+AN21+AH21+AC21+X21+S21+N21 -> 0 | AX21: =+O21+T21+Y21+AD21+AI21 -> 5 | BD21: CRIT | BE21: CAMPOSANO | BF21: Aurélie | BG21: 1 | BH21: 42887 | BI21: 42888 | BJ21: 22
A22: {=IFERROR(INDEX(D:D,SMALL($F$1:$F$203,ROW(INDIRECT("1:"&ROWS(D22:D216))))),"")} -> ABELTRAN | C22: =+IF('[2]Interimaire Juin 2017'!J27=Résultat!$C$3,IF('[2]Interimaire Juin 2017'!D27=Résultat!$AS$1,'[2]Interimaire Juin 2017'!F27,"")) -> FALSE | D22: =IF(AND('[2]Interimaire Juin 2017'!D28=Résultat!$AS$1,'[2]Interimaire Juin 2017'!J28=Résultat!$C$3),'[2]Interimaire Juin 2017'!E28,"") | E22: =IF(AND('[2]Interimaire Juin 2017'!D28=Résultat!$AS$1,'[2]Interimaire Juin 2017'!J28=Résultat!$C$3),'[2]Interimaire Juin 2017'!F28,"") | F22: =IF(E22="","",ROW()) | K22: =+IF(A22="",0,7) -> 7 | L22: =+IF(K22>=6,1,0) -> 1 | O22: =+L22 -> 1 | P22: =+IF(A22="",0,7) -> 7 | Q22: =+IF(P22>=6,1,0) -> 1 | T22: =+Q22 -> 1 | U22: =+IF(A22="",0,7) -> 7 | V22: =+IF(U22>=6,1,0) -> 1 | Y22: =+V22 -> 1 | Z22: =+IF(A22="",0,7) -> 7 | AA22: =+IF(Z22>=6,1,0) -> 1 | AD22: =+AA22 -> 1 | AE22: =+IF(A22="",0,7) -> 7 | AF22: =+IF(AE22>=6,1,0) -> 1 | AI22: =+AF22 -> 1 | AK22: =+IF(AJ22>=6,1,0) -> 0 | AN22: =+AK22 -> 0 | AP22: =+IF(AO22>=6,1,0) -> 0 | AS22: =+AP22 -> 0 | AT22: =+AO22+AJ22+AE22+Z22+U22+P22+K22 -> 35 | AU22: =+AQ22+AL22+AG22+AB22+W22+R22+M22 -> 0 | AV22: =+AR22+AM22+AG22+AB22+W22+R22+M22 -> 0 | AW22: =+AS22+AN22+AH22+AC22+X22+S22+N22 -> 0 | AX22: =+O22+T22+Y22+AD22+AI22 -> 5 | BD22: CRIT | BE22: CAMPOSANO | BF22: Aurélie | BG22: 1 | BH22: 42891 | BI22: 42895 | BJ22: 23
... A37: {=IFERROR(INDEX(D:D,SMALL($F$1:$F$203,ROW(INDIRECT("1:"&ROWS(D37:D231))))),"")} -> ABELTRAN | C37: =+IF('[2]Interimaire Juin 2017'!J42=Résultat!$C$3,IF('[2]Interimaire Juin 2017'!D42=Résultat!$AS$1,'[2]Interimaire Juin 2017'!F42,"")) -> FALSE | D37: =IF(AND('[2]Interimaire Juin 2017'!D43=Résultat!$AS$1,'[2]Interimaire Juin 2017'!J43=Résultat!$C$3),'[2]Interimaire Juin 2017'!E43,"") | E37: =IF(AND('[2]Interimaire Juin 2017'!D43=Résultat!$AS$1,'[2]Interimaire Juin 2017'!J43=Résultat!$C$3),'[2]Interimaire Juin 2017'!F43,"") | F37: =IF(E37="","",ROW()) | K37: =+IF(A37="",0,7) -> 7 | L37: =+IF(K37>=6,1,0) -> 1 | O37: =+L37 -> 1 | P37: =+IF(A37="",0,7) -> 7 | Q37: =+IF(P37>=6,1,0) -> 1 | T37: =+Q37 -> 1 | U37: =+IF(A37="",0,7) -> 7 | V37: =+IF(U37>=6,1,0) -> 1 | Y37: =+V37 -> 1 | Z37: =+IF(A37="",0,7) -> 7 | AA37: =+IF(Z37>=6,1,0) -> 1 | AD37: =+AA37 -> 1 | AE37: =+IF(A37="",0,7) -> 7 | AF37: =+IF(AE37>=6,1,0) -> 1 | AI37: =+AF37 -> 1 | AK37: =+IF(AJ37>=6,1,0) -> 0 | AN37: =+AK37 -> 0 | AP37: =+IF(AO37>=6,1,0) -> 0 | AS37: =+AP37 -> 0 | AT37: =+AO37+AJ37+AE37+Z37+U37+P37+K37 -> 35 | AU37: =+AQ37+AL37+AG37+AB37+W37+R37+M37 -> 0 | AV37: =+AR37+AM37+AG37+AB37+W37+R37+M37 -> 0 | AW37: =+AS37+AN37+AH37+AC37+X37+S37+N37 -> 0 | AX37: =+O37+T37+Y37+AD37+AI37 -> 5 | BD37: CRIT | BE37: Charles | BF37: Helena | BG37: 1 | BH37: 42912 | BI37: 42916 | BJ37: 26
A38: {=IFERROR(INDEX($D$9:$D$196,SMALL($F$9:$I$196,ROW(INDIRECT("1:"&ROWS($G$9:$G$196))))),"")} | C38: =+IF('[2]Interimaire Juin 2017'!J43=Résultat!$C$3,IF('[2]Interimaire Juin 2017'!D43=Résultat!$AS$1,'[2]Interimaire Juin 2017'!F43,"")) -> FALSE | D38: =IF(AND('[2]Interimaire Juin 2017'!D44=Résultat!$AS$1,'[2]Interimaire Juin 2017'!J44=Résultat!$C$3),'[2]Interimaire Juin 2017'!E44,"") | E38: =IF(AND('[2]Interimaire Juin 2017'!D44=Résultat!$AS$1,'[2]Interimaire Juin 2017'!J44=Résultat!$C$3),'[2]Interimaire Juin 2017'!F44,"") | F38: =IF(E38="","",ROW()) | K38: =+IF(A38="",0,7) -> 0 | L38: =+IF(K38>=6,1,0) -> 0 | O38: =+L38 -> 0 | P38: =+IF(A38="",0,7) -> 0 | Q38: =+IF(P38>=6,1,0) -> 0 | T38: =+Q38 -> 0 | U38: =+IF(A38="",0,7) -> 0 | V38: =+IF(U38>=6,1,0) -> 0 | Y38: =+V38 -> 0 | Z38: =+IF(A38="",0,7) -> 0 | AA38: =+IF(Z38>=6,1,0) -> 0 | AD38: =+AA38 -> 0 | AE38: =+IF(A38="",0,7) -> 0 | AF38: =+IF(AE38>=6,1,0) -> 0 | AI38: =+AF38 -> 0 | AK38: =+IF(AJ38>=6,1,0) -> 0 | AN38: =+AK38 -> 0 | AP38: =+IF(AO38>=6,1,0) -> 0 | AS38: =+AP38 -> 0 | AT38: =+AO38+AJ38+AE38+Z38+U38+P38+K38 -> 0 | AU38: =+AQ38+AL38+AG38+AB38+W38+R38+M38 -> 0 | AV38: =+AR38+AM38+AG38+AB38+W38+R38+M38 -> 0 | AW38: =+AS38+AN38+AH38+AC38+X38+S38+N38 -> 0 | AX38: =+O38+T38+Y38+AD38+AI38 -> 0 | BD38: CRIT | BE38: DE BALINCOURT | BF38: Thibaud | BG38: 1 | BH38: 42887 | BI38: 42888 | BJ38: 22
A39: {=IFERROR(INDEX($D$9:$D$196,SMALL($F$9:$I$196,ROW(INDIRECT("1:"&ROWS($G$9:$G$196))))),"")} | C39: =+IF('[2]Interimaire Juin 2017'!J44=Résultat!$C$3,IF('[2]Interimaire Juin 2017'!D44=Résultat!$AS$1,'[2]Interimaire Juin 2017'!F44,"")) -> FALSE | D39: =IF(AND('[2]Interimaire Juin 2017'!D45=Résultat!$AS$1,'[2]Interimaire Juin 2017'!J45=Résultat!$C$3),'[2]Interimaire Juin 2017'!E45,"") -> CASONATO | E39: =IF(AND('[2]Interimaire Juin 2017'!D45=Résultat!$AS$1,'[2]Interimaire Juin 2017'!J45=Résultat!$C$3),'[2]Interimaire Juin 2017'!F45,"") -> Charlène | F39: =IF(E39="","",ROW()) -> 39 | K39: =+IF(A39="",0,7) -> 0 | L39: =+IF(K39>=6,1,0) -> 0 | O39: =+L39 -> 0 | P39: =+IF(A39="",0,7) -> 0 | Q39: =+IF(P39>=6,1,0) -> 0 | T39: =+Q39 -> 0 | U39: =+IF(A39="",0,7) -> 0 | V39: =+IF(U39>=6,1,0) -> 0 | Y39: =+V39 -> 0 | Z39: =+IF(A39="",0,7) -> 0 | AA39: =+IF(Z39>=6,1,0) -> 0 | AD39: =+AA39 -> 0 | AE39: =+IF(A39="",0,7) -> 0 | AF39: =+IF(AE39>=6,1,0) -> 0 | AI39: =+AF39 -> 0 | AK39: =+IF(AJ39>=6,1,0) -> 0 | AN39: =+AK39 -> 0 | AP39: =+IF(AO39>=6,1,0) -> 0 | AS39: =+AP39 -> 0 | AT39: =+AO39+AJ39+AE39+Z39+U39+P39+K39 -> 0 | AU39: =+AQ39+AL39+AG39+AB39+W39+R39+M39 -> 0 | AV39: =+AR39+AM39+AG39+AB39+W39+R39+M39 -> 0 | AW39: =+AS39+AN39+AH39+AC39+X39+S39+N39 -> 0 | AX39: =+O39+T39+Y39+AD39+AI39 -> 0 | BD39: CRIT | BE39: DE BALINCOURT | BF39: Thibaud | BG39: 1 | BH39: 42891 | BI39: 42895 | BJ39: 23
A40: {=IFERROR(INDEX($D$9:$D$196,SMALL($F$9:$I$196,ROW(INDIRECT("1:"&ROWS($G$9:$G$196))))),"")} | C40: =+IF('[2]Interimaire Juin 2017'!J45=Résultat!$C$3,IF('[2]Interimaire Juin 2017'!D45=Résultat!$AS$1,'[2]Interimaire Juin 2017'!F45,"")) -> Charlène | D40: =IF(AND('[2]Interimaire Juin 2017'!D46=Résultat!$AS$1,'[2]Interimaire Juin 2017'!J46=Résultat!$C$3),'[2]Interimaire Juin 2017'!E46,"") | E40: =IF(AND('[2]Interimaire Juin 2017'!D46=Résultat!$AS$1,'[2]Interimaire Juin 2017'!J46=Résultat!$C$3),'[2]Interimaire Juin 2017'!F46,"") | F40: =IF(E40="","",ROW()) | K40: =+IF(A40="",0,7) -> 0 | L40: =+IF(K40>=6,1,0) -> 0 | O40: =+L40 -> 0 | P40: =+IF(A40="",0,7) -> 0 | Q40: =+IF(P40>=6,1,0) -> 0 | T40: =+Q40 -> 0 | U40: =+IF(A40="",0,7) -> 0 | V40: =+IF(U40>=6,1,0) -> 0 | Y40: =+V40 -> 0 | Z40: =+IF(A40="",0,7) -> 0 | AA40: =+IF(Z40>=6,1,0) -> 0 | AD40: =+AA40 -> 0 | AE40: =+IF(A40="",0,7) -> 0 | AF40: =+IF(AE40>=6,1,0) -> 0 | AI40: =+AF40 -> 0 | AK40: =+IF(AJ40>=6,1,0) -> 0 | AN40: =+AK40 -> 0 | AP40: =+IF(AO40>=6,1,0) -> 0 | AS40: =+AP40 -> 0 | AT40: =+AO40+AJ40+AE40+Z40+U40+P40+K40 -> 0 | AU40: =+AQ40+AL40+AG40+AB40+W40+R40+M40 -> 0 | AV40: =+AR40+AM40+AG40+AB40+W40+R40+M40 -> 0 | AW40: =+AS40+AN40+AH40+AC40+X40+S40+N40 -> 0 | AX40: =+O40+T40+Y40+AD40+AI40 -> 0 | BD40: CRIT | BE40: DE BALINCOURT | BF40: Thibaud | BG40: 1 | BH40: 42898 | BI40: 42902 | BJ40: 24
A41: {=IFERROR(INDEX($D$9:$D$196,SMALL($F$9:$I$196,ROW(INDIRECT("1:"&ROWS($G$9:$G$196))))),"")} | C41: =+IF('[2]Interimaire Juin 2017'!J46=Résultat!$C$3,IF('[2]Interimaire Juin 2017'!D46=Résultat!$AS$1,'[2]Interimaire Juin 2017'!F46,"")) -> FALSE | D41: =IF(AND('[2]Interimaire Juin 2017'!D47=Résultat!$AS$1,'[2]Interimaire Juin 2017'!J47=Résultat!$C$3),'[2]Interimaire Juin 2017'!E47,"") | E41: =IF(AND('[2]Interimaire Juin 2017'!D47=Résultat!$AS$1,'[2]Interimaire Juin 2017'!J47=Résultat!$C$3),'[2]Interimaire Juin 2017'!F47,"") | F41: =IF(E41="","",ROW()) | K41: =+IF(A41="",0,7) -> 0 | L41: =+IF(K41>=6,1,0) -> 0 | O41: =+L41 -> 0 | P41: =+IF(A41="",0,7) -> 0 | Q41: =+IF(P41>=6,1,0) -> 0 | T41: =+Q41 -> 0 | U41: =+IF(A41="",0,7) -> 0 | V41: =+IF(U41>=6,1,0) -> 0 | Y41: =+V41 -> 0 | Z41: =+IF(A41="",0,7) -> 0 | AA41: =+IF(Z41>=6,1,0) -> 0 | AD41: =+AA41 -> 0 | AE41: =+IF(A41="",0,7) -> 0 | AF41: =+IF(AE41>=6,1,0) -> 0 | AI41: =+AF41 -> 0 | AK41: =+IF(AJ41>=6,1,0) -> 0 | AN41: =+AK41 -> 0 | AP41: =+IF(AO41>=6,1,0) -> 0 | AS41: =+AP41 -> 0 | AT41: =+AO41+AJ41+AE41+Z41+U41+P41+K41 -> 0 | AU41: =+AQ41+AL41+AG41+AB41+W41+R41+M41 -> 0 | AV41: =+AR41+AM41+AG41+AB41+W41+R41+M41 -> 0 | AW41: =+AS41+AN41+AH41+AC41+X41+S41+N41 -> 0 | AX41: =+O41+T41+Y41+AD41+AI41 -> 0 | BD41: CRIT | BE41: DE BALINCOURT | BF41: Thibaud | BG41: 1 | BH41: 42905 | BI41: 42909 | BJ41: 25
A42: {=IFERROR(INDEX($D$9:$D$196,SMALL($F$9:$I$196,ROW(INDIRECT("1:"&ROWS($G$9:$G$196))))),"")} | C42: =+IF('[2]Interimaire Juin 2017'!J47=Résultat!$C$3,IF('[2]Interimaire Juin 2017'!D47=Résultat!$AS$1,'[2]Interimaire Juin 2017'!F47,"")) -> FALSE | D42: =IF(AND('[2]Interimaire Juin 2017'!D48=Résultat!$AS$1,'[2]Interimaire Juin 2017'!J48=Résultat!$C$3),'[2]Interimaire Juin 2017'!E48,"") | E42: =IF(AND('[2]Interimaire Juin 2017'!D48=Résultat!$AS$1,'[2]Interimaire Juin 2017'!J48=Résultat!$C$3),'[2]Interimaire Juin 2017'!F48,"") | F42: =IF(E42="","",ROW()) | K42: =+IF(A42="",0,7) -> 0 | L42: =+IF(K42>=6,1,0) -> 0 | O42: =+L42 -> 0 | P42: =+IF(A42="",0,7) -> 0 | Q42: =+IF(P42>=6,1,0) -> 0 | T42: =+Q42 -> 0 | U42: =+IF(A42="",0,7) -> 0 | V42: =+IF(U42>=6,1,0) -> 0 | Y42: =+V42 -> 0 | Z42: =+IF(A42="",0,7) -> 0 | AA42: =+IF(Z42>=6,1,0) -> 0 | AD42: =+AA42 -> 0 | AE42: =+IF(A42="",0,7) -> 0 | AF42: =+IF(AE42>=6,1,0) -> 0 | AI42: =+AF42 -> 0 | AK42: =+IF(AJ42>=6,1,0) -> 0 | AN42: =+AK42 -> 0 | AP42: =+IF(AO42>=6,1,0) -> 0 | AS42: =+AP42 -> 0 | AT42: =+AO42+AJ42+AE42+Z42+U42+P42+K42 -> 0 | AU42: =+AQ42+AL42+AG42+AB42+W42+R42+M42 -> 0 | AV42: =+AR42+AM42+AG42+AB42+W42+R42+M42 -> 0 | AW42: =+AS42+AN42+AH42+AC42+X42+S42+N42 -> 0 | AX42: =+O42+T42+Y42+AD42+AI42 -> 0 | BD42: CRIT | BE42: DE BALINCOURT | BF42: Thibaud | BG42: 1 | BH42: 42912 | BI42: 42916 | BJ42: 26
A43: {=IFERROR(INDEX($D$9:$D$196,SMALL($F$9:$I$196,ROW(INDIRECT("1:"&ROWS($G$9:$G$196))))),"")} | C43: =+IF('[2]Interimaire Juin 2017'!J48=Résultat!$C$3,IF('[2]Interimaire Juin 2017'!D48=Résultat!$AS$1,'[2]Interimaire Juin 2017'!F48,"")) -> FALSE | D43: =IF(AND('[2]Interimaire Juin 2017'!D49=Résultat!$AS$1,'[2]Interimaire Juin 2017'!J49=Résultat!$C$3),'[2]Interimaire Juin 2017'!E49,"") | E43: =IF(AND('[2]Interimaire Juin 2017'!D49=Résultat!$AS$1,'[2]Interimaire Juin 2017'!J49=Résultat!$C$3),'[2]Interimaire Juin 2017'!F49,"") | F43: =IF(E43="","",ROW()) | K43: =+IF(A43="",0,7) -> 0 | L43: =+IF(K43>=6,1,0) -> 0 | O43: =+L43 -> 0 | P43: =+IF(A43="",0,7) -> 0 | Q43: =+IF(P43>=6,1,0) -> 0 | T43: =+Q43 -> 0 | U43: =+IF(A43="",0,7) -> 0 | V43: =+IF(U43>=6,1,0) -> 0 | Y43: =+V43 -> 0 | Z43: =+IF(A43="",0,7) -> 0 | AA43: =+IF(Z43>=6,1,0) -> 0 | AD43: =+AA43 -> 0 | AE43: =+IF(A43="",0,7) -> 0 | AF43: =+IF(AE43>=6,1,0) -> 0 | AI43: =+AF43 -> 0 | AK43: =+IF(AJ43>=6,1,0) -> 0 | AN43: =+AK43 -> 0 | AP43: =+IF(AO43>=6,1,0) -> 0 | AS43: =+AP43 -> 0 | AT43: =+AO43+AJ43+AE43+Z43+U43+P43+K43 -> 0 | AU43: =+AQ43+AL43+AG43+AB43+W43+R43+M43 -> 0 | AV43: =+AR43+AM43+AG43+AB43+W43+R43+M43 -> 0 | AW43: =+AS43+AN43+AH43+AC43+X43+S43+N43 -> 0 | AX43: =+O43+T43+Y43+AD43+AI43 -> 0 | BD43: CRIT | BE43: DELCRUZEL | BF43: Marc | BG43: 1 | BH43: 42887 | BI43: 42888 | BJ43: 22
A44: {=IFERROR(INDEX($D$9:$D$196,SMALL($F$9:$I$196,ROW(INDIRECT("1:"&ROWS($G$9:$G$196))))),"")} | C44: =+IF('[2]Interimaire Juin 2017'!J49=Résultat!$C$3,IF('[2]Interimaire Juin 2017'!D49=Résultat!$AS$1,'[2]Interimaire Juin 2017'!F49,"")) -> FALSE | D44: =IF(AND('[2]Interimaire Juin 2017'!D50=Résultat!$AS$1,'[2]Interimaire Juin 2017'!J50=Résultat!$C$3),'[2]Interimaire Juin 2017'!E50,"") | E44: =IF(AND('[2]Interimaire Juin 2017'!D50=Résultat!$AS$1,'[2]Interimaire Juin 2017'!J50=Résultat!$C$3),'[2]Interimaire Juin 2017'!F50,"") | F44: =IF(E44="","",ROW()) | K44: =+IF(A44="",0,7) -> 0 | L44: =+IF(K44>=6,1,0) -> 0 | O44: =+L44 -> 0 | P44: =+IF(A44="",0,7) -> 0 | Q44: =+IF(P44>=6,1,0) -> 0 | T44: =+Q44 -> 0 | U44: =+IF(A44="",0,7) -> 0 | V44: =+IF(U44>=6,1,0) -> 0 | Y44: =+V44 -> 0 | Z44: =+IF(A44="",0,7) -> 0 | AA44: =+IF(Z44>=6,1,0) -> 0 | AD44: =+AA44 -> 0 | AE44: =+IF(A44="",0,7) -> 0 | AF44: =+IF(AE44>=6,1,0) -> 0 | AI44: =+AF44 -> 0 | AK44: =+IF(AJ44>=6,1,0) -> 0 | AN44: =+AK44 -> 0 | AP44: =+IF(AO44>=6,1,0) -> 0 | AS44: =+AP44 -> 0 | AT44: =+AO44+AJ44+AE44+Z44+U44+P44+K44 -> 0 | AU44: =+AQ44+AL44+AG44+AB44+W44+R44+M44 -> 0 | AV44: =+AR44+AM44+AG44+AB44+W44+R44+M44 -> 0 | AW44: =+AS44+AN44+AH44+AC44+X44+S44+N44 -> 0 | AX44: =+O44+T44+Y44+AD44+AI44 -> 0 | BD44: CRIT | BE44: DELCRUZEL | BF44: Marc | BG44: 1 | BH44: 42891 | BI44: 42895 | BJ44: 23
A45: {=IFERROR(INDEX($D$9:$D$196,SMALL($F$9:$I$196,ROW(INDIRECT("1:"&ROWS($G$9:$G$196))))),"")} | C45: =+IF('[2]Interimaire Juin 2017'!J50=Résultat!$C$3,IF('[2]Interimaire Juin 2017'!D50=Résultat!$AS$1,'[2]Interimaire Juin 2017'!F50,"")) -> FALSE | D45: =IF(AND('[2]Interimaire Juin 2017'!D51=Résultat!$AS$1,'[2]Interimaire Juin 2017'!J51=Résultat!$C$3),'[2]Interimaire Juin 2017'!E51,"") | E45: =IF(AND('[2]Interimaire Juin 2017'!D51=Résultat!$AS$1,'[2]Interimaire Juin 2017'!J51=Résultat!$C$3),'[2]Interimaire Juin 2017'!F51,"") | F45: =IF(E45="","",ROW()) | K45: =+IF(A45="",0,7) -> 0 | L45: =+IF(K45>=6,1,0) -> 0 | O45: =+L45 -> 0 | P45: =+IF(A45="",0,7) -> 0 | Q45: =+IF(P45>=6,1,0) -> 0 | T45: =+Q45 -> 0 | U45: =+IF(A45="",0,7) -> 0 | V45: =+IF(U45>=6,1,0) -> 0 | Y45: =+V45 -> 0 | Z45: =+IF(A45="",0,7) -> 0 | AA45: =+IF(Z45>=6,1,0) -> 0 | AD45: =+AA45 -> 0 | AE45: =+IF(A45="",0,7) -> 0 | AF45: =+IF(AE45>=6,1,0) -> 0 | AI45: =+AF45 -> 0 | AK45: =+IF(AJ45>=6,1,0) -> 0 | AN45: =+AK45 -> 0 | AP45: =+IF(AO45>=6,1,0) -> 0 | AS45: =+AP45 -> 0 | AT45: =+AO45+AJ45+AE45+Z45+U45+P45+K45 -> 0 | AU45: =+AQ45+AL45+AG45+AB45+W45+R45+M45 -> 0 | AV45: =+AR45+AM45+AG45+AB45+W45+R45+M45 -> 0 | AW45: =+AS45+AN45+AH45+AC45+X45+S45+N45 -> 0 | AX45: =+O45+T45+Y45+AD45+AI45 -> 0 | BD45: CRIT | BE45: DELCRUZEL | BF45: Marc | BG45: 1 | BH45: 42898 | BI45: 42902 | BJ45: 24
A46: {=IFERROR(INDEX($D$9:$D$196,SMALL($F$9:$I$196,ROW(INDIRECT("1:"&ROWS($G$9:$G$196))))),"")} | C46: =+IF('[2]Interimaire Juin 2017'!J51=Résultat!$C$3,IF('[2]Interimaire Juin 2017'!D51=Résultat!$AS$1,'[2]Interimaire Juin 2017'!F51,"")) -> FALSE | D46: =IF(AND('[2]Interimaire Juin 2017'!D52=Résultat!$AS$1,'[2]Interimaire Juin 2017'!J52=Résultat!$C$3),'[2]Interimaire Juin 2017'!E52,"") -> DE BALINCOURT | E46: =IF(AND('[2]Interimaire Juin 2017'!D52=Résultat!$AS$1,'[2]Interimaire Juin 2017'!J52=Résultat!$C$3),'[2]Interimaire Juin 2017'!F52,"") -> Thibaud | F46: =IF(E46="","",ROW()) -> 46 | K46: =+IF(A46="",0,7) -> 0 | L46: =+IF(K46>=6,1,0) -> 0 | O46: =+L46 -> 0 | P46: =+IF(A46="",0,7) -> 0 | Q46: =+IF(P46>=6,1,0) -> 0 | T46: =+Q46 -> 0 | U46: =+IF(A46="",0,7) -> 0 | V46: =+IF(U46>=6,1,0) -> 0 | Y46: =+V46 -> 0 | Z46: =+IF(A46="",0,7) -> 0 | AA46: =+IF(Z46>=6,1,0) -> 0 | AD46: =+AA46 -> 0 | AE46: =+IF(A46="",0,7) -> 0 | AF46: =+IF(AE46>=6,1,0) -> 0 | AI46: =+AF46 -> 0 | AK46: =+IF(AJ46>=6,1,0) -> 0 | AN46: =+AK46 -> 0 | AP46: =+IF(AO46>=6,1,0) -> 0 | AS46: =+AP46 -> 0 | AT46: =+AO46+AJ46+AE46+Z46+U46+P46+K46 -> 0 | AU46: =+AQ46+AL46+AG46+AB46+W46+R46+M46 -> 0 | AV46: =+AR46+AM46+AG46+AB46+W46+R46+M46 -> 0 | AW46: =+AS46+AN46+AH46+AC46+X46+S46+N46 -> 0 | AX46: =+O46+T46+Y46+AD46+AI46 -> 0 | BD46: CRIT | BE46: DELCRUZEL | BF46: Marc | BG46: 1 | BH46: 42905 | BI46: 42909 | BJ46: 25
A47: {=IFERROR(INDEX($D$9:$D$196,SMALL($F$9:$I$196,ROW(INDIRECT("1:"&ROWS($G$9:$G$196))))),"")} | C47: =+IF('[2]Interimaire Juin 2017'!J52=Résultat!$C$3,IF('[2]Interimaire Juin 2017'!D52=Résultat!$AS$1,'[2]Interimaire Juin 2017'!F52,"")) -> Thibaud | D47: =IF(AND('[2]Interimaire Juin 2017'!D53=Résultat!$AS$1,'[2]Interimaire Juin 2017'!J53=Résultat!$C$3),'[2]Interimaire Juin 2017'!E53,"") | E47: =IF(AND('[2]Interimaire Juin 2017'!D53=Résultat!$AS$1,'[2]Interimaire Juin 2017'!J53=Résultat!$C$3),'[2]Interimaire Juin 2017'!F53,"") | F47: =IF(E47="","",ROW()) | K47: =+IF(A47="",0,7) -> 0 | L47: =+IF(K47>=6,1,0) -> 0 | O47: =+L47 -> 0 | P47: =+IF(A47="",0,7) -> 0 | Q47: =+IF(P47>=6,1,0) -> 0 | T47: =+Q47 -> 0 | U47: =+IF(A47="",0,7) -> 0 | V47: =+IF(U47>=6,1,0) -> 0 | Y47: =+V47 -> 0 | Z47: =+IF(A47="",0,7) -> 0 | AA47: =+IF(Z47>=6,1,0) -> 0 | AD47: =+AA47 -> 0 | AE47: =+IF(A47="",0,7) -> 0 | AF47: =+IF(AE47>=6,1,0) -> 0 | AI47: =+AF47 -> 0 | BD47: CRIT | BE47: DELCRUZEL | BF47: Marc | BG47: 1 | BH47: 42912 | BI47: 42916 | BJ47: 26
A48: {=IFERROR(INDEX($D$9:$D$196,SMALL($F$9:$I$196,ROW(INDIRECT("1:"&ROWS($G$9:$G$196))))),"")} | C48: =+IF('[2]Interimaire Juin 2017'!J53=Résultat!$C$3,IF('[2]Interimaire Juin 2017'!D53=Résultat!$AS$1,'[2]Interimaire Juin 2017'!F53,"")) -> FALSE | D48: =IF(AND('[2]Interimaire Juin 2017'!D54=Résultat!$AS$1,'[2]Interimaire Juin 2017'!J54=Résultat!$C$3),'[2]Interimaire Juin 2017'!E54,"") | E48: =IF(AND('[2]Interimaire Juin 2017'!D54=Résultat!$AS$1,'[2]Interimaire Juin 2017'!J54=Résultat!$C$3),'[2]Interimaire Juin 2017'!F54,"") | F48: =IF(E48="","",ROW()) | K48: =+IF(A48="",0,7) -> 0 | L48: =+IF(K48>=6,1,0) -> 0 | O48: =+L48 -> 0 | P48: =+IF(A48="",0,7) -> 0 | Q48: =+IF(P48>=6,1,0) -> 0 | T48: =+Q48 -> 0 | U48: =+IF(A48="",0,7) -> 0 | V48: =+IF(U48>=6,1,0) -> 0 | Y48: =+V48 -> 0 | Z48: =+IF(A48="",0,7) -> 0 | AA48: =+IF(Z48>=6,1,0) -> 0 | AD48: =+AA48 -> 0 | AE48: =+IF(A48="",0,7) -> 0 | AF48: =+IF(AE48>=6,1,0) -> 0 | AI48: =+AF48 -> 0 | BD48: CRIT | BE48: DERNI | BF48: Laura | BG48: 1 | BH48: 42887 | BI48: 42888 | BJ48: 22
A49: {=IFERROR(INDEX($D$9:$D$196,SMALL($F$9:$I$196,ROW(INDIRECT("1:"&ROWS($G$9:$G$196))))),"")} | C49: =+IF('[2]Interimaire Juin 2017'!J54=Résultat!$C$3,IF('[2]Interimaire Juin 2017'!D54=Résultat!$AS$1,'[2]Interimaire Juin 2017'!F54,"")) -> FALSE | D49: =IF(AND('[2]Interimaire Juin 2017'!D55=Résultat!$AS$1,'[2]Interimaire Juin 2017'!J55=Résultat!$C$3),'[2]Interimaire Juin 2017'!E55,"") | E49: =IF(AND('[2]Interimaire Juin 2017'!D55=Résultat!$AS$1,'[2]Interimaire Juin 2017'!J55=Résultat!$C$3),'[2]Interimaire Juin 2017'!F55,"") | F49: =IF(E49="","",ROW()) | K49: =+IF(A49="",0,7) -> 0 | L49: =+IF(K49>=6,1,0) -> 0 | O49: =+L49 -> 0 | P49: =+IF(A49="",0,7) -> 0 | Q49: =+IF(P49>=6,1,0) -> 0 | T49: =+Q49 -> 0 | U49: =+IF(A49="",0,7) -> 0 | V49: =+IF(U49>=6,1,0) -> 0 | Y49: =+V49 -> 0 | Z49: =+IF(A49="",0,7) -> 0 | AA49: =+IF(Z49>=6,1,0) -> 0 | AD49: =+AA49 -> 0 | AE49: =+IF(A49="",0,7) -> 0 | AF49: =+IF(AE49>=6,1,0) -> 0 | AI49: =+AF49 -> 0 | BD49: CRIT | BE49: DERNI | BF49: Laura | BG49: 1 | BH49: 42891 | BI49: 42895 | BJ49: 23
A50: {=IFERROR(INDEX($D$9:$D$196,SMALL($F$9:$I$196,ROW(INDIRECT("1:"&ROWS($G$9:$G$196))))),"")} | C50: =+IF('[2]Interimaire Juin 2017'!J55=Résultat!$C$3,IF('[2]Interimaire Juin 2017'!D55=Résultat!$AS$1,'[2]Interimaire Juin 2017'!F55,"")) -> FALSE | D50: =IF(AND('[2]Interimaire Juin 2017'!D56=Résultat!$AS$1,'[2]Interimaire Juin 2017'!J56=Résultat!$C$3),'[2]Interimaire Juin 2017'!E56,"") | E50: =IF(AND('[2]Interimaire Juin 2017'!D56=Résultat!$AS$1,'[2]Interimaire Juin 2017'!J56=Résultat!$C$3),'[2]Interimaire Juin 2017'!F56,"") | F50: =IF(E50="","",ROW()) | K50: =+IF(A50="",0,7) -> 0 | L50: =+IF(K50>=6,1,0) -> 0 | O50: =+L50 -> 0 | P50: =+IF(A50="",0,7) -> 0 | Q50: =+IF(P50>=6,1,0) -> 0 | T50: =+Q50 -> 0 | U50: =+IF(A50="",0,7) -> 0 | V50: =+IF(U50>=6,1,0) -> 0 | Y50: =+V50 -> 0 | Z50: =+IF(A50="",0,7) -> 0 | AA50: =+IF(Z50>=6,1,0) -> 0 | AD50: =+AA50 -> 0 | AE50: =+IF(A50="",0,7) -> 0 | AF50: =+IF(AE50>=6,1,0) -> 0 | AI50: =+AF50 -> 0 | BD50: CRIT | BE50: DERNI | BF50: Laura | BG50: 1 | BH50: 42898 | BI50: 42902 | BJ50: 24
A51: {=IFERROR(INDEX($D$9:$D$196,SMALL($F$9:$I$196,ROW(INDIRECT("1:"&ROWS($G$9:$G$196))))),"")} | C51: =+IF('[2]Interimaire Juin 2017'!J56=Résultat!$C$3,IF('[2]Interimaire Juin 2017'!D56=Résultat!$AS$1,'[2]Interimaire Juin 2017'!F56,"")) -> FALSE | D51: =IF(AND('[2]Interimaire Juin 2017'!D57=Résultat!$AS$1,'[2]Interimaire Juin 2017'!J57=Résultat!$C$3),'[2]Interimaire Juin 2017'!E57,"") -> DELCRUZEL | E51: =IF(AND('[2]Interimaire Juin 2017'!D57=Résultat!$AS$1,'[2]Interimaire Juin 2017'!J57=Résultat!$C$3),'[2]Interimaire Juin 2017'!F57,"") -> Marc | F51: =IF(E51="","",ROW()) -> 51 | K51: =+IF(A51="",0,7) -> 0 | L51: =+IF(K51>=6,1,0) -> 0 | O51: =+L51 -> 0 | P51: =+IF(A51="",0,7) -> 0 | Q51: =+IF(P51>=6,1,0) -> 0 | T51: =+Q51 -> 0 | U51: =+IF(A51="",0,7) -> 0 | V51: =+IF(U51>=6,1,0) -> 0 | Y51: =+V51 -> 0 | Z51: =+IF(A51="",0,7) -> 0 | AA51: =+IF(Z51>=6,1,0) -> 0 | AD51: =+AA51 -> 0 | AE51: =+IF(A51="",0,7) -> 0 | AF51: =+IF(AE51>=6,1,0) -> 0 | AI51: =+AF51 -> 0 | BD51: CRIT | BE51: DERNI | BF51: Laura | BG51: 1 | BH51: 42905 | BI51: 42909 | BJ51: 25
A52: {=IFERROR(INDEX($D$9:$D$196,SMALL($F$9:$I$196,ROW(INDIRECT("1:"&ROWS($G$9:$G$196))))),"")} | C52: =+IF('[2]Interimaire Juin 2017'!J57=Résultat!$C$3,IF('[2]Interimaire Juin 2017'!D57=Résultat!$AS$1,'[2]Interimaire Juin 2017'!F57,"")) -> Marc | D52: =IF(AND('[2]Interimaire Juin 2017'!D58=Résultat!$AS$1,'[2]Interimaire Juin 2017'!J58=Résultat!$C$3),'[2]Interimaire Juin 2017'!E58,"") | E52: =IF(AND('[2]Interimaire Juin 2017'!D58=Résultat!$AS$1,'[2]Interimaire Juin 2017'!J58=Résultat!$C$3),'[2]Interimaire Juin 2017'!F58,"") | F52: =IF(E52="","",ROW()) | K52: =+IF(A52="",0,7) -> 0 | L52: =+IF(K52>=6,1,0) -> 0 | O52: =+L52 -> 0 | P52: =+IF(A52="",0,7) -> 0 | Q52: =+IF(P52>=6,1,0) -> 0 | T52: =+Q52 -> 0 | U52: =+IF(A52="",0,7) -> 0 | V52: =+IF(U52>=6,1,0) -> 0 | Y52: =+V52 -> 0 | Z52: =+IF(A52="",0,7) -> 0 | AA52: =+IF(Z52>=6,1,0) -> 0 | AD52: =+AA52 -> 0 | AE52: =+IF(A52="",0,7) -> 0 | AF52: =+IF(AE52>=6,1,0) -> 0 | AI52: =+AF52 -> 0 | BD52: CRIT | BE52: DERNI | BF52: Laura | BG52: 1 | BH52: 42912 | BI52: 42913 | BJ52: 26
A53: {=IFERROR(INDEX($D$9:$D$196,SMALL($F$9:$I$196,ROW(INDIRECT("1:"&ROWS($G$9:$G$196))))),"")} | C53: =+IF('[2]Interimaire Juin 2017'!J58=Résultat!$C$3,IF('[2]Interimaire Juin 2017'!D58=Résultat!$AS$1,'[2]Interimaire Juin 2017'!F58,"")) -> FALSE | D53: =IF(AND('[2]Interimaire Juin 2017'!D59=Résultat!$AS$1,'[2]Interimaire Juin 2017'!J59=Résultat!$C$3),'[2]Interimaire Juin 2017'!E59,"") | E53: =IF(AND('[2]Interimaire Juin 2017'!D59=Résultat!$AS$1,'[2]Interimaire Juin 2017'!J59=Résultat!$C$3),'[2]Interimaire Juin 2017'!F59,"") | F53: =IF(E53="","",ROW()) | K53: =+IF(A53="",0,7) -> 0 | L53: =+IF(K53>=6,1,0) -> 0 | O53: =+L53 -> 0 | P53: =+IF(A53="",0,7) -> 0 | Q53: =+IF(P53>=6,1,0) -> 0 | T53: =+Q53 -> 0 | U53: =+IF(A53="",0,7) -> 0 | V53: =+IF(U53>=6,1,0) -> 0 | Y53: =+V53 -> 0 | Z53: =+IF(A53="",0,7) -> 0 | AA53: =+IF(Z53>=6,1,0) -> 0 | AD53: =+AA53 -> 0 | AE53: =+IF(A53="",0,7) -> 0 | AF53: =+IF(AE53>=6,1,0) -> 0 | AI53: =+AF53 -> 0 | BD53: CRIT | BE53: DUHAMEL | BF53: Mickael | BG53: 1 | BH53: 42887 | BI53: 42888 | BJ53: 22
A54: {=IFERROR(INDEX($D$9:$D$196,SMALL($F$9:$I$196,ROW(INDIRECT("1:"&ROWS($G$9:$G$196))))),"")} | C54: =+IF('[2]Interimaire Juin 2017'!J59=Résultat!$C$3,IF('[2]Interimaire Juin 2017'!D59=Résultat!$AS$1,'[2]Interimaire Juin 2017'!F59,"")) -> FALSE | D54: =IF(AND('[2]Interimaire Juin 2017'!D60=Résultat!$AS$1,'[2]Interimaire Juin 2017'!J60=Résultat!$C$3),'[2]Interimaire Juin 2017'!E60,"") | E54: =IF(AND('[2]Interimaire Juin 2017'!D60=Résultat!$AS$1,'[2]Interimaire Juin 2017'!J60=Résultat!$C$3),'[2]Interimaire Juin 2017'!F60,"") | F54: =IF(E54="","",ROW()) | K54: =+IF(A54="",0,7) -> 0 | L54: =+IF(K54>=6,1,0) -> 0 | O54: =+L54 -> 0 | P54: =+IF(A54="",0,7) -> 0 | Q54: =+IF(P54>=6,1,0) -> 0 | T54: =+Q54 -> 0 | U54: =+IF(A54="",0,7) -> 0 | V54: =+IF(U54>=6,1,0) -> 0 | Y54: =+V54 -> 0 | Z54: =+IF(A54="",0,7) -> 0 | AA54: =+IF(Z54>=6,1,0) -> 0 | AD54: =+AA54 -> 0 | AE54: =+IF(A54="",0,7) -> 0 | AF54: =+IF(AE54>=6,1,0) -> 0 | AI54: =+AF54 -> 0 | BD54: CRIT | BE54: DUHAMEL | BF54: Mickael | BG54: 1 | BH54: 42891 | BI54: 42894 | BJ54: 23
...
