Workbook
Name AAN: #REF!
Name AAN: #REF!
Name AmendDate: #REF!
Name AmendDate: #REF!
Name AmendExplain: #REF!
Name AmendExplain: #REF!
Name AmendNetProjBen: #REF!
Name AmendNetProjBen: #REF!
Name AN: #REF!
Name AN: #REF!
Name Ann: '[1]Facturation Mensuelle'!$A$1
Name Annee: #REF!
Name Annee: #REF!
Name Année: #REF!
Name Année: #REF!
Name AppCBBDate: #REF!
Name AppCBBDate: #REF!
Name AppCBBName: #REF!
Name AppCBBName: #REF!
Name AppCCorpSCName: #REF!
Name AppCCorpSCName: #REF!
Name AppCDeployChpDate: #REF!
Name AppCDeployChpDate: #REF!
Name AppCDeployChpName: #REF!
Name AppCDeployChpName: #REF!
Name AppCFinCcpName: #REF!
Name AppCFinCcpName: #REF!
Name AppCFInChpDate: #REF!
Name AppCFInChpDate: #REF!
Name AppCPODate: #REF!
Name AppCPODate: #REF!
Name AppCPOName: #REF!
Name AppCPOName: #REF!
Name AppCSCDate: #REF!
Name AppCSCDate: #REF!
Name AppCSSADate: #REF!
Name AppCSSADate: #REF!
Name AppCSSANAme: #REF!
Name AppCSSANAme: #REF!
Name AppDeployChpDate: #REF!
Name AppDeployChpDate: #REF!
Name AppFinChpDate: #REF!
Name AppFinChpDate: #REF!
Name AppFinChpName: #REF!
Name AppFinChpName: #REF!
Name AppProcOwnDate: #REF!
Name AppProcOwnDate: #REF!
Name ApproveBBDate: #REF!
Name ApproveBBDate: #REF!
Name ApproveBBName: #REF!
Name ApproveBBName: #REF!
Name ApproveProcOwner: #REF!
Name ApproveProcOwner: #REF!
Name AppSSADate: #REF!
Name AppSSADate: #REF!
Name AppSSANAme: #REF!
Name AppSSANAme: #REF!
Name BaselinePeriod: #REF!
Name BaselinePeriod: #REF!
Name BaseRevEbitMarginPct: #REF!

Sheet Donnée
A1: Société | B1: Nom | C1: Prénom | D1: Début | E1: Fin | F1: N° Semaine
A2: CRIT | B2: ABELTRAN | C2: Jawad | D2: 42887 | E2: 42888 | F2: 22 | G2: la formule que je cherche est :
A3: CRIT | B3: ABELTRAN | C3: Jawad | D3: 42891 | E3: 42895 | F3: 23 | G3: si N°Semaine =22;si Nom Société =Crit;alors affichage nom et prénom
A4: CRIT | B4: ABELTRAN | C4: Jawad | D4: 42898 | E4: 42902 | F4: 24
A5: CRIT | B5: ABELTRAN | C5: Jawad | D5: 42905 | E5: 42909 | F5: 25 | G5: Ci dessous le résultat attendue
A6: CRIT | B6: ABELTRAN | C6: Jawad | D6: 42912 | E6: 42916 | F6: 26 | G6: Nom | H6: Prénom
A7: CRIT | B7: AIT ABDELMALEK | C7: Larbi | D7: 42887 | E7: 42888 | F7: 22 | G7: ABELTRAN | H7: Jawad
A8: CRIT | B8: AIT ABDELMALEK | C8: Larbi | D8: 42891 | E8: 42895 | F8: 23 | G8: AIT ABDELMALEK | H8: Larbi
A9: CRIT | B9: AIT ABDELMALEK | C9: Larbi | D9: 42898 | E9: 42902 | F9: 24 | G9: AOUED | H9: Fatma Nadia
A10: CRIT | B10: AIT ABDELMALEK | C10: Larbi | D10: 42905 | E10: 42909 | F10: 25 | G10: BILA | H10: Cédric
A11: CRIT | B11: AIT ABDELMALEK | C11: Larbi | D11: 42912 | E11: 42916 | F11: 26 | G11: CAMPOSANO | H11: Aurélie
A12: CRIT | B12: AOUED | C12: Fatma Nadia | D12: 42887 | E12: 42888 | F12: 22 | G12: CANCAN | H12: Jeremy
A13: CRIT | B13: AOUED | C13: Fatma Nadia | D13: 42891 | E13: 42895 | F13: 23 | G13: CASONATO | H13: Charlène
A14: CRIT | B14: AOUED | C14: Fatma Nadia | D14: 42898 | E14: 42902 | F14: 24 | G14: DE BALINCOURT | H14: Thibaud
A15: CRIT | B15: AOUED | C15: Fatma Nadia | D15: 42905 | E15: 42909 | F15: 25 | G15: DELCRUZEL | H15: Marc
A16: CRIT | B16: AOUED | C16: Fatma Nadia | D16: 42912 | E16: 42916 | F16: 26 | G16: DERNI | H16: Laura
A17: CRIT | B17: BILA | C17: Cédric | D17: 42887 | E17: 42888 | F17: 22 | G17: DUHAMEL | H17: Mickael
... A38: CRIT | B38: Charles | C38: Helena | D38: 42912 | E38: 42916 | F38: 26 | G38: VINCENT | H38: Laurent
A39: CRIT | B39: DE BALINCOURT | C39: Thibaud | D39: 42887 | E39: 42888 | F39: 22
A40: CRIT | B40: DE BALINCOURT | C40: Thibaud | D40: 42891 | E40: 42895 | F40: 23
A41: CRIT | B41: DE BALINCOURT | C41: Thibaud | D41: 42898 | E41: 42902 | F41: 24
A42: CRIT | B42: DE BALINCOURT | C42: Thibaud | D42: 42905 | E42: 42909 | F42: 25
A43: CRIT | B43: DE BALINCOURT | C43: Thibaud | D43: 42912 | E43: 42916 | F43: 26
A44: CRIT | B44: DELCRUZEL | C44: Marc | D44: 42887 | E44: 42888 | F44: 22
A45: CRIT | B45: DELCRUZEL | C45: Marc | D45: 42891 | E45: 42895 | F45: 23
A46: CRIT | B46: DELCRUZEL | C46: Marc | D46: 42898 | E46: 42902 | F46: 24
A47: CRIT | B47: DELCRUZEL | C47: Marc | D47: 42905 | E47: 42909 | F47: 25
A48: CRIT | B48: DELCRUZEL | C48: Marc | D48: 42912 | E48: 42916 | F48: 26
A49: CRIT | B49: DERNI | C49: Laura | D49: 42887 | E49: 42888 | F49: 22
A50: CRIT | B50: DERNI | C50: Laura | D50: 42891 | E50: 42895 | F50: 23
... A196: CRIT | B196: VINCENT | C196: Laurent | D196: 42912 | E196: 42916 | F196: 26

Sheet Résultat
A1: Relevé des heures hebdomadaires intérimaires | AS1: CRIT | BA1: 2017 | BD1: CRIT | BE1: ABELTRAN | BF1: Jawad | BG1: 1 | BH1: 42887 | BI1: 42888 | BJ1: 22
A2: Mois : | C2: =+TEXT(B4,"MMMM")&"/"&TEXT(B4,"AAAA") -> mai/2017 | BD2: CRIT | BE2: ABELTRAN | BF2: Jawad | BG2: 1 | BH2: 42891 | BI2: 42895 | BJ2: 23
A3: Semaine : | C3: 22 | K3: =+C3 -> 22 | BD3: CRIT | BE3: ABELTRAN | BF3: Jawad | BG3: 1 | BH3: 42898 | BI3: 42902 | BJ3: 24
A4: DU: | B4: =+IF(ISNA(VLOOKUP($C$3,[2]Feuil4!$B$1:$F$31,4,FALSE)),"",VLOOKUP($C$3,[2]Feuil4!B1:F31,4,FALSE)) -> 42884 | BD4: CRIT | BE4: ABELTRAN | BF4: Jawad | BG4: 1 | BH4: 42905 | BI4: 42909 | BJ4: 25
A5: AU : | B5: {=+IF(ISNA(VLOOKUP($C$3,[2]Feuil4!$B$1:$F$31,5,FALSE)),"",VLOOKUP($C$3,[2]Feuil4!B1:F31,5,FALSE))} -> 42888 | BD5: CRIT | BE5: ABELTRAN | BF5: Jawad | BG5: 1 | BH5: 42912 | BI5: 42916 | BJ5: 26
BD6: CRIT | BE6: AIT ABDELMALEK | BF6: Larbi | BG6: 1 | BH6: 42887 | BI6: 42888 | BJ6: 22
K7: Lundi | P7: Mardi | U7: Mercredi | Z7: Jeudi | AE7: Vendredi | AT7: Total | BD7: CRIT | BE7: AIT ABDELMALEK | BF7: Larbi | BG7: 1 | BH7: 42891 | BI7: 42895 | BJ7: 23
A8: Nom | C8: Prénom | K8: Heures | M8: HS | N8: H Nuits | O8: TR | P8: Heures | R8: HS | S8: H Nuits | T8: TR | U8: Heures | W8: HS | X8: H Nuits | Y8: TR | Z8: Heures | AB8: HS | AC8: H Nuits | AD8: TR | AE8: Heures | AG8: HS | AH8: H Nuits | AI8: TR | AJ8: Samedi | AO8: Dimanche | AT8: Heures | AV8: HS | AW8: H Nuits | AX8: TR | BD8: CRIT | BE8: AIT ABDELMALEK | BF8: Larbi | BG8: 1 | BH8: 42898 | BI8: 42902 | BJ8: 24
A9: {=IFERROR(INDEX(D:D,SMALL($F$1:$F$203,ROW(INDIRECT("1:"&ROWS(D8:D202))))),"")} -> ABELTRAN | D9: =IF(AND('[2]Interimaire Juin 2017'!D15=Résultat!$AS$1,'[2]Interimaire Juin 2017'!J15=Résultat!$C$3),'[2]Interimaire Juin 2017'!E15,"") -> ABELTRAN | E9: =IF(AND('[2]Interimaire Juin 2017'!D15=Résultat!$AS$1,'[2]Interimaire Juin 2017'!J15=Résultat!$C$3),'[2]Interimaire Juin 2017'!F15,"") -> Jawad | F9: =IF(E9="","",ROW()) -> 9 | BD9: CRIT | BE9: AIT ABDELMALEK | BF9: Larbi | BG9: 1 | BH9: 42905 | BI9: 42909 | BJ9: 25
A10: {=IFERROR(INDEX(D:D,SMALL($F$1:$F$203,ROW(INDIRECT("1:"&ROWS(D9:D203))))),"")} -> ABELTRAN | C10: =+IF('[2]Interimaire Juin 2017'!J15=Résultat!$C$3,IF('[2]Interimaire Juin 2017'!D15=Résultat!$AS$1,'[2]Interimaire Juin 2017'!F15,"")) -> Jawad | D10: =IF(AND('[2]Interimaire Juin 2017'!D16=Résultat!$AS$1,'[2]Interimaire Juin 2017'!J16=Résultat!$C$3),'[2]Interimaire Juin 2017'!E16,"") | E10: =IF(AND('[2]Interimaire Juin 2017'!D16=Résultat!$AS$1,'[2]Interimaire Juin 2017'!J16=Résultat!$C$3),'[2]Interimaire Juin 2017'!F16,"") | F10: =IF(E10="","",ROW()) | K10: 6.3 | L10: =+IF(K10>=6,1,0) -> 1 | O10: =+L10 -> 1 | P10: =+IF(A10="",0,7) -> 7 | Q10: =+IF(P10>=6,1,0) -> 1 | T10: =+Q10 -> 1 | U10: =+IF(A10="",0,7) -> 7 | V10: =+IF(U10>=6,1,0) -> 1 | Y10: =+V10 -> 1 | Z10: =+IF(A10="",0,7) -> 7 | AA10: =+IF(Z10>=6,1,0) -> 1 | AD10: =+AA10 -> 1 | AE10: =+IF(A10="",0,7) -> 7 | AF10: =+IF(AE10>=6,1,0) -> 1 | AI10: =+AF10 -> 1 | AK10: =+IF(AJ10>=6,1,0) -> 0 | AN10: =+AK10 -> 0 | AP10: =+IF(AO10>=6,1,0) -> 0 | AS10: =+AP10 -> 0 | AT10: =+AO10+AJ10+AE10+Z10+U10+P10+K10 -> 34.3 | AU10: =+AQ10+AL10+AG10+AB10+W10+R10+M10 -> 0 | AV10: =+AR10+AM10+AG10+AB10+W10+R10+M10 -> 0 | AW10: =+AS10+AN10+AH10+AC10+X10+S10+N10 -> 0 | AX10: =+O10+T10+Y10+AD10+AI10 -> 5 | BD10: CRIT | BE10: AIT ABDELMALEK | BF10: Larbi | BG10: 1 | BH10: 42912 | BI10: 42916 | BJ10: 26
A11: {=IFERROR(INDEX(D:D,SMALL($F$1:$F$203,ROW(INDIRECT("1:"&ROWS(D11:D205))))),"")} -> ABELTRAN | C11: =+IF('[2]Interimaire Juin 2017'!J16=Résultat!$C$3,IF('[2]Interimaire Juin 2017'!D16=Résultat!$AS$1,'[2]Interimaire Juin 2017'!F16,"")) -> FALSE | D11: =IF(AND('[2]Interimaire Juin 2017'!D17=Résultat!$AS$1,'[2]Interimaire Juin 2017'!J17=Résultat!$C$3),'[2]Interimaire Juin 2017'!E17,"") | E11: =IF(AND('[2]Interimaire Juin 2017'!D17=Résultat!$AS$1,'[2]Interimaire Juin 2017'!J17=Résultat!$C$3),'[2]Interimaire Juin 2017'!F17,"") | F11: =IF(E11="","",ROW()) | K11: =+IF(A11="",0,7) -> 7 | L11: =+IF(K11>=6,1,0) -> 1 | O11: =+L11 -> 1 | P11: =+IF(A11="",0,7) -> 7 | Q11: =+IF(P11>=6,1,0) -> 1 | T11: =+Q11 -> 1 | U11: =+IF(A11="",0,7) -> 7 | V11: =+IF(U11>=6,1,0) -> 1 | Y11: =+V11 -> 1 | Z11: =+IF(A11="",0,7) -> 7 | AA11: =+IF(Z11>=6,1,0) -> 1 | AD11: =+AA11 -> 1 | AE11: =+IF(A11="",0,7) -> 7 | AF11: =+IF(AE11>=6,1,0) -> 1 | AI11: =+AF11 -> 1 | AK11: =+IF(AJ11>=6,1,0) -> 0 | AN11: =+AK11 -> 0 | AP11: =+IF(AO11>=6,1,0) -> 0 | AS11: =+AP11 -> 0 | AT11: =+AO11+AJ11+AE11+Z11+U11+P11+K11 -> 35 | AU11: =+AQ11+AL11+AG11+AB11+W11+R11+M11 -> 0 | AV11: =+AR11+AM11+AG11+AB11+W11+R11+M11 -> 0 | AW11: =+AS11+AN11+AH11+AC11+X11+S11+N11 -> 0 | AX11: =+O11+T11+Y11+AD11+AI11 -> 5 | BD11: CRIT | BE11: AOUED | BF11: Fatma Nadia | BG11: 1 | BH11: 42887 | BI11: 42888 | BJ11: 22
A12: {=IFERROR(INDEX(D:D,SMALL($F$1:$F$203,ROW(INDIRECT("1:"&ROWS(D12:D206))))),"")} -> ABELTRAN | C12: =+IF('[2]Interimaire Juin 2017'!J17=Résultat!$C$3,IF('[2]Interimaire Juin 2017'!D17=Résultat!$AS$1,'[2]Interimaire Juin 2017'!F17,"")) -> FALSE | D12: =IF(AND('[2]Interimaire Juin 2017'!D18=Résultat!$AS$1,'[2]Interimaire Juin 2017'!J18=Résultat!$C$3),'[2]Interimaire Juin 2017'!E18,"") | E12: =IF(AND('[2]Interimaire Juin 2017'!D18=Résultat!$AS$1,'[2]Interimaire Juin 2017'!J18=Résultat!$C$3),'[2]Interimaire Juin 2017'!F18,"") | F12: =IF(E12="","",ROW()) | K12: =+IF(A12="",0,7) -> 7 | L12: =+IF(K12>=6,1,0) -> 1 | O12: =+L12 -> 1 | P12: =+IF(A12="",0,7) -> 7 | Q12: =+IF(P12>=6,1,0) -> 1 | T12: =+Q12 -> 1 | U12: =+IF(A12="",0,7) -> 7 | V12: =+IF(U12>=6,1,0) -> 1 | Y12: =+V12 -> 1 | Z12: =+IF(A12="",0,7) -> 7 | AA12: =+IF(Z12>=6,1,0) -> 1 | AD12: =+AA12 -> 1 | AE12: =+IF(A12="",0,7) -> 7 | AF12: =+IF(AE12>=6,1,0) -> 1 | AI12: =+AF12 -> 1 | AK12: =+IF(AJ12>=6,1,0) -> 0 | AN12: =+AK12 -> 0 | AP12: =+IF(AO12>=6,1,0) -> 0 | AS12: =+AP12 -> 0 | AT12: =+AO12+AJ12+AE12+Z12+U12+P12+K12 -> 35 | AU12: =+AQ12+AL12+AG12+AB12+W12+R12+M12 -> 0 | AV12: =+AR12+AM12+AG12+AB12+W12+R12+M12 -> 0 | AW12: =+AS12+AN12+AH12+AC12+X12+S12+N12 -> 0 | AX12: =+O12+T12+Y12+AD12+AI12 -> 5 | BD12: CRIT | BE12: AOUED | BF12: Fatma Nadia | BG12: 1 | BH12: 42891 | BI12: 42895 | BJ12: 23
A13: {=IFERROR(INDEX(D:D,SMALL($F$1:$F$203,ROW(INDIRECT("1:"&ROWS(D13:D207))))),"")} -> ABELTRAN | C13: =+IF('[2]Interimaire Juin 2017'!J18=Résultat!$C$3,IF('[2]Interimaire Juin 2017'!D18=Résultat!$AS$1,'[2]Interimaire Juin 2017'!F18,"")) -> FALSE | D13: =IF(AND('[2]Interimaire Juin 2017'!D19=Résultat!$AS$1,'[2]Interimaire Juin 2017'!J19=Résultat!$C$3),'[2]Interimaire Juin 2017'!E19,"") | E13: =IF(AND('[2]Interimaire Juin 2017'!D19=Résultat!$AS$1,'[2]Interimaire Juin 2017'!J19=Résultat!$C$3),'[2]Interimaire Juin 2017'!F19,"") | F13: =IF(E13="","",ROW()) | K13: =+IF(A13="",0,7) -> 7 | L13: =+IF(K13>=6,1,0) -> 1 | O13: =+L13 -> 1 | P13: =+IF(A13="",0,7) -> 7 | Q13: =+IF(P13>=6,1,0) -> 1 | T13: =+Q13 -> 1 | U13: =+IF(A13="",0,7) -> 7 | V13: =+IF(U13>=6,1,0) -> 1 | Y13: =+V13 -> 1 | Z13: =+IF(A13="",0,7) -> 7 | AA13: =+IF(Z13>=6,1,0) -> 1 | AD13: =+AA13 -> 1 | AE13: =+IF(A13="",0,7) -> 7 | AF13: =+IF(AE13>=6,1,0) -> 1 | AI13: =+AF13 -> 1 | AK13: =+IF(AJ13>=6,1,0) -> 0 | AN13: =+AK13 -> 0 | AP13: =+IF(AO13>=6,1,0) -> 0 | AS13: =+AP13 -> 0 | AT13: =+AO13+AJ13+AE13+Z13+U13+P13+K13 -> 35 | AU13: =+AQ13+AL13+AG13+AB13+W13+R13+M13 -> 0 | AV13: =+AR13+AM13+AG13+AB13+W13+R13+M13 -> 0 | AW13: =+AS13+AN13+AH13+AC13+X13+S13+N13 -> 0 | AX13: =+O13+T13+Y13+AD13+AI13 -> 5 | BD13: CRIT | BE13: AOUED | BF13: Fatma Nadia | BG13: 1 | BH13: 42898 | BI13: 42902 | BJ13: 24
A14: {=IFERROR(INDEX(D:D,SMALL($F$1:$F$203,ROW(INDIRECT("1:"&ROWS(D14:D208))))),"")} -> ABELTRAN | C14: =+IF('[2]Interimaire Juin 2017'!J19=Résultat!$C$3,IF('[2]Interimaire Juin 2017'!D19=Résultat!$AS$1,'[2]Interimaire Juin 2017'!F19,"")) -> FALSE | D14: =IF(AND('[2]Interimaire Juin 2017'!D20=Résultat!$AS$1,'[2]Interimaire Juin 2017'!J20=Résultat!$C$3),'[2]Interimaire Juin 2017'!E20,"") -> AIT ABDELMALEK | E14: =IF(AND('[2]Interimaire Juin 2017'!D20=Résultat!$AS$1,'[2]Interimaire Juin 2017'!J20=Résultat!$C$3),'[2]Interimaire Juin 2017'!F20,"") -> Larbi | F14: =IF(E14="","",ROW()) -> 14 | K14: =+IF(A14="",0,7) -> 7 | L14: =+IF(K14>=6,1,0) -> 1 | O14: =+L14 -> 1 | P14: =+IF(A14="",0,7) -> 7 | Q14: =+IF(P14>=6,1,0) -> 1 | T14: =+Q14 -> 1 | U14: =+IF(A14="",0,7) -> 7 | V14: =+IF(U14>=6,1,0) -> 1 | Y14: =+V14 -> 1 | Z14: =+IF(A14="",0,7) -> 7 | AA14: =+IF(Z14>=6,1,0) -> 1 | AD14: =+AA14 -> 1 | AE14: =+IF(A14="",0,7) -> 7 | AF14: =+IF(AE14>=6,1,0) -> 1 | AI14: =+AF14 -> 1 | AK14: =+IF(AJ14>=6,1,0) -> 0 | AN14: =+AK14 -> 0 | AP14: =+IF(AO14>=6,1,0) -> 0 | AS14: =+AP14 -> 0 | AT14: =+AO14+AJ14+AE14+Z14+U14+P14+K14 -> 35 | AU14: =+AQ14+AL14+AG14+AB14+W14+R14+M14 -> 0 | AV14: =+AR14+AM14+AG14+AB14+W14+R14+M14 -> 0 | AW14: =+AS14+AN14+AH14+AC14+X14+S14+N14 -> 0 | AX14: =+O14+T14+Y14+AD14+AI14 -> 5 | BD14: CRIT | BE14: AOUED | BF14: Fatma Nadia | BG14: 1 | BH14: 42905 | BI14: 42909 | BJ14: 25
A15: {=IFERROR(INDEX(D:D,SMALL($F$1:$F$203,ROW(INDIRECT("1:"&ROWS(D15:D209))))),"")} -> ABELTRAN | C15: =+IF('[2]Interimaire Juin 2017'!J20=Résultat!$C$3,IF('[2]Interimaire Juin 2017'!D20=Résultat!$AS$1,'[2]Interimaire Juin 2017'!F20,"")) -> Larbi | D15: =IF(AND('[2]Interimaire Juin 2017'!D21=Résultat!$AS$1,'[2]Interimaire Juin 2017'!J21=Résultat!$C$3),'[2]Interimaire Juin 2017'!E21,"") | E15: =IF(AND('[2]Interimaire Juin 2017'!D21=Résultat!$AS$1,'[2]Interimaire Juin 2017'!J21=Résultat!$C$3),'[2]Interimaire Juin 2017'!F21,"") | F15: =IF(E15="","",ROW()) | K15: =+IF(A15="",0,7) -> 7 | L15: =+IF(K15>=6,1,0) -> 1 | O15: =+L15 -> 1 | P15: =+IF(A15="",0,7) -> 7 | Q15: =+IF(P15>=6,1,0) -> 1 | T15: =+Q15 -> 1 | U15: =+IF(A15="",0,7) -> 7 | V15: =+IF(U15>=6,1,0) -> 1 | Y15: =+V15 -> 1 | Z15: =+IF(A15="",0,7) -> 7 | AA15: =+IF(Z15>=6,1,0) -> 1 | AD15: =+AA15 -> 1 | AE15: =+IF(A15="",0,7) -> 7 | AF15: =+IF(AE15>=6,1,0) -> 1 | AI15: =+AF15 -> 1 | AK15: =+IF(AJ15>=6,1,0) -> 0 | AN15: =+AK15 -> 0 | AP15: =+IF(AO15>=6,1,0) -> 0 | AS15: =+AP15 -> 0 | AT15: =+AO15+AJ15+AE15+Z15+U15+P15+K15 -> 35 | AU15: =+AQ15+AL15+AG15+AB15+W15+R15+M15 -> 0 | AV15: =+AR15+AM15+AG15+AB15+W15+R15+M15 -> 0 | AW15: =+AS15+AN15+AH15+AC15+X15+S15+N15 -> 0 | AX15: =+O15+T15+Y15+AD15+AI15 -> 5 | BD15: CRIT | BE15: AOUED | BF15: Fatma Nadia | BG15: 1 | BH15: 42912 | BI15: 42916 | BJ15: 26
A16: {=IFERROR(INDEX(D:D,SMALL($F$1:$F$203,ROW(INDIRECT("1:"&ROWS(D16:D210))))),"")} -> ABELTRAN | C16: =+IF('[2]Interimaire Juin 2017'!J21=Résultat!$C$3,IF('[2]Interimaire Juin 2017'!D21=Résultat!$AS$1,'[2]Interimaire Juin 2017'!F21,"")) -> FALSE | D16: =IF(AND('[2]Interimaire Juin 2017'!D22=Résultat!$AS$1,'[2]Interimaire Juin 2017'!J22=Résultat!$C$3),'[2]Interimaire Juin 2017'!E22,"") | E16: =IF(AND('[2]Interimaire Juin 2017'!D22=Résultat!$AS$1,'[2]Interimaire Juin 2017'!J22=Résultat!$C$3),'[2]Interimaire Juin 2017'!F22,"") | F16: =IF(E16="","",ROW()) | K16: =+IF(A16="",0,7) -> 7 | L16: =+IF(K16>=6,1,0) -> 1 | O16: =+L16 -> 1 | P16: =+IF(A16="",0,7) -> 7 | Q16: =+IF(P16>=6,1,0) -> 1 | T16: =+Q16 -> 1 | U16: =+IF(A16="",0,7) -> 7 | V16: =+IF(U16>=6,1,0) -> 1 | Y16: =+V16 -> 1 | Z16: =+IF(A16="",0,7) -> 7 | AA16: =+IF(Z16>=6,1,0) -> 1 | AD16: =+AA16 -> 1 | AE16: =+IF(A16="",0,7) -> 7 | AF16: =+IF(AE16>=6,1,0) -> 1 | AI16: =+AF16 -> 1 | AK16: =+IF(AJ16>=6,1,0) -> 0 | AN16: =+AK16 -> 0 | AP16: =+IF(AO16>=6,1,0) -> 0 | AS16: =+AP16 -> 0 | AT16: =+AO16+AJ16+AE16+Z16+U16+P16+K16 -> 35 | AU16: =+AQ16+AL16+AG16+AB16+W16+R16+M16 -> 0 | AV16: =+AR16+AM16+AG16+AB16+W16+R16+M16 -> 0 | AW16: =+AS16+AN16+AH16+AC16+X16+S16+N16 -> 0 | AX16: =+O16+T16+Y16+AD16+AI16 -> 5 | BD16: CRIT | BE16: BILA | BF16: Cédric | BG16: 1 | BH16: 42887 | BI16: 42888 | BJ16: 22
A17: {=IFERROR(INDEX(D:D,SMALL($F$1:$F$203,ROW(INDIRECT("1:"&ROWS(D17:D211))))),"")} -> ABELTRAN | C17: =+IF('[2]Interimaire Juin 2017'!J22=Résultat!$C$3,IF('[2]Interimaire Juin 2017'!D22=Résultat!$AS$1,'[2]Interimaire Juin 2017'!F22,"")) -> FALSE | D17: =IF(AND('[2]Interimaire Juin 2017'!D23=Résultat!$AS$1,'[2]Interimaire Juin 2017'!J23=Résultat!$C$3),'[2]Interimaire Juin 2017'!E23,"") | E17: =IF(AND('[2]Interimaire Juin 2017'!D23=Résultat!$AS$1,'[2]Interimaire Juin 2017'!J23=Résultat!$C$3),'[2]Interimaire Juin 2017'!F23,"") | F17: =IF(E17="","",ROW()) | K17: =+IF(A17="",0,7) -> 7 | L17: =+IF(K17>=6,1,0) -> 1 | O17: =+L17 -> 1 | P17: =+IF(A17="",0,7) -> 7 | Q17: =+IF(P17>=6,1,0) -> 1 | T17: =+Q17 -> 1 | U17: =+IF(A17="",0,7) -> 7 | V17: =+IF(U17>=6,1,0) -> 1 | Y17: =+V17 -> 1 | Z17: =+IF(A17="",0,7) -> 7 | AA17: =+IF(Z17>=6,1,0) -> 1 | AD17: =+AA17 -> 1 | AE17: =+IF(A17="",0,7) -> 7 | AF17: =+IF(AE17>=6,1,0) -> 1 | AI17: =+AF17 -> 1 | AK17: =+IF(AJ17>=6,1,0) -> 0 | AN17: =+AK17 -> 0 | AP17: =+IF(AO17>=6,1,0) -> 0 | AS17: =+AP17 -> 0 | AT17: =+AO17+AJ17+AE17+Z17+U17+P17+K17 -> 35 | AU17: =+AQ17+AL17+AG17+AB17+W17+R17+M17 -> 0 | AV17: =+AR17+AM17+AG17+AB17+W17+R17+M17 -> 0 | AW17: =+AS17+AN17+AH17+AC17+X17+S17+N17 -> 0 | AX17: =+O17+T17+Y17+AD17+AI17 -> 5 | BD17: CRIT | BE17: BILA | BF17: Cédric | BG17: 1 | BH17: 42891 | BI17: 42895 | BJ17: 23
A18: {=IFERROR(INDEX(D:D,SMALL($F$1:$F$203,ROW(INDIRECT("1:"&ROWS(D18:D212))))),"")} -> ABELTRAN | C18: =+IF('[2]Interimaire Juin 2017'!J23=Résultat!$C$3,IF('[2]Interimaire Juin 2017'!D23=Résultat!$AS$1,'[2]Interimaire Juin 2017'!F23,"")) -> FALSE | D18: =IF(AND('[2]Interimaire Juin 2017'!D24=Résultat!$AS$1,'[2]Interimaire Juin 2017'!J24=Résultat!$C$3),'[2]Interimaire Juin 2017'!E24,"") | E18: =IF(AND('[2]Interimaire Juin 2017'!D24=Résultat!$AS$1,'[2]Interimaire Juin 2017'!J24=Résultat!$C$3),'[2]Interimaire Juin 2017'!F24,"") | F18: =IF(E18="","",ROW()) | K18: =+IF(A18="",0,7) -> 7 | L18: =+IF(K18>=6,1,0) -> 1 | O18: =+L18 -> 1 | P18: =+IF(A18="",0,7) -> 7 | Q18: =+IF(P18>=6,1,0) -> 1 | T18: =+Q18 -> 1 | U18: =+IF(A18="",0,7) -> 7 | V18: =+IF(U18>=6,1,0) -> 1 | Y18: =+V18 -> 1 | Z18: =+IF(A18="",0,7) -> 7 | AA18: =+IF(Z18>=6,1,0) -> 1 | AD18: =+AA18 -> 1 | AE18: =+IF(A18="",0,7) -> 7 | AF18: =+IF(AE18>=6,1,0) -> 1 | AI18: =+AF18 -> 1 | AK18: =+IF(AJ18>=6,1,0) -> 0 | AN18: =+AK18 -> 0 | AP18: =+IF(AO18>=6,1,0) -> 0 | AS18: =+AP18 -> 0 | AT18: =+AO18+AJ18+AE18+Z18+U18+P18+K18 -> 35 | AU18: =+AQ18+AL18+AG18+AB18+W18+R18+M18 -> 0 | AV18: =+AR18+AM18+AG18+AB18+W18+R18+M18 -> 0 | AW18: =+AS18+AN18+AH18+AC18+X18+S18+N18 -> 0 | AX18: =+O18+T18+Y18+AD18+AI18 -> 5 | BD18: CRIT | BE18: BILA | BF18: Cédric | BG18: 1 | BH18: 42898 | BI18: 42902 | BJ18: 24
A19: {=IFERROR(INDEX(D:D,SMALL($F$1:$F$203,ROW(INDIRECT("1:"&ROWS(D19:D213))))),"")} -> ABELTRAN | C19: =+IF('[2]Interimaire Juin 2017'!J24=Résultat!$C$3,IF('[2]Interimaire Juin 2017'!D24=Résultat!$AS$1,'[2]Interimaire Juin 2017'!F24,"")) -> FALSE | D19: =IF(AND('[2]Interimaire Juin 2017'!D25=Résultat!$AS$1,'[2]Interimaire Juin 2017'!J25=Résultat!$C$3),'[2]Interimaire Juin 2017'!E25,"") -> AOUED | E19: =IF(AND('[2]Interimaire Juin 2017'!D25=Résultat!$AS$1,'[2]Interimaire Juin 2017'!J25=Résultat!$C$3),'[2]Interimaire Juin 2017'!F25,"") -> Fatma Nadia | F19: =IF(E19="","",ROW()) -> 19 | K19: =+IF(A19="",0,7) -> 7 | L19: =+IF(K19>=6,1,0) -> 1 | O19: =+L19 -> 1 | P19: =+IF(A19="",0,7) -> 7 | Q19: =+IF(P19>=6,1,0) -> 1 | T19: =+Q19 -> 1 | U19: =+IF(A19="",0,7) -> 7 | V19: =+IF(U19>=6,1,0) -> 1 | Y19: =+V19 -> 1 | Z19: =+IF(A19="",0,7) -> 7 | AA19: =+IF(Z19>=6,1,0) -> 1 | AD19: =+AA19 -> 1 | AE19: =+IF(A19="",0,7) -> 7 | AF19: =+IF(AE19>=6,1,0) -> 1 | AI19: =+AF19 -> 1 | AK19: =+IF(AJ19>=6,1,0) -> 0 | AN19: =+AK19 -> 0 | AP19: =+IF(AO19>=6,1,0) -> 0 | AS19: =+AP19 -> 0 | AT19: =+AO19+AJ19+AE19+Z19+U19+P19+K19 -> 35 | AU19: =+AQ19+AL19+AG19+AB19+W19+R19+M19 -> 0 | AV19: =+AR19+AM19+AG19+AB19+W19+R19+M19 -> 0 | AW19: =+AS19+AN19+AH19+AC19+X19+S19+N19 -> 0 | AX19: =+O19+T19+Y19+AD19+AI19 -> 5 | BD19: CRIT | BE19: BILA | BF19: Cédric | BG19: 1 | BH19: 42905 | BI19: 42909 | BJ19: 25
A20: {=IFERROR(INDEX(D:D,SMALL($F$1:$F$203,ROW(INDIRECT("1:"&ROWS(D20:D214))))),"")} -> ABELTRAN | C20: =+IF('[2]Interimaire Juin 2017'!J25=Résultat!$C$3,IF('[2]Interimaire Juin 2017'!D25=Résultat!$AS$1,'[2]Interimaire Juin 2017'!F25,"")) -> Fatma Nadia | D20: =IF(AND('[2]Interimaire Juin 2017'!D26=Résultat!$AS$1,'[2]Interimaire Juin 2017'!J26=Résultat!$C$3),'[2]Interimaire Juin 2017'!E26,"") | E20: =IF(AND('[2]Interimaire Juin 2017'!D26=Résultat!$AS$1,'[2]Interimaire Juin 2017'!J26=Résultat!$C$3),'[2]Interimaire Juin 2017'!F26,"") | F20: =IF(E20="","",ROW()) | K20: =+IF(A20="",0,7) -> 7 | L20: =+IF(K20>=6,1,0) -> 1 | O20: =+L20 -> 1 | P20: =+IF(A20="",0,7) -> 7 | Q20: =+IF(P20>=6,1,0) -> 1 | T20: =+Q20 -> 1 | U20: =+IF(A20="",0,7) -> 7 | V20: =+IF(U20>=6,1,0) -> 1 | Y20: =+V20 -> 1 | Z20: =+IF(A20="",0,7) -> 7 | AA20: =+IF(Z20>=6,1,0) -> 1 | AD20: =+AA20 -> 1 | AE20: =+IF(A20="",0,7) -> 7 | AF20: =+IF(AE20>=6,1,0) -> 1 | AI20: =+AF20 -> 1 | AK20: =+IF(AJ20>=6,1,0) -> 0 | AN20: =+AK20 -> 0 | AP20: =+IF(AO20>=6,1,0) -> 0 | AS20: =+AP20 -> 0 | AT20: =+AO20+AJ20+AE20+Z20+U20+P20+K20 -> 35 | AU20: =+AQ20+AL20+AG20+AB20+W20+R20+M20 -> 0 | AV20: =+AR20+AM20+AG20+AB20+W20+R20+M20 -> 0 | AW20: =+AS20+AN20+AH20+AC20+X20+S20+N20 -> 0 | AX20: =+O20+T20+Y20+AD20+AI20 -> 5 | BD20: CRIT | BE20: BILA | BF20: Cédric | BG20: 1 | BH20: 42912 | BI20: 42916 | BJ20: 26
A21: {=IFERROR(INDEX(D:D,SMALL($F$1:$F$203,ROW(INDIRECT("1:"&ROWS(D21:D215))))),"")} -> ABELTRAN | C21: =+IF('[2]Interimaire Juin 2017'!J26=Résultat!$C$3,IF('[2]Interimaire Juin 2017'!D26=Résultat!$AS$1,'[2]Interimaire Juin 2017'!F26,"")) -> FALSE | D21: =IF(AND('[2]Interimaire Juin 2017'!D27=Résultat!$AS$1,'[2]Interimaire Juin 2017'!J27=Résultat!$C$3),'[2]Interimaire Juin 2017'!E27,"") | E21: =IF(AND('[2]Interimaire Juin 2017'!D27=Résultat!$AS$1,'[2]Interimaire Juin 2017'!J27=Résultat!$C$3),'[2]Interimaire Juin 2017'!F27,"") | F21: =IF(E21="","",ROW()) | K21: =+IF(A21="",0,7) -> 7 | L21: =+IF(K21>=6,1,0) -> 1 | O21: =+L21 -> 1 | P21: =+IF(A21="",0,7) -> 7 | Q21: =+IF(P21>=6,1,0) -> 1 | T21: =+Q21 -> 1 | U21: =+IF(A21="",0,7) -> 7 | V21: =+IF(U21>=6,1,0) -> 1 | Y21: =+V21 -> 1 | Z21: =+IF(A21="",0,7) -> 7 | AA21: =+IF(Z21>=6,1,0) -> 1 | AD21: =+AA21 -> 1 | AE21: =+IF(A21="",0,7) -> 7 | AF21: =+IF(AE21>=6,1,0) -> 1 | AI21: =+AF21 -> 1 | AK21: =+IF(AJ21>=6,1,0) -> 0 | AN21: =+AK21 -> 0 | AP21: =+IF(AO21>=6,1,0) -> 0 | AS21: =+AP21 -> 0 | AT21: =+AO21+AJ21+AE21+Z21+U21+P21+K21 -> 35 | AU21: =+AQ21+AL21+AG21+AB21+W21+R21+M21 -> 0 | AV21: =+AR21+AM21+AG21+AB21+W21+R21+M21 -> 0 | AW21: =+AS21+AN21+AH21+AC21+X21+S21+N21 -> 0 | AX21: =+O21+T21+Y21+AD21+AI21 -> 5 | BD21: CRIT | BE21: CAMPOSANO | BF21: Aurélie | BG21: 1 | BH21: 42887 | BI21: 42888 | BJ21: 22
A22: {=IFERROR(INDEX(D:D,SMALL($F$1:$F$203,ROW(INDIRECT("1:"&ROWS(D22:D216))))),"")} -> ABELTRAN | C22: =+IF('[2]Interimaire Juin 2017'!J27=Résultat!$C$3,IF('[2]Interimaire Juin 2017'!D27=Résultat!$AS$1,'[2]Interimaire Juin 2017'!F27,"")) -> FALSE | D22: =IF(AND('[2]Interimaire Juin 2017'!D28=Résultat!$AS$1,'[2]Interimaire Juin 2017'!J28=Résultat!$C$3),'[2]Interimaire Juin 2017'!E28,"") | E22: =IF(AND('[2]Interimaire Juin 2017'!D28=Résultat!$AS$1,'[2]Interimaire Juin 2017'!J28=Résultat!$C$3),'[2]Interimaire Juin 2017'!F28,"") | F22: =IF(E22="","",ROW()) | K22: =+IF(A22="",0,7) -> 7 | L22: =+IF(K22>=6,1,0) -> 1 | O22: =+L22 -> 1 | P22: =+IF(A22="",0,7) -> 7 | Q22: =+IF(P22>=6,1,0) -> 1 | T22: =+Q22 -> 1 | U22: =+IF(A22="",0,7) -> 7 | V22: =+IF(U22>=6,1,0) -> 1 | Y22: =+V22 -> 1 | Z22: =+IF(A22="",0,7) -> 7 | AA22: =+IF(Z22>=6,1,0) -> 1 | AD22: =+AA22 -> 1 | AE22: =+IF(A22="",0,7) -> 7 | AF22: =+IF(AE22>=6,1,0) -> 1 | AI22: =+AF22 -> 1 | AK22: =+IF(AJ22>=6,1,0) -> 0 | AN22: =+AK22 -> 0 | AP22: =+IF(AO22>=6,1,0) -> 0 | AS22: =+AP22 -> 0 | AT22: =+AO22+AJ22+AE22+Z22+U22+P22+K22 -> 35 | AU22: =+AQ22+AL22+AG22+AB22+W22+R22+M22 -> 0 | AV22: =+AR22+AM22+AG22+AB22+W22+R22+M22 -> 0 | AW22: =+AS22+AN22+AH22+AC22+X22+S22+N22 -> 0 | AX22: =+O22+T22+Y22+AD22+AI22 -> 5 | BD22: CRIT | BE22: CAMPOSANO | BF22: Aurélie | BG22: 1 | BH22: 42891 | BI22: 42895 | BJ22: 23
... A37: {=IFERROR(INDEX(D:D,SMALL($F$1:$F$203,ROW(INDIRECT("1:"&ROWS(D37:D231))))),"")} -> ABELTRAN | C37: =+IF('[2]Interimaire Juin 2017'!J42=Résultat!$C$3,IF('[2]Interimaire Juin 2017'!D42=Résultat!$AS$1,'[2]Interimaire Juin 2017'!F42,"")) -> FALSE | D37: =IF(AND('[2]Interimaire Juin 2017'!D43=Résultat!$AS$1,'[2]Interimaire Juin 2017'!J43=Résultat!$C$3),'[2]Interimaire Juin 2017'!E43,"") | E37: =IF(AND('[2]Interimaire Juin 2017'!D43=Résultat!$AS$1,'[2]Interimaire Juin 2017'!J43=Résultat!$C$3),'[2]Interimaire Juin 2017'!F43,"") | F37: =IF(E37="","",ROW()) | K37: =+IF(A37="",0,7) -> 7 | L37: =+IF(K37>=6,1,0) -> 1 | O37: =+L37 -> 1 | P37: =+IF(A37="",0,7) -> 7 | Q37: =+IF(P37>=6,1,0) -> 1 | T37: =+Q37 -> 1 | U37: =+IF(A37="",0,7) -> 7 | V37: =+IF(U37>=6,1,0) -> 1 | Y37: =+V37 -> 1 | Z37: =+IF(A37="",0,7) -> 7 | AA37: =+IF(Z37>=6,1,0) -> 1 | AD37: =+AA37 -> 1 | AE37: =+IF(A37="",0,7) -> 7 | AF37: =+IF(AE37>=6,1,0) -> 1 | AI37: =+AF37 -> 1 | AK37: =+IF(AJ37>=6,1,0) -> 0 | AN37: =+AK37 -> 0 | AP37: =+IF(AO37>=6,1,0) -> 0 | AS37: =+AP37 -> 0 | AT37: =+AO37+AJ37+AE37+Z37+U37+P37+K37 -> 35 | AU37: =+AQ37+AL37+AG37+AB37+W37+R37+M37 -> 0 | AV37: =+AR37+AM37+AG37+AB37+W37+R37+M37 -> 0 | AW37: =+AS37+AN37+AH37+AC37+X37+S37+N37 -> 0 | AX37: =+O37+T37+Y37+AD37+AI37 -> 5 | BD37: CRIT | BE37: Charles | BF37: Helena | BG37: 1 | BH37: 42912 | BI37: 42916 | BJ37: 26
A38: {=IFERROR(INDEX($D$9:$D$196,SMALL($F$9:$I$196,ROW(INDIRECT("1:"&ROWS($G$9:$G$196))))),"")} | C38: =+IF('[2]Interimaire Juin 2017'!J43=Résultat!$C$3,IF('[2]Interimaire Juin 2017'!D43=Résultat!$AS$1,'[2]Interimaire Juin 2017'!F43,"")) -> FALSE | D38: =IF(AND('[2]Interimaire Juin 2017'!D44=Résultat!$AS$1,'[2]Interimaire Juin 2017'!J44=Résultat!$C$3),'[2]Interimaire Juin 2017'!E44,"") | E38: =IF(AND('[2]Interimaire Juin 2017'!D44=Résultat!$AS$1,'[2]Interimaire Juin 2017'!J44=Résultat!$C$3),'[2]Interimaire Juin 2017'!F44,"") | F38: =IF(E38="","",ROW()) | K38: =+IF(A38="",0,7) -> 0 | L38: =+IF(K38>=6,1,0) -> 0 | O38: =+L38 -> 0 | P38: =+IF(A38="",0,7) -> 0 | Q38: =+IF(P38>=6,1,0) -> 0 | T38: =+Q38 -> 0 | U38: =+IF(A38="",0,7) -> 0 | V38: =+IF(U38>=6,1,0) -> 0 | Y38: =+V38 -> 0 | Z38: =+IF(A38="",0,7) -> 0 | AA38: =+IF(Z38>=6,1,0) -> 0 | AD38: =+AA38 -> 0 | AE38: =+IF(A38="",0,7) -> 0 | AF38: =+IF(AE38>=6,1,0) -> 0 | AI38: =+AF38 -> 0 | AK38: =+IF(AJ38>=6,1,0) -> 0 | AN38: =+AK38 -> 0 | AP38: =+IF(AO38>=6,1,0) -> 0 | AS38: =+AP38 -> 0 | AT38: =+AO38+AJ38+AE38+Z38+U38+P38+K38 -> 0 | AU38: =+AQ38+AL38+AG38+AB38+W38+R38+M38 -> 0 | AV38: =+AR38+AM38+AG38+AB38+W38+R38+M38 -> 0 | AW38: =+AS38+AN38+AH38+AC38+X38+S38+N38 -> 0 | AX38: =+O38+T38+Y38+AD38+AI38 -> 0 | BD38: CRIT | BE38: DE BALINCOURT | BF38: Thibaud | BG38: 1 | BH38: 42887 | BI38: 42888 | BJ38: 22
A39: {=IFERROR(INDEX($D$9:$D$196,SMALL($F$9:$I$196,ROW(INDIRECT("1:"&ROWS($G$9:$G$196))))),"")} | C39: =+IF('[2]Interimaire Juin 2017'!J44=Résultat!$C$3,IF('[2]Interimaire Juin 2017'!D44=Résultat!$AS$1,'[2]Interimaire Juin 2017'!F44,"")) -> FALSE | D39: =IF(AND('[2]Interimaire Juin 2017'!D45=Résultat!$AS$1,'[2]Interimaire Juin 2017'!J45=Résultat!$C$3),'[2]Interimaire Juin 2017'!E45,"") -> CASONATO | E39: =IF(AND('[2]Interimaire Juin 2017'!D45=Résultat!$AS$1,'[2]Interimaire Juin 2017'!J45=Résultat!$C$3),'[2]Interimaire Juin 2017'!F45,"") -> Charlène | F39: =IF(E39="","",ROW()) -> 39 | K39: =+IF(A39="",0,7) -> 0 | L39: =+IF(K39>=6,1,0) -> 0 | O39: =+L39 -> 0 | P39: =+IF(A39="",0,7) -> 0 | Q39: =+IF(P39>=6,1,0) -> 0 | T39: =+Q39 -> 0 | U39: =+IF(A39="",0,7) -> 0 | V39: =+IF(U39>=6,1,0) -> 0 | Y39: =+V39 -> 0 | Z39: =+IF(A39="",0,7) -> 0 | AA39: =+IF(Z39>=6,1,0) -> 0 | AD39: =+AA39 -> 0 | AE39: =+IF(A39="",0,7) -> 0 | AF39: =+IF(AE39>=6,1,0) -> 0 | AI39: =+AF39 -> 0 | AK39: =+IF(AJ39>=6,1,0) -> 0 | AN39: =+AK39 -> 0 | AP39: =+IF(AO39>=6,1,0) -> 0 | AS39: =+AP39 -> 0 | AT39: =+AO39+AJ39+AE39+Z39+U39+P39+K39 -> 0 | AU39: =+AQ39+AL39+AG39+AB39+W39+R39+M39 -> 0 | AV39: =+AR39+AM39+AG39+AB39+W39+R39+M39 -> 0 | AW39: =+AS39+AN39+AH39+AC39+X39+S39+N39 -> 0 | AX39: =+O39+T39+Y39+AD39+AI39 -> 0 | BD39: CRIT | BE39: DE BALINCOURT | BF39: Thibaud | BG39: 1 | BH39: 42891 | BI39: 42895 | BJ39: 23
A40: {=IFERROR(INDEX($D$9:$D$196,SMALL($F$9:$I$196,ROW(INDIRECT("1:"&ROWS($G$9:$G$196))))),"")} | C40: =+IF('[2]Interimaire Juin 2017'!J45=Résultat!$C$3,IF('[2]Interimaire Juin 2017'!D45=Résultat!$AS$1,'[2]Interimaire Juin 2017'!F45,"")) -> Charlène | D40: =IF(AND('[2]Interimaire Juin 2017'!D46=Résultat!$AS$1,'[2]Interimaire Juin 2017'!J46=Résultat!$C$3),'[2]Interimaire Juin 2017'!E46,"") | E40: =IF(AND('[2]Interimaire Juin 2017'!D46=Résultat!$AS$1,'[2]Interimaire Juin 2017'!J46=Résultat!$C$3),'[2]Interimaire Juin 2017'!F46,"") | F40: =IF(E40="","",ROW()) | K40: =+IF(A40="",0,7) -> 0 | L40: =+IF(K40>=6,1,0) -> 0 | O40: =+L40 -> 0 | P40: =+IF(A40="",0,7) -> 0 | Q40: =+IF(P40>=6,1,0) -> 0 | T40: =+Q40 -> 0 | U40: =+IF(A40="",0,7) -> 0 | V40: =+IF(U40>=6,1,0) -> 0 | Y40: =+V40 -> 0 | Z40: =+IF(A40="",0,7) -> 0 | AA40: =+IF(Z40>=6,1,0) -> 0 | AD40: =+AA40 -> 0 | AE40: =+IF(A40="",0,7) -> 0 | AF40: =+IF(AE40>=6,1,0) -> 0 | AI40: =+AF40 -> 0 | AK40: =+IF(AJ40>=6,1,0) -> 0 | AN40: =+AK40 -> 0 | AP40: =+IF(AO40>=6,1,0) -> 0 | AS40: =+AP40 -> 0 | AT40: =+AO40+AJ40+AE40+Z40+U40+P40+K40 -> 0 | AU40: =+AQ40+AL40+AG40+AB40+W40+R40+M40 -> 0 | AV40: =+AR40+AM40+AG40+AB40+W40+R40+M40 -> 0 | AW40: =+AS40+AN40+AH40+AC40+X40+S40+N40 -> 0 | AX40: =+O40+T40+Y40+AD40+AI40 -> 0 | BD40: CRIT | BE40: DE BALINCOURT | BF40: Thibaud | BG40: 1 | BH40: 42898 | BI40: 42902 | BJ40: 24
A41: {=IFERROR(INDEX($D$9:$D$196,SMALL($F$9:$I$196,ROW(INDIRECT("1:"&ROWS($G$9:$G$196))))),"")} | C41: =+IF('[2]Interimaire Juin 2017'!J46=Résultat!$C$3,IF('[2]Interimaire Juin 2017'!D46=Résultat!$AS$1,'[2]Interimaire Juin 2017'!F46,"")) -> FALSE | D41: =IF(AND('[2]Interimaire Juin 2017'!D47=Résultat!$AS$1,'[2]Interimaire Juin 2017'!J47=Résultat!$C$3),'[2]Interimaire Juin 2017'!E47,"") | E41: =IF(AND('[2]Interimaire Juin 2017'!D47=Résultat!$AS$1,'[2]Interimaire Juin 2017'!J47=Résultat!$C$3),'[2]Interimaire Juin 2017'!F47,"") | F41: =IF(E41="","",ROW()) | K41: =+IF(A41="",0,7) -> 0 | L41: =+IF(K41>=6,1,0) -> 0 | O41: =+L41 -> 0 | P41: =+IF(A41="",0,7) -> 0 | Q41: =+IF(P41>=6,1,0) -> 0 | T41: =+Q41 -> 0 | U41: =+IF(A41="",0,7) -> 0 | V41: =+IF(U41>=6,1,0) -> 0 | Y41: =+V41 -> 0 | Z41: =+IF(A41="",0,7) -> 0 | AA41: =+IF(Z41>=6,1,0) -> 0 | AD41: =+AA41 -> 0 | AE41: =+IF(A41="",0,7) -> 0 | AF41: =+IF(AE41>=6,1,0) -> 0 | AI41: =+AF41 -> 0 | AK41: =+IF(AJ41>=6,1,0) -> 0 | AN41: =+AK41 -> 0 | AP41: =+IF(AO41>=6,1,0) -> 0 | AS41: =+AP41 -> 0 | AT41: =+AO41+AJ41+AE41+Z41+U41+P41+K41 -> 0 | AU41: =+AQ41+AL41+AG41+AB41+W41+R41+M41 -> 0 | AV41: =+AR41+AM41+AG41+AB41+W41+R41+M41 -> 0 | AW41: =+AS41+AN41+AH41+AC41+X41+S41+N41 -> 0 | AX41: =+O41+T41+Y41+AD41+AI41 -> 0 | BD41: CRIT | BE41: DE BALINCOURT | BF41: Thibaud | BG41: 1 | BH41: 42905 | BI41: 42909 | BJ41: 25
A42: {=IFERROR(INDEX($D$9:$D$196,SMALL($F$9:$I$196,ROW(INDIRECT("1:"&ROWS($G$9:$G$196))))),"")} | C42: =+IF('[2]Interimaire Juin 2017'!J47=Résultat!$C$3,IF('[2]Interimaire Juin 2017'!D47=Résultat!$AS$1,'[2]Interimaire Juin 2017'!F47,"")) -> FALSE | D42: =IF(AND('[2]Interimaire Juin 2017'!D48=Résultat!$AS$1,'[2]Interimaire Juin 2017'!J48=Résultat!$C$3),'[2]Interimaire Juin 2017'!E48,"") | E42: =IF(AND('[2]Interimaire Juin 2017'!D48=Résultat!$AS$1,'[2]Interimaire Juin 2017'!J48=Résultat!$C$3),'[2]Interimaire Juin 2017'!F48,"") | F42: =IF(E42="","",ROW()) | K42: =+IF(A42="",0,7) -> 0 | L42: =+IF(K42>=6,1,0) -> 0 | O42: =+L42 -> 0 | P42: =+IF(A42="",0,7) -> 0 | Q42: =+IF(P42>=6,1,0) -> 0 | T42: =+Q42 -> 0 | U42: =+IF(A42="",0,7) -> 0 | V42: =+IF(U42>=6,1,0) -> 0 | Y42: =+V42 -> 0 | Z42: =+IF(A42="",0,7) -> 0 | AA42: =+IF(Z42>=6,1,0) -> 0 | AD42: =+AA42 -> 0 | AE42: =+IF(A42="",0,7) -> 0 | AF42: =+IF(AE42>=6,1,0) -> 0 | AI42: =+AF42 -> 0 | AK42: =+IF(AJ42>=6,1,0) -> 0 | AN42: =+AK42 -> 0 | AP42: =+IF(AO42>=6,1,0) -> 0 | AS42: =+AP42 -> 0 | AT42: =+AO42+AJ42+AE42+Z42+U42+P42+K42 -> 0 | AU42: =+AQ42+AL42+AG42+AB42+W42+R42+M42 -> 0 | AV42: =+AR42+AM42+AG42+AB42+W42+R42+M42 -> 0 | AW42: =+AS42+AN42+AH42+AC42+X42+S42+N42 -> 0 | AX42: =+O42+T42+Y42+AD42+AI42 -> 0 | BD42: CRIT | BE42: DE BALINCOURT | BF42: Thibaud | BG42: 1 | BH42: 42912 | BI42: 42916 | BJ42: 26
A43: {=IFERROR(INDEX($D$9:$D$196,SMALL($F$9:$I$196,ROW(INDIRECT("1:"&ROWS($G$9:$G$196))))),"")} | C43: =+IF('[2]Interimaire Juin 2017'!J48=Résultat!$C$3,IF('[2]Interimaire Juin 2017'!D48=Résultat!$AS$1,'[2]Interimaire Juin 2017'!F48,"")) -> FALSE | D43: =IF(AND('[2]Interimaire Juin 2017'!D49=Résultat!$AS$1,'[2]Interimaire Juin 2017'!J49=Résultat!$C$3),'[2]Interimaire Juin 2017'!E49,"") | E43: =IF(AND('[2]Interimaire Juin 2017'!D49=Résultat!$AS$1,'[2]Interimaire Juin 2017'!J49=Résultat!$C$3),'[2]Interimaire Juin 2017'!F49,"") | F43: =IF(E43="","",ROW()) | K43: =+IF(A43="",0,7) -> 0 | L43: =+IF(K43>=6,1,0) -> 0 | O43: =+L43 -> 0 | P43: =+IF(A43="",0,7) -> 0 | Q43: =+IF(P43>=6,1,0) -> 0 | T43: =+Q43 -> 0 | U43: =+IF(A43="",0,7) -> 0 | V43: =+IF(U43>=6,1,0) -> 0 | Y43: =+V43 -> 0 | Z43: =+IF(A43="",0,7) -> 0 | AA43: =+IF(Z43>=6,1,0) -> 0 | AD43: =+AA43 -> 0 | AE43: =+IF(A43="",0,7) -> 0 | AF43: =+IF(AE43>=6,1,0) -> 0 | AI43: =+AF43 -> 0 | AK43: =+IF(AJ43>=6,1,0) -> 0 | AN43: =+AK43 -> 0 | AP43: =+IF(AO43>=6,1,0) -> 0 | AS43: =+AP43 -> 0 | AT43: =+AO43+AJ43+AE43+Z43+U43+P43+K43 -> 0 | AU43: =+AQ43+AL43+AG43+AB43+W43+R43+M43 -> 0 | AV43: =+AR43+AM43+AG43+AB43+W43+R43+M43 -> 0 | AW43: =+AS43+AN43+AH43+AC43+X43+S43+N43 -> 0 | AX43: =+O43+T43+Y43+AD43+AI43 -> 0 | BD43: CRIT | BE43: DELCRUZEL | BF43: Marc | BG43: 1 | BH43: 42887 | BI43: 42888 | BJ43: 22
A44: {=IFERROR(INDEX($D$9:$D$196,SMALL($F$9:$I$196,ROW(INDIRECT("1:"&ROWS($G$9:$G$196))))),"")} | C44: =+IF('[2]Interimaire Juin 2017'!J49=Résultat!$C$3,IF('[2]Interimaire Juin 2017'!D49=Résultat!$AS$1,'[2]Interimaire Juin 2017'!F49,"")) -> FALSE | D44: =IF(AND('[2]Interimaire Juin 2017'!D50=Résultat!$AS$1,'[2]Interimaire Juin 2017'!J50=Résultat!$C$3),'[2]Interimaire Juin 2017'!E50,"") | E44: =IF(AND('[2]Interimaire Juin 2017'!D50=Résultat!$AS$1,'[2]Interimaire Juin 2017'!J50=Résultat!$C$3),'[2]Interimaire Juin 2017'!F50,"") | F44: =IF(E44="","",ROW()) | K44: =+IF(A44="",0,7) -> 0 | L44: =+IF(K44>=6,1,0) -> 0 | O44: =+L44 -> 0 | P44: =+IF(A44="",0,7) -> 0 | Q44: =+IF(P44>=6,1,0) -> 0 | T44: =+Q44 -> 0 | U44: =+IF(A44="",0,7) -> 0 | V44: =+IF(U44>=6,1,0) -> 0 | Y44: =+V44 -> 0 | Z44: =+IF(A44="",0,7) -> 0 | AA44: =+IF(Z44>=6,1,0) -> 0 | AD44: =+AA44 -> 0 | AE44: =+IF(A44="",0,7) -> 0 | AF44: =+IF(AE44>=6,1,0) -> 0 | AI44: =+AF44 -> 0 | AK44: =+IF(AJ44>=6,1,0) -> 0 | AN44: =+AK44 -> 0 | AP44: =+IF(AO44>=6,1,0) -> 0 | AS44: =+AP44 -> 0 | AT44: =+AO44+AJ44+AE44+Z44+U44+P44+K44 -> 0 | AU44: =+AQ44+AL44+AG44+AB44+W44+R44+M44 -> 0 | AV44: =+AR44+AM44+AG44+AB44+W44+R44+M44 -> 0 | AW44: =+AS44+AN44+AH44+AC44+X44+S44+N44 -> 0 | AX44: =+O44+T44+Y44+AD44+AI44 -> 0 | BD44: CRIT | BE44: DELCRUZEL | BF44: Marc | BG44: 1 | BH44: 42891 | BI44: 42895 | BJ44: 23
A45: {=IFERROR(INDEX($D$9:$D$196,SMALL($F$9:$I$196,ROW(INDIRECT("1:"&ROWS($G$9:$G$196))))),"")} | C45: =+IF('[2]Interimaire Juin 2017'!J50=Résultat!$C$3,IF('[2]Interimaire Juin 2017'!D50=Résultat!$AS$1,'[2]Interimaire Juin 2017'!F50,"")) -> FALSE | D45: =IF(AND('[2]Interimaire Juin 2017'!D51=Résultat!$AS$1,'[2]Interimaire Juin 2017'!J51=Résultat!$C$3),'[2]Interimaire Juin 2017'!E51,"") | E45: =IF(AND('[2]Interimaire Juin 2017'!D51=Résultat!$AS$1,'[2]Interimaire Juin 2017'!J51=Résultat!$C$3),'[2]Interimaire Juin 2017'!F51,"") | F45: =IF(E45="","",ROW()) | K45: =+IF(A45="",0,7) -> 0 | L45: =+IF(K45>=6,1,0) -> 0 | O45: =+L45 -> 0 | P45: =+IF(A45="",0,7) -> 0 | Q45: =+IF(P45>=6,1,0) -> 0 | T45: =+Q45 -> 0 | U45: =+IF(A45="",0,7) -> 0 | V45: =+IF(U45>=6,1,0) -> 0 | Y45: =+V45 -> 0 | Z45: =+IF(A45="",0,7) -> 0 | AA45: =+IF(Z45>=6,1,0) -> 0 | AD45: =+AA45 -> 0 | AE45: =+IF(A45="",0,7) -> 0 | AF45: =+IF(AE45>=6,1,0) -> 0 | AI45: =+AF45 -> 0 | AK45: =+IF(AJ45>=6,1,0) -> 0 | AN45: =+AK45 -> 0 | AP45: =+IF(AO45>=6,1,0) -> 0 | AS45: =+AP45 -> 0 | AT45: =+AO45+AJ45+AE45+Z45+U45+P45+K45 -> 0 | AU45: =+AQ45+AL45+AG45+AB45+W45+R45+M45 -> 0 | AV45: =+AR45+AM45+AG45+AB45+W45+R45+M45 -> 0 | AW45: =+AS45+AN45+AH45+AC45+X45+S45+N45 -> 0 | AX45: =+O45+T45+Y45+AD45+AI45 -> 0 | BD45: CRIT | BE45: DELCRUZEL | BF45: Marc | BG45: 1 | BH45: 42898 | BI45: 42902 | BJ45: 24
A46: {=IFERROR(INDEX($D$9:$D$196,SMALL($F$9:$I$196,ROW(INDIRECT("1:"&ROWS($G$9:$G$196))))),"")} | C46: =+IF('[2]Interimaire Juin 2017'!J51=Résultat!$C$3,IF('[2]Interimaire Juin 2017'!D51=Résultat!$AS$1,'[2]Interimaire Juin 2017'!F51,"")) -> FALSE | D46: =IF(AND('[2]Interimaire Juin 2017'!D52=Résultat!$AS$1,'[2]Interimaire Juin 2017'!J52=Résultat!$C$3),'[2]Interimaire Juin 2017'!E52,"") -> DE BALINCOURT | E46: =IF(AND('[2]Interimaire Juin 2017'!D52=Résultat!$AS$1,'[2]Interimaire Juin 2017'!J52=Résultat!$C$3),'[2]Interimaire Juin 2017'!F52,"") -> Thibaud | F46: =IF(E46="","",ROW()) -> 46 | K46: =+IF(A46="",0,7) -> 0 | L46: =+IF(K46>=6,1,0) -> 0 | O46: =+L46 -> 0 | P46: =+IF(A46="",0,7) -> 0 | Q46: =+IF(P46>=6,1,0) -> 0 | T46: =+Q46 -> 0 | U46: =+IF(A46="",0,7) -> 0 | V46: =+IF(U46>=6,1,0) -> 0 | Y46: =+V46 -> 0 | Z46: =+IF(A46="",0,7) -> 0 | AA46: =+IF(Z46>=6,1,0) -> 0 | AD46: =+AA46 -> 0 | AE46: =+IF(A46="",0,7) -> 0 | AF46: =+IF(AE46>=6,1,0) -> 0 | AI46: =+AF46 -> 0 | AK46: =+IF(AJ46>=6,1,0) -> 0 | AN46: =+AK46 -> 0 | AP46: =+IF(AO46>=6,1,0) -> 0 | AS46: =+AP46 -> 0 | AT46: =+AO46+AJ46+AE46+Z46+U46+P46+K46 -> 0 | AU46: =+AQ46+AL46+AG46+AB46+W46+R46+M46 -> 0 | AV46: =+AR46+AM46+AG46+AB46+W46+R46+M46 -> 0 | AW46: =+AS46+AN46+AH46+AC46+X46+S46+N46 -> 0 | AX46: =+O46+T46+Y46+AD46+AI46 -> 0 | BD46: CRIT | BE46: DELCRUZEL | BF46: Marc | BG46: 1 | BH46: 42905 | BI46: 42909 | BJ46: 25
A47: {=IFERROR(INDEX($D$9:$D$196,SMALL($F$9:$I$196,ROW(INDIRECT("1:"&ROWS($G$9:$G$196))))),"")} | C47: =+IF('[2]Interimaire Juin 2017'!J52=Résultat!$C$3,IF('[2]Interimaire Juin 2017'!D52=Résultat!$AS$1,'[2]Interimaire Juin 2017'!F52,"")) -> Thibaud | D47: =IF(AND('[2]Interimaire Juin 2017'!D53=Résultat!$AS$1,'[2]Interimaire Juin 2017'!J53=Résultat!$C$3),'[2]Interimaire Juin 2017'!E53,"") | E47: =IF(AND('[2]Interimaire Juin 2017'!D53=Résultat!$AS$1,'[2]Interimaire Juin 2017'!J53=Résultat!$C$3),'[2]Interimaire Juin 2017'!F53,"") | F47: =IF(E47="","",ROW()) | K47: =+IF(A47="",0,7) -> 0 | L47: =+IF(K47>=6,1,0) -> 0 | O47: =+L47 -> 0 | P47: =+IF(A47="",0,7) -> 0 | Q47: =+IF(P47>=6,1,0) -> 0 | T47: =+Q47 -> 0 | U47: =+IF(A47="",0,7) -> 0 | V47: =+IF(U47>=6,1,0) -> 0 | Y47: =+V47 -> 0 | Z47: =+IF(A47="",0,7) -> 0 | AA47: =+IF(Z47>=6,1,0) -> 0 | AD47: =+AA47 -> 0 | AE47: =+IF(A47="",0,7) -> 0 | AF47: =+IF(AE47>=6,1,0) -> 0 | AI47: =+AF47 -> 0 | BD47: CRIT | BE47: DELCRUZEL | BF47: Marc | BG47: 1 | BH47: 42912 | BI47: 42916 | BJ47: 26
A48: {=IFERROR(INDEX($D$9:$D$196,SMALL($F$9:$I$196,ROW(INDIRECT("1:"&ROWS($G$9:$G$196))))),"")} | C48: =+IF('[2]Interimaire Juin 2017'!J53=Résultat!$C$3,IF('[2]Interimaire Juin 2017'!D53=Résultat!$AS$1,'[2]Interimaire Juin 2017'!F53,"")) -> FALSE | D48: =IF(AND('[2]Interimaire Juin 2017'!D54=Résultat!$AS$1,'[2]Interimaire Juin 2017'!J54=Résultat!$C$3),'[2]Interimaire Juin 2017'!E54,"") | E48: =IF(AND('[2]Interimaire Juin 2017'!D54=Résultat!$AS$1,'[2]Interimaire Juin 2017'!J54=Résultat!$C$3),'[2]Interimaire Juin 2017'!F54,"") | F48: =IF(E48="","",ROW()) | K48: =+IF(A48="",0,7) -> 0 | L48: =+IF(K48>=6,1,0) -> 0 | O48: =+L48 -> 0 | P48: =+IF(A48="",0,7) -> 0 | Q48: =+IF(P48>=6,1,0) -> 0 | T48: =+Q48 -> 0 | U48: =+IF(A48="",0,7) -> 0 | V48: =+IF(U48>=6,1,0) -> 0 | Y48: =+V48 -> 0 | Z48: =+IF(A48="",0,7) -> 0 | AA48: =+IF(Z48>=6,1,0) -> 0 | AD48: =+AA48 -> 0 | AE48: =+IF(A48="",0,7) -> 0 | AF48: =+IF(AE48>=6,1,0) -> 0 | AI48: =+AF48 -> 0 | BD48: CRIT | BE48: DERNI | BF48: Laura | BG48: 1 | BH48: 42887 | BI48: 42888 | BJ48: 22
A49: {=IFERROR(INDEX($D$9:$D$196,SMALL($F$9:$I$196,ROW(INDIRECT("1:"&ROWS($G$9:$G$196))))),"")} | C49: =+IF('[2]Interimaire Juin 2017'!J54=Résultat!$C$3,IF('[2]Interimaire Juin 2017'!D54=Résultat!$AS$1,'[2]Interimaire Juin 2017'!F54,"")) -> FALSE | D49: =IF(AND('[2]Interimaire Juin 2017'!D55=Résultat!$AS$1,'[2]Interimaire Juin 2017'!J55=Résultat!$C$3),'[2]Interimaire Juin 2017'!E55,"") | E49: =IF(AND('[2]Interimaire Juin 2017'!D55=Résultat!$AS$1,'[2]Interimaire Juin 2017'!J55=Résultat!$C$3),'[2]Interimaire Juin 2017'!F55,"") | F49: =IF(E49="","",ROW()) | K49: =+IF(A49="",0,7) -> 0 | L49: =+IF(K49>=6,1,0) -> 0 | O49: =+L49 -> 0 | P49: =+IF(A49="",0,7) -> 0 | Q49: =+IF(P49>=6,1,0) -> 0 | T49: =+Q49 -> 0 | U49: =+IF(A49="",0,7) -> 0 | V49: =+IF(U49>=6,1,0) -> 0 | Y49: =+V49 -> 0 | Z49: =+IF(A49="",0,7) -> 0 | AA49: =+IF(Z49>=6,1,0) -> 0 | AD49: =+AA49 -> 0 | AE49: =+IF(A49="",0,7) -> 0 | AF49: =+IF(AE49>=6,1,0) -> 0 | AI49: =+AF49 -> 0 | BD49: CRIT | BE49: DERNI | BF49: Laura | BG49: 1 | BH49: 42891 | BI49: 42895 | BJ49: 23
A50: {=IFERROR(INDEX($D$9:$D$196,SMALL($F$9:$I$196,ROW(INDIRECT("1:"&ROWS($G$9:$G$196))))),"")} | C50: =+IF('[2]Interimaire Juin 2017'!J55=Résultat!$C$3,IF('[2]Interimaire Juin 2017'!D55=Résultat!$AS$1,'[2]Interimaire Juin 2017'!F55,"")) -> FALSE | D50: =IF(AND('[2]Interimaire Juin 2017'!D56=Résultat!$AS$1,'[2]Interimaire Juin 2017'!J56=Résultat!$C$3),'[2]Interimaire Juin 2017'!E56,"") | E50: =IF(AND('[2]Interimaire Juin 2017'!D56=Résultat!$AS$1,'[2]Interimaire Juin 2017'!J56=Résultat!$C$3),'[2]Interimaire Juin 2017'!F56,"") | F50: =IF(E50="","",ROW()) | K50: =+IF(A50="",0,7) -> 0 | L50: =+IF(K50>=6,1,0) -> 0 | O50: =+L50 -> 0 | P50: =+IF(A50="",0,7) -> 0 | Q50: =+IF(P50>=6,1,0) -> 0 | T50: =+Q50 -> 0 | U50: =+IF(A50="",0,7) -> 0 | V50: =+IF(U50>=6,1,0) -> 0 | Y50: =+V50 -> 0 | Z50: =+IF(A50="",0,7) -> 0 | AA50: =+IF(Z50>=6,1,0) -> 0 | AD50: =+AA50 -> 0 | AE50: =+IF(A50="",0,7) -> 0 | AF50: =+IF(AE50>=6,1,0) -> 0 | AI50: =+AF50 -> 0 | BD50: CRIT | BE50: DERNI | BF50: Laura | BG50: 1 | BH50: 42898 | BI50: 42902 | BJ50: 24
A51: {=IFERROR(INDEX($D$9:$D$196,SMALL($F$9:$I$196,ROW(INDIRECT("1:"&ROWS($G$9:$G$196))))),"")} | C51: =+IF('[2]Interimaire Juin 2017'!J56=Résultat!$C$3,IF('[2]Interimaire Juin 2017'!D56=Résultat!$AS$1,'[2]Interimaire Juin 2017'!F56,"")) -> FALSE | D51: =IF(AND('[2]Interimaire Juin 2017'!D57=Résultat!$AS$1,'[2]Interimaire Juin 2017'!J57=Résultat!$C$3),'[2]Interimaire Juin 2017'!E57,"") -> DELCRUZEL | E51: =IF(AND('[2]Interimaire Juin 2017'!D57=Résultat!$AS$1,'[2]Interimaire Juin 2017'!J57=Résultat!$C$3),'[2]Interimaire Juin 2017'!F57,"") -> Marc | F51: =IF(E51="","",ROW()) -> 51 | K51: =+IF(A51="",0,7) -> 0 | L51: =+IF(K51>=6,1,0) -> 0 | O51: =+L51 -> 0 | P51: =+IF(A51="",0,7) -> 0 | Q51: =+IF(P51>=6,1,0) -> 0 | T51: =+Q51 -> 0 | U51: =+IF(A51="",0,7) -> 0 | V51: =+IF(U51>=6,1,0) -> 0 | Y51: =+V51 -> 0 | Z51: =+IF(A51="",0,7) -> 0 | AA51: =+IF(Z51>=6,1,0) -> 0 | AD51: =+AA51 -> 0 | AE51: =+IF(A51="",0,7) -> 0 | AF51: =+IF(AE51>=6,1,0) -> 0 | AI51: =+AF51 -> 0 | BD51: CRIT | BE51: DERNI | BF51: Laura | BG51: 1 | BH51: 42905 | BI51: 42909 | BJ51: 25
A52: {=IFERROR(INDEX($D$9:$D$196,SMALL($F$9:$I$196,ROW(INDIRECT("1:"&ROWS($G$9:$G$196))))),"")} | C52: =+IF('[2]Interimaire Juin 2017'!J57=Résultat!$C$3,IF('[2]Interimaire Juin 2017'!D57=Résultat!$AS$1,'[2]Interimaire Juin 2017'!F57,"")) -> Marc | D52: =IF(AND('[2]Interimaire Juin 2017'!D58=Résultat!$AS$1,'[2]Interimaire Juin 2017'!J58=Résultat!$C$3),'[2]Interimaire Juin 2017'!E58,"") | E52: =IF(AND('[2]Interimaire Juin 2017'!D58=Résultat!$AS$1,'[2]Interimaire Juin 2017'!J58=Résultat!$C$3),'[2]Interimaire Juin 2017'!F58,"") | F52: =IF(E52="","",ROW()) | K52: =+IF(A52="",0,7) -> 0 | L52: =+IF(K52>=6,1,0) -> 0 | O52: =+L52 -> 0 | P52: =+IF(A52="",0,7) -> 0 | Q52: =+IF(P52>=6,1,0) -> 0 | T52: =+Q52 -> 0 | U52: =+IF(A52="",0,7) -> 0 | V52: =+IF(U52>=6,1,0) -> 0 | Y52: =+V52 -> 0 | Z52: =+IF(A52="",0,7) -> 0 | AA52: =+IF(Z52>=6,1,0) -> 0 | AD52: =+AA52 -> 0 | AE52: =+IF(A52="",0,7) -> 0 | AF52: =+IF(AE52>=6,1,0) -> 0 | AI52: =+AF52 -> 0 | BD52: CRIT | BE52: DERNI | BF52: Laura | BG52: 1 | BH52: 42912 | BI52: 42913 | BJ52: 26
A53: {=IFERROR(INDEX($D$9:$D$196,SMALL($F$9:$I$196,ROW(INDIRECT("1:"&ROWS($G$9:$G$196))))),"")} | C53: =+IF('[2]Interimaire Juin 2017'!J58=Résultat!$C$3,IF('[2]Interimaire Juin 2017'!D58=Résultat!$AS$1,'[2]Interimaire Juin 2017'!F58,"")) -> FALSE | D53: =IF(AND('[2]Interimaire Juin 2017'!D59=Résultat!$AS$1,'[2]Interimaire Juin 2017'!J59=Résultat!$C$3),'[2]Interimaire Juin 2017'!E59,"") | E53: =IF(AND('[2]Interimaire Juin 2017'!D59=Résultat!$AS$1,'[2]Interimaire Juin 2017'!J59=Résultat!$C$3),'[2]Interimaire Juin 2017'!F59,"") | F53: =IF(E53="","",ROW()) | K53: =+IF(A53="",0,7) -> 0 | L53: =+IF(K53>=6,1,0) -> 0 | O53: =+L53 -> 0 | P53: =+IF(A53="",0,7) -> 0 | Q53: =+IF(P53>=6,1,0) -> 0 | T53: =+Q53 -> 0 | U53: =+IF(A53="",0,7) -> 0 | V53: =+IF(U53>=6,1,0) -> 0 | Y53: =+V53 -> 0 | Z53: =+IF(A53="",0,7) -> 0 | AA53: =+IF(Z53>=6,1,0) -> 0 | AD53: =+AA53 -> 0 | AE53: =+IF(A53="",0,7) -> 0 | AF53: =+IF(AE53>=6,1,0) -> 0 | AI53: =+AF53 -> 0 | BD53: CRIT | BE53: DUHAMEL | BF53: Mickael | BG53: 1 | BH53: 42887 | BI53: 42888 | BJ53: 22
A54: {=IFERROR(INDEX($D$9:$D$196,SMALL($F$9:$I$196,ROW(INDIRECT("1:"&ROWS($G$9:$G$196))))),"")} | C54: =+IF('[2]Interimaire Juin 2017'!J59=Résultat!$C$3,IF('[2]Interimaire Juin 2017'!D59=Résultat!$AS$1,'[2]Interimaire Juin 2017'!F59,"")) -> FALSE | D54: =IF(AND('[2]Interimaire Juin 2017'!D60=Résultat!$AS$1,'[2]Interimaire Juin 2017'!J60=Résultat!$C$3),'[2]Interimaire Juin 2017'!E60,"") | E54: =IF(AND('[2]Interimaire Juin 2017'!D60=Résultat!$AS$1,'[2]Interimaire Juin 2017'!J60=Résultat!$C$3),'[2]Interimaire Juin 2017'!F60,"") | F54: =IF(E54="","",ROW()) | K54: =+IF(A54="",0,7) -> 0 | L54: =+IF(K54>=6,1,0) -> 0 | O54: =+L54 -> 0 | P54: =+IF(A54="",0,7) -> 0 | Q54: =+IF(P54>=6,1,0) -> 0 | T54: =+Q54 -> 0 | U54: =+IF(A54="",0,7) -> 0 | V54: =+IF(U54>=6,1,0) -> 0 | Y54: =+V54 -> 0 | Z54: =+IF(A54="",0,7) -> 0 | AA54: =+IF(Z54>=6,1,0) -> 0 | AD54: =+AA54 -> 0 | AE54: =+IF(A54="",0,7) -> 0 | AF54: =+IF(AE54>=6,1,0) -> 0 | AI54: =+AF54 -> 0 | BD54: CRIT | BE54: DUHAMEL | BF54: Mickael | BG54: 1 | BH54: 42891 | BI54: 42894 | BJ54: 23
A55: {=IFERROR(INDEX($D$9:$D$196,SMALL($F$9:$I$196,ROW(INDIRECT("1:"&ROWS($G$9:$G$196))))),"")} | C55: =+IF('[2]Interimaire Juin 2017'!J60=Résultat!$C$3,IF('[2]Interimaire Juin 2017'!D60=Résultat!$AS$1,'[2]Interimaire Juin 2017'!F60,"")) -> FALSE | D55: =IF(AND('[2]Interimaire Juin 2017'!D61=Résultat!$AS$1,'[2]Interimaire Juin 2017'!J61=Résultat!$C$3),'[2]Interimaire Juin 2017'!E61,"") | E55: =IF(AND('[2]Interimaire Juin 2017'!D61=Résultat!$AS$1,'[2]Interimaire Juin 2017'!J61=Résultat!$C$3),'[2]Interimaire Juin 2017'!F61,"") | F55: =IF(E55="","",ROW()) | K55: =+IF(A55="",0,7) -> 0 | L55: =+IF(K55>=6,1,0) -> 0 | O55: =+L55 -> 0 | P55: =+IF(A55="",0,7) -> 0 | Q55: =+IF(P55>=6,1,0) -> 0 | T55: =+Q55 -> 0 | U55: =+IF(A55="",0,7) -> 0 | V55: =+IF(U55>=6,1,0) -> 0 | Y55: =+V55 -> 0 | Z55: =+IF(A55="",0,7) -> 0 | AA55: =+IF(Z55>=6,1,0) -> 0 | AD55: =+AA55 -> 0 | AE55: =+IF(A55="",0,7) -> 0 | AF55: =+IF(AE55>=6,1,0) -> 0 | AI55: =+AF55 -> 0 | BD55: CRIT | BE55: DUHAMEL | BF55: Mickael | BG55: 1 | BH55: 42898 | BI55: 42902 | BJ55: 24
A56: {=IFERROR(INDEX($D$9:$D$196,SMALL($F$9:$I$196,ROW(INDIRECT("1:"&ROWS($G$9:$G$196))))),"")} | C56: =+IF('[2]Interimaire Juin 2017'!J61=Résultat!$C$3,IF('[2]Interimaire Juin 2017'!D61=Résultat!$AS$1,'[2]Interimaire Juin 2017'!F61,"")) -> FALSE | D56: =IF(AND('[2]Interimaire Juin 2017'!D62=Résultat!$AS$1,'[2]Interimaire Juin 2017'!J62=Résultat!$C$3),'[2]Interimaire Juin 2017'!E62,"") -> DERNI | E56: =IF(AND('[2]Interimaire Juin 2017'!D62=Résultat!$AS$1,'[2]Interimaire Juin 2017'!J62=Résultat!$C$3),'[2]Interimaire Juin 2017'!F62,"") -> Laura | F56: =IF(E56="","",ROW()) -> 56 | K56: =+IF(A56="",0,7) -> 0 | L56: =+IF(K56>=6,1,0) -> 0 | O56: =+L56 -> 0 | P56: =+IF(A56="",0,7) -> 0 | Q56: =+IF(P56>=6,1,0) -> 0 | T56: =+Q56 -> 0 | U56: =+IF(A56="",0,7) -> 0 | V56: =+IF(U56>=6,1,0) -> 0 | Y56: =+V56 -> 0 | Z56: =+IF(A56="",0,7) -> 0 | AA56: =+IF(Z56>=6,1,0) -> 0 | AD56: =+AA56 -> 0 | AE56: =+IF(A56="",0,7) -> 0 | AF56: =+IF(AE56>=6,1,0) -> 0 | AI56: =+AF56 -> 0 | BD56: CRIT | BE56: DUHAMEL | BF56: Mickael | BG56: 1 | BH56: 42905 | BI56: 42909 | BJ56: 25
A57: {=IFERROR(INDEX($D$9:$D$196,SMALL($F$9:$I$196,ROW(INDIRECT("1:"&ROWS($G$9:$G$196))))),"")} | C57: =+IF('[2]Interimaire Juin 2017'!J62=Résultat!$C$3,IF('[2]Interimaire Juin 2017'!D62=Résultat!$AS$1,'[2]Interimaire Juin 2017'!F62,"")) -> Laura | D57: =IF(AND('[2]Interimaire Juin 2017'!D63=Résultat!$AS$1,'[2]Interimaire Juin 2017'!J63=Résultat!$C$3),'[2]Interimaire Juin 2017'!E63,"") | E57: =IF(AND('[2]Interimaire Juin 2017'!D63=Résultat!$AS$1,'[2]Interimaire Juin 2017'!J63=Résultat!$C$3),'[2]Interimaire Juin 2017'!F63,"") | F57: =IF(E57="","",ROW()) | K57: =+IF(A57="",0,7) -> 0 | L57: =+IF(K57>=6,1,0) -> 0 | O57: =+L57 -> 0 | P57: =+IF(A57="",0,7) -> 0 | Q57: =+IF(P57>=6,1,0) -> 0 | T57: =+Q57 -> 0 | U57: =+IF(A57="",0,7) -> 0 | V57: =+IF(U57>=6,1,0) -> 0 | Y57: =+V57 -> 0 | Z57: =+IF(A57="",0,7) -> 0 | AA57: =+IF(Z57>=6,1,0) -> 0 | AD57: =+AA57 -> 0 | AE57: =+IF(A57="",0,7) -> 0 | AF57: =+IF(AE57>=6,1,0) -> 0 | AI57: =+AF57 -> 0 | BD57: CRIT | BE57: DUHAMEL | BF57: Mickael | BG57: 1 | BH57: 42912 | BI57: 42916 | BJ57: 26
A58: {=IFERROR(INDEX($D$9:$D$196,SMALL($F$9:$I$196,ROW(INDIRECT("1:"&ROWS($G$9:$G$196))))),"")} | C58: =+IF('[2]Interimaire Juin 2017'!J63=Résultat!$C$3,IF('[2]Interimaire Juin 2017'!D63=Résultat!$AS$1,'[2]Interimaire Juin 2017'!F63,"")) -> FALSE | D58: =IF(AND('[2]Interimaire Juin 2017'!D64=Résultat!$AS$1,'[2]Interimaire Juin 2017'!J64=Résultat!$C$3),'[2]Interimaire Juin 2017'!E64,"") | E58: =IF(AND('[2]Interimaire Juin 2017'!D64=Résultat!$AS$1,'[2]Interimaire Juin 2017'!J64=Résultat!$C$3),'[2]Interimaire Juin 2017'!F64,"") | F58: =IF(E58="","",ROW()) | K58: =+IF(A58="",0,7) -> 0 | L58: =+IF(K58>=6,1,0) -> 0 | O58: =+L58 -> 0 | P58: =+IF(A58="",0,7) -> 0 | Q58: =+IF(P58>=6,1,0) -> 0 | T58: =+Q58 -> 0 | U58: =+IF(A58="",0,7) -> 0 | V58: =+IF(U58>=6,1,0) -> 0 | Y58: =+V58 -> 0 | Z58: =+IF(A58="",0,7) -> 0 | AA58: =+IF(Z58>=6,1,0) -> 0 | AD58: =+AA58 -> 0 | AE58: =+IF(A58="",0,7) -> 0 | AF58: =+IF(AE58>=6,1,0) -> 0 | AI58: =+AF58 -> 0 | BD58: SYNERGIE | BE58: DUPRE | BF58: Anthony | BG58: 1 | BH58: 42887 | BI58: 42888 | BJ58: 22
... A154: {=IFERROR(INDEX($D$9:$D$196,SMALL($F$9:$I$196,ROW(INDIRECT("1:"&ROWS($G$9:$G$196))))),"")} | C154: =+IF('[2]Interimaire Juin 2017'!J159=Résultat!$C$3,IF('[2]Interimaire Juin 2017'!D159=Résultat!$AS$1,'[2]Interimaire Juin 2017'!F159,"")) -> FALSE | D154: =IF(AND('[2]Interimaire Juin 2017'!D160=Résultat!$AS$1,'[2]Interimaire Juin 2017'!J160=Résultat!$C$3),'[2]Interimaire Juin 2017'!E160,"") | E154: =IF(AND('[2]Interimaire Juin 2017'!D160=Résultat!$AS$1,'[2]Interimaire Juin 2017'!J160=Résultat!$C$3),'[2]Interimaire Juin 2017'!F160,"") | F154: =IF(E154="","",ROW()) | K154: =+IF(A154="",0,7) -> 0 | L154: =+IF(K154>=6,1,0) -> 0 | O154: =+L154 -> 0 | P154: =+IF(A154="",0,7) -> 0 | Q154: =+IF(P154>=6,1,0) -> 0 | T154: =+Q154 -> 0 | U154: =+IF(A154="",0,7) -> 0 | V154: =+IF(U154>=6,1,0) -> 0 | Y154: =+V154 -> 0 | Z154: =+IF(A154="",0,7) -> 0 | AA154: =+IF(Z154>=6,1,0) -> 0 | AD154: =+AA154 -> 0 | AE154: =+IF(A154="",0,7) -> 0 | AF154: =+IF(AE154>=6,1,0) -> 0 | AI154: =+AF154 -> 0 | BD154: CRIT | BE154: ROBINAUD | BF154: Thomas | BG154: 1 | BH154: 42905 | BI154: 42909 | BJ154: 25
A155: {=IFERROR(INDEX($D$9:$D$196,SMALL($F$9:$I$196,ROW(INDIRECT("1:"&ROWS($G$9:$G$196))))),"")} | C155: =+IF('[2]Interimaire Juin 2017'!J160=Résultat!$C$3,IF('[2]Interimaire Juin 2017'!D160=Résultat!$AS$1,'[2]Interimaire Juin 2017'!F160,"")) -> FALSE | D155: =IF(AND('[2]Interimaire Juin 2017'!D161=Résultat!$AS$1,'[2]Interimaire Juin 2017'!J161=Résultat!$C$3),'[2]Interimaire Juin 2017'!E161,"") | E155: =IF(AND('[2]Interimaire Juin 2017'!D161=Résultat!$AS$1,'[2]Interimaire Juin 2017'!J161=Résultat!$C$3),'[2]Interimaire Juin 2017'!F161,"") | F155: =IF(E155="","",ROW()) | K155: =+IF(A155="",0,7) -> 0 | L155: =+IF(K155>=6,1,0) -> 0 | O155: =+L155 -> 0 | P155: =+IF(A155="",0,7) -> 0 | Q155: =+IF(P155>=6,1,0) -> 0 | T155: =+Q155 -> 0 | U155: =+IF(A155="",0,7) -> 0 | V155: =+IF(U155>=6,1,0) -> 0 | Y155: =+V155 -> 0 | Z155: =+IF(A155="",0,7) -> 0 | AA155: =+IF(Z155>=6,1,0) -> 0 | AD155: =+AA155 -> 0 | AE155: =+IF(A155="",0,7) -> 0 | AF155: =+IF(AE155>=6,1,0) -> 0 | AI155: =+AF155 -> 0 | BD155: CRIT | BE155: ROBINAUD | BF155: Thomas | BH155: 42912 | BI155: 42916 | BJ155: 26
A156: {=IFERROR(INDEX($D$9:$D$196,SMALL($F$9:$I$196,ROW(INDIRECT("1:"&ROWS($G$9:$G$196))))),"")} | C156: =+IF('[2]Interimaire Juin 2017'!J161=Résultat!$C$3,IF('[2]Interimaire Juin 2017'!D161=Résultat!$AS$1,'[2]Interimaire Juin 2017'!F161,"")) -> FALSE | D156: =IF(AND('[2]Interimaire Juin 2017'!D162=Résultat!$AS$1,'[2]Interimaire Juin 2017'!J162=Résultat!$C$3),'[2]Interimaire Juin 2017'!E162,"") | E156: =IF(AND('[2]Interimaire Juin 2017'!D162=Résultat!$AS$1,'[2]Interimaire Juin 2017'!J162=Résultat!$C$3),'[2]Interimaire Juin 2017'!F162,"") | F156: =IF(E156="","",ROW()) | K156: =+IF(A156="",0,7) -> 0 | L156: =+IF(K156>=6,1,0) -> 0 | O156: =+L156 -> 0 | P156: =+IF(A156="",0,7) -> 0 | Q156: =+IF(P156>=6,1,0) -> 0 | T156: =+Q156 -> 0 | U156: =+IF(A156="",0,7) -> 0 | V156: =+IF(U156>=6,1,0) -> 0 | Y156: =+V156 -> 0 | Z156: =+IF(A156="",0,7) -> 0 | AA156: =+IF(Z156>=6,1,0) -> 0 | AD156: =+AA156 -> 0 | AE156: =+IF(A156="",0,7) -> 0 | AF156: =+IF(AE156>=6,1,0) -> 0 | AI156: =+AF156 -> 0 | BD156: CRIT | BE156: ROBINAUD | BF156: Thomas | BG156: 1 | BH156: 42898 | BI156: 42902 | BJ156: 24
A157: {=IFERROR(INDEX($D$9:$D$196,SMALL($F$9:$I$196,ROW(INDIRECT("1:"&ROWS($G$9:$G$196))))),"")} | C157: =+IF('[2]Interimaire Juin 2017'!J162=Résultat!$C$3,IF('[2]Interimaire Juin 2017'!D162=Résultat!$AS$1,'[2]Interimaire Juin 2017'!F162,"")) -> FALSE | D157: =IF(AND('[2]Interimaire Juin 2017'!D163=Résultat!$AS$1,'[2]Interimaire Juin 2017'!J163=Résultat!$C$3),'[2]Interimaire Juin 2017'!E163,"") | E157: =IF(AND('[2]Interimaire Juin 2017'!D163=Résultat!$AS$1,'[2]Interimaire Juin 2017'!J163=Résultat!$C$3),'[2]Interimaire Juin 2017'!F163,"") | F157: =IF(E157="","",ROW()) | K157: =+IF(A157="",0,7) -> 0 | L157: =+IF(K157>=6,1,0) -> 0 | O157: =+L157 -> 0 | P157: =+IF(A157="",0,7) -> 0 | Q157: =+IF(P157>=6,1,0) -> 0 | T157: =+Q157 -> 0 | U157: =+IF(A157="",0,7) -> 0 | V157: =+IF(U157>=6,1,0) -> 0 | Y157: =+V157 -> 0 | Z157: =+IF(A157="",0,7) -> 0 | AA157: =+IF(Z157>=6,1,0) -> 0 | AD157: =+AA157 -> 0 | AE157: =+IF(A157="",0,7) -> 0 | AF157: =+IF(AE157>=6,1,0) -> 0 | AI157: =+AF157 -> 0 | BD157: CRIT | BE157: SASSI | BF157: Jacques | BG157: 1 | BH157: 42887 | BI157: 42888 | BJ157: 22
A158: {=IFERROR(INDEX($D$9:$D$196,SMALL($F$9:$I$196,ROW(INDIRECT("1:"&ROWS($G$9:$G$196))))),"")} | C158: =+IF('[2]Interimaire Juin 2017'!J163=Résultat!$C$3,IF('[2]Interimaire Juin 2017'!D163=Résultat!$AS$1,'[2]Interimaire Juin 2017'!F163,"")) | D158: =IF(AND('[2]Interimaire Juin 2017'!D164=Résultat!$AS$1,'[2]Interimaire Juin 2017'!J164=Résultat!$C$3),'[2]Interimaire Juin 2017'!E164,"") | E158: =IF(AND('[2]Interimaire Juin 2017'!D164=Résultat!$AS$1,'[2]Interimaire Juin 2017'!J164=Résultat!$C$3),'[2]Interimaire Juin 2017'!F164,"") | F158: =IF(E158="","",ROW()) | K158: =+IF(A158="",0,7) -> 0 | L158: =+IF(K158>=6,1,0) -> 0 | O158: =+L158 -> 0 | P158: =+IF(A158="",0,7) -> 0 | Q158: =+IF(P158>=6,1,0) -> 0 | T158: =+Q158 -> 0 | U158: =+IF(A158="",0,7) -> 0 | V158: =+IF(U158>=6,1,0) -> 0 | Y158: =+V158 -> 0 | Z158: =+IF(A158="",0,7) -> 0 | AA158: =+IF(Z158>=6,1,0) -> 0 | AD158: =+AA158 -> 0 | AE158: =+IF(A158="",0,7) -> 0 | AF158: =+IF(AE158>=6,1,0) -> 0 | AI158: =+AF158 -> 0 | BD158: CRIT | BE158: SASSI | BF158: Jacques | BG158: 1 | BH158: 42891 | BI158: 42895 | BJ158: 23
A159: {=IFERROR(INDEX($D$9:$D$196,SMALL($F$9:$I$196,ROW(INDIRECT("1:"&ROWS($G$9:$G$196))))),"")} | C159: =+IF('[2]Interimaire Juin 2017'!J164=Résultat!$C$3,IF('[2]Interimaire Juin 2017'!D164=Résultat!$AS$1,'[2]Interimaire Juin 2017'!F164,"")) -> FALSE | D159: =IF(AND('[2]Interimaire Juin 2017'!D165=Résultat!$AS$1,'[2]Interimaire Juin 2017'!J165=Résultat!$C$3),'[2]Interimaire Juin 2017'!E165,"") | E159: =IF(AND('[2]Interimaire Juin 2017'!D165=Résultat!$AS$1,'[2]Interimaire Juin 2017'!J165=Résultat!$C$3),'[2]Interimaire Juin 2017'!F165,"") | F159: =IF(E159="","",ROW()) | K159: =+IF(A159="",0,7) -> 0 | L159: =+IF(K159>=6,1,0) -> 0 | O159: =+L159 -> 0 | P159: =+IF(A159="",0,7) -> 0 | Q159: =+IF(P159>=6,1,0) -> 0 | T159: =+Q159 -> 0 | U159: =+IF(A159="",0,7) -> 0 | V159: =+IF(U159>=6,1,0) -> 0 | Y159: =+V159 -> 0 | Z159: =+IF(A159="",0,7) -> 0 | AA159: =+IF(Z159>=6,1,0) -> 0 | AD159: =+AA159 -> 0 | AE159: =+IF(A159="",0,7) -> 0 | AF159: =+IF(AE159>=6,1,0) -> 0 | AI159: =+AF159 -> 0 | BD159: CRIT | BE159: SASSI | BF159: Jacques | BG159: 1 | BH159: 42898 | BI159: 42902 | BJ159: 24
A160: {=IFERROR(INDEX($D$9:$D$196,SMALL($F$9:$I$196,ROW(INDIRECT("1:"&ROWS($G$9:$G$196))))),"")} | C160: =+IF('[2]Interimaire Juin 2017'!J165=Résultat!$C$3,IF('[2]Interimaire Juin 2017'!D165=Résultat!$AS$1,'[2]Interimaire Juin 2017'!F165,"")) -> FALSE | D160: =IF(AND('[2]Interimaire Juin 2017'!D166=Résultat!$AS$1,'[2]Interimaire Juin 2017'!J166=Résultat!$C$3),'[2]Interimaire Juin 2017'!E166,"") | E160: =IF(AND('[2]Interimaire Juin 2017'!D166=Résultat!$AS$1,'[2]Interimaire Juin 2017'!J166=Résultat!$C$3),'[2]Interimaire Juin 2017'!F166,"") | F160: =IF(E160="","",ROW()) | K160: =+IF(A160="",0,7) -> 0 | L160: =+IF(K160>=6,1,0) -> 0 | O160: =+L160 -> 0 | P160: =+IF(A160="",0,7) -> 0 | Q160: =+IF(P160>=6,1,0) -> 0 | T160: =+Q160 -> 0 | U160: =+IF(A160="",0,7) -> 0 | V160: =+IF(U160>=6,1,0) -> 0 | Y160: =+V160 -> 0 | Z160: =+IF(A160="",0,7) -> 0 | AA160: =+IF(Z160>=6,1,0) -> 0 | AD160: =+AA160 -> 0 | AE160: =+IF(A160="",0,7) -> 0 | AF160: =+IF(AE160>=6,1,0) -> 0 | AI160: =+AF160 -> 0 | BD160: CRIT | BE160: SASSI | BF160: Jacques | BG160: 1 | BH160: 42905 | BI160: 42909 | BJ160: 25
A161: {=IFERROR(INDEX($D$9:$D$196,SMALL($F$9:$I$196,ROW(INDIRECT("1:"&ROWS($G$9:$G$196))))),"")} | C161: =+IF('[2]Interimaire Juin 2017'!J166=Résultat!$C$3,IF('[2]Interimaire Juin 2017'!D166=Résultat!$AS$1,'[2]Interimaire Juin 2017'!F166,"")) -> FALSE | D161: =IF(AND('[2]Interimaire Juin 2017'!D167=Résultat!$AS$1,'[2]Interimaire Juin 2017'!J167=Résultat!$C$3),'[2]Interimaire Juin 2017'!E167,"") | E161: =IF(AND('[2]Interimaire Juin 2017'!D167=Résultat!$AS$1,'[2]Interimaire Juin 2017'!J167=Résultat!$C$3),'[2]Interimaire Juin 2017'!F167,"") | F161: =IF(E161="","",ROW()) | K161: =+IF(A161="",0,7) -> 0 | L161: =+IF(K161>=6,1,0) -> 0 | O161: =+L161 -> 0 | P161: =+IF(A161="",0,7) -> 0 | Q161: =+IF(P161>=6,1,0) -> 0 | T161: =+Q161 -> 0 | U161: =+IF(A161="",0,7) -> 0 | V161: =+IF(U161>=6,1,0) -> 0 | Y161: =+V161 -> 0 | Z161: =+IF(A161="",0,7) -> 0 | AA161: =+IF(Z161>=6,1,0) -> 0 | AD161: =+AA161 -> 0 | AE161: =+IF(A161="",0,7) -> 0 | AF161: =+IF(AE161>=6,1,0) -> 0 | AI161: =+AF161 -> 0 | BD161: CRIT | BE161: SASSI | BF161: Jacques | BG161: 1 | BH161: 42912 | BI161: 42916 | BJ161: 26
A162: {=IFERROR(INDEX($D$9:$D$196,SMALL($F$9:$I$196,ROW(INDIRECT("1:"&ROWS($G$9:$G$196))))),"")} | C162: =+IF('[2]Interimaire Juin 2017'!J167=Résultat!$C$3,IF('[2]Interimaire Juin 2017'!D167=Résultat!$AS$1,'[2]Interimaire Juin 2017'!F167,"")) -> FALSE | D162: =IF(AND('[2]Interimaire Juin 2017'!D168=Résultat!$AS$1,'[2]Interimaire Juin 2017'!J168=Résultat!$C$3),'[2]Interimaire Juin 2017'!E168,"") | E162: =IF(AND('[2]Interimaire Juin 2017'!D168=Résultat!$AS$1,'[2]Interimaire Juin 2017'!J168=Résultat!$C$3),'[2]Interimaire Juin 2017'!F168,"") | F162: =IF(E162="","",ROW()) | K162: =+IF(A162="",0,7) -> 0 | L162: =+IF(K162>=6,1,0) -> 0 | O162: =+L162 -> 0 | P162: =+IF(A162="",0,7) -> 0 | Q162: =+IF(P162>=6,1,0) -> 0 | T162: =+Q162 -> 0 | U162: =+IF(A162="",0,7) -> 0 | V162: =+IF(U162>=6,1,0) -> 0 | Y162: =+V162 -> 0 | Z162: =+IF(A162="",0,7) -> 0 | AA162: =+IF(Z162>=6,1,0) -> 0 | AD162: =+AA162 -> 0 | AE162: =+IF(A162="",0,7) -> 0 | AF162: =+IF(AE162>=6,1,0) -> 0 | AI162: =+AF162 -> 0 | BD162: CRIT | BE162: TASSAINT | BF162: Ludovic | BG162: 1 | BH162: 42898 | BI162: 42902 | BJ162: 24
A163: {=IFERROR(INDEX($D$9:$D$196,SMALL($F$9:$I$196,ROW(INDIRECT("1:"&ROWS($G$9:$G$196))))),"")} | C163: =+IF('[2]Interimaire Juin 2017'!J168=Résultat!$C$3,IF('[2]Interimaire Juin 2017'!D168=Résultat!$AS$1,'[2]Interimaire Juin 2017'!F168,"")) -> FALSE | D163: =IF(AND('[2]Interimaire Juin 2017'!D169=Résultat!$AS$1,'[2]Interimaire Juin 2017'!J169=Résultat!$C$3),'[2]Interimaire Juin 2017'!E169,"") | E163: =IF(AND('[2]Interimaire Juin 2017'!D169=Résultat!$AS$1,'[2]Interimaire Juin 2017'!J169=Résultat!$C$3),'[2]Interimaire Juin 2017'!F169,"") | F163: =IF(E163="","",ROW()) | K163: =+IF(A163="",0,7) -> 0 | L163: =+IF(K163>=6,1,0) -> 0 | O163: =+L163 -> 0 | P163: =+IF(A163="",0,7) -> 0 | Q163: =+IF(P163>=6,1,0) -> 0 | T163: =+Q163 -> 0 | U163: =+IF(A163="",0,7) -> 0 | V163: =+IF(U163>=6,1,0) -> 0 | Y163: =+V163 -> 0 | Z163: =+IF(A163="",0,7) -> 0 | AA163: =+IF(Z163>=6,1,0) -> 0 | AD163: =+AA163 -> 0 | AE163: =+IF(A163="",0,7) -> 0 | AF163: =+IF(AE163>=6,1,0) -> 0 | AI163: =+AF163 -> 0 | BD163: CRIT | BE163: TASSAINT | BF163: Ludovic | BG163: 1 | BH163: 42891 | BI163: 42895 | BJ163: 23
A164: {=IFERROR(INDEX($D$9:$D$196,SMALL($F$9:$I$196,ROW(INDIRECT("1:"&ROWS($G$9:$G$196))))),"")} | C164: =+IF('[2]Interimaire Juin 2017'!J169=Résultat!$C$3,IF('[2]Interimaire Juin 2017'!D169=Résultat!$AS$1,'[2]Interimaire Juin 2017'!F169,"")) -> FALSE | D164: =IF(AND('[2]Interimaire Juin 2017'!D170=Résultat!$AS$1,'[2]Interimaire Juin 2017'!J170=Résultat!$C$3),'[2]Interimaire Juin 2017'!E170,"") | E164: =IF(AND('[2]Interimaire Juin 2017'!D170=Résultat!$AS$1,'[2]Interimaire Juin 2017'!J170=Résultat!$C$3),'[2]Interimaire Juin 2017'!F170,"") | F164: =IF(E164="","",ROW()) | K164: =+IF(A164="",0,7) -> 0 | L164: =+IF(K164>=6,1,0) -> 0 | O164: =+L164 -> 0 | P164: =+IF(A164="",0,7) -> 0 | Q164: =+IF(P164>=6,1,0) -> 0 | T164: =+Q164 -> 0 | U164: =+IF(A164="",0,7) -> 0 | V164: =+IF(U164>=6,1,0) -> 0 | Y164: =+V164 -> 0 | Z164: =+IF(A164="",0,7) -> 0 | AA164: =+IF(Z164>=6,1,0) -> 0 | AD164: =+AA164 -> 0 | AE164: =+IF(A164="",0,7) -> 0 | AF164: =+IF(AE164>=6,1,0) -> 0 | AI164: =+AF164 -> 0 | BD164: CRIT | BE164: TASSAINT | BF164: Ludovic | BG164: 1 | BH164: 42905 | BI164: 42909 | BJ164: 25
A165: {=IFERROR(INDEX($D$9:$D$196,SMALL($F$9:$I$196,ROW(INDIRECT("1:"&ROWS($G$9:$G$196))))),"")} | C165: =+IF('[2]Interimaire Juin 2017'!J170=Résultat!$C$3,IF('[2]Interimaire Juin 2017'!D170=Résultat!$AS$1,'[2]Interimaire Juin 2017'!F170,"")) -> FALSE | D165: =IF(AND('[2]Interimaire Juin 2017'!D171=Résultat!$AS$1,'[2]Interimaire Juin 2017'!J171=Résultat!$C$3),'[2]Interimaire Juin 2017'!E171,"") -> SASSI | E165: =IF(AND('[2]Interimaire Juin 2017'!D171=Résultat!$AS$1,'[2]Interimaire Juin 2017'!J171=Résultat!$C$3),'[2]Interimaire Juin 2017'!F171,"") -> Jacques | F165: =IF(E165="","",ROW()) -> 165 | K165: =+IF(A165="",0,7) -> 0 | L165: =+IF(K165>=6,1,0) -> 0 | O165: =+L165 -> 0 | P165: =+IF(A165="",0,7) -> 0 | Q165: =+IF(P165>=6,1,0) -> 0 | T165: =+Q165 -> 0 | U165: =+IF(A165="",0,7) -> 0 | V165: =+IF(U165>=6,1,0) -> 0 | Y165: =+V165 -> 0 | Z165: =+IF(A165="",0,7) -> 0 | AA165: =+IF(Z165>=6,1,0) -> 0 | AD165: =+AA165 -> 0 | AE165: =+IF(A165="",0,7) -> 0 | AF165: =+IF(AE165>=6,1,0) -> 0 | AI165: =+AF165 -> 0 | BD165: CRIT | BE165: TASSAINT | BF165: Ludovic | BG165: 1 | BH165: 42912 | BI165: 42916 | BJ165: 26
A166: {=IFERROR(INDEX($D$9:$D$196,SMALL($F$9:$I$196,ROW(INDIRECT("1:"&ROWS($G$9:$G$196))))),"")} | C166: =+IF('[2]Interimaire Juin 2017'!J171=Résultat!$C$3,IF('[2]Interimaire Juin 2017'!D171=Résultat!$AS$1,'[2]Interimaire Juin 2017'!F171,"")) -> Jacques | D166: =IF(AND('[2]Interimaire Juin 2017'!D172=Résultat!$AS$1,'[2]Interimaire Juin 2017'!J172=Résultat!$C$3),'[2]Interimaire Juin 2017'!E172,"") | E166: =IF(AND('[2]Interimaire Juin 2017'!D172=Résultat!$AS$1,'[2]Interimaire Juin 2017'!J172=Résultat!$C$3),'[2]Interimaire Juin 2017'!F172,"") | F166: =IF(E166="","",ROW()) | K166: =+IF(A166="",0,7) -> 0 | L166: =+IF(K166>=6,1,0) -> 0 | O166: =+L166 -> 0 | P166: =+IF(A166="",0,7) -> 0 | Q166: =+IF(P166>=6,1,0) -> 0 | T166: =+Q166 -> 0 | U166: =+IF(A166="",0,7) -> 0 | V166: =+IF(U166>=6,1,0) -> 0 | Y166: =+V166 -> 0 | Z166: =+IF(A166="",0,7) -> 0 | AA166: =+IF(Z166>=6,1,0) -> 0 | AD166: =+AA166 -> 0 | AE166: =+IF(A166="",0,7) -> 0 | AF166: =+IF(AE166>=6,1,0) -> 0 | AI166: =+AF166 -> 0 | BD166: CRIT | BE166: TEDESCO | BF166: Lucas | BG166: 1 | BH166: 42887 | BI166: 42888 | BJ166: 22
A167: {=IFERROR(INDEX($D$9:$D$196,SMALL($F$9:$I$196,ROW(INDIRECT("1:"&ROWS($G$9:$G$196))))),"")} | C167: =+IF('[2]Interimaire Juin 2017'!J172=Résultat!$C$3,IF('[2]Interimaire Juin 2017'!D172=Résultat!$AS$1,'[2]Interimaire Juin 2017'!F172,"")) -> FALSE | D167: =IF(AND('[2]Interimaire Juin 2017'!D173=Résultat!$AS$1,'[2]Interimaire Juin 2017'!J173=Résultat!$C$3),'[2]Interimaire Juin 2017'!E173,"") | E167: =IF(AND('[2]Interimaire Juin 2017'!D173=Résultat!$AS$1,'[2]Interimaire Juin 2017'!J173=Résultat!$C$3),'[2]Interimaire Juin 2017'!F173,"") | F167: =IF(E167="","",ROW()) | K167: =+IF(A167="",0,7) -> 0 | L167: =+IF(K167>=6,1,0) -> 0 | O167: =+L167 -> 0 | P167: =+IF(A167="",0,7) -> 0 | Q167: =+IF(P167>=6,1,0) -> 0 | T167: =+Q167 -> 0 | U167: =+IF(A167="",0,7) -> 0 | V167: =+IF(U167>=6,1,0) -> 0 | Y167: =+V167 -> 0 | Z167: =+IF(A167="",0,7) -> 0 | AA167: =+IF(Z167>=6,1,0) -> 0 | AD167: =+AA167 -> 0 | AE167: =+IF(A167="",0,7) -> 0 | AF167: =+IF(AE167>=6,1,0) -> 0 | AI167: =+AF167 -> 0 | BD167: CRIT | BE167: TEDESCO | BF167: Lucas | BG167: 1 | BH167: 42891 | BI167: 42895 | BJ167: 23
... A183: {=IFERROR(INDEX($D$9:$D$196,SMALL($F$9:$I$196,ROW(INDIRECT("1:"&ROWS($G$9:$G$196))))),"")} | C183: =+IF('[2]Interimaire Juin 2017'!J188=Résultat!$C$3,IF('[2]Interimaire Juin 2017'!D188=Résultat!$AS$1,'[2]Interimaire Juin 2017'!F188,"")) -> FALSE | D183: =IF(AND('[2]Interimaire Juin 2017'!D189=Résultat!$AS$1,'[2]Interimaire Juin 2017'!J189=Résultat!$C$3),'[2]Interimaire Juin 2017'!E189,"") | E183: =IF(AND('[2]Interimaire Juin 2017'!D189=Résultat!$AS$1,'[2]Interimaire Juin 2017'!J189=Résultat!$C$3),'[2]Interimaire Juin 2017'!F189,"") | F183: =IF(E183="","",ROW()) | K183: =+IF(A183="",0,7) -> 0 | L183: =+IF(K183>=6,1,0) -> 0 | O183: =+L183 -> 0 | P183: =+IF(A183="",0,7) -> 0 | Q183: =+IF(P183>=6,1,0) -> 0 | T183: =+Q183 -> 0 | U183: =+IF(A183="",0,7) -> 0 | V183: =+IF(U183>=6,1,0) -> 0 | Y183: =+V183 -> 0 | Z183: =+IF(A183="",0,7) -> 0 | AA183: =+IF(Z183>=6,1,0) -> 0 | AD183: =+AA183 -> 0 | AE183: =+IF(A183="",0,7) -> 0 | AF183: =+IF(AE183>=6,1,0) -> 0 | AI183: =+AF183 -> 0 | BD183: CRIT | BE183: VERON | BF183: Jean-Batipste | BG183: 1 | BH183: 42898 | BI183: 42902 | BJ183: 24
A184: {=IFERROR(INDEX($D$9:$D$196,SMALL($F$9:$I$196,ROW(INDIRECT("1:"&ROWS($G$9:$G$196))))),"")} | C184: =+IF('[2]Interimaire Juin 2017'!J189=Résultat!$C$3,IF('[2]Interimaire Juin 2017'!D189=Résultat!$AS$1,'[2]Interimaire Juin 2017'!F189,"")) -> FALSE | D184: =IF(AND('[2]Interimaire Juin 2017'!D190=Résultat!$AS$1,'[2]Interimaire Juin 2017'!J190=Résultat!$C$3),'[2]Interimaire Juin 2017'!E190,"") | E184: =IF(AND('[2]Interimaire Juin 2017'!D190=Résultat!$AS$1,'[2]Interimaire Juin 2017'!J190=Résultat!$C$3),'[2]Interimaire Juin 2017'!F190,"") | F184: =IF(E184="","",ROW()) | K184: =+IF(A184="",0,7) -> 0 | L184: =+IF(K184>=6,1,0) -> 0 | O184: =+L184 -> 0 | P184: =+IF(A184="",0,7) -> 0 | Q184: =+IF(P184>=6,1,0) -> 0 | T184: =+Q184 -> 0 | U184: =+IF(A184="",0,7) -> 0 | V184: =+IF(U184>=6,1,0) -> 0 | Y184: =+V184 -> 0 | Z184: =+IF(A184="",0,7) -> 0 | AA184: =+IF(Z184>=6,1,0) -> 0 | AD184: =+AA184 -> 0 | AE184: =+IF(A184="",0,7) -> 0 | AF184: =+IF(AE184>=6,1,0) -> 0 | AI184: =+AF184 -> 0 | BD184: CRIT | BE184: VERON | BF184: Jean-Batipste | BH184: 42905 | BI184: 42909 | BJ184: 25
A185: {=IFERROR(INDEX($D$9:$D$196,SMALL($F$9:$I$196,ROW(INDIRECT("1:"&ROWS($G$9:$G$196))))),"")} | C185: =+IF('[2]Interimaire Juin 2017'!J190=Résultat!$C$3,IF('[2]Interimaire Juin 2017'!D190=Résultat!$AS$1,'[2]Interimaire Juin 2017'!F190,"")) -> FALSE | D185: =IF(AND('[2]Interimaire Juin 2017'!D191=Résultat!$AS$1,'[2]Interimaire Juin 2017'!J191=Résultat!$C$3),'[2]Interimaire Juin 2017'!E191,"") | E185: =IF(AND('[2]Interimaire Juin 2017'!D191=Résultat!$AS$1,'[2]Interimaire Juin 2017'!J191=Résultat!$C$3),'[2]Interimaire Juin 2017'!F191,"") | F185: =IF(E185="","",ROW()) | K185: =+IF(A185="",0,7) -> 0 | L185: =+IF(K185>=6,1,0) -> 0 | O185: =+L185 -> 0 | P185: =+IF(A185="",0,7) -> 0 | Q185: =+IF(P185>=6,1,0) -> 0 | T185: =+Q185 -> 0 | U185: =+IF(A185="",0,7) -> 0 | V185: =+IF(U185>=6,1,0) -> 0 | Y185: =+V185 -> 0 | Z185: =+IF(A185="",0,7) -> 0 | AA185: =+IF(Z185>=6,1,0) -> 0 | AD185: =+AA185 -> 0 | AE185: =+IF(A185="",0,7) -> 0 | AF185: =+IF(AE185>=6,1,0) -> 0 | AI185: =+AF185 -> 0 | BD185: CRIT | BE185: VERON | BF185: Jean-Batipste | BG185: 1 | BH185: 42912 | BI185: 42916 | BJ185: 26
A186: {=IFERROR(INDEX($D$9:$D$196,SMALL($F$9:$I$196,ROW(INDIRECT("1:"&ROWS($G$9:$G$196))))),"")} | C186: =+IF('[2]Interimaire Juin 2017'!J191=Résultat!$C$3,IF('[2]Interimaire Juin 2017'!D191=Résultat!$AS$1,'[2]Interimaire Juin 2017'!F191,"")) -> FALSE | D186: =IF(AND('[2]Interimaire Juin 2017'!D192=Résultat!$AS$1,'[2]Interimaire Juin 2017'!J192=Résultat!$C$3),'[2]Interimaire Juin 2017'!E192,"") -> TREMOULET | E186: =IF(AND('[2]Interimaire Juin 2017'!D192=Résultat!$AS$1,'[2]Interimaire Juin 2017'!J192=Résultat!$C$3),'[2]Interimaire Juin 2017'!F192,"") -> Cécile | F186: =IF(E186="","",ROW()) -> 186 | K186: =+IF(A186="",0,7) -> 0 | L186: =+IF(K186>=6,1,0) -> 0 | O186: =+L186 -> 0 | P186: =+IF(A186="",0,7) -> 0 | Q186: =+IF(P186>=6,1,0) -> 0 | T186: =+Q186 -> 0 | U186: =+IF(A186="",0,7) -> 0 | V186: =+IF(U186>=6,1,0) -> 0 | Y186: =+V186 -> 0 | Z186: =+IF(A186="",0,7) -> 0 | AA186: =+IF(Z186>=6,1,0) -> 0 | AD186: =+AA186 -> 0 | AE186: =+IF(A186="",0,7) -> 0 | AF186: =+IF(AE186>=6,1,0) -> 0 | AI186: =+AF186 -> 0 | BD186: SYNERGIE | BE186: VILAR | BF186: Loic | BG186: 1 | BH186: 42887 | BI186: 42888 | BJ186: 22
A187: {=IFERROR(INDEX($D$9:$D$196,SMALL($F$9:$I$196,ROW(INDIRECT("1:"&ROWS($G$9:$G$196))))),"")} | C187: =+IF('[2]Interimaire Juin 2017'!J192=Résultat!$C$3,IF('[2]Interimaire Juin 2017'!D192=Résultat!$AS$1,'[2]Interimaire Juin 2017'!F192,"")) -> Cécile | D187: =IF(AND('[2]Interimaire Juin 2017'!D193=Résultat!$AS$1,'[2]Interimaire Juin 2017'!J193=Résultat!$C$3),'[2]Interimaire Juin 2017'!E193,"") | E187: =IF(AND('[2]Interimaire Juin 2017'!D193=Résultat!$AS$1,'[2]Interimaire Juin 2017'!J193=Résultat!$C$3),'[2]Interimaire Juin 2017'!F193,"") | F187: =IF(E187="","",ROW()) | K187: =+IF(A187="",0,7) -> 0 | L187: =+IF(K187>=6,1,0) -> 0 | O187: =+L187 -> 0 | P187: =+IF(A187="",0,7) -> 0 | Q187: =+IF(P187>=6,1,0) -> 0 | T187: =+Q187 -> 0 | U187: =+IF(A187="",0,7) -> 0 | V187: =+IF(U187>=6,1,0) -> 0 | Y187: =+V187 -> 0 | Z187: =+IF(A187="",0,7) -> 0 | AA187: =+IF(Z187>=6,1,0) -> 0 | AD187: =+AA187 -> 0 | AE187: =+IF(A187="",0,7) -> 0 | AF187: =+IF(AE187>=6,1,0) -> 0 | AI187: =+AF187 -> 0 | BD187: SYNERGIE | BE187: VILAR | BF187: Loic | BG187: 1 | BH187: 42891 | BI187: 42895 | BJ187: 23
A188: {=IFERROR(INDEX($D$9:$D$196,SMALL($F$9:$I$196,ROW(INDIRECT("1:"&ROWS($G$9:$G$196))))),"")} | C188: =+IF('[2]Interimaire Juin 2017'!J193=Résultat!$C$3,IF('[2]Interimaire Juin 2017'!D193=Résultat!$AS$1,'[2]Interimaire Juin 2017'!F193,"")) -> FALSE | D188: =IF(AND('[2]Interimaire Juin 2017'!D194=Résultat!$AS$1,'[2]Interimaire Juin 2017'!J194=Résultat!$C$3),'[2]Interimaire Juin 2017'!E194,"") | E188: =IF(AND('[2]Interimaire Juin 2017'!D194=Résultat!$AS$1,'[2]Interimaire Juin 2017'!J194=Résultat!$C$3),'[2]Interimaire Juin 2017'!F194,"") | F188: =IF(E188="","",ROW()) | K188: =+IF(A188="",0,7) -> 0 | L188: =+IF(K188>=6,1,0) -> 0 | O188: =+L188 -> 0 | P188: =+IF(A188="",0,7) -> 0 | Q188: =+IF(P188>=6,1,0) -> 0 | T188: =+Q188 -> 0 | U188: =+IF(A188="",0,7) -> 0 | V188: =+IF(U188>=6,1,0) -> 0 | Y188: =+V188 -> 0 | Z188: =+IF(A188="",0,7) -> 0 | AA188: =+IF(Z188>=6,1,0) -> 0 | AD188: =+AA188 -> 0 | AE188: =+IF(A188="",0,7) -> 0 | AF188: =+IF(AE188>=6,1,0) -> 0 | AI188: =+AF188 -> 0 | BD188: SYNERGIE | BE188: VILAR | BF188: Loic | BG188: 1 | BH188: 42898 | BI188: 42902 | BJ188: 24
A189: {=IFERROR(INDEX($D$9:$D$196,SMALL($F$9:$I$196,ROW(INDIRECT("1:"&ROWS($G$9:$G$196))))),"")} | C189: =+IF('[2]Interimaire Juin 2017'!J194=Résultat!$C$3,IF('[2]Interimaire Juin 2017'!D194=Résultat!$AS$1,'[2]Interimaire Juin 2017'!F194,"")) -> FALSE | D189: =IF(AND('[2]Interimaire Juin 2017'!D195=Résultat!$AS$1,'[2]Interimaire Juin 2017'!J195=Résultat!$C$3),'[2]Interimaire Juin 2017'!E195,"") | E189: =IF(AND('[2]Interimaire Juin 2017'!D195=Résultat!$AS$1,'[2]Interimaire Juin 2017'!J195=Résultat!$C$3),'[2]Interimaire Juin 2017'!F195,"") | F189: =IF(E189="","",ROW()) | K189: =+IF(A189="",0,7) -> 0 | L189: =+IF(K189>=6,1,0) -> 0 | O189: =+L189 -> 0 | P189: =+IF(A189="",0,7) -> 0 | Q189: =+IF(P189>=6,1,0) -> 0 | T189: =+Q189 -> 0 | U189: =+IF(A189="",0,7) -> 0 | V189: =+IF(U189>=6,1,0) -> 0 | Y189: =+V189 -> 0 | Z189: =+IF(A189="",0,7) -> 0 | AA189: =+IF(Z189>=6,1,0) -> 0 | AD189: =+AA189 -> 0 | AE189: =+IF(A189="",0,7) -> 0 | AF189: =+IF(AE189>=6,1,0) -> 0 | AI189: =+AF189 -> 0 | BD189: SYNERGIE | BE189: VILAR | BF189: Loic | BG189: 1 | BH189: 42905 | BI189: 42909 | BJ189: 25
A190: {=IFERROR(INDEX($D$9:$D$196,SMALL($F$9:$I$196,ROW(INDIRECT("1:"&ROWS($G$9:$G$196))))),"")} | C190: =+IF('[2]Interimaire Juin 2017'!J195=Résultat!$C$3,IF('[2]Interimaire Juin 2017'!D195=Résultat!$AS$1,'[2]Interimaire Juin 2017'!F195,"")) -> FALSE | D190: =IF(AND('[2]Interimaire Juin 2017'!D196=Résultat!$AS$1,'[2]Interimaire Juin 2017'!J196=Résultat!$C$3),'[2]Interimaire Juin 2017'!E196,"") | E190: =IF(AND('[2]Interimaire Juin 2017'!D196=Résultat!$AS$1,'[2]Interimaire Juin 2017'!J196=Résultat!$C$3),'[2]Interimaire Juin 2017'!F196,"") | F190: =IF(E190="","",ROW()) | K190: =+IF(A190="",0,7) -> 0 | L190: =+IF(K190>=6,1,0) -> 0 | O190: =+L190 -> 0 | P190: =+IF(A190="",0,7) -> 0 | Q190: =+IF(P190>=6,1,0) -> 0 | T190: =+Q190 -> 0 | U190: =+IF(A190="",0,7) -> 0 | V190: =+IF(U190>=6,1,0) -> 0 | Y190: =+V190 -> 0 | Z190: =+IF(A190="",0,7) -> 0 | AA190: =+IF(Z190>=6,1,0) -> 0 | AD190: =+AA190 -> 0 | AE190: =+IF(A190="",0,7) -> 0 | AF190: =+IF(AE190>=6,1,0) -> 0 | AI190: =+AF190 -> 0 | BD190: SYNERGIE | BE190: VILAR | BF190: Loic | BG190: 1 | BH190: 42912 | BI190: 42916 | BJ190: 26
A191: {=IFERROR(INDEX($D$9:$D$196,SMALL($F$9:$I$196,ROW(INDIRECT("1:"&ROWS($G$9:$G$196))))),"")} | C191: =+IF('[2]Interimaire Juin 2017'!J196=Résultat!$C$3,IF('[2]Interimaire Juin 2017'!D196=Résultat!$AS$1,'[2]Interimaire Juin 2017'!F196,"")) -> FALSE | D191: =IF(AND('[2]Interimaire Juin 2017'!D197=Résultat!$AS$1,'[2]Interimaire Juin 2017'!J197=Résultat!$C$3),'[2]Interimaire Juin 2017'!E197,"") | E191: =IF(AND('[2]Interimaire Juin 2017'!D197=Résultat!$AS$1,'[2]Interimaire Juin 2017'!J197=Résultat!$C$3),'[2]Interimaire Juin 2017'!F197,"") | F191: =IF(E191="","",ROW()) | K191: =+IF(A191="",0,7) -> 0 | L191: =+IF(K191>=6,1,0) -> 0 | O191: =+L191 -> 0 | P191: =+IF(A191="",0,7) -> 0 | Q191: =+IF(P191>=6,1,0) -> 0 | T191: =+Q191 -> 0 | U191: =+IF(A191="",0,7) -> 0 | V191: =+IF(U191>=6,1,0) -> 0 | Y191: =+V191 -> 0 | Z191: =+IF(A191="",0,7) -> 0 | AA191: =+IF(Z191>=6,1,0) -> 0 | AD191: =+AA191 -> 0 | AE191: =+IF(A191="",0,7) -> 0 | AF191: =+IF(AE191>=6,1,0) -> 0 | AI191: =+AF191 -> 0 | BD191: CRIT | BE191: VINCENT | BF191: Laurent | BG191: 1 | BH191: 42887 | BI191: 42888 | BJ191: 22
A192: {=IFERROR(INDEX($D$9:$D$196,SMALL($F$9:$I$196,ROW(INDIRECT("1:"&ROWS($G$9:$G$196))))),"")} | C192: =+IF('[2]Interimaire Juin 2017'!J197=Résultat!$C$3,IF('[2]Interimaire Juin 2017'!D197=Résultat!$AS$1,'[2]Interimaire Juin 2017'!F197,"")) -> FALSE | D192: =IF(AND('[2]Interimaire Juin 2017'!D198=Résultat!$AS$1,'[2]Interimaire Juin 2017'!J198=Résultat!$C$3),'[2]Interimaire Juin 2017'!E198,"") | E192: =IF(AND('[2]Interimaire Juin 2017'!D198=Résultat!$AS$1,'[2]Interimaire Juin 2017'!J198=Résultat!$C$3),'[2]Interimaire Juin 2017'!F198,"") | F192: =IF(E192="","",ROW()) | K192: =+IF(A192="",0,7) -> 0 | L192: =+IF(K192>=6,1,0) -> 0 | O192: =+L192 -> 0 | P192: =+IF(A192="",0,7) -> 0 | Q192: =+IF(P192>=6,1,0) -> 0 | T192: =+Q192 -> 0 | U192: =+IF(A192="",0,7) -> 0 | V192: =+IF(U192>=6,1,0) -> 0 | Y192: =+V192 -> 0 | Z192: =+IF(A192="",0,7) -> 0 | AA192: =+IF(Z192>=6,1,0) -> 0 | AD192: =+AA192 -> 0 | AE192: =+IF(A192="",0,7) -> 0 | AF192: =+IF(AE192>=6,1,0) -> 0 | AI192: =+AF192 -> 0 | BD192: CRIT | BE192: VINCENT | BF192: Laurent | BG192: 1 | BH192: 42891 | BI192: 42895 | BJ192: 23
A193: {=IFERROR(INDEX($D$9:$D$196,SMALL($F$9:$I$196,ROW(INDIRECT("1:"&ROWS($G$9:$G$196))))),"")} | C193: =+IF('[2]Interimaire Juin 2017'!J198=Résultat!$C$3,IF('[2]Interimaire Juin 2017'!D198=Résultat!$AS$1,'[2]Interimaire Juin 2017'!F198,"")) -> FALSE | D193: =IF(AND('[2]Interimaire Juin 2017'!D199=Résultat!$AS$1,'[2]Interimaire Juin 2017'!J199=Résultat!$C$3),'[2]Interimaire Juin 2017'!E199,"") | E193: =IF(AND('[2]Interimaire Juin 2017'!D199=Résultat!$AS$1,'[2]Interimaire Juin 2017'!J199=Résultat!$C$3),'[2]Interimaire Juin 2017'!F199,"") | F193: =IF(E193="","",ROW()) | K193: =+IF(A193="",0,7) -> 0 | L193: =+IF(K193>=6,1,0) -> 0 | O193: =+L193 -> 0 | P193: =+IF(A193="",0,7) -> 0 | Q193: =+IF(P193>=6,1,0) -> 0 | T193: =+Q193 -> 0 | U193: =+IF(A193="",0,7) -> 0 | V193: =+IF(U193>=6,1,0) -> 0 | Y193: =+V193 -> 0 | Z193: =+IF(A193="",0,7) -> 0 | AA193: =+IF(Z193>=6,1,0) -> 0 | AD193: =+AA193 -> 0 | AE193: =+IF(A193="",0,7) -> 0 | AF193: =+IF(AE193>=6,1,0) -> 0 | AI193: =+AF193 -> 0 | BD193: CRIT | BE193: VINCENT | BF193: Laurent | BG193: 1 | BH193: 42898 | BI193: 42902 | BJ193: 24
A194: {=IFERROR(INDEX($D$9:$D$196,SMALL($F$9:$I$196,ROW(INDIRECT("1:"&ROWS($G$9:$G$196))))),"")} | C194: =+IF('[2]Interimaire Juin 2017'!J199=Résultat!$C$3,IF('[2]Interimaire Juin 2017'!D199=Résultat!$AS$1,'[2]Interimaire Juin 2017'!F199,"")) -> FALSE | D194: =IF(AND('[2]Interimaire Juin 2017'!D200=Résultat!$AS$1,'[2]Interimaire Juin 2017'!J200=Résultat!$C$3),'[2]Interimaire Juin 2017'!E200,"") | E194: =IF(AND('[2]Interimaire Juin 2017'!D200=Résultat!$AS$1,'[2]Interimaire Juin 2017'!J200=Résultat!$C$3),'[2]Interimaire Juin 2017'!F200,"") | F194: =IF(E194="","",ROW()) | K194: =+IF(A194="",0,7) -> 0 | L194: =+IF(K194>=6,1,0) -> 0 | O194: =+L194 -> 0 | P194: =+IF(A194="",0,7) -> 0 | Q194: =+IF(P194>=6,1,0) -> 0 | T194: =+Q194 -> 0 | U194: =+IF(A194="",0,7) -> 0 | V194: =+IF(U194>=6,1,0) -> 0 | Y194: =+V194 -> 0 | Z194: =+IF(A194="",0,7) -> 0 | AA194: =+IF(Z194>=6,1,0) -> 0 | AD194: =+AA194 -> 0 | AE194: =+IF(A194="",0,7) -> 0 | AF194: =+IF(AE194>=6,1,0) -> 0 | AI194: =+AF194 -> 0 | BD194: CRIT | BE194: VINCENT | BF194: Laurent | BG194: 1 | BH194: 42905 | BI194: 42909 | BJ194: 25
A195: {=IFERROR(INDEX($D$9:$D$196,SMALL($F$9:$I$196,ROW(INDIRECT("1:"&ROWS($G$9:$G$196))))),"")} | C195: =+IF('[2]Interimaire Juin 2017'!J200=Résultat!$C$3,IF('[2]Interimaire Juin 2017'!D200=Résultat!$AS$1,'[2]Interimaire Juin 2017'!F200,"")) | D195: =IF(AND('[2]Interimaire Juin 2017'!D201=Résultat!$AS$1,'[2]Interimaire Juin 2017'!J201=Résultat!$C$3),'[2]Interimaire Juin 2017'!E201,"") | E195: =IF(AND('[2]Interimaire Juin 2017'!D201=Résultat!$AS$1,'[2]Interimaire Juin 2017'!J201=Résultat!$C$3),'[2]Interimaire Juin 2017'!F201,"") | F195: =IF(E195="","",ROW()) | K195: =+IF(A195="",0,7) -> 0 | L195: =+IF(K195>=6,1,0) -> 0 | O195: =+L195 -> 0 | P195: =+IF(A195="",0,7) -> 0 | Q195: =+IF(P195>=6,1,0) -> 0 | T195: =+Q195 -> 0 | U195: =+IF(A195="",0,7) -> 0 | V195: =+IF(U195>=6,1,0) -> 0 | Y195: =+V195 -> 0 | Z195: =+IF(A195="",0,7) -> 0 | AA195: =+IF(Z195>=6,1,0) -> 0 | AD195: =+AA195 -> 0 | AE195: =+IF(A195="",0,7) -> 0 | AF195: =+IF(AE195>=6,1,0) -> 0 | AI195: =+AF195 -> 0 | BD195: CRIT | BE195: VINCENT | BF195: Laurent | BG195: 1 | BH195: 42912 | BI195: 42916 | BJ195: 26
A196: {=IFERROR(INDEX($D$9:$D$196,SMALL($F$9:$I$196,ROW(INDIRECT("1:"&ROWS($G$9:$G$196))))),"")} | C196: =+IF('[2]Interimaire Juin 2017'!J201=Résultat!$C$3,IF('[2]Interimaire Juin 2017'!D201=Résultat!$AS$1,'[2]Interimaire Juin 2017'!F201,"")) -> FALSE | D196: =IF(AND('[2]Interimaire Juin 2017'!D202=Résultat!$AS$1,'[2]Interimaire Juin 2017'!J202=Résultat!$C$3),'[2]Interimaire Juin 2017'!E202,"") | E196: =IF(AND('[2]Interimaire Juin 2017'!D202=Résultat!$AS$1,'[2]Interimaire Juin 2017'!J202=Résultat!$C$3),'[2]Interimaire Juin 2017'!F202,"") | F196: =IF(E196="","",ROW()) | K196: =+IF(A196="",0,7) -> 0 | L196: =+IF(K196>=6,1,0) -> 0 | O196: =+L196 -> 0 | P196: =+IF(A196="",0,7) -> 0 | Q196: =+IF(P196>=6,1,0) -> 0 | T196: =+Q196 -> 0 | U196: =+IF(A196="",0,7) -> 0 | V196: =+IF(U196>=6,1,0) -> 0 | Y196: =+V196 -> 0 | Z196: =+IF(A196="",0,7) -> 0 | AA196: =+IF(Z196>=6,1,0) -> 0 | AD196: =+AA196 -> 0 | AE196: =+IF(A196="",0,7) -> 0 | AF196: =+IF(AE196>=6,1,0) -> 0 | AI196: =+AF196 -> 0 | BD196: =+IF(ISNA(VLOOKUP(BE196,'[1]Listing Personnel Interimaire'!$A$1:$H$50,5,FALSE)),"",VLOOKUP(BE196,'[1]Listing Personnel Interimaire'!$A$1:$H$50,5,FALSE)) | BF196: =+IF(ISNA(VLOOKUP(BE196,'[1]Listing Personnel Interimaire'!$A$1:$H$50,2,FALSE)),"",VLOOKUP(BE196,'[1]Listing Personnel Interimaire'!$A$1:$H$50,2,FALSE)) | BG196: =+IF(BE196=BE197,0,1) -> 0 | BJ196: =WEEKNUM(BH196) -> 0
A197: {=IFERROR(INDEX($D$9:$D$196,SMALL($F$9:$I$196,ROW(INDIRECT("1:"&ROWS($G$9:$G$196))))),"")} | C197: =+IF('[2]Interimaire Juin 2017'!J202=Résultat!$C$3,IF('[2]Interimaire Juin 2017'!D202=Résultat!$AS$1,'[2]Interimaire Juin 2017'!F202,"")) -> FALSE | D197: =IF(AND('[2]Interimaire Juin 2017'!D203=Résultat!$AS$1,'[2]Interimaire Juin 2017'!J203=Résultat!$C$3),'[2]Interimaire Juin 2017'!E203,"") | E197: =IF(AND('[2]Interimaire Juin 2017'!D203=Résultat!$AS$1,'[2]Interimaire Juin 2017'!J203=Résultat!$C$3),'[2]Interimaire Juin 2017'!F203,"") | F197: =IF(E197="","",ROW()) | K197: =+IF(A197="",0,7) -> 0 | L197: =+IF(K197>=6,1,0) -> 0 | O197: =+L197 -> 0 | P197: =+IF(A197="",0,7) -> 0 | Q197: =+IF(P197>=6,1,0) -> 0 | T197: =+Q197 -> 0 | U197: =+IF(A197="",0,7) -> 0 | V197: =+IF(U197>=6,1,0) -> 0 | Y197: =+V197 -> 0 | Z197: =+IF(A197="",0,7) -> 0 | AA197: =+IF(Z197>=6,1,0) -> 0 | AD197: =+AA197 -> 0 | AE197: =+IF(A197="",0,7) -> 0 | AF197: =+IF(AE197>=6,1,0) -> 0 | AI197: =+AF197 -> 0 | BD197: =+IF(ISNA(VLOOKUP(BE197,'[1]Listing Personnel Interimaire'!$A$1:$H$50,5,FALSE)),"",VLOOKUP(BE197,'[1]Listing Personnel Interimaire'!$A$1:$H$50,5,FALSE)) | BF197: =+IF(ISNA(VLOOKUP(BE197,'[1]Listing Personnel Interimaire'!$A$1:$H$50,2,FALSE)),"",VLOOKUP(BE197,'[1]Listing Personnel Interimaire'!$A$1:$H$50,2,FALSE)) | BG197: =+IF(BE197=BE198,0,1) -> 0 | BJ197: =WEEKNUM(BH197) -> 0
A198: {=IFERROR(INDEX($D$9:$D$196,SMALL($F$9:$I$196,ROW(INDIRECT("1:"&ROWS($G$9:$G$196))))),"")} | C198: =+IF('[2]Interimaire Juin 2017'!J203=Résultat!$C$3,IF('[2]Interimaire Juin 2017'!D203=Résultat!$AS$1,'[2]Interimaire Juin 2017'!F203,"")) -> FALSE | D198: =IF(AND('[2]Interimaire Juin 2017'!D204=Résultat!$AS$1,'[2]Interimaire Juin 2017'!J204=Résultat!$C$3),'[2]Interimaire Juin 2017'!E204,"") | E198: =IF(AND('[2]Interimaire Juin 2017'!D204=Résultat!$AS$1,'[2]Interimaire Juin 2017'!J204=Résultat!$C$3),'[2]Interimaire Juin 2017'!F204,"") | F198: =IF(E198="","",ROW()) | K198: =+IF(A198="",0,7) -> 0 | L198: =+IF(K198>=6,1,0) -> 0 | O198: =+L198 -> 0 | P198: =+IF(A198="",0,7) -> 0 | Q198: =+IF(P198>=6,1,0) -> 0 | T198: =+Q198 -> 0 | U198: =+IF(A198="",0,7) -> 0 | V198: =+IF(U198>=6,1,0) -> 0 | Y198: =+V198 -> 0 | Z198: =+IF(A198="",0,7) -> 0 | AA198: =+IF(Z198>=6,1,0) -> 0 | AD198: =+AA198 -> 0 | AE198: =+IF(A198="",0,7) -> 0 | AF198: =+IF(AE198>=6,1,0) -> 0 | AI198: =+AF198 -> 0 | BD198: =+IF(ISNA(VLOOKUP(BE198,'[1]Listing Personnel Interimaire'!$A$1:$H$50,5,FALSE)),"",VLOOKUP(BE198,'[1]Listing Personnel Interimaire'!$A$1:$H$50,5,FALSE)) | BF198: =+IF(ISNA(VLOOKUP(BE198,'[1]Listing Personnel Interimaire'!$A$1:$H$50,2,FALSE)),"",VLOOKUP(BE198,'[1]Listing Personnel Interimaire'!$A$1:$H$50,2,FALSE)) | BG198: =+IF(BE198=BE199,0,1) -> 0 | BJ198: =WEEKNUM(BH198) -> 0
A199: {=IFERROR(INDEX($D$9:$D$196,SMALL($F$9:$I$196,ROW(INDIRECT("1:"&ROWS($G$9:$G$196))))),"")} | C199: =+IF('[2]Interimaire Juin 2017'!J204=Résultat!$C$3,IF('[2]Interimaire Juin 2017'!D204=Résultat!$AS$1,'[2]Interimaire Juin 2017'!F204,"")) -> FALSE | D199: =IF(AND('[2]Interimaire Juin 2017'!D205=Résultat!$AS$1,'[2]Interimaire Juin 2017'!J205=Résultat!$C$3),'[2]Interimaire Juin 2017'!E205,"") -> VINCENT | E199: =IF(AND('[2]Interimaire Juin 2017'!D205=Résultat!$AS$1,'[2]Interimaire Juin 2017'!J205=Résultat!$C$3),'[2]Interimaire Juin 2017'!F205,"") -> Laurent | F199: =IF(E199="","",ROW()) -> 199 | K199: =+IF(A199="",0,7) -> 0 | L199: =+IF(K199>=6,1,0) -> 0 | O199: =+L199 -> 0 | P199: =+IF(A199="",0,7) -> 0 | Q199: =+IF(P199>=6,1,0) -> 0 | T199: =+Q199 -> 0 | U199: =+IF(A199="",0,7) -> 0 | V199: =+IF(U199>=6,1,0) -> 0 | Y199: =+V199 -> 0 | Z199: =+IF(A199="",0,7) -> 0 | AA199: =+IF(Z199>=6,1,0) -> 0 | AD199: =+AA199 -> 0 | AE199: =+IF(A199="",0,7) -> 0 | AF199: =+IF(AE199>=6,1,0) -> 0 | AI199: =+AF199 -> 0 | BD199: =+IF(ISNA(VLOOKUP(BE199,'[1]Listing Personnel Interimaire'!$A$1:$H$50,5,FALSE)),"",VLOOKUP(BE199,'[1]Listing Personnel Interimaire'!$A$1:$H$50,5,FALSE)) | BF199: =+IF(ISNA(VLOOKUP(BE199,'[1]Listing Personnel Interimaire'!$A$1:$H$50,2,FALSE)),"",VLOOKUP(BE199,'[1]Listing Personnel Interimaire'!$A$1:$H$50,2,FALSE)) | BG199: =+IF(BE199=BE200,0,1) -> 0 | BJ199: =WEEKNUM(BH199) -> 0
A200: {=IFERROR(INDEX($D$9:$D$196,SMALL($F$9:$I$196,ROW(INDIRECT("1:"&ROWS($G$9:$G$196))))),"")} | C200: =+IF('[2]Interimaire Juin 2017'!J205=Résultat!$C$3,IF('[2]Interimaire Juin 2017'!D205=Résultat!$AS$1,'[2]Interimaire Juin 2017'!F205,"")) -> Laurent | D200: =IF(AND('[2]Interimaire Juin 2017'!D206=Résultat!$AS$1,'[2]Interimaire Juin 2017'!J206=Résultat!$C$3),'[2]Interimaire Juin 2017'!E206,"") | E200: =IF(AND('[2]Interimaire Juin 2017'!D206=Résultat!$AS$1,'[2]Interimaire Juin 2017'!J206=Résultat!$C$3),'[2]Interimaire Juin 2017'!F206,"") | F200: =IF(E200="","",ROW()) | K200: =+IF(A200="",0,7) -> 0 | L200: =+IF(K200>=6,1,0) -> 0 | O200: =+L200 -> 0 | P200: =+IF(A200="",0,7) -> 0 | Q200: =+IF(P200>=6,1,0) -> 0 | T200: =+Q200 -> 0 | U200: =+IF(A200="",0,7) -> 0 | V200: =+IF(U200>=6,1,0) -> 0 | Y200: =+V200 -> 0 | Z200: =+IF(A200="",0,7) -> 0 | AA200: =+IF(Z200>=6,1,0) -> 0 | AD200: =+AA200 -> 0 | AE200: =+IF(A200="",0,7) -> 0 | AF200: =+IF(AE200>=6,1,0) -> 0 | AI200: =+AF200 -> 0 | BD200: =+IF(ISNA(VLOOKUP(BE200,'[1]Listing Personnel Interimaire'!$A$1:$H$50,5,FALSE)),"",VLOOKUP(BE200,'[1]Listing Personnel Interimaire'!$A$1:$H$50,5,FALSE)) | BF200: =+IF(ISNA(VLOOKUP(BE200,'[1]Listing Personnel Interimaire'!$A$1:$H$50,2,FALSE)),"",VLOOKUP(BE200,'[1]Listing Personnel Interimaire'!$A$1:$H$50,2,FALSE)) | BG200: =+IF(BE200=BE201,0,1) -> 0 | BJ200: =WEEKNUM(BH200) -> 0
A201: {=IFERROR(INDEX($D$9:$D$196,SMALL($F$9:$I$196,ROW(INDIRECT("1:"&ROWS($G$9:$G$196))))),"")} | C201: =+IF('[2]Interimaire Juin 2017'!J206=Résultat!$C$3,IF('[2]Interimaire Juin 2017'!D206=Résultat!$AS$1,'[2]Interimaire Juin 2017'!F206,"")) -> FALSE | D201: =IF(AND('[2]Interimaire Juin 2017'!D207=Résultat!$AS$1,'[2]Interimaire Juin 2017'!J207=Résultat!$C$3),'[2]Interimaire Juin 2017'!E207,"") | E201: =IF(AND('[2]Interimaire Juin 2017'!D207=Résultat!$AS$1,'[2]Interimaire Juin 2017'!J207=Résultat!$C$3),'[2]Interimaire Juin 2017'!F207,"") | F201: =IF(E201="","",ROW()) | K201: =+IF(A201="",0,7) -> 0 | L201: =+IF(K201>=6,1,0) -> 0 | O201: =+L201 -> 0 | P201: =+IF(A201="",0,7) -> 0 | Q201: =+IF(P201>=6,1,0) -> 0 | T201: =+Q201 -> 0 | U201: =+IF(A201="",0,7) -> 0 | V201: =+IF(U201>=6,1,0) -> 0 | Y201: =+V201 -> 0 | Z201: =+IF(A201="",0,7) -> 0 | AA201: =+IF(Z201>=6,1,0) -> 0 | AD201: =+AA201 -> 0 | AE201: =+IF(A201="",0,7) -> 0 | AF201: =+IF(AE201>=6,1,0) -> 0 | AI201: =+AF201 -> 0 | BD201: =+IF(ISNA(VLOOKUP(BE201,'[1]Listing Personnel Interimaire'!$A$1:$H$50,5,FALSE)),"",VLOOKUP(BE201,'[1]Listing Personnel Interimaire'!$A$1:$H$50,5,FALSE)) | BF201: =+IF(ISNA(VLOOKUP(BE201,'[1]Listing Personnel Interimaire'!$A$1:$H$50,2,FALSE)),"",VLOOKUP(BE201,'[1]Listing Personnel Interimaire'!$A$1:$H$50,2,FALSE)) | BG201: =+IF(BE201=BE202,0,1) -> 0 | BJ201: =WEEKNUM(BH201) -> 0
A202: {=IFERROR(INDEX($D$9:$D$196,SMALL($F$9:$I$196,ROW(INDIRECT("1:"&ROWS($G$9:$G$196))))),"")} | C202: =+IF('[2]Interimaire Juin 2017'!J207=Résultat!$C$3,IF('[2]Interimaire Juin 2017'!D207=Résultat!$AS$1,'[2]Interimaire Juin 2017'!F207,"")) -> FALSE | D202: =IF(AND('[2]Interimaire Juin 2017'!D208=Résultat!$AS$1,'[2]Interimaire Juin 2017'!J208=Résultat!$C$3),'[2]Interimaire Juin 2017'!E208,"") | E202: =IF(AND('[2]Interimaire Juin 2017'!D208=Résultat!$AS$1,'[2]Interimaire Juin 2017'!J208=Résultat!$C$3),'[2]Interimaire Juin 2017'!F208,"") | F202: =IF(E202="","",ROW()) | K202: =+IF(A202="",0,7) -> 0 | L202: =+IF(K202>=6,1,0) -> 0 | O202: =+L202 -> 0 | P202: =+IF(A202="",0,7) -> 0 | Q202: =+IF(P202>=6,1,0) -> 0 | T202: =+Q202 -> 0 | U202: =+IF(A202="",0,7) -> 0 | V202: =+IF(U202>=6,1,0) -> 0 | Y202: =+V202 -> 0 | Z202: =+IF(A202="",0,7) -> 0 | AA202: =+IF(Z202>=6,1,0) -> 0 | AD202: =+AA202 -> 0 | AE202: =+IF(A202="",0,7) -> 0 | AF202: =+IF(AE202>=6,1,0) -> 0 | AI202: =+AF202 -> 0 | BD202: =+IF(ISNA(VLOOKUP(BE202,'[1]Listing Personnel Interimaire'!$A$1:$H$50,5,FALSE)),"",VLOOKUP(BE202,'[1]Listing Personnel Interimaire'!$A$1:$H$50,5,FALSE)) | BF202: =+IF(ISNA(VLOOKUP(BE202,'[1]Listing Personnel Interimaire'!$A$1:$H$50,2,FALSE)),"",VLOOKUP(BE202,'[1]Listing Personnel Interimaire'!$A$1:$H$50,2,FALSE)) | BG202: =+IF(BE202=BE203,0,1) -> 0 | BJ202: =WEEKNUM(BH202) -> 0
A203: {=IFERROR(INDEX($D$9:$D$196,SMALL($F$9:$I$196,ROW(INDIRECT("1:"&ROWS($G$9:$G$196))))),"")} | C203: =+IF('[2]Interimaire Juin 2017'!J208=Résultat!$C$3,IF('[2]Interimaire Juin 2017'!D208=Résultat!$AS$1,'[2]Interimaire Juin 2017'!F208,"")) -> FALSE | D203: =IF(AND('[2]Interimaire Juin 2017'!D209=Résultat!$AS$1,'[2]Interimaire Juin 2017'!J209=Résultat!$C$3),'[2]Interimaire Juin 2017'!E209,"") | E203: =IF(AND('[2]Interimaire Juin 2017'!D209=Résultat!$AS$1,'[2]Interimaire Juin 2017'!J209=Résultat!$C$3),'[2]Interimaire Juin 2017'!F209,"") | F203: =IF(E203="","",ROW()) | K203: =+IF(A203="",0,7) -> 0 | L203: =+IF(K203>=6,1,0) -> 0 | O203: =+L203 -> 0 | P203: =+IF(A203="",0,7) -> 0 | Q203: =+IF(P203>=6,1,0) -> 0 | T203: =+Q203 -> 0 | U203: =+IF(A203="",0,7) -> 0 | V203: =+IF(U203>=6,1,0) -> 0 | Y203: =+V203 -> 0 | Z203: =+IF(A203="",0,7) -> 0 | AA203: =+IF(Z203>=6,1,0) -> 0 | AD203: =+AA203 -> 0 | AE203: =+IF(A203="",0,7) -> 0 | AF203: =+IF(AE203>=6,1,0) -> 0 | AI203: =+AF203 -> 0 | BD203: =+IF(ISNA(VLOOKUP(BE203,'[1]Listing Personnel Interimaire'!$A$1:$H$50,5,FALSE)),"",VLOOKUP(BE203,'[1]Listing Personnel Interimaire'!$A$1:$H$50,5,FALSE)) | BF203: =+IF(ISNA(VLOOKUP(BE203,'[1]Listing Personnel Interimaire'!$A$1:$H$50,2,FALSE)),"",VLOOKUP(BE203,'[1]Listing Personnel Interimaire'!$A$1:$H$50,2,FALSE)) | BG203: =+IF(BE203=BE204,0,1) -> 0 | BJ203: =WEEKNUM(BH203) -> 0
A204: {=IFERROR(INDEX($D$9:$D$196,SMALL($F$9:$I$196,ROW(INDIRECT("1:"&ROWS($G$9:$G$196))))),"")} | C204: =+IF('[2]Interimaire Juin 2017'!J209=Résultat!$C$3,IF('[2]Interimaire Juin 2017'!D209=Résultat!$AS$1,'[2]Interimaire Juin 2017'!F209,"")) -> FALSE | D204: =IF(AND('[2]Interimaire Juin 2017'!D210=Résultat!$AS$1,'[2]Interimaire Juin 2017'!J210=Résultat!$C$3),'[2]Interimaire Juin 2017'!E210,"") | E204: =IF(AND('[2]Interimaire Juin 2017'!D210=Résultat!$AS$1,'[2]Interimaire Juin 2017'!J210=Résultat!$C$3),'[2]Interimaire Juin 2017'!F210,"") | F204: =IF(E204="","",ROW()) | K204: =+IF(A204="",0,7) -> 0 | L204: =+IF(K204>=6,1,0) -> 0 | O204: =+L204 -> 0 | P204: =+IF(A204="",0,7) -> 0 | Q204: =+IF(P204>=6,1,0) -> 0 | T204: =+Q204 -> 0 | U204: =+IF(A204="",0,7) -> 0 | V204: =+IF(U204>=6,1,0) -> 0 | Y204: =+V204 -> 0 | Z204: =+IF(A204="",0,7) -> 0 | AA204: =+IF(Z204>=6,1,0) -> 0 | AD204: =+AA204 -> 0 | AE204: =+IF(A204="",0,7) -> 0 | AF204: =+IF(AE204>=6,1,0) -> 0 | AI204: =+AF204 -> 0 | BD204: =+IF(ISNA(VLOOKUP(BE204,'[1]Listing Personnel Interimaire'!$A$1:$H$50,5,FALSE)),"",VLOOKUP(BE204,'[1]Listing Personnel Interimaire'!$A$1:$H$50,5,FALSE)) | BF204: =+IF(ISNA(VLOOKUP(BE204,'[1]Listing Personnel Interimaire'!$A$1:$H$50,2,FALSE)),"",VLOOKUP(BE204,'[1]Listing Personnel Interimaire'!$A$1:$H$50,2,FALSE)) | BG204: =+IF(BE204=BE205,0,1) -> 0 | BJ204: =WEEKNUM(BH204) -> 0
A205: {=IFERROR(INDEX($D$9:$D$196,SMALL($F$9:$I$196,ROW(INDIRECT("1:"&ROWS($G$9:$G$196))))),"")} | C205: =+IF('[2]Interimaire Juin 2017'!J210=Résultat!$C$3,IF('[2]Interimaire Juin 2017'!D210=Résultat!$AS$1,'[2]Interimaire Juin 2017'!F210,"")) -> FALSE | D205: =IF(AND('[2]Interimaire Juin 2017'!D211=Résultat!$AS$1,'[2]Interimaire Juin 2017'!J211=Résultat!$C$3),'[2]Interimaire Juin 2017'!E211,"") | E205: =IF(AND('[2]Interimaire Juin 2017'!D211=Résultat!$AS$1,'[2]Interimaire Juin 2017'!J211=Résultat!$C$3),'[2]Interimaire Juin 2017'!F211,"") | F205: =IF(E205="","",ROW()) | K205: =+IF(A205="",0,7) -> 0 | L205: =+IF(K205>=6,1,0) -> 0 | O205: =+L205 -> 0 | P205: =+IF(A205="",0,7) -> 0 | Q205: =+IF(P205>=6,1,0) -> 0 | T205: =+Q205 -> 0 | U205: =+IF(A205="",0,7) -> 0 | V205: =+IF(U205>=6,1,0) -> 0 | Y205: =+V205 -> 0 | Z205: =+IF(A205="",0,7) -> 0 | AA205: =+IF(Z205>=6,1,0) -> 0 | AD205: =+AA205 -> 0 | AE205: =+IF(A205="",0,7) -> 0 | AF205: =+IF(AE205>=6,1,0) -> 0 | AI205: =+AF205 -> 0 | BD205: =+IF(ISNA(VLOOKUP(BE205,'[1]Listing Personnel Interimaire'!$A$1:$H$50,5,FALSE)),"",VLOOKUP(BE205,'[1]Listing Personnel Interimaire'!$A$1:$H$50,5,FALSE)) | BF205: =+IF(ISNA(VLOOKUP(BE205,'[1]Listing Personnel Interimaire'!$A$1:$H$50,2,FALSE)),"",VLOOKUP(BE205,'[1]Listing Personnel Interimaire'!$A$1:$H$50,2,FALSE)) | BG205: =+IF(BE205=BE206,0,1) -> 0 | BJ205: =WEEKNUM(BH205) -> 0
A206: {=IFERROR(INDEX($D$9:$D$196,SMALL($F$9:$I$196,ROW(INDIRECT("1:"&ROWS($G$9:$G$196))))),"")} | C206: =+IF('[2]Interimaire Juin 2017'!J211=Résultat!$C$3,IF('[2]Interimaire Juin 2017'!D211=Résultat!$AS$1,'[2]Interimaire Juin 2017'!F211,"")) -> FALSE | D206: =IF(AND('[2]Interimaire Juin 2017'!D212=Résultat!$AS$1,'[2]Interimaire Juin 2017'!J212=Résultat!$C$3),'[2]Interimaire Juin 2017'!E212,"") | E206: =IF(AND('[2]Interimaire Juin 2017'!D212=Résultat!$AS$1,'[2]Interimaire Juin 2017'!J212=Résultat!$C$3),'[2]Interimaire Juin 2017'!F212,"") | F206: =IF(E206="","",ROW()) | K206: =+IF(A206="",0,7) -> 0 | L206: =+IF(K206>=6,1,0) -> 0 | O206: =+L206 -> 0 | P206: =+IF(A206="",0,7) -> 0 | Q206: =+IF(P206>=6,1,0) -> 0 | T206: =+Q206 -> 0 | U206: =+IF(A206="",0,7) -> 0 | V206: =+IF(U206>=6,1,0) -> 0 | Y206: =+V206 -> 0 | Z206: =+IF(A206="",0,7) -> 0 | AA206: =+IF(Z206>=6,1,0) -> 0 | AD206: =+AA206 -> 0 | AE206: =+IF(A206="",0,7) -> 0 | AF206: =+IF(AE206>=6,1,0) -> 0 | AI206: =+AF206 -> 0 | BD206: =+IF(ISNA(VLOOKUP(BE206,'[1]Listing Personnel Interimaire'!$A$1:$H$50,5,FALSE)),"",VLOOKUP(BE206,'[1]Listing Personnel Interimaire'!$A$1:$H$50,5,FALSE)) | BF206: =+IF(ISNA(VLOOKUP(BE206,'[1]Listing Personnel Interimaire'!$A$1:$H$50,2,FALSE)),"",VLOOKUP(BE206,'[1]Listing Personnel Interimaire'!$A$1:$H$50,2,FALSE)) | BG206: =+IF(BE206=BE207,0,1) -> 0 | BJ206: =WEEKNUM(BH206) -> 0
A207: {=IFERROR(INDEX($D$9:$D$196,SMALL($F$9:$I$196,ROW(INDIRECT("1:"&ROWS($G$9:$G$196))))),"")} | C207: =+IF('[2]Interimaire Juin 2017'!J212=Résultat!$C$3,IF('[2]Interimaire Juin 2017'!D212=Résultat!$AS$1,'[2]Interimaire Juin 2017'!F212,"")) -> FALSE | D207: =IF(AND('[2]Interimaire Juin 2017'!D213=Résultat!$AS$1,'[2]Interimaire Juin 2017'!J213=Résultat!$C$3),'[2]Interimaire Juin 2017'!E213,"") | E207: =IF(AND('[2]Interimaire Juin 2017'!D213=Résultat!$AS$1,'[2]Interimaire Juin 2017'!J213=Résultat!$C$3),'[2]Interimaire Juin 2017'!F213,"") | F207: =IF(E207="","",ROW()) | K207: =+IF(A207="",0,7) -> 0 | L207: =+IF(K207>=6,1,0) -> 0 | O207: =+L207 -> 0 | P207: =+IF(A207="",0,7) -> 0 | Q207: =+IF(P207>=6,1,0) -> 0 | T207: =+Q207 -> 0 | U207: =+IF(A207="",0,7) -> 0 | V207: =+IF(U207>=6,1,0) -> 0 | Y207: =+V207 -> 0 | Z207: =+IF(A207="",0,7) -> 0 | AA207: =+IF(Z207>=6,1,0) -> 0 | AD207: =+AA207 -> 0 | AE207: =+IF(A207="",0,7) -> 0 | AF207: =+IF(AE207>=6,1,0) -> 0 | AI207: =+AF207 -> 0 | BD207: =+IF(ISNA(VLOOKUP(BE207,'[1]Listing Personnel Interimaire'!$A$1:$H$50,5,FALSE)),"",VLOOKUP(BE207,'[1]Listing Personnel Interimaire'!$A$1:$H$50,5,FALSE)) | BF207: =+IF(ISNA(VLOOKUP(BE207,'[1]Listing Personnel Interimaire'!$A$1:$H$50,2,FALSE)),"",VLOOKUP(BE207,'[1]Listing Personnel Interimaire'!$A$1:$H$50,2,FALSE)) | BG207: =+IF(BE207=BE208,0,1) -> 0 | BJ207: =WEEKNUM(BH207) -> 0
... A486: {=IFERROR(INDEX($D$9:$D$196,SMALL($F$9:$I$196,ROW(INDIRECT("1:"&ROWS($G$9:$G$196))))),"")} | C486: =+IF('[2]Interimaire Juin 2017'!J491=Résultat!$C$3,IF('[2]Interimaire Juin 2017'!D491=Résultat!$AS$1,'[2]Interimaire Juin 2017'!F491,"")) -> FALSE | D486: =IF(AND('[2]Interimaire Juin 2017'!D492=Résultat!$AS$1,'[2]Interimaire Juin 2017'!J492=Résultat!$C$3),'[2]Interimaire Juin 2017'!E492,"") | E486: =IF(AND('[2]Interimaire Juin 2017'!D492=Résultat!$AS$1,'[2]Interimaire Juin 2017'!J492=Résultat!$C$3),'[2]Interimaire Juin 2017'!F492,"") | F486: =IF(E486="","",ROW()) | K486: =+IF(A486="",0,7) -> 0 | L486: =+IF(K486>=6,1,0) -> 0 | O486: =+L486 -> 0 | P486: =+IF(A486="",0,7) -> 0 | Q486: =+IF(P486>=6,1,0) -> 0 | T486: =+Q486 -> 0 | U486: =+IF(A486="",0,7) -> 0 | V486: =+IF(U486>=6,1,0) -> 0 | Y486: =+V486 -> 0 | Z486: =+IF(A486="",0,7) -> 0 | AA486: =+IF(Z486>=6,1,0) -> 0 | AD486: =+AA486 -> 0 | AE486: =+IF(A486="",0,7) -> 0 | AF486: =+IF(AE486>=6,1,0) -> 0 | AI486: =+AF486 -> 0 | BD486: =+IF(ISNA(VLOOKUP(BE486,'[1]Listing Personnel Interimaire'!$A$1:$H$50,5,FALSE)),"",VLOOKUP(BE486,'[1]Listing Personnel Interimaire'!$A$1:$H$50,5,FALSE)) | BF486: =+IF(ISNA(VLOOKUP(BE486,'[1]Listing Personnel Interimaire'!$A$1:$H$50,2,FALSE)),"",VLOOKUP(BE486,'[1]Listing Personnel Interimaire'!$A$1:$H$50,2,FALSE)) | BG486: =+IF(BE486=BE487,0,1) -> 0 | BJ486: =WEEKNUM(BH486) -> 0
A487: {=IFERROR(INDEX($D$9:$D$196,SMALL($F$9:$I$196,ROW(INDIRECT("1:"&ROWS($G$9:$G$196))))),"")} | C487: =+IF('[2]Interimaire Juin 2017'!J492=Résultat!$C$3,IF('[2]Interimaire Juin 2017'!D492=Résultat!$AS$1,'[2]Interimaire Juin 2017'!F492,"")) -> FALSE | D487: =IF(AND('[2]Interimaire Juin 2017'!D493=Résultat!$AS$1,'[2]Interimaire Juin 2017'!J493=Résultat!$C$3),'[2]Interimaire Juin 2017'!E493,"") | E487: =IF(AND('[2]Interimaire Juin 2017'!D493=Résultat!$AS$1,'[2]Interimaire Juin 2017'!J493=Résultat!$C$3),'[2]Interimaire Juin 2017'!F493,"") | F487: =IF(E487="","",ROW()) | K487: =+IF(A487="",0,7) -> 0 | L487: =+IF(K487>=6,1,0) -> 0 | O487: =+L487 -> 0 | P487: =+IF(A487="",0,7) -> 0 | Q487: =+IF(P487>=6,1,0) -> 0 | T487: =+Q487 -> 0 | U487: =+IF(A487="",0,7) -> 0 | V487: =+IF(U487>=6,1,0) -> 0 | Y487: =+V487 -> 0 | Z487: =+IF(A487="",0,7) -> 0 | AA487: =+IF(Z487>=6,1,0) -> 0 | AD487: =+AA487 -> 0 | AE487: =+IF(A487="",0,7) -> 0 | AF487: =+IF(AE487>=6,1,0) -> 0 | AI487: =+AF487 -> 0
A488: {=IFERROR(INDEX($D$9:$D$196,SMALL($F$9:$I$196,ROW(INDIRECT("1:"&ROWS($G$9:$G$196))))),"")} | C488: =+IF('[2]Interimaire Juin 2017'!J493=Résultat!$C$3,IF('[2]Interimaire Juin 2017'!D493=Résultat!$AS$1,'[2]Interimaire Juin 2017'!F493,"")) -> FALSE | D488: =IF(AND('[2]Interimaire Juin 2017'!D494=Résultat!$AS$1,'[2]Interimaire Juin 2017'!J494=Résultat!$C$3),'[2]Interimaire Juin 2017'!E494,"") | E488: =IF(AND('[2]Interimaire Juin 2017'!D494=Résultat!$AS$1,'[2]Interimaire Juin 2017'!J494=Résultat!$C$3),'[2]Interimaire Juin 2017'!F494,"") | F488: =IF(E488="","",ROW()) | K488: =+IF(A488="",0,7) -> 0 | L488: =+IF(K488>=6,1,0) -> 0 | O488: =+L488 -> 0 | P488: =+IF(A488="",0,7) -> 0 | Q488: =+IF(P488>=6,1,0) -> 0 | T488: =+Q488 -> 0 | U488: =+IF(A488="",0,7) -> 0 | V488: =+IF(U488>=6,1,0) -> 0 | Y488: =+V488 -> 0 | Z488: =+IF(A488="",0,7) -> 0 | AA488: =+IF(Z488>=6,1,0) -> 0 | AD488: =+AA488 -> 0 | AE488: =+IF(A488="",0,7) -> 0 | AF488: =+IF(AE488>=6,1,0) -> 0 | AI488: =+AF488 -> 0
A489: {=IFERROR(INDEX($D$9:$D$196,SMALL($F$9:$I$196,ROW(INDIRECT("1:"&ROWS($G$9:$G$196))))),"")} | C489: =+IF('[2]Interimaire Juin 2017'!J494=Résultat!$C$3,IF('[2]Interimaire Juin 2017'!D494=Résultat!$AS$1,'[2]Interimaire Juin 2017'!F494,"")) -> FALSE | D489: =IF(AND('[2]Interimaire Juin 2017'!D495=Résultat!$AS$1,'[2]Interimaire Juin 2017'!J495=Résultat!$C$3),'[2]Interimaire Juin 2017'!E495,"") | E489: =IF(AND('[2]Interimaire Juin 2017'!D495=Résultat!$AS$1,'[2]Interimaire Juin 2017'!J495=Résultat!$C$3),'[2]Interimaire Juin 2017'!F495,"") | F489: =IF(E489="","",ROW()) | K489: =+IF(A489="",0,7) -> 0 | L489: =+IF(K489>=6,1,0) -> 0 | O489: =+L489 -> 0 | P489: =+IF(A489="",0,7) -> 0 | Q489: =+IF(P489>=6,1,0) -> 0 | T489: =+Q489 -> 0 | U489: =+IF(A489="",0,7) -> 0 | V489: =+IF(U489>=6,1,0) -> 0 | Y489: =+V489 -> 0 | Z489: =+IF(A489="",0,7) -> 0 | AA489: =+IF(Z489>=6,1,0) -> 0 | AD489: =+AA489 -> 0 | AE489: =+IF(A489="",0,7) -> 0 | AF489: =+IF(AE489>=6,1,0) -> 0 | AI489: =+AF489 -> 0
A490: {=IFERROR(INDEX($D$9:$D$196,SMALL($F$9:$I$196,ROW(INDIRECT("1:"&ROWS($G$9:$G$196))))),"")} | C490: =+IF('[2]Interimaire Juin 2017'!J495=Résultat!$C$3,IF('[2]Interimaire Juin 2017'!D495=Résultat!$AS$1,'[2]Interimaire Juin 2017'!F495,"")) -> FALSE | D490: =IF(AND('[2]Interimaire Juin 2017'!D496=Résultat!$AS$1,'[2]Interimaire Juin 2017'!J496=Résultat!$C$3),'[2]Interimaire Juin 2017'!E496,"") | E490: =IF(AND('[2]Interimaire Juin 2017'!D496=Résultat!$AS$1,'[2]Interimaire Juin 2017'!J496=Résultat!$C$3),'[2]Interimaire Juin 2017'!F496,"") | F490: =IF(E490="","",ROW()) | K490: =+IF(A490="",0,7) -> 0 | L490: =+IF(K490>=6,1,0) -> 0 | O490: =+L490 -> 0 | P490: =+IF(A490="",0,7) -> 0 | Q490: =+IF(P490>=6,1,0) -> 0 | T490: =+Q490 -> 0 | U490: =+IF(A490="",0,7) -> 0 | V490: =+IF(U490>=6,1,0) -> 0 | Y490: =+V490 -> 0 | Z490: =+IF(A490="",0,7) -> 0 | AA490: =+IF(Z490>=6,1,0) -> 0 | AD490: =+AA490 -> 0 | AE490: =+IF(A490="",0,7) -> 0 | AF490: =+IF(AE490>=6,1,0) -> 0 | AI490: =+AF490 -> 0
A491: {=IFERROR(INDEX($D$9:$D$196,SMALL($F$9:$I$196,ROW(INDIRECT("1:"&ROWS($G$9:$G$196))))),"")} | C491: =+IF('[2]Interimaire Juin 2017'!J496=Résultat!$C$3,IF('[2]Interimaire Juin 2017'!D496=Résultat!$AS$1,'[2]Interimaire Juin 2017'!F496,"")) -> FALSE | D491: =IF(AND('[2]Interimaire Juin 2017'!D497=Résultat!$AS$1,'[2]Interimaire Juin 2017'!J497=Résultat!$C$3),'[2]Interimaire Juin 2017'!E497,"") | E491: =IF(AND('[2]Interimaire Juin 2017'!D497=Résultat!$AS$1,'[2]Interimaire Juin 2017'!J497=Résultat!$C$3),'[2]Interimaire Juin 2017'!F497,"") | F491: =IF(E491="","",ROW()) | K491: =+IF(A491="",0,7) -> 0 | L491: =+IF(K491>=6,1,0) -> 0 | O491: =+L491 -> 0 | P491: =+IF(A491="",0,7) -> 0 | Q491: =+IF(P491>=6,1,0) -> 0 | T491: =+Q491 -> 0 | U491: =+IF(A491="",0,7) -> 0 | V491: =+IF(U491>=6,1,0) -> 0 | Y491: =+V491 -> 0 | Z491: =+IF(A491="",0,7) -> 0 | AA491: =+IF(Z491>=6,1,0) -> 0 | AD491: =+AA491 -> 0 | AE491: =+IF(A491="",0,7) -> 0 | AF491: =+IF(AE491>=6,1,0) -> 0 | AI491: =+AF491 -> 0
A492: {=IFERROR(INDEX($D$9:$D$196,SMALL($F$9:$I$196,ROW(INDIRECT("1:"&ROWS($G$9:$G$196))))),"")} | C492: =+IF('[2]Interimaire Juin 2017'!J497=Résultat!$C$3,IF('[2]Interimaire Juin 2017'!D497=Résultat!$AS$1,'[2]Interimaire Juin 2017'!F497,"")) -> FALSE | D492: =IF(AND('[2]Interimaire Juin 2017'!D498=Résultat!$AS$1,'[2]Interimaire Juin 2017'!J498=Résultat!$C$3),'[2]Interimaire Juin 2017'!E498,"") | E492: =IF(AND('[2]Interimaire Juin 2017'!D498=Résultat!$AS$1,'[2]Interimaire Juin 2017'!J498=Résultat!$C$3),'[2]Interimaire Juin 2017'!F498,"") | F492: =IF(E492="","",ROW()) | K492: =+IF(A492="",0,7) -> 0 | L492: =+IF(K492>=6,1,0) -> 0 | O492: =+L492 -> 0 | P492: =+IF(A492="",0,7) -> 0 | Q492: =+IF(P492>=6,1,0) -> 0 | T492: =+Q492 -> 0 | U492: =+IF(A492="",0,7) -> 0 | V492: =+IF(U492>=6,1,0) -> 0 | Y492: =+V492 -> 0 | Z492: =+IF(A492="",0,7) -> 0 | AA492: =+IF(Z492>=6,1,0) -> 0 | AD492: =+AA492 -> 0 | AE492: =+IF(A492="",0,7) -> 0 | AF492: =+IF(AE492>=6,1,0) -> 0 | AI492: =+AF492 -> 0
A493: {=IFERROR(INDEX($D$9:$D$196,SMALL($F$9:$I$196,ROW(INDIRECT("1:"&ROWS($G$9:$G$196))))),"")} | C493: =+IF('[2]Interimaire Juin 2017'!J498=Résultat!$C$3,IF('[2]Interimaire Juin 2017'!D498=Résultat!$AS$1,'[2]Interimaire Juin 2017'!F498,"")) -> FALSE | D493: =IF(AND('[2]Interimaire Juin 2017'!D499=Résultat!$AS$1,'[2]Interimaire Juin 2017'!J499=Résultat!$C$3),'[2]Interimaire Juin 2017'!E499,"") | E493: =IF(AND('[2]Interimaire Juin 2017'!D499=Résultat!$AS$1,'[2]Interimaire Juin 2017'!J499=Résultat!$C$3),'[2]Interimaire Juin 2017'!F499,"") | F493: =IF(E493="","",ROW()) | K493: =+IF(A493="",0,7) -> 0 | L493: =+IF(K493>=6,1,0) -> 0 | O493: =+L493 -> 0 | P493: =+IF(A493="",0,7) -> 0 | Q493: =+IF(P493>=6,1,0) -> 0 | T493: =+Q493 -> 0 | U493: =+IF(A493="",0,7) -> 0 | V493: =+IF(U493>=6,1,0) -> 0 | Y493: =+V493 -> 0 | Z493: =+IF(A493="",0,7) -> 0 | AA493: =+IF(Z493>=6,1,0) -> 0 | AD493: =+AA493 -> 0 | AE493: =+IF(A493="",0,7) -> 0 | AF493: =+IF(AE493>=6,1,0) -> 0 | AI493: =+AF493 -> 0
A494: {=IFERROR(INDEX($D$9:$D$196,SMALL($F$9:$I$196,ROW(INDIRECT("1:"&ROWS($G$9:$G$196))))),"")} | C494: =+IF('[2]Interimaire Juin 2017'!J499=Résultat!$C$3,IF('[2]Interimaire Juin 2017'!D499=Résultat!$AS$1,'[2]Interimaire Juin 2017'!F499,"")) -> FALSE | D494: =IF(AND('[2]Interimaire Juin 2017'!D500=Résultat!$AS$1,'[2]Interimaire Juin 2017'!J500=Résultat!$C$3),'[2]Interimaire Juin 2017'!E500,"") | E494: =IF(AND('[2]Interimaire Juin 2017'!D500=Résultat!$AS$1,'[2]Interimaire Juin 2017'!J500=Résultat!$C$3),'[2]Interimaire Juin 2017'!F500,"") | F494: =IF(E494="","",ROW()) | K494: =+IF(A494="",0,7) -> 0 | L494: =+IF(K494>=6,1,0) -> 0 | O494: =+L494 -> 0 | P494: =+IF(A494="",0,7) -> 0 | Q494: =+IF(P494>=6,1,0) -> 0 | T494: =+Q494 -> 0 | U494: =+IF(A494="",0,7) -> 0 | V494: =+IF(U494>=6,1,0) -> 0 | Y494: =+V494 -> 0 | Z494: =+IF(A494="",0,7) -> 0 | AA494: =+IF(Z494>=6,1,0) -> 0 | AD494: =+AA494 -> 0 | AE494: =+IF(A494="",0,7) -> 0 | AF494: =+IF(AE494>=6,1,0) -> 0 | AI494: =+AF494 -> 0
A495: {=IFERROR(INDEX($D$9:$D$196,SMALL($F$9:$I$196,ROW(INDIRECT("1:"&ROWS($G$9:$G$196))))),"")} | C495: =+IF('[2]Interimaire Juin 2017'!J500=Résultat!$C$3,IF('[2]Interimaire Juin 2017'!D500=Résultat!$AS$1,'[2]Interimaire Juin 2017'!F500,"")) -> FALSE | D495: =IF(AND('[2]Interimaire Juin 2017'!D501=Résultat!$AS$1,'[2]Interimaire Juin 2017'!J501=Résultat!$C$3),'[2]Interimaire Juin 2017'!E501,"") | E495: =IF(AND('[2]Interimaire Juin 2017'!D501=Résultat!$AS$1,'[2]Interimaire Juin 2017'!J501=Résultat!$C$3),'[2]Interimaire Juin 2017'!F501,"") | F495: =IF(E495="","",ROW()) | K495: =+IF(A495="",0,7) -> 0 | L495: =+IF(K495>=6,1,0) -> 0 | O495: =+L495 -> 0 | P495: =+IF(A495="",0,7) -> 0 | Q495: =+IF(P495>=6,1,0) -> 0 | T495: =+Q495 -> 0 | U495: =+IF(A495="",0,7) -> 0 | V495: =+IF(U495>=6,1,0) -> 0 | Y495: =+V495 -> 0 | Z495: =+IF(A495="",0,7) -> 0 | AA495: =+IF(Z495>=6,1,0) -> 0 | AD495: =+AA495 -> 0 | AE495: =+IF(A495="",0,7) -> 0 | AF495: =+IF(AE495>=6,1,0) -> 0 | AI495: =+AF495 -> 0
A496: {=IFERROR(INDEX($D$9:$D$196,SMALL($F$9:$I$196,ROW(INDIRECT("1:"&ROWS($G$9:$G$196))))),"")} | C496: =+IF('[2]Interimaire Juin 2017'!J501=Résultat!$C$3,IF('[2]Interimaire Juin 2017'!D501=Résultat!$AS$1,'[2]Interimaire Juin 2017'!F501,"")) -> FALSE | D496: =IF(AND('[2]Interimaire Juin 2017'!D502=Résultat!$AS$1,'[2]Interimaire Juin 2017'!J502=Résultat!$C$3),'[2]Interimaire Juin 2017'!E502,"") | E496: =IF(AND('[2]Interimaire Juin 2017'!D502=Résultat!$AS$1,'[2]Interimaire Juin 2017'!J502=Résultat!$C$3),'[2]Interimaire Juin 2017'!F502,"") | F496: =IF(E496="","",ROW()) | K496: =+IF(A496="",0,7) -> 0 | L496: =+IF(K496>=6,1,0) -> 0 | O496: =+L496 -> 0 | P496: =+IF(A496="",0,7) -> 0 | Q496: =+IF(P496>=6,1,0) -> 0 | T496: =+Q496 -> 0 | U496: =+IF(A496="",0,7) -> 0 | V496: =+IF(U496>=6,1,0) -> 0 | Y496: =+V496 -> 0 | Z496: =+IF(A496="",0,7) -> 0 | AA496: =+IF(Z496>=6,1,0) -> 0 | AD496: =+AA496 -> 0 | AE496: =+IF(A496="",0,7) -> 0 | AF496: =+IF(AE496>=6,1,0) -> 0 | AI496: =+AF496 -> 0
A497: {=IFERROR(INDEX($D$9:$D$196,SMALL($F$9:$I$196,ROW(INDIRECT("1:"&ROWS($G$9:$G$196))))),"")} | C497: =+IF('[2]Interimaire Juin 2017'!J502=Résultat!$C$3,IF('[2]Interimaire Juin 2017'!D502=Résultat!$AS$1,'[2]Interimaire Juin 2017'!F502,"")) -> FALSE | D497: =IF(AND('[2]Interimaire Juin 2017'!D503=Résultat!$AS$1,'[2]Interimaire Juin 2017'!J503=Résultat!$C$3),'[2]Interimaire Juin 2017'!E503,"") | E497: =IF(AND('[2]Interimaire Juin 2017'!D503=Résultat!$AS$1,'[2]Interimaire Juin 2017'!J503=Résultat!$C$3),'[2]Interimaire Juin 2017'!F503,"") | F497: =IF(E497="","",ROW()) | K497: =+IF(A497="",0,7) -> 0 | L497: =+IF(K497>=6,1,0) -> 0 | O497: =+L497 -> 0 | P497: =+IF(A497="",0,7) -> 0 | Q497: =+IF(P497>=6,1,0) -> 0 | T497: =+Q497 -> 0 | U497: =+IF(A497="",0,7) -> 0 | V497: =+IF(U497>=6,1,0) -> 0 | Y497: =+V497 -> 0 | Z497: =+IF(A497="",0,7) -> 0 | AA497: =+IF(Z497>=6,1,0) -> 0 | AD497: =+AA497 -> 0 | AE497: =+IF(A497="",0,7) -> 0 | AF497: =+IF(AE497>=6,1,0) -> 0 | AI497: =+AF497 -> 0
A498: {=IFERROR(INDEX($D$9:$D$196,SMALL($F$9:$I$196,ROW(INDIRECT("1:"&ROWS($G$9:$G$196))))),"")} | C498: =+IF('[2]Interimaire Juin 2017'!J503=Résultat!$C$3,IF('[2]Interimaire Juin 2017'!D503=Résultat!$AS$1,'[2]Interimaire Juin 2017'!F503,"")) -> FALSE | D498: =IF(AND('[2]Interimaire Juin 2017'!D504=Résultat!$AS$1,'[2]Interimaire Juin 2017'!J504=Résultat!$C$3),'[2]Interimaire Juin 2017'!E504,"") | E498: =IF(AND('[2]Interimaire Juin 2017'!D504=Résultat!$AS$1,'[2]Interimaire Juin 2017'!J504=Résultat!$C$3),'[2]Interimaire Juin 2017'!F504,"") | F498: =IF(E498="","",ROW()) | K498: =+IF(A498="",0,7) -> 0 | L498: =+IF(K498>=6,1,0) -> 0 | O498: =+L498 -> 0 | P498: =+IF(A498="",0,7) -> 0 | Q498: =+IF(P498>=6,1,0) -> 0 | T498: =+Q498 -> 0 | U498: =+IF(A498="",0,7) -> 0 | V498: =+IF(U498>=6,1,0) -> 0 | Y498: =+V498 -> 0 | Z498: =+IF(A498="",0,7) -> 0 | AA498: =+IF(Z498>=6,1,0) -> 0 | AD498: =+AA498 -> 0 | AE498: =+IF(A498="",0,7) -> 0 | AF498: =+IF(AE498>=6,1,0) -> 0 | AI498: =+AF498 -> 0
... A501: {=IFERROR(INDEX($D$9:$D$196,SMALL($F$9:$I$196,ROW(INDIRECT("1:"&ROWS($G$9:$G$196))))),"")} | C501: =+IF('[2]Interimaire Juin 2017'!J506=Résultat!$C$3,IF('[2]Interimaire Juin 2017'!D506=Résultat!$AS$1,'[2]Interimaire Juin 2017'!F506,"")) -> FALSE | D501: =IF(AND('[2]Interimaire Juin 2017'!D507=Résultat!$AS$1,'[2]Interimaire Juin 2017'!J507=Résultat!$C$3),'[2]Interimaire Juin 2017'!E507,"") | E501: =IF(AND('[2]Interimaire Juin 2017'!D507=Résultat!$AS$1,'[2]Interimaire Juin 2017'!J507=Résultat!$C$3),'[2]Interimaire Juin 2017'!F507,"") | F501: =IF(E501="","",ROW()) | K501: =+IF(A501="",0,7) -> 0 | L501: =+IF(K501>=6,1,0) -> 0 | O501: =+L501 -> 0 | P501: =+IF(A501="",0,7) -> 0 | Q501: =+IF(P501>=6,1,0) -> 0 | T501: =+Q501 -> 0 | U501: =+IF(A501="",0,7) -> 0 | V501: =+IF(U501>=6,1,0) -> 0 | Y501: =+V501 -> 0 | Z501: =+IF(A501="",0,7) -> 0 | AA501: =+IF(Z501>=6,1,0) -> 0 | AD501: =+AA501 -> 0 | AE501: =+IF(A501="",0,7) -> 0 | AF501: =+IF(AE501>=6,1,0) -> 0 | AI501: =+AF501 -> 0
