Workbook

Sheet Fichier Type
C1: dOC | D1: N° DECL | E1: Dossier | F1: Date | G1: Expéditeur | H1: Destinataire | I1: Ref.transport | J1: Ref.client | K1: valeur | L1: Incoterm | M1: code bur | N1: Statut | O1: qui | P1: Cie | Q1: lettre
A2: =IF(D2="","",MATCH(C2,'Extraction journaliere'!$D$2:$D$201,0)) -> 1 | B2: =B1+IF(ISNA(A2),1,0) -> 0 | C2: 09FRD0444016532117 | D2: 132629559 | E2: 000000 | F2: 26/08/2009 | G2: France | H2: France | I2: chronopost | K2: 1 | L2: FCA1 | M2: BE532000 | N2: EEC-En cours sortie | O2: TNT | P2: 9007 | Q2: 05845105
A3: =IF(D3="","",MATCH(C3,'Extraction journaliere'!$D$2:$D$201,0)) -> 2 | B3: =B2+IF(ISNA(A3),1,0) -> 0 | C3: 09FRD0444021977348 | D3: 132631866 | E3: 000000 | F3: 04/11/2009 | G3: France | H3: France | I3: chronopost | K3: 2 | L3: EXW1 | M3: DE007154 | N3: EEC-En cours sortie | O3: UPS SCS | P3: 8888 | Q3: UPS SCS
A4: =IF(D4="","",MATCH(C4,'Extraction journaliere'!$D$2:$D$201,0)) -> 3 | B4: =B3+IF(ISNA(A4),1,0) -> 0 | C4: 09FRD0444023685801 | D4: 132634361 | E4: 000000 | F4: 25/11/2009 | G4: France | H4: France | I4: chronopost | K4: 3 | L4: DDU3 | M4: BE532000 | N4: EEC-En cours sortie | O4: TNT | P4: 9007 | Q4: 05878939
A5: =IF(D5="","",MATCH(C5,'Extraction journaliere'!$D$2:$D$201,0)) -> 4 | B5: =B4+IF(ISNA(A5),1,0) -> 0 | C5: 09FRD0444024519098 | D5: 132635899 | E5: 000000 | F5: 07/12/2009 | G5: France | H5: France | I5: chronopost | K5: 4 | L5: FCA1 | M5: DE006756 | N5: EEC-En cours sortie | O5: TRANSNAU | P5: 8888 | Q5: TRANSNAU
A6: =IF(D6="","",MATCH(C6,'Extraction journaliere'!$D$2:$D$201,0)) -> 5 | B6: =B5+IF(ISNA(A6),1,0) -> 0 | C6: 09FRD0444024553389 | D6: 132636253 | E6: 000000 | F6: 07/12/2009 | G6: France | H6: France | I6: chronopost | K6: 5 | L6: FCA1 | M6: DE003302 | N6: EEC-En cours sortie | O6: STERLING | P6: 8888 | Q6: DISPSTRE
A7: =IF(D7="","",MATCH(C7,'Extraction journaliere'!$D$2:$D$201,0)) -> 6 | B7: =B6+IF(ISNA(A7),1,0) -> 0 | C7: 09FRD0444024554621 | D7: 132640600 | E7: 000000 | F7: 07/12/2009 | G7: France | H7: France | I7: chronopost | K7: 6 | L7: FCA1 | M7: DE003302 | N7: EEC-En cours sortie | O7: STERLING | P7: 8888 | Q7: DISPSTRE
A8: =IF(D8="","",MATCH(C8,'Extraction journaliere'!$D$2:$D$201,0)) -> 7 | B8: =B7+IF(ISNA(A8),1,0) -> 0 | C8: 09FRD0444025239888 | D8: 132644276 | E8: 000000 | F8: 15/12/2009 | G8: France | H8: France | I8: chronopost | K8: 7 | L8: FCA1 | M8: FR00617C | N8: EEC-En cours sortie | O8: TFS | P8: 8888 | Q8: TFS
A9: =IF(D9="","",MATCH(C9,'Extraction journaliere'!$D$2:$D$201,0)) -> 8 | B9: =B8+IF(ISNA(A9),1,0) -> 0 | C9: 09FRD0444025242021 | D9: 132648224 | E9: 000000 | F9: 15/12/2009 | G9: France | H9: France | I9: chronopost | K9: 8 | L9: FCA1 | M9: FR004440 | N9: EEC-En cours sortie | O9: DGF | P9: 8888 | Q9: DGF
A10: =IF(D10="","",MATCH(C10,'Extraction journaliere'!$D$2:$D$201,0)) -> 9 | B10: =B9+IF(ISNA(A10),1,0) -> 0 | C10: 09FRD0444025249976 | D10: 132661886 | E10: 000000 | F10: 15/12/2009 | G10: France | H10: France | I10: chronopost | K10: 9 | L10: FCA1 | M10: FR00617C | N10: EEC-En cours sortie | O10: TFS | P10: 8888 | Q10: TFS
A11: =IF(D11="","",MATCH(C11,'Extraction journaliere'!$D$2:$D$201,0)) -> 10 | B11: =B10+IF(ISNA(A11),1,0) -> 0 | C11: 09FRD0444025253173 | D11: 132669928 | E11: 000000 | F11: 15/12/2009 | G11: France | H11: France | I11: chronopost | K11: 10 | L11: FCA1 | M11: FR00617C | N11: EEC-En cours sortie | O11: TFS | P11: 8888 | Q11: TFS
A12: =IF(D12="","",MATCH(C12,'Extraction journaliere'!$D$2:$D$201,0)) -> 11 | B12: =B11+IF(ISNA(A12),1,0) -> 0 | C12: 09FRD0444025302085 | D12: 132674340 | E12: 000000 | F12: 16/12/2009 | G12: France | H12: France | I12: chronopost | K12: 11 | L12: FCA1 | M12: FR00677A | N12: EEC-En cours sortie | O12: LOGAMER | P12: 8888 | Q12: DISPLOGA
A13: =IF(D13="","",MATCH(C13,'Extraction journaliere'!$D$2:$D$201,0)) -> 12 | B13: =B12+IF(ISNA(A13),1,0) -> 0 | C13: 09FRD0444025303585 | D13: 132684419 | E13: 000000 | F13: 16/12/2009 | G13: France | H13: France | I13: chronopost | K13: 12 | L13: FCA1 | M13: FR00677A | N13: EEC-En cours sortie | O13: LOGAMER | P13: 8888 | Q13: DISPLOGA
... A31: =IF(D31="","",MATCH(C31,'Extraction journaliere'!$D$2:$D$201,0)) -> 30 | B31: =B30+IF(ISNA(A31),1,0) -> 0 | C31: 09FRD0444025567632 | D31: 132739059 | E31: 000000 | F31: 18/12/2009 | G31: France | H31: France | I31: chronopost | K31: 30 | L31: FCA1 | M31: FR00677A | N31: EEC-En cours sortie | O31: TFS | P31: 8888 | Q31: TFS
A32: =IF(D32="","",MATCH(C32,'Extraction journaliere'!$D$2:$D$201,0)) | B32: =B31+IF(ISNA(A32),1,0) -> 0
A33: =IF(D33="","",MATCH(C33,'Extraction journaliere'!$D$2:$D$201,0)) | B33: =B32+IF(ISNA(A33),1,0) -> 0
A34: =IF(D34="","",MATCH(C34,'Extraction journaliere'!$D$2:$D$201,0)) | B34: =B33+IF(ISNA(A34),1,0) -> 0
A35: =IF(D35="","",MATCH(C35,'Extraction journaliere'!$D$2:$D$201,0)) | B35: =B34+IF(ISNA(A35),1,0) -> 0
A36: =IF(D36="","",MATCH(C36,'Extraction journaliere'!$D$2:$D$201,0)) | B36: =B35+IF(ISNA(A36),1,0) -> 0
A37: =IF(D37="","",MATCH(C37,'Extraction journaliere'!$D$2:$D$201,0)) | B37: =B36+IF(ISNA(A37),1,0) -> 0
A38: =IF(D38="","",MATCH(C38,'Extraction journaliere'!$D$2:$D$201,0)) | B38: =B37+IF(ISNA(A38),1,0) -> 0
A39: =IF(D39="","",MATCH(C39,'Extraction journaliere'!$D$2:$D$201,0)) | B39: =B38+IF(ISNA(A39),1,0) -> 0
A40: =IF(D40="","",MATCH(C40,'Extraction journaliere'!$D$2:$D$201,0)) | B40: =B39+IF(ISNA(A40),1,0) -> 0
A41: =IF(D41="","",MATCH(C41,'Extraction journaliere'!$D$2:$D$201,0)) | B41: =B40+IF(ISNA(A41),1,0) -> 0
A42: =IF(D42="","",MATCH(C42,'Extraction journaliere'!$D$2:$D$201,0)) | B42: =B41+IF(ISNA(A42),1,0) -> 0
A43: =IF(D43="","",MATCH(C43,'Extraction journaliere'!$D$2:$D$201,0)) | B43: =B42+IF(ISNA(A43),1,0) -> 0
... A201: =IF(D201="","",MATCH(C201,'Extraction journaliere'!$D$2:$D$201,0)) | B201: =B200+IF(ISNA(A201),1,0) -> 0

Sheet Extraction journaliere
D1: dOC | E1: N° DECL | F1: Dossier | G1: Date | H1: Expéditeur | I1: Destinataire | J1: Ref.transport | K1: Ref.client | L1: valeur | M1: Incoterm | N1: code bur | O1: Statut | P1: qui | Q1: Cie | R1: lettre
A2: =IF(D2="","",MATCH(D2,'Fichier Type'!$C$2:$C$201,0)) -> 1 | B2: =IF(D2="","",IF(ISNA(A2),2,IF(CONCATENATE(E2,F2,G2,H2,I2,J2,K2,L2,M2,N2,O2,P2,Q2,R2)=CONCATENATE(INDEX('Fichier Type'!$C$2:$Q$201,A2,2),INDEX('Fichier Type'!$C$2:$Q$201,A2,3),INDEX('Fichier Type'!$C$2:$Q$201,A2,4),INDEX('Fichier Type'!$C$2:$Q$201,A2,5),INDEX('Fichier Type'!$C$2:$Q$201,A2,6),INDEX('Fichier Type'!$C$2:$Q$201,A2,7),INDEX('Fichier Type'!$C$2:$Q$201,A2,8),INDEX('Fichier Type'!$C$2:$Q$201,A2,9),INDEX('Fichier Type'!$C$2:$Q$201,A2,10),INDEX('Fichier Type'!$C$2:$Q$201,A2,11),INDEX('Fichier Type'!$C$2:$Q$201,A2,12),INDEX('Fichier Type'!$C$2:$Q$201,A2,13),INDEX('Fichier Type'!$C$2:$Q$201,A2,14),INDEX('Fichier Type'!$C$2:$Q$201,A2,15)),0,1))) -> 1 | C2: =C1+IF(B2=0,0,1) -> 1 | D2: 09FRD0444016532117 | E2: 152365987 | F2: 000000 | G2: 26/08/2009 | H2: France | I2: France | J2: chronopost | L2: 1 | M2: FCA1 | N2: BE532000 | O2: EEC-En cours sortie | P2: TNT | Q2: 9007 | R2: 05845105
A3: =IF(D3="","",MATCH(D3,'Fichier Type'!$C$2:$C$201,0)) -> 2 | B3: =IF(D3="","",IF(ISNA(A3),2,IF(CONCATENATE(E3,F3,G3,H3,I3,J3,K3,L3,M3,N3,O3,P3,Q3,R3)=CONCATENATE(INDEX('Fichier Type'!$C$2:$Q$201,A3,2),INDEX('Fichier Type'!$C$2:$Q$201,A3,3),INDEX('Fichier Type'!$C$2:$Q$201,A3,4),INDEX('Fichier Type'!$C$2:$Q$201,A3,5),INDEX('Fichier Type'!$C$2:$Q$201,A3,6),INDEX('Fichier Type'!$C$2:$Q$201,A3,7),INDEX('Fichier Type'!$C$2:$Q$201,A3,8),INDEX('Fichier Type'!$C$2:$Q$201,A3,9),INDEX('Fichier Type'!$C$2:$Q$201,A3,10),INDEX('Fichier Type'!$C$2:$Q$201,A3,11),INDEX('Fichier Type'!$C$2:$Q$201,A3,12),INDEX('Fichier Type'!$C$2:$Q$201,A3,13),INDEX('Fichier Type'!$C$2:$Q$201,A3,14),INDEX('Fichier Type'!$C$2:$Q$201,A3,15)),0,1))) -> 0 | C3: =C2+IF(B3=0,0,1) -> 1 | D3: 09FRD0444021977348 | E3: 132631866 | F3: 000000 | G3: 04/11/2009 | H3: France | I3: France | J3: chronopost | L3: 2 | M3: EXW1 | N3: DE007154 | O3: EEC-En cours sortie | P3: UPS SCS | Q3: 8888 | R3: UPS SCS
A4: =IF(D4="","",MATCH(D4,'Fichier Type'!$C$2:$C$201,0)) -> 3 | B4: =IF(D4="","",IF(ISNA(A4),2,IF(CONCATENATE(E4,F4,G4,H4,I4,J4,K4,L4,M4,N4,O4,P4,Q4,R4)=CONCATENATE(INDEX('Fichier Type'!$C$2:$Q$201,A4,2),INDEX('Fichier Type'!$C$2:$Q$201,A4,3),INDEX('Fichier Type'!$C$2:$Q$201,A4,4),INDEX('Fichier Type'!$C$2:$Q$201,A4,5),INDEX('Fichier Type'!$C$2:$Q$201,A4,6),INDEX('Fichier Type'!$C$2:$Q$201,A4,7),INDEX('Fichier Type'!$C$2:$Q$201,A4,8),INDEX('Fichier Type'!$C$2:$Q$201,A4,9),INDEX('Fichier Type'!$C$2:$Q$201,A4,10),INDEX('Fichier Type'!$C$2:$Q$201,A4,11),INDEX('Fichier Type'!$C$2:$Q$201,A4,12),INDEX('Fichier Type'!$C$2:$Q$201,A4,13),INDEX('Fichier Type'!$C$2:$Q$201,A4,14),INDEX('Fichier Type'!$C$2:$Q$201,A4,15)),0,1))) -> 0 | C4: =C3+IF(B4=0,0,1) -> 1 | D4: 09FRD0444023685801 | E4: 132634361 | F4: 000000 | G4: 25/11/2009 | H4: France | I4: France | J4: chronopost | L4: 3 | M4: DDU3 | N4: BE532000 | O4: EEC-En cours sortie | P4: TNT | Q4: 9007 | R4: 05878939
A5: =IF(D5="","",MATCH(D5,'Fichier Type'!$C$2:$C$201,0)) -> 4 | B5: =IF(D5="","",IF(ISNA(A5),2,IF(CONCATENATE(E5,F5,G5,H5,I5,J5,K5,L5,M5,N5,O5,P5,Q5,R5)=CONCATENATE(INDEX('Fichier Type'!$C$2:$Q$201,A5,2),INDEX('Fichier Type'!$C$2:$Q$201,A5,3),INDEX('Fichier Type'!$C$2:$Q$201,A5,4),INDEX('Fichier Type'!$C$2:$Q$201,A5,5),INDEX('Fichier Type'!$C$2:$Q$201,A5,6),INDEX('Fichier Type'!$C$2:$Q$201,A5,7),INDEX('Fichier Type'!$C$2:$Q$201,A5,8),INDEX('Fichier Type'!$C$2:$Q$201,A5,9),INDEX('Fichier Type'!$C$2:$Q$201,A5,10),INDEX('Fichier Type'!$C$2:$Q$201,A5,11),INDEX('Fichier Type'!$C$2:$Q$201,A5,12),INDEX('Fichier Type'!$C$2:$Q$201,A5,13),INDEX('Fichier Type'!$C$2:$Q$201,A5,14),INDEX('Fichier Type'!$C$2:$Q$201,A5,15)),0,1))) -> 0 | C5: =C4+IF(B5=0,0,1) -> 1 | D5: 09FRD0444024519098 | E5: 132635899 | F5: 000000 | G5: 07/12/2009 | H5: France | I5: France | J5: chronopost | L5: 4 | M5: FCA1 | N5: DE006756 | O5: EEC-En cours sortie | P5: TRANSNAU | Q5: 8888 | R5: TRANSNAU
A6: =IF(D6="","",MATCH(D6,'Fichier Type'!$C$2:$C$201,0)) -> 5 | B6: =IF(D6="","",IF(ISNA(A6),2,IF(CONCATENATE(E6,F6,G6,H6,I6,J6,K6,L6,M6,N6,O6,P6,Q6,R6)=CONCATENATE(INDEX('Fichier Type'!$C$2:$Q$201,A6,2),INDEX('Fichier Type'!$C$2:$Q$201,A6,3),INDEX('Fichier Type'!$C$2:$Q$201,A6,4),INDEX('Fichier Type'!$C$2:$Q$201,A6,5),INDEX('Fichier Type'!$C$2:$Q$201,A6,6),INDEX('Fichier Type'!$C$2:$Q$201,A6,7),INDEX('Fichier Type'!$C$2:$Q$201,A6,8),INDEX('Fichier Type'!$C$2:$Q$201,A6,9),INDEX('Fichier Type'!$C$2:$Q$201,A6,10),INDEX('Fichier Type'!$C$2:$Q$201,A6,11),INDEX('Fichier Type'!$C$2:$Q$201,A6,12),INDEX('Fichier Type'!$C$2:$Q$201,A6,13),INDEX('Fichier Type'!$C$2:$Q$201,A6,14),INDEX('Fichier Type'!$C$2:$Q$201,A6,15)),0,1))) -> 0 | C6: =C5+IF(B6=0,0,1) -> 1 | D6: 09FRD0444024553389 | E6: 132636253 | F6: 000000 | G6: 07/12/2009 | H6: France | I6: France | J6: chronopost | L6: 5 | M6: FCA1 | N6: DE003302 | O6: EEC-En cours sortie | P6: STERLING | Q6: 8888 | R6: DISPSTRE
A7: =IF(D7="","",MATCH(D7,'Fichier Type'!$C$2:$C$201,0)) -> 6 | B7: =IF(D7="","",IF(ISNA(A7),2,IF(CONCATENATE(E7,F7,G7,H7,I7,J7,K7,L7,M7,N7,O7,P7,Q7,R7)=CONCATENATE(INDEX('Fichier Type'!$C$2:$Q$201,A7,2),INDEX('Fichier Type'!$C$2:$Q$201,A7,3),INDEX('Fichier Type'!$C$2:$Q$201,A7,4),INDEX('Fichier Type'!$C$2:$Q$201,A7,5),INDEX('Fichier Type'!$C$2:$Q$201,A7,6),INDEX('Fichier Type'!$C$2:$Q$201,A7,7),INDEX('Fichier Type'!$C$2:$Q$201,A7,8),INDEX('Fichier Type'!$C$2:$Q$201,A7,9),INDEX('Fichier Type'!$C$2:$Q$201,A7,10),INDEX('Fichier Type'!$C$2:$Q$201,A7,11),INDEX('Fichier Type'!$C$2:$Q$201,A7,12),INDEX('Fichier Type'!$C$2:$Q$201,A7,13),INDEX('Fichier Type'!$C$2:$Q$201,A7,14),INDEX('Fichier Type'!$C$2:$Q$201,A7,15)),0,1))) -> 0 | C7: =C6+IF(B7=0,0,1) -> 1 | D7: 09FRD0444024554621 | E7: 132640600 | F7: 000000 | G7: 07/12/2009 | H7: France | I7: France | J7: chronopost | L7: 6 | M7: FCA1 | N7: DE003302 | O7: EEC-En cours sortie | P7: STERLING | Q7: 8888 | R7: DISPSTRE
A8: =IF(D8="","",MATCH(D8,'Fichier Type'!$C$2:$C$201,0)) -> 7 | B8: =IF(D8="","",IF(ISNA(A8),2,IF(CONCATENATE(E8,F8,G8,H8,I8,J8,K8,L8,M8,N8,O8,P8,Q8,R8)=CONCATENATE(INDEX('Fichier Type'!$C$2:$Q$201,A8,2),INDEX('Fichier Type'!$C$2:$Q$201,A8,3),INDEX('Fichier Type'!$C$2:$Q$201,A8,4),INDEX('Fichier Type'!$C$2:$Q$201,A8,5),INDEX('Fichier Type'!$C$2:$Q$201,A8,6),INDEX('Fichier Type'!$C$2:$Q$201,A8,7),INDEX('Fichier Type'!$C$2:$Q$201,A8,8),INDEX('Fichier Type'!$C$2:$Q$201,A8,9),INDEX('Fichier Type'!$C$2:$Q$201,A8,10),INDEX('Fichier Type'!$C$2:$Q$201,A8,11),INDEX('Fichier Type'!$C$2:$Q$201,A8,12),INDEX('Fichier Type'!$C$2:$Q$201,A8,13),INDEX('Fichier Type'!$C$2:$Q$201,A8,14),INDEX('Fichier Type'!$C$2:$Q$201,A8,15)),0,1))) -> 0 | C8: =C7+IF(B8=0,0,1) -> 1 | D8: 09FRD0444025239888 | E8: 132644276 | F8: 000000 | G8: 15/12/2009 | H8: France | I8: France | J8: chronopost | L8: 7 | M8: FCA1 | N8: FR00617C | O8: EEC-En cours sortie | P8: TFS | Q8: 8888 | R8: TFS
A9: =IF(D9="","",MATCH(D9,'Fichier Type'!$C$2:$C$201,0)) -> 8 | B9: =IF(D9="","",IF(ISNA(A9),2,IF(CONCATENATE(E9,F9,G9,H9,I9,J9,K9,L9,M9,N9,O9,P9,Q9,R9)=CONCATENATE(INDEX('Fichier Type'!$C$2:$Q$201,A9,2),INDEX('Fichier Type'!$C$2:$Q$201,A9,3),INDEX('Fichier Type'!$C$2:$Q$201,A9,4),INDEX('Fichier Type'!$C$2:$Q$201,A9,5),INDEX('Fichier Type'!$C$2:$Q$201,A9,6),INDEX('Fichier Type'!$C$2:$Q$201,A9,7),INDEX('Fichier Type'!$C$2:$Q$201,A9,8),INDEX('Fichier Type'!$C$2:$Q$201,A9,9),INDEX('Fichier Type'!$C$2:$Q$201,A9,10),INDEX('Fichier Type'!$C$2:$Q$201,A9,11),INDEX('Fichier Type'!$C$2:$Q$201,A9,12),INDEX('Fichier Type'!$C$2:$Q$201,A9,13),INDEX('Fichier Type'!$C$2:$Q$201,A9,14),INDEX('Fichier Type'!$C$2:$Q$201,A9,15)),0,1))) -> 0 | C9: =C8+IF(B9=0,0,1) -> 1 | D9: 09FRD0444025242021 | E9: 132648224 | F9: 000000 | G9: 15/12/2009 | H9: France | I9: France | J9: chronopost | L9: 8 | M9: FCA1 | N9: FR004440 | O9: EEC-En cours sortie | P9: DGF | Q9: 8888 | R9: DGF
A10: =IF(D10="","",MATCH(D10,'Fichier Type'!$C$2:$C$201,0)) -> 9 | B10: =IF(D10="","",IF(ISNA(A10),2,IF(CONCATENATE(E10,F10,G10,H10,I10,J10,K10,L10,M10,N10,O10,P10,Q10,R10)=CONCATENATE(INDEX('Fichier Type'!$C$2:$Q$201,A10,2),INDEX('Fichier Type'!$C$2:$Q$201,A10,3),INDEX('Fichier Type'!$C$2:$Q$201,A10,4),INDEX('Fichier Type'!$C$2:$Q$201,A10,5),INDEX('Fichier Type'!$C$2:$Q$201,A10,6),INDEX('Fichier Type'!$C$2:$Q$201,A10,7),INDEX('Fichier Type'!$C$2:$Q$201,A10,8),INDEX('Fichier Type'!$C$2:$Q$201,A10,9),INDEX('Fichier Type'!$C$2:$Q$201,A10,10),INDEX('Fichier Type'!$C$2:$Q$201,A10,11),INDEX('Fichier Type'!$C$2:$Q$201,A10,12),INDEX('Fichier Type'!$C$2:$Q$201,A10,13),INDEX('Fichier Type'!$C$2:$Q$201,A10,14),INDEX('Fichier Type'!$C$2:$Q$201,A10,15)),0,1))) -> 0 | C10: =C9+IF(B10=0,0,1) -> 1 | D10: 09FRD0444025249976 | E10: 132661886 | F10: 000000 | G10: 15/12/2009 | H10: France | I10: France | J10: chronopost | L10: 9 | M10: FCA1 | N10: FR00617C | O10: EEC-En cours sortie | P10: TFS | Q10: 8888 | R10: TFS
A11: =IF(D11="","",MATCH(D11,'Fichier Type'!$C$2:$C$201,0)) -> 10 | B11: =IF(D11="","",IF(ISNA(A11),2,IF(CONCATENATE(E11,F11,G11,H11,I11,J11,K11,L11,M11,N11,O11,P11,Q11,R11)=CONCATENATE(INDEX('Fichier Type'!$C$2:$Q$201,A11,2),INDEX('Fichier Type'!$C$2:$Q$201,A11,3),INDEX('Fichier Type'!$C$2:$Q$201,A11,4),INDEX('Fichier Type'!$C$2:$Q$201,A11,5),INDEX('Fichier Type'!$C$2:$Q$201,A11,6),INDEX('Fichier Type'!$C$2:$Q$201,A11,7),INDEX('Fichier Type'!$C$2:$Q$201,A11,8),INDEX('Fichier Type'!$C$2:$Q$201,A11,9),INDEX('Fichier Type'!$C$2:$Q$201,A11,10),INDEX('Fichier Type'!$C$2:$Q$201,A11,11),INDEX('Fichier Type'!$C$2:$Q$201,A11,12),INDEX('Fichier Type'!$C$2:$Q$201,A11,13),INDEX('Fichier Type'!$C$2:$Q$201,A11,14),INDEX('Fichier Type'!$C$2:$Q$201,A11,15)),0,1))) -> 0 | C11: =C10+IF(B11=0,0,1) -> 1 | D11: 09FRD0444025253173 | E11: 132669928 | F11: 000000 | G11: 15/12/2009 | H11: France | I11: France | J11: chronopost | L11: 10 | M11: FCA1 | N11: FR00617C | O11: EEC-En cours sortie | P11: TFS | Q11: 8888 | R11: TFS
A12: =IF(D12="","",MATCH(D12,'Fichier Type'!$C$2:$C$201,0)) -> 11 | B12: =IF(D12="","",IF(ISNA(A12),2,IF(CONCATENATE(E12,F12,G12,H12,I12,J12,K12,L12,M12,N12,O12,P12,Q12,R12)=CONCATENATE(INDEX('Fichier Type'!$C$2:$Q$201,A12,2),INDEX('Fichier Type'!$C$2:$Q$201,A12,3),INDEX('Fichier Type'!$C$2:$Q$201,A12,4),INDEX('Fichier Type'!$C$2:$Q$201,A12,5),INDEX('Fichier Type'!$C$2:$Q$201,A12,6),INDEX('Fichier Type'!$C$2:$Q$201,A12,7),INDEX('Fichier Type'!$C$2:$Q$201,A12,8),INDEX('Fichier Type'!$C$2:$Q$201,A12,9),INDEX('Fichier Type'!$C$2:$Q$201,A12,10),INDEX('Fichier Type'!$C$2:$Q$201,A12,11),INDEX('Fichier Type'!$C$2:$Q$201,A12,12),INDEX('Fichier Type'!$C$2:$Q$201,A12,13),INDEX('Fichier Type'!$C$2:$Q$201,A12,14),INDEX('Fichier Type'!$C$2:$Q$201,A12,15)),0,1))) -> 1 | C12: =C11+IF(B12=0,0,1) -> 2 | D12: 09FRD0444025302085 | E12: 132674340 | F12: 000000 | G12: 16/12/2009 | H12: Espagne | I12: France | J12: chronopost | L12: 11 | M12: FCA1 | N12: FR00677A | O12: EEC-En cours sortie | P12: LOGAMER | Q12: 8888 | R12: DISPLOGA
A13: =IF(D13="","",MATCH(D13,'Fichier Type'!$C$2:$C$201,0)) -> 12 | B13: =IF(D13="","",IF(ISNA(A13),2,IF(CONCATENATE(E13,F13,G13,H13,I13,J13,K13,L13,M13,N13,O13,P13,Q13,R13)=CONCATENATE(INDEX('Fichier Type'!$C$2:$Q$201,A13,2),INDEX('Fichier Type'!$C$2:$Q$201,A13,3),INDEX('Fichier Type'!$C$2:$Q$201,A13,4),INDEX('Fichier Type'!$C$2:$Q$201,A13,5),INDEX('Fichier Type'!$C$2:$Q$201,A13,6),INDEX('Fichier Type'!$C$2:$Q$201,A13,7),INDEX('Fichier Type'!$C$2:$Q$201,A13,8),INDEX('Fichier Type'!$C$2:$Q$201,A13,9),INDEX('Fichier Type'!$C$2:$Q$201,A13,10),INDEX('Fichier Type'!$C$2:$Q$201,A13,11),INDEX('Fichier Type'!$C$2:$Q$201,A13,12),INDEX('Fichier Type'!$C$2:$Q$201,A13,13),INDEX('Fichier Type'!$C$2:$Q$201,A13,14),INDEX('Fichier Type'!$C$2:$Q$201,A13,15)),0,1))) -> 0 | C13: =C12+IF(B13=0,0,1) -> 2 | D13: 09FRD0444025303585 | E13: 132684419 | F13: 000000 | G13: 16/12/2009 | H13: France | I13: France | J13: chronopost | L13: 12 | M13: FCA1 | N13: FR00677A | O13: EEC-En cours sortie | P13: LOGAMER | Q13: 8888 | R13: DISPLOGA
A14: =IF(D14="","",MATCH(D14,'Fichier Type'!$C$2:$C$201,0)) -> 13 | B14: =IF(D14="","",IF(ISNA(A14),2,IF(CONCATENATE(E14,F14,G14,H14,I14,J14,K14,L14,M14,N14,O14,P14,Q14,R14)=CONCATENATE(INDEX('Fichier Type'!$C$2:$Q$201,A14,2),INDEX('Fichier Type'!$C$2:$Q$201,A14,3),INDEX('Fichier Type'!$C$2:$Q$201,A14,4),INDEX('Fichier Type'!$C$2:$Q$201,A14,5),INDEX('Fichier Type'!$C$2:$Q$201,A14,6),INDEX('Fichier Type'!$C$2:$Q$201,A14,7),INDEX('Fichier Type'!$C$2:$Q$201,A14,8),INDEX('Fichier Type'!$C$2:$Q$201,A14,9),INDEX('Fichier Type'!$C$2:$Q$201,A14,10),INDEX('Fichier Type'!$C$2:$Q$201,A14,11),INDEX('Fichier Type'!$C$2:$Q$201,A14,12),INDEX('Fichier Type'!$C$2:$Q$201,A14,13),INDEX('Fichier Type'!$C$2:$Q$201,A14,14),INDEX('Fichier Type'!$C$2:$Q$201,A14,15)),0,1))) -> 0 | C14: =C13+IF(B14=0,0,1) -> 2 | D14: 09FRD0444025343343 | E14: 132691047 | F14: 000000 | G14: 16/12/2009 | H14: France | I14: France | J14: chronopost | L14: 13 | M14: FCA1 | N14: FR005340 | O14: EEC-En cours sortie | P14: TNT | Q14: 9007 | R14: 05887839
... A31: =IF(D31="","",MATCH(D31,'Fichier Type'!$C$2:$C$201,0)) -> 30 | B31: =IF(D31="","",IF(ISNA(A31),2,IF(CONCATENATE(E31,F31,G31,H31,I31,J31,K31,L31,M31,N31,O31,P31,Q31,R31)=CONCATENATE(INDEX('Fichier Type'!$C$2:$Q$201,A31,2),INDEX('Fichier Type'!$C$2:$Q$201,A31,3),INDEX('Fichier Type'!$C$2:$Q$201,A31,4),INDEX('Fichier Type'!$C$2:$Q$201,A31,5),INDEX('Fichier Type'!$C$2:$Q$201,A31,6),INDEX('Fichier Type'!$C$2:$Q$201,A31,7),INDEX('Fichier Type'!$C$2:$Q$201,A31,8),INDEX('Fichier Type'!$C$2:$Q$201,A31,9),INDEX('Fichier Type'!$C$2:$Q$201,A31,10),INDEX('Fichier Type'!$C$2:$Q$201,A31,11),INDEX('Fichier Type'!$C$2:$Q$201,A31,12),INDEX('Fichier Type'!$C$2:$Q$201,A31,13),INDEX('Fichier Type'!$C$2:$Q$201,A31,14),INDEX('Fichier Type'!$C$2:$Q$201,A31,15)),0,1))) -> 1 | C31: =C30+IF(B31=0,0,1) -> 4 | D31: 09FRD0444025567632 | E31: 132739059 | F31: 000001 | G31: 18/12/2009 | H31: France | I31: France | J31: chronopost | L31: 30 | M31: FCA1 | N31: FR00677A | O31: EEC-En cours sortie | P31: TFS | Q31: 8888 | R31: TFS
A32: =IF(D32="","",MATCH(D32,'Fichier Type'!$C$2:$C$201,0)) -> #N/A | B32: =IF(D32="","",IF(ISNA(A32),2,IF(CONCATENATE(E32,F32,G32,H32,I32,J32,K32,L32,M32,N32,O32,P32,Q32,R32)=CONCATENATE(INDEX('Fichier Type'!$C$2:$Q$201,A32,2),INDEX('Fichier Type'!$C$2:$Q$201,A32,3),INDEX('Fichier Type'!$C$2:$Q$201,A32,4),INDEX('Fichier Type'!$C$2:$Q$201,A32,5),INDEX('Fichier Type'!$C$2:$Q$201,A32,6),INDEX('Fichier Type'!$C$2:$Q$201,A32,7),INDEX('Fichier Type'!$C$2:$Q$201,A32,8),INDEX('Fichier Type'!$C$2:$Q$201,A32,9),INDEX('Fichier Type'!$C$2:$Q$201,A32,10),INDEX('Fichier Type'!$C$2:$Q$201,A32,11),INDEX('Fichier Type'!$C$2:$Q$201,A32,12),INDEX('Fichier Type'!$C$2:$Q$201,A32,13),INDEX('Fichier Type'!$C$2:$Q$201,A32,14),INDEX('Fichier Type'!$C$2:$Q$201,A32,15)),0,1))) -> 2 | C32: =C31+IF(B32=0,0,1) -> 5 | D32: 09FRD0444025567624 | E32: 132742075 | F32: 000002 | G32: 42481 | H32: RUSSIE | I32: RUSSIE | J32: UPS | L32: 31 | M32: FCA2 | N32: FR00677A | O32: EEC-En cours sortie | P32: TFS | Q32: 8889 | R32: TFS
A33: =IF(D33="","",MATCH(D33,'Fichier Type'!$C$2:$C$201,0)) -> #N/A | B33: =IF(D33="","",IF(ISNA(A33),2,IF(CONCATENATE(E33,F33,G33,H33,I33,J33,K33,L33,M33,N33,O33,P33,Q33,R33)=CONCATENATE(INDEX('Fichier Type'!$C$2:$Q$201,A33,2),INDEX('Fichier Type'!$C$2:$Q$201,A33,3),INDEX('Fichier Type'!$C$2:$Q$201,A33,4),INDEX('Fichier Type'!$C$2:$Q$201,A33,5),INDEX('Fichier Type'!$C$2:$Q$201,A33,6),INDEX('Fichier Type'!$C$2:$Q$201,A33,7),INDEX('Fichier Type'!$C$2:$Q$201,A33,8),INDEX('Fichier Type'!$C$2:$Q$201,A33,9),INDEX('Fichier Type'!$C$2:$Q$201,A33,10),INDEX('Fichier Type'!$C$2:$Q$201,A33,11),INDEX('Fichier Type'!$C$2:$Q$201,A33,12),INDEX('Fichier Type'!$C$2:$Q$201,A33,13),INDEX('Fichier Type'!$C$2:$Q$201,A33,14),INDEX('Fichier Type'!$C$2:$Q$201,A33,15)),0,1))) -> 2 | C33: =C32+IF(B33=0,0,1) -> 6 | D33: 09FRD0444025567628 | E33: 132745091 | F33: 000003 | G33: 42481 | H33: RUSSIE | I33: RUSSIE | J33: UPS | L33: 32 | M33: FCA3 | N33: FR00677A | O33: EEC-En cours sortie | P33: TFS | Q33: 8890 | R33: TFS
A34: =IF(D34="","",MATCH(D34,'Fichier Type'!$C$2:$C$201,0)) -> #N/A | B34: =IF(D34="","",IF(ISNA(A34),2,IF(CONCATENATE(E34,F34,G34,H34,I34,J34,K34,L34,M34,N34,O34,P34,Q34,R34)=CONCATENATE(INDEX('Fichier Type'!$C$2:$Q$201,A34,2),INDEX('Fichier Type'!$C$2:$Q$201,A34,3),INDEX('Fichier Type'!$C$2:$Q$201,A34,4),INDEX('Fichier Type'!$C$2:$Q$201,A34,5),INDEX('Fichier Type'!$C$2:$Q$201,A34,6),INDEX('Fichier Type'!$C$2:$Q$201,A34,7),INDEX('Fichier Type'!$C$2:$Q$201,A34,8),INDEX('Fichier Type'!$C$2:$Q$201,A34,9),INDEX('Fichier Type'!$C$2:$Q$201,A34,10),INDEX('Fichier Type'!$C$2:$Q$201,A34,11),INDEX('Fichier Type'!$C$2:$Q$201,A34,12),INDEX('Fichier Type'!$C$2:$Q$201,A34,13),INDEX('Fichier Type'!$C$2:$Q$201,A34,14),INDEX('Fichier Type'!$C$2:$Q$201,A34,15)),0,1))) -> 2 | C34: =C33+IF(B34=0,0,1) -> 7 | D34: 09FRD0444025567629 | E34: 132748107 | F34: 000004 | G34: 42481 | H34: RUSSIE | I34: RUSSIE | J34: UPS | L34: 33 | M34: FCA4 | N34: FR00677A | O34: EEC-En cours sortie | P34: TFS | Q34: 8891 | R34: TFS
A35: =IF(D35="","",MATCH(D35,'Fichier Type'!$C$2:$C$201,0)) -> #N/A | B35: =IF(D35="","",IF(ISNA(A35),2,IF(CONCATENATE(E35,F35,G35,H35,I35,J35,K35,L35,M35,N35,O35,P35,Q35,R35)=CONCATENATE(INDEX('Fichier Type'!$C$2:$Q$201,A35,2),INDEX('Fichier Type'!$C$2:$Q$201,A35,3),INDEX('Fichier Type'!$C$2:$Q$201,A35,4),INDEX('Fichier Type'!$C$2:$Q$201,A35,5),INDEX('Fichier Type'!$C$2:$Q$201,A35,6),INDEX('Fichier Type'!$C$2:$Q$201,A35,7),INDEX('Fichier Type'!$C$2:$Q$201,A35,8),INDEX('Fichier Type'!$C$2:$Q$201,A35,9),INDEX('Fichier Type'!$C$2:$Q$201,A35,10),INDEX('Fichier Type'!$C$2:$Q$201,A35,11),INDEX('Fichier Type'!$C$2:$Q$201,A35,12),INDEX('Fichier Type'!$C$2:$Q$201,A35,13),INDEX('Fichier Type'!$C$2:$Q$201,A35,14),INDEX('Fichier Type'!$C$2:$Q$201,A35,15)),0,1))) -> 2 | C35: =C34+IF(B35=0,0,1) -> 8 | D35: 09FRD0444025567636 | E35: 132751123 | F35: 000005 | G35: 42481 | H35: RUSSIE | I35: RUSSIE | J35: UPS | L35: 34 | M35: FCA5 | N35: FR00677A | O35: EEC-En cours sortie | P35: TFS | Q35: 8892 | R35: TFS
A36: =IF(D36="","",MATCH(D36,'Fichier Type'!$C$2:$C$201,0)) -> #N/A | B36: =IF(D36="","",IF(ISNA(A36),2,IF(CONCATENATE(E36,F36,G36,H36,I36,J36,K36,L36,M36,N36,O36,P36,Q36,R36)=CONCATENATE(INDEX('Fichier Type'!$C$2:$Q$201,A36,2),INDEX('Fichier Type'!$C$2:$Q$201,A36,3),INDEX('Fichier Type'!$C$2:$Q$201,A36,4),INDEX('Fichier Type'!$C$2:$Q$201,A36,5),INDEX('Fichier Type'!$C$2:$Q$201,A36,6),INDEX('Fichier Type'!$C$2:$Q$201,A36,7),INDEX('Fichier Type'!$C$2:$Q$201,A36,8),INDEX('Fichier Type'!$C$2:$Q$201,A36,9),INDEX('Fichier Type'!$C$2:$Q$201,A36,10),INDEX('Fichier Type'!$C$2:$Q$201,A36,11),INDEX('Fichier Type'!$C$2:$Q$201,A36,12),INDEX('Fichier Type'!$C$2:$Q$201,A36,13),INDEX('Fichier Type'!$C$2:$Q$201,A36,14),INDEX('Fichier Type'!$C$2:$Q$201,A36,15)),0,1))) -> 2 | C36: =C35+IF(B36=0,0,1) -> 9 | D36: 09FRD0444025567637 | E36: 132754139 | F36: 000006 | G36: 42481 | H36: RUSSIE | I36: RUSSIE | J36: UPS | L36: 35 | M36: FCA6 | N36: FR00677A | O36: EEC-En cours sortie | P36: TFS | Q36: 8893 | R36: TFS
A37: =IF(D37="","",MATCH(D37,'Fichier Type'!$C$2:$C$201,0)) | B37: =IF(D37="","",IF(ISNA(A37),2,IF(CONCATENATE(E37,F37,G37,H37,I37,J37,K37,L37,M37,N37,O37,P37,Q37,R37)=CONCATENATE(INDEX('Fichier Type'!$C$2:$Q$201,A37,2),INDEX('Fichier Type'!$C$2:$Q$201,A37,3),INDEX('Fichier Type'!$C$2:$Q$201,A37,4),INDEX('Fichier Type'!$C$2:$Q$201,A37,5),INDEX('Fichier Type'!$C$2:$Q$201,A37,6),INDEX('Fichier Type'!$C$2:$Q$201,A37,7),INDEX('Fichier Type'!$C$2:$Q$201,A37,8),INDEX('Fichier Type'!$C$2:$Q$201,A37,9),INDEX('Fichier Type'!$C$2:$Q$201,A37,10),INDEX('Fichier Type'!$C$2:$Q$201,A37,11),INDEX('Fichier Type'!$C$2:$Q$201,A37,12),INDEX('Fichier Type'!$C$2:$Q$201,A37,13),INDEX('Fichier Type'!$C$2:$Q$201,A37,14),INDEX('Fichier Type'!$C$2:$Q$201,A37,15)),0,1))) | C37: =C36+IF(B37=0,0,1) -> 10
A38: =IF(D38="","",MATCH(D38,'Fichier Type'!$C$2:$C$201,0)) | B38: =IF(D38="","",IF(ISNA(A38),2,IF(CONCATENATE(E38,F38,G38,H38,I38,J38,K38,L38,M38,N38,O38,P38,Q38,R38)=CONCATENATE(INDEX('Fichier Type'!$C$2:$Q$201,A38,2),INDEX('Fichier Type'!$C$2:$Q$201,A38,3),INDEX('Fichier Type'!$C$2:$Q$201,A38,4),INDEX('Fichier Type'!$C$2:$Q$201,A38,5),INDEX('Fichier Type'!$C$2:$Q$201,A38,6),INDEX('Fichier Type'!$C$2:$Q$201,A38,7),INDEX('Fichier Type'!$C$2:$Q$201,A38,8),INDEX('Fichier Type'!$C$2:$Q$201,A38,9),INDEX('Fichier Type'!$C$2:$Q$201,A38,10),INDEX('Fichier Type'!$C$2:$Q$201,A38,11),INDEX('Fichier Type'!$C$2:$Q$201,A38,12),INDEX('Fichier Type'!$C$2:$Q$201,A38,13),INDEX('Fichier Type'!$C$2:$Q$201,A38,14),INDEX('Fichier Type'!$C$2:$Q$201,A38,15)),0,1))) | C38: =C37+IF(B38=0,0,1) -> 11
A39: =IF(D39="","",MATCH(D39,'Fichier Type'!$C$2:$C$201,0)) | B39: =IF(D39="","",IF(ISNA(A39),2,IF(CONCATENATE(E39,F39,G39,H39,I39,J39,K39,L39,M39,N39,O39,P39,Q39,R39)=CONCATENATE(INDEX('Fichier Type'!$C$2:$Q$201,A39,2),INDEX('Fichier Type'!$C$2:$Q$201,A39,3),INDEX('Fichier Type'!$C$2:$Q$201,A39,4),INDEX('Fichier Type'!$C$2:$Q$201,A39,5),INDEX('Fichier Type'!$C$2:$Q$201,A39,6),INDEX('Fichier Type'!$C$2:$Q$201,A39,7),INDEX('Fichier Type'!$C$2:$Q$201,A39,8),INDEX('Fichier Type'!$C$2:$Q$201,A39,9),INDEX('Fichier Type'!$C$2:$Q$201,A39,10),INDEX('Fichier Type'!$C$2:$Q$201,A39,11),INDEX('Fichier Type'!$C$2:$Q$201,A39,12),INDEX('Fichier Type'!$C$2:$Q$201,A39,13),INDEX('Fichier Type'!$C$2:$Q$201,A39,14),INDEX('Fichier Type'!$C$2:$Q$201,A39,15)),0,1))) | C39: =C38+IF(B39=0,0,1) -> 12
A40: =IF(D40="","",MATCH(D40,'Fichier Type'!$C$2:$C$201,0)) | B40: =IF(D40="","",IF(ISNA(A40),2,IF(CONCATENATE(E40,F40,G40,H40,I40,J40,K40,L40,M40,N40,O40,P40,Q40,R40)=CONCATENATE(INDEX('Fichier Type'!$C$2:$Q$201,A40,2),INDEX('Fichier Type'!$C$2:$Q$201,A40,3),INDEX('Fichier Type'!$C$2:$Q$201,A40,4),INDEX('Fichier Type'!$C$2:$Q$201,A40,5),INDEX('Fichier Type'!$C$2:$Q$201,A40,6),INDEX('Fichier Type'!$C$2:$Q$201,A40,7),INDEX('Fichier Type'!$C$2:$Q$201,A40,8),INDEX('Fichier Type'!$C$2:$Q$201,A40,9),INDEX('Fichier Type'!$C$2:$Q$201,A40,10),INDEX('Fichier Type'!$C$2:$Q$201,A40,11),INDEX('Fichier Type'!$C$2:$Q$201,A40,12),INDEX('Fichier Type'!$C$2:$Q$201,A40,13),INDEX('Fichier Type'!$C$2:$Q$201,A40,14),INDEX('Fichier Type'!$C$2:$Q$201,A40,15)),0,1))) | C40: =C39+IF(B40=0,0,1) -> 13
A41: =IF(D41="","",MATCH(D41,'Fichier Type'!$C$2:$C$201,0)) | B41: =IF(D41="","",IF(ISNA(A41),2,IF(CONCATENATE(E41,F41,G41,H41,I41,J41,K41,L41,M41,N41,O41,P41,Q41,R41)=CONCATENATE(INDEX('Fichier Type'!$C$2:$Q$201,A41,2),INDEX('Fichier Type'!$C$2:$Q$201,A41,3),INDEX('Fichier Type'!$C$2:$Q$201,A41,4),INDEX('Fichier Type'!$C$2:$Q$201,A41,5),INDEX('Fichier Type'!$C$2:$Q$201,A41,6),INDEX('Fichier Type'!$C$2:$Q$201,A41,7),INDEX('Fichier Type'!$C$2:$Q$201,A41,8),INDEX('Fichier Type'!$C$2:$Q$201,A41,9),INDEX('Fichier Type'!$C$2:$Q$201,A41,10),INDEX('Fichier Type'!$C$2:$Q$201,A41,11),INDEX('Fichier Type'!$C$2:$Q$201,A41,12),INDEX('Fichier Type'!$C$2:$Q$201,A41,13),INDEX('Fichier Type'!$C$2:$Q$201,A41,14),INDEX('Fichier Type'!$C$2:$Q$201,A41,15)),0,1))) | C41: =C40+IF(B41=0,0,1) -> 14
A42: =IF(D42="","",MATCH(D42,'Fichier Type'!$C$2:$C$201,0)) | B42: =IF(D42="","",IF(ISNA(A42),2,IF(CONCATENATE(E42,F42,G42,H42,I42,J42,K42,L42,M42,N42,O42,P42,Q42,R42)=CONCATENATE(INDEX('Fichier Type'!$C$2:$Q$201,A42,2),INDEX('Fichier Type'!$C$2:$Q$201,A42,3),INDEX('Fichier Type'!$C$2:$Q$201,A42,4),INDEX('Fichier Type'!$C$2:$Q$201,A42,5),INDEX('Fichier Type'!$C$2:$Q$201,A42,6),INDEX('Fichier Type'!$C$2:$Q$201,A42,7),INDEX('Fichier Type'!$C$2:$Q$201,A42,8),INDEX('Fichier Type'!$C$2:$Q$201,A42,9),INDEX('Fichier Type'!$C$2:$Q$201,A42,10),INDEX('Fichier Type'!$C$2:$Q$201,A42,11),INDEX('Fichier Type'!$C$2:$Q$201,A42,12),INDEX('Fichier Type'!$C$2:$Q$201,A42,13),INDEX('Fichier Type'!$C$2:$Q$201,A42,14),INDEX('Fichier Type'!$C$2:$Q$201,A42,15)),0,1))) | C42: =C41+IF(B42=0,0,1) -> 15
A43: =IF(D43="","",MATCH(D43,'Fichier Type'!$C$2:$C$201,0)) | B43: =IF(D43="","",IF(ISNA(A43),2,IF(CONCATENATE(E43,F43,G43,H43,I43,J43,K43,L43,M43,N43,O43,P43,Q43,R43)=CONCATENATE(INDEX('Fichier Type'!$C$2:$Q$201,A43,2),INDEX('Fichier Type'!$C$2:$Q$201,A43,3),INDEX('Fichier Type'!$C$2:$Q$201,A43,4),INDEX('Fichier Type'!$C$2:$Q$201,A43,5),INDEX('Fichier Type'!$C$2:$Q$201,A43,6),INDEX('Fichier Type'!$C$2:$Q$201,A43,7),INDEX('Fichier Type'!$C$2:$Q$201,A43,8),INDEX('Fichier Type'!$C$2:$Q$201,A43,9),INDEX('Fichier Type'!$C$2:$Q$201,A43,10),INDEX('Fichier Type'!$C$2:$Q$201,A43,11),INDEX('Fichier Type'!$C$2:$Q$201,A43,12),INDEX('Fichier Type'!$C$2:$Q$201,A43,13),INDEX('Fichier Type'!$C$2:$Q$201,A43,14),INDEX('Fichier Type'!$C$2:$Q$201,A43,15)),0,1))) | C43: =C42+IF(B43=0,0,1) -> 16
A44: =IF(D44="","",MATCH(D44,'Fichier Type'!$C$2:$C$201,0)) | B44: =IF(D44="","",IF(ISNA(A44),2,IF(CONCATENATE(E44,F44,G44,H44,I44,J44,K44,L44,M44,N44,O44,P44,Q44,R44)=CONCATENATE(INDEX('Fichier Type'!$C$2:$Q$201,A44,2),INDEX('Fichier Type'!$C$2:$Q$201,A44,3),INDEX('Fichier Type'!$C$2:$Q$201,A44,4),INDEX('Fichier Type'!$C$2:$Q$201,A44,5),INDEX('Fichier Type'!$C$2:$Q$201,A44,6),INDEX('Fichier Type'!$C$2:$Q$201,A44,7),INDEX('Fichier Type'!$C$2:$Q$201,A44,8),INDEX('Fichier Type'!$C$2:$Q$201,A44,9),INDEX('Fichier Type'!$C$2:$Q$201,A44,10),INDEX('Fichier Type'!$C$2:$Q$201,A44,11),INDEX('Fichier Type'!$C$2:$Q$201,A44,12),INDEX('Fichier Type'!$C$2:$Q$201,A44,13),INDEX('Fichier Type'!$C$2:$Q$201,A44,14),INDEX('Fichier Type'!$C$2:$Q$201,A44,15)),0,1))) | C44: =C43+IF(B44=0,0,1) -> 17
A45: =IF(D45="","",MATCH(D45,'Fichier Type'!$C$2:$C$201,0)) | B45: =IF(D45="","",IF(ISNA(A45),2,IF(CONCATENATE(E45,F45,G45,H45,I45,J45,K45,L45,M45,N45,O45,P45,Q45,R45)=CONCATENATE(INDEX('Fichier Type'!$C$2:$Q$201,A45,2),INDEX('Fichier Type'!$C$2:$Q$201,A45,3),INDEX('Fichier Type'!$C$2:$Q$201,A45,4),INDEX('Fichier Type'!$C$2:$Q$201,A45,5),INDEX('Fichier Type'!$C$2:$Q$201,A45,6),INDEX('Fichier Type'!$C$2:$Q$201,A45,7),INDEX('Fichier Type'!$C$2:$Q$201,A45,8),INDEX('Fichier Type'!$C$2:$Q$201,A45,9),INDEX('Fichier Type'!$C$2:$Q$201,A45,10),INDEX('Fichier Type'!$C$2:$Q$201,A45,11),INDEX('Fichier Type'!$C$2:$Q$201,A45,12),INDEX('Fichier Type'!$C$2:$Q$201,A45,13),INDEX('Fichier Type'!$C$2:$Q$201,A45,14),INDEX('Fichier Type'!$C$2:$Q$201,A45,15)),0,1))) | C45: =C44+IF(B45=0,0,1) -> 18
A46: =IF(D46="","",MATCH(D46,'Fichier Type'!$C$2:$C$201,0)) | B46: =IF(D46="","",IF(ISNA(A46),2,IF(CONCATENATE(E46,F46,G46,H46,I46,J46,K46,L46,M46,N46,O46,P46,Q46,R46)=CONCATENATE(INDEX('Fichier Type'!$C$2:$Q$201,A46,2),INDEX('Fichier Type'!$C$2:$Q$201,A46,3),INDEX('Fichier Type'!$C$2:$Q$201,A46,4),INDEX('Fichier Type'!$C$2:$Q$201,A46,5),INDEX('Fichier Type'!$C$2:$Q$201,A46,6),INDEX('Fichier Type'!$C$2:$Q$201,A46,7),INDEX('Fichier Type'!$C$2:$Q$201,A46,8),INDEX('Fichier Type'!$C$2:$Q$201,A46,9),INDEX('Fichier Type'!$C$2:$Q$201,A46,10),INDEX('Fichier Type'!$C$2:$Q$201,A46,11),INDEX('Fichier Type'!$C$2:$Q$201,A46,12),INDEX('Fichier Type'!$C$2:$Q$201,A46,13),INDEX('Fichier Type'!$C$2:$Q$201,A46,14),INDEX('Fichier Type'!$C$2:$Q$201,A46,15)),0,1))) | C46: =C45+IF(B46=0,0,1) -> 19
A47: =IF(D47="","",MATCH(D47,'Fichier Type'!$C$2:$C$201,0)) | B47: =IF(D47="","",IF(ISNA(A47),2,IF(CONCATENATE(E47,F47,G47,H47,I47,J47,K47,L47,M47,N47,O47,P47,Q47,R47)=CONCATENATE(INDEX('Fichier Type'!$C$2:$Q$201,A47,2),INDEX('Fichier Type'!$C$2:$Q$201,A47,3),INDEX('Fichier Type'!$C$2:$Q$201,A47,4),INDEX('Fichier Type'!$C$2:$Q$201,A47,5),INDEX('Fichier Type'!$C$2:$Q$201,A47,6),INDEX('Fichier Type'!$C$2:$Q$201,A47,7),INDEX('Fichier Type'!$C$2:$Q$201,A47,8),INDEX('Fichier Type'!$C$2:$Q$201,A47,9),INDEX('Fichier Type'!$C$2:$Q$201,A47,10),INDEX('Fichier Type'!$C$2:$Q$201,A47,11),INDEX('Fichier Type'!$C$2:$Q$201,A47,12),INDEX('Fichier Type'!$C$2:$Q$201,A47,13),INDEX('Fichier Type'!$C$2:$Q$201,A47,14),INDEX('Fichier Type'!$C$2:$Q$201,A47,15)),0,1))) | C47: =C46+IF(B47=0,0,1) -> 20
A48: =IF(D48="","",MATCH(D48,'Fichier Type'!$C$2:$C$201,0)) | B48: =IF(D48="","",IF(ISNA(A48),2,IF(CONCATENATE(E48,F48,G48,H48,I48,J48,K48,L48,M48,N48,O48,P48,Q48,R48)=CONCATENATE(INDEX('Fichier Type'!$C$2:$Q$201,A48,2),INDEX('Fichier Type'!$C$2:$Q$201,A48,3),INDEX('Fichier Type'!$C$2:$Q$201,A48,4),INDEX('Fichier Type'!$C$2:$Q$201,A48,5),INDEX('Fichier Type'!$C$2:$Q$201,A48,6),INDEX('Fichier Type'!$C$2:$Q$201,A48,7),INDEX('Fichier Type'!$C$2:$Q$201,A48,8),INDEX('Fichier Type'!$C$2:$Q$201,A48,9),INDEX('Fichier Type'!$C$2:$Q$201,A48,10),INDEX('Fichier Type'!$C$2:$Q$201,A48,11),INDEX('Fichier Type'!$C$2:$Q$201,A48,12),INDEX('Fichier Type'!$C$2:$Q$201,A48,13),INDEX('Fichier Type'!$C$2:$Q$201,A48,14),INDEX('Fichier Type'!$C$2:$Q$201,A48,15)),0,1))) | C48: =C47+IF(B48=0,0,1) -> 21
... A201: =IF(D201="","",MATCH(D201,'Fichier Type'!$C$2:$C$201,0)) | B201: =IF(D201="","",IF(ISNA(A201),2,IF(CONCATENATE(E201,F201,G201,H201,I201,J201,K201,L201,M201,N201,O201,P201,Q201,R201)=CONCATENATE(INDEX('Fichier Type'!$C$2:$Q$201,A201,2),INDEX('Fichier Type'!$C$2:$Q$201,A201,3),INDEX('Fichier Type'!$C$2:$Q$201,A201,4),INDEX('Fichier Type'!$C$2:$Q$201,A201,5),INDEX('Fichier Type'!$C$2:$Q$201,A201,6),INDEX('Fichier Type'!$C$2:$Q$201,A201,7),INDEX('Fichier Type'!$C$2:$Q$201,A201,8),INDEX('Fichier Type'!$C$2:$Q$201,A201,9),INDEX('Fichier Type'!$C$2:$Q$201,A201,10),INDEX('Fichier Type'!$C$2:$Q$201,A201,11),INDEX('Fichier Type'!$C$2:$Q$201,A201,12),INDEX('Fichier Type'!$C$2:$Q$201,A201,13),INDEX('Fichier Type'!$C$2:$Q$201,A201,14),INDEX('Fichier Type'!$C$2:$Q$201,A201,15)),0,1))) | C201: =C200+IF(B201=0,0,1) -> 174

Sheet Analyse
A1: dOC | B1: N° DECL | C1: Dossier | D1: Date | E1: Expéditeur | F1: Destinataire | G1: Ref.transport | H1: Ref.client | I1: valeur | J1: Incoterm | K1: code bur | L1: Statut | M1: qui | N1: Cie | O1: lettre | P1: Statut
A2: =IF(ROW()-1<='Fichier Type'!$B$201,VLOOKUP(ROW()-1,'Fichier Type'!$B$2:$Q$201,COLUMN()+1,FALSE),"") | B2: =IF(ROW()-1<='Fichier Type'!$B$201,VLOOKUP(ROW()-1,'Fichier Type'!$B$2:$Q$201,COLUMN()+1,FALSE),"") | C2: =IF(ROW()-1<='Fichier Type'!$B$201,VLOOKUP(ROW()-1,'Fichier Type'!$B$2:$Q$201,COLUMN()+1,FALSE),"") | D2: =IF(ROW()-1<='Fichier Type'!$B$201,VLOOKUP(ROW()-1,'Fichier Type'!$B$2:$Q$201,COLUMN()+1,FALSE),"") | E2: =IF(ROW()-1<='Fichier Type'!$B$201,VLOOKUP(ROW()-1,'Fichier Type'!$B$2:$Q$201,COLUMN()+1,FALSE),"") | F2: =IF(ROW()-1<='Fichier Type'!$B$201,VLOOKUP(ROW()-1,'Fichier Type'!$B$2:$Q$201,COLUMN()+1,FALSE),"") | G2: =IF(ROW()-1<='Fichier Type'!$B$201,VLOOKUP(ROW()-1,'Fichier Type'!$B$2:$Q$201,COLUMN()+1,FALSE),"") | H2: =IF(ROW()-1<='Fichier Type'!$B$201,VLOOKUP(ROW()-1,'Fichier Type'!$B$2:$Q$201,COLUMN()+1,FALSE),"") | ... O2: =IF(ROW()-1<='Fichier Type'!$B$201,VLOOKUP(ROW()-1,'Fichier Type'!$B$2:$Q$201,COLUMN()+1,FALSE),"") | P2: =IF(CELL("type",A2)="v","",IF(ISNA(VLOOKUP(A2,'Extraction journaliere'!$D$2:$D$201,1,FALSE)),"Ligne à supprimer",IF(INDEX('Extraction journaliere'!$B$2:$B$201,MATCH(Analyse!A2,'Extraction journaliere'!$D$2:$D$201,0),1)=1,"Ligne à modifier","Ligne à créer"))) -> Ligne à supprimer | AB2: =IF(AND($P2="Ligne à modifier",B2<>INDEX('Fichier Type'!$D$2:$Q$201,MATCH($A2,'Fichier Type'!$C$2:$C$201,0),COLUMN()-27)),2,1) -> #N/A | AC2: =IF(AND($P2="Ligne à modifier",C2<>INDEX('Fichier Type'!$D$2:$Q$201,MATCH($A2,'Fichier Type'!$C$2:$C$201,0),COLUMN()-27)),2,1) -> #N/A | AD2: =IF(AND($P2="Ligne à modifier",D2<>INDEX('Fichier Type'!$D$2:$Q$201,MATCH($A2,'Fichier Type'!$C$2:$C$201,0),COLUMN()-27)),2,1) -> #N/A | AE2: =IF(AND($P2="Ligne à modifier",E2<>INDEX('Fichier Type'!$D$2:$Q$201,MATCH($A2,'Fichier Type'!$C$2:$C$201,0),COLUMN()-27)),2,1) -> #N/A | AF2: =IF(AND($P2="Ligne à modifier",F2<>INDEX('Fichier Type'!$D$2:$Q$201,MATCH($A2,'Fichier Type'!$C$2:$C$201,0),COLUMN()-27)),2,1) -> #N/A | AG2: =IF(AND($P2="Ligne à modifier",G2<>INDEX('Fichier Type'!$D$2:$Q$201,MATCH($A2,'Fichier Type'!$C$2:$C$201,0),COLUMN()-27)),2,1) -> #N/A | AH2: =IF(AND($P2="Ligne à modifier",H2<>INDEX('Fichier Type'!$D$2:$Q$201,MATCH($A2,'Fichier Type'!$C$2:$C$201,0),COLUMN()-27)),2,1) -> #N/A | AI2: =IF(AND($P2="Ligne à modifier",I2<>INDEX('Fichier Type'!$D$2:$Q$201,MATCH($A2,'Fichier Type'!$C$2:$C$201,0),COLUMN()-27)),2,1) -> #N/A | ... AO2: =IF(AND($P2="Ligne à modifier",O2<>INDEX('Fichier Type'!$D$2:$Q$201,MATCH($A2,'Fichier Type'!$C$2:$C$201,0),COLUMN()-27)),2,1) -> #N/A
A3: =IF(ROW()-1<='Fichier Type'!$B$201,VLOOKUP(ROW()-1,'Fichier Type'!$B$2:$Q$201,COLUMN()+1,FALSE),"") | B3: =IF(ROW()-1<='Fichier Type'!$B$201,VLOOKUP(ROW()-1,'Fichier Type'!$B$2:$Q$201,COLUMN()+1,FALSE),"") | C3: =IF(ROW()-1<='Fichier Type'!$B$201,VLOOKUP(ROW()-1,'Fichier Type'!$B$2:$Q$201,COLUMN()+1,FALSE),"") | D3: =IF(ROW()-1<='Fichier Type'!$B$201,VLOOKUP(ROW()-1,'Fichier Type'!$B$2:$Q$201,COLUMN()+1,FALSE),"") | E3: =IF(ROW()-1<='Fichier Type'!$B$201,VLOOKUP(ROW()-1,'Fichier Type'!$B$2:$Q$201,COLUMN()+1,FALSE),"") | F3: =IF(ROW()-1<='Fichier Type'!$B$201,VLOOKUP(ROW()-1,'Fichier Type'!$B$2:$Q$201,COLUMN()+1,FALSE),"") | G3: =IF(ROW()-1<='Fichier Type'!$B$201,VLOOKUP(ROW()-1,'Fichier Type'!$B$2:$Q$201,COLUMN()+1,FALSE),"") | H3: =IF(ROW()-1<='Fichier Type'!$B$201,VLOOKUP(ROW()-1,'Fichier Type'!$B$2:$Q$201,COLUMN()+1,FALSE),"") | ... O3: =IF(ROW()-1<='Fichier Type'!$B$201,VLOOKUP(ROW()-1,'Fichier Type'!$B$2:$Q$201,COLUMN()+1,FALSE),"") | P3: =IF(CELL("type",A3)="v","",IF(ISNA(VLOOKUP(A3,'Extraction journaliere'!$D$2:$D$201,1,FALSE)),"Ligne à supprimer",IF(INDEX('Extraction journaliere'!$B$2:$B$201,MATCH(Analyse!A3,'Extraction journaliere'!$D$2:$D$201,0),1)=1,"Ligne à modifier","Ligne à créer"))) -> Ligne à supprimer | AB3: =IF(AND($P3="Ligne à modifier",B3<>INDEX('Fichier Type'!$D$2:$Q$201,MATCH($A3,'Fichier Type'!$C$2:$C$201,0),COLUMN()-27)),2,1) -> #N/A | AC3: =IF(AND($P3="Ligne à modifier",C3<>INDEX('Fichier Type'!$D$2:$Q$201,MATCH($A3,'Fichier Type'!$C$2:$C$201,0),COLUMN()-27)),2,1) -> #N/A | AD3: =IF(AND($P3="Ligne à modifier",D3<>INDEX('Fichier Type'!$D$2:$Q$201,MATCH($A3,'Fichier Type'!$C$2:$C$201,0),COLUMN()-27)),2,1) -> #N/A | AE3: =IF(AND($P3="Ligne à modifier",E3<>INDEX('Fichier Type'!$D$2:$Q$201,MATCH($A3,'Fichier Type'!$C$2:$C$201,0),COLUMN()-27)),2,1) -> #N/A | AF3: =IF(AND($P3="Ligne à modifier",F3<>INDEX('Fichier Type'!$D$2:$Q$201,MATCH($A3,'Fichier Type'!$C$2:$C$201,0),COLUMN()-27)),2,1) -> #N/A | AG3: =IF(AND($P3="Ligne à modifier",G3<>INDEX('Fichier Type'!$D$2:$Q$201,MATCH($A3,'Fichier Type'!$C$2:$C$201,0),COLUMN()-27)),2,1) -> #N/A | AH3: =IF(AND($P3="Ligne à modifier",H3<>INDEX('Fichier Type'!$D$2:$Q$201,MATCH($A3,'Fichier Type'!$C$2:$C$201,0),COLUMN()-27)),2,1) -> #N/A | AI3: =IF(AND($P3="Ligne à modifier",I3<>INDEX('Fichier Type'!$D$2:$Q$201,MATCH($A3,'Fichier Type'!$C$2:$C$201,0),COLUMN()-27)),2,1) -> #N/A | ... AO3: =IF(AND($P3="Ligne à modifier",O3<>INDEX('Fichier Type'!$D$2:$Q$201,MATCH($A3,'Fichier Type'!$C$2:$C$201,0),COLUMN()-27)),2,1) -> #N/A
A4: =IF(ROW()-1<='Fichier Type'!$B$201,VLOOKUP(ROW()-1,'Fichier Type'!$B$2:$Q$201,COLUMN()+1,FALSE),"") | B4: =IF(ROW()-1<='Fichier Type'!$B$201,VLOOKUP(ROW()-1,'Fichier Type'!$B$2:$Q$201,COLUMN()+1,FALSE),"") | C4: =IF(ROW()-1<='Fichier Type'!$B$201,VLOOKUP(ROW()-1,'Fichier Type'!$B$2:$Q$201,COLUMN()+1,FALSE),"") | D4: =IF(ROW()-1<='Fichier Type'!$B$201,VLOOKUP(ROW()-1,'Fichier Type'!$B$2:$Q$201,COLUMN()+1,FALSE),"") | E4: =IF(ROW()-1<='Fichier Type'!$B$201,VLOOKUP(ROW()-1,'Fichier Type'!$B$2:$Q$201,COLUMN()+1,FALSE),"") | F4: =IF(ROW()-1<='Fichier Type'!$B$201,VLOOKUP(ROW()-1,'Fichier Type'!$B$2:$Q$201,COLUMN()+1,FALSE),"") | G4: =IF(ROW()-1<='Fichier Type'!$B$201,VLOOKUP(ROW()-1,'Fichier Type'!$B$2:$Q$201,COLUMN()+1,FALSE),"") | H4: =IF(ROW()-1<='Fichier Type'!$B$201,VLOOKUP(ROW()-1,'Fichier Type'!$B$2:$Q$201,COLUMN()+1,FALSE),"") | ... O4: =IF(ROW()-1<='Fichier Type'!$B$201,VLOOKUP(ROW()-1,'Fichier Type'!$B$2:$Q$201,COLUMN()+1,FALSE),"") | P4: =IF(CELL("type",A4)="v","",IF(ISNA(VLOOKUP(A4,'Extraction journaliere'!$D$2:$D$201,1,FALSE)),"Ligne à supprimer",IF(INDEX('Extraction journaliere'!$B$2:$B$201,MATCH(Analyse!A4,'Extraction journaliere'!$D$2:$D$201,0),1)=1,"Ligne à modifier","Ligne à créer"))) -> Ligne à supprimer | AB4: =IF(AND($P4="Ligne à modifier",B4<>INDEX('Fichier Type'!$D$2:$Q$201,MATCH($A4,'Fichier Type'!$C$2:$C$201,0),COLUMN()-27)),2,1) -> #N/A | AC4: =IF(AND($P4="Ligne à modifier",C4<>INDEX('Fichier Type'!$D$2:$Q$201,MATCH($A4,'Fichier Type'!$C$2:$C$201,0),COLUMN()-27)),2,1) -> #N/A | AD4: =IF(AND($P4="Ligne à modifier",D4<>INDEX('Fichier Type'!$D$2:$Q$201,MATCH($A4,'Fichier Type'!$C$2:$C$201,0),COLUMN()-27)),2,1) -> #N/A | AE4: =IF(AND($P4="Ligne à modifier",E4<>INDEX('Fichier Type'!$D$2:$Q$201,MATCH($A4,'Fichier Type'!$C$2:$C$201,0),COLUMN()-27)),2,1) -> #N/A | AF4: =IF(AND($P4="Ligne à modifier",F4<>INDEX('Fichier Type'!$D$2:$Q$201,MATCH($A4,'Fichier Type'!$C$2:$C$201,0),COLUMN()-27)),2,1) -> #N/A | AG4: =IF(AND($P4="Ligne à modifier",G4<>INDEX('Fichier Type'!$D$2:$Q$201,MATCH($A4,'Fichier Type'!$C$2:$C$201,0),COLUMN()-27)),2,1) -> #N/A | AH4: =IF(AND($P4="Ligne à modifier",H4<>INDEX('Fichier Type'!$D$2:$Q$201,MATCH($A4,'Fichier Type'!$C$2:$C$201,0),COLUMN()-27)),2,1) -> #N/A | AI4: =IF(AND($P4="Ligne à modifier",I4<>INDEX('Fichier Type'!$D$2:$Q$201,MATCH($A4,'Fichier Type'!$C$2:$C$201,0),COLUMN()-27)),2,1) -> #N/A | ... AO4: =IF(AND($P4="Ligne à modifier",O4<>INDEX('Fichier Type'!$D$2:$Q$201,MATCH($A4,'Fichier Type'!$C$2:$C$201,0),COLUMN()-27)),2,1) -> #N/A
A5: =IF(ROW()-1<='Fichier Type'!$B$201,VLOOKUP(ROW()-1,'Fichier Type'!$B$2:$Q$201,COLUMN()+1,FALSE),"") | B5: =IF(ROW()-1<='Fichier Type'!$B$201,VLOOKUP(ROW()-1,'Fichier Type'!$B$2:$Q$201,COLUMN()+1,FALSE),"") | C5: =IF(ROW()-1<='Fichier Type'!$B$201,VLOOKUP(ROW()-1,'Fichier Type'!$B$2:$Q$201,COLUMN()+1,FALSE),"") | D5: =IF(ROW()-1<='Fichier Type'!$B$201,VLOOKUP(ROW()-1,'Fichier Type'!$B$2:$Q$201,COLUMN()+1,FALSE),"") | E5: =IF(ROW()-1<='Fichier Type'!$B$201,VLOOKUP(ROW()-1,'Fichier Type'!$B$2:$Q$201,COLUMN()+1,FALSE),"") | F5: =IF(ROW()-1<='Fichier Type'!$B$201,VLOOKUP(ROW()-1,'Fichier Type'!$B$2:$Q$201,COLUMN()+1,FALSE),"") | G5: =IF(ROW()-1<='Fichier Type'!$B$201,VLOOKUP(ROW()-1,'Fichier Type'!$B$2:$Q$201,COLUMN()+1,FALSE),"") | H5: =IF(ROW()-1<='Fichier Type'!$B$201,VLOOKUP(ROW()-1,'Fichier Type'!$B$2:$Q$201,COLUMN()+1,FALSE),"") | ... O5: =IF(ROW()-1<='Fichier Type'!$B$201,VLOOKUP(ROW()-1,'Fichier Type'!$B$2:$Q$201,COLUMN()+1,FALSE),"") | P5: =IF(CELL("type",A5)="v","",IF(ISNA(VLOOKUP(A5,'Extraction journaliere'!$D$2:$D$201,1,FALSE)),"Ligne à supprimer",IF(INDEX('Extraction journaliere'!$B$2:$B$201,MATCH(Analyse!A5,'Extraction journaliere'!$D$2:$D$201,0),1)=1,"Ligne à modifier","Ligne à créer"))) -> Ligne à supprimer | AB5: =IF(AND($P5="Ligne à modifier",B5<>INDEX('Fichier Type'!$D$2:$Q$201,MATCH($A5,'Fichier Type'!$C$2:$C$201,0),COLUMN()-27)),2,1) -> #N/A | AC5: =IF(AND($P5="Ligne à modifier",C5<>INDEX('Fichier Type'!$D$2:$Q$201,MATCH($A5,'Fichier Type'!$C$2:$C$201,0),COLUMN()-27)),2,1) -> #N/A | AD5: =IF(AND($P5="Ligne à modifier",D5<>INDEX('Fichier Type'!$D$2:$Q$201,MATCH($A5,'Fichier Type'!$C$2:$C$201,0),COLUMN()-27)),2,1) -> #N/A | AE5: =IF(AND($P5="Ligne à modifier",E5<>INDEX('Fichier Type'!$D$2:$Q$201,MATCH($A5,'Fichier Type'!$C$2:$C$201,0),COLUMN()-27)),2,1) -> #N/A | AF5: =IF(AND($P5="Ligne à modifier",F5<>INDEX('Fichier Type'!$D$2:$Q$201,MATCH($A5,'Fichier Type'!$C$2:$C$201,0),COLUMN()-27)),2,1) -> #N/A | AG5: =IF(AND($P5="Ligne à modifier",G5<>INDEX('Fichier Type'!$D$2:$Q$201,MATCH($A5,'Fichier Type'!$C$2:$C$201,0),COLUMN()-27)),2,1) -> #N/A | AH5: =IF(AND($P5="Ligne à modifier",H5<>INDEX('Fichier Type'!$D$2:$Q$201,MATCH($A5,'Fichier Type'!$C$2:$C$201,0),COLUMN()-27)),2,1) -> #N/A | AI5: =IF(AND($P5="Ligne à modifier",I5<>INDEX('Fichier Type'!$D$2:$Q$201,MATCH($A5,'Fichier Type'!$C$2:$C$201,0),COLUMN()-27)),2,1) -> #N/A | ... AO5: =IF(AND($P5="Ligne à modifier",O5<>INDEX('Fichier Type'!$D$2:$Q$201,MATCH($A5,'Fichier Type'!$C$2:$C$201,0),COLUMN()-27)),2,1) -> #N/A
A6: =IF(ROW()-1<='Fichier Type'!$B$201,VLOOKUP(ROW()-1,'Fichier Type'!$B$2:$Q$201,COLUMN()+1,FALSE),"") | B6: =IF(ROW()-1<='Fichier Type'!$B$201,VLOOKUP(ROW()-1,'Fichier Type'!$B$2:$Q$201,COLUMN()+1,FALSE),"") | C6: =IF(ROW()-1<='Fichier Type'!$B$201,VLOOKUP(ROW()-1,'Fichier Type'!$B$2:$Q$201,COLUMN()+1,FALSE),"") | D6: =IF(ROW()-1<='Fichier Type'!$B$201,VLOOKUP(ROW()-1,'Fichier Type'!$B$2:$Q$201,COLUMN()+1,FALSE),"") | E6: =IF(ROW()-1<='Fichier Type'!$B$201,VLOOKUP(ROW()-1,'Fichier Type'!$B$2:$Q$201,COLUMN()+1,FALSE),"") | F6: =IF(ROW()-1<='Fichier Type'!$B$201,VLOOKUP(ROW()-1,'Fichier Type'!$B$2:$Q$201,COLUMN()+1,FALSE),"") | G6: =IF(ROW()-1<='Fichier Type'!$B$201,VLOOKUP(ROW()-1,'Fichier Type'!$B$2:$Q$201,COLUMN()+1,FALSE),"") | H6: =IF(ROW()-1<='Fichier Type'!$B$201,VLOOKUP(ROW()-1,'Fichier Type'!$B$2:$Q$201,COLUMN()+1,FALSE),"") | ... O6: =IF(ROW()-1<='Fichier Type'!$B$201,VLOOKUP(ROW()-1,'Fichier Type'!$B$2:$Q$201,COLUMN()+1,FALSE),"") | P6: =IF(CELL("type",A6)="v","",IF(ISNA(VLOOKUP(A6,'Extraction journaliere'!$D$2:$D$201,1,FALSE)),"Ligne à supprimer",IF(INDEX('Extraction journaliere'!$B$2:$B$201,MATCH(Analyse!A6,'Extraction journaliere'!$D$2:$D$201,0),1)=1,"Ligne à modifier","Ligne à créer"))) -> Ligne à supprimer | AB6: =IF(AND($P6="Ligne à modifier",B6<>INDEX('Fichier Type'!$D$2:$Q$201,MATCH($A6,'Fichier Type'!$C$2:$C$201,0),COLUMN()-27)),2,1) -> #N/A | AC6: =IF(AND($P6="Ligne à modifier",C6<>INDEX('Fichier Type'!$D$2:$Q$201,MATCH($A6,'Fichier Type'!$C$2:$C$201,0),COLUMN()-27)),2,1) -> #N/A | AD6: =IF(AND($P6="Ligne à modifier",D6<>INDEX('Fichier Type'!$D$2:$Q$201,MATCH($A6,'Fichier Type'!$C$2:$C$201,0),COLUMN()-27)),2,1) -> #N/A | AE6: =IF(AND($P6="Ligne à modifier",E6<>INDEX('Fichier Type'!$D$2:$Q$201,MATCH($A6,'Fichier Type'!$C$2:$C$201,0),COLUMN()-27)),2,1) -> #N/A | AF6: =IF(AND($P6="Ligne à modifier",F6<>INDEX('Fichier Type'!$D$2:$Q$201,MATCH($A6,'Fichier Type'!$C$2:$C$201,0),COLUMN()-27)),2,1) -> #N/A | AG6: =IF(AND($P6="Ligne à modifier",G6<>INDEX('Fichier Type'!$D$2:$Q$201,MATCH($A6,'Fichier Type'!$C$2:$C$201,0),COLUMN()-27)),2,1) -> #N/A | AH6: =IF(AND($P6="Ligne à modifier",H6<>INDEX('Fichier Type'!$D$2:$Q$201,MATCH($A6,'Fichier Type'!$C$2:$C$201,0),COLUMN()-27)),2,1) -> #N/A | AI6: =IF(AND($P6="Ligne à modifier",I6<>INDEX('Fichier Type'!$D$2:$Q$201,MATCH($A6,'Fichier Type'!$C$2:$C$201,0),COLUMN()-27)),2,1) -> #N/A | ... AO6: =IF(AND($P6="Ligne à modifier",O6<>INDEX('Fichier Type'!$D$2:$Q$201,MATCH($A6,'Fichier Type'!$C$2:$C$201,0),COLUMN()-27)),2,1) -> #N/A
A7: =IF(ROW()-1<='Fichier Type'!$B$201,VLOOKUP(ROW()-1,'Fichier Type'!$B$2:$Q$201,COLUMN()+1,FALSE),"") | B7: =IF(ROW()-1<='Fichier Type'!$B$201,VLOOKUP(ROW()-1,'Fichier Type'!$B$2:$Q$201,COLUMN()+1,FALSE),"") | C7: =IF(ROW()-1<='Fichier Type'!$B$201,VLOOKUP(ROW()-1,'Fichier Type'!$B$2:$Q$201,COLUMN()+1,FALSE),"") | D7: =IF(ROW()-1<='Fichier Type'!$B$201,VLOOKUP(ROW()-1,'Fichier Type'!$B$2:$Q$201,COLUMN()+1,FALSE),"") | E7: =IF(ROW()-1<='Fichier Type'!$B$201,VLOOKUP(ROW()-1,'Fichier Type'!$B$2:$Q$201,COLUMN()+1,FALSE),"") | F7: =IF(ROW()-1<='Fichier Type'!$B$201,VLOOKUP(ROW()-1,'Fichier Type'!$B$2:$Q$201,COLUMN()+1,FALSE),"") | G7: =IF(ROW()-1<='Fichier Type'!$B$201,VLOOKUP(ROW()-1,'Fichier Type'!$B$2:$Q$201,COLUMN()+1,FALSE),"") | H7: =IF(ROW()-1<='Fichier Type'!$B$201,VLOOKUP(ROW()-1,'Fichier Type'!$B$2:$Q$201,COLUMN()+1,FALSE),"") | ... O7: =IF(ROW()-1<='Fichier Type'!$B$201,VLOOKUP(ROW()-1,'Fichier Type'!$B$2:$Q$201,COLUMN()+1,FALSE),"") | P7: =IF(CELL("type",A7)="v","",IF(ISNA(VLOOKUP(A7,'Extraction journaliere'!$D$2:$D$201,1,FALSE)),"Ligne à supprimer",IF(INDEX('Extraction journaliere'!$B$2:$B$201,MATCH(Analyse!A7,'Extraction journaliere'!$D$2:$D$201,0),1)=1,"Ligne à modifier","Ligne à créer"))) -> Ligne à supprimer | AB7: =IF(AND($P7="Ligne à modifier",B7<>INDEX('Fichier Type'!$D$2:$Q$201,MATCH($A7,'Fichier Type'!$C$2:$C$201,0),COLUMN()-27)),2,1) -> #N/A | AC7: =IF(AND($P7="Ligne à modifier",C7<>INDEX('Fichier Type'!$D$2:$Q$201,MATCH($A7,'Fichier Type'!$C$2:$C$201,0),COLUMN()-27)),2,1) -> #N/A | AD7: =IF(AND($P7="Ligne à modifier",D7<>INDEX('Fichier Type'!$D$2:$Q$201,MATCH($A7,'Fichier Type'!$C$2:$C$201,0),COLUMN()-27)),2,1) -> #N/A | AE7: =IF(AND($P7="Ligne à modifier",E7<>INDEX('Fichier Type'!$D$2:$Q$201,MATCH($A7,'Fichier Type'!$C$2:$C$201,0),COLUMN()-27)),2,1) -> #N/A | AF7: =IF(AND($P7="Ligne à modifier",F7<>INDEX('Fichier Type'!$D$2:$Q$201,MATCH($A7,'Fichier Type'!$C$2:$C$201,0),COLUMN()-27)),2,1) -> #N/A | AG7: =IF(AND($P7="Ligne à modifier",G7<>INDEX('Fichier Type'!$D$2:$Q$201,MATCH($A7,'Fichier Type'!$C$2:$C$201,0),COLUMN()-27)),2,1) -> #N/A | AH7: =IF(AND($P7="Ligne à modifier",H7<>INDEX('Fichier Type'!$D$2:$Q$201,MATCH($A7,'Fichier Type'!$C$2:$C$201,0),COLUMN()-27)),2,1) -> #N/A | AI7: =IF(AND($P7="Ligne à modifier",I7<>INDEX('Fichier Type'!$D$2:$Q$201,MATCH($A7,'Fichier Type'!$C$2:$C$201,0),COLUMN()-27)),2,1) -> #N/A | ... AO7: =IF(AND($P7="Ligne à modifier",O7<>INDEX('Fichier Type'!$D$2:$Q$201,MATCH($A7,'Fichier Type'!$C$2:$C$201,0),COLUMN()-27)),2,1) -> #N/A
A8: =IF(ROW()-1<='Fichier Type'!$B$201,VLOOKUP(ROW()-1,'Fichier Type'!$B$2:$Q$201,COLUMN()+1,FALSE),"") | B8: =IF(ROW()-1<='Fichier Type'!$B$201,VLOOKUP(ROW()-1,'Fichier Type'!$B$2:$Q$201,COLUMN()+1,FALSE),"") | C8: =IF(ROW()-1<='Fichier Type'!$B$201,VLOOKUP(ROW()-1,'Fichier Type'!$B$2:$Q$201,COLUMN()+1,FALSE),"") | D8: =IF(ROW()-1<='Fichier Type'!$B$201,VLOOKUP(ROW()-1,'Fichier Type'!$B$2:$Q$201,COLUMN()+1,FALSE),"") | E8: =IF(ROW()-1<='Fichier Type'!$B$201,VLOOKUP(ROW()-1,'Fichier Type'!$B$2:$Q$201,COLUMN()+1,FALSE),"") | F8: =IF(ROW()-1<='Fichier Type'!$B$201,VLOOKUP(ROW()-1,'Fichier Type'!$B$2:$Q$201,COLUMN()+1,FALSE),"") | G8: =IF(ROW()-1<='Fichier Type'!$B$201,VLOOKUP(ROW()-1,'Fichier Type'!$B$2:$Q$201,COLUMN()+1,FALSE),"") | H8: =IF(ROW()-1<='Fichier Type'!$B$201,VLOOKUP(ROW()-1,'Fichier Type'!$B$2:$Q$201,COLUMN()+1,FALSE),"") | ... O8: =IF(ROW()-1<='Fichier Type'!$B$201,VLOOKUP(ROW()-1,'Fichier Type'!$B$2:$Q$201,COLUMN()+1,FALSE),"") | P8: =IF(CELL("type",A8)="v","",IF(ISNA(VLOOKUP(A8,'Extraction journaliere'!$D$2:$D$201,1,FALSE)),"Ligne à supprimer",IF(INDEX('Extraction journaliere'!$B$2:$B$201,MATCH(Analyse!A8,'Extraction journaliere'!$D$2:$D$201,0),1)=1,"Ligne à modifier","Ligne à créer"))) -> Ligne à supprimer | AB8: =IF(AND($P8="Ligne à modifier",B8<>INDEX('Fichier Type'!$D$2:$Q$201,MATCH($A8,'Fichier Type'!$C$2:$C$201,0),COLUMN()-27)),2,1) -> #N/A | AC8: =IF(AND($P8="Ligne à modifier",C8<>INDEX('Fichier Type'!$D$2:$Q$201,MATCH($A8,'Fichier Type'!$C$2:$C$201,0),COLUMN()-27)),2,1) -> #N/A | AD8: =IF(AND($P8="Ligne à modifier",D8<>INDEX('Fichier Type'!$D$2:$Q$201,MATCH($A8,'Fichier Type'!$C$2:$C$201,0),COLUMN()-27)),2,1) -> #N/A | AE8: =IF(AND($P8="Ligne à modifier",E8<>INDEX('Fichier Type'!$D$2:$Q$201,MATCH($A8,'Fichier Type'!$C$2:$C$201,0),COLUMN()-27)),2,1) -> #N/A | AF8: =IF(AND($P8="Ligne à modifier",F8<>INDEX('Fichier Type'!$D$2:$Q$201,MATCH($A8,'Fichier Type'!$C$2:$C$201,0),COLUMN()-27)),2,1) -> #N/A | AG8: =IF(AND($P8="Ligne à modifier",G8<>INDEX('Fichier Type'!$D$2:$Q$201,MATCH($A8,'Fichier Type'!$C$2:$C$201,0),COLUMN()-27)),2,1) -> #N/A | AH8: =IF(AND($P8="Ligne à modifier",H8<>INDEX('Fichier Type'!$D$2:$Q$201,MATCH($A8,'Fichier Type'!$C$2:$C$201,0),COLUMN()-27)),2,1) -> #N/A | AI8: =IF(AND($P8="Ligne à modifier",I8<>INDEX('Fichier Type'!$D$2:$Q$201,MATCH($A8,'Fichier Type'!$C$2:$C$201,0),COLUMN()-27)),2,1) -> #N/A | ... AO8: =IF(AND($P8="Ligne à modifier",O8<>INDEX('Fichier Type'!$D$2:$Q$201,MATCH($A8,'Fichier Type'!$C$2:$C$201,0),COLUMN()-27)),2,1) -> #N/A
A9: =IF(ROW()-1<='Fichier Type'!$B$201,VLOOKUP(ROW()-1,'Fichier Type'!$B$2:$Q$201,COLUMN()+1,FALSE),VLOOKUP(ROW()-'Fichier Type'!$B$201-1,'Extraction journaliere'!$C$2:$R$201,COLUMN()+1,FALSE)) -> 09FRD0444025567636 | B9: =IF(ROW()-1<='Fichier Type'!$B$201,VLOOKUP(ROW()-1,'Fichier Type'!$B$2:$Q$201,COLUMN()+1,FALSE),VLOOKUP(ROW()-'Fichier Type'!$B$201-1,'Extraction journaliere'!$C$2:$R$201,COLUMN()+1,FALSE)) -> 132751123 | C9: =IF(ROW()-1<='Fichier Type'!$B$201,VLOOKUP(ROW()-1,'Fichier Type'!$B$2:$Q$201,COLUMN()+1,FALSE),VLOOKUP(ROW()-'Fichier Type'!$B$201-1,'Extraction journaliere'!$C$2:$R$201,COLUMN()+1,FALSE)) -> 000005 | D9: =IF(ROW()-1<='Fichier Type'!$B$201,VLOOKUP(ROW()-1,'Fichier Type'!$B$2:$Q$201,COLUMN()+1,FALSE),VLOOKUP(ROW()-'Fichier Type'!$B$201-1,'Extraction journaliere'!$C$2:$R$201,COLUMN()+1,FALSE)) -> 42481 | E9: =IF(ROW()-1<='Fichier Type'!$B$201,VLOOKUP(ROW()-1,'Fichier Type'!$B$2:$Q$201,COLUMN()+1,FALSE),VLOOKUP(ROW()-'Fichier Type'!$B$201-1,'Extraction journaliere'!$C$2:$R$201,COLUMN()+1,FALSE)) -> RUSSIE | F9: =IF(ROW()-1<='Fichier Type'!$B$201,VLOOKUP(ROW()-1,'Fichier Type'!$B$2:$Q$201,COLUMN()+1,FALSE),VLOOKUP(ROW()-'Fichier Type'!$B$201-1,'Extraction journaliere'!$C$2:$R$201,COLUMN()+1,FALSE)) -> RUSSIE | G9: =IF(ROW()-1<='Fichier Type'!$B$201,VLOOKUP(ROW()-1,'Fichier Type'!$B$2:$Q$201,COLUMN()+1,FALSE),VLOOKUP(ROW()-'Fichier Type'!$B$201-1,'Extraction journaliere'!$C$2:$R$201,COLUMN()+1,FALSE)) -> UPS | H9: =IF(ROW()-1<='Fichier Type'!$B$201,VLOOKUP(ROW()-1,'Fichier Type'!$B$2:$Q$201,COLUMN()+1,FALSE),VLOOKUP(ROW()-'Fichier Type'!$B$201-1,'Extraction journaliere'!$C$2:$R$201,COLUMN()+1,FALSE)) -> 0 | ... O9: =IF(ROW()-1<='Fichier Type'!$B$201,VLOOKUP(ROW()-1,'Fichier Type'!$B$2:$Q$201,COLUMN()+1,FALSE),VLOOKUP(ROW()-'Fichier Type'!$B$201-1,'Extraction journaliere'!$C$2:$R$201,COLUMN()+1,FALSE)) -> TFS | P9: =IF(CELL("type",A9)="v","",IF(ISNA(VLOOKUP(A9,'Extraction journaliere'!$D$2:$D$201,1,FALSE)),"Ligne à supprimer",IF(INDEX('Extraction journaliere'!$B$2:$B$201,MATCH(Analyse!A9,'Extraction journaliere'!$D$2:$D$201,0),1)=1,"Ligne à modifier","Ligne à créer"))) -> Ligne à créer | AB9: =IF(AND($P9="Ligne à modifier",B9<>INDEX('Fichier Type'!$D$2:$Q$201,MATCH($A9,'Fichier Type'!$C$2:$C$201,0),COLUMN()-27)),2,1) -> #N/A | AC9: =IF(AND($P9="Ligne à modifier",C9<>INDEX('Fichier Type'!$D$2:$Q$201,MATCH($A9,'Fichier Type'!$C$2:$C$201,0),COLUMN()-27)),2,1) -> #N/A | AD9: =IF(AND($P9="Ligne à modifier",D9<>INDEX('Fichier Type'!$D$2:$Q$201,MATCH($A9,'Fichier Type'!$C$2:$C$201,0),COLUMN()-27)),2,1) -> #N/A | AE9: =IF(AND($P9="Ligne à modifier",E9<>INDEX('Fichier Type'!$D$2:$Q$201,MATCH($A9,'Fichier Type'!$C$2:$C$201,0),COLUMN()-27)),2,1) -> #N/A | AF9: =IF(AND($P9="Ligne à modifier",F9<>INDEX('Fichier Type'!$D$2:$Q$201,MATCH($A9,'Fichier Type'!$C$2:$C$201,0),COLUMN()-27)),2,1) -> #N/A | AG9: =IF(AND($P9="Ligne à modifier",G9<>INDEX('Fichier Type'!$D$2:$Q$201,MATCH($A9,'Fichier Type'!$C$2:$C$201,0),COLUMN()-27)),2,1) -> #N/A | AH9: =IF(AND($P9="Ligne à modifier",H9<>INDEX('Fichier Type'!$D$2:$Q$201,MATCH($A9,'Fichier Type'!$C$2:$C$201,0),COLUMN()-27)),2,1) -> #N/A | AI9: =IF(AND($P9="Ligne à modifier",I9<>INDEX('Fichier Type'!$D$2:$Q$201,MATCH($A9,'Fichier Type'!$C$2:$C$201,0),COLUMN()-27)),2,1) -> #N/A | ... AO9: =IF(AND($P9="Ligne à modifier",O9<>INDEX('Fichier Type'!$D$2:$Q$201,MATCH($A9,'Fichier Type'!$C$2:$C$201,0),COLUMN()-27)),2,1) -> #N/A
