Workbook

Sheet Fruits & Légumes
A1: Fruits | B1: Fournisseurs | C1: Quantité en kg | D1: Quantité | E1: Prix/piece | F1: Prix/gramme | G1: P.U HT | H1: Prix total | I1: Taux marge | N1: Marge total | O1: Prix de revente minimum | Q1: Coût/kg
A2: GOUSSES VANILLES BOURBON | B2: PROMOCASH | F2: =G2/100 -> 0.2474 | G2: 24.74 | H2: =D2*G2 -> 0 | I2: 4 | J2: =IF(C2=100,M2/4,IF(C2=150,K2/6,"")) | K2: =IF(C2=150,G2*I2-G2,"") | L2: =IF(C2=70,G2*I2-G2,"") | M2: =IF(C2=100,G2*I2-G2,"") | N2: =H2*I2-H2 -> 0 | O2: =IF(C2=100,(M2+G2)/4,IF(C2=150,(K2+G2)/6,IF(C2=70,(L2+G2)/2.8,""))) | P2: =IF(C2=100,G2/4,IF(C2=150,G2/6,IF(C2=70,G2/2.8,""))) | Q2: =IF(P2="","",P2/25)
A3: GOUSSES VANILLES EN CUISINE | B3: PROMOCASH | E3: =G3/25 -> 0.6744 | G3: 16.86 | H3: =D3*G3 -> 0 | I3: 4 | J3: =IF(C3=100,M3/4,IF(C3=150,K3/6,"")) | K3: =IF(C3=150,G3*I3-G3,"") | L3: =IF(C3=70,G3*I3-G3,"") | M3: =IF(C3=100,G3*I3-G3,"") | N3: =H3*I3-H3 -> 0 | O3: =IF(C3=100,(M3+G3)/4,IF(C3=150,(K3+G3)/6,IF(C3=70,(L3+G3)/2.8,""))) | P3: =IF(C3=100,G3/4,IF(C3=150,G3/6,IF(C3=70,G3/2.8,""))) | Q3: =IF(P3="","",P3/25)
A4: FRAISE CHARLOTTE CAT1 FRA | B4: PROMOCASH | F4: =G4/500 -> 0.0078 | G4: 3.9 | H4: =D4*G4 -> 0 | I4: 4 | J4: =IF(C4=100,M4/4,IF(C4=150,K4/6,"")) | K4: =IF(C4=150,G4*I4-G4,"") | L4: =IF(C4=70,G4*I4-G4,"") | M4: =IF(C4=100,G4*I4-G4,"") | N4: =H4*I4-H4 -> 0 | O4: =IF(C4=100,(M4+G4)/4,IF(C4=150,(K4+G4)/6,IF(C4=70,(L4+G4)/2.8,""))) | P4: =IF(C4=100,G4/4,IF(C4=150,G4/6,IF(C4=70,G4/2.8,""))) | Q4: =IF(P4="","",P4/25)
A5: ABRICOTS SEC | B5: BRAKE | F5: =G5/1000 -> 0.00864 | G5: 8.64 | H5: =D5*G5 -> 0 | I5: 4 | J5: =IF(C5=100,M5/4,IF(C5=150,K5/6,"")) | K5: =IF(C5=150,G5*I5-G5,"") | L5: =IF(C5=70,G5*I5-G5,"") | M5: =IF(C5=100,G5*I5-G5,"") | N5: =H5*I5-H5 -> 0 | O5: =IF(C5=100,(M5+G5)/4,IF(C5=150,(K5+G5)/6,IF(C5=70,(L5+G5)/2.8,""))) | P5: =IF(C5=100,G5/4,IF(C5=150,G5/6,IF(C5=70,G5/2.8,""))) | Q5: =IF(P5="","",P5/25)
A6: ANANAS CAK A 8 | B6: ESTARELLAS | G6: 2.2 | H6: =D6*G6 -> 0 | I6: 4 | N6: =H6*I6-H6 -> 0
A7: ANANAS X.SWEET COSTA RICA | B7: TERREAZUR | E7: =G7/9 -> 0.31888889 | G7: 2.87 | H7: =D7*G7 -> 0 | I7: 4 | J7: =IF(C7=100,M7/4,IF(C7=150,K7/6,"")) | K7: =IF(C7=150,G7*I7-G7,"") | L7: =IF(C7=70,G7*I7-G7,"") | M7: =IF(C7=100,G7*I7-G7,"") | N7: =H7*I7-H7 -> 0 | O7: =IF(C7=100,(M7+G7)/4,IF(C7=150,(K7+G7)/6,IF(C7=70,(L7+G7)/2.8,""))) | P7: =IF(C7=100,G7/4,IF(C7=150,G7/6,IF(C7=70,G7/2.8,""))) | Q7: =IF(P7="","",P7/25)
A8: BANANE | B8: ESTARELLAS | G8: 1.23 | H8: =D8*G8 -> 0 | I8: 4 | J8: =IF(C8=100,M8/4,IF(C8=150,K8/6,"")) | K8: =IF(C8=150,G8*I8-G8,"") | L8: =IF(C8=70,G8*I8-G8,"") | M8: =IF(C8=100,G8*I8-G8,"") | N8: =H8*I8-H8 -> 0 | O8: =IF(C8=100,(M8+G8)/4,IF(C8=150,(K8+G8)/6,IF(C8=70,(L8+G8)/2.8,""))) | P8: =IF(C8=100,G8/4,IF(C8=150,G8/6,IF(C8=70,G8/2.8,""))) | Q8: =IF(P8="","",P8/25)
A9: FRAISE REG France | B9: TERREAZUR | F9: =G9/500 -> 0.0054 | G9: 2.7 | H9: =D9*G9 -> 0 | I9: 4 | J9: =IF(C9=100,M9/4,IF(C9=150,K9/6,"")) | K9: =IF(C9=150,G9*I9-G9,"") | L9: =IF(C9=70,G9*I9-G9,"") | M9: =IF(C9=100,G9*I9-G9,"") | N9: =H9*I9-H9 -> 0 | O9: =IF(C9=100,(M9+G9)/4,IF(C9=150,(K9+G9)/6,IF(C9=70,(L9+G9)/2.8,""))) | P9: =IF(C9=100,G9/4,IF(C9=150,G9/6,IF(C9=70,G9/2.8,""))) | Q9: =IF(P9="","",P9/25)
A10: FRAISE France | B10: TERREAZUR | F10: =G10/500 -> 0.0077 | G10: 3.85 | H10: =D10*G10 -> 0 | I10: 4 | J10: =IF(C10=100,M10/4,IF(C10=150,K10/6,"")) | K10: =IF(C10=150,G10*I10-G10,"") | L10: =IF(C10=70,G10*I10-G10,"") | M10: =IF(C10=100,G10*I10-G10,"") | N10: =H10*I10-H10 -> 0 | O10: =IF(C10=100,(M10+G10)/4,IF(C10=150,(K10+G10)/6,IF(C10=70,(L10+G10)/2.8,""))) | P10: =IF(C10=100,G10/4,IF(C10=150,G10/6,IF(C10=70,G10/2.8,""))) | Q10: =IF(P10="","",P10/25)
A11: FRAISE NUE Belgique | B11: TERREAZUR | F11: =G11/500 -> 0.00722 | G11: 3.61 | H11: =D11*G11 -> 0 | I11: 4 | J11: =IF(C11=100,M11/4,IF(C11=150,K11/6,"")) | K11: =IF(C11=150,G11*I11-G11,"") | L11: =IF(C11=70,G11*I11-G11,"") | M11: =IF(C11=100,G11*I11-G11,"") | N11: =H11*I11-H11 -> 0 | O11: =IF(C11=100,(M11+G11)/4,IF(C11=150,(K11+G11)/6,IF(C11=70,(L11+G11)/2.8,""))) | P11: =IF(C11=100,G11/4,IF(C11=150,G11/6,IF(C11=70,G11/2.8,""))) | Q11: =IF(P11="","",P11/25)
A12: FRAISE RONDE FRCE | B12: TERREAZUR | F12: =G12/1000 -> 0.00665 | G12: 6.65 | H12: =D12*G12 -> 0 | I12: 4 | J12: =IF(C12=100,M12/4,IF(C12=150,K12/6,"")) | K12: =IF(C12=150,G12*I12-G12,"") | L12: =IF(C12=70,G12*I12-G12,"") | M12: =IF(C12=100,G12*I12-G12,"") | N12: =H12*I12-H12 -> 0 | O12: =IF(C12=100,(M12+G12)/4,IF(C12=150,(K12+G12)/6,IF(C12=70,(L12+G12)/2.8,""))) | P12: =IF(C12=100,G12/4,IF(C12=150,G12/6,IF(C12=70,G12/2.8,""))) | Q12: =IF(P12="","",P12/25)
A13: BANNANE ANTILLE | B13: PROMOCASH | F13: =G13/1000 -> 0.00136 | G13: 1.36 | H13: =D13*G13 -> 0 | I13: 4 | J13: =IF(C13=100,M13/4,IF(C13=150,K13/6,"")) | K13: =IF(C13=150,G13*I13-G13,"") | L13: =IF(C13=70,G13*I13-G13,"") | M13: =IF(C13=100,G13*I13-G13,"") | N13: =H13*I13-H13 -> 0 | O13: =IF(C13=100,(M13+G13)/4,IF(C13=150,(K13+G13)/6,IF(C13=70,(L13+G13)/2.8,""))) | P13: =IF(C13=100,G13/4,IF(C13=150,G13/6,IF(C13=70,G13/2.8,""))) | Q13: =IF(P13="","",P13/25)
A14: CITRON JAUNE Espagne | B14: PROMOCASH | F14: =G14/1000 -> 0.0021 | G14: 2.1 | H14: =D14*G14 -> 0 | I14: 4 | J14: =IF(C14=100,M14/4,IF(C14=150,K14/6,"")) | K14: =IF(C14=150,G14*I14-G14,"") | L14: =IF(C14=70,G14*I14-G14,"") | M14: =IF(C14=100,G14*I14-G14,"") | N14: =H14*I14-H14 -> 0 | O14: =IF(C14=100,(M14+G14)/4,IF(C14=150,(K14+G14)/6,IF(C14=70,(L14+G14)/2.8,""))) | P14: =IF(C14=100,G14/4,IF(C14=150,G14/6,IF(C14=70,G14/2.8,""))) | Q14: =IF(P14="","",P14/25)
A15: CITRON VERT BRESIL | B15: PROMOCASH | F15: =G15/1000 -> 0.0025 | G15: 2.5 | H15: =D15*G15 -> 0 | I15: 4 | J15: =IF(C15=100,M15/4,IF(C15=150,K15/6,"")) | K15: =IF(C15=150,G15*I15-G15,"") | L15: =IF(C15=70,G15*I15-G15,"") | M15: =IF(C15=100,G15*I15-G15,"") | N15: =H15*I15-H15 -> 0 | O15: =IF(C15=100,(M15+G15)/4,IF(C15=150,(K15+G15)/6,IF(C15=70,(L15+G15)/2.8,""))) | P15: =IF(C15=100,G15/4,IF(C15=150,G15/6,IF(C15=70,G15/2.8,""))) | Q15: =IF(P15="","",P15/25)
A16: POIRE CONFER. France | B16: PROMOCASH | F16: =G16/1000 -> 0.00202 | G16: 2.02 | H16: =D16*G16 -> 0 | I16: 4 | J16: =IF(C16=100,M16/4,IF(C16=150,K16/6,"")) | K16: =IF(C16=150,G16*I16-G16,"") | L16: =IF(C16=70,G16*I16-G16,"") | M16: =IF(C16=100,G16*I16-G16,"") | N16: =H16*I16-H16 -> 0 | O16: =IF(C16=100,(M16+G16)/4,IF(C16=150,(K16+G16)/6,IF(C16=70,(L16+G16)/2.8,""))) | P16: =IF(C16=100,G16/4,IF(C16=150,G16/6,IF(C16=70,G16/2.8,""))) | Q16: =IF(P16="","",P16/25)
A17: POMMES GOLDEN France | B17: PROMOCASH | F17: =G17/1000 -> 0.00193 | G17: 1.93 | H17: =D17*G17 -> 0 | I17: 4 | J17: =IF(C17=100,M17/4,IF(C17=150,K17/6,"")) | K17: =IF(C17=150,G17*I17-G17,"") | L17: =IF(C17=70,G17*I17-G17,"") | M17: =IF(C17=100,G17*I17-G17,"") | N17: =H17*I17-H17 -> 0 | O17: =IF(C17=100,(M17+G17)/4,IF(C17=150,(K17+G17)/6,IF(C17=70,(L17+G17)/2.8,""))) | P17: =IF(C17=100,G17/4,IF(C17=150,G17/6,IF(C17=70,G17/2.8,""))) | Q17: =IF(P17="","",P17/25)
A18: KIWI 27 PLT (105-115G) FR | B18: ESTARELLAS | G18: 0.29 | H18: =D18*G18 -> 0 | I18: 4 | J18: =IF(C18=100,M18/4,IF(C18=150,K18/6,"")) | K18: =IF(C18=150,G18*I18-G18,"") | L18: =IF(C18=70,G18*I18-G18,"") | M18: =IF(C18=100,G18*I18-G18,"") | N18: =H18*I18-H18 -> 0 | O18: =IF(C18=100,(M18+G18)/4,IF(C18=150,(K18+G18)/6,IF(C18=70,(L18+G18)/2.8,""))) | P18: =IF(C18=100,G18/4,IF(C18=150,G18/6,IF(C18=70,G18/2.8,""))) | Q18: =IF(P18="","",P18/25)
A19: KIWI 85/95G *33 PL Italie C1 50*30 | B19: TERREAZUR | G19: 0.41 | H19: =D19*G19 -> 0 | I19: 4 | J19: =IF(C19=100,M19/4,IF(C19=150,K19/6,"")) | K19: =IF(C19=150,G19*I19-G19,"") | L19: =IF(C19=70,G19*I19-G19,"") | M19: =IF(C19=100,G19*I19-G19,"") | N19: =H19*I19-H19 -> 0 | O19: =IF(C19=100,(M19+G19)/4,IF(C19=150,(K19+G19)/6,IF(C19=70,(L19+G19)/2.8,""))) | P19: =IF(C19=100,G19/4,IF(C19=150,G19/6,IF(C19=70,G19/2.8,""))) | Q19: =IF(P19="","",P19/25)
A20: PCE ANANAS EQR C1 COTE IVOIRE | B20: PROMOCASH | G20: 2.5 | H20: =D20*G20 -> 0 | I20: 4 | J20: =IF(C20=100,M20/4,IF(C20=150,K20/6,"")) | K20: =IF(C20=150,G20*I20-G20,"") | L20: =IF(C20=70,G20*I20-G20,"") | M20: =IF(C20=100,G20*I20-G20,"") | N20: =H20*I20-H20 -> 0 | O20: =IF(C20=100,(M20+G20)/4,IF(C20=150,(K20+G20)/6,IF(C20=70,(L20+G20)/2.8,""))) | P20: =IF(C20=100,G20/4,IF(C20=150,G20/6,IF(C20=70,G20/2.8,""))) | Q20: =IF(P20="","",P20/25)
A21: PIECE ANANAS A8 C1 COSTA RICA | B21: PROMOCASH | G21: 2.54 | H21: =D21*G21 -> 0 | I21: 4 | J21: =IF(C21=100,M21/4,IF(C21=150,K21/6,"")) | K21: =IF(C21=150,G21*I21-G21,"") | L21: =IF(C21=70,G21*I21-G21,"") | M21: =IF(C21=100,G21*I21-G21,"") | N21: =H21*I21-H21 -> 0 | O21: =IF(C21=100,(M21+G21)/4,IF(C21=150,(K21+G21)/6,IF(C21=70,(L21+G21)/2.8,""))) | P21: =IF(C21=100,G21/4,IF(C21=150,G21/6,IF(C21=70,G21/2.8,""))) | Q21: =IF(P21="","",P21/25)
A22: PIECE KIWI 85/90 CAT1 Italie | B22: PROMOCASH | G22: 0.25 | H22: =D22*G22 -> 0 | I22: 4 | J22: =IF(C22=100,M22/4,IF(C22=150,K22/6,"")) | K22: =IF(C22=150,G22*I22-G22,"") | L22: =IF(C22=70,G22*I22-G22,"") | M22: =IF(C22=100,G22*I22-G22,"") | N22: =H22*I22-H22 -> 0 | O22: =IF(C22=100,(M22+G22)/4,IF(C22=150,(K22+G22)/6,IF(C22=70,(L22+G22)/2.8,""))) | P22: =IF(C22=100,G22/4,IF(C22=150,G22/6,IF(C22=70,G22/2.8,""))) | Q22: =IF(P22="","",P22/25)
A23: POIRE CONFERENCE 60/65 | B23: ESTARELLAS | G23: 1.44 | H23: =D23*G23 -> 0 | I23: 4 | J23: =IF(C23=100,M23/4,IF(C23=150,K23/6,"")) | K23: =IF(C23=150,G23*I23-G23,"") | L23: =IF(C23=70,G23*I23-G23,"") | M23: =IF(C23=100,G23*I23-G23,"") | N23: =H23*I23-H23 -> 0 | O23: =IF(C23=100,(M23+G23)/4,IF(C23=150,(K23+G23)/6,IF(C23=70,(L23+G23)/2.8,""))) | P23: =IF(C23=100,G23/4,IF(C23=150,G23/6,IF(C23=70,G23/2.8,""))) | Q23: =IF(P23="","",P23/25)
A24: POMME GOLDEN 150/180 FR | B24: ESTARELLAS | G24: 1.1 | H24: =D24*G24 -> 0 | I24: 4 | J24: =IF(C24=100,M24/4,IF(C24=150,K24/6,"")) | K24: =IF(C24=150,G24*I24-G24,"") | L24: =IF(C24=70,G24*I24-G24,"") | M24: =IF(C24=100,G24*I24-G24,"") | N24: =H24*I24-H24 -> 0 | O24: =IF(C24=100,(M24+G24)/4,IF(C24=150,(K24+G24)/6,IF(C24=70,(L24+G24)/2.8,""))) | P24: =IF(C24=100,G24/4,IF(C24=150,G24/6,IF(C24=70,G24/2.8,""))) | Q24: =IF(P24="","",P24/25)
A25: POMME GOLDEN 170/200G REG FRC1 | B25: TERREAZUR | G25: 2.09 | H25: =D25*G25 -> 0 | I25: 4 | J25: =IF(C25=100,M25/4,IF(C25=150,K25/6,"")) | K25: =IF(C25=150,G25*I25-G25,"") | L25: =IF(C25=70,G25*I25-G25,"") | M25: =IF(C25=100,G25*I25-G25,"") | N25: =H25*I25-H25 -> 0 | O25: =IF(C25=100,(M25+G25)/4,IF(C25=150,(K25+G25)/6,IF(C25=70,(L25+G25)/2.8,""))) | P25: =IF(C25=100,G25/4,IF(C25=150,G25/6,IF(C25=70,G25/2.8,""))) | Q25: =IF(P25="","",P25/25)
H26: =D26*G26 -> 0 | I26: 4 | J26: =IF(C26=100,M26/4,IF(C26=150,K26/6,"")) | K26: =IF(C26=150,G26*I26-G26,"") | L26: =IF(C26=70,G26*I26-G26,"") | M26: =IF(C26=100,G26*I26-G26,"") | N26: =H26*I26-H26 -> 0 | O26: =IF(C26=100,(M26+G26)/4,IF(C26=150,(K26+G26)/6,IF(C26=70,(L26+G26)/2.8,""))) | P26: =IF(C26=100,G26/4,IF(C26=150,G26/6,IF(C26=70,G26/2.8,""))) | Q26: =IF(P26="","",P26/25)
H27: =D27*G27 -> 0 | I27: 4 | J27: =IF(C27=100,M27/4,IF(C27=150,K27/6,"")) | K27: =IF(C27=150,G27*I27-G27,"") | L27: =IF(C27=70,G27*I27-G27,"") | M27: =IF(C27=100,G27*I27-G27,"") | N27: =H27*I27-H27 -> 0 | O27: =IF(C27=100,(M27+G27)/4,IF(C27=150,(K27+G27)/6,IF(C27=70,(L27+G27)/2.8,""))) | P27: =IF(C27=100,G27/4,IF(C27=150,G27/6,IF(C27=70,G27/2.8,""))) | Q27: =IF(P27="","",P27/25)
I28: 4
I29: 4
I30: 4
I31: 4
I32: 4
A33: CONFIT OIGNONS | B33: PROMOCASH | F33: =G33/1000 -> 0.00499 | G33: 4.99 | I33: 4
A34: FEVES PELEES EGYPTE | B34: PROMOCASH | F34: =G34/1000 -> 0.00398 | G34: 3.98 | I34: 4
A35: SALADE MESCLUN France | B35: PROMOCASH | F35: =G35/300 -> 0.012833333 | G35: 3.85 | I35: 4
A36: CORNICHON MALOSS. RUSSIE | B36: PROMOCASH | F36: =G36/440 -> 0.0084772727 | G36: 3.73 | I36: 4
A37: 5/1 TOMATES CONC.CUBES JYRELA | B37: PROMOCASH | F37: =G37/3000 -> 0.00143 | G37: 4.29 | I37: 4
A38: SALADE COMPOSE France | B38: PROMOCASH | F38: =G38/500 -> 0.00278 | G38: 1.39 | I38: 4
A39: CAROTTE France | B39: PROMOCASH | F39: =G39/5000 -> 0.000838 | G39: 4.19 | I39: 4
A40: ASPERGE VERTE | B40: BRAKE | F40: =G40/500 -> 0.01752 | G40: 8.76 | I40: 4
...

Sheet Economat
A1: Condiments | B1: Fournisseurs | C1: Quantité en kg | D1: Quantité | E1: Prix/grammes ou cl | F1: P.U HT | G1: Prix total | H1: Taux marge | M1: Marge total | N1: Prix de revente minimum | P1: Coût/kg
A2: 1 KG SUCRE POUDRE 1ER PRIX | B2: PROMOCASH | E2: =F2/1000 -> 0.00084 | F2: 0.84 | G2: =D2*F2 -> 0 | H2: 4 | O2: =IF(C2=100,F2/4,IF(C2=150,F2/6,IF(C2=70,F2/2.8,""))) | P2: =IF(O2="","",O2/25)
A3: 100*12G STICK KETCHUP SAXO | B3: PROMOCASH | E3: =F3/1200 -> 0.006975 | F3: 8.37 | G3: =D3*F3 -> 0 | H3: 4 | O3: =IF(C3=100,F3/4,IF(C3=150,F3/6,IF(C3=70,F3/2.8,""))) | P3: =IF(O3="","",O3/25)
A4: 100*12G STICK MAYONNAISE SAXO | B4: PROMOCASH | E4: =F4/1200 -> 0.0063416667 | F4: 7.61 | G4: =D4*F4 -> 0 | H4: 4 | O4: =IF(C4=100,F4/4,IF(C4=150,F4/6,IF(C4=70,F4/2.8,""))) | P4: =IF(O4="","",O4/25)
A5: 12*42G CUBE LEVURE HIRONDELLE | B5: PROMOCASH | E5: =F5/502 -> 0.003625498 | F5: 1.82 | G5: =D5*F5 -> 0 | H5: 4 | O5: =IF(C5=100,F5/4,IF(C5=150,F5/6,IF(C5=70,F5/2.8,""))) | P5: =IF(O5="","",O5/25)
A6: 1KG FARINE T55 NO NAME PP | B6: PROMOCASH | E6: =F6/1000 -> 0.00053 | F6: 0.53 | G6: =D6*F6 -> 0 | H6: 4 | I6: =IF(C6=100,L6/4,IF(C6=150,J6/6,"")) | J6: =IF(C6=150,F6*H6-F6,"") | K6: =IF(C6=70,F6*H6-F6,"") | L6: =IF(C6=100,F6*H6-F6,"") | M6: =G6*H6-G6 -> 0 | N6: =IF(C6=100,(L6+F6)/4,IF(C6=150,(J6+F6)/6,IF(C6=70,(K6+F6)/2.8,""))) | O6: =IF(C6=100,F6/4,IF(C6=150,F6/6,IF(C6=70,F6/2.8,""))) | P6: =IF(O6="","",O6/25)
A7: 1KG GROS SEL DE MER | B7: PROMOCASH | E7: =F7/1000 -> 0.00027 | F7: 0.27 | G7: =D7*F7 -> 0 | H7: 4 | I7: =IF(C7=100,L7/4,IF(C7=150,J7/6,"")) | J7: =IF(C7=150,F7*H7-F7,"") | K7: =IF(C7=70,F7*H7-F7,"") | L7: =IF(C7=100,F7*H7-F7,"") | M7: =G7*H7-G7 -> 0 | N7: =IF(C7=100,(L7+F7)/4,IF(C7=150,(J7+F7)/6,IF(C7=70,(K7+F7)/2.8,""))) | O7: =IF(C7=100,F7/4,IF(C7=150,F7/6,IF(C7=70,F7/2.8,""))) | P7: =IF(O7="","",O7/25)
A8: 1KG POUDRE D'AMANDE BLCHE PULPE | B8: PROMOCASH | E8: =F8/1000 -> 0.01769 | F8: 17.69 | G8: =D8*F8 -> 0 | H8: 4 | O8: =IF(C8=100,F8/4,IF(C8=150,F8/6,IF(C8=70,F8/2.8,""))) | P8: =IF(O8="","",O8/25)
A9: 1KG SACHET PAVOT BLEU ESPIG | B9: PROMOCASH | E9: =F9/1000 -> 0.00661 | F9: 6.61 | G9: =D9*F9 -> 0 | H9: 4 | O9: =IF(C9=100,F9/4,IF(C9=150,F9/6,IF(C9=70,F9/2.8,""))) | P9: =IF(O9="","",O9/25)
A10: 1KG SESAME DOREE BAHIA | B10: PROMOCASH | E10: =F10/1000 -> 0.00699 | F10: 6.99 | G10: =D10*F10 -> 0 | H10: 4 | I10: =IF(C10=100,L10/4,IF(C10=150,J10/6,"")) | J10: =IF(C10=150,F10*H10-F10,"") | K10: =IF(C10=70,F10*H10-F10,"") | L10: =IF(C10=100,F10*H10-F10,"") | M10: =G10*H10-G10 -> 0 | N10: =IF(C10=100,(L10+F10)/4,IF(C10=150,(J10+F10)/6,IF(C10=70,(K10+F10)/2.8,""))) | O10: =IF(C10=100,F10/4,IF(C10=150,F10/6,IF(C10=70,F10/2.8,""))) | P10: =IF(O10="","",O10/25)
A11: 1KG SUCRE SEMOULE LE BON SUCRE | B11: PROMOCASH | E11: =F11/1000 -> 0.00109 | F11: 1.09 | G11: =D11*F11 -> 0 | H11: 4 | I11: =IF(C11=100,L11/4,IF(C11=150,J11/6,"")) | J11: =IF(C11=150,F11*H11-F11,"") | K11: =IF(C11=70,F11*H11-F11,"") | L11: =IF(C11=100,F11*H11-F11,"") | M11: =G11*H11-G11 -> 0 | N11: =IF(C11=100,(L11+F11)/4,IF(C11=150,(J11+F11)/6,IF(C11=70,(K11+F11)/2.8,""))) | O11: =IF(C11=100,F11/4,IF(C11=150,F11/6,IF(C11=70,F11/2.8,""))) | P11: =IF(O11="","",O11/25)
A12: 1L VINAIGRE CIDRE 5D EN CUISINE | B12: PROMOCASH | E12: =F12/1000 -> 0.0025 | F12: 2.5 | G12: =D12*F12 -> 0 | H12: 4 | O12: =IF(C12=100,F12/4,IF(C12=150,F12/6,IF(C12=70,F12/2.8,""))) | P12: =IF(O12="","",O12/25)
A13: 250*5G STICK MOUTARDE SAXO | B13: PROMOCASH | E13: =F13/1250 -> 0.007168 | F13: 8.96 | G13: =D13*F13 -> 0 | H13: 4 | O13: =IF(C13=100,F13/4,IF(C13=150,F13/6,IF(C13=70,F13/2.8,""))) | P13: =IF(O13="","",O13/25)
A14: 4/4 CREME DE MARRON FAUGIER | B14: PROMOCASH | E14: =F14/800 -> 0.006475 | F14: 5.18 | G14: =D14*F14 -> 0 | H14: 4 | O14: =IF(C14=100,F14/4,IF(C14=150,F14/6,IF(C14=70,F14/2.8,""))) | P14: =IF(O14="","",O14/25)
A15: 43G TUBE WASABI TANOSHI | B15: PROMOCASH | E15: =F15/43 -> 0.073953488 | F15: 3.18 | G15: =D15*F15 -> 0 | H15: 4 | O15: =IF(C15=100,F15/4,IF(C15=150,F15/6,IF(C15=70,F15/2.8,""))) | P15: =IF(O15="","",O15/25)
A16: 500 POIVRE NOIR CONCASSE ENCUIS | B16: PROMOCASH | E16: =F16/500 -> 0.01656 | F16: 8.28 | G16: =D16*F16 -> 0 | H16: 4 | O16: =IF(C16=100,F16/4,IF(C16=150,F16/6,IF(C16=70,F16/2.8,""))) | P16: =IF(O16="","",O16/25)
A17: 500G CURRY EN CUISINE | B17: PROMOCASH | E17: =F17/500 -> 0.00998 | F17: 4.99 | G17: =D17*F17 -> 0 | H17: 4 | O17: =IF(C17=100,F17/4,IF(C17=150,F17/6,IF(C17=70,F17/2.8,""))) | P17: =IF(O17="","",O17/25)
A18: 500G PAPRIKA DOUX EN CUISINE | B18: PROMOCASH | E18: =F18/500 -> 0.0126 | F18: 6.3 | G18: =D18*F18 -> 0 | H18: 4 | O18: =IF(C18=100,F18/4,IF(C18=150,F18/6,IF(C18=70,F18/2.8,""))) | P18: =IF(O18="","",O18/25)
A19: 500G POIVRE NOIR SARAWAK ENTIE | B19: PROMOCASH | E19: =F19/500 -> 0.02396 | F19: 11.98 | G19: =D19*F19 -> 0 | H19: 4 | O19: =IF(C19=100,F19/4,IF(C19=150,F19/6,IF(C19=70,F19/2.8,""))) | P19: =IF(O19="","",O19/25)
A20: 50CL HUILE DE NOISETTE GID | B20: PROMOCASH | E20: =F20/50 -> 0.117 | F20: 5.85 | G20: =D20*F20 -> 0 | H20: 4 | O20: =IF(C20=100,F20/4,IF(C20=150,F20/6,IF(C20=70,F20/2.8,""))) | P20: =IF(O20="","",O20/25)
A21: 50G POIVRE NOIR NR SARAWAK ENTIER | B21: PROMOCASH | E21: =F21/50 -> 0.055 | F21: 2.75 | G21: =D21*F21 -> 0 | H21: 4 | O21: =IF(C21=100,F21/4,IF(C21=150,F21/6,IF(C21=70,F21/2.8,""))) | P21: =IF(O21="","",O21/25)
A22: 568ML SCE WORCESTERSHIRE HEINZ | B22: PROMOCASH | E22: =F22/56.8 -> 0.10475352 | F22: 5.95 | G22: =D22*F22 -> 0 | H22: 4 | O22: =IF(C22=100,F22/4,IF(C22=150,F22/6,IF(C22=70,F22/2.8,""))) | P22: =IF(O22="","",O22/25)
A23: 57ML TABASCO ROUGE MAILLE | B23: PROMOCASH | E23: =F23/5.7 -> 0.45087719 | F23: 2.57 | G23: =D23*F23 -> 0 | H23: 4 | O23: =IF(C23=100,F23/4,IF(C23=150,F23/6,IF(C23=70,F23/2.8,""))) | P23: =IF(O23="","",O23/25)
A24: 5ST LEVURE BOUL.BRICHIN.ALSA | B24: PROMOCASH | F24: 1.52 | G24: =D24*F24 -> 0 | H24: 4 | O24: =IF(C24=100,F24/4,IF(C24=150,F24/6,IF(C24=70,F24/2.8,""))) | P24: =IF(O24="","",O24/25)
A25: 70G ESTRAGON EN CUISINE | B25: PROMOCASH | E25: =F25/70 -> 0.070142857 | F25: 4.91 | G25: =D25*F25 -> 0 | H25: 4 | O25: =IF(C25=100,F25/4,IF(C25=150,F25/6,IF(C25=70,F25/2.8,""))) | P25: =IF(O25="","",O25/25)
A26: 75CL VINAIGRE CIDRE GD JURY | B26: PROMOCASH | E26: =F26/75 -> 0.016266667 | F26: 1.22 | G26: =D26*F26 -> 0 | H26: 4 | I26: =IF(C26=100,L26/4,IF(C26=150,J26/6,"")) | J26: =IF(C26=150,F26*H26-F26,"") | K26: =IF(C26=70,F26*H26-F26,"") | L26: =IF(C26=100,F26*H26-F26,"") | M26: =G26*H26-G26 -> 0 | N26: =IF(C26=100,(L26+F26)/4,IF(C26=150,(J26+F26)/6,IF(C26=70,(K26+F26)/2.8,""))) | O26: =IF(C26=100,F26/4,IF(C26=150,F26/6,IF(C26=70,F26/2.8,""))) | P26: =IF(O26="","",O26/25)
A27: BIDON 10L HUILE GISDOL GID | B27: PROMOCASH | E27: =F27/10000 -> 0.002085 | F27: 20.85 | G27: =D27*F27 -> 0 | H27: 4 | O27: =IF(C27=100,F27/4,IF(C27=150,F27/6,IF(C27=70,F27/2.8,""))) | P27: =IF(O27="","",O27/25)
A28: BIDON 5L HUILE D'OLIVE GID | B28: PROMOCASH | E28: =F28/5000 -> 0.004906 | F28: 24.53 | G28: =D28*F28 -> 0 | H28: 4 | O28: =IF(C28=100,F28/4,IF(C28=150,F28/6,IF(C28=70,F28/2.8,""))) | P28: =IF(O28="","",O28/25)
A29: BIDON 5L HUILE TOURNESOL GID | B29: PROMOCASH | E29: =F29/5000 -> 0.001486 | F29: 7.43 | G29: =D29*F29 -> 0 | H29: 4 | O29: =IF(C29=100,F29/4,IF(C29=150,F29/6,IF(C29=70,F29/2.8,""))) | P29: =IF(O29="","",O29/25)
A30: BOTTE AIL VERT CAT2 France | B30: PROMOCASH | F30: 0.95 | G30: =D30*F30 -> 0 | H30: 4 | I30: =IF(C30=100,L30/4,IF(C30=150,J30/6,"")) | J30: =IF(C30=150,F30*H30-F30,"") | K30: =IF(C30=70,F30*H30-F30,"") | L30: =IF(C30=100,F30*H30-F30,"") | M30: =G30*H30-G30 -> 0 | N30: =IF(C30=100,(L30+F30)/4,IF(C30=150,(J30+F30)/6,IF(C30=70,(K30+F30)/2.8,""))) | O30: =IF(C30=100,F30/4,IF(C30=150,F30/6,IF(C30=70,F30/2.8,""))) | P30: =IF(O30="","",O30/25)
A31: BV 1K SUCRE CASSONADE ST LOUIS | B31: PROMOCASH | E31: =F31/1000 -> 0.00274 | F31: 2.74 | G31: =D31*F31 -> 0 | H31: 4 | O31: =IF(C31=100,F31/4,IF(C31=150,F31/6,IF(C31=70,F31/2.8,""))) | P31: =IF(O31="","",O31/25)
A32: BV 1KG SUCRE CASSONADE ST LOUIS | B32: PROMOCASH | E32: =F32/1000 -> 0.0028 | F32: 2.8 | G32: =D32*F32 -> 0 | H32: 4 | I32: =IF(C32=100,L32/4,IF(C32=150,J32/6,"")) | J32: =IF(C32=150,F32*H32-F32,"") | K32: =IF(C32=70,F32*H32-F32,"") | L32: =IF(C32=100,F32*H32-F32,"") | M32: =G32*H32-G32 -> 0 | N32: =IF(C32=100,(L32+F32)/4,IF(C32=150,(J32+F32)/6,IF(C32=70,(K32+F32)/2.8,""))) | O32: =IF(C32=100,F32/4,IF(C32=150,F32/6,IF(C32=70,F32/2.8,""))) | P32: =IF(O32="","",O32/25)
A33: Cumin | G33: =D33*F33 -> 0 | H33: 4 | I33: =IF(C33=100,L33/4,IF(C33=150,J33/6,"")) | J33: =IF(C33=150,F33*H33-F33,"") | K33: =IF(C33=70,F33*H33-F33,"") | L33: =IF(C33=100,F33*H33-F33,"") | M33: =G33*H33-G33 -> 0 | N33: =IF(C33=100,(L33+F33)/4,IF(C33=150,(J33+F33)/6,IF(C33=70,(K33+F33)/2.8,""))) | O33: =IF(C33=100,F33/4,IF(C33=150,F33/6,IF(C33=70,F33/2.8,""))) | P33: =IF(O33="","",O33/25)
A34: F.950ML MOUT.DIJON CALIFORNIA | B34: PROMOCASH | E34: =F34/95 -> 0.060105263 | F34: 5.71 | G34: =D34*F34 -> 0 | H34: 4 | I34: =IF(C34=100,L34/4,IF(C34=150,J34/6,"")) | J34: =IF(C34=150,F34*H34-F34,"") | K34: =IF(C34=70,F34*H34-F34,"") | L34: =IF(C34=100,F34*H34-F34,"") | M34: =G34*H34-G34 -> 0 | N34: =IF(C34=100,(L34+F34)/4,IF(C34=150,(J34+F34)/6,IF(C34=70,(K34+F34)/2.8,""))) | O34: =IF(C34=100,F34/4,IF(C34=150,F34/6,IF(C34=70,F34/2.8,""))) | P34: =IF(O34="","",O34/25)
A35: FL.910G KETCHUP BOUCHPROP. HEIN | B35: PROMOCASH | E35: =F35/910 -> 0.0043296703 | F35: 3.94 | G35: =D35*F35 -> 0 | H35: 4 | I35: =IF(C35=100,L35/4,IF(C35=150,J35/6,"")) | J35: =IF(C35=150,F35*H35-F35,"") | K35: =IF(C35=70,F35*H35-F35,"") | L35: =IF(C35=100,F35*H35-F35,"") | M35: =G35*H35-G35 -> 0 | N35: =IF(C35=100,(L35+F35)/4,IF(C35=150,(J35+F35)/6,IF(C35=70,(K35+F35)/2.8,""))) | O35: =IF(C35=100,F35/4,IF(C35=150,F35/6,IF(C35=70,F35/2.8,""))) | P35: =IF(O35="","",O35/25)
A36: GIMGEMBRE PRÊT EMPLOI JAR | B36: PROMOCASH | F36: 4.79 | G36: =D36*F36 -> 0 | H36: 4 | O36: =IF(C36=100,F36/4,IF(C36=150,F36/6,IF(C36=70,F36/2.8,""))) | P36: =IF(O36="","",O36/25)
A37: GUACAMOLE BKE 1KG | B37: BRAKE | E37: =F37/1000 -> 0.00899 | F37: 8.99 | G37: =D37*F37 -> 0 | H37: 4 | I37: =IF(C37=100,L37/4,IF(C37=150,J37/6,"")) | J37: =IF(C37=150,F37*H37-F37,"") | K37: =IF(C37=70,F37*H37-F37,"") | L37: =IF(C37=100,F37*H37-F37,"") | M37: =G37*H37-G37 -> 0 | N37: =IF(C37=100,(L37+F37)/4,IF(C37=150,(J37+F37)/6,IF(C37=70,(K37+F37)/2.8,""))) | O37: =IF(C37=100,F37/4,IF(C37=150,F37/6,IF(C37=70,F37/2.8,""))) | P37: =IF(O37="","",O37/25)
A38: HF BASILIC 100G | B38: TERREAZUR | E38: =F38/100 -> 0.0285 | F38: 2.85 | G38: =D38*F38 -> 0 | H38: 4 | O38: =IF(C38=100,F38/4,IF(C38=150,F38/6,IF(C38=70,F38/2.8,""))) | P38: =IF(O38="","",O38/25)
A39: HF ESTRAGON BOTTE | B39: TERREAZUR | F39: 1.06 | G39: =D39*F39 -> 0 | H39: 4 | O39: =IF(C39=100,F39/4,IF(C39=150,F39/6,IF(C39=70,F39/2.8,""))) | P39: =IF(O39="","",O39/25)
A40: HUILE D'OLIVE VIERGE EXTRA 2L IZNAOLIVA | B40: GRANADA OLIVE | E40: =F40/200 -> 0.06 | F40: 12 | G40: =D40*F40 -> 0 | H40: 4 | I40: =IF(C40=100,L40/4,IF(C40=150,J40/6,"")) | J40: =IF(C40=150,F40*H40-F40,"") | K40: =IF(C40=70,F40*H40-F40,"") | L40: =IF(C40=100,F40*H40-F40,"") | M40: =G40*H40-G40 -> 0 | N40: =IF(C40=100,(L40+F40)/4,IF(C40=150,(J40+F40)/6,IF(C40=70,(K40+F40)/2.8,""))) | O40: =IF(C40=100,F40/4,IF(C40=150,F40/6,IF(C40=70,F40/2.8,""))) | P40: =IF(O40="","",O40/25)
...

Sheet Boucherie
A1: Viandes | B1: Fournisseur | C1: Quantité en kg | D1: Quantité | E1: Prix piece | F1: Prix/gramme/cl/ | G1: P.U HT | H1: Prix total | I1: Taux marge | N1: Marge total | O1: Prix de revente minimum | Q1: Coût/kg
A2: 1/2 FX FILET BF 3KG+ CHAROL | B2: PROMOCASH | F2: =G2/3000 -> 0.0053466667 | G2: 16.04 | H2: =D2*G2 -> 0 | I2: 4 | P2: =IF(C2=100,G2/4,IF(C2=150,G2/6,IF(C2=70,G2/2.8,""))) | Q2: =IF(P2="","",P2/25)
A3: 1/2 FX FILET VBF CHAROL. 3KG+ | B3: DS Restauration | F3: =G3/3000 -> 0.0053333333 | G3: 16 | H3: =D3*G3 -> 0 | I3: 4 | P3: =IF(C3=100,G3/4,IF(C3=150,G3/6,IF(C3=70,G3/2.8,""))) | Q3: =IF(P3="","",P3/25)
A4: 1K5 12*125G STEAK HACHE 15%MG | B4: PROMOCASH | E4: =G4/12 -> 1.195 | G4: 14.34 | H4: =D4*G4 -> 0 | I4: 4 | P4: =IF(C4=100,G4/4,IF(C4=150,G4/6,IF(C4=70,G4/2.8,""))) | Q4: =IF(P4="","",P4/25)
A5: 1KG LARDON FUM SUP ALL 5/5 OLO | B5: PROMOCASH | F5: =G5/1000 -> 0.00568 | G5: 5.68 | H5: =D5*G5 -> 0 | I5: 4 | P5: =IF(C5=100,G5/4,IF(C5=150,G5/6,IF(C5=70,G5/2.8,""))) | Q5: =IF(P5="","",P5/25)
A6: 1KG LARDON SALE S/ATM J.FLOCH | B6: PROMOCASH | F6: =G6/1000 -> 0.00462 | G6: 4.62 | H6: =D6*G6 -> 0 | I6: 4 | P6: =IF(C6=100,G6/4,IF(C6=150,G6/6,IF(C6=70,G6/2.8,""))) | Q6: =IF(P6="","",P6/25)
A7: 500G CHORIZO P/PORC TRANCHE | B7: PROMOCASH | F7: =G7/500 -> 0.00736 | G7: 3.68 | H7: =D7*G7 -> 0 | I7: 4 | P7: =IF(C7=100,G7/4,IF(C7=150,G7/6,IF(C7=70,G7/2.8,""))) | Q7: =IF(P7="","",P7/25)
A8: 500G JAMBON BLANC SUP DD OLONA | B8: PROMOCASH | F8: =G8/500 -> 0.00758 | G8: 3.79 | H8: =D8*G8 -> 0 | I8: 4 | P8: =IF(C8=100,G8/4,IF(C8=150,G8/6,IF(C8=70,G8/2.8,""))) | Q8: =IF(P8="","",P8/25)
A9: 500G POITRINE FUMEE TRAN. OLONA | B9: PROMOCASH | F9: =G9/500 -> 0.00756 | G9: 3.78 | H9: =D9*G9 -> 0 | I9: 4 | P9: =IF(C9=100,G9/4,IF(C9=150,G9/6,IF(C9=70,G9/2.8,""))) | Q9: =IF(P9="","",P9/25)
A10: 600G FD VEAU LIE PREMIUM CHEF | B10: PROMOCASH | F10: =G10/600 -> 0.033533333 | G10: 20.12 | H10: =D10*G10 -> 0 | I10: 4 | P10: =IF(C10=100,G10/4,IF(C10=150,G10/6,IF(C10=70,G10/2.8,""))) | Q10: =IF(P10="","",P10/25)
A11: 640G FOND VEAU PREMIUM CHEF | B11: PROMOCASH | F11: =G11/640 -> 0.034171875 | G11: 21.87 | H11: =D11*G11 -> 0 | I11: 4 | P11: =IF(C11=100,G11/4,IF(C11=150,G11/6,IF(C11=70,G11/2.8,""))) | Q11: =IF(P11="","",P11/25)
A12: ANDOUILLE DE BRETAGNE BN 1K | B12: AUMAND | F12: =G12/1000 -> 0.00595 | G12: 5.95 | H12: =D12*G12 -> 0 | I12: 4 | J12: =IF(C12=100,M12/4,IF(C12=150,K12/6,"")) | K12: =IF(C12=150,G12*I12-G12,"") | L12: =IF(C12=70,G12*I12-G12,"") | M12: =IF(C12=100,G12*I12-G12,"") | N12: =H12*I12-H12 -> 0 | O12: =IF(C12=100,(M12+G12)/4,IF(C12=150,(K12+G12)/6,IF(C12=70,(L12+G12)/2.8,""))) | P12: =IF(C12=100,G12/4,IF(C12=150,G12/6,IF(C12=70,G12/2.8,""))) | Q12: =IF(P12="","",P12/25)
A13: Andouille de guemene | B13: BRAKE | H13: =D13*G13 -> 0 | I13: 4 | J13: =IF(C13=100,M13/4,IF(C13=150,K13/6,"")) | K13: =IF(C13=150,G13*I13-G13,"") | L13: =IF(C13=70,G13*I13-G13,"") | M13: =IF(C13=100,G13*I13-G13,"") | N13: =H13*I13-H13 -> 0 | O13: =IF(C13=100,(M13+G13)/4,IF(C13=150,(K13+G13)/6,IF(C13=70,(L13+G13)/2.8,""))) | P13: =IF(C13=100,G13/4,IF(C13=150,G13/6,IF(C13=70,G13/2.8,""))) | Q13: =IF(P13="","",P13/25)
A14: ASSORTIMENT MINI BROCHETTE PLT 15G 4*100 | B14: BRAKE | F14: =G14/100 -> 0.0728 | G14: 7.28 | H14: =D14*G14 -> 0 | I14: 4 | J14: =IF(C14=100,M14/4,IF(C14=150,K14/6,"")) | K14: =IF(C14=150,G14*I14-G14,"") | L14: =IF(C14=70,G14*I14-G14,"") | M14: =IF(C14=100,G14*I14-G14,"") | N14: =H14*I14-H14 -> 0 | O14: =IF(C14=100,(M14+G14)/4,IF(C14=150,(K14+G14)/6,IF(C14=70,(L14+G14)/2.8,""))) | P14: =IF(C14=100,G14/4,IF(C14=150,G14/6,IF(C14=70,G14/2.8,""))) | Q14: =IF(P14="","",P14/25)
A15: BOUDIN BLANC AUX TROMPETTES 1KG | B15: CROIX MARAND | F15: =G15/1000 -> 0.01255 | G15: 12.55 | H15: =D15*G15 -> 0 | I15: 4 | J15: =IF(C15=100,M15/4,IF(C15=150,K15/6,"")) | K15: =IF(C15=150,G15*I15-G15,"") | L15: =IF(C15=70,G15*I15-G15,"") | M15: =IF(C15=100,G15*I15-G15,"") | N15: =H15*I15-H15 -> 0 | O15: =IF(C15=100,(M15+G15)/4,IF(C15=150,(K15+G15)/6,IF(C15=70,(L15+G15)/2.8,""))) | P15: =IF(C15=100,G15/4,IF(C15=150,G15/6,IF(C15=70,G15/2.8,""))) | Q15: =IF(P15="","",P15/25)
A16: Boudin noir | H16: =D16*G16 -> 0 | I16: 4 | J16: =IF(C16=100,M16/4,IF(C16=150,K16/6,"")) | K16: =IF(C16=150,G16*I16-G16,"") | L16: =IF(C16=70,G16*I16-G16,"") | M16: =IF(C16=100,G16*I16-G16,"") | N16: =H16*I16-H16 -> 0 | O16: =IF(C16=100,(M16+G16)/4,IF(C16=150,(K16+G16)/6,IF(C16=70,(L16+G16)/2.8,""))) | P16: =IF(C16=100,G16/4,IF(C16=150,G16/6,IF(C16=70,G16/2.8,""))) | Q16: =IF(P16="","",P16/25)
A17: CARRE DE PORC AVEC OS DTLN 1KG | B17: CROIX MARAND | F17: =G17/1000 -> 0.0071 | G17: 7.1 | H17: =D17*G17 -> 0 | I17: 4 | J17: =IF(C17=100,M17/4,IF(C17=150,K17/6,"")) | K17: =IF(C17=150,G17*I17-G17,"") | L17: =IF(C17=70,G17*I17-G17,"") | M17: =IF(C17=100,G17*I17-G17,"") | N17: =H17*I17-H17 -> 0 | O17: =IF(C17=100,(M17+G17)/4,IF(C17=150,(K17+G17)/6,IF(C17=70,(L17+G17)/2.8,""))) | P17: =IF(C17=100,G17/4,IF(C17=150,G17/6,IF(C17=70,G17/2.8,""))) | Q17: =IF(P17="","",P17/25)
A18: CARRE DE PORC TRAD.BOUCHERE E2kg | B18: DS Restauration | F18: =G18/2000 -> 0.0038 | G18: 7.6 | H18: =D18*G18 -> 0 | I18: 4 | P18: =IF(C18=100,G18/4,IF(C18=150,G18/6,IF(C18=70,G18/2.8,""))) | Q18: =IF(P18="","",P18/25)
A19: CHORIZO TRANCHE VELA BQ 500G | B19: DS Restauration | F19: =G19/500 -> 0.01066 | G19: 5.33 | H19: =D19*G19 -> 0 | I19: 4 | P19: =IF(C19=100,G19/4,IF(C19=150,G19/6,IF(C19=70,G19/2.8,""))) | Q19: =IF(P19="","",P19/25)
A20: CHORIZZO CULAR 1,8KG | B20: BRAKE | F20: =G20/1800 -> 0.005 | G20: 9 | H20: =D20*G20 -> 0 | I20: 4 | J20: =IF(C20=100,M20/4,IF(C20=150,K20/6,"")) | K20: =IF(C20=150,G20*I20-G20,"") | L20: =IF(C20=70,G20*I20-G20,"") | M20: =IF(C20=100,G20*I20-G20,"") | N20: =H20*I20-H20 -> 0 | O20: =IF(C20=100,(M20+G20)/4,IF(C20=150,(K20+G20)/6,IF(C20=70,(L20+G20)/2.8,""))) | P20: =IF(C20=100,G20/4,IF(C20=150,G20/6,IF(C20=70,G20/2.8,""))) | Q20: =IF(P20="","",P20/25)
A21: chorizzo fort | B21: AUMAND | G21: 7.85 | H21: =D21*G21 -> 0 | I21: 4 | J21: =IF(C21=100,M21/4,IF(C21=150,K21/6,"")) | K21: =IF(C21=150,G21*I21-G21,"") | L21: =IF(C21=70,G21*I21-G21,"") | M21: =IF(C21=100,G21*I21-G21,"") | N21: =H21*I21-H21 -> 0 | O21: =IF(C21=100,(M21+G21)/4,IF(C21=150,(K21+G21)/6,IF(C21=70,(L21+G21)/2.8,""))) | P21: =IF(C21=100,G21/4,IF(C21=150,G21/6,IF(C21=70,G21/2.8,""))) | Q21: =IF(P21="","",P21/25)
A22: CHORIZZO PP CULAR TRANCHE BKO 500G | B22: BRAKE | F22: =G22/500 -> 0.01398 | G22: 6.99 | H22: =D22*G22 -> 0 | I22: 4 | J22: =IF(C22=100,M22/4,IF(C22=150,K22/6,"")) | K22: =IF(C22=150,G22*I22-G22,"") | L22: =IF(C22=70,G22*I22-G22,"") | M22: =IF(C22=100,G22*I22-G22,"") | N22: =H22*I22-H22 -> 0 | O22: =IF(C22=100,(M22+G22)/4,IF(C22=150,(K22+G22)/6,IF(C22=70,(L22+G22)/2.8,""))) | P22: =IF(C22=100,G22/4,IF(C22=150,G22/6,IF(C22=70,G22/2.8,""))) | Q22: =IF(P22="","",P22/25)
A23: CŒUR T.TRANCH UE RAV PAD 7KG+ | B23: DS Restauration | F23: =G23/7000 -> 0.0011442857 | G23: 8.01 | H23: =D23*G23 -> 0 | I23: 4 | P23: =IF(C23=100,G23/4,IF(C23=150,G23/6,IF(C23=70,G23/2.8,""))) | Q23: =IF(P23="","",P23/25)
A24: CONFIT FOIE VOL ANCIEN TERRINE 2,7KG | B24: BRAKE | F24: =G24/2700 -> 0.0034074074 | G24: 9.2 | H24: =D24*G24 -> 0 | I24: 4 | J24: =IF(C24=100,M24/4,IF(C24=150,K24/6,"")) | K24: =IF(C24=150,G24*I24-G24,"") | L24: =IF(C24=70,G24*I24-G24,"") | M24: =IF(C24=100,G24*I24-G24,"") | N24: =H24*I24-H24 -> 0 | O24: =IF(C24=100,(M24+G24)/4,IF(C24=150,(K24+G24)/6,IF(C24=70,(L24+G24)/2.8,""))) | P24: =IF(C24=100,G24/4,IF(C24=150,G24/6,IF(C24=70,G24/2.8,""))) | Q24: =IF(P24="","",P24/25)
A25: COTE DE VEAU VVF EPAISSE E320g | B25: DS Restauration | F25: =G25/320 -> 0.0434375 | G25: 13.9 | H25: =D25*G25 -> 0 | I25: 4 | P25: =IF(C25=100,G25/4,IF(C25=150,G25/6,IF(C25=70,G25/2.8,""))) | Q25: =IF(P25="","",P25/25)
A26: DEMI ANDOUILLE DE GUEMENE E850g*2 | B26: DS Restauration | E26: =G26/2 -> 8.65 | G26: 17.3 | H26: =D26*G26 -> 0 | I26: 4 | P26: =IF(C26=100,G26/4,IF(C26=150,G26/6,IF(C26=70,G26/2.8,""))) | Q26: =IF(P26="","",P26/25)
A27: ECHINE DE PORC DESOSSEE 1,8/2,6KG 3/4PC | B27: BRAKE | E27: =G27/4 -> 1.3125 | G27: 5.25 | H27: =D27*G27 -> 0 | I27: 4 | J27: =IF(C27=100,M27/4,IF(C27=150,K27/6,"")) | K27: =IF(C27=150,G27*I27-G27,"") | L27: =IF(C27=70,G27*I27-G27,"") | M27: =IF(C27=100,G27*I27-G27,"") | N27: =H27*I27-H27 -> 0 | O27: =IF(C27=100,(M27+G27)/4,IF(C27=150,(K27+G27)/6,IF(C27=70,(L27+G27)/2.8,""))) | P27: =IF(C27=100,G27/4,IF(C27=150,G27/6,IF(C27=70,G27/2.8,""))) | Q27: =IF(P27="","",P27/25)
A28: Faux-filets race simmental 6kg | B28: BRAKE | F28: =G28/6000 -> 0.0018316667 | G28: 10.99 | H28: =D28*G28 -> 0 | I28: 4 | J28: =IF(C28=100,M28/4,IF(C28=150,K28/6,"")) | K28: =IF(C28=150,G28*I28-G28,"") | L28: =IF(C28=70,G28*I28-G28,"") | M28: =IF(C28=100,G28*I28-G28,"") | N28: =H28*I28-H28 -> 0 | O28: =IF(C28=100,(M28+G28)/4,IF(C28=150,(K28+G28)/6,IF(C28=70,(L28+G28)/2.8,""))) | P28: =IF(C28=100,G28/4,IF(C28=150,G28/6,IF(C28=70,G28/2.8,""))) | Q28: =IF(P28="","",P28/25)
A29: FILET BŒUF CHATEAUBRIAN R.CHARO | B29: BRAKE | G29: 37.94 | H29: =D29*G29 -> 0 | I29: 4 | J29: =IF(C29=100,M29/4,IF(C29=150,K29/6,"")) | K29: =IF(C29=150,G29*I29-G29,"") | L29: =IF(C29=70,G29*I29-G29,"") | M29: =IF(C29=100,G29*I29-G29,"") | N29: =H29*I29-H29 -> 0 | O29: =IF(C29=100,(M29+G29)/4,IF(C29=150,(K29+G29)/6,IF(C29=70,(L29+G29)/2.8,""))) | P29: =IF(C29=100,G29/4,IF(C29=150,G29/6,IF(C29=70,G29/2.8,""))) | Q29: =IF(P29="","",P29/25)
A30: FILET MIGNON PORC UE e.3/500G | B30: DS Restauration | F30: =G30/500 -> 0.0154 | G30: 7.7 | H30: =D30*G30 -> 0 | I30: 4 | P30: =IF(C30=100,G30/4,IF(C30=150,G30/6,IF(C30=70,G30/2.8,""))) | Q30: =IF(P30="","",P30/25)
A31: Foie gras | B31: BRAKE | G31: 9.05 | H31: =D31*G31 -> 0 | I31: 4 | J31: =IF(C31=100,M31/4,IF(C31=150,K31/6,"")) | K31: =IF(C31=150,G31*I31-G31,"") | L31: =IF(C31=70,G31*I31-G31,"") | M31: =IF(C31=100,G31*I31-G31,"") | N31: =H31*I31-H31 -> 0 | O31: =IF(C31=100,(M31+G31)/4,IF(C31=150,(K31+G31)/6,IF(C31=70,(L31+G31)/2.8,""))) | P31: =IF(C31=100,G31/4,IF(C31=150,G31/6,IF(C31=70,G31/2.8,""))) | Q31: =IF(P31="","",P31/25)
A32: HACHE TRAD P.BF 15%MG 700G | B32: DS Restauration | F32: =G32/700 -> 0.011828571 | G32: 8.28 | H32: =D32*G32 -> 0 | I32: 4 | P32: =IF(C32=100,G32/4,IF(C32=150,G32/6,IF(C32=70,G32/2.8,""))) | Q32: =IF(P32="","",P32/25)
A33: HAMPE COCHON BLC S/V 450G 4PC 10ST | B33: BRAKE | E33: =G33/4 -> 1.7475 | G33: 6.99 | H33: =D33*G33 -> 0 | I33: 4 | J33: =IF(C33=100,M33/4,IF(C33=150,K33/6,"")) | K33: =IF(C33=150,G33*I33-G33,"") | L33: =IF(C33=70,G33*I33-G33,"") | M33: =IF(C33=100,G33*I33-G33,"") | N33: =H33*I33-H33 -> 0 | O33: =IF(C33=100,(M33+G33)/4,IF(C33=150,(K33+G33)/6,IF(C33=70,(L33+G33)/2.8,""))) | P33: =IF(C33=100,G33/4,IF(C33=150,G33/6,IF(C33=70,G33/2.8,""))) | Q33: =IF(P33="","",P33/25)
A34: JAMBON CRU TRANCHE ITALIEN 10M 500G | B34: BRAKE | F34: =G34/500 -> 0.0172 | G34: 8.6 | H34: =D34*G34 -> 0 | I34: 4 | J34: =IF(C34=100,M34/4,IF(C34=150,K34/6,"")) | K34: =IF(C34=150,G34*I34-G34,"") | L34: =IF(C34=70,G34*I34-G34,"") | M34: =IF(C34=100,G34*I34-G34,"") | N34: =H34*I34-H34 -> 0 | O34: =IF(C34=100,(M34+G34)/4,IF(C34=150,(K34+G34)/6,IF(C34=70,(L34+G34)/2.8,""))) | P34: =IF(C34=100,G34/4,IF(C34=150,G34/6,IF(C34=70,G34/2.8,""))) | Q34: =IF(P34="","",P34/25)
A35: Jambon serrano | B35: AUMAND | G35: 10 | H35: =D35*G35 -> 0 | I35: 4 | J35: =IF(C35=100,M35/4,IF(C35=150,K35/6,"")) | K35: =IF(C35=150,G35*I35-G35,"") | L35: =IF(C35=70,G35*I35-G35,"") | M35: =IF(C35=100,G35*I35-G35,"") | N35: =H35*I35-H35 -> 0 | O35: =IF(C35=100,(M35+G35)/4,IF(C35=150,(K35+G35)/6,IF(C35=70,(L35+G35)/2.8,""))) | P35: =IF(C35=100,G35/4,IF(C35=150,G35/6,IF(C35=70,G35/2.8,""))) | Q35: =IF(P35="","",P35/25)
A36: KG COTE DE BETTE C1 Italie | B36: PROMOCASH | F36: =G36/1000 -> 0.00187 | G36: 1.87 | H36: =D36*G36 -> 0 | I36: 4 | P36: =IF(C36=100,G36/4,IF(C36=150,G36/6,IF(C36=70,G36/2.8,""))) | Q36: =IF(P36="","",P36/25)
A37: KG FAUX-FILETS +4K5 SP SV VBF | B37: PROMOCASH | F37: =G37/1000 -> 0.00952 | G37: 9.52 | H37: =D37*G37 -> 0 | I37: 4 | P37: =IF(C37=100,G37/4,IF(C37=150,G37/6,IF(C37=70,G37/2.8,""))) | Q37: =IF(P37="","",P37/25)
A38: KG SAUTE DE VEAU 60/70G France | B38: PROMOCASH | F38: =G38/1000 -> 0.00752 | G38: 7.52 | H38: =D38*G38 -> 0 | I38: 4 | P38: =IF(C38=100,G38/4,IF(C38=150,G38/6,IF(C38=70,G38/2.8,""))) | Q38: =IF(P38="","",P38/25)
A39: KG SAUTE DE VEAU S/OS VBF SIBC | B39: PROMOCASH | F39: =G39/1000 -> 0.00866 | G39: 8.66 | H39: =D39*G39 -> 0 | I39: 4 | P39: =IF(C39=100,G39/4,IF(C39=150,G39/6,IF(C39=70,G39/2.8,""))) | Q39: =IF(P39="","",P39/25)
A40: Lard paysans fumés aux épices | B40: BRAKE | G40: 11.6 | H40: =D40*G40 -> 0 | I40: 4 | J40: =IF(C40=100,M40/4,IF(C40=150,K40/6,"")) | K40: =IF(C40=150,G40*I40-G40,"") | L40: =IF(C40=70,G40*I40-G40,"") | M40: =IF(C40=100,G40*I40-G40,"") | N40: =H40*I40-H40 -> 0 | O40: =IF(C40=100,(M40+G40)/4,IF(C40=150,(K40+G40)/6,IF(C40=70,(L40+G40)/2.8,""))) | P40: =IF(C40=100,G40/4,IF(C40=150,G40/6,IF(C40=70,G40/2.8,""))) | Q40: =IF(P40="","",P40/25)
...

Sheet Poisonnerie
A1: Poissons | B1: Fournisseurs | C1: Quantité en kg | D1: Quantité | E1: Prix/gramme | F1: P.U HT | G1: Prix total | H1: Taux marge | M1: Marge total | N1: Prix de revente minimum | P1: Coût/kg
A2: 1KG CREVETTE ENT.CRU 20/30 ASI | B2: PROMOCASH | E2: =F2/1000 -> 0.01562 | F2: 15.62 | G2: =D2*F2 -> 0 | H2: 4 | O2: =IF(C2=100,F2/4,IF(C2=150,F2/6,IF(C2=70,F2/2.8,""))) | P2: =IF(O2="","",O2/25)
A3: 1KG DOS CABILLAUD 160/200 ESPA | B3: PROMOCASH | E3: =F3/1000 -> 0.00888 | F3: 8.88 | G3: =D3*F3 -> 0 | H3: 4 | O3: =IF(C3=100,F3/4,IF(C3=150,F3/6,IF(C3=70,F3/2.8,""))) | P3: =IF(O3="","",O3/25)
A4: 1KG FILET HARENG FUME DX E.CUI | B4: PROMOCASH | E4: =F4/1000 -> 0.0074 | F4: 7.4 | G4: =D4*F4 -> 0 | H4: 4 | O4: =IF(C4=100,F4/4,IF(C4=150,F4/6,IF(C4=70,F4/2.8,""))) | P4: =IF(O4="","",O4/25)
A5: 1KG NOIX DE ST JACQ 10/20 S/C USA | B5: PROMOCASH | E5: =F5/1000 -> 0.02812 | F5: 28.12 | G5: =D5*F5 -> 0 | H5: 4 | O5: =IF(C5=100,F5/4,IF(C5=150,F5/6,IF(C5=70,F5/2.8,""))) | P5: =IF(O5="","",O5/25)
A6: 4/4 THON ALBACORE FURIC | B6: PROMOCASH | E6: =F6/800 -> 0.013325 | F6: 10.66 | G6: =D6*F6 -> 0 | H6: 4 | O6: =IF(C6=100,F6/4,IF(C6=150,F6/6,IF(C6=70,F6/2.8,""))) | P6: =IF(O6="","",O6/25)
A7: 500G TRANCHETTE SAUMON FUME KR | B7: PROMOCASH | E7: =F7/500 -> 0.01424 | F7: 7.12 | G7: =D7*F7 -> 0 | H7: 4 | O7: =IF(C7=100,F7/4,IF(C7=150,F7/6,IF(C7=70,F7/2.8,""))) | P7: =IF(O7="","",O7/25)
A8: 630G FUMET POISSON PREMIUM CHEF | B8: PROMOCASH | E8: =F8/630 -> 0.029 | F8: 18.27 | G8: =D8*F8 -> 0 | H8: 4 | O8: =IF(C8=100,F8/4,IF(C8=150,F8/6,IF(C8=70,F8/2.8,""))) | P8: =IF(O8="","",O8/25)
A9: 800G CREVETTE ENT.CRU 26/30 VITENAM | B9: PROMOCASH | E9: =F9/800 -> 0.015 | F9: 12 | G9: =D9*F9 -> 0 | H9: 4 | O9: =IF(C9=100,F9/4,IF(C9=150,F9/6,IF(C9=70,F9/2.8,""))) | P9: =IF(O9="","",O9/25)
A10: BRANDADE DE MORUE 37% BKE 2KG | B10: BRAKE | E10: =F10/2000 -> 0.0029 | F10: 5.8 | G10: =D10*F10 -> 0 | H10: 4 | I10: =IF(C10=100,L10/4,IF(C10=150,J10/6,"")) | J10: =IF(C10=150,F10*H10-F10,"") | K10: =IF(C10=70,F10*H10-F10,"") | L10: =IF(C10=100,F10*H10-F10,"") | M10: =G10*H10-G10 -> 0 | N10: =IF(C10=100,(L10+F10)/4,IF(C10=150,(J10+F10)/6,IF(C10=70,(K10+F10)/2.8,""))) | O10: =IF(C10=100,F10/4,IF(C10=150,F10/6,IF(C10=70,F10/2.8,""))) | P10: =IF(O10="","",O10/25)
A11: BROCHETTE CREVETTES BKE 78,5G CT 3,3KG | B11: BRAKE | E11: =F11/3300 -> 0.00036363636 | F11: 1.2 | G11: =D11*F11 -> 0 | H11: 4 | I11: =IF(C11=100,L11/4,IF(C11=150,J11/6,"")) | J11: =IF(C11=150,F11*H11-F11,"") | K11: =IF(C11=70,F11*H11-F11,"") | L11: =IF(C11=100,F11*H11-F11,"") | M11: =G11*H11-G11 -> 0 | N11: =IF(C11=100,(L11+F11)/4,IF(C11=150,(J11+F11)/6,IF(C11=70,(K11+F11)/2.8,""))) | O11: =IF(C11=100,F11/4,IF(C11=150,F11/6,IF(C11=70,F11/2.8,""))) | P11: =IF(O11="","",O11/25)
A12: CREVETTE DECO DEVEI.CRUE 800G | B12: BRAKE | E12: =F12/800 -> 0.0173125 | F12: 13.85 | G12: =D12*F12 -> 0 | H12: 4 | I12: =IF(C12=100,L12/4,IF(C12=150,J12/6,"")) | J12: =IF(C12=150,F12*H12-F12,"") | K12: =IF(C12=70,F12*H12-F12,"") | L12: =IF(C12=100,F12*H12-F12,"") | M12: =G12*H12-G12 -> 0 | N12: =IF(C12=100,(L12+F12)/4,IF(C12=150,(J12+F12)/6,IF(C12=70,(K12+F12)/2.8,""))) | O12: =IF(C12=100,F12/4,IF(C12=150,F12/6,IF(C12=70,F12/2.8,""))) | P12: =IF(O12="","",O12/25)
A13: DORADE CORYPHENE 8/15 SENEGAL | B13: MERICQ | F13: 13.2 | G13: =D13*F13 -> 0 | H13: 4 | O13: =IF(C13=100,F13/4,IF(C13=150,F13/6,IF(C13=70,F13/2.8,""))) | P13: =IF(O13="","",O13/25)
A14: DORADE GRISE "QMC PF" 5/800 | B14: MERICQ | F14: 8.5 | G14: =D14*F14 -> 0 | H14: 4 | I14: =IF(C14=100,L14/4,IF(C14=150,J14/6,"")) | J14: =IF(C14=150,F14*H14-F14,"") | K14: =IF(C14=70,F14*H14-F14,"") | L14: =IF(C14=100,F14*H14-F14,"") | M14: =G14*H14-G14 -> 0 | N14: =IF(C14=100,(L14+F14)/4,IF(C14=150,(J14+F14)/6,IF(C14=70,(K14+F14)/2.8,""))) | O14: =IF(C14=100,F14/4,IF(C14=150,F14/6,IF(C14=70,F14/2.8,""))) | P14: =IF(O14="","",O14/25)
A15: DORADE GRISE 2/300 C/3 | B15: MERICQ | F15: 6.29 | G15: =D15*F15 -> 0 | H15: 4 | I15: =IF(C15=100,L15/4,IF(C15=150,J15/6,"")) | J15: =IF(C15=150,F15*H15-F15,"") | K15: =IF(C15=70,F15*H15-F15,"") | L15: =IF(C15=100,F15*H15-F15,"") | M15: =G15*H15-G15 -> 0 | N15: =IF(C15=100,(L15+F15)/4,IF(C15=150,(J15+F15)/6,IF(C15=70,(K15+F15)/2.8,""))) | O15: =IF(C15=100,F15/4,IF(C15=150,F15/6,IF(C15=70,F15/2.8,""))) | P15: =IF(O15="","",O15/25)
A16: DOS CABILLAUD A/PEAU 170/190G | B16: DS Restauration | F16: 9.9 | G16: =D16*F16 -> 0 | H16: 4 | I16: =IF(C16=100,L16/4,IF(C16=150,J16/6,"")) | J16: =IF(C16=150,F16*H16-F16,"") | K16: =IF(C16=70,F16*H16-F16,"") | L16: =IF(C16=100,F16*H16-F16,"") | M16: =G16*H16-G16 -> 0 | N16: =IF(C16=100,(L16+F16)/4,IF(C16=150,(J16+F16)/6,IF(C16=70,(K16+F16)/2.8,""))) | O16: =IF(C16=100,F16/4,IF(C16=150,F16/6,IF(C16=70,F16/2.8,""))) | P16: =IF(O16="","",O16/25)
A17: FILET DAUR.ROY.ELV 100/150 AVP | B17: MERICQ | F17: 14.29 | G17: =D17*F17 -> 0 | H17: 4 | I17: =IF(C17=100,L17/4,IF(C17=150,J17/6,"")) | J17: =IF(C17=150,F17*H17-F17,"") | K17: =IF(C17=70,F17*H17-F17,"") | L17: =IF(C17=100,F17*H17-F17,"") | M17: =G17*H17-G17 -> 0 | N17: =IF(C17=100,(L17+F17)/4,IF(C17=150,(J17+F17)/6,IF(C17=70,(K17+F17)/2.8,""))) | O17: =IF(C17=100,F17/4,IF(C17=150,F17/6,IF(C17=70,F17/2.8,""))) | P17: =IF(O17="","",O17/25)
A18: FILET LOTTE PECH. 400/800G 5KG | B18: BRAKE | E18: =F18/5000 -> 0.004012 | F18: 20.06 | G18: =D18*F18 -> 0 | H18: 4 | I18: =IF(C18=100,L18/4,IF(C18=150,J18/6,"")) | J18: =IF(C18=150,F18*H18-F18,"") | K18: =IF(C18=70,F18*H18-F18,"") | L18: =IF(C18=100,F18*H18-F18,"") | M18: =G18*H18-G18 -> 0 | N18: =IF(C18=100,(L18+F18)/4,IF(C18=150,(J18+F18)/6,IF(C18=70,(K18+F18)/2.8,""))) | O18: =IF(C18=100,F18/4,IF(C18=150,F18/6,IF(C18=70,F18/2.8,""))) | P18: =IF(O18="","",O18/25)
A19: FILET SAUMON ATL.S.SALAR 1,8KG | B19: BRAKE | E19: =F19/1800 -> 0.0049722222 | F19: 8.95 | G19: =D19*F19 -> 0 | H19: 4 | I19: =IF(C19=100,L19/4,IF(C19=150,J19/6,"")) | J19: =IF(C19=150,F19*H19-F19,"") | K19: =IF(C19=70,F19*H19-F19,"") | L19: =IF(C19=100,F19*H19-F19,"") | M19: =G19*H19-G19 -> 0 | N19: =IF(C19=100,(L19+F19)/4,IF(C19=150,(J19+F19)/6,IF(C19=70,(K19+F19)/2.8,""))) | O19: =IF(C19=100,F19/4,IF(C19=150,F19/6,IF(C19=70,F19/2.8,""))) | P19: =IF(O19="","",O19/25)
A20: FILET SAUMON FRAIS A/P 1,2/1,9 | B20: DS Restauration | E20: =F20/1550 -> 0.0083225806 | F20: 12.9 | G20: =D20*F20 -> 0 | H20: 4 | I20: =IF(C20=100,L20/4,IF(C20=150,J20/6,"")) | J20: =IF(C20=150,F20*H20-F20,"") | K20: =IF(C20=70,F20*H20-F20,"") | L20: =IF(C20=100,F20*H20-F20,"") | M20: =G20*H20-G20 -> 0 | N20: =IF(C20=100,(L20+F20)/4,IF(C20=150,(J20+F20)/6,IF(C20=70,(K20+F20)/2.8,""))) | O20: =IF(C20=100,F20/4,IF(C20=150,F20/6,IF(C20=70,F20/2.8,""))) | P20: =IF(O20="","",O20/25)
A21: FLT IMP SAUMON NORV 1,5/2,5 TRIM B | B21: MERICQ | E21: =F21/2000 -> 0.005295 | F21: 10.59 | G21: =D21*F21 -> 0 | H21: 4 | I21: =IF(C21=100,L21/4,IF(C21=150,J21/6,"")) | J21: =IF(C21=150,F21*H21-F21,"") | K21: =IF(C21=70,F21*H21-F21,"") | L21: =IF(C21=100,F21*H21-F21,"") | M21: =G21*H21-G21 -> 0 | N21: =IF(C21=100,(L21+F21)/4,IF(C21=150,(J21+F21)/6,IF(C21=70,(K21+F21)/2.8,""))) | O21: =IF(C21=100,F21/4,IF(C21=150,F21/6,IF(C21=70,F21/2.8,""))) | P21: =IF(O21="","",O21/25)
A22: FT SAUMON TD 1,3/1,9 *12KG | B22: TERREAZUR | E22: =F22/12000 -> 0.0009125 | F22: 10.95 | G22: =D22*F22 -> 0 | H22: 4 | O22: =IF(C22=100,F22/4,IF(C22=150,F22/6,IF(C22=70,F22/2.8,""))) | P22: =IF(O22="","",O22/25)
A23: FT SAUMON TD 2/2,6 *12KG | B23: TERREAZUR | E23: =F23/12000 -> 0.0009125 | F23: 10.95 | G23: =D23*F23 -> 0 | H23: 4 | O23: =IF(C23=100,F23/4,IF(C23=150,F23/6,IF(C23=70,F23/2.8,""))) | P23: =IF(O23="","",O23/25)
A24: HOMARD AM DECORTIQUE CRU 113/142G 2KG | B24: BRAKE | E24: =F24/2000 -> 0.044 | F24: 88 | G24: =D24*F24 -> 0 | H24: 4 | I24: =IF(C24=100,L24/4,IF(C24=150,J24/6,"")) | J24: =IF(C24=150,F24*H24-F24,"") | K24: =IF(C24=70,F24*H24-F24,"") | L24: =IF(C24=100,F24*H24-F24,"") | M24: =G24*H24-G24 -> 0 | N24: =IF(C24=100,(L24+F24)/4,IF(C24=150,(J24+F24)/6,IF(C24=70,(K24+F24)/2.8,""))) | O24: =IF(C24=100,F24/4,IF(C24=150,F24/6,IF(C24=70,F24/2.8,""))) | P24: =IF(O24="","",O24/25)
A25: KG FIL.SAUMON 1K2+NORVEGE *2 | B25: PROMOCASH | E25: =F25/1200 -> 0.010475 | F25: 12.57 | G25: =D25*F25 -> 0 | H25: 4 | O25: =IF(C25=100,F25/4,IF(C25=150,F25/6,IF(C25=70,F25/2.8,""))) | P25: =IF(O25="","",O25/25)
A26: LANGOUSTINE 30/40 5COT *3K | B26: TERREAZUR | E26: =F26/3000 -> 0.0033166667 | F26: 9.95 | G26: =D26*F26 -> 0 | H26: 4 | O26: =IF(C26=100,F26/4,IF(C26=150,F26/6,IF(C26=70,F26/2.8,""))) | P26: =IF(O26="","",O26/25)
A27: LANGOUSTINE ENT. CRUE BKE 30/40 1KG | B27: BRAKE | E27: =F27/1000 -> 0.012 | F27: 12 | G27: =D27*F27 -> 0 | H27: 4 | I27: =IF(C27=100,L27/4,IF(C27=150,J27/6,"")) | J27: =IF(C27=150,F27*H27-F27,"") | K27: =IF(C27=70,F27*H27-F27,"") | L27: =IF(C27=100,F27*H27-F27,"") | M27: =G27*H27-G27 -> 0 | N27: =IF(C27=100,(L27+F27)/4,IF(C27=150,(J27+F27)/6,IF(C27=70,(K27+F27)/2.8,""))) | O27: =IF(C27=100,F27/4,IF(C27=150,F27/6,IF(C27=70,F27/2.8,""))) | P27: =IF(O27="","",O27/25)
A28: LONGE DE THON ALBACORE 2/2,5KG | B28: DS Restauration | G28: =D28*F28 -> 0 | H28: 4 | I28: =IF(C28=100,L28/4,IF(C28=150,J28/6,"")) | J28: =IF(C28=150,F28*H28-F28,"") | K28: =IF(C28=70,F28*H28-F28,"") | L28: =IF(C28=100,F28*H28-F28,"") | M28: =G28*H28-G28 -> 0 | N28: =IF(C28=100,(L28+F28)/4,IF(C28=150,(J28+F28)/6,IF(C28=70,(K28+F28)/2.8,""))) | O28: =IF(C28=100,F28/4,IF(C28=150,F28/6,IF(C28=70,F28/2.8,""))) | P28: =IF(O28="","",O28/25)
A29: LONGE THON ALBAC.SASH DECONG. 3/5KG 1P | B29: BRAKE | E29: =F29/4000 -> 0.004975 | F29: 19.9 | G29: =D29*F29 -> 0 | H29: 4 | I29: =IF(C29=100,L29/4,IF(C29=150,J29/6,"")) | J29: =IF(C29=150,F29*H29-F29,"") | K29: =IF(C29=70,F29*H29-F29,"") | L29: =IF(C29=100,F29*H29-F29,"") | M29: =G29*H29-G29 -> 0 | N29: =IF(C29=100,(L29+F29)/4,IF(C29=150,(J29+F29)/6,IF(C29=70,(K29+F29)/2.8,""))) | O29: =IF(C29=100,F29/4,IF(C29=150,F29/6,IF(C29=70,F29/2.8,""))) | P29: =IF(O29="","",O29/25)
A30: LONGE THON S/PEAU 2/2,,5 KG*2 | B30: BRAKE | E30: =F30/2250 -> 0.0049066667 | F30: 11.04 | G30: =D30*F30 -> 0 | H30: 4 | I30: =IF(C30=100,L30/4,IF(C30=150,J30/6,"")) | J30: =IF(C30=150,F30*H30-F30,"") | K30: =IF(C30=70,F30*H30-F30,"") | L30: =IF(C30=100,F30*H30-F30,"") | M30: =G30*H30-G30 -> 0 | N30: =IF(C30=100,(L30+F30)/4,IF(C30=150,(J30+F30)/6,IF(C30=70,(K30+F30)/2.8,""))) | O30: =IF(C30=100,F30/4,IF(C30=150,F30/6,IF(C30=70,F30/2.8,""))) | P30: =IF(O30="","",O30/25)
A31: MAIGRE "QMC PF" 2/5 | B31: MERICQ | F31: 14 | G31: =D31*F31 -> 0 | H31: 4 | I31: =IF(C31=100,L31/4,IF(C31=150,J31/6,"")) | J31: =IF(C31=150,F31*H31-F31,"") | K31: =IF(C31=70,F31*H31-F31,"") | L31: =IF(C31=100,F31*H31-F31,"") | M31: =G31*H31-G31 -> 0 | N31: =IF(C31=100,(L31+F31)/4,IF(C31=150,(J31+F31)/6,IF(C31=70,(K31+F31)/2.8,""))) | O31: =IF(C31=100,F31/4,IF(C31=150,F31/6,IF(C31=70,F31/2.8,""))) | P31: =IF(O31="","",O31/25)
A32: MERLU LA ROCHELLE 2,5/+ VIDE | B32: MERICQ | F32: 6.9 | G32: =D32*F32 -> 0 | H32: 4 | I32: =IF(C32=100,L32/4,IF(C32=150,J32/6,"")) | J32: =IF(C32=150,F32*H32-F32,"") | K32: =IF(C32=70,F32*H32-F32,"") | L32: =IF(C32=100,F32*H32-F32,"") | M32: =G32*H32-G32 -> 0 | N32: =IF(C32=100,(L32+F32)/4,IF(C32=150,(J32+F32)/6,IF(C32=70,(K32+F32)/2.8,""))) | O32: =IF(C32=100,F32/4,IF(C32=150,F32/6,IF(C32=70,F32/2.8,""))) | P32: =IF(O32="","",O32/25)
A33: NOIX DE ST JACQUES S/C CLEARWA 10/20/LBS 1KG | B33: BRAKE | E33: =F33/1000 -> 0.036 | F33: 36 | G33: =D33*F33 -> 0 | H33: 4 | I33: =IF(C33=100,L33/4,IF(C33=150,J33/6,"")) | J33: =IF(C33=150,F33*H33-F33,"") | K33: =IF(C33=70,F33*H33-F33,"") | L33: =IF(C33=100,F33*H33-F33,"") | M33: =G33*H33-G33 -> 0 | N33: =IF(C33=100,(L33+F33)/4,IF(C33=150,(J33+F33)/6,IF(C33=70,(K33+F33)/2.8,""))) | O33: =IF(C33=100,F33/4,IF(C33=150,F33/6,IF(C33=70,F33/2.8,""))) | P33: =IF(O33="","",O33/25)
A34: NOIX ST JACQUES S/MER CAN S/C10-20LB | B34: DS Restauration | F34: 30 | G34: =D34*F34 -> 0 | H34: 4 | I34: =IF(C34=100,L34/4,IF(C34=150,J34/6,"")) | J34: =IF(C34=150,F34*H34-F34,"") | K34: =IF(C34=70,F34*H34-F34,"") | L34: =IF(C34=100,F34*H34-F34,"") | M34: =G34*H34-G34 -> 0 | N34: =IF(C34=100,(L34+F34)/4,IF(C34=150,(J34+F34)/6,IF(C34=70,(K34+F34)/2.8,""))) | O34: =IF(C34=100,F34/4,IF(C34=150,F34/6,IF(C34=70,F34/2.8,""))) | P34: =IF(O34="","",O34/25)
A35: PAVE CABILLAUD A/P QSA 180G CT 3,6KG | B35: BRAKE | E35: =F35/3600 -> 0.002775 | F35: 9.99 | G35: =D35*F35 -> 0 | H35: 4 | I35: =IF(C35=100,L35/4,IF(C35=150,J35/6,"")) | J35: =IF(C35=150,F35*H35-F35,"") | K35: =IF(C35=70,F35*H35-F35,"") | L35: =IF(C35=100,F35*H35-F35,"") | M35: =G35*H35-G35 -> 0 | N35: =IF(C35=100,(L35+F35)/4,IF(C35=150,(J35+F35)/6,IF(C35=70,(K35+F35)/2.8,""))) | O35: =IF(C35=100,F35/4,IF(C35=150,F35/6,IF(C35=70,F35/2.8,""))) | P35: =IF(O35="","",O35/25)
A36: PAVEE DE SAUMON FUMEE FICELLE 800G 6PC*5ST | B36: BRAKE | E36: =F36/800 -> 0.0437375 | F36: 34.99 | G36: =D36*F36 -> 0 | H36: 4 | I36: =IF(C36=100,L36/4,IF(C36=150,J36/6,"")) | J36: =IF(C36=150,F36*H36-F36,"") | K36: =IF(C36=70,F36*H36-F36,"") | L36: =IF(C36=100,F36*H36-F36,"") | M36: =G36*H36-G36 -> 0 | N36: =IF(C36=100,(L36+F36)/4,IF(C36=150,(J36+F36)/6,IF(C36=70,(K36+F36)/2.8,""))) | O36: =IF(C36=100,F36/4,IF(C36=150,F36/6,IF(C36=70,F36/2.8,""))) | P36: =IF(O36="","",O36/25)
A37: PAVEE SAUMON ATL.A/P QSA 150G 20PCENV 3KG | B37: BRAKE | E37: =F37/3000 -> 0.0039966667 | F37: 11.99 | G37: =D37*F37 -> 0 | H37: 4 | I37: =IF(C37=100,L37/4,IF(C37=150,J37/6,"")) | J37: =IF(C37=150,F37*H37-F37,"") | K37: =IF(C37=70,F37*H37-F37,"") | L37: =IF(C37=100,F37*H37-F37,"") | M37: =G37*H37-G37 -> 0 | N37: =IF(C37=100,(L37+F37)/4,IF(C37=150,(J37+F37)/6,IF(C37=70,(K37+F37)/2.8,""))) | O37: =IF(C37=100,F37/4,IF(C37=150,F37/6,IF(C37=70,F37/2.8,""))) | P37: =IF(O37="","",O37/25)
A38: ROUGET 100/200 COTE OPALE | B38: MERICQ | F38: 5.29 | G38: =D38*F38 -> 0 | H38: 4 | I38: =IF(C38=100,L38/4,IF(C38=150,J38/6,"")) | J38: =IF(C38=150,F38*H38-F38,"") | K38: =IF(C38=70,F38*H38-F38,"") | L38: =IF(C38=100,F38*H38-F38,"") | M38: =G38*H38-G38 -> 0 | N38: =IF(C38=100,(L38+F38)/4,IF(C38=150,(J38+F38)/6,IF(C38=70,(K38+F38)/2.8,""))) | O38: =IF(C38=100,F38/4,IF(C38=150,F38/6,IF(C38=70,F38/2.8,""))) | P38: =IF(O38="","",O38/25)
A39: TRANCHETTE SAUMON FUMEE DECONGELEE | B39: BRAKE | F39: 14.5 | G39: =D39*F39 -> 0 | H39: 4 | I39: =IF(C39=100,L39/4,IF(C39=150,J39/6,"")) | J39: =IF(C39=150,F39*H39-F39,"") | K39: =IF(C39=70,F39*H39-F39,"") | L39: =IF(C39=100,F39*H39-F39,"") | M39: =G39*H39-G39 -> 0 | N39: =IF(C39=100,(L39+F39)/4,IF(C39=150,(J39+F39)/6,IF(C39=70,(K39+F39)/2.8,""))) | O39: =IF(C39=100,F39/4,IF(C39=150,F39/6,IF(C39=70,F39/2.8,""))) | P39: =IF(O39="","",O39/25)
H40: 4
...

Sheet BOF
A1: Pdts laitiers | B1: Fournisseurs | C1: Quantité en kg | D1: Quantité | E1: Prix/pièce | F1: Prix/grammes/cl | G1: P.U HT | H1: Prix total | I1: Taux marge | N1: Marge total | O1: Prix de revente minimum | Q1: Coût/kg
A2: 1K082 88 TRANCHE CHEDDAR FONDU | B2: PROMOCASH | F2: =G2/1082 -> 0.0071626617 | G2: 7.75 | I2: 4
A3: 1KG FROMAGE FRAIS 40% VIETTE | B3: PROMOCASH | F3: =G3/1000 -> 0.00261 | G3: 2.61 | I3: 4
A4: 1KG JAUNE D'ŒUF NATURE ABCD | B4: PROMOCASH | F4: =G4/1000 -> 0.00585 | G4: 5.85 | I4: 4
A5: 240G STE MAURE AFFINE S/F POIT | B5: PROMOCASH | F5: =G5/240 -> 0.0175 | G5: 4.2 | I5: 4
A6: 250G STE MAURE DE TOURAINE | B6: PROMOCASH | F6: =G6/250 -> 0.01656 | G6: 4.14 | I6: 4
A7: 30 ŒUF 53/63G CALIBRE MOYEN | B7: PROMOCASH | E7: =G7/30 -> 0.12533333 | G7: 3.76 | I7: 4
A8: 450G REBLOCHON LAIT.AOC 25% EC | B8: PROMOCASH | F8: =G8/450 -> 0.011088889 | G8: 4.99 | I8: 4
A9: 500G BEURRE DOUX SAVENAY | B9: PROMOCASH | F9: =G9/500 -> 0.00424 | G9: 2.12 | I9: 4
A10: 500G MASCARPONE CASA AZZURRA | B10: PROMOCASH | F10: =G10/500 -> 0.00926 | G10: 4.63 | I10: 4
A11: 500G MASCARPONE EN CUISINE | B11: PROMOCASH | F11: =G11/500 -> 0.00762 | G11: 3.81 | I11: 4
A12: 500G PARMESAN REGGIANO RAPE | B12: PROMOCASH | F12: =G12/500 -> 0.02372 | G12: 11.86 | I12: 4
A13: 6*280G STE MAURE CAPRIFEUIL S&B | B13: PROMOCASH | F13: =G13/(6*280) -> 0.020107143 | G13: 33.78 | I13: 4
A14: 60 ŒUF 53/63G CALIBRE MOYEN | B14: PROMOCASH | E14: =G14/60 -> 0.1295 | G14: 7.77 | I14: 4
A15: Beurre 1/2sel POMMERAIE. TRIB | B15: AUMAND | G15: 4.99 | H15: =D15*G15 -> 0 | I15: 4 | J15: =IF(C15=100,M15/4,IF(C15=150,K15/6,"")) | K15: =IF(C15=150,G15*I15-G15,"") | L15: =IF(C15=70,G15*I15-G15,"") | M15: =IF(C15=100,G15*I15-G15,"") | N15: =H15*I15-H15 -> 0 | O15: =IF(C15=100,(M15+G15)/4,IF(C15=150,(K15+G15)/6,IF(C15=70,(L15+G15)/2.8,""))) | P15: =IF(C15=100,G15/4,IF(C15=150,G15/6,IF(C15=70,G15/2.8,""))) | Q15: =IF(P15="","",P15/25)
A16: Beurre doux EX.POMMERAIE.TRIB | B16: AUMAND | G16: 4.99 | H16: =D16*G16 -> 0 | I16: 4 | J16: =IF(C16=100,M16/4,IF(C16=150,K16/6,"")) | K16: =IF(C16=150,G16*I16-G16,"") | L16: =IF(C16=70,G16*I16-G16,"") | M16: =IF(C16=100,G16*I16-G16,"") | N16: =H16*I16-H16 -> 0 | O16: =IF(C16=100,(M16+G16)/4,IF(C16=150,(K16+G16)/6,IF(C16=70,(L16+G16)/2.8,""))) | P16: =IF(C16=100,G16/4,IF(C16=150,G16/6,IF(C16=70,G16/2.8,""))) | Q16: =IF(P16="","",P16/25)
A17: BEURRE MICROPAIN 1/2S 10G | B17: AUMAND | G17: 5.92 | H17: =D17*G17 -> 0 | I17: 4 | J17: =IF(C17=100,M17/4,IF(C17=150,K17/6,"")) | K17: =IF(C17=150,G17*I17-G17,"") | L17: =IF(C17=70,G17*I17-G17,"") | M17: =IF(C17=100,G17*I17-G17,"") | N17: =H17*I17-H17 -> 0 | O17: =IF(C17=100,(M17+G17)/4,IF(C17=150,(K17+G17)/6,IF(C17=70,(L17+G17)/2.8,""))) | P17: =IF(C17=100,G17/4,IF(C17=150,G17/6,IF(C17=70,G17/2.8,""))) | Q17: =IF(P17="","",P17/25)
A18: BLANC ŒUF LIQUIDE 1K OVIPAC | B18: AUMAND | F18: =G18/1000 -> 0.00329 | G18: 3.29 | H18: =D18*G18 -> 0 | I18: 4 | J18: =IF(C18=100,M18/4,IF(C18=150,K18/6,"")) | K18: =IF(C18=150,G18*I18-G18,"") | L18: =IF(C18=70,G18*I18-G18,"") | M18: =IF(C18=100,G18*I18-G18,"") | N18: =H18*I18-H18 -> 0 | O18: =IF(C18=100,(M18+G18)/4,IF(C18=150,(K18+G18)/6,IF(C18=70,(L18+G18)/2.8,""))) | P18: =IF(C18=100,G18/4,IF(C18=150,G18/6,IF(C18=70,G18/2.8,""))) | Q18: =IF(P18="","",P18/25)
A19: BOUCHEE CAMEMBERT BKE 1KG 6ST | B19: BRAKE | F19: =G19/1000 -> 0.0105 | G19: 10.5 | I19: 4
A20: BRICK 1L CREME UHT 30% BAIGNES | B20: PROMOCASH | F20: =G20/100 -> 0.0219 | G20: 2.19 | I20: 4
A21: BRIE DE MAUX AOP 22% | B21: BRAKE | G21: 13 | H21: =D21*G21 -> 0 | I21: 4 | J21: =IF(C21=100,M21/4,IF(C21=150,K21/6,"")) | K21: =IF(C21=150,G21*I21-G21,"") | L21: =IF(C21=70,G21*I21-G21,"") | M21: =IF(C21=100,G21*I21-G21,"") | N21: =H21*I21-H21 -> 0 | O21: =IF(C21=100,(M21+G21)/4,IF(C21=150,(K21+G21)/6,IF(C21=70,(L21+G21)/2.8,""))) | P21: =IF(C21=100,G21/4,IF(C21=150,G21/6,IF(C21=70,G21/2.8,""))) | Q21: =IF(P21="","",P21/25)
A22: CHEDDAR FONDU 25% | B22: AUMAND | G22: 9.59 | H22: =D22*G22 -> 0 | I22: 4 | J22: =IF(C22=100,M22/4,IF(C22=150,K22/6,"")) | K22: =IF(C22=150,G22*I22-G22,"") | L22: =IF(C22=70,G22*I22-G22,"") | M22: =IF(C22=100,G22*I22-G22,"") | N22: =H22*I22-H22 -> 0 | O22: =IF(C22=100,(M22+G22)/4,IF(C22=150,(K22+G22)/6,IF(C22=70,(L22+G22)/2.8,""))) | P22: =IF(C22=100,G22/4,IF(C22=150,G22/6,IF(C22=70,G22/2.8,""))) | Q22: =IF(P22="","",P22/25)
A23: CHEVRE LONG CENDRE 280G BOCAIN | B23: AUMAND | F23: =G23/280 -> 0.013928571 | G23: 3.9 | H23: =D23*G23 -> 0 | I23: 4 | J23: =IF(C23=100,M23/4,IF(C23=150,K23/6,"")) | K23: =IF(C23=150,G23*I23-G23,"") | L23: =IF(C23=70,G23*I23-G23,"") | M23: =IF(C23=100,G23*I23-G23,"") | N23: =H23*I23-H23 -> 0 | O23: =IF(C23=100,(M23+G23)/4,IF(C23=150,(K23+G23)/6,IF(C23=70,(L23+G23)/2.8,""))) | P23: =IF(C23=100,G23/4,IF(C23=150,G23/6,IF(C23=70,G23/2.8,""))) | Q23: =IF(P23="","",P23/25)
A24: CHEVRE LONG FRAIS 280G BOCAIN | B24: AUMAND | F24: =G24/280 -> 0 | H24: =D24*G24 -> 0 | I24: 4 | J24: =IF(C24=100,M24/4,IF(C24=150,K24/6,"")) | K24: =IF(C24=150,G24*I24-G24,"") | L24: =IF(C24=70,G24*I24-G24,"") | M24: =IF(C24=100,G24*I24-G24,"") | N24: =H24*I24-H24 -> 0 | O24: =IF(C24=100,(M24+G24)/4,IF(C24=150,(K24+G24)/6,IF(C24=70,(L24+G24)/2.8,""))) | P24: =IF(C24=100,G24/4,IF(C24=150,G24/6,IF(C24=70,G24/2.8,""))) | Q24: =IF(P24="","",P24/25)
A25: COMTE 32TR BAGUETTE 29% 480G ENTR. | B25: AUMAND | F25: =G25/480 -> 0.013541667 | G25: 6.5 | H25: =D25*G25 -> 0 | I25: 4 | J25: =IF(C25=100,M25/4,IF(C25=150,K25/6,"")) | K25: =IF(C25=150,G25*I25-G25,"") | L25: =IF(C25=70,G25*I25-G25,"") | M25: =IF(C25=100,G25*I25-G25,"") | N25: =H25*I25-H25 -> 0 | O25: =IF(C25=100,(M25+G25)/4,IF(C25=150,(K25+G25)/6,IF(C25=70,(L25+G25)/2.8,""))) | P25: =IF(C25=100,G25/4,IF(C25=150,G25/6,IF(C25=70,G25/2.8,""))) | Q25: =IF(P25="","",P25/25)
A26: COMTE B.VERTE 35% 14M MIN 2-3KG | B26: BRAKE | F26: =G26/2500 -> 0.0068 | G26: 17 | H26: =D26*G26 -> 0 | I26: 4 | J26: =IF(C26=100,M26/4,IF(C26=150,K26/6,"")) | K26: =IF(C26=150,G26*I26-G26,"") | L26: =IF(C26=70,G26*I26-G26,"") | M26: =IF(C26=100,G26*I26-G26,"") | N26: =H26*I26-H26 -> 0 | O26: =IF(C26=100,(M26+G26)/4,IF(C26=150,(K26+G26)/6,IF(C26=70,(L26+G26)/2.8,""))) | P26: =IF(C26=100,G26/4,IF(C26=150,G26/6,IF(C26=70,G26/2.8,""))) | Q26: =IF(P26="","",P26/25)
A27: COMTE BLOC 45% 2K5 ENTREMONT | B27: AUMAND | F27: =G27/2500 -> 0.004996 | G27: 12.49 | I27: 4
A28: CREAM CHEESE 25,5% 1K E&V | B28: BRAKE | F28: =G28/1000 -> 0.00895 | G28: 8.95 | H28: =D28*G28 -> 0 | I28: 4 | J28: =IF(C28=100,M28/4,IF(C28=150,K28/6,"")) | K28: =IF(C28=150,G28*I28-G28,"") | L28: =IF(C28=70,G28*I28-G28,"") | M28: =IF(C28=100,G28*I28-G28,"") | N28: =H28*I28-H28 -> 0 | O28: =IF(C28=100,(M28+G28)/4,IF(C28=150,(K28+G28)/6,IF(C28=70,(L28+G28)/2.8,""))) | P28: =IF(C28=100,G28/4,IF(C28=150,G28/6,IF(C28=70,G28/2.8,""))) | Q28: =IF(P28="","",P28/25)
A29: CREME MASCARPONE 35% 500G P.INT | B29: AUMAND | F29: =G29/500 -> 0.00678 | G29: 3.39 | I29: 4
A30: Crème UHT 34% VAL DE SAIRE | B30: AUMAND | G30: 2.95 | H30: =D30*G30 -> 0 | I30: 4 | J30: =IF(C30=100,M30/4,IF(C30=150,K30/6,"")) | K30: =IF(C30=150,G30*I30-G30,"") | L30: =IF(C30=70,G30*I30-G30,"") | M30: =IF(C30=100,G30*I30-G30,"") | N30: =H30*I30-H30 -> 0 | O30: =IF(C30=100,(M30+G30)/4,IF(C30=150,(K30+G30)/6,IF(C30=70,(L30+G30)/2.8,""))) | P30: =IF(C30=100,G30/4,IF(C30=150,G30/6,IF(C30=70,G30/2.8,""))) | Q30: =IF(P30="","",P30/25)
A31: EMMENTAL RAPEE 45% | B31: AUMAND | G31: 5.89 | H31: =D31*G31 -> 0 | I31: 4 | J31: =IF(C31=100,M31/4,IF(C31=150,K31/6,"")) | K31: =IF(C31=150,G31*I31-G31,"") | L31: =IF(C31=70,G31*I31-G31,"") | M31: =IF(C31=100,G31*I31-G31,"") | N31: =H31*I31-H31 -> 0 | O31: =IF(C31=100,(M31+G31)/4,IF(C31=150,(K31+G31)/6,IF(C31=70,(L31+G31)/2.8,""))) | P31: =IF(C31=100,G31/4,IF(C31=150,G31/6,IF(C31=70,G31/2.8,""))) | Q31: =IF(P31="","",P31/25)
A32: FOURME D'AMBERT AOP 27% | B32: BRAKE | G32: 9.6 | H32: =D32*G32 -> 0 | I32: 4 | J32: =IF(C32=100,M32/4,IF(C32=150,K32/6,"")) | K32: =IF(C32=150,G32*I32-G32,"") | L32: =IF(C32=70,G32*I32-G32,"") | M32: =IF(C32=100,G32*I32-G32,"") | N32: =H32*I32-H32 -> 0 | O32: =IF(C32=100,(M32+G32)/4,IF(C32=150,(K32+G32)/6,IF(C32=70,(L32+G32)/2.8,""))) | P32: =IF(C32=100,G32/4,IF(C32=150,G32/6,IF(C32=70,G32/2.8,""))) | Q32: =IF(P32="","",P32/25)
A33: FROMAGE BLANC LISSE | B33: BRAKE | G33: 2 | I33: 4
A34: Fromage frais batttu MONTEBOURG | B34: AUMAND | G34: 2.69 | H34: =D34*G34 -> 0 | I34: 4 | J34: =IF(C34=100,M34/4,IF(C34=150,K34/6,"")) | K34: =IF(C34=150,G34*I34-G34,"") | L34: =IF(C34=70,G34*I34-G34,"") | M34: =IF(C34=100,G34*I34-G34,"") | N34: =H34*I34-H34 -> 0 | O34: =IF(C34=100,(M34+G34)/4,IF(C34=150,(K34+G34)/6,IF(C34=70,(L34+G34)/2.8,""))) | P34: =IF(C34=100,G34/4,IF(C34=150,G34/6,IF(C34=70,G34/2.8,""))) | Q34: =IF(P34="","",P34/25)
A35: FROMMAGE DE CHEVRE FRAIS 8% | B35: BRAKE | G35: 19.5 | I35: 4
