Workbook
Name accessoire: Table11[]
Name amplificateur: Table7[]
Name basse: Table5[]
Name cable: Table10[]
Name guitare: Table42[]
Name GUITARE2: #REF!
Name Slicer_budget: #N/A
Name Slicer_budget1: #N/A
Name Slicer_cordes: #N/A
Name Slicer_corps: #N/A
Name Slicer_couleur: #N/A
Name Slicer_couleur1: #N/A
Name Slicer_format: #N/A
Name Slicer_gaucher: #N/A
Name Slicer_gaucher1: #N/A
Name Slicer_junior: #N/A
Name Slicer_Junior1: #N/A
Name Slicer_marque: #N/A
Name Slicer_marque1: #N/A
Name Slicer_micro: #N/A
Name Slicer_style: #N/A
Name Slicer_type: #N/A
Name Slicer_type1: #N/A
Name ukulele: Table6[]

Sheet moteur de recherche
A1: quel type de produit recherchez-vous ?
A3: faire apparaître les autres questions
A5: puis la liste | B5: …
B6: une puce spécifique pour les produits en stock et ceux qui ne le sont pas
A8: trier par prix (croissant ou de) ou en fonction de l'avis client (decroi)
A9: afficher uniquement les produits en stock si on le souhaite

Sheet bdd
A2: Guitare | B2: type | C2: marque | D2: style | E2: micro | F2: corps | G2: couleur | H2: cordes | I2: junior | J2: gaucher | K2: budget | M2: Basse | N2: type | O2: format | P2: marque | Q2: couleur | R2: Junior | S2: gaucher | T2: budget | V2: Ukulele | W2: Type | X2: Marque | Y2: Budget | AB2: Câble | AC2: type | AD2: marque | AE2: budget | AG2: accessoire | AH2: type | AI2: marque | AJ2: budget
A3: MBC- Matthew Bellamy | B3: électrique | C3: Cort | D3: rock | E3: autre | F3: plein | G3: noir | H3: 6 | I3: non | J3: non | K3: 547 | M3: SJB6FX | N3: accoustique | O3: jumbo | P3: Cort | Q3: natural | R3: non | S3: non | T3: 649 | V3: UKS10 | W3: Acoustique | X3: Ibanez | Y3: 89 | AB3: Monster Cable Acoustic 3.65m | AC3: acoustique | AD3: Monster Cable | AE3: 93 | AG3: CA-40 | AH3: accordeur | AI3: Korg | AJ3: 19
A4: Les Paul 100 | B4: électrique | C4: Epiphone | D4: blues | E4: double | F4: plein | G4: sunburst | H4: 6 | I4: non | J4: oui | K4: 289 | M4: AEB8E_BK | N4: accoustique | O4: avec frettes | P4: Ibanez | Q4: noir | R4: non | S4: non | T4: 429 | V4: Guitalélé GL1 | W4: Acoustique | X4: Yamaha | Y4: 69 | AB4: Monster Cable Acoustic 3.65m Coudé | AC4: acoustique | AD4: Monster Cable | AE4: 93 | AG4: TU-1000 stage tuner | AH4: accordeur | AI4: Roland | AJ4: 249
A5: Casino | B5: électrique | C5: Epiphone | D5: autre | E5: simple | F5: creux | G5: rouge | H5: 6 | I5: non | J5: non | K5: 619 | M5: CB-100CE Bass | N5: accoustique | O5: avec frettes | P5: Fender | Q5: natural | R5: non | S5: non | T5: 435 | V5: Ukulele Nohea | W5: Acoustique | X5: Fender | Y5: 295 | AB5: Monster Cable Acoustic 6.4m Coudé | AC5: acoustique | AD5: Monster Cable | AE5: 116 | AG5: Polytune 2 | AH5: accordeur | AI5: TC Electronic | AJ5: 79
A6: Les Paul Standard 2016 T | B6: électrique | C6: Epiphone | D6: blues | E6: double | F6: plein | G6: noir | H6: 6 | I6: non | J6: non | K6: 599 | M6: Kingman Bass SCE Upgraded | N6: accoustique | O6: avec frettes | P6: Fender | Q6: natural | R6: non | S6: oui | T6: 549 | V6: G9120-SK Tenor Koa Ukulele | W6: Acoustique | X6: Grestch | Y6: 529 | AB6: Vox Câble Guitare Acoustique 4m | AC6: acoustique | AD6: Vox | AE6: 27 | AG6: beat boy | AH6: accordeur | AI6: Korg | AJ6: 89
A7: 1984 Explorer | B7: électrique | C7: Epiphone | D7: metal | E7: double | F7: plein | G7: noir | H7: 6 | I7: non | J7: non | K7: 719 | M7: SJB6FX | N7: accoustique | O7: avec frettes | P7: Cort | Q7: natural | R7: non | S7: non | T7: 649 | V7: Ukulélé 2KC | W7: Acoustique | X7: Martin & Co | Y7: 1999 | AB7: Yello Cable Adaptateur Jack Stereo / Mini Jack Stereo (Par 2 pièces) | AC7: adaptateurs | AD7: Yellow Cable | AE7: 5 | AG7: 202 Verre | AH7: bottleneck | AI7: Dunlop | AJ7: 6
A8: Rs720b | B8: électrique | C8: Yamaha | D8: blues | E8: double | F8: plein | G8: gris | H8: 6 | I8: non | J8: non | K8: 999 | M8: TB10 | N8: accoustique | O8: fretless | P8: Takamine | Q8: natural | R8: non | S8: non | T8: 2769 | V8: UEW5 Soprano | W8: Electro-acoustique | X8: Ibanez | Y8: 119 | AB8: Leem Jack Mono to RCA | AC8: adaptateurs | AD8: Leem | AE8: 1 | AG8: 211 Verre | AH8: bottleneck | AI8: Dunlop | AJ8: 9
A9: 1954 Heavy Relic | B9: électrique | C9: Fender | D9: rock | E9: simple | F9: plein | G9: sunburst | H9: 6 | I9: non | J9: non | K9: 4299 | M9: EB-0 Bass | N9: électrique | O9: avec frettes | P9: Epiphone | Q9: rouge | R9: non | S9: oui | T9: 239 | V9: Ukulele 52 | W9: Electro-acoustique | X9: Fender | Y9: 215 | AB9: Yellow Cable Adaptateur Jack Mono / Mini Jack Mono (par 2 pièces) | AC9: adaptateurs | AD9: Yellow Cable | AE9: 5 | AG9: 256 Joe Perry | AH9: bottleneck | AI9: Dunlop | AJ9: 30
A10: Standard Stratocaster | B10: électrique | C10: Fender | D10: rock | E10: simple | F10: plein | G10: rouge | H10: 6 | I10: non | J10: non | K10: 669 | M10: Action | N10: électrique | O10: avec frettes | P10: Cort | Q10: noir | R10: non | S10: non | T10: 199 | V10: Ukulele Soprano LP1E Electro | W10: Electro-acoustique | X10: Mahalo | Y10: 94 | AB10: Yellow Cable Adaptateur Jack Mono Femelle / Jack Mono Femelle (x2) | AC10: adaptateurs | AD10: Yellow Cable | AE10: 4 | AG10: 928 Ben Harper | AH10: bottleneck | AI10: Dunlop | AJ10: 53
A11: Jazzmatser pro | B11: électrique | C11: Fender | D11: jazz | E11: double | F11: plein | G11: blanc | H11: 6 | I11: non | J11: oui | K11: 4099 | M11: Action Junior | N11: électrique | O11: avec frettes | P11: Cort | Q11: noir | R11: non | S11: non | T11: 219 | AB11: Yellow Cable Adaptateur Mini Jack Stereo / Jack Stereo (par 2 pièces) | AC11: adaptateurs | AD11: Yellow Cable | AE11: 5 | AG11: Classic 14 | AH11: capodastre | AI11: Dunlop | AJ11: 9
A12: Hendrix Stratocaster | B12: électrique | C12: Fender | D12: metal | E12: double | F12: plein | G12: blanc | H12: 6 | I12: non | J12: oui | K12: 979 | M12: Bronco Bass | N12: électrique | O12: avec frettes | P12: Squier | Q12: rouge | R12: non | S12: non | T12: 240 | V12: Amplificateur | W12: Type | X12: Marque | Y12: Puissance | Z12: Budget | AB12: Fender California Speaker Cable 1.5m Speakon | AC12: ampli | AD12: Fender | AE12: 39 | AG12: Trigger 87N | AH12: capodastre | AI12: Dunlop | AJ12: 24
A13: GRG140-SB | B13: électrique | C13: Ibanez | D13: rock | E13: autre | F13: plein | G13: noir | H13: 6 | I13: non | J13: non | K13: 209 | M13: Viola Bass | N13: électrique | O13: avec frettes | P13: Epiphone | Q13: natural | R13: non | S13: non | T13: 389 | V13: MB15 Combo Bass 15W | W13: Basse | X13: Marshall | Y13: 15 | Z13: 159 | AB13: Vovox Sonorus Drive Cable Ampli 1m | AC13: ampli | AD13: Vox | AE13: 78 | AG13: Gator House Nylon | AH13: housse | AI13: Gator | AJ13: 24
A14: Steve vai | B14: électrique | C14: Ibanez | D14: rock | E14: double | F14: plein | G14: blanc | H14: 6 | I14: non | J14: non | K14: 2699 | M14: Thunderbrid Classic IV (Gibson Pickups) | N14: électrique | O14: avec frettes | P14: Epiphone | Q14: blanc | R14: non | S14: non | T14: 559 | V14: Mini CMD 121 P | W14: Basse | X14: Mark Bass | Y14: 300 | Z14: 799 | AB14: Cable HP 90cm Speakon-Jack Embout Neutrik | AC14: ampli | AD14: Orange | AE14: 38 | AG14: Gator House cobra | AH14: housse | AI14: Gator | AJ14: 59
A15: ES-339 | B15: électrique | C15: Gibson | D15: blues | E15: simple | F15: creux | G15: sunburst | H15: 6 | I15: non | J15: oui | K15: 2689 | M15: Action Bass 6 Cordes | N15: électrique | O15: avec frettes | P15: Cort | Q15: noir | R15: non | S15: non | T15: 319 | V15: Blacksmith | W15: Basse | X15: TC Electronic | Y15: 1600 | Z15: 1699 | AB15: EPW G15 | AC15: ampli | AD15: Planet Waves | AE15: 23 | AG15: Reunion Blues | AH15: housse | AI15: Fender | AJ15: 185
A16: 360/12 | B16: électrique | C16: Rickenbacker | D16: blues | E16: simple | F16: creux | G16: rouge | H16: 12 | I16: non | J16: non | K16: 3391 | M16: SR Standard Series - SR600-NTF | N16: électrique | O16: avec frettes | P16: Ibanez | Q16: crème | R16: non | S16: oui | T16: 669 | V16: Little Mark 250 Black Line | W16: Basse | X16: Mark Bass | Y16: 150 | Z16: 299 | AB16: GKC-10 Câble Pour GK 10m | AC16: ampli | AD16: Roland | AE16: 65 | AG16: F Med | AH16: mediator | AI16: Fender | AJ16: 0.5
A17: CD 160 SE-12 | B17: acoustique | C17: Fender | D17: blues | E17: autre | F17: creux | G17: natural | H17: 12 | I17: non | J17: non | K17: 549 | M17: 50s Precision Bass | N17: électrique | O17: avec frettes | P17: Fender | Q17: crème | R17: non | S17: non | T17: 1089 | V17: AmPlug2 Classic Rock | W17: Electrique | X17: Vox | Y17: 100 | Z17: 50 | AB17: GKC-5 Câble Pour GK 5m | AC17: ampli | AD17: Roland | AE17: 49 | AG17: Pack de 12 Tortex 0,6mm | AH17: mediator | AI17: Dunlop | AJ17: 6
A18: AW7012 NT12 | B18: acoustique | C18: Ibanez | D18: blues | E18: autre | F18: creux | G18: natural | H18: 12 | I18: non | J18: non | K18: 299 | M18: 50s Precision Bass | N18: électrique | O18: avec frettes | P18: Fender | Q18: rouge | R18: non | S18: non | T18: 1089 | V18: DV Jazz 12 Combo | W18: Electrique | X18: DV Mark | Y18: 60 | Z18: 459 | AB18: Yellow Cable Cordon Secteur + Terre | AC18: audio | AD18: Yellow Cable | AE18: 5 | AG18: Pack de 12 Tortex 0,73mm | AH18: mediator | AI18: Dunlop | AJ18: 6
A19: Villager 12 | B19: acoustique | C19: Fender | D19: autre | E19: autre | F19: creux | G19: natural | H19: 12 | I19: non | J19: non | K19: 475 | M19: A4 | N19: électrique | O19: avec frettes | P19: Cort | Q19: crème | R19: non | S19: non | T19: 779 | V19: HT Metal 1 Combo 1W | W19: Electrique | X19: Blackstar | Y19: 1 | Z19: 311 | AB19: Yellow Cable 2 J/Male 1 J/Male Stereo 3M | AC19: audio | AD19: Yellow Cable | AE19: 8 | AG19: Pack de 12 Tortex 0,88mm | AH19: mediator | AI19: Dunlop | AJ19: 6
A20: Guitalele GL1 | B20: acoustique | C20: Yamaha | D20: autre | E20: autre | F20: creux | G20: natural | H20: 6 | I20: oui | J20: non | K20: 79 | M20: American Standard Precision Bass | N20: électrique | O20: avec frettes | P20: Fender | Q20: noir | R20: non | S20: non | T20: 1779 | V20: Spider IV 15 | W20: Electrique | X20: Line 6 | Y20: 15 | Z20: 99 | AB20: Yellow Cable Bretelle 2 J/Fem 1 J/Male | AC20: audio | AD20: Yellow Cable | AE20: 5 | AG20: Dugain Or | AH20: mediator | AI20: Dugain | AJ20: 40.7
A21: C40 | B21: acoustique | C21: Yamaha | D21: autre | E21: autre | F21: creux | G21: natural | H21: 6 | I21: non | J21: non | K21: 119 | M21: Adam Calyton Jazz Bass | N21: électrique | O21: avec frettes | P21: Fender | Q21: vert | R21: non | S21: non | T21: 2079 | V21: DV AC 101 | W21: Electro-acoustique | X21: DV Mark | Y21: 45 | Z21: 799 | AB21: GuitarLink Plus Câble Usb Jack | AC21: audio | AD21: Alesis | AE21: 39.6 | AG21: Strap Monogrammed | AH21: sangle | AI21: Fender | AJ21: 16
A22: AE10NII BK | B22: acoustique | C22: Ibanez | D22: autre | E22: autre | F22: creux | G22: rouge | H22: 6 | I22: non | J22: non | K22: 419 | M22: American Standard Precision Bass V | N22: électrique | O22: avec frettes | P22: Fender | Q22: noir | R22: non | S22: non | T22: 1989 | V22: AS100D | W22: Electro-acoustique | X22: Marshall | Y22: 100 | Z22: 737 | AB22: MicLink Câble Usb XLR | AC22: audio | AD22: Alesis | AE22: 33 | AG22: Deluxe Vintage | AH22: sangle | AI22: Fender | AJ22: 27
A23: F310 | B23: folk | C23: Yamaha | D23: autre | E23: autre | F23: creux | G23: natural | H23: 6 | I23: non | J23: non | K23: 129 | M23: 4003FG | N23: électrique | O23: avec frettes | P23: Rickenbacker | Q23: noir | R23: non | S23: non | T23: 2465 | V23: T15 Troubadour | W23: Electro-acoustique | X23: Ibanez | Y23: 15 | Z23: 99 | AB23: Yellow Cable 2 J/Male 2 J/Male 3M | AC23: audio | AD23: Yellow Cable | AE23: 8 | AG23: Montana cuir | AH23: sangle | AI23: Gibson | AJ23: 70
A24: J45 | B24: folk | C24: Gibson | D24: autre | E24: autre | F24: creux | G24: natural | H24: 6 | I24: non | J24: non | K24: 2299 | M24: Assat | N24: électrique | O24: avec frettes | P24: G & L | Q24: jaune | R24: non | S24: non | T24: 1859 | V24: THR5A Acoustic | W24: Electro-acoustique | X24: Yamaha | Y24: 5 | Z24: 199 | AB24: Monster Cable Bass 6.4M | AC24: basse | AD24: Monster Cable | AE24: 63.5 | AG24: Sangle Switchable | AH24: sangle | AI24: Gibson | AJ24: 100
A25: 10th anniversary CJ32 | B25: folk | C25: Yamaha | D25: blues | E25: simple | F25: creux | G25: noir | H25: 6 | I25: non | J25: non | K25: 3199 | M25: BB2024 | N25: électrique | O25: avec frettes | P25: Yamaha | Q25: noir | R25: non | S25: non | T25: 2949 | V25: JC12N 12" Vintage Ceramic | W25: HP | X25: Jensen | Y25: 50 | Z25: 100 | AB25: Monster Cable Jack Bass 3.65m | AC25: basse | AD25: Monster Cable | AE25: 52
A26: Trio Malibu | B26: folk | C26: Fender | D26: autre | E26: autre | F26: creux | G26: rouge | H26: 6 | I26: non | J26: non | K26: 340 | M26: BB2024X | N26: électrique | O26: avec frettes | P26: Yamaha | Q26: crème | R26: non | S26: non | T26: 3079 | V26: BL10-100X 25cm | W26: HP | X26: Celestion | Y26: 100 | Z26: 59 | AB26: Monster Cable Jack Bass 6.4m Coudé | AC26: basse | AD26: Monster Cable | AE26: 63.5
A27: TCM 50 VBS | B27: électro-acoustique | C27: Ibanez | D27: blues | E27: simple | F27: plein | G27: rouge | H27: 6 | I27: non | J27: non | K27: 329 | M27: Pino Palladino Signature Precision Bass | N27: électrique | O27: avec frettes | P27: Fender | Q27: rouge | R27: non | S27: non | T27: 4599 | V27: Blue Alnico 12" | W27: HP | X27: Celestion | Y27: 15 | Z27: 279 | AB27: Vox Câble Guitare Basse 4m | AC27: basse | AD27: Vox | AE27: 27
A28: hummingbird | B28: électro-acoustique | C28: Epiphone | D28: autre | E28: simple | F28: plein | G28: rouge | H28: 6 | I28: non | J28: non | K28: 329 | M28: Bronco Bass | N28: électrique | O28: avec frettes | P28: Squier | Q28: rouge | R28: oui | S28: non | T28: 239 | AB28: Planet Waves American Stage Jack 6m | AC28: Guitare | AD28: Planet Waves | AE28: 39
A29: Kingman | B29: électro-acoustique | C29: Fender | D29: blues | E29: simple | F29: plein | G29: sunburst | H29: 6 | I29: non | J29: non | K29: 709 | M29: EB-0 Bass | N29: électrique | O29: avec frettes | P29: Epiphone | Q29: rouge | R29: oui | S29: non | T29: 239 | AB29: Lava Cable Patch 20cm (unité) | AC29: Guitare | AD29: Lava Cable | AE29: 24
A30: JR25 | B30: acoustique | C30: Yamaha | D30: autre | E30: autre | F30: creux | G30: natural | H30: 6 | I30: oui | J30: oui | K30: 219 | AB30: MXR Patch Jack 15cm Angle | AC30: Guitare | AD30: MXR | AE30: 10
A31: Korn 20th | B31: électrique | C31: Ibanez | D31: metal | E31: double | F31: plein | G31: noir | H31: autre | I31: non | J31: non | K31: 999 | AB31: Gibson Cherry Instrument Cable 7,6m | AC31: Guitare | AD31: Gibson | AE31: 85
AB32: Fender Micro Cable 4,5m XLR | AC32: Xlr | AD32: Fender | AE32: 22
AB33: Yellow Cable XLR 5M | AC33: Xlr | AD33: Yellow Cable | AE33: 7
AB34: Fender Micro Cable 7,5m XLR | AC34: Xlr | AD34: Fender | AE34: 34
AB35: Fender Micro Cable 3m XLR | AC35: Xlr | AD35: Fender | AE35: 17

Sheet produits
A1: Produits
A2: MBC- Matthew Bellamy
A3: Les Paul 100
A4: Casino
A5: Les Paul Standard 2016 T
A6: 1984 Explorer
A7: Rs720b
A8: 1954 Heavy Relic
A9: Standard Stratocaster
A10: Jazzmatser pro
A11: Hendrix Stratocaster
A12: GRG140-SB
... A135: Sangle Switchable

Sheet Critères (bonne version)
A1: types d'instrument | C1: caractéristiques guitare | G1: caractéristiques basse | K1: caractéristiques ukulele | O1: car. Ampli | R1: car. Câbles | S1: q | U1: car. Accessoires | V1: q
A2: guitare | C2: gaucher | D2: oui | E2: non | G2: gaucher | H2: oui | I2: non | K2: type | L2: acoustique | O2: type | P2: basse | R2: type | S2: acoustique | U2: type | V2: accordeur
A3: basse | C3: junior | D3: oui | E3: non | G3: junior | H3: oui | I3: non | L3: électro-acoustique | P3: électrique | S3: adaptateur | V3: bottleneck
A4: ukulele | P4: électro-acoustique | S4: ampli | V4: capodastre
A5: amplificateur | G5: type | H5: acoustique | K5: budget | L5: 100 | P5: hp | S5: audio | V5: housse
A6: câbles | C6: type | D6: classique | H6: électrique | L6: 200 | S6: basse | V6: mediator
A7: accessoires | D7: électrique | L7: 500 | O7: budget | P7: 100 | S7: guitare | V7: sangle
D8: électro-acoustique | G8: marque | H8: Cort | L8: 1000 | P8: 200 | S8: xlr
D9: folk | H9: Ibanez | L9: 1500 | P9: 500 | U9: budget | V9: 50
H10: Fender | L10: 2000 | P10: 1000 | R10: marque | S10: Monster Cable | V10: 100
C11: marque | D11: Cort | H11: Squier | P11: 1500 | S11: Vox | V11: 250
D12: Epiphone | H12: Takamine | P12: 2000 | S12: Yellow Cable
D13: Yamaha | H13: Epiphone | S13: Leem | U13: marque | V13: Korg
D14: Fender | H14: Rickenbacker | O14: marque | P14: Marshall | S14: Lava Cable | V14: Roland
D15: Ibanez | H15: G & L | P15: Mark Bass | S15: MXR | V15: TC Electronic
D16: Gibson | H16: Yamaha | P16: TC Electronic | S16: Gibson | V16: Korg
D17: Rickenbacker | P17: Vox | S17: Fender | V17: Dunlop
G18: budget | H18: 0 | P18: DV Mark | S18: Alesis | V18: Gator
C19: budget | D19: 0 | H19: 100 | P19: Blackstar | S19: Orange | V19: Fender
D20: 100 | H20: 200 | P20: Line 6 | S20: Planet Waves | V20: Dugain
D21: 200 | H21: 500 | P21: Ibanez | S21: Roland | V21: Gibson
D22: 500 | H22: 1000 | P22: Yamaha
D23: 1000 | H23: 2000 | P23: Jensen | R23: budget | S23: 20
D24: 1500 | H24: 5000 | P24: Celestion | S24: 50
D25: 2500 | S25: 100
D26: 5000 | G26: couleur | H26: natural | O26: puissance | P26: 5 | S26: 100+
H27: noir | P27: 15
C28: style musical | D28: rock | H28: rouge | P28: 30
D29: blues | H29: blanc | P29: 50
D30: metal | H30: crème | P30: 100
D31: jazz | H31: vert | P31: 300
D32: autre | H32: jaune | P32: 300+
C34: micro | D34: simple | G34: format | H34: jumbo
D35: double | H35: fretless
D36: autre | H36: avec frettes
C38: nb de cordes | D38: 6
D39: 12
D40: autre
C42: couleur | D42: noir
D43: sunburst
D44: rouge
D45: gris
D46: blanc
D47: natural
C49: corps | D49: plein
D50: creux

Sheet conseils
A1: Grâce à son expérience, l'équipe Guitarshop vous propose des packs en fonction de vos envies:
B2: faire grincer la guitare comme un vrai métalleux | D2: pack ele +ampli+housse
B3: jouer le blues de la route 66 | D3: guitare blues+ampli+bottleneck
B4: jouer avec un instrument de star | D4: guitares de star
B5: devenir le bassiste d'un groupe mondialement connu | D5: pack basse+ampli+mediator
B6: offrir sa premiere guitare à un enfant | D6: pack guitare junior+housse+mediator

Sheet choix guitare
C1: Guitares
N5: Vous souhaitez acheter un produit ?
N6: faites votre choix : | P6: JR25
A15: Guitare | B15: type | C15: marque | D15: style | E15: micro | F15: corps | G15: couleur | H15: cordes | I15: junior | J15: gaucher | K15: prix | L15: budget
A16: Guitalele GL1 | B16: acoustique | C16: Yamaha | D16: autre | E16: autre | F16: creux | G16: natural | H16: 6 | I16: oui | J16: non | K16: 79 | L16: =INDEX('Critères (bonne version)'!$D$19:$D$26,MATCH(Table4215[[#This Row],[prix]],'Critères (bonne version)'!$D$19:$D$26,1)+1,1) -> 100
A17: C40 | B17: acoustique | C17: Yamaha | D17: autre | E17: autre | F17: creux | G17: natural | H17: 6 | I17: non | J17: non | K17: 119 | L17: =INDEX('Critères (bonne version)'!$D$19:$D$26,MATCH(Table4215[[#This Row],[prix]],'Critères (bonne version)'!$D$19:$D$26,1)+1,1) -> 200
A18: F310 | B18: folk | C18: Yamaha | D18: autre | E18: autre | F18: creux | G18: natural | H18: 6 | I18: non | J18: non | K18: 129 | L18: =INDEX('Critères (bonne version)'!$D$19:$D$26,MATCH(Table4215[[#This Row],[prix]],'Critères (bonne version)'!$D$19:$D$26,1)+1,1) -> 200
A19: GRG140-SB | B19: électrique | C19: Ibanez | D19: rock | E19: autre | F19: plein | G19: noir | H19: 6 | I19: non | J19: non | K19: 209 | L19: =INDEX('Critères (bonne version)'!$D$19:$D$26,MATCH(Table4215[[#This Row],[prix]],'Critères (bonne version)'!$D$19:$D$26,1)+1,1) -> 500
A20: JR25 | B20: acoustique | C20: Yamaha | D20: autre | E20: autre | F20: creux | G20: natural | H20: 6 | I20: oui | J20: oui | K20: 219 | L20: =INDEX('Critères (bonne version)'!$D$19:$D$26,MATCH(Table4215[[#This Row],[prix]],'Critères (bonne version)'!$D$19:$D$26,1)+1,1) -> 500
A21: Les Paul 100 | B21: électrique | C21: Epiphone | D21: blues | E21: double | F21: plein | G21: sunburst | H21: 6 | I21: non | J21: oui | K21: 289 | L21: =INDEX('Critères (bonne version)'!$D$19:$D$26,MATCH(Table4215[[#This Row],[prix]],'Critères (bonne version)'!$D$19:$D$26,1)+1,1) -> 500
A22: AW7012 NT12 | B22: acoustique | C22: Ibanez | D22: blues | E22: autre | F22: creux | G22: natural | H22: 12 | I22: non | J22: non | K22: 299 | L22: =INDEX('Critères (bonne version)'!$D$19:$D$26,MATCH(Table4215[[#This Row],[prix]],'Critères (bonne version)'!$D$19:$D$26,1)+1,1) -> 500
A23: TCM 50 VBS | B23: électro-acoustique | C23: Ibanez | D23: blues | E23: simple | F23: plein | G23: rouge | H23: 6 | I23: non | J23: non | K23: 329 | L23: =INDEX('Critères (bonne version)'!$D$19:$D$26,MATCH(Table4215[[#This Row],[prix]],'Critères (bonne version)'!$D$19:$D$26,1)+1,1) -> 500
A24: hummingbird | B24: électro-acoustique | C24: Epiphone | D24: autre | E24: simple | F24: plein | G24: rouge | H24: 6 | I24: non | J24: non | K24: 329 | L24: =INDEX('Critères (bonne version)'!$D$19:$D$26,MATCH(Table4215[[#This Row],[prix]],'Critères (bonne version)'!$D$19:$D$26,1)+1,1) -> 500
A25: Trio Malibu | B25: folk | C25: Fender | D25: autre | E25: autre | F25: creux | G25: rouge | H25: 6 | I25: non | J25: non | K25: 340 | L25: =INDEX('Critères (bonne version)'!$D$19:$D$26,MATCH(Table4215[[#This Row],[prix]],'Critères (bonne version)'!$D$19:$D$26,1)+1,1) -> 500
A26: AE10NII BK | B26: acoustique | C26: Ibanez | D26: autre | E26: autre | F26: creux | G26: rouge | H26: 6 | I26: non | J26: non | K26: 419 | L26: =INDEX('Critères (bonne version)'!$D$19:$D$26,MATCH(Table4215[[#This Row],[prix]],'Critères (bonne version)'!$D$19:$D$26,1)+1,1) -> 500
A27: Villager 12 | B27: acoustique | C27: Fender | D27: autre | E27: autre | F27: creux | G27: natural | H27: 12 | I27: non | J27: non | K27: 475 | L27: =INDEX('Critères (bonne version)'!$D$19:$D$26,MATCH(Table4215[[#This Row],[prix]],'Critères (bonne version)'!$D$19:$D$26,1)+1,1) -> 500
... A36: Rs720b | B36: électrique | C36: Yamaha | D36: blues | E36: double | F36: plein | G36: gris | H36: 6 | I36: non | J36: non | K36: 999 | L36: =INDEX('Critères (bonne version)'!$D$19:$D$26,MATCH(Table4215[[#This Row],[prix]],'Critères (bonne version)'!$D$19:$D$26,1)+1,1) -> 1000
A37: Korn 20th | B37: électrique | C37: Ibanez | D37: metal | E37: double | F37: plein | G37: noir | H37: autre | I37: non | J37: non | K37: 999 | L37: =INDEX('Critères (bonne version)'!$D$19:$D$26,MATCH(Table4215[[#This Row],[prix]],'Critères (bonne version)'!$D$19:$D$26,1)+1,1) -> 1000
A38: J45 | B38: folk | C38: Gibson | D38: autre | E38: autre | F38: creux | G38: natural | H38: 6 | I38: non | J38: non | K38: 2299 | L38: =INDEX('Critères (bonne version)'!$D$19:$D$26,MATCH(Table4215[[#This Row],[prix]],'Critères (bonne version)'!$D$19:$D$26,1)+1,1) -> 2500
A39: ES-339 | B39: électrique | C39: Gibson | D39: blues | E39: simple | F39: creux | G39: sunburst | H39: 6 | I39: non | J39: oui | K39: 2689 | L39: =INDEX('Critères (bonne version)'!$D$19:$D$26,MATCH(Table4215[[#This Row],[prix]],'Critères (bonne version)'!$D$19:$D$26,1)+1,1) -> 5000
A40: Steve vai | B40: électrique | C40: Ibanez | D40: rock | E40: double | F40: plein | G40: blanc | H40: 6 | I40: non | J40: non | K40: 2699 | L40: =INDEX('Critères (bonne version)'!$D$19:$D$26,MATCH(Table4215[[#This Row],[prix]],'Critères (bonne version)'!$D$19:$D$26,1)+1,1) -> 5000
A41: 10th anniversary CJ32 | B41: folk | C41: Yamaha | D41: blues | E41: simple | F41: creux | G41: noir | H41: 6 | I41: non | J41: non | K41: 3199 | L41: =INDEX('Critères (bonne version)'!$D$19:$D$26,MATCH(Table4215[[#This Row],[prix]],'Critères (bonne version)'!$D$19:$D$26,1)+1,1) -> 5000
A42: 360/12 | B42: électrique | C42: Rickenbacker | D42: blues | E42: simple | F42: creux | G42: rouge | H42: 12 | I42: non | J42: non | K42: 3391 | L42: =INDEX('Critères (bonne version)'!$D$19:$D$26,MATCH(Table4215[[#This Row],[prix]],'Critères (bonne version)'!$D$19:$D$26,1)+1,1) -> 5000
A43: Jazzmatser pro | B43: électrique | C43: Fender | D43: jazz | E43: double | F43: plein | G43: blanc | H43: 6 | I43: non | J43: oui | K43: 4099 | L43: =INDEX('Critères (bonne version)'!$D$19:$D$26,MATCH(Table4215[[#This Row],[prix]],'Critères (bonne version)'!$D$19:$D$26,1)+1,1) -> 5000
A44: 1954 Heavy Relic | B44: électrique | C44: Fender | D44: rock | E44: simple | F44: plein | G44: sunburst | H44: 6 | I44: non | J44: non | K44: 4299 | L44: =INDEX('Critères (bonne version)'!$D$19:$D$26,MATCH(Table4215[[#This Row],[prix]],'Critères (bonne version)'!$D$19:$D$26,1)+1,1) -> 5000

Sheet factures
B1: civilité | C1: Nom | D1: Prénom | E1: Adresse e-mail | F1: Produit choisi

Sheet page d'accueil

Sheet choix basse
D1: Basses
B16: Basse | C16: type | D16: format | E16: marque | F16: couleur | G16: Junior | H16: gaucher | I16: prix | J16: budget
B17: SJB6FX | C17: accoustique | D17: jumbo | E17: Cort | F17: natural | G17: non | H17: non | I17: 649 | J17: =INDEX('Critères (bonne version)'!$H$18:$H$24,MATCH(Table59[[#This Row],[prix]],'Critères (bonne version)'!$H$18:$H$24,1)+1,1) -> 1000
B18: AEB8E_BK | C18: accoustique | D18: avec frettes | E18: Ibanez | F18: noir | G18: non | H18: non | I18: 429 | J18: =INDEX('Critères (bonne version)'!$H$18:$H$24,MATCH(Table59[[#This Row],[prix]],'Critères (bonne version)'!$H$18:$H$24,1)+1,1) -> 500
B19: CB-100CE Bass | C19: accoustique | D19: avec frettes | E19: Fender | F19: natural | G19: non | H19: non | I19: 435 | J19: =INDEX('Critères (bonne version)'!$H$18:$H$24,MATCH(Table59[[#This Row],[prix]],'Critères (bonne version)'!$H$18:$H$24,1)+1,1) -> 500
B20: Kingman Bass SCE Upgraded | C20: accoustique | D20: avec frettes | E20: Fender | F20: natural | G20: non | H20: oui | I20: 549 | J20: =INDEX('Critères (bonne version)'!$H$18:$H$24,MATCH(Table59[[#This Row],[prix]],'Critères (bonne version)'!$H$18:$H$24,1)+1,1) -> 1000
B21: SJB6FX | C21: accoustique | D21: avec frettes | E21: Cort | F21: natural | G21: non | H21: non | I21: 649 | J21: =INDEX('Critères (bonne version)'!$H$18:$H$24,MATCH(Table59[[#This Row],[prix]],'Critères (bonne version)'!$H$18:$H$24,1)+1,1) -> 1000
B22: TB10 | C22: accoustique | D22: fretless | E22: Takamine | F22: natural | G22: non | H22: non | I22: 2769 | J22: =INDEX('Critères (bonne version)'!$H$18:$H$24,MATCH(Table59[[#This Row],[prix]],'Critères (bonne version)'!$H$18:$H$24,1)+1,1) -> 5000
B23: EB-0 Bass | C23: électrique | D23: avec frettes | E23: Epiphone | F23: rouge | G23: non | H23: oui | I23: 239 | J23: =INDEX('Critères (bonne version)'!$H$18:$H$24,MATCH(Table59[[#This Row],[prix]],'Critères (bonne version)'!$H$18:$H$24,1)+1,1) -> 500
B24: Action | C24: électrique | D24: avec frettes | E24: Cort | F24: noir | G24: non | H24: non | I24: 199 | J24: =INDEX('Critères (bonne version)'!$H$18:$H$24,MATCH(Table59[[#This Row],[prix]],'Critères (bonne version)'!$H$18:$H$24,1)+1,1) -> 200
B25: Action Junior | C25: électrique | D25: avec frettes | E25: Cort | F25: noir | G25: non | H25: non | I25: 219 | J25: =INDEX('Critères (bonne version)'!$H$18:$H$24,MATCH(Table59[[#This Row],[prix]],'Critères (bonne version)'!$H$18:$H$24,1)+1,1) -> 500
B26: Bronco Bass | C26: électrique | D26: avec frettes | E26: Squier | F26: rouge | G26: non | H26: non | I26: 240 | J26: =INDEX('Critères (bonne version)'!$H$18:$H$24,MATCH(Table59[[#This Row],[prix]],'Critères (bonne version)'!$H$18:$H$24,1)+1,1) -> 500
B27: Viola Bass | C27: électrique | D27: avec frettes | E27: Epiphone | F27: natural | G27: non | H27: non | I27: 389 | J27: =INDEX('Critères (bonne version)'!$H$18:$H$24,MATCH(Table59[[#This Row],[prix]],'Critères (bonne version)'!$H$18:$H$24,1)+1,1) -> 500
B28: Thunderbrid Classic IV (Gibson Pickups) | C28: électrique | D28: avec frettes | E28: Epiphone | F28: blanc | G28: non | H28: non | I28: 559 | J28: =INDEX('Critères (bonne version)'!$H$18:$H$24,MATCH(Table59[[#This Row],[prix]],'Critères (bonne version)'!$H$18:$H$24,1)+1,1) -> 1000
... B43: EB-0 Bass | C43: électrique | D43: avec frettes | E43: Epiphone | F43: rouge | G43: oui | H43: non | I43: 239 | J43: =INDEX('Critères (bonne version)'!$H$18:$H$24,MATCH(Table59[[#This Row],[prix]],'Critères (bonne version)'!$H$18:$H$24,1)+1,1) -> 500

Sheet choix ukulele
B13: Ukulele | C13: Type | D13: Marque | E13: Budget
B14: UKS10 | C14: Acoustique | D14: Ibanez | E14: 89
B15: Guitalélé GL1 | C15: Acoustique | D15: Yamaha | E15: 69
B16: Ukulele Nohea | C16: Acoustique | D16: Fender | E16: 295
B17: G9120-SK Tenor Koa Ukulele | C17: Acoustique | D17: Grestch | E17: 529
B18: Ukulélé 2KC | C18: Acoustique | D18: Martin & Co | E18: 1999
B19: UEW5 Soprano | C19: Electro-acoustique | D19: Ibanez | E19: 119
B20: Ukulele 52 | C20: Electro-acoustique | D20: Fender | E20: 215
B21: Ukulele Soprano LP1E Electro | C21: Electro-acoustique | D21: Mahalo | E21: 94
