Workbook

Sheet Ration 
B2: Alimentation Bella
D5: Poids | E5: Type | I5: Poids | J5: Type | N5: Poids | O5: Type | S5: Poids | T5: Type | V5: Ratio répartition | Y5: Différents types de produits
B6: Jour 1 | C6: Matin | D6: 417 | E6: Filet de poulet | G6: Jour 8 | H6: Matin | I6: =[1]Début!$C$12 -> 417 | J6: =E17 -> Viande de porc | L6: Jour 15 | M6: Matin | N6: =[1]Début!$C$12 -> 417 | O6: =J22 -> Viande de porc | Q6: Jour 22 | R6: Matin | S6: =[1]Début!$C$12 -> 417 | T6: =AB15 -> Viande de porc
D7: 2.7 | E7: Mix légumes | I7: =[1]Début!$C$17 -> 2.7 | J7: =E7 -> Mix légumes | N7: =[1]Début!$C$17 -> 2.7 | O7: =J7 -> Mix légumes | S7: =[1]Début!$C$17 -> 2.7 | T7: =O7 -> Mix légumes | V7: Os charnu | W7: Type | Y7: Prix /kg | Z7: Prix payé | AA7: Quantités | AB7: Type | AC7: % prix | AD7: % poids
D8: 83.4 | E8: Cœur de poulet | I8: =[1]Début!$C$14 -> 83.4 | J8: ='[1]Différents types'!E15 -> Foie de porc | N8: =[1]Début!$C$14 -> 83.4 | O8: =AB19 -> Cœur de bœuf | S8: =[1]Début!$C$14 -> 83.4 | T8: =AB14 -> Foie de poulet | V8: =SUM(AA9:AA12)/W23/1000 -> 0.5483871 | W8: =SUM(AA8:AA14)/AA29/1000 -> 0.46774194 | Y8: =18.7/5 -> 3.74 | Z8: =Y8*AA8/1000 -> 18.71496 | AA8: =SUM(D6*2,D28,D33,I28,I39,N17,N22,N33,S17,S22,S33) -> 5004 | AB8: ='[1]Différents types'!E5 -> Filet de poulet | AC8: =Z8/$Z$26 -> 0.16824312 | AD8: =AA8/$AA$26/1000 -> 0.15162455 | AE8: =AD8-AC8 -> -0.016618573
D9: 238.28571 | E9: Sardine | I9: =[1]Début!$C$16 -> 238.28571 | J9: =AB23 -> Sprats | N9: =[1]Début!$C$16 -> 238.28571 | O9: =J42 -> Sprats | S9: =[1]Début!$C$16 -> 238.28571 | T9: =O42 -> Harengs | Y9: 2.22 | Z9: =Y9*AA9/1000 -> 4.443552 | AA9: =SUM(D10*2,D38,I43,I38,N10) -> 2001.6 | AB9: ='[1]Différents types'!E6 -> Cuisse de poulet | AC9: =Z9/$Z$26 -> 0.039946495 | AD9: =AA9/$AA$26/1000 -> 0.060649819 | AE9: =AD9-AC9 -> 0.020703324
C10: Soir | D10: 333.6 | E10: Cuisse de poulet | H10: Soir | I10: =[1]Début!$C$13 -> 333.6 | J10: ='[1]Différents types'!E8 -> Carcasse de poulet | M10: Soir | N10: =[1]Début!$C$13 -> 333.6 | O10: =J43 -> Cuisse de poulet | R10: Soir | S10: =[1]Début!$C$13 -> 333.6 | T10: =AB10 -> Cous de poulet | Y10: =14.96/8 -> 1.87 | Z10: =Y10*AA10/1000 -> 1.871496 | AA10: =SUM(D43,S16,S10) -> 1000.8 | AB10: ='[1]Différents types'!E7 -> Cous de poulet | AC10: =Z10/$Z$26 -> 0.016824312 | AD10: =AA10/$AA$26/1000 -> 0.03032491 | AE10: =AD10-AC10 -> 0.013500598
B11: Jour 2 | C11: Matin | D11: 417 | E11: Viande de bœuf | G11: Jour 9 | H11: Matin | I11: =I6 -> 417 | J11: =AB20 -> Viande de bœuf | L11: Jour 16 | M11: Matin | N11: =N6 -> 417 | O11: =O6 -> Viande de porc | Q11: Jour 23 | R11: Matin | S11: =S6 -> 417 | T11: =T6 -> Viande de porc | Y11: 0 | Z11: =Y11*AA11/1000 -> 0 | AA11: =SUM(D32,I10,N21,N16) -> 1334.4 | AB11: ='[1]Différents types'!E8 -> Carcasse de poulet | AC11: 0 | AD11: =AA11/$AA$26/1000 -> 0.040433213
D12: 2.7 | E12: Mix légumes | I12: =I7 -> 2.7 | J12: =J7 -> Mix légumes | N12: =N7 -> 2.7 | O12: =O7 -> Mix légumes | S12: =S7 -> 2.7 | T12: =T7 -> Mix légumes | Y12: =10.18/5 -> 2.036 | Z12: =Y12*AA12/1000 -> 2.7168384 | AA12: =SUM(D16*2,S43,S38) -> 1334.4 | AB12: ='[1]Différents types'!E10 -> Ailes de poulet | AC12: =Z12/$Z$26 -> 0.024423743 | AD12: =AA12/$AA$26/1000 -> 0.040433213 | AE12: =AD12-AC12 -> 0.01600947
D13: 83.4 | E13: Foie de poulet | I13: =I8 -> 83.4 | J13: =#REF! -> #REF! | N13: =N8 -> 83.4 | O13: =AB18 -> Foie de bœuf | S13: =S8 -> 83.4 | T13: =AB13 -> Cœur de poulet | Y13: 2.86 | Z13: =Y13*AA13/1000 -> 2.146716 | AA13: =SUM(D8*2,D19*2,D30,D41,S13,S24,S35) -> 750.6 | AB13: ='[1]Différents types'!E11 -> Cœur de poulet | AC13: =Z13/$Z$26 -> 0.019298476 | AD13: =AA13/$AA$26/1000 -> 0.022743682 | AE13: =AD13-AC13 -> 0.0034452066
D14: 1 | E14: Œuf | I14: =1 -> 1 | J14: =E14 -> Œuf | N14: =1 -> 1 | O14: =J14 -> Œuf | S14: =1 -> 1 | T14: =O14 -> Œuf | Y14: 2.75 | Z14: =Y14*AA14/1000 -> 1.8348 | AA14: =SUM(D13*2,D24,D35,S41,S30,S19,S8) -> 667.2 | AB14: ='[1]Différents types'!E12 -> Foie de poulet | AC14: =Z14/$Z$26 -> 0.016494424 | AD14: =AA14/$AA$26/1000 -> 0.020216606 | AE14: =AD14-AC14 -> 0.0037221828
D15: 238.28571 | E15: Sardine | I15: =I9 -> 238.28571 | J15: =E20 -> Sardine | N15: =N9 -> 238.28571 | O15: =O9 -> Sprats | S15: =S9 -> 238.28571 | T15: =T9 -> Harengs | V15: =AA16/W23/1000 -> 0.22580645 | W15: =SUM(AA15:AA17)/1000/AA29 -> 0.31290323 | Y15: =3.41 -> 3.41 | Z15: =Y15*AA15/1000 -> 18.48561 | AA15: =SUM(D17*2,D22,D39,I6,I22,,I33,N6,N11,,N28,S39,S11,S6) -> 5421 | AB15: ='[1]Différents types'!E13 -> Viande de porc | AC15: =Z15/$Z$26 -> 0.16618132 | AD15: =AA15/$AA$26/1000 -> 0.16425993 | AE15: =AD15-AC15 -> -0.0019213906
C16: Soir | D16: 333.6 | E16: Ailes de poulet | H16: Soir | I16: =I10 -> 333.6 | J16: =AB21 -> Côtes d'agneau | M16: Soir | N16: =N10 -> 333.6 | O16: =J10 -> Carcasse de poulet | R16: Soir | S16: =S10 -> 333.6 | T16: =T10 -> Cous de poulet | Y16: 2.75 | Z16: =Y16*AA16/1000 -> 6.4218 | AA16: =SUM(D21*2,D27,I32,I27,N27,N32) -> 2335.2 | AB16: ='[1]Différents types'!E14 -> Côtes de porc | AC16: =Z16/$Z$26 -> 0.057730483 | AD16: =AA16/$AA$26/1000 -> 0.070758123 | AE16: =AD16-AC16 -> 0.01302764
B17: Jour 3 | C17: Matin | D17: 417 | E17: Viande de porc | G17: Jour 10 | H17: Matin | I17: =[1]Début!$C$12 -> 417 | J17: =J11 -> Viande de bœuf | L17: Jour 17 | M17: Matin | N17: =[1]Début!$C$12 -> 417 | O17: =J28 -> Filet de poulet | Q17: Jour 24 | R17: Matin | S17: =[1]Début!$C$12 -> 417 | T17: =AB8 -> Filet de poulet | Y17: 2.97 | Z17: =Y17*AA17/1000 -> 0.990792 | AA17: =SUM(I8,I19,I30,I41) -> 333.6 | AB17: ='[1]Différents types'!E15 -> Foie de porc | AC17: =Z17/$Z$26 -> 0.0089069888 | AD17: =AA17/$AA$26/1000 -> 0.010108303 | AE17: =AD17-AC17 -> 0.0012013145
D18: 2.7 | E18: Mix légumes | I18: =[1]Début!$C$17 -> 2.7 | J18: =J12 -> Mix légumes | N18: =[1]Début!$C$17 -> 2.7 | O18: =O12 -> Mix légumes | S18: =[1]Début!$C$17 -> 2.7 | T18: =T12 -> Mix légumes | V18: =AA21/W23/1000 -> 0.22580645 | W18: =SUM(AA18:AA20,AA21)/AA29/1000 -> 0.21935484 | Y18: 2.97 | Z18: =Y18*AA18/1000 -> 0.743094 | AA18: =SUM(N13,N24,N35) -> 250.2 | AB18: ="Foie de bœuf" -> Foie de bœuf | AC18: =Z18/$Z$26 -> 0.0066802416 | AD18: =AA18/$AA$26/1000 -> 0.0075812274 | AE18: =AD18-AC18 -> 0.00090098585
D19: 83.4 | E19: Cœur de poulet | I19: =[1]Début!$C$14 -> 83.4 | J19: =J8 -> Foie de porc | N19: =[1]Début!$C$14 -> 83.4 | O19: =O8 -> Cœur de bœuf | S19: =[1]Début!$C$14 -> 83.4 | T19: =T8 -> Foie de poulet | Y19: 3.08 | Z19: =Y19*AA19/1000 -> 1.798104 | AA19: =SUM(N8,N19,N30,N41,I13,I24,I35) -> 583.8 | AB19: ='[1]Différents types'!E18 -> Cœur de bœuf | AC19: =Z19/$Z$26 -> 0.016164535 | AD19: =AA19/$AA$26/1000 -> 0.017689531 | AE19: =AD19-AC19 -> 0.0015249955
D20: 238.28571 | E20: Sardine | I20: =[1]Début!$C$16 -> 238.28571 | J20: =J15 -> Sardine | N20: =[1]Début!$C$16 -> 238.28571 | O20: =O15 -> Sprats | S20: =[1]Début!$C$16 -> 238.28571 | T20: =T15 -> Harengs | Y20: 4.85 | Z20: =Y20*AA20/1000 -> 12.1347 | AA20: =SUM(D11*2,I11,I17,N39,S28) -> 2502 | AB20: ='[1]Différents types'!E19 -> Viande de bœuf | AC20: =Z20/$Z$26 -> 0.10908812 | AD20: =AA20/$AA$26/1000 -> 0.075812274 | AE20: =AD20-AC20 -> -0.033275846
C21: Soir | D21: 333.6 | E21: Côtes de porc | H21: Soir | I21: =[1]Début!$C$13 -> 333.6 | J21: =J16 -> Côtes d'agneau | M21: Soir | N21: =[1]Début!$C$13 -> 333.6 | O21: =O16 -> Carcasse de poulet | R21: Soir | S21: =[1]Début!$C$13 -> 333.6 | T21: =T27 -> Côtes d'agneau | Y21: 3.3 | Z21: =Y21*AA21/1000 -> 7.70616 | AA21: =SUM(S32,S27,S21,N38,N43,I21,I16) -> 2335.2 | AB21: ='[1]Différents types'!E21 -> Côtes d'agneau | AC21: =Z21/$Z$26 -> 0.069276579 | AD21: =AA21/$AA$26/1000 -> 0.070758123 | AE21: =AD21-AC21 -> 0.0014815434
B22: Jour 4 | C22: Matin | D22: 417 | E22: Viande de porc | G22: Jour 11 | H22: Matin | I22: =I17 -> 417 | J22: =E22 -> Viande de porc | L22: Jour 18 | M22: Matin | N22: =N17 -> 417 | O22: =O17 -> Filet de poulet | Q22: Jour 25 | R22: Matin | S22: =S17 -> 417 | T22: =T17 -> Filet de poulet | Y22: 0.46 | Z22: =Y22*AA22 -> 6.9 | AA22: =15 -> 15 | AB22: ='[1]Différents types'!E20 -> Œuf
D23: 2.7 | E23: Mix légumes | I23: =I18 -> 2.7 | J23: =J18 -> Mix légumes | N23: =N18 -> 2.7 | O23: =O18 -> Mix légumes | S23: =S18 -> 2.7 | T23: =T18 -> Mix légumes | W23: =SUM(AA9:AA12,AA16,AA21)/1000 -> 10.3416 | Y23: 3.3 | Z23: =Y23*AA23/1000 -> 7.8634286 | AA23: =D15*10 -> 2382.8571 | AB23: ='[1]Différents types'!E22 -> Sprats | AC23: =Z23/$Z$26 -> 0.070690387 | AD23: =AA23/$AA$26/1000 -> 0.072202166 | AE23: =AD23-AC23 -> 0.0015117789
D24: 83.4 | E24: Foie de poulet | I24: =I19 -> 83.4 | J24: =J13 -> #REF! | N24: =N19 -> 83.4 | O24: =O13 -> Foie de bœuf | S24: =S19 -> 83.4 | T24: =T13 -> Cœur de poulet | V24: =SUM(AA9:AA12) -> 5671.2 | Y24: 3.5 | Z24: =Y24*AA24/1000 -> 8.34 | AA24: =AA23 -> 2382.8571 | AB24: ='[1]Différents types'!E23 -> Sardine | AC24: =Z24/$Z$26 -> 0.074974653 | AD24: =AA24/$AA$26/1000 -> 0.072202166 | AE24: =AD24-AC24 -> -0.002772487
D25: 1 | E25: Œuf | I25: =1 -> 1 | J25: =J14 -> Œuf | N25: =1 -> 1 | O25: =O14 -> Œuf | S25: =1 -> 1 | T25: =T14 -> Œuf | V25: =AA16 -> 2335.2 | Y25: 3.41 | Z25: =Y25*AA25/1000 -> 8.1255429 | AA25: =AA24 -> 2382.8571 | AB25: ='[1]Différents types'!E24 -> Harengs | AC25: =Z25/$Z$26 -> 0.073046733 | AD25: =AA25/$AA$26/1000 -> 0.072202166 | AE25: =AD25-AC25 -> -0.00084456731
D26: 238.28571 | E26: Sardine | I26: =I20 -> 238.28571 | J26: =AB23 -> Sprats | N26: =N20 -> 238.28571 | O26: =O20 -> Sprats | S26: =S20 -> 238.28571 | T26: =T20 -> Harengs | V26: =AA21 -> 2335.2 | Z26: =SUM(Z8:Z25) -> 111.23759 | AA26: =SUM(AA8:AA21,AA23:AA25)/1000 -> 33.002571 | AB26: TOTAL 31 jours
B27: Jour 5 | C27: Soir | D27: 333.6 | E27: Côtes de porc | G27: Jour 5 | H27: Soir | I27: =I21 -> 333.6 | J27: =AB16 -> Côtes de porc | L27: Jour 5 | M27: Soir | N27: =N21 -> 333.6 | O27: =J27 -> Côtes de porc | Q27: Jour 5 | R27: Soir | S27: =S21 -> 333.6 | T27: =AB21 -> Côtes d'agneau
B28: Jour 5 | C28: Matin | D28: 417 | E28: Filet de poulet | G28: Jour 12 | H28: Matin | I28: =[1]Début!$C$12 -> 417 | J28: =E6 -> Filet de poulet | L28: Jour 19 | M28: Matin | N28: =[1]Début!$C$12 -> 417 | O28: =O11 -> Viande de porc | Q28: Jour 26 | R28: Matin | S28: =[1]Début!$C$12 -> 417 | T28: =AB20 -> Viande de bœuf | Y28: cout poisson | Z28: =SUM(Z23:Z25) -> 24.328971 | AA28: =SUM(AA23:AA25)/1000 -> 7.1485714
D29: 2.7 | E29: Mix légumes | I29: =[1]Début!$C$17 -> 2.7 | J29: =J23 -> Mix légumes | N29: =[1]Début!$C$17 -> 2.7 | O29: =O23 -> Mix légumes | S29: =[1]Début!$C$17 -> 2.7 | T29: =T23 -> Mix légumes | Y29: sans poisson | Z29: =Z26-Z28 -> 86.908622 | AA29: =AA26-(AA28) -> 25.854
D30: 83.4 | E30: Cœur de poulet | I30: =[1]Début!$C$14 -> 83.4 | J30: =J19 -> Foie de porc | N30: =[1]Début!$C$14 -> 83.4 | O30: =O19 -> Cœur de bœuf | S30: =[1]Début!$C$14 -> 83.4 | T30: =T19 -> Foie de poulet | Y30: Cout /jour | Z30: =Z26/28 -> 3.9727712
D31: 238.28571 | E31: Sardine | I31: =[1]Début!$C$16 -> 238.28571 | J31: =J26 -> Sprats | N31: =[1]Début!$C$16 -> 238.28571 | O31: =O26 -> Sprats | S31: =[1]Début!$C$16 -> 238.28571 | T31: =T26 -> Harengs
C32: Soir | D32: 333.6 | E32: Carcasse de poulet | H32: Soir | I32: =[1]Début!$C$13 -> 333.6 | J32: =J27 -> Côtes de porc | M32: Soir | N32: =[1]Début!$C$13 -> 333.6 | O32: =O27 -> Côtes de porc | R32: Soir | S32: =[1]Début!$C$13 -> 333.6 | T32: =T27 -> Côtes d'agneau
B33: Jour 6 | C33: Matin | D33: 417 | E33: Filet de poulet | G33: Jour 13 | H33: Matin | I33: =I28 -> 417 | J33: =J22 -> Viande de porc | L33: Jour 20 | M33: Matin | N33: =N28 -> 417 | O33: =O22 -> Filet de poulet | Q33: Jour 27 | R33: Matin | S33: =S28 -> 417 | T33: =T17 -> Filet de poulet
D34: 2.7 | E34: Mix légumes | I34: =I29 -> 2.7 | J34: =J29 -> Mix légumes | N34: =N29 -> 2.7 | O34: =O29 -> Mix légumes | S34: =S29 -> 2.7 | T34: =T29 -> Mix légumes
D35: 83.4 | E35: Foie de poulet | I35: =I30 -> 83.4 | J35: =J24 -> #REF! | N35: =N30 -> 83.4 | O35: =O24 -> Foie de bœuf | S35: =S30 -> 83.4 | T35: =T24 -> Cœur de poulet
D36: 1 | E36: Œuf | I36: =1 -> 1 | J36: =J25 -> Œuf | N36: =1 -> 1 | O36: =O25 -> Œuf | S36: =1 -> 1 | T36: =T25 -> Œuf
B37: Jour 7 | D37: 238.28571 | E37: Sardine | I37: =I31 -> 238.28571 | J37: =J31 -> Sprats | L37: Jour 7 | N37: =N31 -> 238.28571 | O37: =AB25 -> Harengs | Q37: Jour 7 | S37: =S31 -> 238.28571 | T37: =T31 -> Harengs
C38: Soir | D38: 333.6 | E38: Cuisse de poulet | H38: Soir | I38: =I32 -> 333.6 | J38: =AB9 -> Cuisse de poulet | M38: Soir | N38: =N32 -> 333.6 | O38: =J16 -> Côtes d'agneau | R38: Soir | S38: =S32 -> 333.6 | T38: =AB12 -> Ailes de poulet
B39: Jour 7 | C39: Matin | D39: 417 | E39: Viande de porc | G39: Jour 14 | H39: Matin | I39: =[1]Début!$C$12 -> 417 | J39: =J28 -> Filet de poulet | L39: Jour 21 | M39: Matin | N39: =[1]Début!$C$12 -> 417 | O39: =AB20 -> Viande de bœuf | Q39: Jour 28 | R39: Matin | S39: =[1]Début!$C$12 -> 417 | T39: =AB15 -> Viande de porc
D40: 2.7 | E40: Mix légumes | I40: =[1]Début!$C$17 -> 2.7 | J40: =J34 -> Mix légumes | N40: =[1]Début!$C$17 -> 2.7 | O40: =O34 -> Mix légumes | S40: =[1]Début!$C$17 -> 2.7 | T40: =T34 -> Mix légumes
D41: 83.4 | E41: Cœur de poulet | I41: =[1]Début!$C$14 -> 83.4 | J41: =J30 -> Foie de porc | N41: =[1]Début!$C$14 -> 83.4 | O41: =O30 -> Cœur de bœuf | S41: =[1]Début!$C$14 -> 83.4 | T41: =T30 -> Foie de poulet
D42: 238.28571 | E42: Sardine | I42: =[1]Début!$C$16 -> 238.28571 | J42: =J37 -> Sprats | N42: =[1]Début!$C$16 -> 238.28571 | O42: =O37 -> Harengs | S42: =[1]Début!$C$16 -> 238.28571 | T42: =T37 -> Harengs
C43: Soir | D43: 333.6 | E43: Cous de poulet | H43: Soir | I43: =[1]Début!$C$13 -> 333.6 | J43: =J38 -> Cuisse de poulet | M43: Soir | N43: =[1]Début!$C$13 -> 333.6 | O43: =O38 -> Côtes d'agneau | R43: Soir | S43: =[1]Début!$C$13 -> 333.6 | T43: =T38 -> Ailes de poulet
...
