Workbook
Name Importance: TECHNIQUE!#REF!
Name Importance: SERVICE!$C$26:$C$32
Name Prestation_de_service: Listes!$A$2:$A$8
Name RO: Listes!$E$2:$E$5
Name Travaux: Listes!$C$2:$C$17

Sheet SERVICE
D2: NOM PRESTATAIRE
A5: FICHE D'EVALUATION D'UN PRESTATAIRE
A7: Date : | B7: 41739
B10: Prestation DE SERVICE | C10: Prestation TECHNIQUE
A11: INFORMATIONS SUR LE PRESTATAIRE | B11: X
A12: Nom de la structure (BET - Entreprise)
A13: Nom du responsable et/ou de l'interlocuteur
A14: N° Tél
A15: Adresse mail
A16: Nom de ou des opérations sur lequel il intervient
A17: Objet de la commande
A18: Statut : Mandataire / co-traitant / sous-traitant
F24: Satisfaisant | G24: Acceptable | H24: Médiocre | I24: Inacceptable
C25: Importance | D25: Note | F25: 3 | G25: 2 | H25: 1 | I25: 0 | K25: COMMENTAIRES RO / Fournisseur
A26: DELAIS | B26: Respect des délais | C26: satisfaisant | D26: =(IF(Importance="satisfaisant",3,IF(Importance="acceptable",2,IF(Importance="médiocre",1,0)))) -> 3 | F26: pas de retard, retard < 1 semaine | G26: retard jusqu'à 2 semaines | H26: retard jusqu'à 4 semaines | I26: retard > 4 semaines
B27: Efficacité, rapidité, réactivité du prestataire | C27: satisfaisant | D27: =(IF(Importance="satisfaisant",3,IF(Importance="acceptable",2,IF(Importance="médiocre",1,0)))) -> 3 | F27: réaction dans la journée | G27: réaction sous 1 semaine | H27: réaction sous 2 semaines | I27: réaction > 2 semaines
A28: SERVICE | B28: Disponibilité de l'interlocuteur | C28: satisfaisant | D28: =(IF(Importance="satisfaisant",3,IF(Importance="acceptable",2,IF(Importance="médiocre",1,0)))) -> 3 | F28: est-il toujours joignable (lui ou un collègue qu'il aura désigné pour le remplacer au cas ou), se rend t'il disponible en cas d'urgence ?
B29: Professionnalisme du prestataire | C29: satisfaisant | D29: =(IF(Importance="satisfaisant",3,IF(Importance="acceptable",2,IF(Importance="médiocre",1,0)))) -> 3 | F29: courtoisie vis-à-vis du client et des autres interlocuteurs du projet / faut-il le relancer souvent ?
B30: Qualité de la communication | C30: satisfaisant | D30: =(IF(Importance="satisfaisant",3,IF(Importance="acceptable",2,IF(Importance="médiocre",1,0)))) -> 3 | F30: échange avec l'interlocuteur ? Facile / transparente / tenu informé de tous les aléas …
A31: QUALITE | B31: Respect des clauses du contrat | C31: satisfaisant | D31: =(IF(Importance="satisfaisant",3,IF(Importance="acceptable",2,IF(Importance="médiocre",1,0)))) -> 3 | F31: pas de relance à faire | G31: relancer de manière exceptionnelle par téléphone | H31: relances mail ou téléphones récurrentes, courrier d'alerte | I31: mise en demeure
B32: Qualité des rendus | C32: satisfaisant | D32: =(IF(Importance="satisfaisant",3,IF(Importance="acceptable",2,IF(Importance="médiocre",1,0)))) -> 3 | F32: critère subjectif
D33: =SUM(D26:D32) -> 21
A34: DOP/NBL | C34: Note ramenée / 20 | D34: =D33*20/21 -> 20 | G34: Page 1 sur 1 | K34: Version 1

Sheet TECHNIQUE
A1: NOM FOURNISSEUR | B1: TYPE DE FOURNISSEUR | C1: RO EVALUATEUR | D1: DELAI Efficacité, rapidité, réactivité du prestataire | F1: SECURITE Respect des règles générales de sécurité (agrément sous-traitant, accident …) | H1: QUALITE A Respect des clauses du contrat (prestations, délai) | J1: QUALITE B Qualité des rendus | L1: TOTAL
A2: NOM FOURNISSEUR | B2: TYPE DE FOURNISSEUR | C2: RO EVALUATEUR | D2: Commentaire | E2: Note sur 3 | F2: Commentaire | G2: Note sur 3 | H2: Commentaire | I2: Note sur 3 | J2: Commentaire | K2: Note sur 3 | L2: TOTAL
A3: SAURON | B3: Prestation_de_service | C3: RSA | D3: réaction sous 2 semaines | E3: =IF(Tableau1[[#This Row],[Commentaire]]="","",_xlfn.XLOOKUP(D3,Listes!$A$23:$A$26,Listes!$B$23:$B$26,,0)) -> 1 | F3: lettre simple de rappel à l'ordre | G3: =IF(Tableau1[[#This Row],[ Commentaire]]="","",_xlfn.XLOOKUP(F3,Listes!$C$23:$C$26,Listes!$D$23:$D$26,,0)) -> 2 | H3: pas de relance à faire | I3: =IF(Tableau1[[#This Row],[ Commentaire]]="","",_xlfn.XLOOKUP(H3,Listes!$E$23:$E$26,Listes!$F$23:$F$26,,0)) -> 3 | K3: 3 | L3: =IF(A3="","",(E3+G3+I3+K3)*20/12) -> 15
E4: =IF(Tableau1[[#This Row],[Commentaire]]="","",_xlfn.XLOOKUP(D4,Listes!$A$23:$A$26,Listes!$B$23:$B$26,,0)) | G4: =IF(Tableau1[[#This Row],[ Commentaire]]="","",_xlfn.XLOOKUP(F4,Listes!$C$23:$C$26,Listes!$D$23:$D$26,,0)) | I4: =IF(Tableau1[[#This Row],[ Commentaire]]="","",_xlfn.XLOOKUP(H4,Listes!$E$23:$E$26,Listes!$F$23:$F$26,,0)) | L4: =IF(A4="","",(E4+G4+I4+K4)*20/12)
E5: =IF(Tableau1[[#This Row],[Commentaire]]="","",_xlfn.XLOOKUP(D5,Listes!$A$23:$A$26,Listes!$B$23:$B$26,,0)) | G5: =IF(Tableau1[[#This Row],[ Commentaire]]="","",_xlfn.XLOOKUP(F5,Listes!$C$23:$C$26,Listes!$D$23:$D$26,,0)) | I5: =IF(Tableau1[[#This Row],[ Commentaire]]="","",_xlfn.XLOOKUP(H5,Listes!$E$23:$E$26,Listes!$F$23:$F$26,,0)) | L5: =IF(A5="","",(E5+G5+I5+K5)*20/12)

Sheet Listes
A1: Prestation de service | C1: Travaux | E1: RO
A2: Architecte | C2: Ascenseurs | E2: LLA
A3: BET | C3: Bardage | E3: MJE
A4: Bureau de contrôle | C4: BT | E4: RSA
A5: CSPS | C5: Charpente-couverture | E5: TTH
A6: Géomètre | C6: Cloisons faux-plafonds
A7: Géotechnique | C7: ECS
A8: OPC | C8: Electricité
C9: Gros-Œuvre / RD / Etanchéité
C10: Menuiseries extérieures
C11: Menuiseries intérieures
C12: Métallerie
C13: Peinture
C14: Plomberie
C15: Promoteur
C16: Sols souples
C17: VRD
A22: DELAI | C22: SECURITE | E22: QUALITE A Respect des clauses du contrat (prestations, délai)
A23: réaction > 2 semaines | B23: 0 | C23: accident, sous-traitant non déclaré … | D23: 0 | E23: mise en demeure | F23: 0
A24: réaction sous 2 semaines | B24: 1 | C24: incident, LRAR de rappel, sous-traitant pas agréé avant intervention … | D24: 1 | E24: relances mail ou téléphones récurrentes, courrier d'alerte | F24: 1
A25: réaction sous 1 semaine | B25: 2 | C25: lettre simple de rappel à l'ordre | D25: 2 | E25: relancer de manière exceptionnelle par téléphone | F25: 2
A26: réaction dans la journée | B26: 3 | C26: respect total, RAS | D26: 3 | E26: pas de relance à faire | F26: 3
