Workbook

Sheet Feuil1
A1: Libellé | B1: N° personne | C1: Date inscription | D1: Nbre fois | E1: derniere date | F1: différence inscription - derniere date
A2: centre A | B2: 48 | C2: 40924 | D2: =+COUNTIF(Feuil2!D:D,Feuil1!B2) -> 28 | E2: =IF(ISNA(VLOOKUP(B2,Feuil2!$D$2:$E$42,2,FALSE)),"",VLOOKUP(B2,Feuil2!$D$2:$E$42,2,FALSE)) -> 44201 | F2: =IF(E2="","",E2-C2) -> 3277
A3: centre A | B3: 49 | C3: 40717 | D3: =+COUNTIF(Feuil2!D:D,Feuil1!B3) -> 3 | E3: =IF(ISNA(VLOOKUP(B3,Feuil2!$D$2:$E$42,2,FALSE)),"",VLOOKUP(B3,Feuil2!$D$2:$E$42,2,FALSE)) -> 44201 | F3: =IF(E3="","",E3-C3) -> 3484
A4: centre A | B4: 50 | C4: 40730 | D4: =+COUNTIF(Feuil2!D:D,Feuil1!B4) -> 0 | E4: =IF(ISNA(VLOOKUP(B4,Feuil2!$D$2:$E$42,2,FALSE)),"",VLOOKUP(B4,Feuil2!$D$2:$E$42,2,FALSE)) | F4: =IF(E4="","",E4-C4)
A5: centre A | B5: 51 | C5: 40813 | D5: =+COUNTIF(Feuil2!D:D,Feuil1!B5) -> 0 | E5: =IF(ISNA(VLOOKUP(B5,Feuil2!$D$2:$E$42,2,FALSE)),"",VLOOKUP(B5,Feuil2!$D$2:$E$42,2,FALSE)) | F5: =IF(E5="","",E5-C5)
A6: centre A | B6: 55 | C6: 39846 | D6: =+COUNTIF(Feuil2!D:D,Feuil1!B6) -> 10 | E6: =IF(ISNA(VLOOKUP(B6,Feuil2!$D$2:$E$42,2,FALSE)),"",VLOOKUP(B6,Feuil2!$D$2:$E$42,2,FALSE)) -> 44201 | F6: =IF(E6="","",E6-C6) -> 4355
A7: centre A | B7: 67 | C7: 40799 | D7: =+COUNTIF(Feuil2!D:D,Feuil1!B7) -> 0 | E7: =IF(ISNA(VLOOKUP(B7,Feuil2!$D$2:$E$42,2,FALSE)),"",VLOOKUP(B7,Feuil2!$D$2:$E$42,2,FALSE)) | F7: =IF(E7="","",E7-C7)
A8: centre A | B8: 70 | C8: 40808 | D8: =+COUNTIF(Feuil2!D:D,Feuil1!B8) -> 0 | E8: =IF(ISNA(VLOOKUP(B8,Feuil2!$D$2:$E$42,2,FALSE)),"",VLOOKUP(B8,Feuil2!$D$2:$E$42,2,FALSE)) | F8: =IF(E8="","",E8-C8)
A9: centre A | B9: 96 | C9: 40851 | D9: =+COUNTIF(Feuil2!D:D,Feuil1!B9) -> 0 | E9: =IF(ISNA(VLOOKUP(B9,Feuil2!$D$2:$E$42,2,FALSE)),"",VLOOKUP(B9,Feuil2!$D$2:$E$42,2,FALSE)) | F9: =IF(E9="","",E9-C9)

Sheet Feuil2
A1: U2A | B1: N° Distribution | C1: N° ligne | D1: Numéro personne | E1: Date de passage
A2: A | B2: DIS210105001009 | C2: 1 | D2: 48 | E2: 44201
A3: A | B3: DIS210105001009 | C3: 2 | D3: 48 | E3: 44201
A4: A | B4: DIS210105001009 | C4: 3 | D4: 48 | E4: 44201
A5: A | B5: DIS210105001009 | C5: 4 | D5: 48 | E5: 44201
A6: A | B6: DIS210105001009 | C6: 5 | D6: 48 | E6: 44201
A7: A | B7: DIS210105001009 | C7: 6 | D7: 55 | E7: 44201
A8: A | B8: DIS210105001009 | C8: 7 | D8: 55 | E8: 44201
A9: A | B9: DIS210105001009 | C9: 8 | D9: 55 | E9: 44201
A10: A | B10: DIS210105001009 | C10: 9 | D10: 55 | E10: 44201
A11: A | B11: DIS210105001009 | C11: 10 | D11: 55 | E11: 44201
A12: A | B12: DIS210105001009 | C12: 11 | D12: 55 | E12: 44201
A13: A | B13: DIS210105001009 | C13: 12 | D13: 48 | E13: 44201
... A37: A | B37: DIS210105001009 | C37: 22 | D37: 48 | E37: 44149
B38: DIS210105001009 | C38: 19 | D38: 48 | E38: 44114
A39: A | B39: DIS210105001009 | C39: 20 | D39: 55 | E39: 44114
A40: A | B40: DIS210105001009 | C40: 21 | D40: 55 | E40: 44114
A41: A | B41: DIS210105001009 | C41: 22 | D41: 55 | E41: 44114
A42: A | B42: DIS210105001009 | C42: 22 | D42: 55 | E42: 44114
