Workbook

Sheet Saisie des notes
F1: MODULE 1 (20 questions) | J1: MODULE 2 (28 questions) | M1: MODULE 2 (3 points traités - malus) | Q1: MODULE 3 (10 questions) | U1: MODULE 4 (5 points) | X1: MODULE 4 (20 points) | AB1: MODULE 5 (15 questions) | AE1: MODULE 5 (1 question) | AI1: MODULE 6 (10 questions) | AM1: MODULE 7 (2 armes) | AQ1: MODULE 8 STAGE | AS1: VALIDATION CQP CAM
A2: Heure de convocation (prise de sujet) | B2: Heure de passage | C2: Numéro du candidat | D2: CANDIDATS | F2: QCM Valeur par question | G2: 1 | H2: TOTAL sur 20 | I2: Validation Totale /20 | J2: QCM Valeur par question | K2: 0.5 | L2: TOTAL sur 14 | M2: ORAL | N2: - 2 points malus | O2: TOTAL sur 6 (+ malus 2 points) | P2: Validation Totale /20 | Q2: QCM Valeur par question | R2: 2 | S2: TOTAL sur 20 | T2: Validation Totale /20 | U2: QCM Valeur par question | V2: 1 | W2: TOTAL sur 5 | X2: ORAL | Y2: Addition des notes des jurys | Z2: TOTAL sur 20 | AA2: Validation Totale /20 | AB2: QCM Valeur par question | AC2: 1 | AD2: TOTAL sur 15 | AE2: ORAL | AG2: TOTAL sur 5 | AH2: Validation Totale /20 | AI2: QCM Valeur par question | AJ2: 2 | AK2: TOTAL sur 20 | AL2: Validation Totale /20 | AM2: Manipulation Valeur par point traité justement (10 maxi) | AO2: TOTAL sur 20 | AP2: Validation Totale /20 | AQ2: EVALUATION RAPPORT | AR2: DOSSIER COMPLET | AS2: NOTE GLOBALE | AT2: CQP VALIDÉ ?
A3: 14h00 | B3: 14h15/14h45 | C3: 1 | F3: Nb de questions justes | H3: =G3 -> 0 | I3: =H3 -> 0 | J3: Nb de questions justes | L3: =K3*$K$2 -> 0 | M3: Total moins malus | O3: =N3/3 -> 0 | P3: =L3+O3 -> 0 | Q3: Nb de questions justes | S3: =R3*$R$2 -> 0 | T3: =S3 -> 0 | U3: Nb de questions justes | W3: =V3 -> 0 | X3: Addition des notes des jury (sur 60) | Z3: =(Y3/4*3)/3 -> 0 | AA3: =W3+Z3 -> 0 | AB3: Nb de questions justes | AD3: =AC3 -> 0 | AE3: Addition des notes des jury (sur 20) | AG3: =(AF3/4)/3 -> 0 | AH3: =AD3+AG3 -> 0 | AI3: Nb de questions justes | AK3: =AJ3*$AJ$2 -> 0 | AL3: =AK3 -> 0 | AM3: Addition des notes des jury (sur 20) | AO3: =+AN3/3 -> 0 | AP3: =AO3 -> 0 | AS3: =IF(COUNT(I3,P3,T3,AA3,AH3,AL3,AP3,AQ3)<8,"En attente réalisation",SUM(I3,P3,T3,AA3,AH3,AL3,AP3,AQ3)/8) -> En attente réalisation | AT3: =IF(AS3="En attente réalisation","Non attente Mod.8", IF(AND(AS3>=12,I3>=10,P3>=10,T3>10,AA3>=10,AH3>=10,AL3>=10,AP3>=10,AQ3>=10),"OUI BRAVO","NON ECHEC")) -> Non attente Mod.8
A4: 14h45 | B4: 15h00/15h30 | C4: 2 | F4: Nb de questions justes | H4: =G4 -> 0 | I4: =H4 -> 0 | J4: Nb de questions justes | L4: =K4*$K$2 -> 0 | M4: Total moins malus | O4: =N4/3 -> 0 | P4: =L4+O4 -> 0 | Q4: Nb de questions justes | S4: =R4*$R$2 -> 0 | T4: =S4 -> 0 | U4: Nb de questions justes | W4: =V4 -> 0 | X4: Addition des notes des jury (sur 60) | Z4: =(Y4/4*3)/3 -> 0 | AA4: =W4+Z4 -> 0 | AB4: Nb de questions justes | AD4: =AC4 -> 0 | AE4: Addition des notes des jury (sur 20) | AG4: =(AF4/4)/3 -> 0 | AH4: =AD4+AG4 -> 0 | AI4: Nb de questions justes | AK4: =AJ4*$AJ$2 -> 0 | AL4: =AK4 -> 0 | AM4: Addition des notes des jury (sur 20) | AO4: =+AN4/3 -> 0 | AP4: =AO4 -> 0 | AS4: =IF(COUNT(I4,P4,T4,AA4,AH4,AL4,AP4,AQ4)<8,"En attente réalisation",SUM(I4,P4,T4,AA4,AH4,AL4,AP4,AQ4)/8) -> En attente réalisation | AT4: =IF(AS4="En attente réalisation","Non attente Mod.8", IF(AND(AS4>=12,I4>=10,P4>=10,T4>10,AA4>=10,AH4>=10,AL4>=10,AP4>=10,AQ4>=10),"OUI BRAVO","NON ECHEC")) -> Non attente Mod.8
A5: 15h30 | B5: 15h45/16h15 | C5: 3 | F5: Nb de questions justes | H5: =G5 -> 0 | I5: =H5 -> 0 | J5: Nb de questions justes | L5: =K5*$K$2 -> 0 | M5: Total moins malus | O5: =N5/3 -> 0 | P5: =L5+O5 -> 0 | Q5: Nb de questions justes | S5: =R5*$R$2 -> 0 | T5: =S5 -> 0 | U5: Nb de questions justes | W5: =V5 -> 0 | X5: Addition des notes des jury (sur 60) | Z5: =(Y5/4*3)/3 -> 0 | AA5: =W5+Z5 -> 0 | AB5: Nb de questions justes | AD5: =AC5 -> 0 | AE5: Addition des notes des jury (sur 20) | AG5: =(AF5/4)/3 -> 0 | AH5: =AD5+AG5 -> 0 | AI5: Nb de questions justes | AK5: =AJ5*$AJ$2 -> 0 | AL5: =AK5 -> 0 | AM5: Addition des notes des jury (sur 20) | AO5: =+AN5/3 -> 0 | AP5: =AO5 -> 0 | AS5: =IF(COUNT(I5,P5,T5,AA5,AH5,AL5,AP5,AQ5)<8,"En attente réalisation",SUM(I5,P5,T5,AA5,AH5,AL5,AP5,AQ5)/8) -> En attente réalisation | AT5: =IF(AS5="En attente réalisation","Non attente Mod.8", IF(AND(AS5>=12,I5>=10,P5>=10,T5>10,AA5>=10,AH5>=10,AL5>=10,AP5>=10,AQ5>=10),"OUI BRAVO","NON ECHEC")) -> Non attente Mod.8
A6: 16h15 | B6: 16h30/17h00 | C6: 4 | F6: Nb de questions justes | H6: =G6 -> 0 | I6: =H6 -> 0 | J6: Nb de questions justes | L6: =K6*$K$2 -> 0 | M6: Total moins malus | O6: =N6/3 -> 0 | P6: =L6+O6 -> 0 | Q6: Nb de questions justes | S6: =R6*$R$2 -> 0 | T6: =S6 -> 0 | U6: Nb de questions justes | W6: =V6 -> 0 | X6: Addition des notes des jury (sur 60) | Z6: =(Y6/4*3)/3 -> 0 | AA6: =W6+Z6 -> 0 | AB6: Nb de questions justes | AD6: =AC6 -> 0 | AE6: Addition des notes des jury (sur 20) | AG6: =(AF6/4)/3 -> 0 | AH6: =AD6+AG6 -> 0 | AI6: Nb de questions justes | AK6: =AJ6*$AJ$2 -> 0 | AL6: =AK6 -> 0 | AM6: Addition des notes des jury (sur 20) | AO6: =+AN6/3 -> 0 | AP6: =AO6 -> 0 | AS6: =IF(COUNT(I6,P6,T6,AA6,AH6,AL6,AP6,AQ6)<8,"En attente réalisation",SUM(I6,P6,T6,AA6,AH6,AL6,AP6,AQ6)/8) -> En attente réalisation | AT6: =IF(AS6="En attente réalisation","Non attente Mod.8", IF(AND(AS6>=12,I6>=10,P6>=10,T6>10,AA6>=10,AH6>=10,AL6>=10,AP6>=10,AQ6>=10),"OUI BRAVO","NON ECHEC")) -> Non attente Mod.8
A7: 17h00 | B7: 17h15/17h45 | C7: 5 | F7: Nb de questions justes | H7: =G7 -> 0 | I7: =H7 -> 0 | J7: Nb de questions justes | L7: =K7*$K$2 -> 0 | M7: Total moins malus | O7: =N7/3 -> 0 | P7: =L7+O7 -> 0 | Q7: Nb de questions justes | S7: =R7*$R$2 -> 0 | T7: =S7 -> 0 | U7: Nb de questions justes | W7: =V7 -> 0 | X7: Addition des notes des jury (sur 60) | Z7: =(Y7/4*3)/3 -> 0 | AA7: =W7+Z7 -> 0 | AB7: Nb de questions justes | AD7: =AC7 -> 0 | AE7: Addition des notes des jury (sur 20) | AG7: =(AF7/4)/3 -> 0 | AH7: =AD7+AG7 -> 0 | AI7: Nb de questions justes | AK7: =AJ7*$AJ$2 -> 0 | AL7: =AK7 -> 0 | AM7: Addition des notes des jury (sur 20) | AO7: =+AN7/3 -> 0 | AP7: =AO7 -> 0 | AS7: =IF(COUNT(I7,P7,T7,AA7,AH7,AL7,AP7,AQ7)<8,"En attente réalisation",SUM(I7,P7,T7,AA7,AH7,AL7,AP7,AQ7)/8) -> En attente réalisation | AT7: =IF(AS7="En attente réalisation","Non attente Mod.8", IF(AND(AS7>=12,I7>=10,P7>=10,T7>10,AA7>=10,AH7>=10,AL7>=10,AP7>=10,AQ7>=10),"OUI BRAVO","NON ECHEC")) -> Non attente Mod.8
A9: 08h45 | B9: 09h00/09h30 | C9: 6 | F9: Nb de questions justes | H9: =G9 -> 0 | I9: =H9 -> 0 | J9: Nb de questions justes | L9: =K9*$K$2 -> 0 | M9: Total moins malus | O9: =N9/3 -> 0 | P9: =L9+O9 -> 0 | Q9: Nb de questions justes | S9: =R9*$R$2 -> 0 | T9: =S9 -> 0 | U9: Nb de questions justes | W9: =V9 -> 0 | X9: Addition des notes des jury (sur 60) | Z9: =(Y9/4*3)/3 -> 0 | AA9: =W9+Z9 -> 0 | AB9: Nb de questions justes | AD9: =AC9 -> 0 | AE9: Addition des notes des jury (sur 20) | AG9: =(AF9/4)/3 -> 0 | AH9: =AD9+AG9 -> 0 | AI9: Nb de questions justes | AK9: =AJ9*$AJ$2 -> 0 | AL9: =AK9 -> 0 | AM9: Addition des notes des jury (sur 20) | AO9: =+AN9/3 -> 0 | AP9: =AO9 -> 0 | AS9: =IF(COUNT(I9,P9,T9,AA9,AH9,AL9,AP9,AQ9)<8,"En attente réalisation",SUM(I9,P9,T9,AA9,AH9,AL9,AP9,AQ9)/8) -> En attente réalisation | AT9: =IF(AS9="En attente réalisation","Non attente Mod.8", IF(AND(AS9>=12,I9>=10,P9>=10,T9>10,AA9>=10,AH9>=10,AL9>=10,AP9>=10,AQ9>=10),"OUI BRAVO","NON ECHEC")) -> Non attente Mod.8
A10: 09h30 | B10: 09h45/10h15 | C10: 7 | F10: Nb de questions justes | H10: =G10 -> 0 | I10: =H10 -> 0 | J10: Nb de questions justes | L10: =K10*$K$2 -> 0 | M10: Total moins malus | O10: =N10/3 -> 0 | P10: =L10+O10 -> 0 | Q10: Nb de questions justes | S10: =R10*$R$2 -> 0 | T10: =S10 -> 0 | U10: Nb de questions justes | W10: =V10 -> 0 | X10: Addition des notes des jury (sur 60) | Z10: =(Y10/4*3)/3 -> 0 | AA10: =W10+Z10 -> 0 | AB10: Nb de questions justes | AD10: =AC10 -> 0 | AE10: Addition des notes des jury (sur 20) | AG10: =(AF10/4)/3 -> 0 | AH10: =AD10+AG10 -> 0 | AI10: Nb de questions justes | AK10: =AJ10*$AJ$2 -> 0 | AL10: =AK10 -> 0 | AM10: Addition des notes des jury (sur 20) | AO10: =+AN10/3 -> 0 | AP10: =AO10 -> 0 | AS10: =IF(COUNT(I10,P10,T10,AA10,AH10,AL10,AP10,AQ10)<8,"En attente réalisation",SUM(I10,P10,T10,AA10,AH10,AL10,AP10,AQ10)/8) -> En attente réalisation | AT10: =IF(AS10="En attente réalisation","Non attente Mod.8", IF(AND(AS10>=12,I10>=10,P10>=10,T10>10,AA10>=10,AH10>=10,AL10>=10,AP10>=10,AQ10>=10),"OUI BRAVO","NON ECHEC")) -> Non attente Mod.8
A11: 10h15 | B11: 10h30/11h00 | C11: 8 | F11: Nb de questions justes | H11: =G11 -> 0 | I11: =H11 -> 0 | J11: Nb de questions justes | L11: =K11*$K$2 -> 0 | M11: Total moins malus | O11: =N11/3 -> 0 | P11: =L11+O11 -> 0 | Q11: Nb de questions justes | S11: =R11*$R$2 -> 0 | T11: =S11 -> 0 | U11: Nb de questions justes | W11: =V11 -> 0 | X11: Addition des notes des jury (sur 60) | Z11: =(Y11/4*3)/3 -> 0 | AA11: =W11+Z11 -> 0 | AB11: Nb de questions justes | AD11: =AC11 -> 0 | AE11: Addition des notes des jury (sur 20) | AG11: =(AF11/4)/3 -> 0 | AH11: =AD11+AG11 -> 0 | AI11: Nb de questions justes | AK11: =AJ11*$AJ$2 -> 0 | AL11: =AK11 -> 0 | AM11: Addition des notes des jury (sur 20) | AO11: =+AN11/3 -> 0 | AP11: =AO11 -> 0 | AS11: =IF(COUNT(I11,P11,T11,AA11,AH11,AL11,AP11,AQ11)<8,"En attente réalisation",SUM(I11,P11,T11,AA11,AH11,AL11,AP11,AQ11)/8) -> En attente réalisation | AT11: =IF(AS11="En attente réalisation","Non attente Mod.8", IF(AND(AS11>=12,I11>=10,P11>=10,T11>10,AA11>=10,AH11>=10,AL11>=10,AP11>=10,AQ11>=10),"OUI BRAVO","NON ECHEC")) -> Non attente Mod.8
A12: 11h00 | B12: 11h15/11h45 | C12: 9 | F12: Nb de questions justes | H12: =G12 -> 0 | I12: =H12 -> 0 | J12: Nb de questions justes | L12: =K12*$K$2 -> 0 | M12: Total moins malus | O12: =N12/3 -> 0 | P12: =L12+O12 -> 0 | Q12: Nb de questions justes | S12: =R12*$R$2 -> 0 | T12: =S12 -> 0 | U12: Nb de questions justes | W12: =V12 -> 0 | X12: Addition des notes des jury (sur 60) | Z12: =(Y12/4*3)/3 -> 0 | AA12: =W12+Z12 -> 0 | AB12: Nb de questions justes | AD12: =AC12 -> 0 | AE12: Addition des notes des jury (sur 20) | AG12: =(AF12/4)/3 -> 0 | AH12: =AD12+AG12 -> 0 | AI12: Nb de questions justes | AK12: =AJ12*$AJ$2 -> 0 | AL12: =AK12 -> 0 | AM12: Addition des notes des jury (sur 20) | AO12: =+AN12/3 -> 0 | AP12: =AO12 -> 0 | AS12: =IF(COUNT(I12,P12,T12,AA12,AH12,AL12,AP12,AQ12)<8,"En attente réalisation",SUM(I12,P12,T12,AA12,AH12,AL12,AP12,AQ12)/8) -> En attente réalisation | AT12: =IF(AS12="En attente réalisation","Non attente Mod.8", IF(AND(AS12>=12,I12>=10,P12>=10,T12>10,AA12>=10,AH12>=10,AL12>=10,AP12>=10,AQ12>=10),"OUI BRAVO","NON ECHEC")) -> Non attente Mod.8
A13: 11h45 | B13: 12h00/12h30 | C13: 10 | F13: Nb de questions justes | H13: =G13 -> 0 | I13: =H13 -> 0 | J13: Nb de questions justes | L13: =K13*$K$2 -> 0 | M13: Total moins malus | O13: =N13/3 -> 0 | P13: =L13+O13 -> 0 | Q13: Nb de questions justes | S13: =R13*$R$2 -> 0 | T13: =S13 -> 0 | U13: Nb de questions justes | W13: =V13 -> 0 | X13: Addition des notes des jury (sur 60) | Z13: =(Y13/4*3)/3 -> 0 | AA13: =W13+Z13 -> 0 | AB13: Nb de questions justes | AD13: =AC13 -> 0 | AE13: Addition des notes des jury (sur 20) | AG13: =(AF13/4)/3 -> 0 | AH13: =AD13+AG13 -> 0 | AI13: Nb de questions justes | AK13: =AJ13*$AJ$2 -> 0 | AL13: =AK13 -> 0 | AM13: Addition des notes des jury (sur 20) | AO13: =+AN13/3 -> 0 | AP13: =AO13 -> 0 | AS13: =IF(COUNT(I13,P13,T13,AA13,AH13,AL13,AP13,AQ13)<8,"En attente réalisation",SUM(I13,P13,T13,AA13,AH13,AL13,AP13,AQ13)/8) -> En attente réalisation | AT13: =IF(AS13="En attente réalisation","Non attente Mod.8", IF(AND(AS13>=12,I13>=10,P13>=10,T13>10,AA13>=10,AH13>=10,AL13>=10,AP13>=10,AQ13>=10),"OUI BRAVO","NON ECHEC")) -> Non attente Mod.8
A15: 14h00 | B15: 14h15/14h45 | C15: 11 | F15: Nb de questions justes | H15: =G15 -> 0 | I15: =H15 -> 0 | J15: Nb de questions justes | L15: =K15*$K$2 -> 0 | M15: Total moins malus | O15: =N15/3 -> 0 | P15: =L15+O15 -> 0 | Q15: Nb de questions justes | S15: =R15*$R$2 -> 0 | T15: =S15 -> 0 | U15: Nb de questions justes | W15: =V15 -> 0 | X15: Addition des notes des jury (sur 60) | Z15: =(Y15/4*3)/3 -> 0 | AA15: =W15+Z15 -> 0 | AB15: Nb de questions justes | AD15: =AC15 -> 0 | AE15: Addition des notes des jury (sur 20) | AG15: =(AF15/4)/3 -> 0 | AH15: =AD15+AG15 -> 0 | AI15: Nb de questions justes | AK15: =AJ15*$AJ$2 -> 0 | AL15: =AK15 -> 0 | AM15: Addition des notes des jury (sur 20) | AO15: =+AN15/3 -> 0 | AP15: =AO15 -> 0 | AS15: =IF(COUNT(I15,P15,T15,AA15,AH15,AL15,AP15,AQ15)<8,"En attente réalisation",SUM(I15,P15,T15,AA15,AH15,AL15,AP15,AQ15)/8) -> En attente réalisation | AT15: =IF(AS15="En attente réalisation","Non attente Mod.8", IF(AND(AS15>=12,I15>=10,P15>=10,T15>10,AA15>=10,AH15>=10,AL15>=10,AP15>=10,AQ15>=10),"OUI BRAVO","NON ECHEC")) -> Non attente Mod.8
A16: 14h45 | B16: 15h00/15h30 | C16: 12 | F16: Nb de questions justes | H16: =G16 -> 0 | I16: =H16 -> 0 | J16: Nb de questions justes | L16: =K16*$K$2 -> 0 | M16: Total moins malus | O16: =N16/3 -> 0 | P16: =L16+O16 -> 0 | Q16: Nb de questions justes | S16: =R16*$R$2 -> 0 | T16: =S16 -> 0 | U16: Nb de questions justes | W16: =V16 -> 0 | X16: Addition des notes des jury (sur 60) | Z16: =(Y16/4*3)/3 -> 0 | AA16: =W16+Z16 -> 0 | AB16: Nb de questions justes | AD16: =AC16 -> 0 | AE16: Addition des notes des jury (sur 20) | AG16: =(AF16/4)/3 -> 0 | AH16: =AD16+AG16 -> 0 | AI16: Nb de questions justes | AK16: =AJ16*$AJ$2 -> 0 | AL16: =AK16 -> 0 | AM16: Addition des notes des jury (sur 20) | AO16: =+AN16/3 -> 0 | AP16: =AO16 -> 0 | AS16: =IF(COUNT(I16,P16,T16,AA16,AH16,AL16,AP16,AQ16)<8,"En attente réalisation",SUM(I16,P16,T16,AA16,AH16,AL16,AP16,AQ16)/8) -> En attente réalisation | AT16: =IF(AS16="En attente réalisation","Non attente Mod.8", IF(AND(AS16>=12,I16>=10,P16>=10,T16>10,AA16>=10,AH16>=10,AL16>=10,AP16>=10,AQ16>=10),"OUI BRAVO","NON ECHEC")) -> Non attente Mod.8
... A18: 15h30 | B18: 15h45/16h15 | C18: 14 | F18: Nb de questions justes | H18: =G18 -> 0 | I18: =H18 -> 0 | J18: Nb de questions justes | L18: =K18*$K$2 -> 0 | M18: Total moins malus | O18: =N18/3 -> 0 | P18: =L18+O18 -> 0 | Q18: Nb de questions justes | S18: =R18*$R$2 -> 0 | T18: =S18 -> 0 | U18: Nb de questions justes | W18: =V18 -> 0 | X18: Addition des notes des jury (sur 60) | Z18: =(Y18/4*3)/3 -> 0 | AA18: =W18+Z18 -> 0 | AB18: Nb de questions justes | AD18: =AC18 -> 0 | AE18: Addition des notes des jury (sur 20) | AG18: =(AF18/4)/3 -> 0 | AH18: =AD18+AG18 -> 0 | AI18: Nb de questions justes | AK18: =AJ18*$AJ$2 -> 0 | AL18: =AK18 -> 0 | AM18: Addition des notes des jury (sur 20) | AO18: =+AN18/3 -> 0 | AP18: =AO18 -> 0 | AS18: =IF(COUNT(I18,P18,T18,AA18,AH18,AL18,AP18,AQ18)<8,"En attente réalisation",SUM(I18,P18,T18,AA18,AH18,AL18,AP18,AQ18)/8) -> En attente réalisation | AT18: =IF(AS18="En attente réalisation","Non attente Mod.8", IF(AND(AS18>=12,I18>=10,P18>=10,T18>10,AA18>=10,AH18>=10,AL18>=10,AP18>=10,AQ18>=10),"OUI BRAVO","NON ECHEC")) -> Non attente Mod.8
A20: Mercredi 06/12 | B20: 9h00 | C20: Rattrapage Formation | E20: Module 6 à rattraper | F20: Nb de questions justes | H20: =G20 -> 0 | I20: =H20 -> 0 | J20: Nb de questions justes | L20: =K20*$K$2 -> 0 | M20: Total moins malus | N20: 0 | O20: =N20/3 -> 0 | P20: =L20+O20 -> 0 | Q20: Nb de questions justes | S20: =R20*$R$2 -> 0 | T20: =S20 -> 0 | U20: Addition des notes des jury (sur 60) | W20: =V20 -> 0 | X20: Addition des notes des jury (sur 60) | Z20: =(Y20/4*3)/3 -> 0 | AA20: =W20+Z20 -> 0 | AB20: Nb de questions justes | AD20: =AC20 -> 0 | AE20: Addition des notes des jury (sur 20) | AG20: =(AF20/4)/3 -> 0 | AH20: =AD20+AG20 -> 0 | AI20: Nb de questions justes | AK20: =AJ20*$AJ$2 -> 0 | AL20: =AK20 -> 0 | AM20: Addition des notes des jury (sur 20) | AO20: =+AN20/3 -> 0 | AP20: =AO20 -> 0 | AS20: =(I20+P20+T20+AA20+AH20+AL20+AP20+AQ20)/8 -> 0 | AT20: =IF((AS20<12),"ECHEC","BRAVO") -> ECHEC | AU20: NEANT
A21: Mercredi 06/12 | B21: 08h45/09h00 | C21: Rattrapage VAE | E21: Module 6 à rattraper | F21: Nb de questions justes | H21: =G21 -> 0 | I21: Acquis | J21: Nb de questions justes | L21: =K21*$K$2 -> 0 | M21: Total moins malus | O21: =N21/3 -> 0 | P21: Acquis | Q21: Nb de questions justes | S21: =R21*$R$2 -> 0 | T21: =S21 -> 0 | U21: Addition des notes des jury (sur 60) | W21: =V21 -> 0 | X21: Addition des notes des jury (sur 60) | Z21: =(Y21/4*3)/3 -> 0 | AA21: =W21+Z21 -> 0 | AB21: Nb de questions justes | AD21: =AC21 -> 0 | AE21: Addition des notes des jury (sur 20) | AG21: =(AF21/4)/3 -> 0 | AH21: =AD21+AG21 -> 0 | AI21: Nb de questions justes | AK21: =AJ21*$AJ$2 -> 0 | AL21: =AK21 -> 0 | AM21: Addition des notes des jury (sur 20) | AO21: =+AN21/3 -> 0 | AP21: =AO21 -> 0 | AQ21: / | AR21: / | AS21: / | AT21: OUI | AU21: NEANT
A25: En attente réalisation
A26: 1
A27: 2
A28: 3
A29: 4
A30: 5
A31: 6
A32: 7
A33: 8
A34: 9
A35: 10
A36: 11
A37: 12
... A45: 20

Sheet Synthèse
A1: Relevé de notes Session 2021 - 1 / Serge BOUXIN
L4: VALIDATION CQP CAM
C5: MODULE 1 | D5: MODULE 2 | E5: MODULE 3 | F5: MODULE 4 | G5: MODULE 5 | H5: MODULE 6 | I5: MODULE 7 | J5: MODULE 8 EVALUATION RAPPORT | K5: MODULE 8 DOSSIER COMPLET | L5: NOTE GLOBALE | M5: CQP VALIDÉ ? | N5: MENTION GÉNÉRALE
A6: ='Saisie des notes'!D3 -> 0 | C6: ='Saisie des notes'!I3 -> 0 | D6: ='Saisie des notes'!P3 -> 0 | E6: ='Saisie des notes'!T3 -> 0 | F6: ='Saisie des notes'!AA3 -> 0 | G6: ='Saisie des notes'!AH3 -> 0 | H6: ='Saisie des notes'!AL3 -> 0 | I6: ='Saisie des notes'!AP3 -> 0 | J6: ='Saisie des notes'!AQ3 -> 0 | K6: ='Saisie des notes'!AR3 -> 0 | L6: ='Saisie des notes'!AS3 -> En attente réalisation | M6: ='Saisie des notes'!AT3 -> Non attente Mod.8 | N6: =IF(L6="En attente réalisation","pas de mention",VLOOKUP(L6,Mentions!E6:F10,2)) -> pas de mention
A7: ='Saisie des notes'!D4 -> 0 | C7: ='Saisie des notes'!I4 -> 0 | D7: ='Saisie des notes'!P4 -> 0 | E7: ='Saisie des notes'!T4 -> 0 | F7: ='Saisie des notes'!AA4 -> 0 | G7: ='Saisie des notes'!AH4 -> 0 | H7: ='Saisie des notes'!AL4 -> 0 | I7: ='Saisie des notes'!AP4 -> 0 | J7: ='Saisie des notes'!AQ4 -> 0 | K7: ='Saisie des notes'!AR4 -> 0 | L7: ='Saisie des notes'!AS4 -> En attente réalisation | M7: ='Saisie des notes'!AT4 -> Non attente Mod.8 | N7: =IF(AND(L7<Mentions!$E$7,L7>=Mentions!$E$6),Mentions!$F$7,IF(AND(L7<Mentions!$E$8,L7>=Mentions!$E$7),Mentions!$F$8,IF(AND(L7<Mentions!$E$9,L7>=Mentions!$E$8),Mentions!$F$9,IF(L7>=Mentions!$E$9,Mentions!$F$10,Mentions!$F$6)))) -> MENTION D'EXCELLENCE
A8: ='Saisie des notes'!D5 -> 0 | C8: ='Saisie des notes'!I5 -> 0 | D8: ='Saisie des notes'!P5 -> 0 | E8: ='Saisie des notes'!T5 -> 0 | F8: ='Saisie des notes'!AA5 -> 0 | G8: ='Saisie des notes'!AH5 -> 0 | H8: ='Saisie des notes'!AL5 -> 0 | I8: ='Saisie des notes'!AP5 -> 0 | J8: ='Saisie des notes'!AQ5 -> 0 | K8: ='Saisie des notes'!AR5 -> 0 | L8: ='Saisie des notes'!AS5 -> En attente réalisation | M8: ='Saisie des notes'!AT5 -> Non attente Mod.8 | N8: =IF(AND(L8<Mentions!$E$7,L8>=Mentions!$E$6),Mentions!$F$7,IF(AND(L8<Mentions!$E$8,L8>=Mentions!$E$7),Mentions!$F$8,IF(AND(L8<Mentions!$E$9,L8>=Mentions!$E$8),Mentions!$F$9,IF(L8>=Mentions!$E$9,Mentions!$F$10,Mentions!$F$6)))) -> MENTION D'EXCELLENCE
A9: ='Saisie des notes'!D6 -> 0 | C9: ='Saisie des notes'!I6 -> 0 | D9: ='Saisie des notes'!P6 -> 0 | E9: ='Saisie des notes'!T6 -> 0 | F9: ='Saisie des notes'!AA6 -> 0 | G9: ='Saisie des notes'!AH6 -> 0 | H9: ='Saisie des notes'!AL6 -> 0 | I9: ='Saisie des notes'!AP6 -> 0 | J9: ='Saisie des notes'!AQ6 -> 0 | K9: ='Saisie des notes'!AR6 -> 0 | L9: ='Saisie des notes'!AS6 -> En attente réalisation | M9: ='Saisie des notes'!AT6 -> Non attente Mod.8 | N9: =IF(AND(L9<Mentions!$E$7,L9>=Mentions!$E$6),Mentions!$F$7,IF(AND(L9<Mentions!$E$8,L9>=Mentions!$E$7),Mentions!$F$8,IF(AND(L9<Mentions!$E$9,L9>=Mentions!$E$8),Mentions!$F$9,IF(L9>=Mentions!$E$9,Mentions!$F$10,Mentions!$F$6)))) -> MENTION D'EXCELLENCE
A10: ='Saisie des notes'!D7 -> 0 | C10: ='Saisie des notes'!I7 -> 0 | D10: ='Saisie des notes'!P7 -> 0 | E10: ='Saisie des notes'!T7 -> 0 | F10: ='Saisie des notes'!AA7 -> 0 | G10: ='Saisie des notes'!AH7 -> 0 | H10: ='Saisie des notes'!AL7 -> 0 | I10: ='Saisie des notes'!AP7 -> 0 | J10: ='Saisie des notes'!AQ7 -> 0 | K10: ='Saisie des notes'!AR7 -> 0 | L10: ='Saisie des notes'!AS7 -> En attente réalisation | M10: ='Saisie des notes'!AT7 -> Non attente Mod.8 | N10: =IF(AND(L10<Mentions!$E$7,L10>=Mentions!$E$6),Mentions!$F$7,IF(AND(L10<Mentions!$E$8,L10>=Mentions!$E$7),Mentions!$F$8,IF(AND(L10<Mentions!$E$9,L10>=Mentions!$E$8),Mentions!$F$9,IF(L10>=Mentions!$E$9,Mentions!$F$10,Mentions!$F$6)))) -> MENTION D'EXCELLENCE | P10: PENSEZ A RENVOYER LE TABLEAU AU FORMATEUR QUAND STAGE "EN ATT REALISATION" !!!!!
A12: ='Saisie des notes'!D9 -> 0 | C12: ='Saisie des notes'!I9 -> 0 | D12: ='Saisie des notes'!P9 -> 0 | E12: ='Saisie des notes'!T9 -> 0 | F12: ='Saisie des notes'!AA9 -> 0 | G12: ='Saisie des notes'!AH9 -> 0 | H12: ='Saisie des notes'!AL9 -> 0 | I12: ='Saisie des notes'!AP9 -> 0 | J12: ='Saisie des notes'!AQ9 -> 0 | K12: ='Saisie des notes'!AR9 -> 0 | L12: ='Saisie des notes'!AS9 -> En attente réalisation | M12: ='Saisie des notes'!AT9 -> Non attente Mod.8 | N12: =IF(AND(L12<Mentions!$E$7,L12>=Mentions!$E$6),Mentions!$F$7,IF(AND(L12<Mentions!$E$8,L12>=Mentions!$E$7),Mentions!$F$8,IF(AND(L12<Mentions!$E$9,L12>=Mentions!$E$8),Mentions!$F$9,IF(L12>=Mentions!$E$9,Mentions!$F$10,Mentions!$F$6)))) -> MENTION D'EXCELLENCE
A13: ='Saisie des notes'!D10 -> 0 | C13: ='Saisie des notes'!I10 -> 0 | D13: ='Saisie des notes'!P10 -> 0 | E13: ='Saisie des notes'!T10 -> 0 | F13: ='Saisie des notes'!AA10 -> 0 | G13: ='Saisie des notes'!AH10 -> 0 | H13: ='Saisie des notes'!AL10 -> 0 | I13: ='Saisie des notes'!AP10 -> 0 | J13: ='Saisie des notes'!AQ10 -> 0 | K13: ='Saisie des notes'!AR10 -> 0 | L13: ='Saisie des notes'!AS10 -> En attente réalisation | M13: ='Saisie des notes'!AT10 -> Non attente Mod.8 | N13: =IF(AND(L13<Mentions!$E$7,L13>=Mentions!$E$6),Mentions!$F$7,IF(AND(L13<Mentions!$E$8,L13>=Mentions!$E$7),Mentions!$F$8,IF(AND(L13<Mentions!$E$9,L13>=Mentions!$E$8),Mentions!$F$9,IF(L13>=Mentions!$E$9,Mentions!$F$10,Mentions!$F$6)))) -> MENTION D'EXCELLENCE
A14: ='Saisie des notes'!D11 -> 0 | C14: ='Saisie des notes'!I11 -> 0 | D14: ='Saisie des notes'!P11 -> 0 | E14: ='Saisie des notes'!T11 -> 0 | F14: ='Saisie des notes'!AA11 -> 0 | G14: ='Saisie des notes'!AH11 -> 0 | H14: ='Saisie des notes'!AL11 -> 0 | I14: ='Saisie des notes'!AP11 -> 0 | J14: ='Saisie des notes'!AQ11 -> 0 | K14: ='Saisie des notes'!AR11 -> 0 | L14: ='Saisie des notes'!AS11 -> En attente réalisation | M14: ='Saisie des notes'!AT11 -> Non attente Mod.8 | N14: =IF(AND(L14<Mentions!$E$7,L14>=Mentions!$E$6),Mentions!$F$7,IF(AND(L14<Mentions!$E$8,L14>=Mentions!$E$7),Mentions!$F$8,IF(AND(L14<Mentions!$E$9,L14>=Mentions!$E$8),Mentions!$F$9,IF(L14>=Mentions!$E$9,Mentions!$F$10,Mentions!$F$6)))) -> MENTION D'EXCELLENCE
A15: ='Saisie des notes'!D12 -> 0 | C15: ='Saisie des notes'!I12 -> 0 | D15: ='Saisie des notes'!P12 -> 0 | E15: ='Saisie des notes'!T12 -> 0 | F15: ='Saisie des notes'!AA12 -> 0 | G15: ='Saisie des notes'!AH12 -> 0 | H15: ='Saisie des notes'!AL12 -> 0 | I15: ='Saisie des notes'!AP12 -> 0 | J15: ='Saisie des notes'!AQ12 -> 0 | K15: ='Saisie des notes'!AR12 -> 0 | L15: ='Saisie des notes'!AS12 -> En attente réalisation | M15: ='Saisie des notes'!AT12 -> Non attente Mod.8 | N15: =IF(AND(L15<Mentions!$E$7,L15>=Mentions!$E$6),Mentions!$F$7,IF(AND(L15<Mentions!$E$8,L15>=Mentions!$E$7),Mentions!$F$8,IF(AND(L15<Mentions!$E$9,L15>=Mentions!$E$8),Mentions!$F$9,IF(L15>=Mentions!$E$9,Mentions!$F$10,Mentions!$F$6)))) -> MENTION D'EXCELLENCE
A16: ='Saisie des notes'!D13 -> 0 | C16: ='Saisie des notes'!I13 -> 0 | D16: ='Saisie des notes'!P13 -> 0 | E16: ='Saisie des notes'!T13 -> 0 | F16: ='Saisie des notes'!AA13 -> 0 | G16: ='Saisie des notes'!AH13 -> 0 | H16: ='Saisie des notes'!AL13 -> 0 | I16: ='Saisie des notes'!AP13 -> 0 | J16: ='Saisie des notes'!AQ13 -> 0 | K16: ='Saisie des notes'!AR13 -> 0 | L16: ='Saisie des notes'!AS13 -> En attente réalisation | M16: ='Saisie des notes'!AT13 -> Non attente Mod.8 | N16: =IF(AND(L16<Mentions!$E$7,L16>=Mentions!$E$6),Mentions!$F$7,IF(AND(L16<Mentions!$E$8,L16>=Mentions!$E$7),Mentions!$F$8,IF(AND(L16<Mentions!$E$9,L16>=Mentions!$E$8),Mentions!$F$9,IF(L16>=Mentions!$E$9,Mentions!$F$10,Mentions!$F$6)))) -> MENTION D'EXCELLENCE
A18: ='Saisie des notes'!D15 -> 0 | C18: ='Saisie des notes'!I15 -> 0 | D18: ='Saisie des notes'!P15 -> 0 | E18: ='Saisie des notes'!T15 -> 0 | F18: ='Saisie des notes'!AA15 -> 0 | G18: ='Saisie des notes'!AH15 -> 0 | H18: ='Saisie des notes'!AL15 -> 0 | I18: ='Saisie des notes'!AP15 -> 0 | J18: ='Saisie des notes'!AQ15 -> 0 | K18: ='Saisie des notes'!AR15 -> 0 | L18: ='Saisie des notes'!AS15 -> En attente réalisation | M18: ='Saisie des notes'!AT15 -> Non attente Mod.8 | N18: =IF(AND(L18<Mentions!$E$7,L18>=Mentions!$E$6),Mentions!$F$7,IF(AND(L18<Mentions!$E$8,L18>=Mentions!$E$7),Mentions!$F$8,IF(AND(L18<Mentions!$E$9,L18>=Mentions!$E$8),Mentions!$F$9,IF(L18>=Mentions!$E$9,Mentions!$F$10,Mentions!$F$6)))) -> MENTION D'EXCELLENCE
A19: ='Saisie des notes'!D16 -> 0 | C19: ='Saisie des notes'!I16 -> 0 | D19: ='Saisie des notes'!P16 -> 0 | E19: ='Saisie des notes'!T16 -> 0 | F19: ='Saisie des notes'!AA16 -> 0 | G19: ='Saisie des notes'!AH16 -> 0 | H19: ='Saisie des notes'!AL16 -> 0 | I19: ='Saisie des notes'!AP16 -> 0 | J19: ='Saisie des notes'!AQ16 -> 0 | K19: ='Saisie des notes'!AR16 -> 0 | L19: ='Saisie des notes'!AS16 -> En attente réalisation | M19: ='Saisie des notes'!AT16 -> Non attente Mod.8 | N19: =IF(AND(L19<Mentions!$E$7,L19>=Mentions!$E$6),Mentions!$F$7,IF(AND(L19<Mentions!$E$8,L19>=Mentions!$E$7),Mentions!$F$8,IF(AND(L19<Mentions!$E$9,L19>=Mentions!$E$8),Mentions!$F$9,IF(L19>=Mentions!$E$9,Mentions!$F$10,Mentions!$F$6)))) -> MENTION D'EXCELLENCE
A20: ='Saisie des notes'!D17 -> 0 | C20: ='Saisie des notes'!I17 -> 0 | D20: ='Saisie des notes'!P17 -> 0 | E20: ='Saisie des notes'!T17 -> 0 | F20: ='Saisie des notes'!AA17 -> 0 | G20: ='Saisie des notes'!AH17 -> 0 | H20: ='Saisie des notes'!AL17 -> 0 | I20: ='Saisie des notes'!AP17 -> 0 | J20: ='Saisie des notes'!AQ17 -> 0 | K20: ='Saisie des notes'!AR17 -> 0 | L20: ='Saisie des notes'!AS17 -> En attente réalisation | M20: ='Saisie des notes'!AT17 -> Non attente Mod.8 | N20: =IF(AND(L20<Mentions!$E$7,L20>=Mentions!$E$6),Mentions!$F$7,IF(AND(L20<Mentions!$E$8,L20>=Mentions!$E$7),Mentions!$F$8,IF(AND(L20<Mentions!$E$9,L20>=Mentions!$E$8),Mentions!$F$9,IF(L20>=Mentions!$E$9,Mentions!$F$10,Mentions!$F$6)))) -> MENTION D'EXCELLENCE
A21: ='Saisie des notes'!D18 -> 0 | C21: ='Saisie des notes'!I18 -> 0 | D21: ='Saisie des notes'!P18 -> 0 | E21: ='Saisie des notes'!T18 -> 0 | F21: ='Saisie des notes'!AA18 -> 0 | G21: ='Saisie des notes'!AH18 -> 0 | H21: ='Saisie des notes'!AL18 -> 0 | I21: ='Saisie des notes'!AP18 -> 0 | J21: ='Saisie des notes'!AQ18 -> 0 | K21: ='Saisie des notes'!AR18 -> 0 | L21: ='Saisie des notes'!AS18 -> En attente réalisation | M21: ='Saisie des notes'!AT18 -> Non attente Mod.8 | N21: =IF(AND(L21<Mentions!$E$7,L21>=Mentions!$E$6),Mentions!$F$7,IF(AND(L21<Mentions!$E$8,L21>=Mentions!$E$7),Mentions!$F$8,IF(AND(L21<Mentions!$E$9,L21>=Mentions!$E$8),Mentions!$F$9,IF(L21>=Mentions!$E$9,Mentions!$F$10,Mentions!$F$6)))) -> MENTION D'EXCELLENCE
A23: Meilleure note | C23: =MAX(C6:C21) -> 0 | D23: =MAX(D6:D21) -> 0 | E23: =MAX(E6:E21) -> 0 | F23: =MAX(F6:F21) -> 0 | G23: =MAX(G6:G21) -> 0 | H23: =MAX(H6:H21) -> 0 | I23: =MAX(I6:I21) -> 0 | J23: =MAX(J6:J21) -> 0 | L23: =MAX(L6:L21) -> 0
A24: Basse note | C24: =MIN(C6:C21) -> 0 | D24: =MIN(D6:D21) -> 0 | E24: =MIN(E6:E21) -> 0 | F24: =MIN(F6:F21) -> 0 | G24: =MIN(G6:G21) -> 0 | H24: =MIN(H6:H21) -> 0 | I24: =MIN(I6:I21) -> 0 | J24: =MIN(J6:J21) -> 0 | L24: =MIN(L6:L21) -> 0
A26: Moyenne de tous les candidats | C26: =AVERAGE(C6:C21) -> 0 | D26: =AVERAGE(D6:D21) -> 0 | E26: =AVERAGE(E6:E21) -> 0 | F26: =AVERAGE(F6:F21) -> 0 | G26: =AVERAGE(G6:G21) -> 0 | H26: =AVERAGE(H6:H21) -> 0 | I26: =AVERAGE(I6:I21) -> 0 | J26: =AVERAGE(J6:J21) -> 0 | L26: =AVERAGE(L6:L21) -> #DIV/0!
A28: Note info sur les mentions :
B29: >= 12 et < 13,5 | C29: Pas de mention
B30: >= 13,5 et < 15 | C30: Mention Assez Bien
B31: >= 15 et < 17 | C31: Mention Bien
B32: >= 17 et < 19 | C32: Mention Très Bien
B33: >= 19 | C33: Mention d'Excellence - avec les félicitations du jury !
H35: QUAND "ECHEC" = "NEANT" dans "Mention générale"
L38: VALIDATION CQP CAM
C39: MODULE 1 | D39: MODULE 2 | E39: MODULE 3 | F39: MODULE 4 | G39: MODULE 5 | H39: MODULE 6 | I39: MODULE 7 | J39: MODULE 8 STAGE | L39: NOTE GLOBALE | M39: CQP VALIDÉ | N39: MENTION
A40: ='Saisie des notes'!D20 -> 0 | C40: ='Saisie des notes'!I20 -> 0 | D40: ='Saisie des notes'!P20 -> 0 | E40: ='Saisie des notes'!T20 -> 0 | F40: ='Saisie des notes'!AA20 -> 0 | G40: ='Saisie des notes'!AH20 -> 0 | H40: ='Saisie des notes'!AL20 -> 0 | I40: ='Saisie des notes'!AP20 -> 0 | J40: ='Saisie des notes'!AQ20 -> 0 | K40: ='Saisie des notes'!AR20 -> 0 | L40: ='Saisie des notes'!AS20 -> 0 | M40: ='Saisie des notes'!AT20 -> ECHEC | N40: ='Saisie des notes'!AU20 -> NEANT
A41: ='Saisie des notes'!C20 -> Rattrapage Formation | C41: ='Saisie des notes'!E20 -> Module 6 à rattraper
J43: VALIDATION CQP CAM
C44: MODULE 1 | D44: MODULE 2 | E44: MODULE 3 | F44: MODULE 4 | G44: MODULE 5 | H44: MODULE 6 | I44: MODULE 7 | J44: NOTE GLOBALE | K44: CQP VALIDÉ | L44: MENTION
A45: ='Saisie des notes'!D21 -> 0 | C45: ='Saisie des notes'!I21 -> Acquis | D45: ='Saisie des notes'!P21 -> Acquis | E45: ='Saisie des notes'!T21 -> 0 | F45: ='Saisie des notes'!AA21 -> 0 | G45: ='Saisie des notes'!AH21 -> 0 | H45: ='Saisie des notes'!AL21 -> 0 | I45: ='Saisie des notes'!AP21 -> 0 | J45: ='Saisie des notes'!AS21 -> / | K45: ='Saisie des notes'!AT21 -> OUI | L45: ='Saisie des notes'!AU21 -> NEANT
A46: ='Saisie des notes'!C21 -> Rattrapage VAE | C46: ='Saisie des notes'!E21 -> Module 6 à rattraper

Sheet 1
C2: Environne-ment législatif et réglemen-taire | D2: Règlementa-tion des armes | E2: Transforma-tion / Modification | F2: Ouverture / Reprise d'un commerce | G2: Gestion en armurerie | H2: Import / Export | I2: Manipulation des armes | J2: Stage
L3: VALIDATION CQP CAM
A4: =Synthèse!A6 -> 0 | C4: =Synthèse!C5 -> MODULE 1 | D4: =Synthèse!D5 -> MODULE 2 | E4: =Synthèse!E5 -> MODULE 3 | F4: =Synthèse!F5 -> MODULE 4 | G4: =Synthèse!G5 -> MODULE 5 | H4: =Synthèse!H5 -> MODULE 6 | I4: =Synthèse!I5 -> MODULE 7 | J4: =Synthèse!J5 -> MODULE 8 EVALUATION RAPPORT | K4: =Synthèse!K5 -> MODULE 8 DOSSIER COMPLET | L4: NOTE GLOBALE | M4: CQP VALIDÉ
C5: =Synthèse!C6 -> 0 | D5: =Synthèse!D6 -> 0 | E5: =Synthèse!E6 -> 0 | F5: =Synthèse!F6 -> 0 | G5: =Synthèse!G6 -> 0 | H5: =Synthèse!H6 -> 0 | I5: =Synthèse!I6 -> 0 | J5: =Synthèse!J6 -> 0 | ... M5: =Synthèse!M6 -> Non attente Mod.8
A7: =Synthèse!A23 -> Meilleure note | C7: =Synthèse!C23 -> 0 | D7: =Synthèse!D23 -> 0 | E7: =Synthèse!E23 -> 0 | F7: =Synthèse!F23 -> 0 | G7: =Synthèse!G23 -> 0 | H7: =Synthèse!H23 -> 0 | I7: =Synthèse!I23 -> 0 | J7: =Synthèse!J23 -> 0 | L7: =Synthèse!L23 -> 0
A8: =Synthèse!A24 -> Basse note | C8: =Synthèse!C24 -> 0 | D8: =Synthèse!D24 -> 0 | E8: =Synthèse!E24 -> 0 | F8: =Synthèse!F24 -> 0 | G8: =Synthèse!G24 -> 0 | H8: =Synthèse!H24 -> 0 | I8: =Synthèse!I24 -> 0 | J8: =Synthèse!J24 -> 0 | L8: =Synthèse!L24 -> 0
A10: =Synthèse!A26 -> Moyenne de tous les candidats | C10: =Synthèse!C26 -> 0 | D10: =Synthèse!D26 -> 0 | E10: =Synthèse!E26 -> 0 | F10: =Synthèse!F26 -> 0 | G10: =Synthèse!G26 -> 0 | H10: =Synthèse!H26 -> 0 | I10: =Synthèse!I26 -> 0 | J10: =Synthèse!J26 -> 0 | L10: =Synthèse!L26 -> #DIV/0!
C12: Mention générale : | F12: =Synthèse!N6 -> pas de mention
A14: Note info sur les mentions :
B15: >= 12 et < 13,5 | C15: Pas de mention
B16: >= 13,5 et < 15 | C16: Mention Assez Bien
B17: >= 15 et < 17 | C17: Mention Bien
B18: >= 17 et < 19 | C18: Mention Très Bien
B19: >= 19 | C19: Mention d'Excellence - avec les félicitations du jury !

Sheet 2
C2: Environne-ment législatif et réglemen-taire | D2: Règlementa-tion des armes | E2: Transforma-tion / Modification | F2: Ouverture / Reprise d'un commerce | G2: Gestion en armurerie | H2: Import / Export | I2: Manipulation des armes | J2: Stage
L3: VALIDATION CQP CAM
A4: =Synthèse!A7 -> 0 | C4: =Synthèse!C5 -> MODULE 1 | D4: =Synthèse!D5 -> MODULE 2 | E4: =Synthèse!E5 -> MODULE 3 | F4: =Synthèse!F5 -> MODULE 4 | G4: =Synthèse!G5 -> MODULE 5 | H4: =Synthèse!H5 -> MODULE 6 | I4: =Synthèse!I5 -> MODULE 7 | J4: =Synthèse!J5 -> MODULE 8 EVALUATION RAPPORT | K4: =Synthèse!K5 -> MODULE 8 DOSSIER COMPLET | L4: NOTE GLOBALE | M4: CQP VALIDÉ
C5: =Synthèse!C7 -> 0 | D5: =Synthèse!D7 -> 0 | E5: =Synthèse!E7 -> 0 | F5: =Synthèse!F7 -> 0 | G5: =Synthèse!G7 -> 0 | H5: =Synthèse!H7 -> 0 | I5: =Synthèse!I7 -> 0 | J5: =Synthèse!J7 -> 0 | ... M5: =Synthèse!M7 -> Non attente Mod.8
A7: =Synthèse!A23 -> Meilleure note | C7: =Synthèse!C23 -> 0 | D7: =Synthèse!D23 -> 0 | E7: =Synthèse!E23 -> 0 | F7: =Synthèse!F23 -> 0 | G7: =Synthèse!G23 -> 0 | H7: =Synthèse!H23 -> 0 | I7: =Synthèse!I23 -> 0 | J7: =Synthèse!J23 -> 0 | L7: =Synthèse!L23 -> 0
A8: =Synthèse!A24 -> Basse note | C8: =Synthèse!C24 -> 0 | D8: =Synthèse!D24 -> 0 | E8: =Synthèse!E24 -> 0 | F8: =Synthèse!F24 -> 0 | G8: =Synthèse!G24 -> 0 | H8: =Synthèse!H24 -> 0 | I8: =Synthèse!I24 -> 0 | J8: =Synthèse!J24 -> 0 | L8: =Synthèse!L24 -> 0
A10: =Synthèse!A26 -> Moyenne de tous les candidats | C10: =Synthèse!C26 -> 0 | D10: =Synthèse!D26 -> 0 | E10: =Synthèse!E26 -> 0 | F10: =Synthèse!F26 -> 0 | G10: =Synthèse!G26 -> 0 | H10: =Synthèse!H26 -> 0 | I10: =Synthèse!I26 -> 0 | J10: =Synthèse!J26 -> 0 | L10: =Synthèse!L26 -> #DIV/0!
C12: Mention générale : | F12: =Synthèse!N7 -> MENTION D'EXCELLENCE
A14: Note info sur les mentions :
B15: >= 12 et < 13,5 | C15: Pas de mention
B16: >= 13,5 et < 15 | C16: Mention Assez Bien
B17: >= 15 et < 17 | C17: Mention Bien
B18: >= 17 et < 19 | C18: Mention Très Bien
B19: >= 19 | C19: Mention d'Excellence - avec les félicitations du jury !

Sheet 3
C2: Environne-ment législatif et réglemen-taire | D2: Règlementa-tion des armes | E2: Transforma-tion / Modification | F2: Ouverture / Reprise d'un commerce | G2: Gestion en armurerie | H2: Import / Export | I2: Manipulation des armes | J2: Stage
L3: VALIDATION CQP CAM
A4: =Synthèse!A8 -> 0 | C4: =Synthèse!C5 -> MODULE 1 | D4: =Synthèse!D5 -> MODULE 2 | E4: =Synthèse!E5 -> MODULE 3 | F4: =Synthèse!F5 -> MODULE 4 | G4: =Synthèse!G5 -> MODULE 5 | H4: =Synthèse!H5 -> MODULE 6 | I4: =Synthèse!I5 -> MODULE 7 | J4: =Synthèse!J5 -> MODULE 8 EVALUATION RAPPORT | K4: =Synthèse!K5 -> MODULE 8 DOSSIER COMPLET | L4: NOTE GLOBALE | M4: CQP VALIDÉ
C5: =Synthèse!C8 -> 0 | D5: =Synthèse!D8 -> 0 | E5: =Synthèse!E8 -> 0 | F5: =Synthèse!F8 -> 0 | G5: =Synthèse!G8 -> 0 | H5: =Synthèse!H8 -> 0 | I5: =Synthèse!I8 -> 0 | J5: =Synthèse!J8 -> 0 | ... M5: =Synthèse!M8 -> Non attente Mod.8
A7: =Synthèse!A23 -> Meilleure note | C7: =Synthèse!C23 -> 0 | D7: =Synthèse!D23 -> 0 | E7: =Synthèse!E23 -> 0 | F7: =Synthèse!F23 -> 0 | G7: =Synthèse!G23 -> 0 | H7: =Synthèse!H23 -> 0 | I7: =Synthèse!I23 -> 0 | J7: =Synthèse!J23 -> 0 | L7: =Synthèse!L23 -> 0
A8: =Synthèse!A24 -> Basse note | C8: =Synthèse!C24 -> 0 | D8: =Synthèse!D24 -> 0 | E8: =Synthèse!E24 -> 0 | F8: =Synthèse!F24 -> 0 | G8: =Synthèse!G24 -> 0 | H8: =Synthèse!H24 -> 0 | I8: =Synthèse!I24 -> 0 | J8: =Synthèse!J24 -> 0 | L8: =Synthèse!L24 -> 0
A10: =Synthèse!A26 -> Moyenne de tous les candidats | C10: =Synthèse!C26 -> 0 | D10: =Synthèse!D26 -> 0 | E10: =Synthèse!E26 -> 0 | F10: =Synthèse!F26 -> 0 | G10: =Synthèse!G26 -> 0 | H10: =Synthèse!H26 -> 0 | I10: =Synthèse!I26 -> 0 | J10: =Synthèse!J26 -> 0 | L10: =Synthèse!L26 -> #DIV/0!
C12: Mention générale : | F12: =Synthèse!N8 -> MENTION D'EXCELLENCE
A14: Note info sur les mentions :
B15: >= 12 et < 13,5 | C15: Pas de mention
B16: >= 13,5 et < 15 | C16: Mention Assez Bien
B17: >= 15 et < 17 | C17: Mention Bien
B18: >= 17 et < 19 | C18: Mention Très Bien
B19: >= 19 | C19: Mention d'Excellence - avec les félicitations du jury !

Sheet 4
C2: Environne-ment législatif et réglemen-taire | D2: Règlementa-tion des armes | E2: Transforma-tion / Modification | F2: Ouverture / Reprise d'un commerce | G2: Gestion en armurerie | H2: Import / Export | I2: Manipulation des armes | J2: Stage
L3: VALIDATION CQP CAM
A4: =Synthèse!A9 -> 0 | C4: =Synthèse!C5 -> MODULE 1 | D4: =Synthèse!D5 -> MODULE 2 | E4: =Synthèse!E5 -> MODULE 3 | F4: =Synthèse!F5 -> MODULE 4 | G4: =Synthèse!G5 -> MODULE 5 | H4: =Synthèse!H5 -> MODULE 6 | I4: =Synthèse!I5 -> MODULE 7 | J4: =Synthèse!J5 -> MODULE 8 EVALUATION RAPPORT | K4: =Synthèse!K5 -> MODULE 8 DOSSIER COMPLET | L4: NOTE GLOBALE | M4: CQP VALIDÉ
C5: =Synthèse!C9 -> 0 | D5: =Synthèse!D9 -> 0 | E5: =Synthèse!E9 -> 0 | F5: =Synthèse!F9 -> 0 | G5: =Synthèse!G9 -> 0 | H5: =Synthèse!H9 -> 0 | I5: =Synthèse!I9 -> 0 | J5: =Synthèse!J9 -> 0 | ... M5: =Synthèse!M9 -> Non attente Mod.8
A7: =Synthèse!A23 -> Meilleure note | C7: =Synthèse!C23 -> 0 | D7: =Synthèse!D23 -> 0 | E7: =Synthèse!E23 -> 0 | F7: =Synthèse!F23 -> 0 | G7: =Synthèse!G23 -> 0 | H7: =Synthèse!H23 -> 0 | I7: =Synthèse!I23 -> 0 | J7: =Synthèse!J23 -> 0 | L7: =Synthèse!L23 -> 0
A8: =Synthèse!A24 -> Basse note | C8: =Synthèse!C24 -> 0 | D8: =Synthèse!D24 -> 0 | E8: =Synthèse!E24 -> 0 | F8: =Synthèse!F24 -> 0 | G8: =Synthèse!G24 -> 0 | H8: =Synthèse!H24 -> 0 | I8: =Synthèse!I24 -> 0 | J8: =Synthèse!J24 -> 0 | L8: =Synthèse!L24 -> 0
A10: =Synthèse!A26 -> Moyenne de tous les candidats | C10: =Synthèse!C26 -> 0 | D10: =Synthèse!D26 -> 0 | E10: =Synthèse!E26 -> 0 | F10: =Synthèse!F26 -> 0 | G10: =Synthèse!G26 -> 0 | H10: =Synthèse!H26 -> 0 | I10: =Synthèse!I26 -> 0 | J10: =Synthèse!J26 -> 0 | L10: =Synthèse!L26 -> #DIV/0!
C12: Mention générale : | F12: =Synthèse!N9 -> MENTION D'EXCELLENCE
A14: Note info sur les mentions :
B15: >= 12 et < 13,5 | C15: Pas de mention
B16: >= 13,5 et < 15 | C16: Mention Assez Bien
B17: >= 15 et < 17 | C17: Mention Bien
B18: >= 17 et < 19 | C18: Mention Très Bien
B19: >= 19 | C19: Mention d'Excellence - avec les félicitations du jury !

Sheet 5
C2: Environne-ment législatif et réglemen-taire | D2: Règlementa-tion des armes | E2: Transforma-tion / Modification | F2: Ouverture / Reprise d'un commerce | G2: Gestion en armurerie | H2: Import / Export | I2: Manipulation des armes | J2: Stage
L3: VALIDATION CQP CAM
A4: =Synthèse!A10 -> 0 | C4: =Synthèse!C5 -> MODULE 1 | D4: =Synthèse!D5 -> MODULE 2 | E4: =Synthèse!E5 -> MODULE 3 | F4: =Synthèse!F5 -> MODULE 4 | G4: =Synthèse!G5 -> MODULE 5 | H4: =Synthèse!H5 -> MODULE 6 | I4: =Synthèse!I5 -> MODULE 7 | J4: =Synthèse!J5 -> MODULE 8 EVALUATION RAPPORT | K4: =Synthèse!K5 -> MODULE 8 DOSSIER COMPLET | L4: NOTE GLOBALE | M4: CQP VALIDÉ
C5: =Synthèse!C10 -> 0 | D5: =Synthèse!D10 -> 0 | E5: =Synthèse!E10 -> 0 | F5: =Synthèse!F10 -> 0 | G5: =Synthèse!G10 -> 0 | H5: =Synthèse!H10 -> 0 | I5: =Synthèse!I10 -> 0 | J5: =Synthèse!J10 -> 0 | ... M5: =Synthèse!M10 -> Non attente Mod.8
A7: =Synthèse!A23 -> Meilleure note | C7: =Synthèse!C23 -> 0 | D7: =Synthèse!D23 -> 0 | E7: =Synthèse!E23 -> 0 | F7: =Synthèse!F23 -> 0 | G7: =Synthèse!G23 -> 0 | H7: =Synthèse!H23 -> 0 | I7: =Synthèse!I23 -> 0 | J7: =Synthèse!J23 -> 0 | L7: =Synthèse!L23 -> 0
A8: =Synthèse!A24 -> Basse note | C8: =Synthèse!C24 -> 0 | D8: =Synthèse!D24 -> 0 | E8: =Synthèse!E24 -> 0 | F8: =Synthèse!F24 -> 0 | G8: =Synthèse!G24 -> 0 | H8: =Synthèse!H24 -> 0 | I8: =Synthèse!I24 -> 0 | J8: =Synthèse!J24 -> 0 | L8: =Synthèse!L24 -> 0
A10: =Synthèse!A26 -> Moyenne de tous les candidats | C10: =Synthèse!C26 -> 0 | D10: =Synthèse!D26 -> 0 | E10: =Synthèse!E26 -> 0 | F10: =Synthèse!F26 -> 0 | G10: =Synthèse!G26 -> 0 | H10: =Synthèse!H26 -> 0 | I10: =Synthèse!I26 -> 0 | J10: =Synthèse!J26 -> 0 | L10: =Synthèse!L26 -> #DIV/0!
C12: Mention générale : | F12: =Synthèse!N10 -> MENTION D'EXCELLENCE
A14: Note info sur les mentions :
B15: >= 12 et < 13,5 | C15: Pas de mention
B16: >= 13,5 et < 15 | C16: Mention Assez Bien
B17: >= 15 et < 17 | C17: Mention Bien
B18: >= 17 et < 19 | C18: Mention Très Bien
B19: >= 19 | C19: Mention d'Excellence - avec les félicitations du jury !

Sheet 6
C2: Environne-ment législatif et réglemen-taire | D2: Règlementa-tion des armes | E2: Transforma-tion / Modification | F2: Ouverture / Reprise d'un commerce | G2: Gestion en armurerie | H2: Import / Export | I2: Manipulation des armes | J2: Stage
L3: VALIDATION CQP CAM
A4: =Synthèse!A12 -> 0 | C4: =Synthèse!C5 -> MODULE 1 | D4: =Synthèse!D5 -> MODULE 2 | E4: =Synthèse!E5 -> MODULE 3 | F4: =Synthèse!F5 -> MODULE 4 | G4: =Synthèse!G5 -> MODULE 5 | H4: =Synthèse!H5 -> MODULE 6 | I4: =Synthèse!I5 -> MODULE 7 | J4: =Synthèse!J5 -> MODULE 8 EVALUATION RAPPORT | K4: =Synthèse!K5 -> MODULE 8 DOSSIER COMPLET | L4: NOTE GLOBALE | M4: CQP VALIDÉ
C5: =Synthèse!C12 -> 0 | D5: =Synthèse!D12 -> 0 | E5: =Synthèse!E12 -> 0 | F5: =Synthèse!F12 -> 0 | G5: =Synthèse!G12 -> 0 | H5: =Synthèse!H12 -> 0 | I5: =Synthèse!I12 -> 0 | J5: =Synthèse!J12 -> 0 | ... M5: =Synthèse!M12 -> Non attente Mod.8
A7: =Synthèse!A23 -> Meilleure note | C7: =Synthèse!C23 -> 0 | D7: =Synthèse!D23 -> 0 | E7: =Synthèse!E23 -> 0 | F7: =Synthèse!F23 -> 0 | G7: =Synthèse!G23 -> 0 | H7: =Synthèse!H23 -> 0 | I7: =Synthèse!I23 -> 0 | J7: =Synthèse!J23 -> 0 | L7: =Synthèse!L23 -> 0
A8: =Synthèse!A24 -> Basse note | C8: =Synthèse!C24 -> 0 | D8: =Synthèse!D24 -> 0 | E8: =Synthèse!E24 -> 0 | F8: =Synthèse!F24 -> 0 | G8: =Synthèse!G24 -> 0 | H8: =Synthèse!H24 -> 0 | I8: =Synthèse!I24 -> 0 | J8: =Synthèse!J24 -> 0 | L8: =Synthèse!L24 -> 0
A10: =Synthèse!A26 -> Moyenne de tous les candidats | C10: =Synthèse!C26 -> 0 | D10: =Synthèse!D26 -> 0 | E10: =Synthèse!E26 -> 0 | F10: =Synthèse!F26 -> 0 | G10: =Synthèse!G26 -> 0 | H10: =Synthèse!H26 -> 0 | I10: =Synthèse!I26 -> 0 | J10: =Synthèse!J26 -> 0 | L10: =Synthèse!L26 -> #DIV/0!
C12: Mention générale : | F12: =Synthèse!N12 -> MENTION D'EXCELLENCE
A14: Note info sur les mentions :
B15: >= 12 et < 13,5 | C15: Pas de mention
B16: >= 13,5 et < 15 | C16: Mention Assez Bien
B17: >= 15 et < 17 | C17: Mention Bien
B18: >= 17 et < 19 | C18: Mention Très Bien
B19: >= 19 | C19: Mention d'Excellence - avec les félicitations du jury !

Sheet 7
C2: Environne-ment législatif et réglemen-taire | D2: Règlementa-tion des armes | E2: Transforma-tion / Modification | F2: Ouverture / Reprise d'un commerce | G2: Gestion en armurerie | H2: Import / Export | I2: Manipulation des armes | J2: Stage
L3: VALIDATION CQP CAM
A4: =Synthèse!A13 -> 0 | C4: =Synthèse!C5 -> MODULE 1 | D4: =Synthèse!D5 -> MODULE 2 | E4: =Synthèse!E5 -> MODULE 3 | F4: =Synthèse!F5 -> MODULE 4 | G4: =Synthèse!G5 -> MODULE 5 | H4: =Synthèse!H5 -> MODULE 6 | I4: =Synthèse!I5 -> MODULE 7 | J4: =Synthèse!J5 -> MODULE 8 EVALUATION RAPPORT | K4: =Synthèse!K5 -> MODULE 8 DOSSIER COMPLET | L4: NOTE GLOBALE | M4: CQP VALIDÉ
C5: =Synthèse!C13 -> 0 | D5: =Synthèse!D13 -> 0 | E5: =Synthèse!E13 -> 0 | F5: =Synthèse!F13 -> 0 | G5: =Synthèse!G13 -> 0 | H5: =Synthèse!H13 -> 0 | I5: =Synthèse!I13 -> 0 | J5: =Synthèse!J13 -> 0 | ... M5: =Synthèse!M13 -> Non attente Mod.8
A7: =Synthèse!A23 -> Meilleure note | C7: =Synthèse!C23 -> 0 | D7: =Synthèse!D23 -> 0 | E7: =Synthèse!E23 -> 0 | F7: =Synthèse!F23 -> 0 | G7: =Synthèse!G23 -> 0 | H7: =Synthèse!H23 -> 0 | I7: =Synthèse!I23 -> 0 | J7: =Synthèse!J23 -> 0 | L7: =Synthèse!L23 -> 0
A8: =Synthèse!A24 -> Basse note | C8: =Synthèse!C24 -> 0 | D8: =Synthèse!D24 -> 0 | E8: =Synthèse!E24 -> 0 | F8: =Synthèse!F24 -> 0 | G8: =Synthèse!G24 -> 0 | H8: =Synthèse!H24 -> 0 | I8: =Synthèse!I24 -> 0 | J8: =Synthèse!J24 -> 0 | L8: =Synthèse!L24 -> 0
A10: =Synthèse!A26 -> Moyenne de tous les candidats | C10: =Synthèse!C26 -> 0 | D10: =Synthèse!D26 -> 0 | E10: =Synthèse!E26 -> 0 | F10: =Synthèse!F26 -> 0 | G10: =Synthèse!G26 -> 0 | H10: =Synthèse!H26 -> 0 | I10: =Synthèse!I26 -> 0 | J10: =Synthèse!J26 -> 0 | L10: =Synthèse!L26 -> #DIV/0!
C12: Mention générale : | F12: =Synthèse!N13 -> MENTION D'EXCELLENCE
A14: Note info sur les mentions :
B15: >= 12 et < 13,5 | C15: Pas de mention
B16: >= 13,5 et < 15 | C16: Mention Assez Bien
B17: >= 15 et < 17 | C17: Mention Bien
B18: >= 17 et < 19 | C18: Mention Très Bien
B19: >= 19 | C19: Mention d'Excellence - avec les félicitations du jury !

Sheet 8
C2: Environne-ment législatif et réglemen-taire | D2: Règlementa-tion des armes | E2: Transforma-tion / Modification | F2: Ouverture / Reprise d'un commerce | G2: Gestion en armurerie | H2: Import / Export | I2: Manipulation des armes | J2: Stage
L3: VALIDATION CQP CAM
A4: =Synthèse!A14 -> 0 | C4: =Synthèse!C5 -> MODULE 1 | D4: =Synthèse!D5 -> MODULE 2 | E4: =Synthèse!E5 -> MODULE 3 | F4: =Synthèse!F5 -> MODULE 4 | G4: =Synthèse!G5 -> MODULE 5 | H4: =Synthèse!H5 -> MODULE 6 | I4: =Synthèse!I5 -> MODULE 7 | J4: =Synthèse!J5 -> MODULE 8 EVALUATION RAPPORT | K4: =Synthèse!K5 -> MODULE 8 DOSSIER COMPLET | L4: NOTE GLOBALE | M4: CQP VALIDÉ
C5: =Synthèse!C14 -> 0 | D5: =Synthèse!D14 -> 0 | E5: =Synthèse!E14 -> 0 | F5: =Synthèse!F14 -> 0 | G5: =Synthèse!G14 -> 0 | H5: =Synthèse!H14 -> 0 | I5: =Synthèse!I14 -> 0 | J5: =Synthèse!J14 -> 0 | ... M5: =Synthèse!M14 -> Non attente Mod.8
A7: =Synthèse!A23 -> Meilleure note | C7: =Synthèse!C23 -> 0 | D7: =Synthèse!D23 -> 0 | E7: =Synthèse!E23 -> 0 | F7: =Synthèse!F23 -> 0 | G7: =Synthèse!G23 -> 0 | H7: =Synthèse!H23 -> 0 | I7: =Synthèse!I23 -> 0 | J7: =Synthèse!J23 -> 0 | L7: =Synthèse!L23 -> 0
A8: =Synthèse!A24 -> Basse note | C8: =Synthèse!C24 -> 0 | D8: =Synthèse!D24 -> 0 | E8: =Synthèse!E24 -> 0 | F8: =Synthèse!F24 -> 0 | G8: =Synthèse!G24 -> 0 | H8: =Synthèse!H24 -> 0 | I8: =Synthèse!I24 -> 0 | J8: =Synthèse!J24 -> 0 | L8: =Synthèse!L24 -> 0
A10: =Synthèse!A26 -> Moyenne de tous les candidats | C10: =Synthèse!C26 -> 0 | D10: =Synthèse!D26 -> 0 | E10: =Synthèse!E26 -> 0 | F10: =Synthèse!F26 -> 0 | G10: =Synthèse!G26 -> 0 | H10: =Synthèse!H26 -> 0 | I10: =Synthèse!I26 -> 0 | J10: =Synthèse!J26 -> 0 | L10: =Synthèse!L26 -> #DIV/0!
C12: Mention générale : | F12: =Synthèse!N14 -> MENTION D'EXCELLENCE
A14: Note info sur les mentions :
B15: >= 12 et < 13,5 | C15: Pas de mention
B16: >= 13,5 et < 15 | C16: Mention Assez Bien
B17: >= 15 et < 17 | C17: Mention Bien
B18: >= 17 et < 19 | C18: Mention Très Bien
B19: >= 19 | C19: Mention d'Excellence - avec les félicitations du jury !

Sheet 9
C2: Environne-ment législatif et réglemen-taire | D2: Règlementa-tion des armes | E2: Transforma-tion / Modification | F2: Ouverture / Reprise d'un commerce | G2: Gestion en armurerie | H2: Import / Export | I2: Manipulation des armes | J2: Stage
L3: VALIDATION CQP CAM
A4: =Synthèse!A15 -> 0 | C4: =Synthèse!C5 -> MODULE 1 | D4: =Synthèse!D5 -> MODULE 2 | E4: =Synthèse!E5 -> MODULE 3 | F4: =Synthèse!F5 -> MODULE 4 | G4: =Synthèse!G5 -> MODULE 5 | H4: =Synthèse!H5 -> MODULE 6 | I4: =Synthèse!I5 -> MODULE 7 | J4: =Synthèse!J5 -> MODULE 8 EVALUATION RAPPORT | K4: =Synthèse!K5 -> MODULE 8 DOSSIER COMPLET | L4: NOTE GLOBALE | M4: CQP VALIDÉ
C5: =Synthèse!C15 -> 0 | D5: =Synthèse!D15 -> 0 | E5: =Synthèse!E15 -> 0 | F5: =Synthèse!F15 -> 0 | G5: =Synthèse!G15 -> 0 | H5: =Synthèse!H15 -> 0 | I5: =Synthèse!I15 -> 0 | J5: =Synthèse!J15 -> 0 | ... M5: =Synthèse!M15 -> Non attente Mod.8
A7: =Synthèse!A23 -> Meilleure note | C7: =Synthèse!C23 -> 0 | D7: =Synthèse!D23 -> 0 | E7: =Synthèse!E23 -> 0 | F7: =Synthèse!F23 -> 0 | G7: =Synthèse!G23 -> 0 | H7: =Synthèse!H23 -> 0 | I7: =Synthèse!I23 -> 0 | J7: =Synthèse!J23 -> 0 | L7: =Synthèse!L23 -> 0
A8: =Synthèse!A24 -> Basse note | C8: =Synthèse!C24 -> 0 | D8: =Synthèse!D24 -> 0 | E8: =Synthèse!E24 -> 0 | F8: =Synthèse!F24 -> 0 | G8: =Synthèse!G24 -> 0 | H8: =Synthèse!H24 -> 0 | I8: =Synthèse!I24 -> 0 | J8: =Synthèse!J24 -> 0 | L8: =Synthèse!L24 -> 0
A10: =Synthèse!A26 -> Moyenne de tous les candidats | C10: =Synthèse!C26 -> 0 | D10: =Synthèse!D26 -> 0 | E10: =Synthèse!E26 -> 0 | F10: =Synthèse!F26 -> 0 | G10: =Synthèse!G26 -> 0 | H10: =Synthèse!H26 -> 0 | I10: =Synthèse!I26 -> 0 | J10: =Synthèse!J26 -> 0 | L10: =Synthèse!L26 -> #DIV/0!
C12: Mention générale : | F12: =Synthèse!N15 -> MENTION D'EXCELLENCE
A14: Note info sur les mentions :
B15: >= 12 et < 13,5 | C15: Pas de mention
B16: >= 13,5 et < 15 | C16: Mention Assez Bien
B17: >= 15 et < 17 | C17: Mention Bien
B18: >= 17 et < 19 | C18: Mention Très Bien
B19: >= 19 | C19: Mention d'Excellence - avec les félicitations du jury !

Sheet 10
C2: Environne-ment législatif et réglemen-taire | D2: Règlementa-tion des armes | E2: Transforma-tion / Modification | F2: Ouverture / Reprise d'un commerce | G2: Gestion en armurerie | H2: Import / Export | I2: Manipulation des armes | J2: Stage
L3: VALIDATION CQP CAM
A4: =Synthèse!A16 -> 0 | C4: =Synthèse!C5 -> MODULE 1 | D4: =Synthèse!D5 -> MODULE 2 | E4: =Synthèse!E5 -> MODULE 3 | F4: =Synthèse!F5 -> MODULE 4 | G4: =Synthèse!G5 -> MODULE 5 | H4: =Synthèse!H5 -> MODULE 6 | I4: =Synthèse!I5 -> MODULE 7 | J4: =Synthèse!J5 -> MODULE 8 EVALUATION RAPPORT | K4: =Synthèse!K5 -> MODULE 8 DOSSIER COMPLET | L4: NOTE GLOBALE | M4: CQP VALIDÉ
C5: =Synthèse!C16 -> 0 | D5: =Synthèse!D16 -> 0 | E5: =Synthèse!E16 -> 0 | F5: =Synthèse!F16 -> 0 | G5: =Synthèse!G16 -> 0 | H5: =Synthèse!H16 -> 0 | I5: =Synthèse!I16 -> 0 | J5: =Synthèse!J16 -> 0 | ... M5: =Synthèse!M16 -> Non attente Mod.8
A7: =Synthèse!A23 -> Meilleure note | C7: =Synthèse!C23 -> 0 | D7: =Synthèse!D23 -> 0 | E7: =Synthèse!E23 -> 0 | F7: =Synthèse!F23 -> 0 | G7: =Synthèse!G23 -> 0 | H7: =Synthèse!H23 -> 0 | I7: =Synthèse!I23 -> 0 | J7: =Synthèse!J23 -> 0 | L7: =Synthèse!L23 -> 0
A8: =Synthèse!A24 -> Basse note | C8: =Synthèse!C24 -> 0 | D8: =Synthèse!D24 -> 0 | E8: =Synthèse!E24 -> 0 | F8: =Synthèse!F24 -> 0 | G8: =Synthèse!G24 -> 0 | H8: =Synthèse!H24 -> 0 | I8: =Synthèse!I24 -> 0 | J8: =Synthèse!J24 -> 0 | L8: =Synthèse!L24 -> 0
A10: =Synthèse!A26 -> Moyenne de tous les candidats | C10: =Synthèse!C26 -> 0 | D10: =Synthèse!D26 -> 0 | E10: =Synthèse!E26 -> 0 | F10: =Synthèse!F26 -> 0 | G10: =Synthèse!G26 -> 0 | H10: =Synthèse!H26 -> 0 | I10: =Synthèse!I26 -> 0 | J10: =Synthèse!J26 -> 0 | L10: =Synthèse!L26 -> #DIV/0!
C12: Mention générale : | F12: =Synthèse!N16 -> MENTION D'EXCELLENCE
A14: Note info sur les mentions :
B15: >= 12 et < 13,5 | C15: Pas de mention
B16: >= 13,5 et < 15 | C16: Mention Assez Bien
B17: >= 15 et < 17 | C17: Mention Bien
B18: >= 17 et < 19 | C18: Mention Très Bien
B19: >= 19 | C19: Mention d'Excellence - avec les félicitations du jury !

Sheet 11
C2: Environne-ment législatif et réglemen-taire | D2: Règlementa-tion des armes | E2: Transforma-tion / Modification | F2: Ouverture / Reprise d'un commerce | G2: Gestion en armurerie | H2: Import / Export | I2: Manipulation des armes | J2: Stage
L3: VALIDATION CQP CAM
A4: =Synthèse!A18 -> 0 | C4: =Synthèse!C5 -> MODULE 1 | D4: =Synthèse!D5 -> MODULE 2 | E4: =Synthèse!E5 -> MODULE 3 | F4: =Synthèse!F5 -> MODULE 4 | G4: =Synthèse!G5 -> MODULE 5 | H4: =Synthèse!H5 -> MODULE 6 | I4: =Synthèse!I5 -> MODULE 7 | J4: =Synthèse!J5 -> MODULE 8 EVALUATION RAPPORT | K4: =Synthèse!K5 -> MODULE 8 DOSSIER COMPLET | L4: NOTE GLOBALE | M4: CQP VALIDÉ
C5: =Synthèse!C18 -> 0 | D5: =Synthèse!D18 -> 0 | E5: =Synthèse!E18 -> 0 | F5: =Synthèse!F18 -> 0 | G5: =Synthèse!G18 -> 0 | H5: =Synthèse!H18 -> 0 | I5: =Synthèse!I18 -> 0 | J5: =Synthèse!J18 -> 0 | ... M5: =Synthèse!M18 -> Non attente Mod.8
A7: =Synthèse!A23 -> Meilleure note | C7: =Synthèse!C23 -> 0 | D7: =Synthèse!D23 -> 0 | E7: =Synthèse!E23 -> 0 | F7: =Synthèse!F23 -> 0 | G7: =Synthèse!G23 -> 0 | H7: =Synthèse!H23 -> 0 | I7: =Synthèse!I23 -> 0 | J7: =Synthèse!J23 -> 0 | L7: =Synthèse!L23 -> 0
A8: =Synthèse!A24 -> Basse note | C8: =Synthèse!C24 -> 0 | D8: =Synthèse!D24 -> 0 | E8: =Synthèse!E24 -> 0 | F8: =Synthèse!F24 -> 0 | G8: =Synthèse!G24 -> 0 | H8: =Synthèse!H24 -> 0 | I8: =Synthèse!I24 -> 0 | J8: =Synthèse!J24 -> 0 | L8: =Synthèse!L24 -> 0
A10: =Synthèse!A26 -> Moyenne de tous les candidats | C10: =Synthèse!C26 -> 0 | D10: =Synthèse!D26 -> 0 | E10: =Synthèse!E26 -> 0 | F10: =Synthèse!F26 -> 0 | G10: =Synthèse!G26 -> 0 | H10: =Synthèse!H26 -> 0 | I10: =Synthèse!I26 -> 0 | J10: =Synthèse!J26 -> 0 | L10: =Synthèse!L26 -> #DIV/0!
C12: Mention générale : | F12: =Synthèse!N18 -> MENTION D'EXCELLENCE
A14: Note info sur les mentions :
B15: >= 12 et < 13,5 | C15: Pas de mention
B16: >= 13,5 et < 15 | C16: Mention Assez Bien
B17: >= 15 et < 17 | C17: Mention Bien
B18: >= 17 et < 19 | C18: Mention Très Bien
B19: >= 19 | C19: Mention d'Excellence - avec les félicitations du jury !

Sheet 12
C2: Environne-ment législatif et réglemen-taire | D2: Règlementa-tion des armes | E2: Transforma-tion / Modification | F2: Ouverture / Reprise d'un commerce | G2: Gestion en armurerie | H2: Import / Export | I2: Manipulation des armes | J2: Stage
L3: VALIDATION CQP CAM
A4: =Synthèse!A19 -> 0 | C4: =Synthèse!C5 -> MODULE 1 | D4: =Synthèse!D5 -> MODULE 2 | E4: =Synthèse!E5 -> MODULE 3 | F4: =Synthèse!F5 -> MODULE 4 | G4: =Synthèse!G5 -> MODULE 5 | H4: =Synthèse!H5 -> MODULE 6 | I4: =Synthèse!I5 -> MODULE 7 | J4: =Synthèse!J5 -> MODULE 8 EVALUATION RAPPORT | K4: =Synthèse!K5 -> MODULE 8 DOSSIER COMPLET | L4: NOTE GLOBALE | M4: CQP VALIDÉ
C5: =Synthèse!C19 -> 0 | D5: =Synthèse!D19 -> 0 | E5: =Synthèse!E19 -> 0 | F5: =Synthèse!F19 -> 0 | G5: =Synthèse!G19 -> 0 | H5: =Synthèse!H19 -> 0 | I5: =Synthèse!I19 -> 0 | J5: =Synthèse!J19 -> 0 | ... M5: =Synthèse!M19 -> Non attente Mod.8
A7: =Synthèse!A23 -> Meilleure note | C7: =Synthèse!C23 -> 0 | D7: =Synthèse!D23 -> 0 | E7: =Synthèse!E23 -> 0 | F7: =Synthèse!F23 -> 0 | G7: =Synthèse!G23 -> 0 | H7: =Synthèse!H23 -> 0 | I7: =Synthèse!I23 -> 0 | J7: =Synthèse!J23 -> 0 | L7: =Synthèse!L23 -> 0
A8: =Synthèse!A24 -> Basse note | C8: =Synthèse!C24 -> 0 | D8: =Synthèse!D24 -> 0 | E8: =Synthèse!E24 -> 0 | F8: =Synthèse!F24 -> 0 | G8: =Synthèse!G24 -> 0 | H8: =Synthèse!H24 -> 0 | I8: =Synthèse!I24 -> 0 | J8: =Synthèse!J24 -> 0 | L8: =Synthèse!L24 -> 0
A10: =Synthèse!A26 -> Moyenne de tous les candidats | C10: =Synthèse!C26 -> 0 | D10: =Synthèse!D26 -> 0 | E10: =Synthèse!E26 -> 0 | F10: =Synthèse!F26 -> 0 | G10: =Synthèse!G26 -> 0 | H10: =Synthèse!H26 -> 0 | I10: =Synthèse!I26 -> 0 | J10: =Synthèse!J26 -> 0 | L10: =Synthèse!L26 -> #DIV/0!
C12: Mention générale : | F12: =Synthèse!N19 -> MENTION D'EXCELLENCE
A14: Note info sur les mentions :
B15: >= 12 et < 13,5 | C15: Pas de mention
B16: >= 13,5 et < 15 | C16: Mention Assez Bien
B17: >= 15 et < 17 | C17: Mention Bien
B18: >= 17 et < 19 | C18: Mention Très Bien
B19: >= 19 | C19: Mention d'Excellence - avec les félicitations du jury !

Sheet 13
C2: Environne-ment législatif et réglemen-taire | D2: Règlementa-tion des armes | E2: Transforma-tion / Modification | F2: Ouverture / Reprise d'un commerce | G2: Gestion en armurerie | H2: Import / Export | I2: Manipulation des armes | J2: Stage
L3: VALIDATION CQP CAM
A4: =Synthèse!A20 -> 0 | C4: =Synthèse!C5 -> MODULE 1 | D4: =Synthèse!D5 -> MODULE 2 | E4: =Synthèse!E5 -> MODULE 3 | F4: =Synthèse!F5 -> MODULE 4 | G4: =Synthèse!G5 -> MODULE 5 | H4: =Synthèse!H5 -> MODULE 6 | I4: =Synthèse!I5 -> MODULE 7 | J4: =Synthèse!J5 -> MODULE 8 EVALUATION RAPPORT | K4: =Synthèse!K5 -> MODULE 8 DOSSIER COMPLET | L4: NOTE GLOBALE | M4: CQP VALIDÉ
C5: =Synthèse!C20 -> 0 | D5: =Synthèse!D20 -> 0 | E5: =Synthèse!E20 -> 0 | F5: =Synthèse!F20 -> 0 | G5: =Synthèse!G20 -> 0 | H5: =Synthèse!H20 -> 0 | I5: =Synthèse!I20 -> 0 | J5: =Synthèse!J20 -> 0 | ... M5: =Synthèse!M20 -> Non attente Mod.8
A7: =Synthèse!A23 -> Meilleure note | C7: =Synthèse!C23 -> 0 | D7: =Synthèse!D23 -> 0 | E7: =Synthèse!E23 -> 0 | F7: =Synthèse!F23 -> 0 | G7: =Synthèse!G23 -> 0 | H7: =Synthèse!H23 -> 0 | I7: =Synthèse!I23 -> 0 | J7: =Synthèse!J23 -> 0 | L7: =Synthèse!L23 -> 0
A8: =Synthèse!A24 -> Basse note | C8: =Synthèse!C24 -> 0 | D8: =Synthèse!D24 -> 0 | E8: =Synthèse!E24 -> 0 | F8: =Synthèse!F24 -> 0 | G8: =Synthèse!G24 -> 0 | H8: =Synthèse!H24 -> 0 | I8: =Synthèse!I24 -> 0 | J8: =Synthèse!J24 -> 0 | L8: =Synthèse!L24 -> 0
A10: =Synthèse!A26 -> Moyenne de tous les candidats | C10: =Synthèse!C26 -> 0 | D10: =Synthèse!D26 -> 0 | E10: =Synthèse!E26 -> 0 | F10: =Synthèse!F26 -> 0 | G10: =Synthèse!G26 -> 0 | H10: =Synthèse!H26 -> 0 | I10: =Synthèse!I26 -> 0 | J10: =Synthèse!J26 -> 0 | L10: =Synthèse!L26 -> #DIV/0!
C12: Mention générale : | F12: =Synthèse!N20 -> MENTION D'EXCELLENCE
A14: Note info sur les mentions :
B15: >= 12 et < 13,5 | C15: Pas de mention
B16: >= 13,5 et < 15 | C16: Mention Assez Bien
B17: >= 15 et < 17 | C17: Mention Bien
B18: >= 17 et < 19 | C18: Mention Très Bien
B19: >= 19 | C19: Mention d'Excellence - avec les félicitations du jury !

Sheet 14
C2: Environne-ment législatif et réglemen-taire | D2: Règlementa-tion des armes | E2: Transforma-tion / Modification | F2: Ouverture / Reprise d'un commerce | G2: Gestion en armurerie | H2: Import / Export | I2: Manipulation des armes | J2: Stage
L3: VALIDATION CQP CAM
A4: =Synthèse!A21 -> 0 | C4: =Synthèse!C5 -> MODULE 1 | D4: =Synthèse!D5 -> MODULE 2 | E4: =Synthèse!E5 -> MODULE 3 | F4: =Synthèse!F5 -> MODULE 4 | G4: =Synthèse!G5 -> MODULE 5 | H4: =Synthèse!H5 -> MODULE 6 | I4: =Synthèse!I5 -> MODULE 7 | J4: =Synthèse!J5 -> MODULE 8 EVALUATION RAPPORT | K4: =Synthèse!K5 -> MODULE 8 DOSSIER COMPLET | L4: NOTE GLOBALE | M4: CQP VALIDÉ
C5: =Synthèse!C21 -> 0 | D5: =Synthèse!D21 -> 0 | E5: =Synthèse!E21 -> 0 | F5: =Synthèse!F21 -> 0 | G5: =Synthèse!G21 -> 0 | H5: =Synthèse!H21 -> 0 | I5: =Synthèse!I21 -> 0 | J5: =Synthèse!J21 -> 0 | ... M5: =Synthèse!M21 -> Non attente Mod.8
A7: =Synthèse!A23 -> Meilleure note | C7: =Synthèse!C23 -> 0 | D7: =Synthèse!D23 -> 0 | E7: =Synthèse!E23 -> 0 | F7: =Synthèse!F23 -> 0 | G7: =Synthèse!G23 -> 0 | H7: =Synthèse!H23 -> 0 | I7: =Synthèse!I23 -> 0 | J7: =Synthèse!J23 -> 0 | L7: =Synthèse!L23 -> 0
A8: =Synthèse!A24 -> Basse note | C8: =Synthèse!C24 -> 0 | D8: =Synthèse!D24 -> 0 | E8: =Synthèse!E24 -> 0 | F8: =Synthèse!F24 -> 0 | G8: =Synthèse!G24 -> 0 | H8: =Synthèse!H24 -> 0 | I8: =Synthèse!I24 -> 0 | J8: =Synthèse!J24 -> 0 | L8: =Synthèse!L24 -> 0
A10: =Synthèse!A26 -> Moyenne de tous les candidats | C10: =Synthèse!C26 -> 0 | D10: =Synthèse!D26 -> 0 | E10: =Synthèse!E26 -> 0 | F10: =Synthèse!F26 -> 0 | G10: =Synthèse!G26 -> 0 | H10: =Synthèse!H26 -> 0 | I10: =Synthèse!I26 -> 0 | J10: =Synthèse!J26 -> 0 | L10: =Synthèse!L26 -> #DIV/0!
C12: Mention générale : | F12: =Synthèse!N21 -> MENTION D'EXCELLENCE
A14: Note info sur les mentions :
B15: >= 12 et < 13,5 | C15: Pas de mention
B16: >= 13,5 et < 15 | C16: Mention Assez Bien
B17: >= 15 et < 17 | C17: Mention Bien
B18: >= 17 et < 19 | C18: Mention Très Bien
B19: >= 19 | C19: Mention d'Excellence - avec les félicitations du jury !

Sheet R.F-NOM
A1: =Synthèse!A41 -> Rattrapage Formation
C3: Environne-ment législatif et réglemen-taire | D3: Règlementa-tion des armes | E3: Transforma-tion / Modification | F3: Ouverture / Reprise d'un commerce | G3: Gestion en armurerie | H3: Import / Export | I3: Manipulation des armes | J3: Stage
L4: VALIDATION CQP CAM
A5: =Synthèse!A40 -> 0 | C5: =Synthèse!C5 -> MODULE 1 | D5: =Synthèse!D5 -> MODULE 2 | E5: =Synthèse!E5 -> MODULE 3 | F5: =Synthèse!F5 -> MODULE 4 | G5: =Synthèse!G5 -> MODULE 5 | H5: =Synthèse!H5 -> MODULE 6 | I5: =Synthèse!I5 -> MODULE 7 | J5: =Synthèse!J5 -> MODULE 8 EVALUATION RAPPORT | K5: =Synthèse!K5 -> MODULE 8 DOSSIER COMPLET | L5: NOTE GLOBALE | M5: CQP VALIDÉ
C6: =Synthèse!C40 -> 0 | D6: =Synthèse!D40 -> 0 | E6: =Synthèse!E40 -> 0 | F6: =Synthèse!F40 -> 0 | G6: =Synthèse!G40 -> 0 | H6: =Synthèse!H40 -> 0 | I6: =Synthèse!I40 -> 0 | J6: =Synthèse!J40 -> 0 | ... M6: =Synthèse!M40 -> ECHEC
A8: =Synthèse!A23 -> Meilleure note | C8: =Synthèse!C23 -> 0 | D8: =Synthèse!D23 -> 0 | E8: =Synthèse!E23 -> 0 | F8: =Synthèse!F23 -> 0 | G8: =Synthèse!G23 -> 0 | H8: =Synthèse!H23 -> 0 | I8: =Synthèse!I23 -> 0 | J8: =Synthèse!J23 -> 0 | L8: =Synthèse!L23 -> 0
