Workbook

Sheet Feuil1
A1: Jours | C1: prix TTC | D1: Nbre de cars | E1: Total
A2: 1 | B2: 43108 | C2: 92.4 | D2: 5 | E2: =C2*D2 -> 462
A3: 2 | B3: =WORKDAY(B2,1,feries!$B$2:$B$13) -> 43109 | C3: 92.4 | D3: 5 | E3: =C3*D3 -> 462
A4: 3 | B4: =WORKDAY(B3,1,feries!$B$2:$B$13) -> 43110 | C4: 92.4 | D4: 5 | E4: =C4*D4 -> 462
A5: 4 | B5: =WORKDAY(B4,1,feries!$B$2:$B$13) -> 43111 | C5: 92.4 | D5: 5 | E5: =C5*D5 -> 462
A6: 5 | B6: =WORKDAY(B5,1,feries!$B$2:$B$13) -> 43112 | C6: 92.4 | D6: 5 | E6: =C6*D6 -> 462
A7: 6 | B7: =WORKDAY(B6,1,feries!$B$2:$B$13) -> 43115 | C7: 92.4 | D7: 5 | E7: =C7*D7 -> 462
A8: 7 | B8: =WORKDAY(B7,1,feries!$B$2:$B$13) -> 43116 | C8: 92.4 | D8: 5 | E8: =C8*D8 -> 462
A9: 8 | B9: =WORKDAY(B8,1,feries!$B$2:$B$13) -> 43117 | C9: 92.4 | D9: 5 | E9: =C9*D9 -> 462
A10: 9 | B10: =WORKDAY(B9,1,feries!$B$2:$B$13) -> 43118 | C10: 92.4 | D10: 5 | E10: =C10*D10 -> 462
A11: 10 | B11: =WORKDAY(B10,1,feries!$B$2:$B$13) -> 43119 | C11: 92.4 | D11: 5 | E11: =C11*D11 -> 462
A12: 11 | B12: =WORKDAY(B11,1,feries!$B$2:$B$13) -> 43122 | C12: 92.4 | D12: 5 | E12: =C12*D12 -> 462
A13: 12 | B13: =WORKDAY(B12,1,feries!$B$2:$B$13) -> 43123 | C13: 92.4 | D13: 5 | E13: =C13*D13 -> 462
A14: 13 | B14: =WORKDAY(B13,1,feries!$B$2:$B$13) -> 43124 | C14: 92.4 | D14: 5 | E14: =C14*D14 -> 462
A15: 14 | B15: =WORKDAY(B14,1,feries!$B$2:$B$13) -> 43125 | C15: 92.4 | D15: 5 | E15: =C15*D15 -> 462
A16: BC Janvier | E16: =SUM(E2:E15) -> 6468

Sheet feries
C1: =+'[1]2018'!A1:A2 -> 2018
A2: jour de l'an | B2: =+DATE($C$1,1,1) -> 43101 | C2: =+TEXT(B2,"jjjj") -> lundi
A3: paques | B3: =+DATE(C1,3,29.56+0.979*MOD(204-11*MOD(C1,19),30)-WEEKDAY(DATE(C1,3,28.56+0.979*MOD(204-11*MOD(C1,19),30)))) -> 43191 | C3: =+TEXT(B3,"jjjj") -> dimanche
A4: Lundi de Pâques | B4: =+B3+1 -> 43192 | C4: =+TEXT(B4,"jjjj") -> lundi
A5: Fete du Travail | B5: =+DATE(C1,5,1) -> 43221 | C5: =+TEXT(B5,"jjjj") -> mardi
A6: Armistice | B6: =+DATE(C1,5,8) -> 43228 | C6: =+TEXT(B6,"jjjj") -> mardi
A7: Ascension | B7: =+B3+39 -> 43230 | C7: =+TEXT(B7,"jjjj") -> jeudi
A8: Lundi de pentecote | B8: =+B3+50 -> 43241 | C8: =+TEXT(B8,"jjjj") -> lundi
A9: 14 juillet | B9: =+DATE(C1,7,14) -> 43295 | C9: =+TEXT(B9,"jjjj") -> samedi
A10: Assomption | B10: =+DATE(C1,8,15) -> 43327 | C10: =+TEXT(B10,"jjjj") -> mercredi
A11: Toussaint | B11: =+DATE(C1,11,1) -> 43405 | C11: =+TEXT(B11,"jjjj") -> jeudi
A12: 11 Novembre | B12: =+DATE(C1,11,11) -> 43415 | C12: =+TEXT(B12,"jjjj") -> dimanche
A13: Noel | B13: =+DATE(C1,12,25) -> 43459 | C13: =+TEXT(B13,"jjjj") -> mardi
