Workbook
Name Liste_des_fonctions: #REF!

Sheet AMDEC
A1: AMDEC PRODUIT
A2: N° | B2: G | C2: O | D2: D | E2: RPN
A3: 1 | B3: 7 | C3: 4 | D3: 4 | E3: =B3*C3*D3 -> 112 | F3: =+B3&C3&D3 -> 744 | G3: =+VLOOKUP(F3,Evaluation!$AA$11:$AB$74,2,FALSE) -> orange
A4: 2 | B4: 7 | C4: 4 | D4: 7 | E4: =B4*C4*D4 -> 196 | F4: =+B4&C4&D4 -> 747 | G4: =+VLOOKUP(F4,Evaluation!$AA$11:$AB$74,2,FALSE) -> orange
A5: 3 | B5: 7 | C5: 7 | D5: 7 | E5: =B5*C5*D5 -> 343 | F5: =+B5&C5&D5 -> 777 | G5: =+VLOOKUP(F5,Evaluation!$AA$11:$AB$74,2,FALSE) -> rouge
A6: 4 | B6: 1 | C6: 10 | D6: 4 | E6: =B6*C6*D6 -> 40 | F6: =+B6&C6&D6 -> 1104 | G6: =+VLOOKUP(F6,Evaluation!$AA$11:$AB$74,2,FALSE) -> vert
A7: 5 | B7: 4 | C7: 4 | D7: 4 | E7: =B7*C7*D7 -> 64 | F7: =+B7&C7&D7 -> 444 | G7: =+VLOOKUP(F7,Evaluation!$AA$11:$AB$74,2,FALSE) -> vert
A8: 6 | B8: 1 | C8: 10 | D8: 4 | E8: =B8*C8*D8 -> 40 | F8: =+B8&C8&D8 -> 1104 | G8: =+VLOOKUP(F8,Evaluation!$AA$11:$AB$74,2,FALSE) -> vert
A9: 7 | B9: 10 | C9: 10 | D9: 10 | E9: =B9*C9*D9 -> 1000 | F9: =+B9&C9&D9 -> 101010 | G9: =+VLOOKUP(F9,Evaluation!$AA$11:$AB$74,2,FALSE) -> rouge
A10: 8 | B10: 1 | C10: 10 | D10: 7 | E10: =B10*C10*D10 -> 70 | F10: =+B10&C10&D10 -> 1107 | G10: =+VLOOKUP(F10,Evaluation!$AA$11:$AB$74,2,FALSE) -> vert
A11: 9 | B11: 4 | C11: 4 | D11: 7 | E11: =B11*C11*D11 -> 112 | F11: =+B11&C11&D11 -> 447 | G11: =+VLOOKUP(F11,Evaluation!$AA$11:$AB$74,2,FALSE) -> orange
A12: 10 | B12: 10 | C12: 10 | D12: 10 | E12: =B12*C12*D12 -> 1000 | F12: =+B12&C12&D12 -> 101010 | G12: =+VLOOKUP(F12,Evaluation!$AA$11:$AB$74,2,FALSE) -> rouge
A13: 11 | B13: 10 | C13: 7 | D13: 1 | E13: =B13*C13*D13 -> 70 | F13: =+B13&C13&D13 -> 1071 | G13: =+VLOOKUP(F13,Evaluation!$AA$11:$AB$74,2,FALSE) -> orange
A14: 12 | B14: 4 | C14: 7 | D14: 1 | E14: =B14*C14*D14 -> 28 | F14: =+B14&C14&D14 -> 471 | G14: =+VLOOKUP(F14,Evaluation!$AA$11:$AB$74,2,FALSE) -> vert
... A22: 20 | B22: 7 | C22: 7 | D22: 7 | E22: =B22*C22*D22 -> 343 | F22: =+B22&C22&D22 -> 777 | G22: =+VLOOKUP(F22,Evaluation!$AA$11:$AB$74,2,FALSE) -> rouge

Sheet Evaluation
C1: Détection | G1: Détection | K1: Détection | O1: Détection | Z1: Détection | AD1: Détection | AH1: Détection | AL1: Détection
C2: 1 | G2: 4 | K2: 7 | O2: 10 | Z2: 1 | AD2: 4 | AH2: 7 | AL2: 10
A3: Gravité | C3: Occurrence | G3: Occurrence | K3: Occurrence | O3: Occurrence | X3: Gravité | Z3: Occurrence | AD3: Occurrence | AH3: Occurrence | AL3: Occurrence
C4: 1 | D4: 4 | E4: 7 | F4: 10 | G4: 1 | H4: 4 | I4: 7 | J4: 10 | K4: 1 | L4: 4 | M4: 7 | N4: 10 | O4: 1 | P4: 4 | Q4: 7 | R4: 10 | Z4: 1 | AA4: 4 | AB4: 7 | AC4: 10 | AD4: 1 | AE4: 4 | AF4: 7 | AG4: 10 | AH4: 1 | AI4: 4 | AJ4: 7 | AK4: 10 | AL4: 1 | AM4: 4 | AN4: 7 | AO4: 10
A5: 10 | C5: 10 | D5: 40 | E5: 70 | F5: 100 | G5: =C5*3 -> 30 | H5: =D5*4 -> 160 | I5: =E5*4 -> 280 | J5: =F5*4 -> 400 | K5: =C5*7 -> 70 | L5: =D5*7 -> 280 | M5: =E5*7 -> 490 | N5: =F5*7 -> 700 | O5: =C5*10 -> 100 | P5: =D5*10 -> 400 | Q5: =E5*10 -> 700 | R5: =F5*10 -> 1000 | X5: 10 | Z5: =$X5&$Z$2&Z$4 -> 1011 | AA5: =$X5&$Z$2&AA$4 -> 1014 | AB5: =$X5&$Z$2&AB$4 -> 1017 | AC5: =$X5&$Z$2&AC$4 -> 10110 | AD5: =$X5&$AD$2&AD$4 -> 1041 | AE5: =$X5&$AD$2&AE$4 -> 1044 | AF5: =$X5&$AD$2&AF$4 -> 1047 | AG5: =$X5&$AD$2&AG$4 -> 10410 | AH5: =$X5&$AH$2&AH$4 -> 1071 | AI5: =$X5&$AH$2&AI$4 -> 1074 | AJ5: =$X5&$AH$2&AJ$4 -> 1077 | AK5: =$X5&$AH$2&AK$4 -> 10710 | AL5: =$X5&$AL$2&AL$4 -> 10101 | AM5: =$X5&$AL$2&AM$4 -> 10104 | AN5: =$X5&$AL$2&AN$4 -> 10107 | AO5: =$X5&$AL$2&AO$4 -> 101010
A6: 7 | C6: 7 | D6: 28 | E6: 49 | F6: 70 | G6: =C6*3 -> 21 | H6: =D6*4 -> 112 | I6: =E6*4 -> 196 | J6: =F6*4 -> 280 | K6: =C6*7 -> 49 | L6: =D6*7 -> 196 | M6: =E6*7 -> 343 | N6: =F6*7 -> 490 | O6: =C6*10 -> 70 | P6: =D6*10 -> 280 | Q6: =E6*10 -> 490 | R6: =F6*10 -> 700 | X6: 7 | Z6: =$X6&$Z$2&Z$4 -> 711 | AA6: =$X6&$Z$2&AA$4 -> 714 | AB6: =$X6&$Z$2&AB$4 -> 717 | AC6: =$X6&$Z$2&AC$4 -> 7110 | AD6: =$X6&$AD$2&AD$4 -> 741 | AE6: =$X6&$AD$2&AE$4 -> 744 | AF6: =$X6&$AD$2&AF$4 -> 747 | AG6: =$X6&$AD$2&AG$4 -> 7410 | AH6: =$X6&$AH$2&AH$4 -> 771 | AI6: =$X6&$AH$2&AI$4 -> 774 | AJ6: =$X6&$AH$2&AJ$4 -> 777 | AK6: =$X6&$AH$2&AK$4 -> 7710 | AL6: =$X6&$AL$2&AL$4 -> 7101 | AM6: =$X6&$AL$2&AM$4 -> 7104 | AN6: =$X6&$AL$2&AN$4 -> 7107 | AO6: =$X6&$AL$2&AO$4 -> 71010
A7: 4 | C7: 4 | D7: 16 | E7: 28 | F7: 40 | G7: =C7*4 -> 16 | H7: =D7*4 -> 64 | I7: =E7*4 -> 112 | J7: =F7*4 -> 160 | K7: =C7*7 -> 28 | L7: =D7*7 -> 112 | M7: =E7*7 -> 196 | N7: =F7*7 -> 280 | O7: =C7*10 -> 40 | P7: =D7*10 -> 160 | Q7: =E7*10 -> 280 | R7: =F7*10 -> 400 | X7: 4 | Z7: =$X7&$Z$2&Z$4 -> 411 | AA7: =$X7&$Z$2&AA$4 -> 414 | AB7: =$X7&$Z$2&AB$4 -> 417 | AC7: =$X7&$Z$2&AC$4 -> 4110 | AD7: =$X7&$AD$2&AD$4 -> 441 | AE7: =$X7&$AD$2&AE$4 -> 444 | AF7: =$X7&$AD$2&AF$4 -> 447 | AG7: =$X7&$AD$2&AG$4 -> 4410 | AH7: =$X7&$AH$2&AH$4 -> 471 | AI7: =$X7&$AH$2&AI$4 -> 474 | AJ7: =$X7&$AH$2&AJ$4 -> 477 | AK7: =$X7&$AH$2&AK$4 -> 4710 | AL7: =$X7&$AL$2&AL$4 -> 4101 | AM7: =$X7&$AL$2&AM$4 -> 4104 | AN7: =$X7&$AL$2&AN$4 -> 4107 | AO7: =$X7&$AL$2&AO$4 -> 41010
A8: 1 | C8: 1 | D8: 4 | E8: 7 | F8: 10 | G8: =C8*3 -> 3 | H8: =D8*4 -> 16 | I8: =E8*4 -> 28 | J8: =F8*4 -> 40 | K8: =C8*7 -> 7 | L8: =D8*7 -> 28 | M8: =E8*7 -> 49 | N8: =F8*7 -> 70 | O8: =C8*10 -> 10 | P8: =D8*10 -> 40 | Q8: =E8*10 -> 70 | R8: =F8*10 -> 100 | X8: 1 | Z8: =$X8&$Z$2&Z$4 -> 111 | AA8: =$X8&$Z$2&AA$4 -> 114 | AB8: =$X8&$Z$2&AB$4 -> 117 | AC8: =$X8&$Z$2&AC$4 -> 1110 | AD8: =$X8&$AD$2&AD$4 -> 141 | AE8: =$X8&$AD$2&AE$4 -> 144 | AF8: =$X8&$AD$2&AF$4 -> 147 | AG8: =$X8&$AD$2&AG$4 -> 1410 | AH8: =$X8&$AH$2&AH$4 -> 171 | AI8: =$X8&$AH$2&AI$4 -> 174 | AJ8: =$X8&$AH$2&AJ$4 -> 177 | AK8: =$X8&$AH$2&AK$4 -> 1710 | AL8: =$X8&$AL$2&AL$4 -> 1101 | AM8: =$X8&$AL$2&AM$4 -> 1104 | AN8: =$X8&$AL$2&AN$4 -> 1107 | AO8: =$X8&$AL$2&AO$4 -> 11010
AA11: =$X5&$Z$2&Z$4 -> 1011 | AB11: vert
AA12: =$X5&$Z$2&AA$4 -> 1014 | AB12: vert
AA13: =$X5&$Z$2&AB$4 -> 1017 | AB13: orange
AA14: =$X5&$Z$2&AC$4 -> 10110 | AB14: rouge
AA15: =$X5&$AD$2&AD$4 -> 1041 | AB15: vert
AA16: =$X5&$AD$2&AE$4 -> 1044 | AB16: orange
AA17: =$X5&$AD$2&AF$4 -> 1047 | AB17: rouge
AA18: =$X5&$AD$2&AG$4 -> 10410 | AB18: rouge
AA19: =$X5&$AH$2&AH$4 -> 1071 | AB19: orange
AA20: =$X5&$AH$2&AI$4 -> 1074 | AB20: rouge
AA21: =$X5&$AH$2&AJ$4 -> 1077 | AB21: rouge
AA22: =$X5&$AH$2&AK$4 -> 10710 | AB22: rouge
AA23: =$X5&$AL$2&AL$4 -> 10101 | AB23: rouge
AA24: =$X5&$AL$2&AM$4 -> 10104 | AB24: rouge
AA25: =$X5&$AL$2&AN$4 -> 10107 | AB25: rouge
AA26: =$X5&$AL$2&AO$4 -> 101010 | AB26: rouge
AA27: =$X6&$Z$2&Z$4 -> 711 | AB27: vert
AA28: =$X6&$Z$2&AA$4 -> 714 | AB28: vert
AA29: =$X6&$Z$2&AB$4 -> 717 | AB29: vert
AA30: =$X6&$Z$2&AC$4 -> 7110 | AB30: orange
AA31: =$X6&$AD$2&AD$4 -> 741 | AB31: vert
AA32: =$X6&$AD$2&AE$4 -> 744 | AB32: orange
AA33: =$X6&$AD$2&AF$4 -> 747 | AB33: orange
AA34: =$X6&$AD$2&AG$4 -> 7410 | AB34: rouge
AA35: =$X6&$AH$2&AH$4 -> 771 | AB35: vert
AA36: =$X6&$AH$2&AI$4 -> 774 | AB36: orange
AA37: =$X6&$AH$2&AJ$4 -> 777 | AB37: rouge
AA38: =$X6&$AH$2&AK$4 -> 7710 | AB38: rouge
AA39: =$X6&$AL$2&AL$4 -> 7101 | AB39: vert
AA40: =$X6&$AL$2&AM$4 -> 7104 | AB40: rouge
AA41: =$X6&$AL$2&AN$4 -> 7107 | AB41: rouge
AA42: =$X6&$AL$2&AO$4 -> 71010 | AB42: rouge
AA43: =$X7&$Z$2&Z$4 -> 411 | AB43: vert
AA44: =$X7&$Z$2&AA$4 -> 414 | AB44: vert
AA45: =$X7&$Z$2&AB$4 -> 417 | AB45: vert
AA46: =$X7&$Z$2&AC$4 -> 4110 | AB46: vert
AA47: =$X7&$AD$2&AD$4 -> 441 | AB47: vert
AA48: =$X7&$AD$2&AE$4 -> 444 | AB48: vert
AA49: =$X7&$AD$2&AF$4 -> 447 | AB49: orange
AA50: =$X7&$AD$2&AG$4 -> 4410 | AB50: orange
AA51: =$X7&$AH$2&AH$4 -> 471 | AB51: vert
AA52: =$X7&$AH$2&AI$4 -> 474 | AB52: orange
AA53: =$X7&$AH$2&AJ$4 -> 477 | AB53: orange
AA54: =$X7&$AH$2&AK$4 -> 4710 | AB54: rouge
AA55: =$X7&$AL$2&AL$4 -> 4101 | AB55: vert
AA56: =$X7&$AL$2&AM$4 -> 4104 | AB56: orange
AA57: =$X7&$AL$2&AN$4 -> 4107 | AB57: rouge
AA58: =$X7&$AL$2&AO$4 -> 41010 | AB58: rouge
AA59: =$X8&$Z$2&Z$4 -> 111 | AB59: vert
AA60: =$X8&$Z$2&AA$4 -> 114 | AB60: vert
AA61: =$X8&$Z$2&AB$4 -> 117 | AB61: vert
AA62: =$X8&$Z$2&AC$4 -> 1110 | AB62: vert
AA63: =$X8&$AD$2&AD$4 -> 141 | AB63: vert
AA64: =$X8&$AD$2&AE$4 -> 144 | AB64: vert
AA65: =$X8&$AD$2&AF$4 -> 147 | AB65: vert
AA66: =$X8&$AD$2&AG$4 -> 1410 | AB66: vert
AA67: =$X8&$AH$2&AH$4 -> 171 | AB67: vert
AA68: =$X8&$AH$2&AI$4 -> 174 | AB68: vert
AA69: =$X8&$AH$2&AJ$4 -> 177 | AB69: vert
AA70: =$X8&$AH$2&AK$4 -> 1710 | AB70: vert
AA71: =$X8&$AL$2&AL$4 -> 1101 | AB71: vert
AA72: =$X8&$AL$2&AM$4 -> 1104 | AB72: vert
AA73: =$X8&$AL$2&AN$4 -> 1107 | AB73: vert
AA74: =$X8&$AL$2&AO$4 -> 11010 | AB74: orange
