Workbook

Sheet mails2 GC
A1: SIRET (ou ridet, pseudo siret, Insee) | B1: Adresse mail 2
A2: 33225298000088 | B2: jessika.segouin@apsys.eads.net
A3: 42876450000016 | B3: vdelille@malakoffmederic.com
A4: 56203889300656 | B4: emilie.wadbled@bayer.com
A5: 40025465200011 | B5: frederic.gentil@schneider-electric.com
A6: 32230644000213 | B6: armenio.guiomar@3ds.com
A7: 34738540300097 | B7: laetitia.lenel@3ds.com
A8: 40062807900016 | B8: ressources.humaines@groupe-dassault.com
A9: 44455136000019 | B9: ressources.humaines@groupe-dassault.com
A10: 67980188600038 | B10: bruno.maillard@dassault-falcon.com
A11: 71204245600061 | B11: magaly.oger@dassault-aviation.com
A12: 53929329000018 | B12: mpeyronnel@leclerc-lunel.com
... A24: 40143218200020 | B24: daniele.leung@thalesgroup.com

Sheet LISTEJPM
A1: SIRET (ou ridet, pseudo siret, Insee) | B1: Mails2 GC | C1: Mails1 GC
A2: 32100801300013 | B2: =IF(ISNA(VLOOKUP(A2,'mails2 GC'!$A$2:$B$24,2,1)),"",VLOOKUP(A2,'mails2 GC'!$A$2:$B$24,2,1)) | C2: =IF(ISNA(VLOOKUP(A2,'mails1 GC'!$A$2:$B$254,2,FALSE)),"",VLOOKUP(A2,'mails1 GC'!$A$2:$B$254,2,FALSE)) -> cyril.bourgeois@lablancheporte.fr
A3: 32100801300062 | B3: =IF(ISNA(VLOOKUP(A3,'mails2 GC'!$A$2:$B$24,2,1)),"",VLOOKUP(A3,'mails2 GC'!$A$2:$B$24,2,1)) | C3: =IF(ISNA(VLOOKUP(A3,'mails1 GC'!$A$2:$B$254,2,FALSE)),"",VLOOKUP(A3,'mails1 GC'!$A$2:$B$254,2,FALSE))
A4: 46650068300050 | B4: =IF(ISNA(VLOOKUP(A4,'mails2 GC'!$A$2:$B$24,2,1)),"",VLOOKUP(A4,'mails2 GC'!$A$2:$B$24,2,1)) | C4: =IF(ISNA(VLOOKUP(A4,'mails1 GC'!$A$2:$B$254,2,FALSE)),"",VLOOKUP(A4,'mails1 GC'!$A$2:$B$254,2,FALSE))
A5: 46650068300019 | B5: =IF(ISNA(VLOOKUP(A5,'mails2 GC'!$A$2:$B$24,2,1)),"",VLOOKUP(A5,'mails2 GC'!$A$2:$B$24,2,1)) | C5: =IF(ISNA(VLOOKUP(A5,'mails1 GC'!$A$2:$B$254,2,FALSE)),"",VLOOKUP(A5,'mails1 GC'!$A$2:$B$254,2,FALSE))
A6: 46650068300043 | B6: =IF(ISNA(VLOOKUP(A6,'mails2 GC'!$A$2:$B$24,2,1)),"",VLOOKUP(A6,'mails2 GC'!$A$2:$B$24,2,1)) | C6: =IF(ISNA(VLOOKUP(A6,'mails1 GC'!$A$2:$B$254,2,FALSE)),"",VLOOKUP(A6,'mails1 GC'!$A$2:$B$254,2,FALSE))
A7: 46650068300035 | B7: =IF(ISNA(VLOOKUP(A7,'mails2 GC'!$A$2:$B$24,2,1)),"",VLOOKUP(A7,'mails2 GC'!$A$2:$B$24,2,1)) | C7: =IF(ISNA(VLOOKUP(A7,'mails1 GC'!$A$2:$B$254,2,FALSE)),"",VLOOKUP(A7,'mails1 GC'!$A$2:$B$254,2,FALSE))
A8: 47558159100017 | B8: =IF(ISNA(VLOOKUP(A8,'mails2 GC'!$A$2:$B$24,2,1)),"",VLOOKUP(A8,'mails2 GC'!$A$2:$B$24,2,1)) | C8: =IF(ISNA(VLOOKUP(A8,'mails1 GC'!$A$2:$B$254,2,FALSE)),"",VLOOKUP(A8,'mails1 GC'!$A$2:$B$254,2,FALSE))
A9: 47558159101353 | B9: =IF(ISNA(VLOOKUP(A9,'mails2 GC'!$A$2:$B$24,2,1)),"",VLOOKUP(A9,'mails2 GC'!$A$2:$B$24,2,1)) | C9: =IF(ISNA(VLOOKUP(A9,'mails1 GC'!$A$2:$B$254,2,FALSE)),"",VLOOKUP(A9,'mails1 GC'!$A$2:$B$254,2,FALSE))
A10: 47558159101965 | B10: =IF(ISNA(VLOOKUP(A10,'mails2 GC'!$A$2:$B$24,2,1)),"",VLOOKUP(A10,'mails2 GC'!$A$2:$B$24,2,1)) | C10: =IF(ISNA(VLOOKUP(A10,'mails1 GC'!$A$2:$B$254,2,FALSE)),"",VLOOKUP(A10,'mails1 GC'!$A$2:$B$254,2,FALSE))
A11: 47558159102088 | B11: =IF(ISNA(VLOOKUP(A11,'mails2 GC'!$A$2:$B$24,2,1)),"",VLOOKUP(A11,'mails2 GC'!$A$2:$B$24,2,1)) | C11: =IF(ISNA(VLOOKUP(A11,'mails1 GC'!$A$2:$B$254,2,FALSE)),"",VLOOKUP(A11,'mails1 GC'!$A$2:$B$254,2,FALSE))
A12: 47558159102468 | B12: =IF(ISNA(VLOOKUP(A12,'mails2 GC'!$A$2:$B$24,2,1)),"",VLOOKUP(A12,'mails2 GC'!$A$2:$B$24,2,1)) | C12: =IF(ISNA(VLOOKUP(A12,'mails1 GC'!$A$2:$B$254,2,FALSE)),"",VLOOKUP(A12,'mails1 GC'!$A$2:$B$254,2,FALSE))
A13: 47558159102658 | B13: =IF(ISNA(VLOOKUP(A13,'mails2 GC'!$A$2:$B$24,2,1)),"",VLOOKUP(A13,'mails2 GC'!$A$2:$B$24,2,1)) | C13: =IF(ISNA(VLOOKUP(A13,'mails1 GC'!$A$2:$B$254,2,FALSE)),"",VLOOKUP(A13,'mails1 GC'!$A$2:$B$254,2,FALSE))
A14: 47558159102674 | B14: =IF(ISNA(VLOOKUP(A14,'mails2 GC'!$A$2:$B$24,2,1)),"",VLOOKUP(A14,'mails2 GC'!$A$2:$B$24,2,1)) | C14: =IF(ISNA(VLOOKUP(A14,'mails1 GC'!$A$2:$B$254,2,FALSE)),"",VLOOKUP(A14,'mails1 GC'!$A$2:$B$254,2,FALSE))
A15: 47558159102716 | B15: =IF(ISNA(VLOOKUP(A15,'mails2 GC'!$A$2:$B$24,2,1)),"",VLOOKUP(A15,'mails2 GC'!$A$2:$B$24,2,1)) | C15: =IF(ISNA(VLOOKUP(A15,'mails1 GC'!$A$2:$B$254,2,FALSE)),"",VLOOKUP(A15,'mails1 GC'!$A$2:$B$254,2,FALSE))
... A19: 47558159102898 | B19: =IF(ISNA(VLOOKUP(A19,'mails2 GC'!$A$2:$B$24,2,1)),"",VLOOKUP(A19,'mails2 GC'!$A$2:$B$24,2,1)) | C19: =IF(ISNA(VLOOKUP(A19,'mails1 GC'!$A$2:$B$254,2,FALSE)),"",VLOOKUP(A19,'mails1 GC'!$A$2:$B$254,2,FALSE))

Sheet mails1 GC
A1: SIRET (ou ridet, pseudo siret, Insee) | B1: Adresse mail 1
A2: 32100801300013 | B2: cyril.bourgeois@lablancheporte.fr
A3: 32530710600097 | B3: malala.alankiewicz@cofpart-synergie.com
A4: 47558043700543 | B4: mpcaucheteux@3suisses.fr
A5: 75110899400011 | B5: manuelle.zielinski@cofpart-synergie.com
A6: 32924515300013 | B6: sylvie@marinaviva.fr
A7: 40326772701752 | B7: frederic.migadel@accor.com
A8: 44469850000931 | B8: YRIBEMONT@FREE.FR
A9: 50806718800096 | B9: alexandre.coste@accueil-partenaires.com
A10: 50963371500040 | B10: contact@idilink.fr
A11: 33225298000088 | B11: karine.leclezio@apsys.eads.net
A12: 33225298000096 | B12: jessika.segouin@apsys.eads.net
... A254: 54210303100028 | B254: precilec@zodiac.com
