Workbook
Name Matisse_2025: OFFSET(recrutement!$H$2,,,COUNTIFS(recrutement!F:F,"2025",recrutement!E:E,"H.Matisse Trappes")-1,1)

Sheet recrutement
A1: n° | B1: ID | C1: nom et prénom | D1: date de naissance | E1: ville de résidence | F1: actuellement scolarisé ? | G1: bac (filière) | H1: lycée d'origine | I1: année du bac | J1: profil de parcours | K1: etat du dossier | L1: date convocation | M1: présent à l'entretien | N1: note obtenue | O1: confirmation inscription
A2: =ROW(A1) -> 1
A3: =ROW(A2) -> 2
A4: =ROW(A3) -> 3
A5: =ROW(A4) -> 4
A6: =ROW(A5) -> 5
A7: =ROW(A6) -> 6
A8: =ROW(A7) -> 7
A9: =ROW(A8) -> 8
A10: =ROW(A9) -> 9
A11: =ROW(A10) -> 10
A12: =ROW(A11) -> 11
A13: =ROW(A12) -> 12
... A66: =ROW(A65) -> 65

Sheet bilan scolaire
A1: NE PAS REMPLIR POUR LE MOMENT - TEST EN COURS
A2: id | B2: nom | C2: lycée | D2: année | E2: abs/nj | F2: maths | G2: français | H2: bio /soins | I2: anim/sms | J2: nut/tech pro | K2: avis profs | L2: info | M2: numérique
A3: recupérer la cellule ID feuille recrutement | B3: récupérer la cellule nom feuille recrutement | C3: récupérer la cellule lycée d'origine feuille recrutement | D3: 2ND
D4: 2ND
D5: 1ERE
D6: 1ERE
D7: TALE
D8: TALE
D9: stage 1
D10: stage 2
D11: stage 3
D12: stage 4
D13: stage 5
D14: stage 6
A15: DOCS | B15: PI | C15: LM | D15: CV | E15: SPSPV | F15: BS 2nd | G15: BS 1ere | H15: BS Tale | I15: STAGE | J15: AT | K15: PCOMPL

Sheet listes
A1: lycée | B1: profil | C1: etat du dossier | D1: bac (filière) | E1: réponse
A2: H.Matisse Trappes | B2: partiel assp | C2: vide | D2: assp | E2: oui
A3: Jean Moulin Le Chesnay | C3: incomplet | E3: non
A4: Les Chataigniers Versailles | C4: complet
A5: MFR Rambouillet | C5: non conforme
A6: J.Vaucanson Les Mureaux
A7: L. Senghor Magnanville
A8: A.Bolland Poissy
A9: L.Weiss Acheres
A10: C.Claudel Mantes

Sheet statistiques recrutement
A1: CE TABLEAU SE REMPLIT AUTOMATIQUEMENT - NE PAS MODIFIER LES FORMULES (SAUF SI AJOUT DE TYPES DE BAC OU NOM DE LYCEES)
A2: nombre de candidatures | B2: =COUNTA(recrutement!C:C)-1 -> 0
A3: candidats convoqués à la sélection (dossier validé) | B3: =K16+K30 -> 0 | C3: =(B3*100)/B2 -> #DIV/0! | D3: par rapport au nombre total de candidatures
A4: candidats présents à l'entretien | B4: =COUNTIF(recrutement!M:M,"oui") -> 0 | C4: =(B4*100)/B3 -> #DIV/0! | D4: par rapport au nombre de convoqués
A5: candidats reçus | B5: =COUNTIF(recrutement!N:N,">=10") -> 0 | C5: =(B5*100)/B3 -> #DIV/0! | D5: par rapport au nombre de convoqués | H5: =(B5*100)/B4 -> #DIV/0! | I5: par rapport au nombre de présents à l'entretien
A6: candidats ajournés | B6: =COUNTIF(recrutement!N:N,"<10") -> 0 | C6: =(B6*100)/B3 -> #DIV/0! | D6: par rapport au nombre de convoqués | H6: =(B6*100)/B4 -> #DIV/0! | I6: par rapport au nombre de présents à l'entretien
A7: pression sélective | B7: =B3/24 -> 0 | D7: nombre de candidats ayant passé la sélection par rapport au nombre de places
A9: BACS 2025
A10: Lycée d'origine | B10: nb | C10: % | D10: bac (filière) | E10: nb | F10: % | G10: parcours | H10: nb | I10: % | J10: dossiers | K10: nb | L10: %
A11: H.Matisse Trappes | B11: =COUNTIFS(recrutement!I:I,"2025",recrutement!H:H,"H.Matisse Trappes") -> 0 | C11: =(B11*100)/B21 -> #DIV/0! | D11: assp | E11: =COUNTIFS(recrutement!I:I,"2025",recrutement!G:G,"assp") -> 0 | F11: =(E11*100)/B21 -> #DIV/0! | G11: partiel assp | H11: =COUNTIFS(recrutement!I:I,"2025",recrutement!J:J,"partiel assp") -> 0 | I11: =(H11*100)/B21 -> #DIV/0! | J11: vide | K11: =COUNTIFS(recrutement!I:I,"2025",recrutement!K:K,"vide") -> 0 | L11: =(K11*100)/B21 -> #DIV/0!
A12: Jean Moulin Le Chesnay | B12: =COUNTIFS(recrutement!I:I,"2025",recrutement!H:H,"Jean Moulin Le Chesnay") -> 0 | C12: =(B12*100)/B21 -> #DIV/0! | J12: non conforme | K12: =COUNTIFS(recrutement!I:I,"2025",recrutement!K:K,"non conforme") -> 0 | L12: =(K12*100)/B21 -> #DIV/0!
A13: Les Chataigniers Versailles | B13: =COUNTIFS(recrutement!I:I,"2025",recrutement!H:H,"Les Chataigniers Versailles") -> 0 | C13: =(B13*100)/B21 -> #DIV/0! | J13: incomplet | K13: =COUNTIFS(recrutement!I:I,"2025",recrutement!K:K,"incomplet") -> 0 | L13: =(K13*100)/B21 -> #DIV/0!
A14: MFR Rambouillet | B14: =COUNTIFS(recrutement!I:I,"2025",recrutement!H:H,"MFR Rambouillet") -> 0 | C14: =(B14*100)/B21 -> #DIV/0! | J14: complet | K14: =COUNTIFS(recrutement!I:I,"2025",recrutement!K:K,"complet") -> 0 | L14: =(K14*100)/B21 -> #DIV/0!
A15: J.Vaucanson Les Mureaux | B15: =COUNTIFS(recrutement!I:I,"2025",recrutement!H:H,"J.Vaucanson Les Mureaux") -> 0 | C15: =(B15*100)/B21 -> #DIV/0!
A16: L. Senghor Magnanville | B16: =COUNTIFS(recrutement!I:I,"2025",recrutement!H:H,"L. Senghor Magnanville") -> 0 | C16: =(B16*100)/B21 -> #DIV/0! | J16: convoqués 2025 | K16: =SUM(K13:K14) -> 0
A17: A.Bolland Poissy | B17: =COUNTIFS(recrutement!I:I,"2025",recrutement!H:H,"A.Bolland Poissy") -> 0 | C17: =(B17*100)/B21 -> #DIV/0!
A18: L.Weiss Acheres | B18: =COUNTIFS(recrutement!I:I,"2025",recrutement!H:H,"L.Weiss Acheres") -> 0 | C18: =(B18*100)/B21 -> #DIV/0!
A19: C.Claudel Mantes | B19: =COUNTIFS(recrutement!I:I,"2025",recrutement!H:H,"C.Claudel Mantes") -> 0 | C19: =(B19*100)/B21 -> #DIV/0!
A21: TOTAL | B21: =SUM(B11:B19) -> 0 | C21: 1
A23: BACS 2024
A24: Lycée d'origine | B24: nb | C24: % | D24: bac (filière) | E24: nb | F24: % | G24: parcours | H24: nb | I24: % | J24: dossiers | K24: nb | L24: %
A25: H.Matisse Trappes | B25: =COUNTIFS(recrutement!I:I,"2024",recrutement!H:H,"H.Matisse Trappes") -> 0 | C25: =(B25*100)/B35 -> #DIV/0! | D25: assp | E25: =COUNTIFS(recrutement!I:I,"2024",recrutement!G:G,"assp") -> 0 | F25: =(E25*100)/B35 -> #DIV/0! | G25: partiel assp | H25: =COUNTIFS(recrutement!I:I,"2024",recrutement!J:J,"partiel assp") -> 0 | I25: =(H25*100)/B35 -> #DIV/0! | J25: vide | K25: =COUNTIFS(recrutement!I:I,"2024",recrutement!K:K,"vide") -> 0 | L25: =(K25*100)/B35 -> #DIV/0!
A26: Jean Moulin Le Chesnay | B26: =COUNTIFS(recrutement!I:I,"2024",recrutement!H:H,"Jean Moulin Le Chesnay") -> 0 | C26: =(B26*100)/B35 -> #DIV/0! | J26: non conforme | K26: =COUNTIFS(recrutement!I:I,"2024",recrutement!K:K,"non conforme") -> 0 | L26: =(K26*100)/B35 -> #DIV/0!
A27: Les Chataigniers Versailles | B27: =COUNTIFS(recrutement!I:I,"2024",recrutement!H:H,"Les Chataigniers Versailles") -> 0 | C27: =(B27*100)/B35 -> #DIV/0! | J27: incomplet | K27: =COUNTIFS(recrutement!I:I,"2024",recrutement!K:K,"incomplet") -> 0 | L27: =(K27*100)/B35 -> #DIV/0!
A28: MFR Rambouillet | B28: =COUNTIFS(recrutement!I:I,"2024",recrutement!H:H,"MFR Rambouillet") -> 0 | C28: =(B28*100)/B35 -> #DIV/0! | J28: complet | K28: =COUNTIFS(recrutement!I:I,"2024",recrutement!K:K,"complet") -> 0 | L28: =(K28*100)/B35 -> #DIV/0!
A29: J.Vaucanson Les Mureaux | B29: =COUNTIFS(recrutement!I:I,"2024",recrutement!H:H,"J.Vaucanson Les Mureaux") -> 0 | C29: =(B29*100)/B35 -> #DIV/0!
A30: L. Senghor Magnanville | B30: =COUNTIFS(recrutement!I:I,"2024",recrutement!H:H,"L. Senghor Magnanville") -> 0 | C30: =(B30*100)/B35 -> #DIV/0! | J30: convoqués 2024 | K30: =SUM(K27:K28) -> 0
A31: A.Bolland Poissy | B31: =COUNTIFS(recrutement!I:I,"2024",recrutement!H:H,"A.Bolland Poissy") -> 0 | C31: =(B31*100)/B35 -> #DIV/0!
A32: L.Weiss Acheres | B32: =COUNTIFS(recrutement!I:I,"2024",recrutement!H:H,"L.Weiss Acheres") -> 0 | C32: =(B32*100)/B35 -> #DIV/0!
A33: C.Claudel Mantes | B33: =COUNTIFS(recrutement!I:I,"2024",recrutement!H:H,"C.Claudel Mantes") -> 0 | C33: =(B33*100)/B35 -> #DIV/0!
A35: TOTAL | B35: =SUM(B25:B33) -> 0 | C35: 1
A37: GLOBAL
A38: Lycée d'origine | B38: nb | C38: % | D38: bac (filière) | E38: nb | F38: % | G38: parcours | H38: nb | I38: % | J38: dossiers | K38: nb | L38: %
A39: H.Matisse Trappes | B39: =COUNTIF(recrutement!H:H,"H.Matisse Trappes") -> 0 | C39: =(B39*100)/B49 -> #DIV/0! | D39: assp | E39: =COUNTIF(recrutement!G:G,"assp") -> 0 | F39: =(E39*100)/B49 -> #DIV/0! | G39: partiel assp | H39: =COUNTIF(recrutement!J:J,"partiel assp") -> 0 | I39: =(H39*100)/B49 -> #DIV/0! | J39: vide | K39: =COUNTIF(recrutement!K:K,"vide") -> 0 | L39: =(K39*100)/B49 -> #DIV/0!
A40: Jean Moulin Le Chesnay | B40: =COUNTIF(recrutement!H:H,"Jean Moulin Le Chesnay") -> 0 | C40: =(B40*100)/B49 -> #DIV/0! | J40: non conforme | K40: =COUNTIF(recrutement!K:K,"non conforme") -> 0 | L40: =(K40*100)/B49 -> #DIV/0!
A41: Les Chataigniers Versailles | B41: =COUNTIF(recrutement!H:H,"Les Chataigniers Versailles") -> 0 | C41: =(B41*100)/B49 -> #DIV/0! | J41: incomplet | K41: =COUNTIF(recrutement!K:K,"incomplet") -> 0 | L41: =(K41*100)/B49 -> #DIV/0!
A42: MFR Rambouillet | B42: =COUNTIF(recrutement!H:H,"MFR Rambouillet") -> 0 | C42: =(B42*100)/B49 -> #DIV/0! | J42: complet | K42: =COUNTIF(recrutement!K:K,"complet") -> 0 | L42: =(K42*100)/B49 -> #DIV/0!
A43: J.Vaucanson Les Mureaux | B43: =COUNTIF(recrutement!H:H,"J.Vaucanson Les Mureaux") -> 0 | C43: =(B43*100)/B49 -> #DIV/0!
A44: L. Senghor Magnanville | B44: =COUNTIF(recrutement!H:H,"L. Senghor Magnanville") -> 0 | C44: =(B44*100)/B49 -> #DIV/0! | J44: convoqués | K44: =SUM(K41:K42) -> 0
A45: A.Bolland Poissy | B45: =COUNTIF(recrutement!H:H,"A.Bolland Poissy") -> 0 | C45: =(B45*100)/B49 -> #DIV/0!
A46: L.Weiss Acheres | B46: =COUNTIF(recrutement!H:H,"L.Weiss Acheres") -> 0 | C46: =(B46*100)/B49 -> #DIV/0!
A47: C.Claudel Mantes | B47: =COUNTIF(recrutement!H:H,"C.Claudel Mantes") -> 0 | C47: =(B47*100)/B49 -> #DIV/0!
A49: TOTAL | B49: =SUM(B39:B47) -> 0 | C49: 1
