Workbook

Sheet MO Qte
A3: MO
B5: P.U. | E5: 26 | F5: 26 | G5: 26 | H5: 26 | J5: =H5 -> 26 | L5: =IFERROR(L6/(L11+#REF!),"") | M5: =IFERROR(J5-L5,"") | O5: =H5 -> 26 | Q5: =IFERROR(Q6/(Q11+#REF!),"") | R5: =IFERROR(O5-Q5,"") | T5: =H5 -> 26 | V5: =IFERROR(V6/(V11+#REF!),"") | W5: =IFERROR(H5-V5,"")
B6: MONTANT | E6: =IFERROR(E5*(E11+#REF!),"") | F6: =IFERROR(F5*(F11+#REF!),"") | G6: =IFERROR(G5*(G11+#REF!),"") | H6: =IFERROR(H5*(H11+#REF!),"") | J6: =IFERROR(J5*(J11+#REF!),"") | L6: =IFERROR(Q6+AE6,"") -> 0 | M6: =IFERROR(J6-L6,"") | O6: =IFERROR(O5*(O11+#REF!),"") | R6: =IFERROR(O6-Q6,"") | T6: =IFERROR(T5*(T11+#REF!),"") | V6: =IFERROR(L6+T6,"") | W6: =IFERROR(H6-V6,"")
J7: xxxxxxx | K7: xxxxxxx | P7: xxxxxxx | AC7: xxxxxxx | AD7: xxxxxxx
E8: BUDG. Réf. | F8: Trsf. +/- | G8: TS | H8: BUDG. Réf. | J8: CUMUL A FIN JUIN-2016 | O8: MOIS DE JUIN-2016 | T8: RAD | V8: CUMUL FDC | AC8: CUMUL A FIN MAI-2016
A9: CODE | B9: Description | C9: . | D9: Unité | E9: Qté | F9: Qté | G9: Qté | H9: Qté | I9: . | J9: Budget Avancé | L9: Dépenses | M9: Ecart | N9: . | O9: Budget Avancé | Q9: Dépenses | R9: Ecart | S9: . | T9: Qtés | U9: . | V9: Dépenses | W9: Ecarts | AC9: Budget Avancé | AE9: Dépenses | AF9: Ecart
D10: Res. | J10: Qté | K10: % | L10: Qté | M10: Qté | O10: Qté | P10: % | Q10: Qté | R10: Qté | V10: Qté | W10: Qté | AC10: Qté | AD10: % | AE10: Qté | AF10: Qté
B11: PART PROPRE | D11: H | E11: =E12+E23+E34+E37+E40+E56 -> 328935.82 | F11: =F12+F23+F34+F37+F40+F56 -> 0 | G11: =G12+G23+G34+G37+G40+G56 -> 0 | H11: =H12+H23+H34+H37+H40+H56 -> 328935.82 | J11: =J12+J23+J34+J37+J40+J56 -> 328936.97 | K11: =IFERROR(J11/H11,"") -> 1.0000035 | L11: =L12+L23+L34+L37+L40+L56 -> 162 | M11: =M12+M23+M34+M37+M40+M56 -> 328774.97 | O11: =O12+O23+O34+O37+O40+O56 -> 328936.97 | P11: =IFERROR(O11/M11,"") -> 1.0004927 | Q11: =Q12+Q23+Q34+Q37+Q40+Q56 -> 162 | R11: =R12+R23+R34+R37+R40+R56 -> 328774.97 | T11: =T12+T23+T34+T37+T40+T56 -> 328773.82 | V11: =V12+V23+V34+V37+V40+V56 -> 328935.82 | W11: =W12+W23+W34+W37+W40+W56 -> 0
A12: BOXATO.GG.R.1 | B12: SUP 1 | D12: H | E12: =SUM(E13:E22) -> 8883.7827 | F12: =SUM(F13:F22) -> 0 | G12: =SUM(G13:G22) -> 0 | H12: =SUM(H13:H22) -> 8883.7827 | J12: =SUM(J13:J22) -> 8884.9371 | K12: =IFERROR(J12/H12,"") -> 1.0001299 | L12: =SUM(L13:L22) -> 104 | M12: =SUM(M13:M22) -> 8780.9371 | O12: =SUM(O13:O22) -> 8884.9371 | P12: =IFERROR(O12/M12,"") -> 1.0118438 | Q12: =SUM(Q13:Q22) -> 104 | R12: =SUM(R13:R22) -> 8780.9371 | T12: =SUM(T13:T22) -> 8779.7827 | V12: =SUM(V13:V22) -> 8883.7827 | W12: =SUM(W13:W22) -> 0
B13: SUP1.1 | D13: H | E13: 410.8 | H13: =SUM(E13:G13) -> 410.8 | J13: =H13*K13/100 -> 410.8 | K13: ='BETON Qte'!K13 -> 100 | L13: =Q13+AE13 -> 0 | M13: =J13-L13 -> 410.8 | O13: =J13-AC13 -> 410.8 | P13: =IFERROR(O13/M13,0) -> 1 | R13: =O13-Q13 -> 410.8 | T13: =H13-L13 -> 410.8 | V13: =L13+T13 -> 410.8 | W13: =H13-V13 -> 0
B14: SUP1.2 | D14: H | E14: 304.2 | H14: =SUM(E14:G14) -> 304.2 | J14: =H14*K14/100 -> 304.2 | K14: ='BETON Qte'!K14 -> 100 | L14: =Q14+AE14 -> 0 | M14: =J14-L14 -> 304.2 | O14: =J14-AC14 -> 304.2 | P14: =IFERROR(O14/M14,0) -> 1 | R14: =O14-Q14 -> 304.2 | T14: =H14-L14 -> 304.2 | V14: =L14+T14 -> 304.2 | W14: =H14-V14 -> 0
B15: SUP1.3 | D15: H | E15: 674.18 | H15: =SUM(E15:G15) -> 674.18 | J15: =H15*K15/100 -> 674.18 | K15: ='BETON Qte'!K15 -> 100 | L15: =Q15+AE15 -> 26 | M15: =J15-L15 -> 648.18 | O15: =J15-AC15 -> 674.18 | P15: =IFERROR(O15/M15,0) -> 1.0401123 | Q15: 26 | R15: =O15-Q15 -> 648.18 | T15: =H15-L15 -> 648.18 | V15: =L15+T15 -> 674.18 | W15: =H15-V15 -> 0
B16: SUP1.4 | D16: H | E16: 2488.9332 | H16: =SUM(E16:G16) -> 2488.9332 | J16: =H16*K16/100 -> 2488.9332 | K16: ='BETON Qte'!K16 -> 100 | L16: =Q16+AE16 -> 26 | M16: =J16-L16 -> 2462.9332 | O16: =J16-AC16 -> 2488.9332 | P16: =IFERROR(O16/M16,0) -> 1.0105565 | Q16: 26 | R16: =O16-Q16 -> 2462.9332 | T16: =H16-L16 -> 2462.9332 | V16: =L16+T16 -> 2488.9332 | W16: =H16-V16 -> 0
B17: SUP1.5 | D17: H | E17: 1389.96 | H17: =SUM(E17:G17) -> 1389.96 | J17: =H17*K17/100 -> 1389.96 | K17: ='BETON Qte'!K17 -> 100 | L17: =Q17+AE17 -> 26 | M17: =J17-L17 -> 1363.96 | O17: =J17-AC17 -> 1389.96 | P17: =IFERROR(O17/M17,0) -> 1.0190621 | Q17: 26 | R17: =O17-Q17 -> 1363.96 | T17: =H17-L17 -> 1363.96 | V17: =L17+T17 -> 1389.96 | W17: =H17-V17 -> 0
B18: SUP1.6 | D18: H | E18: 480.48 | H18: =SUM(E18:G18) -> 480.48 | J18: =H18*K18/100 -> 480.48 | K18: ='BETON Qte'!K18 -> 100 | L18: =Q18+AE18 -> 26 | M18: =J18-L18 -> 454.48 | O18: =J18-AC18 -> 480.48 | P18: =IFERROR(O18/M18,0) -> 1.0572082 | Q18: 26 | R18: =O18-Q18 -> 454.48 | T18: =H18-L18 -> 454.48 | V18: =L18+T18 -> 480.48 | W18: =H18-V18 -> 0
B19: SUP1.7 | D19: H | E19: 2255.3895 | H19: =SUM(E19:G19) -> 2255.3895 | J19: =H19*K19/100 -> 2255.3895 | K19: ='BETON Qte'!K19 -> 100 | L19: =Q19+AE19 -> 0 | M19: =J19-L19 -> 2255.3895 | O19: =J19-AC19 -> 2255.3895 | P19: =IFERROR(O19/M19,0) -> 1 | R19: =O19-Q19 -> 2255.3895 | T19: =H19-L19 -> 2255.3895 | V19: =L19+T19 -> 2255.3895 | W19: =H19-V19 -> 0
B20: SUP1.8 | D20: H | E20: 764.4 | H20: =SUM(E20:G20) -> 764.4 | J20: =H20*K20/100 -> 764.4 | K20: ='BETON Qte'!K20 -> 100 | L20: =Q20+AE20 -> 0 | M20: =J20-L20 -> 764.4 | O20: =J20-AC20 -> 764.4 | P20: =IFERROR(O20/M20,0) -> 1 | R20: =O20-Q20 -> 764.4 | T20: =H20-L20 -> 764.4 | V20: =L20+T20 -> 764.4 | W20: =H20-V20 -> 0
B21: SUP1.9 | D21: H | E21: 115.44 | H21: =SUM(E21:G21) -> 115.44 | J21: =H21*K21/100 -> 116.5944 | K21: ='BETON Qte'!K21 -> 101 | L21: =Q21+AE21 -> 0 | M21: =J21-L21 -> 116.5944 | O21: =J21-AC21 -> 116.5944 | P21: =IFERROR(O21/M21,0) -> 1 | R21: =O21-Q21 -> 116.5944 | T21: =H21-L21 -> 115.44 | V21: =L21+T21 -> 115.44 | W21: =H21-V21 -> 0
B22: SUP1.10 | D22: H | E22: 0 | H22: =SUM(E22:G22) -> 0 | J22: =H22*K22/100 -> 0 | K22: ='BETON Qte'!K22 -> 100 | L22: =Q22+AE22 -> 0 | M22: =J22-L22 -> 0 | O22: =J22-AC22 -> 0 | P22: =IFERROR(O22/M22,0) -> 0 | R22: =O22-Q22 -> 0 | T22: =H22-L22 -> 0 | V22: =L22+T22 -> 0 | W22: =H22-V22 -> 0
A23: BOXATO.GG.R.2 | B23: SUP 2 | D23: H | E23: =SUM(E24:E33) -> 151912.92 | F23: =SUM(F24:F33) -> 0 | G23: =SUM(G24:G33) -> 0 | H23: =SUM(H24:H33) -> 151912.92 | J23: =SUM(J24:J33) -> 151912.92 | K23: =IFERROR(J23/H23,"") -> 1 | L23: =SUM(L24:L33) -> 0 | M23: =SUM(M24:M33) -> 151912.92 | O23: =SUM(O24:O33) -> 151912.92 | P23: =IFERROR(O23/M23,"") -> 1 | Q23: =SUM(Q24:Q33) -> 0 | R23: =SUM(R24:R33) -> 151912.92 | T23: =SUM(T24:T33) -> 151912.92 | V23: =SUM(V24:V33) -> 151912.92 | W23: =SUM(W24:W33) -> 0
B24: SUP2.1 | D24: H | E24: 6296.435 | H24: =SUM(E24:G24) -> 6296.435 | J24: =H24*K24/100 -> 6296.435 | K24: ='BETON Qte'!K24 -> 100 | L24: =Q24+AE24 -> 0 | M24: =J24-L24 -> 6296.435 | O24: =J24-AC24 -> 6296.435 | P24: =IFERROR(O24/M24,0) -> 1 | R24: =O24-Q24 -> 6296.435 | T24: =H24-L24 -> 6296.435 | V24: =L24+T24 -> 6296.435 | W24: =H24-V24 -> 0
B25: SUP2.2 | D25: H | E25: 26137.8 | H25: =SUM(E25:G25) -> 26137.8 | J25: =H25*K25/100 -> 26137.8 | K25: ='BETON Qte'!K25 -> 100 | L25: =Q25+AE25 -> 0 | M25: =J25-L25 -> 26137.8 | O25: =J25-AC25 -> 26137.8 | P25: =IFERROR(O25/M25,0) -> 1 | R25: =O25-Q25 -> 26137.8 | T25: =H25-L25 -> 26137.8 | V25: =L25+T25 -> 26137.8 | W25: =H25-V25 -> 0
B26: SUP2.3 | D26: H | E26: 12926.862 | H26: =SUM(E26:G26) -> 12926.862 | J26: =H26*K26/100 -> 12926.862 | K26: ='BETON Qte'!K26 -> 100 | L26: =Q26+AE26 -> 0 | M26: =J26-L26 -> 12926.862 | O26: =J26-AC26 -> 12926.862 | P26: =IFERROR(O26/M26,0) -> 1 | R26: =O26-Q26 -> 12926.862 | T26: =H26-L26 -> 12926.862 | V26: =L26+T26 -> 12926.862 | W26: =H26-V26 -> 0
B27: SUP2.4 | D27: H | E27: 63745.5 | H27: =SUM(E27:G27) -> 63745.5 | J27: =H27*K27/100 -> 63745.5 | K27: ='BETON Qte'!K27 -> 100 | L27: =Q27+AE27 -> 0 | M27: =J27-L27 -> 63745.5 | O27: =J27-AC27 -> 63745.5 | P27: =IFERROR(O27/M27,0) -> 1 | R27: =O27-Q27 -> 63745.5 | T27: =H27-L27 -> 63745.5 | V27: =L27+T27 -> 63745.5 | W27: =H27-V27 -> 0
B28: SUP2.5 | D28: H | E28: 17070.3 | H28: =SUM(E28:G28) -> 17070.3 | J28: =H28*K28/100 -> 17070.3 | K28: ='BETON Qte'!K28 -> 100 | L28: =Q28+AE28 -> 0 | M28: =J28-L28 -> 17070.3 | O28: =J28-AC28 -> 17070.3 | P28: =IFERROR(O28/M28,0) -> 1 | R28: =O28-Q28 -> 17070.3 | T28: =H28-L28 -> 17070.3 | V28: =L28+T28 -> 17070.3 | W28: =H28-V28 -> 0
B29: SUP2.6 | D29: H | E29: 11191.7 | H29: =SUM(E29:G29) -> 11191.7 | J29: =H29*K29/100 -> 11191.7 | K29: ='BETON Qte'!K29 -> 100 | L29: =Q29+AE29 -> 0 | M29: =J29-L29 -> 11191.7 | O29: =J29-AC29 -> 11191.7 | P29: =IFERROR(O29/M29,0) -> 1 | R29: =O29-Q29 -> 11191.7 | T29: =H29-L29 -> 11191.7 | V29: =L29+T29 -> 11191.7 | W29: =H29-V29 -> 0
B30: SUP2.7 | D30: H | E30: 6796.92 | H30: =SUM(E30:G30) -> 6796.92 | J30: =H30*K30/100 -> 6796.92 | K30: ='BETON Qte'!K30 -> 100 | L30: =Q30+AE30 -> 0 | M30: =J30-L30 -> 6796.92 | O30: =J30-AC30 -> 6796.92 | P30: =IFERROR(O30/M30,0) -> 1 | R30: =O30-Q30 -> 6796.92 | T30: =H30-L30 -> 6796.92 | V30: =L30+T30 -> 6796.92 | W30: =H30-V30 -> 0
B31: SUP2.8 | D31: H | E31: 7525.44 | H31: =SUM(E31:G31) -> 7525.44 | J31: =H31*K31/100 -> 7525.44 | K31: ='BETON Qte'!K31 -> 100 | L31: =Q31+AE31 -> 0 | M31: =J31-L31 -> 7525.44 | O31: =J31-AC31 -> 7525.44 | P31: =IFERROR(O31/M31,0) -> 1 | R31: =O31-Q31 -> 7525.44 | T31: =H31-L31 -> 7525.44 | V31: =L31+T31 -> 7525.44 | W31: =H31-V31 -> 0
B32: SUP2.9 | D32: H | E32: 0 | H32: =SUM(E32:G32) -> 0 | J32: =H32*K32/100 -> 0 | K32: ='BETON Qte'!K32 -> 100 | L32: =Q32+AE32 -> 0 | M32: =J32-L32 -> 0 | O32: =J32-AC32 -> 0 | P32: =IFERROR(O32/M32,0) -> 0 | R32: =O32-Q32 -> 0 | T32: =H32-L32 -> 0 | V32: =L32+T32 -> 0 | W32: =H32-V32 -> 0
B33: SUP2.10 | D33: H | E33: 221.96 | H33: =SUM(E33:G33) -> 221.96 | J33: =H33*K33/100 -> 221.96 | K33: ='BETON Qte'!K33 -> 100 | L33: =Q33+AE33 -> 0 | M33: =J33-L33 -> 221.96 | O33: =J33-AC33 -> 221.96 | P33: =IFERROR(O33/M33,0) -> 1 | R33: =O33-Q33 -> 221.96 | T33: =H33-L33 -> 221.96 | V33: =L33+T33 -> 221.96 | W33: =H33-V33 -> 0
A34: BOXATO.GG.R.3 | B34: SUP 3 | D34: H | E34: =SUM(E35:E36) -> 8332.415 | F34: =SUM(F35:F36) -> 0 | G34: =SUM(G35:G36) -> 0 | H34: =SUM(H35:H36) -> 8332.415 | J34: =SUM(J35:J36) -> 8332.415 | K34: =IFERROR(J34/H34,"") -> 1 | L34: =SUM(L35:L36) -> 0 | M34: =SUM(M35:M36) -> 8332.415 | O34: =SUM(O35:O36) -> 8332.415 | P34: =IFERROR(O34/M34,"") -> 1 | Q34: =SUM(Q35:Q36) -> 0 | R34: =SUM(R35:R36) -> 8332.415 | T34: =SUM(T35:T36) -> 8332.415 | V34: =SUM(V35:V36) -> 8332.415 | W34: =SUM(W35:W36) -> 0
B35: SUP3.1 | D35: H | E35: 6536.79 | H35: =SUM(E35:G35) -> 6536.79 | J35: =H35*K35/100 -> 6536.79 | K35: ='BETON Qte'!K35 -> 100 | L35: =Q35+AE35 -> 0 | M35: =J35-L35 -> 6536.79 | O35: =J35-AC35 -> 6536.79 | P35: =IFERROR(O35/M35,0) -> 1 | R35: =O35-Q35 -> 6536.79 | T35: =H35-L35 -> 6536.79 | V35: =L35+T35 -> 6536.79 | W35: =H35-V35 -> 0
B36: SUP3.2 | D36: H | E36: 1795.625 | H36: =SUM(E36:G36) -> 1795.625 | J36: =H36*K36/100 -> 1795.625 | K36: ='BETON Qte'!K36 -> 100 | L36: =Q36+AE36 -> 0 | M36: =J36-L36 -> 1795.625 | O36: =J36-AC36 -> 1795.625 | P36: =IFERROR(O36/M36,0) -> 1 | R36: =O36-Q36 -> 1795.625 | T36: =H36-L36 -> 1795.625 | V36: =L36+T36 -> 1795.625 | W36: =H36-V36 -> 0
A37: BOXATO.GG.R.4 | B37: SUP 4 | D37: H | E37: =SUM(E38:E39) -> 4361.825 | F37: =SUM(F38:F39) -> 0 | G37: =SUM(G38:G39) -> 0 | H37: =SUM(H38:H39) -> 4361.825 | J37: =SUM(J38:J39) -> 4361.825 | K37: =IFERROR(J37/H37,"") -> 1 | L37: =SUM(L38:L39) -> 0 | M37: =SUM(M38:M39) -> 4361.825 | O37: =SUM(O38:O39) -> 4361.825 | P37: =IFERROR(O37/M37,"") -> 1 | Q37: =SUM(Q38:Q39) -> 0 | R37: =SUM(R38:R39) -> 4361.825 | T37: =SUM(T38:T39) -> 4361.825 | V37: =SUM(V38:V39) -> 4361.825 | W37: =SUM(W38:W39) -> 0
B38: SUP4.1 | D38: H | E38: 2142.725 | H38: =SUM(E38:G38) -> 2142.725 | J38: =H38*K38/100 -> 2142.725 | K38: ='BETON Qte'!K38 -> 100 | L38: =Q38+AE38 -> 0 | M38: =J38-L38 -> 2142.725 | O38: =J38-AC38 -> 2142.725 | P38: =IFERROR(O38/M38,0) -> 1 | R38: =O38-Q38 -> 2142.725 | T38: =H38-L38 -> 2142.725 | V38: =L38+T38 -> 2142.725 | W38: =H38-V38 -> 0
B39: SUP4.2 | D39: H | E39: 2219.1 | H39: =SUM(E39:G39) -> 2219.1 | J39: =H39*K39/100 -> 2219.1 | K39: ='BETON Qte'!K39 -> 100 | L39: =Q39+AE39 -> 0 | M39: =J39-L39 -> 2219.1 | O39: =J39-AC39 -> 2219.1 | P39: =IFERROR(O39/M39,0) -> 1 | R39: =O39-Q39 -> 2219.1 | T39: =H39-L39 -> 2219.1 | V39: =L39+T39 -> 2219.1 | W39: =H39-V39 -> 0
A40: BOXATO.GG.R.5 | B40: SUP 5 | D40: H | E40: =SUM(E41:E55) -> 28530.19 | F40: =SUM(F41:F55) -> 0 | G40: =SUM(G41:G55) -> 0 | H40: =SUM(H41:H55) -> 28530.19 | J40: =SUM(J41:J55) -> 28530.19 | K40: =IFERROR(J40/H40,"") -> 1 | L40: =SUM(L41:L55) -> 58 | M40: =SUM(M41:M55) -> 28472.19 | O40: =SUM(O41:O55) -> 28530.19 | P40: =IFERROR(O40/M40,"") -> 1.0020371 | Q40: =SUM(Q41:Q55) -> 58 | R40: =SUM(R41:R55) -> 28472.19 | T40: =SUM(T41:T55) -> 28472.19 | V40: =SUM(V41:V55) -> 28530.19 | W40: =SUM(W41:W55) -> 0
B41: SUP5.1 | D41: H | E41: 1790.75 | H41: =SUM(E41:G41) -> 1790.75 | J41: =H41*K41/100 -> 1790.75 | K41: ='BETON Qte'!K41 -> 100 | L41: =Q41+AE41 -> 0 | M41: =J41-L41 -> 1790.75 | O41: =J41-AC41 -> 1790.75 | P41: =IFERROR(O41/M41,0) -> 1 | R41: =O41-Q41 -> 1790.75 | T41: =H41-L41 -> 1790.75 | V41: =L41+T41 -> 1790.75 | W41: =H41-V41 -> 0
B42: SUP5.2 | D42: H | E42: 989.3 | H42: =SUM(E42:G42) -> 989.3 | J42: =H42*K42/100 -> 989.3 | K42: ='BETON Qte'!K42 -> 100 | L42: =Q42+AE42 -> 0 | M42: =J42-L42 -> 989.3 | O42: =J42-AC42 -> 989.3 | P42: =IFERROR(O42/M42,0) -> 1 | R42: =O42-Q42 -> 989.3 | T42: =H42-L42 -> 989.3 | V42: =L42+T42 -> 989.3 | W42: =H42-V42 -> 0
B43: SUP5.3 | D43: H | E43: 4927 | H43: =SUM(E43:G43) -> 4927 | J43: =H43*K43/100 -> 4927 | K43: ='BETON Qte'!K43 -> 100 | L43: =Q43+AE43 -> 0 | M43: =J43-L43 -> 4927 | O43: =J43-AC43 -> 4927 | P43: =IFERROR(O43/M43,0) -> 1 | R43: =O43-Q43 -> 4927 | T43: =H43-L43 -> 4927 | V43: =L43+T43 -> 4927 | W43: =H43-V43 -> 0
...

Sheet BETON Qte
A3: BETON
B5: P.U. | E5: 26 | F5: 26 | G5: 26 | H5: 26 | J5: =H5 -> 26 | L5: =IFERROR(L6/(L11+#REF!),"") | M5: =IFERROR(J5-L5,"") | O5: =H5 -> 26 | Q5: =IFERROR(Q6/(Q11+#REF!),"") | R5: =IFERROR(O5-Q5,"") | T5: =H5 -> 26 | V5: =IFERROR(V6/(V11+#REF!),"") | W5: =IFERROR(H5-V5,"")
B6: MONTANT | E6: =IFERROR(E5*(E11+#REF!),"") | F6: =IFERROR(F5*(F11+#REF!),"") | G6: =IFERROR(G5*(G11+#REF!),"") | H6: =IFERROR(H5*(H11+#REF!),"") | J6: =IFERROR(J5*(J11+#REF!),"") | L6: =IFERROR(Q6+AE6,"") -> 0 | M6: =IFERROR(J6-L6,"") | O6: =IFERROR(O5*(O11+#REF!),"") | R6: =IFERROR(O6-Q6,"") | T6: =IFERROR(T5*(T11+#REF!),"") | V6: =IFERROR(L6+T6,"") | W6: =IFERROR(H6-V6,"")
J7: xxxxxxx | AC7: xxxxxxx
E8: BUDG. Réf. | F8: Trsf. +/- | G8: TS | H8: Total | J8: CUMUL A FIN JUIN-2016 | O8: MOIS DE JUIN-2016 | T8: RAD | V8: CUMUL FDC | AC8: CUMUL A FIN MAI-2016
A9: CODE | B9: Description | C9: . | D9: Unité | E9: Qté | F9: Qté | G9: Qté | H9: Qté | I9: . | J9: Budget Avancé | L9: Dépenses | M9: Ecart | N9: . | O9: Budget Avancé | Q9: Dépenses | R9: Ecart | S9: . | T9: Qtés | U9: . | V9: Dépenses | W9: Ecarts | AC9: Budget Avancé | AE9: Dépenses | AF9: Ecart
D10: Res. | J10: Qté | K10: % | L10: Qté | M10: Qté | O10: Qté | P10: % | Q10: Qté | R10: Qté | V10: Qté | W10: Qté | AC10: Qté | AD10: % | AE10: Qté | AF10: Qté
B11: PART PROPRE | D11: M3 | E11: =E12+E23+E34+E37+E40+E56 -> 10751.581 | F11: =F12+F23+F34+F37+F40+F56 -> 0 | G11: =G12+G23+G34+G37+G40+G56 -> 0 | H11: =H12+H23+H34+H37+H40+H56 -> 10751.581 | J11: =J12+J23+J34+J37+J40+J56 -> 10752.321 | K11: =IFERROR(J11/H11,"") -> 1.0000688 | L11: =L12+L23+L34+L37+L40+L56 -> 935 | M11: =M12+M23+M34+M37+M40+M56 -> 9817.321 | O11: =O12+O23+O34+O37+O40+O56 -> 10752.321 | P11: =IFERROR(O11/M11,"") -> 1.0952398 | Q11: =Q12+Q23+Q34+Q37+Q40+Q56 -> 935 | R11: =R12+R23+R34+R37+R40+R56 -> 9817.321 | T11: =T12+T23+T34+T37+T40+T56 -> 9816.581 | V11: =V12+V23+V34+V37+V40+V56 -> 10751.581 | W11: =W12+W23+W34+W37+W40+W56 -> 0
A12: BOXATO.GG.R.1 | B12: SUP 1 | D12: M3 | E12: =SUM(E13:E22) -> 2344.6 | F12: =SUM(F13:F22) -> 0 | G12: =SUM(G13:G22) -> 0 | H12: =SUM(H13:H22) -> 2344.6 | J12: =SUM(J13:J22) -> 2345.34 | K12: =IFERROR(J12/H12,"") -> 1.0003156 | L12: =SUM(L13:L22) -> 830 | M12: =SUM(M13:M22) -> 1515.34 | O12: =SUM(O13:O22) -> 2345.34 | P12: =IFERROR(O12/M12,"") -> 1.5477319 | Q12: =SUM(Q13:Q22) -> 830 | R12: =SUM(R13:R22) -> 1515.34 | T12: =SUM(T13:T22) -> 1514.6 | V12: =SUM(V13:V22) -> 2344.6 | W12: =SUM(W13:W22) -> 0
B13: SUP1.1 | D13: M3 | E13: 158 | H13: =SUM(E13:G13) -> 158 | J13: =H13*K13/100 -> 158 | K13: 100 | L13: =Q13+AE13 -> 0 | M13: =J13-L13 -> 158 | O13: =J13-AC13 -> 158 | P13: =IFERROR(O13/M13,0) -> 1 | R13: =O13-Q13 -> 158 | T13: =H13-L13 -> 158 | V13: =+L13+T13 -> 158 | W13: =H13-V13 -> 0
B14: SUP1.2 | D14: M3 | E14: 390 | H14: =SUM(E14:G14) -> 390 | J14: =H14*K14/100 -> 390 | K14: 100 | L14: =Q14+AE14 -> 0 | M14: =J14-L14 -> 390 | O14: =J14-AC14 -> 390 | P14: =IFERROR(O14/M14,0) -> 1 | R14: =O14-Q14 -> 390 | T14: =H14-L14 -> 390 | V14: =+L14+T14 -> 390 | W14: =H14-V14 -> 0
B15: SUP1.3 | D15: M3 | E15: 203 | H15: =SUM(E15:G15) -> 203 | J15: =H15*K15/100 -> 203 | K15: 100 | L15: =Q15+AE15 -> 757 | M15: =J15-L15 -> -554 | O15: =J15-AC15 -> 203 | P15: =IFERROR(O15/M15,0) -> -0.36642599 | Q15: 757 | R15: =O15-Q15 -> -554 | T15: =H15-L15 -> -554 | V15: =+L15+T15 -> 203 | W15: =H15-V15 -> 0
B16: SUP1.4 | D16: M3 | E16: 1063.47 | H16: =SUM(E16:G16) -> 1063.47 | J16: =H16*K16/100 -> 1063.47 | K16: 100 | L16: =Q16+AE16 -> 0 | M16: =J16-L16 -> 1063.47 | O16: =J16-AC16 -> 1063.47 | P16: =IFERROR(O16/M16,0) -> 1 | R16: =O16-Q16 -> 1063.47 | T16: =H16-L16 -> 1063.47 | V16: =+L16+T16 -> 1063.47 | W16: =H16-V16 -> 0
B17: SUP1.5 | D17: M3 | E17: 81 | H17: =SUM(E17:G17) -> 81 | J17: =H17*K17/100 -> 81 | K17: 100 | L17: =Q17+AE17 -> 45 | M17: =J17-L17 -> 36 | O17: =J17-AC17 -> 81 | P17: =IFERROR(O17/M17,0) -> 2.25 | Q17: 45 | R17: =O17-Q17 -> 36 | T17: =H17-L17 -> 36 | V17: =+L17+T17 -> 81 | W17: =H17-V17 -> 0
B18: SUP1.6 | D18: M3 | E18: 11.2 | H18: =SUM(E18:G18) -> 11.2 | J18: =H18*K18/100 -> 11.2 | K18: 100 | L18: =Q18+AE18 -> 0 | M18: =J18-L18 -> 11.2 | O18: =J18-AC18 -> 11.2 | P18: =IFERROR(O18/M18,0) -> 1 | R18: =O18-Q18 -> 11.2 | T18: =H18-L18 -> 11.2 | V18: =+L18+T18 -> 11.2 | W18: =H18-V18 -> 0
B19: SUP1.7 | D19: M3 | E19: 111.93 | H19: =SUM(E19:G19) -> 111.93 | J19: =H19*K19/100 -> 111.93 | K19: 100 | L19: =Q19+AE19 -> 0 | M19: =J19-L19 -> 111.93 | O19: =J19-AC19 -> 111.93 | P19: =IFERROR(O19/M19,0) -> 1 | R19: =O19-Q19 -> 111.93 | T19: =H19-L19 -> 111.93 | V19: =+L19+T19 -> 111.93 | W19: =H19-V19 -> 0
B20: SUP1.8 | D20: M3 | E20: 252 | H20: =SUM(E20:G20) -> 252 | J20: =H20*K20/100 -> 252 | K20: 100 | L20: =Q20+AE20 -> 28 | M20: =J20-L20 -> 224 | O20: =J20-AC20 -> 252 | P20: =IFERROR(O20/M20,0) -> 1.125 | Q20: 28 | R20: =O20-Q20 -> 224 | T20: =H20-L20 -> 224 | V20: =+L20+T20 -> 252 | W20: =H20-V20 -> 0
B21: SUP1.9 | D21: H | E21: 74 | H21: =SUM(E21:G21) -> 74 | J21: =H21*K21/100 -> 74.74 | K21: 101 | L21: =Q21+AE21 -> 0 | M21: =J21-L21 -> 74.74 | O21: =J21-AC21 -> 74.74 | P21: =IFERROR(O21/M21,0) -> 1 | R21: =O21-Q21 -> 74.74 | T21: =H21-L21 -> 74 | V21: =L21+T21 -> 74 | W21: =H21-V21 -> 0
B22: SUP1.10 | D22: M3 | E22: 0 | H22: =SUM(E22:G22) -> 0 | J22: =H22*K22/100 -> 0 | K22: 100 | L22: =Q22+AE22 -> 0 | M22: =J22-L22 -> 0 | O22: =J22-AC22 -> 0 | P22: =IFERROR(O22/M22,0) -> 0 | R22: =O22-Q22 -> 0 | T22: =H22-L22 -> 0 | V22: =+L22+T22 -> 0 | W22: =H22-V22 -> 0
A23: BOXATO.GG.R.2 | B23: SUP 2 | D23: M3 | E23: =SUM(E24:E33) -> 7949.091 | F23: =SUM(F24:F33) -> 0 | G23: =SUM(G24:G33) -> 0 | H23: =SUM(H24:H33) -> 7949.091 | J23: =SUM(J24:J33) -> 7949.091 | K23: =IFERROR(J23/H23,"") -> 1 | L23: =SUM(L24:L33) -> 76 | M23: =SUM(M24:M33) -> 7873.091 | O23: =SUM(O24:O33) -> 7949.091 | P23: =IFERROR(O23/M23,"") -> 1.0096531 | Q23: =SUM(Q24:Q33) -> 76 | R23: =SUM(R24:R33) -> 7873.091 | T23: =SUM(T24:T33) -> 7873.091 | V23: =SUM(V24:V33) -> 7949.091 | W23: =SUM(W24:W33) -> 0
B24: SUP2.1 | D24: M3 | E24: 395.15 | H24: =SUM(E24:G24) -> 395.15 | J24: =+H24*K24/100 -> 395.15 | K24: 100 | L24: =Q24+AE24 -> 0 | M24: =J24-L24 -> 395.15 | O24: =J24-AC24 -> 395.15 | P24: =IFERROR(O24/M24,0) -> 1 | R24: =O24-Q24 -> 395.15 | T24: =H24-L24 -> 395.15 | V24: =+L24+T24 -> 395.15 | W24: =H24-V24 -> 0
B25: SUP2.2 | D25: M3 | E25: 2176 | H25: =SUM(E25:G25) -> 2176 | J25: =+H25*K25/100 -> 2176 | K25: 100 | L25: =Q25+AE25 -> 0 | M25: =J25-L25 -> 2176 | O25: =J25-AC25 -> 2176 | P25: =IFERROR(O25/M25,0) -> 1 | R25: =O25-Q25 -> 2176 | T25: =H25-L25 -> 2176 | V25: =+L25+T25 -> 2176 | W25: =H25-V25 -> 0
B26: SUP2.3 | D26: M3 | E26: 371.87 | H26: =SUM(E26:G26) -> 371.87 | J26: =+H26*K26/100 -> 371.87 | K26: 100 | L26: =Q26+AE26 -> 0 | M26: =J26-L26 -> 371.87 | O26: =J26-AC26 -> 371.87 | P26: =IFERROR(O26/M26,0) -> 1 | R26: =O26-Q26 -> 371.87 | T26: =H26-L26 -> 371.87 | V26: =+L26+T26 -> 371.87 | W26: =H26-V26 -> 0
B27: SUP2.4 | D27: M3 | E27: 1511 | H27: =SUM(E27:G27) -> 1511 | J27: =+H27*K27/100 -> 1511 | K27: 100 | L27: =Q27+AE27 -> 0 | M27: =J27-L27 -> 1511 | O27: =J27-AC27 -> 1511 | P27: =IFERROR(O27/M27,0) -> 1 | R27: =O27-Q27 -> 1511 | T27: =H27-L27 -> 1511 | V27: =+L27+T27 -> 1511 | W27: =H27-V27 -> 0
B28: SUP2.5 | E28: 1354 | H28: =SUM(E28:G28) -> 1354 | J28: =H28*K28/100 -> 1354 | K28: 100 | L28: =Q28+AE28 -> 0 | M28: =J28-L28 -> 1354 | O28: =J28-AC28 -> 1354 | P28: =IFERROR(O28/M28,0) -> 1 | R28: =O28-Q28 -> 1354 | T28: =H28-L28 -> 1354 | V28: =+L28+T28 -> 1354 | W28: =H28-V28 -> 0
B29: SUP2.6 | D29: M3 | E29: 860.9 | H29: =SUM(E29:G29) -> 860.9 | J29: =+H29*K29/100 -> 860.9 | K29: 100 | L29: =Q29+AE29 -> 0 | M29: =J29-L29 -> 860.9 | O29: =J29-AC29 -> 860.9 | P29: =IFERROR(O29/M29,0) -> 1 | R29: =O29-Q29 -> 860.9 | T29: =H29-L29 -> 860.9 | V29: =+L29+T29 -> 860.9 | W29: =H29-V29 -> 0
B30: SUP2.7 | D30: M3 | E30: 579.481 | H30: =SUM(E30:G30) -> 579.481 | J30: =+H30*K30/100 -> 579.481 | K30: 100 | L30: =Q30+AE30 -> 76 | M30: =J30-L30 -> 503.481 | O30: =J30-AC30 -> 579.481 | P30: =IFERROR(O30/M30,0) -> 1.1509491 | Q30: 76 | R30: =O30-Q30 -> 503.481 | T30: =H30-L30 -> 503.481 | V30: =+L30+T30 -> 579.481 | W30: =H30-V30 -> 0
B31: SUP2.8 | D31: M3 | E31: 530.64 | H31: =SUM(E31:G31) -> 530.64 | J31: =+H31*K31/100 -> 530.64 | K31: 100 | L31: =Q31+AE31 -> 0 | M31: =J31-L31 -> 530.64 | O31: =J31-AC31 -> 530.64 | P31: =IFERROR(O31/M31,0) -> 1 | R31: =O31-Q31 -> 530.64 | T31: =H31-L31 -> 530.64 | V31: =+L31+T31 -> 530.64 | W31: =H31-V31 -> 0
B32: SUP2.9 | D32: M3 | E32: 0 | H32: =SUM(E32:G32) -> 0 | J32: =+H32*K32/100 -> 0 | K32: 100 | L32: =Q32+AE32 -> 0 | M32: =J32-L32 -> 0 | O32: =J32-AC32 -> 0 | P32: =IFERROR(O32/M32,0) -> 0 | R32: =O32-Q32 -> 0 | T32: =H32-L32 -> 0 | V32: =+L32+T32 -> 0 | W32: =H32-V32 -> 0
B33: SUP2.10 | D33: M3 | E33: 170.05 | H33: =SUM(E33:G33) -> 170.05 | J33: =+H33*K33/100 -> 170.05 | K33: 100 | L33: =Q33+AE33 -> 0 | M33: =J33-L33 -> 170.05 | O33: =J33-AC33 -> 170.05 | P33: =IFERROR(O33/M33,0) -> 1 | R33: =O33-Q33 -> 170.05 | T33: =H33-L33 -> 170.05 | V33: =+L33+T33 -> 170.05 | W33: =H33-V33 -> 0
A34: BOXATO.GG.R.3 | B34: SUP 3 | D34: M3 | E34: =SUM(E35:E36) -> 133.84 | F34: =SUM(F35:F36) -> 0 | G34: =SUM(G35:G36) -> 0 | H34: =SUM(H35:H36) -> 133.84 | J34: =SUM(J35:J36) -> 133.84 | K34: =IFERROR(J34/H34,"") -> 1 | L34: =SUM(L35:L36) -> 0 | M34: =SUM(M35:M36) -> 133.84 | O34: =SUM(O35:O36) -> 133.84 | P34: =IFERROR(O34/M34,"") -> 1 | Q34: =SUM(Q35:Q36) -> 0 | R34: =SUM(R35:R36) -> 133.84 | T34: =SUM(T35:T36) -> 133.84 | V34: =SUM(V35:V36) -> 133.84 | W34: =SUM(W35:W36) -> 0
B35: SUP3.1 | D35: M3 | E35: 111.74 | H35: =SUM(E35:G35) -> 111.74 | J35: =+H35*K35/100 -> 111.74 | K35: 100 | L35: =Q35+AE35 -> 0 | M35: =J35-L35 -> 111.74 | O35: =J35-AC35 -> 111.74 | P35: =IFERROR(O35/M35,0) -> 1 | R35: =O35-Q35 -> 111.74 | T35: =H35-L35 -> 111.74 | V35: =+L35+T35 -> 111.74 | W35: =H35-V35 -> 0
B36: SUP3.2 | D36: M3 | E36: 22.1 | H36: =SUM(E36:G36) -> 22.1 | J36: =+H36*K36/100 -> 22.1 | K36: 100 | L36: =Q36+AE36 -> 0 | M36: =J36-L36 -> 22.1 | O36: =J36-AC36 -> 22.1 | P36: =IFERROR(O36/M36,0) -> 1 | R36: =O36-Q36 -> 22.1 | T36: =H36-L36 -> 22.1 | V36: =+L36+T36 -> 22.1 | W36: =H36-V36 -> 0
A37: BOXATO.GG.R.4 | B37: SUP 4 | D37: M3 | E37: =SUM(E38:E39) -> 142 | F37: =SUM(F38:F39) -> 0 | G37: =SUM(G38:G39) -> 0 | H37: =SUM(H38:H39) -> 142 | J37: =SUM(J38:J39) -> 142 | K37: =IFERROR(J37/H37,"") -> 1 | L37: =SUM(L38:L39) -> 0 | M37: =SUM(M38:M39) -> 142 | O37: =SUM(O38:O39) -> 142 | P37: =IFERROR(O37/M37,"") -> 1 | Q37: =SUM(Q38:Q39) -> 0 | R37: =SUM(R38:R39) -> 142 | T37: =SUM(T38:T39) -> 142 | V37: =SUM(V38:V39) -> 142 | W37: =SUM(W38:W39) -> 0
B38: SUP4.1 | D38: M3 | E38: 84 | H38: =SUM(E38:G38) -> 84 | J38: =+H38*K38/100 -> 84 | K38: 100 | L38: =Q38+AE38 -> 0 | M38: =J38-L38 -> 84 | O38: =J38-AC38 -> 84 | P38: =IFERROR(O38/M38,0) -> 1 | R38: =O38-Q38 -> 84 | T38: =H38-L38 -> 84 | V38: =+L38+T38 -> 84 | W38: =H38-V38 -> 0
B39: SUP4.2 | D39: M3 | E39: 58 | H39: =SUM(E39:G39) -> 58 | J39: =+H39*K39/100 -> 58 | K39: 100 | L39: =Q39+AE39 -> 0 | M39: =J39-L39 -> 58 | O39: =J39-AC39 -> 58 | P39: =IFERROR(O39/M39,0) -> 1 | R39: =O39-Q39 -> 58 | T39: =H39-L39 -> 58 | V39: =+L39+T39 -> 58 | W39: =H39-V39 -> 0
A40: BOXATO.GG.R.5 | B40: SUP 5 | D40: M3 | E40: =SUM(E41:E55) -> 182.05 | F40: =SUM(F41:F55) -> 0 | G40: =SUM(G41:G55) -> 0 | H40: =SUM(H41:H55) -> 182.05 | J40: =SUM(J41:J55) -> 182.05 | K40: =IFERROR(J40/H40,"") -> 1 | L40: =SUM(L41:L55) -> 29 | M40: =SUM(M41:M55) -> 153.05 | O40: =SUM(O41:O55) -> 182.05 | P40: =IFERROR(O40/M40,"") -> 1.1894806 | Q40: =SUM(Q41:Q55) -> 29 | R40: =SUM(R41:R55) -> 153.05 | T40: =SUM(T41:T55) -> 153.05 | V40: =SUM(V41:V55) -> 182.05 | W40: =SUM(W41:W59) -> 0
B41: SUP5.1 | D41: M3 | E41: 22.04 | H41: =SUM(E41:G41) -> 22.04 | J41: =+H41*K41/100 -> 22.04 | K41: 100 | L41: =Q41+AE41 -> 0 | M41: =J41-L41 -> 22.04 | O41: =J41-AC41 -> 22.04 | P41: =IFERROR(O41/M41,0) -> 1 | R41: =O41-Q41 -> 22.04 | T41: =H41-L41 -> 22.04 | V41: =+L41+T41 -> 22.04 | W41: =H41-V41 -> 0
B42: SUP5.2 | D42: M3 | E42: 0 | H42: =SUM(E42:G42) -> 0 | J42: =H42*K42/100 -> 0 | K42: 100 | L42: =Q42+AE42 -> 29 | M42: =J42-L42 -> -29 | O42: =J42-AC42 -> 0 | P42: =IFERROR(O42/M42,0) -> 0 | Q42: 29 | R42: =O42-Q42 -> -29 | T42: =H42-L42 -> -29 | V42: =+L42+T42 -> 0 | W42: =H42-V42 -> 0
B43: SUP5.3 | D43: M3 | E43: 0 | H43: =SUM(E43:G43) -> 0 | J43: =H43*K43/100 -> 0 | K43: 100 | L43: =Q43+AE43 -> 0 | M43: =J43-L43 -> 0 | O43: =J43-AC43 -> 0 | P43: =IFERROR(O43/M43,0) -> 0 | R43: =O43-Q43 -> 0 | T43: =H43-L43 -> 0 | V43: =+L43+T43 -> 0 | W43: =H43-V43 -> 0
...

Sheet ACIER Qte
A3: ACIER
B5: P.U. | E5: 26 | F5: 26 | G5: 26 | H5: 26 | J5: =H5 -> 26 | L5: =IFERROR(L6/(L11+#REF!),"") | M5: =IFERROR(J5-L5,"") | O5: =H5 -> 26 | Q5: =IFERROR(Q6/(Q11+#REF!),"") | R5: =IFERROR(O5-Q5,"") | T5: =H5 -> 26 | V5: =IFERROR(V6/(V11+#REF!),"") | W5: =IFERROR(H5-V5,"")
B6: MONTANT | E6: =IFERROR(E5*(E11+#REF!),"") | F6: =IFERROR(F5*(F11+#REF!),"") | G6: =IFERROR(G5*(G11+#REF!),"") | H6: =IFERROR(H5*(H11+#REF!),"") | J6: =IFERROR(J5*(J11+#REF!),"") | L6: =IFERROR(Q6+AE6,"") -> 0 | M6: =IFERROR(J6-L6,"") | O6: =IFERROR(O5*(O11+#REF!),"") | R6: =IFERROR(O6-Q6,"") | T6: =IFERROR(T5*(T11+#REF!),"") | V6: =IFERROR(L6+T6,"") | W6: =IFERROR(H6-V6,"")
J7: xxxxxxx | K7: xxxxxxx | P7: xxxxxxx | AC7: xxxxxxx | AD7: xxxxxxx
E8: BUDG. Réf. | F8: Trsf. +/- | G8: TS | H8: BUDG. Réf. | J8: CUMUL A FIN JUIN-2016 | O8: MOIS DE JUIN-2016 | T8: RAD | V8: CUMUL FDC | AC8: CUMUL A FIN MAI-2016
A9: CODE | B9: Description | C9: . | D9: Unité | E9: Qté | F9: Qté | G9: Qté | H9: Qté | I9: . | J9: Budget Avancé | L9: Dépenses | M9: Ecart | N9: . | O9: Budget Avancé | Q9: Dépenses | R9: Ecart | S9: . | T9: Qtés | U9: . | V9: Dépenses | W9: Ecarts | AC9: Budget Avancé | AE9: Dépenses | AF9: Ecart
D10: Res. | J10: Qté | K10: % | L10: Qté | M10: Qté | O10: Qté | P10: % | Q10: Qté | R10: Qté | V10: Qté | W10: Qté | AC10: Qté | AD10: % | AE10: Qté | AF10: Qté
B11: PART PROPRE | D11: KG | E11: =E12+E23+E34+E37+E40+E56 -> 988261.15 | F11: =F12+F23+F34+F37+F40+F56 -> 0 | G11: =G12+G23+G34+G37+G40+G56 -> 0 | H11: =H12+H23+H34+H37+H40+H56 -> 988261.15 | J11: =J12+J23+J34+J37+J40+J56 -> 988320.35 | K11: =IFERROR(J11/H11,"") -> 1.0000599 | L11: =L12+L23+L34+L37+L40+L56 -> 184 | M11: =M12+M23+M34+M37+M40+M56 -> 988136.35 | O11: =O12+O23+O34+O37+O40+O56 -> 988320.35 | P11: =IFERROR(O11/M11,"") -> 1.0001862 | Q11: =Q12+Q23+Q34+Q37+Q40+Q56 -> 184 | R11: =R12+R23+R34+R37+R40+R56 -> 988136.35 | T11: =T12+T23+T34+T37+T40+T56 -> 988077.15 | V11: =V12+V23+V34+V37+V40+V56 -> 988261.15 | W11: =W12+W23+W34+W37+W40+W56 -> 0
A12: BOXATO.GG.R.1 | B12: SUP 1 | D12: KG | E12: =SUM(E13:E22) -> 175035.4 | F12: =SUM(F13:F22) -> 0 | G12: =SUM(G13:G22) -> 0 | H12: =SUM(H13:H22) -> 175035.4 | J12: =SUM(J13:J22) -> 175094.6 | K12: =IFERROR(J12/H12,"") -> 1.0003382 | L12: =SUM(L13:L22) -> 64 | M12: =SUM(M13:M22) -> 175030.6 | O12: =SUM(O13:O22) -> 175094.6 | P12: =IFERROR(O12/M12,"") -> 1.0003657 | Q12: =SUM(Q13:Q22) -> 64 | R12: =SUM(R13:R22) -> 175030.6 | T12: =SUM(T13:T22) -> 174971.4 | V12: =SUM(V13:V22) -> 175035.4 | W12: =SUM(W13:W22) -> 0
B13: SUP1.1 | D13: KG | E13: 0 | H13: =SUM(E13:G13) -> 0 | J13: =H13*K13/100 -> 0 | K13: ='BETON Qte'!K13 -> 100 | L13: =Q13+AE13 -> 0 | M13: =J13-L13 -> 0 | O13: =J13-AC13 -> 0 | P13: =IFERROR(O13/M13,0) -> 0 | R13: =O13-Q13 -> 0 | T13: =H13-L13 -> 0 | V13: =L13+T13 -> 0 | W13: =H13-V13 -> 0
B14: SUP1.2 | D14: KG | E14: 0 | H14: =SUM(E14:G14) -> 0 | J14: =H14*K14/100 -> 0 | K14: ='BETON Qte'!K14 -> 100 | L14: =Q14+AE14 -> 64 | M14: =J14-L14 -> -64 | O14: =J14-AC14 -> 0 | P14: =IFERROR(O14/M14,0) -> 0 | Q14: 64 | R14: =O14-Q14 -> -64 | T14: =H14-L14 -> -64 | V14: =L14+T14 -> 0 | W14: =H14-V14 -> 0
B15: SUP1.3 | D15: KG | E15: 0 | H15: =SUM(E15:G15) -> 0 | J15: =H15*K15/100 -> 0 | K15: ='BETON Qte'!K15 -> 100 | L15: =Q15+AE15 -> 0 | M15: =J15-L15 -> 0 | O15: =J15-AC15 -> 0 | P15: =IFERROR(O15/M15,0) -> 0 | R15: =O15-Q15 -> 0 | T15: =H15-L15 -> 0 | V15: =L15+T15 -> 0 | W15: =H15-V15 -> 0
B16: SUP1.4 | D16: KG | E16: 0 | H16: =SUM(E16:G16) -> 0 | J16: =H16*K16/100 -> 0 | K16: ='BETON Qte'!K16 -> 100 | L16: =Q16+AE16 -> 0 | M16: =J16-L16 -> 0 | O16: =J16-AC16 -> 0 | P16: =IFERROR(O16/M16,0) -> 0 | R16: =O16-Q16 -> 0 | T16: =H16-L16 -> 0 | V16: =L16+T16 -> 0 | W16: =H16-V16 -> 0
B17: SUP1.5 | D17: KG | E17: 0 | H17: =SUM(E17:G17) -> 0 | J17: =H17*K17/100 -> 0 | K17: ='BETON Qte'!K17 -> 100 | L17: =Q17+AE17 -> 0 | M17: =J17-L17 -> 0 | O17: =J17-AC17 -> 0 | P17: =IFERROR(O17/M17,0) -> 0 | R17: =O17-Q17 -> 0 | T17: =H17-L17 -> 0 | V17: =L17+T17 -> 0 | W17: =H17-V17 -> 0
B18: SUP1.6 | D18: KG | E18: 0 | H18: =SUM(E18:G18) -> 0 | J18: =H18*K18/100 -> 0 | K18: ='BETON Qte'!K18 -> 100 | L18: =Q18+AE18 -> 0 | M18: =J18-L18 -> 0 | O18: =J18-AC18 -> 0 | P18: =IFERROR(O18/M18,0) -> 0 | R18: =O18-Q18 -> 0 | T18: =H18-L18 -> 0 | V18: =L18+T18 -> 0 | W18: =H18-V18 -> 0
B19: SUP1.7 | D19: KG | E19: 0 | H19: =SUM(E19:G19) -> 0 | J19: =H19*K19/100 -> 0 | K19: ='BETON Qte'!K19 -> 100 | L19: =Q19+AE19 -> 0 | M19: =J19-L19 -> 0 | O19: =J19-AC19 -> 0 | P19: =IFERROR(O19/M19,0) -> 0 | R19: =O19-Q19 -> 0 | T19: =H19-L19 -> 0 | V19: =L19+T19 -> 0 | W19: =H19-V19 -> 0
B20: SUP1.8 | D20: KG | E20: 8820 | H20: =SUM(E20:G20) -> 8820 | J20: =H20*K20/100 -> 8820 | K20: ='BETON Qte'!K20 -> 100 | L20: =Q20+AE20 -> 0 | M20: =J20-L20 -> 8820 | O20: =J20-AC20 -> 8820 | P20: =IFERROR(O20/M20,0) -> 1 | R20: =O20-Q20 -> 8820 | T20: =H20-L20 -> 8820 | V20: =L20+T20 -> 8820 | W20: =H20-V20 -> 0
B21: SUP1.9 | D21: KG | E21: 5920 | H21: =SUM(E21:G21) -> 5920 | J21: =H21*K21/100 -> 5979.2 | K21: ='BETON Qte'!K21 -> 101 | L21: =Q21+AE21 -> 0 | M21: =J21-L21 -> 5979.2 | O21: =J21-AC21 -> 5979.2 | P21: =IFERROR(O21/M21,0) -> 1 | R21: =O21-Q21 -> 5979.2 | T21: =H21-L21 -> 5920 | V21: =L21+T21 -> 5920 | W21: =H21-V21 -> 0
B22: SUP1.10 | D22: KG | E22: 160295.4 | H22: =SUM(E22:G22) -> 160295.4 | J22: =H22*K22/100 -> 160295.4 | K22: ='BETON Qte'!K22 -> 100 | L22: =Q22+AE22 -> 0 | M22: =J22-L22 -> 160295.4 | O22: =J22-AC22 -> 160295.4 | P22: =IFERROR(O22/M22,0) -> 1 | R22: =O22-Q22 -> 160295.4 | T22: =H22-L22 -> 160295.4 | V22: =L22+T22 -> 160295.4 | W22: =H22-V22 -> 0
A23: BOXATO.GG.R.2 | B23: SUP 2 | D23: KG | E23: =SUM(E24:E33) -> 762783.96 | F23: =SUM(F24:F33) -> 0 | G23: =SUM(G24:G33) -> 0 | H23: =SUM(H24:H33) -> 762783.96 | J23: =SUM(J24:J33) -> 762783.96 | K23: =IFERROR(J23/H23,"") -> 1 | L23: =SUM(L24:L33) -> 58 | M23: =SUM(M24:M33) -> 762725.96 | O23: =SUM(O24:O33) -> 762783.96 | P23: =IFERROR(O23/M23,"") -> 1.000076 | Q23: =SUM(Q24:Q33) -> 58 | R23: =SUM(R24:R33) -> 762725.96 | T23: =SUM(T24:T33) -> 762725.96 | V23: =SUM(V24:V33) -> 762783.96 | W23: =SUM(W24:W33) -> 0
B24: SUP2.1 | D24: KG | E24: 0 | H24: =SUM(E24:G24) -> 0 | J24: =H24*K24/100 -> 0 | K24: ='BETON Qte'!K24 -> 100 | L24: =Q24+AE24 -> 0 | M24: =J24-L24 -> 0 | O24: =J24-AC24 -> 0 | P24: =IFERROR(O24/M24,0) -> 0 | R24: =O24-Q24 -> 0 | T24: =H24-L24 -> 0 | V24: =L24+T24 -> 0 | W24: =H24-V24 -> 0
B25: SUP2.2 | D25: KG | E25: 0 | H25: =SUM(E25:G25) -> 0 | J25: =H25*K25/100 -> 0 | K25: ='BETON Qte'!K25 -> 100 | L25: =Q25+AE25 -> 0 | M25: =J25-L25 -> 0 | O25: =J25-AC25 -> 0 | P25: =IFERROR(O25/M25,0) -> 0 | R25: =O25-Q25 -> 0 | T25: =H25-L25 -> 0 | V25: =L25+T25 -> 0 | W25: =H25-V25 -> 0
B26: SUP2.3 | D26: KG | E26: 0 | H26: =SUM(E26:G26) -> 0 | J26: =H26*K26/100 -> 0 | K26: ='BETON Qte'!K26 -> 100 | L26: =Q26+AE26 -> 0 | M26: =J26-L26 -> 0 | O26: =J26-AC26 -> 0 | P26: =IFERROR(O26/M26,0) -> 0 | R26: =O26-Q26 -> 0 | T26: =H26-L26 -> 0 | V26: =L26+T26 -> 0 | W26: =H26-V26 -> 0
B27: SUP2.4 | D27: KG | E27: 0 | H27: =SUM(E27:G27) -> 0 | J27: =H27*K27/100 -> 0 | K27: ='BETON Qte'!K27 -> 100 | L27: =Q27+AE27 -> 0 | M27: =J27-L27 -> 0 | O27: =J27-AC27 -> 0 | P27: =IFERROR(O27/M27,0) -> 0 | R27: =O27-Q27 -> 0 | T27: =H27-L27 -> 0 | V27: =L27+T27 -> 0 | W27: =H27-V27 -> 0
B28: SUP2.5 | D28: KG | E28: 731852.46 | H28: =SUM(E28:G28) -> 731852.46 | J28: =H28*K28/100 -> 731852.46 | K28: ='BETON Qte'!K28 -> 100 | L28: =Q28+AE28 -> 0 | M28: =J28-L28 -> 731852.46 | O28: =J28-AC28 -> 731852.46 | P28: =IFERROR(O28/M28,0) -> 1 | R28: =O28-Q28 -> 731852.46 | T28: =H28-L28 -> 731852.46 | V28: =L28+T28 -> 731852.46 | W28: =H28-V28 -> 0
B29: SUP2.6 | D29: KG | E29: 6456.75 | H29: =SUM(E29:G29) -> 6456.75 | J29: =H29*K29/100 -> 6456.75 | K29: ='BETON Qte'!K29 -> 100 | L29: =Q29+AE29 -> 0 | M29: =J29-L29 -> 6456.75 | O29: =J29-AC29 -> 6456.75 | P29: =IFERROR(O29/M29,0) -> 1 | R29: =O29-Q29 -> 6456.75 | T29: =H29-L29 -> 6456.75 | V29: =L29+T29 -> 6456.75 | W29: =H29-V29 -> 0
B30: SUP2.7 | D30: KG | E30: 3267.75 | H30: =SUM(E30:G30) -> 3267.75 | J30: =H30*K30/100 -> 3267.75 | K30: ='BETON Qte'!K30 -> 100 | L30: =Q30+AE30 -> 34 | M30: =J30-L30 -> 3233.75 | O30: =J30-AC30 -> 3267.75 | P30: =IFERROR(O30/M30,0) -> 1.0105141 | Q30: 34 | R30: =O30-Q30 -> 3233.75 | T30: =H30-L30 -> 3233.75 | V30: =L30+T30 -> 3267.75 | W30: =H30-V30 -> 0
B31: SUP2.8 | D31: KG | E31: 2412 | H31: =SUM(E31:G31) -> 2412 | J31: =H31*K31/100 -> 2412 | K31: ='BETON Qte'!K31 -> 100 | L31: =Q31+AE31 -> 0 | M31: =J31-L31 -> 2412 | O31: =J31-AC31 -> 2412 | P31: =IFERROR(O31/M31,0) -> 1 | R31: =O31-Q31 -> 2412 | T31: =H31-L31 -> 2412 | V31: =L31+T31 -> 2412 | W31: =H31-V31 -> 0
B32: SUP2.9 | D32: KG | E32: 0 | H32: =SUM(E32:G32) -> 0 | J32: =H32*K32/100 -> 0 | K32: ='BETON Qte'!K32 -> 100 | L32: =Q32+AE32 -> 0 | M32: =J32-L32 -> 0 | O32: =J32-AC32 -> 0 | P32: =IFERROR(O32/M32,0) -> 0 | R32: =O32-Q32 -> 0 | T32: =H32-L32 -> 0 | V32: =L32+T32 -> 0 | W32: =H32-V32 -> 0
B33: SUP2.10 | D33: KG | E33: 18795 | H33: =SUM(E33:G33) -> 18795 | J33: =H33*K33/100 -> 18795 | K33: ='BETON Qte'!K33 -> 100 | L33: =Q33+AE33 -> 24 | M33: =J33-L33 -> 18771 | O33: =J33-AC33 -> 18795 | P33: =IFERROR(O33/M33,0) -> 1.0012786 | Q33: 24 | R33: =O33-Q33 -> 18771 | T33: =H33-L33 -> 18771 | V33: =L33+T33 -> 18795 | W33: =H33-V33 -> 0
A34: BOXATO.GG.R.3 | B34: SUP 3 | D34: KG | E34: =SUM(E35:E36) -> 5510.16 | F34: =SUM(F35:F36) -> 0 | G34: =SUM(G35:G36) -> 0 | H34: =SUM(H35:H36) -> 5510.16 | J34: =SUM(J35:J36) -> 5510.16 | K34: =IFERROR(J34/H34,"") -> 1 | L34: =SUM(L35:L36) -> 0 | M34: =SUM(M35:M36) -> 5510.16 | O34: =SUM(O35:O36) -> 5510.16 | P34: =IFERROR(O34/M34,"") -> 1 | Q34: =SUM(Q35:Q36) -> 0 | R34: =SUM(R35:R36) -> 5510.16 | T34: =SUM(T35:T36) -> 5510.16 | V34: =SUM(V35:V36) -> 5510.16 | W34: =SUM(W35:W36) -> 0
B35: SUP3.1 | D35: KG | E35: 4637.21 | H35: =SUM(E35:G35) -> 4637.21 | J35: =H35*K35/100 -> 4637.21 | K35: ='BETON Qte'!K35 -> 100 | L35: =Q35+AE35 -> 0 | M35: =J35-L35 -> 4637.21 | O35: =J35-AC35 -> 4637.21 | P35: =IFERROR(O35/M35,0) -> 1 | R35: =O35-Q35 -> 4637.21 | T35: =H35-L35 -> 4637.21 | V35: =L35+T35 -> 4637.21 | W35: =H35-V35 -> 0
B36: SUP3.2 | D36: KG | E36: 872.95 | H36: =SUM(E36:G36) -> 872.95 | J36: =H36*K36/100 -> 872.95 | K36: ='BETON Qte'!K36 -> 100 | L36: =Q36+AE36 -> 0 | M36: =J36-L36 -> 872.95 | O36: =J36-AC36 -> 872.95 | P36: =IFERROR(O36/M36,0) -> 1 | R36: =O36-Q36 -> 872.95 | T36: =H36-L36 -> 872.95 | V36: =L36+T36 -> 872.95 | W36: =H36-V36 -> 0
A37: BOXATO.GG.R.4 | B37: SUP 4 | D37: KG | E37: =SUM(E38:E39) -> 0 | F37: =SUM(F38:F39) -> 0 | G37: =SUM(G38:G39) -> 0 | H37: =SUM(H38:H39) -> 0 | J37: =SUM(J38:J39) -> 0 | K37: =IFERROR(J37/H37,"") | L37: =SUM(L38:L39) -> 62 | M37: =SUM(M38:M39) -> -62 | O37: =SUM(O38:O39) -> 0 | P37: =IFERROR(O37/M37,"") -> 0 | Q37: =SUM(Q38:Q39) -> 62 | R37: =SUM(R38:R39) -> -62 | T37: =SUM(T38:T39) -> -62 | V37: =SUM(V38:V39) -> 0 | W37: =SUM(W38:W39) -> 0
B38: SUP4.1 | D38: KG | E38: 0 | H38: =SUM(E38:G38) -> 0 | J38: =H38*K38/100 -> 0 | K38: ='BETON Qte'!K38 -> 100 | L38: =Q38+AE38 -> 62 | M38: =J38-L38 -> -62 | O38: =J38-AC38 -> 0 | P38: =IFERROR(O38/M38,0) -> 0 | Q38: 62 | R38: =O38-Q38 -> -62 | T38: =H38-L38 -> -62 | V38: =L38+T38 -> 0 | W38: =H38-V38 -> 0
B39: SUP4.2 | D39: KG | E39: 0 | H39: =SUM(E39:G39) -> 0 | J39: =H39*K39/100 -> 0 | K39: ='BETON Qte'!K39 -> 100 | L39: =Q39+AE39 -> 0 | M39: =J39-L39 -> 0 | O39: =J39-AC39 -> 0 | P39: =IFERROR(O39/M39,0) -> 0 | R39: =O39-Q39 -> 0 | T39: =H39-L39 -> 0 | V39: =L39+T39 -> 0 | W39: =H39-V39 -> 0
A40: BOXATO.GG.R.5 | B40: SUP 5 | D40: KG | E40: =SUM(E41:E55) -> 10698.5 | F40: =SUM(F41:F55) -> 0 | G40: =SUM(G41:G55) -> 0 | H40: =SUM(H41:H55) -> 10698.5 | J40: =SUM(J41:J55) -> 10698.5 | K40: =IFERROR(J40/H40,"") -> 1 | L40: =SUM(L41:L55) -> 0 | M40: =SUM(M41:M55) -> 10698.5 | O40: =SUM(O41:O55) -> 10698.5 | P40: =IFERROR(O40/M40,"") -> 1 | Q40: =SUM(Q41:Q55) -> 0 | R40: =SUM(R41:R55) -> 10698.5 | T40: =SUM(T41:T55) -> 10698.5 | V40: =SUM(V41:V55) -> 10698.5 | W40: =SUM(W41:W55) -> 0
B41: SUP5.1 | D41: KG | E41: 826.5 | H41: =SUM(E41:G41) -> 826.5 | J41: =H41*K41/100 -> 826.5 | K41: ='BETON Qte'!K41 -> 100 | L41: =Q41+AE41 -> 0 | M41: =J41-L41 -> 826.5 | O41: =J41-AC41 -> 826.5 | P41: =IFERROR(O41/M41,0) -> 1 | R41: =O41-Q41 -> 826.5 | T41: =H41-L41 -> 826.5 | V41: =L41+T41 -> 826.5 | W41: =H41-V41 -> 0
B42: SUP5.2 | D42: KG | E42: 0 | H42: =SUM(E42:G42) -> 0 | J42: =H42*K42/100 -> 0 | K42: ='BETON Qte'!K42 -> 100 | L42: =Q42+AE42 -> 0 | M42: =J42-L42 -> 0 | O42: =J42-AC42 -> 0 | P42: =IFERROR(O42/M42,0) -> 0 | R42: =O42-Q42 -> 0 | T42: =H42-L42 -> 0 | V42: =L42+T42 -> 0 | W42: =H42-V42 -> 0
B43: SUP5.3 | D43: KG | E43: 0 | H43: =SUM(E43:G43) -> 0 | J43: =H43*K43/100 -> 0 | K43: ='BETON Qte'!K43 -> 100 | L43: =Q43+AE43 -> 0 | M43: =J43-L43 -> 0 | O43: =J43-AC43 -> 0 | P43: =IFERROR(O43/M43,0) -> 0 | R43: =O43-Q43 -> 0 | T43: =H43-L43 -> 0 | V43: =L43+T43 -> 0 | W43: =H43-V43 -> 0
...
