Workbook

Sheet 1
E5: xxxxxxx | F5: xxxxxxx | K5: xxxxxxx
E6: CUMUL DES VENTES | J6: VENTES / MOIS
A7: Description OTP | B7: . | C7: Unité | D7: . | E7: Budget Avancé | G7: Dépenses | H7: Ecart | I7: . | J7: Budget Avancé | L7: Dépenses | M7: Ecart | N7: .
C8: Res. | E8: Qté | F8: % | G8: Qté | H8: Qté | J8: Qté | K8: % | L8: Qté | M8: Qté
A9: TRANCHE 16 | C9: H | E9: =SUM(E10:E19) -> 1397 | F9: =IFERROR(E9/#REF!,"") | G9: =SUM(G10:G19) -> 397 | H9: =SUM(H10:H19) -> 1000 | J9: =SUM(J10:J19) -> 293 | K9: =IFERROR(J9/H9,"") -> 0.293 | L9: =SUM(L10:L19) -> 104 | M9: =SUM(M10:M19) -> 189
A10: yassine | C10: H | E10: =G10+F10 -> 101 | F10: ='2'!F10 -> 100 | G10: =J10+L10 -> 1 | H10: =E10-G10 -> 100 | J10: 1 | M10: =J10-L10 -> 1
A11: amine | C11: H | E11: =G11+F11 -> 102 | F11: ='2'!F11 -> 100 | G11: =J11+L11 -> 2 | H11: =E11-G11 -> 100 | J11: 2 | M11: =J11-L11 -> 2
A12: hassan | C12: H | E12: =G12+F12 -> 184 | F12: ='2'!F12 -> 100 | G12: =J12+L12 -> 84 | H12: =E12-G12 -> 100 | J12: 58 | L12: 26 | M12: =J12-L12 -> 32
A13: kamal | C13: H | E13: =G13+F13 -> 132 | F13: ='2'!F13 -> 100 | G13: =J13+L13 -> 32 | H13: =E13-G13 -> 100 | J13: 6 | L13: 26 | M13: =J13-L13 -> -20
A14: asmaa | C14: H | E14: =G14+F14 -> 128 | F14: ='2'!F14 -> 100 | G14: =J14+L14 -> 28 | H14: =E14-G14 -> 100 | J14: 2 | L14: 26 | M14: =J14-L14 -> -24
A15: imane | C15: H | E15: =G15+F15 -> 174 | F15: ='2'!F15 -> 100 | G15: =J15+L15 -> 74 | H15: =E15-G15 -> 100 | J15: 48 | L15: 26 | M15: =J15-L15 -> 22
A16: ayman | C16: H | E16: =G16+F16 -> 165 | F16: ='2'!F16 -> 100 | G16: =J16+L16 -> 65 | H16: =E16-G16 -> 100 | J16: 65 | M16: =J16-L16 -> 65
A17: noureddine | C17: H | E17: =G17+F17 -> 125 | F17: ='2'!F17 -> 100 | G17: =J17+L17 -> 25 | H17: =E17-G17 -> 100 | J17: 25 | M17: =J17-L17 -> 25
A18: said | C18: H | E18: =G18+F18 -> 165 | F18: ='2'!F18 -> 100 | G18: =J18+L18 -> 65 | H18: =E18-G18 -> 100 | J18: 65 | M18: =J18-L18 -> 65
A19: ayoub | C19: H | E19: =G19+F19 -> 121 | F19: ='2'!F19 -> 100 | G19: =J19+L19 -> 21 | H19: =E19-G19 -> 100 | J19: 21 | M19: =J19-L19 -> 21

Sheet 2
E5: xxxxxxx
E6: CUMUL DES VENTES | J6: VENTES / MOIS
A7: Description OTP | B7: . | C7: Unité | D7: . | E7: Budget Avancé | G7: Dépenses | H7: Ecart | I7: . | J7: Budget Avancé | L7: Dépenses | M7: Ecart | N7: .
C8: Res. | E8: Qté | F8: % | G8: Qté | H8: Qté | J8: Qté | K8: % | L8: Qté | M8: Qté
A9: TRANCHE 16 | C9: M3 | E9: =SUM(E10:E19) -> 2123 | F9: =IFERROR(E9/#REF!,"") | G9: =SUM(G10:G19) -> 1123 | H9: =SUM(H10:H19) -> 1000 | J9: =SUM(J10:J19) -> 293 | K9: =IFERROR(J9/H9,"") -> 0.293 | L9: =SUM(L10:L19) -> 830 | M9: =SUM(M10:M19) -> -537
A10: yassine | C10: M3 | E10: =G10+F10 -> 101 | F10: 100 | G10: =J10+L10 -> 1 | H10: =E10-G10 -> 100 | J10: 1 | M10: =J10-L10 -> 1
A11: amine | C11: M3 | E11: =G11+F11 -> 102 | F11: 100 | G11: =J11+L11 -> 2 | H11: =E11-G11 -> 100 | J11: 2 | M11: =J11-L11 -> 2
A12: hassan | C12: M3 | E12: =G12+F12 -> 915 | F12: 100 | G12: =J12+L12 -> 815 | H12: =E12-G12 -> 100 | J12: 58 | L12: 757 | M12: =J12-L12 -> -699
A13: kamal | C13: M3 | E13: =G13+F13 -> 106 | F13: 100 | G13: =J13+L13 -> 6 | H13: =E13-G13 -> 100 | J13: 6 | M13: =J13-L13 -> 6
A14: asmaa | C14: M3 | E14: =G14+F14 -> 147 | F14: 100 | G14: =J14+L14 -> 47 | H14: =E14-G14 -> 100 | J14: 2 | L14: 45 | M14: =J14-L14 -> -43
A15: imane | C15: M3 | E15: =G15+F15 -> 148 | F15: 100 | G15: =J15+L15 -> 48 | H15: =E15-G15 -> 100 | J15: 48 | M15: =J15-L15 -> 48
A16: ayman | C16: M3 | E16: =G16+F16 -> 165 | F16: 100 | G16: =J16+L16 -> 65 | H16: =E16-G16 -> 100 | J16: 65 | M16: =J16-L16 -> 65
A17: noureddine | C17: M3 | E17: =G17+F17 -> 153 | F17: 100 | G17: =J17+L17 -> 53 | H17: =E17-G17 -> 100 | J17: 25 | L17: 28 | M17: =J17-L17 -> -3
A18: said | C18: H | E18: =G18+F18 -> 165 | F18: 100 | G18: =J18+L18 -> 65 | H18: =E18-G18 -> 100 | J18: 65 | M18: =J18-L18 -> 65
A19: ayoub | C19: M3 | E19: =G19+F19 -> 121 | F19: 100 | G19: =J19+L19 -> 21 | H19: =E19-G19 -> 100 | J19: 21 | M19: =J19-L19 -> 21

Sheet 3
E5: xxxxxxx | F5: xxxxxxx | K5: xxxxxxx
E6: CUMUL DES VENTES | J6: VENTES / MOIS
A7: Description OTP | B7: . | C7: Unité | D7: . | E7: Budget Avancé | G7: Dépenses | H7: Ecart | I7: . | J7: Budget Avancé | L7: Dépenses | M7: Ecart | N7: .
C8: Res. | E8: Qté | F8: % | G8: Qté | H8: Qté | J8: Qté | K8: % | L8: Qté | M8: Qté
A9: TRANCHE 16 | C9: KG | E9: =SUM(E10:E19) -> 1672 | F9: =IFERROR(E9/#REF!,"") | G9: =SUM(G10:G19) -> 672 | H9: =SUM(H10:H19) -> 1000 | J9: =SUM(J10:J19) -> 293 | K9: =IFERROR(J9/H9,"") -> 0.293 | L9: =SUM(L10:L19) -> 379 | M9: =SUM(M10:M19) -> -86
A10: yassine | C10: KG | E10: =G10+F10 -> 101 | F10: ='2'!F10 -> 100 | G10: =J10+L10 -> 1 | H10: =E10-G10 -> 100 | J10: 1 | M10: =J10-L10 -> 1
A11: amine | C11: KG | E11: =G11+F11 -> 166 | F11: ='2'!F11 -> 100 | G11: =J11+L11 -> 66 | H11: =E11-G11 -> 100 | J11: 2 | L11: 64 | M11: =J11-L11 -> -62
A12: hassan | C12: KG | E12: =G12+F12 -> 158 | F12: ='2'!F12 -> 100 | G12: =J12+L12 -> 58 | H12: =E12-G12 -> 100 | J12: 58 | M12: =J12-L12 -> 58
A13: kamal | C13: KG | E13: =G13+F13 -> 106 | F13: ='2'!F13 -> 100 | G13: =J13+L13 -> 6 | H13: =E13-G13 -> 100 | J13: 6 | M13: =J13-L13 -> 6
A14: asmaa | C14: KG | E14: =G14+F14 -> 164 | F14: ='2'!F14 -> 100 | G14: =J14+L14 -> 64 | H14: =E14-G14 -> 100 | J14: 2 | L14: 62 | M14: =J14-L14 -> -60
A15: imane | C15: KG | E15: =G15+F15 -> 206 | F15: ='2'!F15 -> 100 | G15: =J15+L15 -> 106 | H15: =E15-G15 -> 100 | J15: 48 | L15: 58 | M15: =J15-L15 -> -10
A16: ayman | C16: KG | E16: =G16+F16 -> 165 | F16: ='2'!F16 -> 100 | G16: =J16+L16 -> 65 | H16: =E16-G16 -> 100 | J16: 65 | M16: =J16-L16 -> 65
A17: noureddine | C17: KG | E17: =G17+F17 -> 320 | F17: ='2'!F17 -> 100 | G17: =J17+L17 -> 220 | H17: =E17-G17 -> 100 | J17: 25 | L17: 195 | M17: =J17-L17 -> -170
A18: said | C18: KG | E18: =G18+F18 -> 165 | F18: ='2'!F18 -> 100 | G18: =J18+L18 -> 65 | H18: =E18-G18 -> 100 | J18: 65 | M18: =J18-L18 -> 65
A19: ayoub | C19: KG | E19: =G19+F19 -> 121 | F19: ='2'!F19 -> 100 | G19: =J19+L19 -> 21 | H19: =E19-G19 -> 100 | J19: 21 | M19: =J19-L19 -> 21
