Workbook
Name Jfer: Données!$L$9:$L$20

Sheet Feuil1
A1: Date | B1: Nom | C1: Montant
A2: 45778 | B2: X | C2: =IF($A2="","",IF($B2="","",VLOOKUP(WEEKDAY($A2),Données!$L$1:$N$7,3,FALSE))) -> 7
A3: =A2+1 -> 45779 | B3: X | C3: =IF($A3="","",IF($B3="","",VLOOKUP(WEEKDAY($A3),Données!$L$1:$N$7,3,FALSE))) -> 7
A4: =A3+1 -> 45780 | B4: X | C4: =IF($A4="","",IF($B4="","",VLOOKUP(WEEKDAY($A4),Données!$L$1:$N$7,3,FALSE))) -> 14
A5: =A4+1 -> 45781 | B5: X | C5: =IF($A5="","",IF($B5="","",VLOOKUP(WEEKDAY($A5),Données!$L$1:$N$7,3,FALSE))) -> 21
A6: =A5+1 -> 45782 | B6: y | C6: =IF($A6="","",IF($B6="","",VLOOKUP(WEEKDAY($A6),Données!$L$1:$N$7,3,FALSE))) -> 7
A7: =A6+1 -> 45783 | B7: y | C7: =IF($A7="","",IF($B7="","",VLOOKUP(WEEKDAY($A7),Données!$L$1:$N$7,3,FALSE))) -> 7
A8: =A7+1 -> 45784 | B8: Y | C8: =IF($A8="","",IF($B8="","",VLOOKUP(WEEKDAY($A8),Données!$L$1:$N$7,3,FALSE))) -> 7
A9: =A8+1 -> 45785 | B9: Y | C9: =IF($A9="","",IF($B9="","",VLOOKUP(WEEKDAY($A9),Données!$L$1:$N$7,3,FALSE))) -> 7
A10: =A9+1 -> 45786 | B10: Y | C10: =IF($A10="","",IF($B10="","",VLOOKUP(WEEKDAY($A10),Données!$L$1:$N$7,3,FALSE))) -> 7
A11: =A10+1 -> 45787 | B11: Y | C11: =IF($A11="","",IF($B11="","",VLOOKUP(WEEKDAY($A11),Données!$L$1:$N$7,3,FALSE))) -> 14
A12: =A11+1 -> 45788 | B12: Y | C12: =IF($A12="","",IF($B12="","",VLOOKUP(WEEKDAY($A12),Données!$L$1:$N$7,3,FALSE))) -> 21
A13: =A12+1 -> 45789 | B13: z | C13: =IF($A13="","",IF($B13="","",VLOOKUP(WEEKDAY($A13),Données!$L$1:$N$7,3,FALSE))) -> 7
A14: =A13+1 -> 45790 | B14: Z | C14: =IF($A14="","",IF($B14="","",VLOOKUP(WEEKDAY($A14),Données!$L$1:$N$7,3,FALSE))) -> 7
... A32: =A31+1 -> 45808 | B32: bb | C32: =IF($A32="","",IF($B32="","",VLOOKUP(WEEKDAY($A32),Données!$L$1:$N$7,3,FALSE))) -> 14

Sheet Feuil2

Sheet Feuil3

Sheet Données
A1: Techniciens | G1: 2025 | H1: Jour début astreinte | I1: 2 | J1: =VLOOKUP(I1,L1:M7,2,FALSE) -> Lundi | L1: 1 | M1: Dimanche | N1: 21
A2: X | L2: 2 | M2: Lundi | N2: 7
A3: Y | L3: 3 | M3: Mardi | N3: 7
A4: Z | L4: 4 | M4: Mercredi | N4: 7
A5: aa | L5: 5 | M5: Jeudi | N5: 7
A6: bb | L6: 6 | M6: Vendredi | N6: 7
L7: 7 | M7: Samedi | N7: 14
K9: Le 1er janvier | L9: =DATE($G$1,1,1) -> 45658 | M9: 21
K10: Le lundi de Pâques | L10: =$L$20+1 -> 45768 | M10: 21
K11: Le 1er mai | L11: =DATE($G$1,5,1) -> 45778 | M11: 21
K12: Le 8 mai | L12: =DATE($G$1,5,8) -> 45785 | M12: 21
K13: L’Ascension | L13: =$L$20+39 -> 45806 | M13: 21
K14: Le lundi de Pentecôte | L14: =$L$20+50 -> 45817 | M14: 21
K15: Le 14 juillet | L15: =DATE($G$1,7,14) -> 45852 | M15: 21
K16: L’Assomption | L16: =DATE($G$1,8,15) -> 45884 | M16: 21
K17: La Toussaint | L17: =DATE($G$1,11,1) -> 45962 | M17: 21
K18: Le 11 novembre | L18: =DATE($G$1,11,11) -> 45972 | M18: 21
K19: Le jour de Noël | L19: =DATE($G$1,12,25) -> 46016 | M19: 21
K20: Pâques | L20: =ROUND(DATE(G1,4,MOD(234-11*MOD(G1,19),30))/7,0)*7-6 -> 45767 | M20: 21
