Workbook

Sheet Paramètres
A1: IDMH | B1: Area | C1: DISP_1 | D1: FORME | E1: PER_EXT | F1: PER_INT | G1: FRAG | H1: DCH_EXT | I1: DCH_INT | J1: DiversiteV | K1: CON_HYD | L1: F_INT | M1: N_ESDMV | N1: V_FOR | O1: CON_NAT
A2: 413 | B2: 0.0012874426 | C2: 0.026315789 | D2: 0.045402765 | E2: 0.094148452 | F2: 0 | G2: 1 | H2: 0 | I2: 0 | J2: 0 | K2: 0 | L2: 0.026326036 | M2: 0 | N2: 0 | O2: 1
A3: 417 | B3: 0.00030663958 | C3: 0 | D3: 0.020615274 | E3: 0.193165 | F3: 5.231599e-05 | G3: 1 | H3: 0 | I3: 0 | J3: 0 | K3: 0 | L3: 0 | M3: 0 | N3: 0 | O3: 1
A4: 419 | B4: 0.0030743509 | C4: 0.026315789 | D4: 0.072940886 | E4: 0.0035001429 | F4: 0 | G4: 1 | H4: 0 | I4: 0 | J4: 0.55264392 | K4: 0.15821931 | L4: 0.42291588 | M4: 0 | N4: 0.06914971 | O4: 1
A5: 429 | B5: 0.0013435371 | C5: 0.052631579 | D5: 0.038204522 | E5: 0.04116667 | F5: 1.2168437e-06 | G5: 1 | H5: 0.045801286 | I5: 0 | J5: 0 | K5: 0 | L5: 0.68075454 | M5: 0 | N5: 0 | O5: 0.97457867
A6: 431 | B6: 0.00063465412 | C6: 0 | D6: 0.010636789 | E6: 0 | F6: 0 | G6: 1 | H6: 0 | I6: 0 | J6: 0 | K6: 0 | L6: 0.80430156 | M6: 0 | N6: 0 | O6: 1
A7: 435 | B7: 5.4034594e-05 | C7: 0.052631579 | D7: 0.022691974 | E7: 0.043904686 | F7: 0 | G7: 1 | H7: 0.080274688 | I7: 0 | J7: 0 | K7: 0.14534616 | L7: 0.35374628 | M7: 0 | N7: 0 | O7: 0.97919329
A8: 444 | B8: 0.00074093214 | C8: 0.026315789 | D8: 0.053578536 | E8: 0.24027823 | F8: 0.22484158 | G8: 1 | H8: 0 | I8: 0 | J8: 0 | K8: 0 | L8: 0.037042138 | M8: 0 | N8: 0 | O8: 1
A9: 465 | B9: 6.7449047e-05 | C9: 0.052631579 | D9: 0.013255394 | E9: 0.087328091 | F9: 0.059639109 | G9: 0.58286511 | H9: 0.1885523 | I9: 0 | J9: 0 | K9: 0 | L9: 0 | M9: 0 | N9: 0 | O9: 0.9414224
A10: 474 | B10: 0.00085211639 | C10: 0.078947368 | D10: 0.014438162 | E10: 0.26583353 | F10: 0.28051788 | G10: 0.55478413 | H10: 0.13685778 | I10: 0 | J10: 0 | K10: 0.028158313 | L10: 0 | M10: 0 | N10: 0 | O10: 0.97908896
A11: 475 | B11: 0.0023194186 | C11: 0.026315789 | D11: 0.049148095 | E11: 0.025547067 | F11: 0.010167824 | G11: 0.97055302 | H11: 0.034070765 | I11: 0 | J11: 0 | K11: 0.21527111 | L11: 0.17398674 | M11: 0 | N11: 0 | O11: 0.98747951
A12: 484 | B12: 0.00084520569 | C12: 0.052631579 | D12: 0.023535283 | E12: 0.27023721 | F12: 0.021305302 | G12: 0.89669327 | H12: 0.11497424 | I12: 0 | J12: 0 | K12: 0.069408844 | L12: 0 | M12: 0 | N12: 0 | O12: 0.97231705
A13: 494 | B13: 0.00046659922 | C13: 0.026315789 | D13: 0.037827834 | E13: 0.0051250454 | F13: 0 | G13: 1 | H13: 0.022462319 | I13: 0 | J13: 0.37612567 | K13: 0.43500558 | L13: 0.7365348 | M13: 0 | N13: 0 | O13: 0.99636509
... A24: 550 | B24: 0.0003524339 | C24: 0 | D24: 0.028662755 | E24: 0.12949031 | F24: 4.4813354e-08 | G24: 1 | H24: 0.013518405 | I24: 0 | J24: 0 | K24: 0.12267472 | L24: 0.018887372 | M24: 0 | N24: 0 | O24: 0.9887835

Sheet Grille
A1: Paramètre | B1: Code | C1: Fonction écologique | D1: Biodiversité | E1: Menaces | F1: Intégrité
A2: Superficie | B2: Area | C2: 1 | E2: -1
A3: Connectivité du milieu naturel | B3: CON_NAT | C3: 1 | F3: 1
A4: Forme | B4: FORME | C4: 1 | F4: -1
A5: Indice de dispersion | B5: DISP_1 | C5: 1
A6: Forêt d'intérieur | B6: F_INT | C6: 0.5
A7: Vieilles forêts | B7: V_FOR | C7: 0.5
A8: Diversité relative | B8: DiversiteV | D8: 1
A9: Esp susceptibles, vulnérables ou menacées | B9: N_ESDMV | D9: 2
A10: Perturbation ant | B10: PER_INT | F10: -1
A11: Perturbation ant (rayon 100m) | B11: PER_EXT | E11: 2 | F11: -1
A12: Densité de chemins | B12: DCH_INT | E12: 0.5 | F12: -1
A13: Densité de chemins (rayon de 100 m ) | B13: DCH_EXT | E13: 0.5 | F13: -1
A14: Fragmentation | B14: FRAG | F14: 1

Sheet Indicateurs
A1: IDMH | B1: Fonction écologique | C1: Biodiversité | D1: Menaces | E1: Intégrité
A2: =Paramètres!A2 -> 413 | B2: =(Grille!C2*Paramètres!B2)+(Grille!C3*Paramètres!O2)+(Grille!C4*Paramètres!D2)+(Grille!C5*Paramètres!C2)+(Grille!C6*Paramètres!L2)+(Grille!C7*Paramètres!N2) -> 1.086169
A3: =Paramètres!A3 -> 417
A4: =Paramètres!A4 -> 419
A5: =Paramètres!A5 -> 429
A6: =Paramètres!A6 -> 431
A7: =Paramètres!A7 -> 435
A8: =Paramètres!A8 -> 444
A9: =Paramètres!A9 -> 465
A10: =Paramètres!A10 -> 474
A11: =Paramètres!A11 -> 475
A12: =Paramètres!A12 -> 484
A13: =Paramètres!A13 -> 494
A14: =Paramètres!A14 -> 504
... A24: =Paramètres!A24 -> 550
