Workbook
Name Print_Area: Demi!$A$1:$H$11
Name Print_Area: Finales!$A$1:$H$11
Name Print_Area: Qualifications!$A$1:$I$31

Sheet Participants
A1: N° Licence | B1: Sexe | C1: Nom | D1: Prenom | E1: Club | F1: Catégorie | G1: Niveau max | I1: Catégorie | J1: Nb
B2: F | C2: DESCOUBES | D2: Marie | E2: CAF EN TETE NANCY | F2: CADET F | I2: MF | J2: =COUNTIF(Tableau1[Catégorie],"MINIME F") -> 2
B3: F | C3: NECOL | D3: Paloma | E3: CAF EN TETE NANCY | F3: CADET F | I3: MH | J3: =COUNTIF(Tableau1[Catégorie],"MINIME H") -> 1
B4: F | C4: PAILLON | D4: Emma | E4: CAF EN TETE NANCY | F4: CADET F | I4: CF | J4: =COUNTIF(Tableau1[Catégorie],"CADET F") -> 4
B5: F | C5: PFISTER | D5: Clotilde | E5: CAF EN TETE NANCY | F5: CADET F | I5: CH | J5: =COUNTIF(Tableau1[Catégorie],"CADET H") -> 3
B6: M | C6: GEORGE | D6: Tommy | E6: GRIMPONS | F6: CADET H | I6: JF | J6: =COUNTIF(Tableau1[Catégorie],"JUNIOR F") -> 1
B7: M | C7: GICQUEL | D7: Thomas | E7: CAF EN TETE NANCY | F7: CADET H | I7: JH | J7: =COUNTIF(Tableau1[Catégorie],"JUNIOR H") -> 1
B8: M | C8: POTIER | D8: Victor | E8: CAF EN TETE NANCY | F8: CADET H | I8: SF | J8: =COUNTIF(Tableau1[Catégorie],"SENIOR F") -> 1
B9: F | C9: PARASECOLI | D9: Swann | E9: CAF EN TETE NANCY | F9: JUNIOR F | G9: 6c | I9: SH | J9: =COUNTIF(Tableau1[Catégorie],"SENIOR H") -> 2
B10: M | C10: THIRIOT | D10: Jocelyn | E10: CAF EN TETE NANCY | F10: JUNIOR H | G10: 7c | I10: VF | J10: =COUNTIF(Tableau1[Catégorie],"VETERAN F") -> 0
B11: F | C11: NECOL | D11: Coraline | E11: CAF EN TETE NANCY | F11: MINIME F | I11: VH | J11: =COUNTIF(Tableau1[Catégorie],"VETERAN H") -> 3
B12: F | C12: SOYER | D12: Amélie | E12: ESCAL'A DONF | F12: MINIME F
B13: M | C13: BASTIEN | D13: Loan | E13: ESCAL'A DONF | F13: MINIME H
B14: M | C14: DURET | D14: Lucas | E14: ESCAL'A DONF | F14: MINIMEH | I14: Mise à jour : | J14: =TODAY() -> 42476
B15: F | C15: STUDER | D15: Léa | E15: CAF EN TETE NANCY | F15: SENIOR F
B16: M | C16: DEPERNET | D16: Matthieu | E16: ESCAL'A DONF | F16: SENIOR H
B17: M | C17: OBERLE | D17: Thibault | E17: FFME | F17: SENIOR H | G17: 7b+
B18: M | C18: BERNARD | D18: Romuald | E18: GRIMPONS | F18: VETERAN H | G18: 7b+
B19: M | C19: GRADECK | D19: Michel | E19: ESCAL'A DONF | F19: VETERAN H | G19: 7c
B20: M | C20: LAI | D20: Eric | E20: ESCAL'A DONF | F20: VETERAN H | G20: 7b

Sheet Quotas
A1: PRESENTS | B1: ½ FINALE | C1: FINALE
A2: 0 | B2: 0 | C2: 0
A3: 1 | B3: 1 | C3: 1
A4: 2 | B4: 2 | C4: 2
A5: 3 | B5: 3 | C5: 3
A6: 4 | B6: 4 | C6: 3
A7: 5 | B7: 4 | C7: 3
A8: 6 | B8: 5 | C8: 4
A9: 7 | B9: 6 | C9: 5
A10: 8 | B10: 6 | C10: 5
A11: 9 | B11: 7 | C11: 6
A12: 10 | B12: 8 | C12: 7
A13: 11 | B13: 9 | C13: 8
... A103: 30 | B103: 26 | C103: 8

Sheet Qualifications
A1: Catégories | B1: Quota | D1: Voie | E1: Niveau | F1: Zone | G1: Couleur prises | H1: Ouvreur | I1: Remarques | J1: Juges
A2: MF | B2: =Participants!J2 -> 2 | D2: 1 | E2: 5 | F2: 15
D3: 2 | E3: 6 | F3: 28
D4: 3 | E4: 7 | F4: 19
A5: MH | B5: =Participants!J3 -> 1 | D5: 1 | E5: 5 | F5: 30
D6: 2 | E6: 6 | F6: 17
D7: 3 | E7: 7 | F7: 29 | H7: Nico
A8: CF | B8: =Participants!J4 -> 4 | D8: 1 | E8: 5 | F8: 34
D9: 2 | E9: 6 | F9: 37 | G9: Saumon
D10: 3 | E10: 7 | F10: 27 | H10: Nico
A11: CH | B11: =Participants!J5 -> 3 | C11: =SUM(B11:B19) -> 6 | D11: 1 | E11: 5 | F11: 13
A14: JH | B14: =Participants!J7 -> 1 | D14: 2 | E14: 6 | F14: 24
A17: SH | B17: =Participants!J9 -> 2 | D17: 3 | E17: 7 | F17: 31 | H17: Thomas
A20: JF | B20: =Participants!J6 -> 1 | C20: =SUM(B20:B28) -> 5 | D20: 1 | E20: 4+/5 | F20: 32 | H20: Nico
A23: SF | B23: =Participants!J8 -> 1 | D23: 2 | E23: 6 | F23: 35 | G23: Verte et Rouge | H23: Thomas
A26: VH | B26: =Participants!J11 -> 3 | D26: 3 | E26: 6c | F26: 20 | H26: Thomas
A29: VF | B29: =Participants!J10 -> 0 | D29: 1
D30: 2
D31: 3
A32: Total | B32: =SUM(B2:C10,B11,B14,B17,B20,B23,B26,B29) -> 18 | G32: Voie sans ouvreurs : | H32: =COUNTBLANK(H2:H28)-12 -> 9 | I32: Nb voies sans juges : | J32: =COUNTBLANK(J2:J28)-12 -> 15

Sheet Demi
A1: Catégories | B1: Quota | D1: Niveau | E1: Zone | F1: Couleur prises | G1: Ouvreur | H1: Remarques | I1: Juges
A2: MF | B2: =SUMIFS(Quotas!$B$3:$B$103,Quotas!$A$3:$A$103,Participants!$J2) -> 2 | C2: =B2 -> 2 | D2: 8a | E2: 4 | G2: Nico
A3: MH | B3: =SUMIFS(Quotas!$B$3:$B$103,Quotas!$A$3:$A$103,Participants!$J3) -> 1 | C3: =B3 -> 1 | D3: 7b | E3: 2 | G3: Thomas
A4: CF | B4: =SUMIFS(Quotas!$B$3:$B$103,Quotas!$A$3:$A$103,Participants!$J4) -> 4 | C4: =B4 -> 4 | D4: 8a | E4: 5 | G4: Thomas
A5: CH | B5: =SUMIFS(Quotas!$B$3:$B$103,Quotas!$A$3:$A$103,Participants!$J5) -> 3 | C5: =SUM(B5:B7) -> 5 | D5: 7c | E5: 1 | G5: Nico
A6: JH | B6: =SUMIFS(Quotas!$B$3:$B$103,Quotas!$A$3:$A$103,Participants!$J6) -> 1
A7: SH | B7: =SUMIFS(Quotas!$B$3:$B$103,Quotas!$A$3:$A$103,Participants!$J7) -> 1
A8: JF | B8: =SUMIFS(Quotas!$B$3:$B$103,Quotas!$A$3:$A$103,Participants!$J8) -> 1 | C8: =SUM(B8:B10) -> 3 | D8: 7c | E8: 3
A9: SF | B9: =SUMIFS(Quotas!$B$3:$B$103,Quotas!$A$3:$A$103,Participants!$J9) -> 2
A10: VH | B10: =SUMIFS(Quotas!$B$3:$B$103,Quotas!$A$3:$A$103,Participants!$J10) -> 0
A11: VF | B11: =SUMIFS(Quotas!$B$3:$B$103,Quotas!$A$3:$A$103,Participants!$J11) -> 3 | C11: =B11 -> 3
A12: Total : | B12: =SUM(B2:B11) -> 18 | F12: Voie sans ouvreurs : | G12: =COUNTBLANK(G2:G10)-4 -> 1 | H12: Nb voies sans juges : | I12: =COUNTBLANK(I2:I10)-4 -> 5

Sheet Finales
A1: Catégories | B1: Quota | D1: Niveau | E1: Zone | F1: Couleur prises | G1: Ouvreur | H1: Remarques | I1: Juges
A2: MF | B2: =SUMIFS(Quotas!$C$3:$C$103,Quotas!$A$3:$A$103,Participants!$J2) -> 2 | C2: =SUM(B2:B3) -> 3 | D2: 7c+ | E2: 1 | F2: Malabar | G2: Thomas
A3: CF | B3: =SUMIFS(Quotas!$C$3:$C$103,Quotas!$A$3:$A$103,Participants!$J3) -> 1
A4: MH | B4: =SUMIFS(Quotas!$C$3:$C$103,Quotas!$A$3:$A$103,Participants!$J4) -> 3 | C4: =SUM(B4:B7) -> 8 | D4: 7c | E4: 2
A5: JF | B5: =SUMIFS(Quotas!$C$3:$C$103,Quotas!$A$3:$A$103,Participants!$J5) -> 3
A6: SH | B6: =SUMIFS(Quotas!$C$3:$C$103,Quotas!$A$3:$A$103,Participants!$J6) -> 1
A7: SF | B7: =SUMIFS(Quotas!$C$3:$C$103,Quotas!$A$3:$A$103,Participants!$J7) -> 1
A8: CH | B8: =SUMIFS(Quotas!$C$3:$C$103,Quotas!$A$3:$A$103,Participants!$J8) -> 1 | C8: =SUM(B8:B10) -> 3 | D8: 7c+ | E8: 3 | G8: Nico
A9: JH | B9: =SUMIFS(Quotas!$C$3:$C$103,Quotas!$A$3:$A$103,Participants!$J9) -> 2
A10: VH | B10: =SUMIFS(Quotas!$C$3:$C$103,Quotas!$A$3:$A$103,Participants!$J10) -> 0
A11: VF | B11: =SUMIFS(Quotas!$C$3:$C$103,Quotas!$A$3:$A$103,Participants!$J11) -> 3 | C11: =B11 -> 3
A12: Total : | B12: =SUM(B2:B11) -> 17 | F12: Voie sans ouvreurs : | G12: =COUNTBLANK(G2:G10)-6 -> 1 | H12: Nb voies sans juges : | I12: =COUNTBLANK(I2:I10)-6 -> 3
